Workbook
Name JR_PAGE_ANCHOR_0_1: #REF!
Name JR_PAGE_ANCHOR_0_1: #REF!
Name JR_PAGE_ANCHOR_1_1: #REF!
Name JR_PAGE_ANCHOR_1_1: #REF!
Name JR_PAGE_ANCHOR_10_1: 'PLANILHA ORIGINAL'!#REF!
Name JR_PAGE_ANCHOR_11_1: #REF!
Name JR_PAGE_ANCHOR_11_1: #REF!
Name JR_PAGE_ANCHOR_12_1: #REF!
Name JR_PAGE_ANCHOR_12_1: #REF!
Name JR_PAGE_ANCHOR_13_1: #REF!
Name JR_PAGE_ANCHOR_13_1: #REF!
Name JR_PAGE_ANCHOR_14_1: #REF!
Name JR_PAGE_ANCHOR_14_1: #REF!
Name JR_PAGE_ANCHOR_15_1: #REF!
Name JR_PAGE_ANCHOR_15_1: #REF!
Name JR_PAGE_ANCHOR_16_1: #REF!
Name JR_PAGE_ANCHOR_16_1: #REF!
Name JR_PAGE_ANCHOR_17_1: #REF!
Name JR_PAGE_ANCHOR_17_1: #REF!
Name JR_PAGE_ANCHOR_18_1: #REF!
Name JR_PAGE_ANCHOR_18_1: #REF!
Name JR_PAGE_ANCHOR_19_1: #REF!
Name JR_PAGE_ANCHOR_19_1: #REF!
Name JR_PAGE_ANCHOR_2_1: #REF!
Name JR_PAGE_ANCHOR_2_1: #REF!
Name JR_PAGE_ANCHOR_20_1: #REF!
Name JR_PAGE_ANCHOR_20_1: #REF!
Name JR_PAGE_ANCHOR_21_1: #REF!
Name JR_PAGE_ANCHOR_21_1: #REF!
Name JR_PAGE_ANCHOR_22_1: #REF!
Name JR_PAGE_ANCHOR_22_1: #REF!
Name JR_PAGE_ANCHOR_23_1: #REF!
Name JR_PAGE_ANCHOR_23_1: #REF!
Name JR_PAGE_ANCHOR_24_1: #REF!
Name JR_PAGE_ANCHOR_24_1: #REF!
Name JR_PAGE_ANCHOR_25_1: #REF!
Name JR_PAGE_ANCHOR_25_1: #REF!
Name JR_PAGE_ANCHOR_26_1: #REF!
Name JR_PAGE_ANCHOR_26_1: #REF!
Name JR_PAGE_ANCHOR_3_1: #REF!
Name JR_PAGE_ANCHOR_3_1: #REF!
Name JR_PAGE_ANCHOR_4_1: #REF!
Name JR_PAGE_ANCHOR_4_1: #REF!
Name JR_PAGE_ANCHOR_5_1: #REF!
Name JR_PAGE_ANCHOR_5_1: #REF!
Name JR_PAGE_ANCHOR_6_1: #REF!
Name JR_PAGE_ANCHOR_6_1: #REF!
Name JR_PAGE_ANCHOR_7_1: #REF!
Name JR_PAGE_ANCHOR_7_1: #REF!
Name JR_PAGE_ANCHOR_8_1: #REF!
Name JR_PAGE_ANCHOR_8_1: #REF!
Name JR_PAGE_ANCHOR_9_1: #REF!
Name JR_PAGE_ANCHOR_9_1: #REF!

Sheet CRONOGRAMA (2)
A1: CRONOGRAMA FÍSICO-FINANCEIRO
B2: CRECHE MUNICIPAL: NOVA CRECHE ASC DO BAIRRO SÃO GERALDO | I2: SRE: Superintendência Regional de Ensino de Pará de Minas
B3: MUNICÍPIO / DISTRITO: Morada Nova de Minas / Minas Gerais | I3: ENDEREÇO: RUA DELVITO ALVES DA SILVA - SÃO GERALDO - MORADA NOVA DE MINAS
B4: SERVIÇOS: CONSTRUÇÃO BDI: 23,12% REGIME DE EXECUÇÃO: INDIRETA
A5: ITEM | B5: DESCRIÇÃO | C5: TOTAL GERAL (C/ BDI) | D5: % INC. | E5: 1º MÊS | G5: 2º MÊS | I5: 3º MÊS | K5: 4º MÊS | M5: 5º MÊS | O5: 6º MÊS | Q5: 7º MÊS | S5: 8º MÊS | U5: TOTAL
E6: % | F6: VALOR | G6: % | H6: VALOR | I6: % | J6: VALOR | K6: % | L6: VALOR | M6: % | N6: VALOR | O6: % | P6: VALOR | Q6: % | R6: VALOR | S6: % | T6: VALOR
A7: 1 | B7: ='PLANILHA ORIGINAL'!C8 -> SERVIÇOS PRELIMINARES | C7: =TRUNC(('PLANILHA ORIGINAL'!H8*1.2312),2) -> 106642.99 | D7: =C7/$C$32 -> 0.030247795 | E7: 0.3 | F7: =C7*E7 -> 31992.897 | G7: 0.1 | H7: =G7*C7 -> 10664.299 | I7: 0.1 | J7: =C7*I7 -> 10664.299 | K7: 0.1 | L7: =C7*K7 -> 10664.299 | M7: 0.1 | N7: =C7*M7 -> 10664.299 | O7: 0.1 | P7: =C7*O7 -> 10664.299 | Q7: 0.1 | R7: =C7*Q7 -> 10664.299 | S7: 0.1 | T7: =C7*S7 -> 10664.299 | U7: =F7+H7+J7+L7+N7+P7+R7+T7 -> 106642.99 | Z7: xx .o
A8: 2 | B8: ='PLANILHA ORIGINAL'!C17 -> MOVIMENTO DE TERRA PARA FUNDAÇÕES | C8: ='PLANILHA ORIGINAL'!H17*1.2312 -> 106067.51 | D8: =C8/$C$32 -> 0.030084568 | E8: 0.8 | F8: =C8*E8 -> 84854.009 | G8: 0.2 | H8: =G8*C8 -> 21213.502 | J8: =C8*I8 -> 0 | L8: =C8*K8 -> 0 | N8: =C8*M8 -> 0 | P8: =C8*O8 -> 0 | R8: =C8*Q8 -> 0 | T8: =C8*S8 -> 0 | U8: =F8+H8+J8+L8+N8+P8+R8+T8 -> 106067.51
A9: 3 | B9: ='PLANILHA ORIGINAL'!C25 -> FUNDAÇÕES | C9: ='PLANILHA ORIGINAL'!H25*1.2312 -> 147088.79 | D9: =C9/$C$32 -> 0.041719682 | E9: 0.2 | F9: =C9*E9 -> 29417.758 | G9: 0.8 | H9: =G9*C9 -> 117671.03 | J9: =C9*I9 -> 0 | L9: =C9*K9 -> 0 | N9: =C9*M9 -> 0 | P9: =C9*O9 -> 0 | R9: =C9*Q9 -> 0 | T9: =C9*S9 -> 0 | U9: =F9+H9+J9+L9+N9+P9+R9+T9 -> 147088.79
A10: 4 | B10: ='PLANILHA ORIGINAL'!C45 -> SUPERESTRUTURA | C10: ='PLANILHA ORIGINAL'!H45*1.2312 -> 336930.16 | D10: =C10/$C$32 -> 0.095565533 | F10: =C10*E10 -> 0 | G10: 0.4 | H10: =G10*C10 -> 134772.06 | I10: 0.6 | J10: =C10*I10 -> 202158.09 | L10: =C10*K10 -> 0 | N10: =C10*M10 -> 0 | P10: =C10*O10 -> 0 | R10: =C10*Q10 -> 0 | T10: =C10*S10 -> 0 | U10: =F10+H10+J10+L10+N10+P10+R10+T10 -> 336930.16
A11: 5 | B11: ='PLANILHA ORIGINAL'!C83 -> ESTRUTURA METÁLICA | C11: ='PLANILHA ORIGINAL'!H83*1.2312 -> 205441.32 | D11: =C11/$C$32 -> 0.058270561 | F11: =C11*E11 -> 0 | G11: 0.05 | H11: =G11*C11 -> 10272.066 | I11: 0.2 | J11: =C11*I11 -> 41088.264 | K11: 0.65 | L11: =C11*K11 -> 133536.86 | M11: 0.1 | N11: =C11*M11 -> 20544.132 | P11: =C11*O11 -> 0 | R11: =C11*Q11 -> 0 | T11: =C11*S11 -> 0 | U11: =F11+H11+J11+L11+N11+P11+R11+T11 -> 205441.32
A12: 6 | B12: ='PLANILHA ORIGINAL'!C88 -> SISTEMA DE VEDAÇÃO VERTICAL | C12: =('PLANILHA ORIGINAL'!H88*1.2312) -> 117392.15 | D12: =C12/$C$32 -> 0.033296644 | F12: =C12*E12 -> 0 | G12: 0.15 | H12: =G12*C12 -> 17608.822 | I12: 0.6 | J12: =C12*I12 -> 70435.29 | K12: 0.2 | L12: =C12*K12 -> 23478.43 | M12: 0.05 | N12: =C12*M12 -> 5869.6075 | P12: =C12*O12 -> 0 | R12: =C12*Q12 -> 0 | T12: =C12*S12 -> 0 | U12: =F12+H12+J12+L12+N12+P12+R12+T12 -> 117392.15
A13: 7 | B13: ='PLANILHA ORIGINAL'!C105 -> ESQUADRIAS | C13: ='PLANILHA ORIGINAL'!H105*1.2312 -> 358615.13 | D13: =C13/$C$32 -> 0.10171617 | F13: =C13*E13 -> 0 | H13: =G13*C13 -> 0 | I13: 0.1 | J13: =C13*I13 -> 35861.513 | K13: 0.35 | L13: =C13*K13 -> 125515.3 | M13: 0.5 | N13: =C13*M13 -> 179307.57 | O13: 0.05 | P13: =C13*O13 -> 17930.757 | R13: =C13*Q13 -> 0 | T13: =C13*S13 -> 0 | U13: =F13+H13+J13+L13+N13+P13+R13+T13 -> 358615.13
A14: 8 | B14: ='PLANILHA ORIGINAL'!C153 -> SISTEMAS DE COBERTURA | C14: ='PLANILHA ORIGINAL'!H153*1.2312 -> 245234.27 | D14: =C14/$C$32 -> 0.069557276 | F14: =C14*E14 -> 0 | H14: =G14*C14 -> 0 | I14: 0.2 | J14: =C14*I14 -> 49046.854 | K14: 0.6 | L14: =C14*K14 -> 147140.56 | M14: 0.1 | N14: =C14*M14 -> 24523.427 | O14: 0.1 | P14: =C14*O14 -> 24523.427 | R14: =C14*Q14 -> 0 | T14: =C14*S14 -> 0 | U14: =F14+H14+J14+L14+N14+P14+R14+T14 -> 245234.27
A15: 9 | B15: ='PLANILHA ORIGINAL'!C160 -> IMPERMEABILIZAÇÃO | C15: ='PLANILHA ORIGINAL'!H160*1.2312 -> 32974.676 | D15: =C15/$C$32 -> 0.0093528062 | F15: =C15*E15 -> 0 | G15: 0.3 | H15: =G15*C15 -> 9892.4027 | I15: 0.5 | J15: =C15*I15 -> 16487.338 | K15: 0.2 | L15: =C15*K15 -> 6594.9351 | N15: =C15*M15 -> 0 | P15: =C15*O15 -> 0 | R15: =C15*Q15 -> 0 | T15: =C15*S15 -> 0 | U15: =F15+H15+J15+L15+N15+P15+R15+T15 -> 32974.676
A16: 10 | B16: ='PLANILHA ORIGINAL'!C166 -> REVESTIMENTOS INTERNO E EXTERNO | C16: ='PLANILHA ORIGINAL'!H166*1.2312 -> 314220.25 | D16: =C16/$C$32 -> 0.089124186 | F16: =C16*E16 -> 0 | H16: =G16*C16 -> 0 | I16: 0.2 | J16: =C16*I16 -> 62844.05 | K16: 0.2 | L16: =C16*K16 -> 62844.05 | M16: 0.4 | N16: =C16*M16 -> 125688.1 | O16: 0.2 | P16: =C16*O16 -> 62844.05 | R16: =C16*Q16 -> 0 | T16: =C16*S16 -> 0 | U16: =F16+H16+J16+L16+N16+P16+R16+T16 -> 314220.25
A17: 11 | B17: ='PLANILHA ORIGINAL'!C183 -> SISTEMAS DE PISOS | C17: ='PLANILHA ORIGINAL'!H183*1.2312 -> 394408.16 | D17: =C17/$C$32 -> 0.11186837 | F17: =C17*E17 -> 0 | H17: =G17*C17 -> 0 | I17: 0.2 | J17: =C17*I17 -> 78881.632 | K17: 0.2 | L17: =C17*K17 -> 78881.632 | M17: 0.3 | N17: =C17*M17 -> 118322.45 | O17: 0.2 | P17: =C17*O17 -> 78881.632 | Q17: 0.1 | R17: =C17*Q17 -> 39440.816 | T17: =C17*S17 -> 0 | U17: =F17+H17+J17+L17+N17+P17+R17+T17 -> 394408.16
A18: 12 | B18: ='PLANILHA ORIGINAL'!C217 -> PINTURAS E ACABAMENTOS | C18: ='PLANILHA ORIGINAL'!H217*1.2312 -> 127299.28 | D18: =C18/$C$32 -> 0.036106664 | F18: =C18*E18 -> 0 | H18: =G18*C18 -> 0 | J18: =C18*I18 -> 0 | L18: =C18*K18 -> 0 | N18: =C18*M18 -> 0 | O18: 0.2 | P18: =C18*O18 -> 25459.857 | Q18: 0.35 | R18: =C18*Q18 -> 44554.749 | S18: 0.45 | T18: =C18*S18 -> 57284.678 | U18: =F18+H18+J18+L18+N18+P18+R18+T18 -> 127299.28
A19: 13 | B19: ='PLANILHA ORIGINAL'!C238 -> INSTALAÇÕES DE ÁGUA FRIA | C19: ='PLANILHA ORIGINAL'!H238*1.2312 -> 116676.53 | D19: =C19/$C$32 -> 0.033093667 | F19: =C19*E19 -> 0 | H19: =G19*C19 -> 0 | I19: 0.05 | J19: =C19*I19 -> 5833.8264 | K19: 0.05 | L19: =C19*K19 -> 5833.8264 | M19: 0.2 | N19: =C19*M19 -> 23335.305 | O19: 0.45 | P19: =C19*O19 -> 52504.437 | Q19: 0.25 | R19: =C19*Q19 -> 29169.132 | T19: =C19*S19 -> 0 | U19: =F19+H19+J19+L19+N19+P19+R19+T19 -> 116676.53
A20: 14 | B20: ='PLANILHA ORIGINAL'!C295 -> INSTALAÇÕES DE ÁGUAS PLUVIAIS | C20: ='PLANILHA ORIGINAL'!H295*1.2312 -> 35796.487 | D20: =C20/$C$32 -> 0.010153174 | F20: =C20*E20 -> 0 | H20: =G20*C20 -> 0 | J20: =C20*I20 -> 0 | L20: =C20*K20 -> 0 | M20: 0.25 | N20: =C20*M20 -> 8949.1219 | O20: 0.5 | P20: =C20*O20 -> 17898.244 | Q20: 0.25 | R20: =C20*Q20 -> 8949.1219 | T20: =C20*S20 -> 0 | U20: =F20+H20+J20+L20+N20+P20+R20+T20 -> 35796.487
A21: 15 | B21: ='PLANILHA ORIGINAL'!C314 -> INSTALAÇÕES DE ESGOTO SANITÁRIO | C21: ='PLANILHA ORIGINAL'!H314*1.2312 -> 86050.821 | D21: =C21/$C$32 -> 0.024407114 | F21: =C21*E21 -> 0 | G21: 0.05 | H21: =G21*C21 -> 4302.5411 | I21: 0.05 | J21: =C21*I21 -> 4302.5411 | K21: 0.1 | L21: =C21*K21 -> 8605.0821 | M21: 0.15 | N21: =C21*M21 -> 12907.623 | O21: 0.45 | P21: =C21*O21 -> 38722.869 | Q21: 0.2 | R21: =C21*Q21 -> 17210.164 | T21: =C21*S21 -> 0 | U21: =F21+H21+J21+L21+N21+P21+R21+T21 -> 86050.821
A22: 16 | B22: ='PLANILHA ORIGINAL'!C360 -> LOUÇAS, ACESSÓRIOS E METAIS | C22: ='PLANILHA ORIGINAL'!H360*1.2312 -> 55600.303 | D22: =C22/$C$32 -> 0.015770249 | F22: =C22*E22 -> 0 | H22: =G22*C22 -> 0 | J22: =C22*I22 -> 0 | L22: =C22*K22 -> 0 | N22: =C22*M22 -> 0 | P22: =C22*O22 -> 0 | Q22: 0.2 | R22: =C22*Q22 -> 11120.061 | S22: 0.8 | T22: =C22*S22 -> 44480.242 | U22: =F22+H22+J22+L22+N22+P22+R22+T22 -> 55600.303
A23: 17 | B23: ='PLANILHA ORIGINAL'!C395 -> INSTALAÇÕES DE PROTEÇÃO CONTRA INCÊNDIO | C23: ='PLANILHA ORIGINAL'!H395*1.2312 -> 77722.418 | D23: =C23/$C$32 -> 0.022044878 | F23: =C23*E23 -> 0 | H23: =G23*C23 -> 0 | J23: =C23*I23 -> 0 | K23: 0.15 | L23: =C23*K23 -> 11658.363 | M23: 0.15 | N23: =C23*M23 -> 11658.363 | O23: 0.55 | P23: =C23*O23 -> 42747.33 | Q23: 0.1 | R23: =C23*Q23 -> 7772.2418 | S23: 0.05 | T23: =C23*S23 -> 3886.1209 | U23: =F23+H23+J23+L23+N23+P23+R23+T23 -> 77722.418
A24: 18 | B24: ='PLANILHA ORIGINAL'!C458 -> INSTALAÇÕES ELÉTRICAS - 220V | C24: ='PLANILHA ORIGINAL'!H458*1.2312 -> 238555.51 | D24: =C24/$C$32 -> 0.06766294 | F24: =C24*E24 -> 0 | G24: 0.05 | H24: =G24*C24 -> 11927.776 | I24: 0.05 | J24: =C24*I24 -> 11927.776 | K24: 0.15 | L24: =C24*K24 -> 35783.327 | M24: 0.15 | N24: =C24*M24 -> 35783.327 | O24: 0.3 | P24: =C24*O24 -> 71566.654 | Q24: 0.2 | R24: =C24*Q24 -> 47711.103 | S24: 0.1 | T24: =C24*S24 -> 23855.551 | U24: =F24+H24+J24+L24+N24+P24+R24+T24 -> 238555.51
A25: 19 | B25: ='PLANILHA ORIGINAL'!C559 -> INSTALAÇÕES DE CABEAMENTO ESTRUTURADO | C25: ='PLANILHA ORIGINAL'!H559*1.2312 -> 63668.996 | D25: =C25/$C$32 -> 0.018058822 | F25: =C25*E25 -> 0 | H25: =G25*C25 -> 0 | J25: =C25*I25 -> 0 | L25: =C25*K25 -> 0 | N25: =C25*M25 -> 0 | P25: =C25*O25 -> 0 | Q25: 0.3 | R25: =C25*Q25 -> 19100.699 | S25: 0.7 | T25: =C25*S25 -> 44568.297 | U25: =F25+H25+J25+L25+N25+P25+R25+T25 -> 63668.996
A26: 20 | B26: ='PLANILHA ORIGINAL'!C593 -> INSTALAÇÕES DO SISTEMA DE PROTEÇÃO CONTRA DESCARGAS ATMOSFÉRICAS (SPDA) | C26: ='PLANILHA ORIGINAL'!H593*1.2312 -> 35651.661 | D26: =C26/$C$32 -> 0.010112096 | F26: =C26*E26 -> 0 | G26: 0.05 | H26: =G26*C26 -> 1782.5831 | I26: 0.1 | J26: =C26*I26 -> 3565.1661 | L26: =C26*K26 -> 0 | N26: =C26*M26 -> 0 | P26: =C26*O26 -> 0 | Q26: 0.65 | R26: =C26*Q26 -> 23173.58 | S26: 0.2 | T26: =C26*S26 -> 7130.3323 | U26: =F26+H26+J26+L26+N26+P26+R26+T26 -> 35651.661
A27: 21 | B27: ='PLANILHA ORIGINAL'!C607 -> INSTALAÇÕES DE CLIMATIZAÇÃO | C27: ='PLANILHA ORIGINAL'!H607*1.2312 -> 34897.071 | D27: =C27/$C$32 -> 0.0098980669 | F27: =C27*E27 -> 0 | H27: =G27*C27 -> 0 | J27: =C27*I27 -> 0 | K27: 0.3 | L27: =C27*K27 -> 10469.121 | M27: 0.2 | N27: =C27*M27 -> 6979.4142 | P27: =C27*O27 -> 0 | R27: =C27*Q27 -> 0 | S27: 0.5 | T27: =C27*S27 -> 17448.536 | U27: =F27+H27+J27+L27+N27+P27+R27+T27 -> 34897.071
A28: 23 | B28: ='PLANILHA ORIGINAL'!C644 -> SERVIÇOS COMPLEMENTARES | C28: ='PLANILHA ORIGINAL'!H644*1.2312 -> 89613.064 | D28: =C28/$C$32 -> 0.025417494 | F28: =C28*E28 -> 0 | H28: =G28*C28 -> 0 | I28: 0.1 | J28: =C28*I28 -> 8961.3064 | K28: 0.15 | L28: =C28*K28 -> 13441.96 | N28: =C28*M28 -> 0 | P28: =C28*O28 -> 0 | Q28: 0.5 | R28: =C28*Q28 -> 44806.532 | S28: 0.25 | T28: =C28*S28 -> 22403.266 | U28: =F28+H28+J28+L28+N28+P28+R28+T28 -> 89613.064
A29: 24 | B29: ='PLANILHA ORIGINAL'!C655 -> FECHAMENTO - MURO | C29: ='PLANILHA ORIGINAL'!H655*1.2312 -> 167861.76 | D29: =C29/$C$32 -> 0.047611644 | E29: 0.1 | F29: =C29*E29 -> 16786.176 | G29: 0.15 | H29: =G29*C29 -> 25179.264 | I29: 0.3 | J29: =C29*I29 -> 50358.528 | K29: 0.3 | L29: =C29*K29 -> 50358.528 | M29: 0.15 | N29: =C29*M29 -> 25179.264 | P29: =C29*O29 -> 0 | R29: =C29*Q29 -> 0 | T29: =C29*S29 -> 0 | U29: =F29+H29+J29+L29+N29+P29+R29+T29 -> 167861.76
A30: 25 | B30: ='PLANILHA ORIGINAL'!C701 -> SERVIÇOS FINAIS | C30: ='PLANILHA ORIGINAL'!H701*1.2312 -> 31235.803 | D30: =C30/$C$32 -> 0.0088595992 | F30: =C30*E30 -> 0 | H30: =G30*C30 -> 0 | J30: =C30*I30 -> 0 | L30: =C30*K30 -> 0 | N30: =C30*M30 -> 0 | P30: =C30*O30 -> 0 | Q30: 0.3 | R30: =C30*Q30 -> 9370.7408 | S30: 0.7 | T30: =C30*S30 -> 21865.062 | U30: =F30+H30+J30+L30+N30+P30+R30+T30 -> 31235.803
A31: TOTAL MENSAL | E31: =F31/$C$32 -> 0.046247094 | F31: =SUM(F7:F30) -> 163050.84 | G31: =H31/$C$32 -> 0.10360837 | H31: =SUM(H7:H30) -> 365286.35 | I31: =J31/$C$32 -> 0.18504882 | J31: =SUM(J7:J30) -> 652416.48 | K31: =L31/$C$32 -> 0.20558118 | L31: =SUM(L7:L30) -> 724806.27 | M31: =N31/$C$32 -> 0.17293629 | N31: =SUM(N7:N30) -> 609712 | O31: =P31/$C$32 -> 0.12586166 | P31: =SUM(P7:P30) -> 443743.56 | Q31: =R31/$C$32 -> 0.088790343 | R31: =SUM(R7:R30) -> 313043.24 | S31: =T31/$C$32 -> 0.071926236 | T31: =SUM(T7:T30) -> 253586.38 | U31: =SUM(U7:U30) -> 3525645.1
A32: TOTAL ACUMULADO | C32: =SUM(C7:C30) -> 3525645.1 | D32: =SUM(D7:D31) -> 1 | E32: =F32/C32 -> 0.046247094 | F32: =F31 -> 163050.84 | G32: =H32/$C$32 -> 0.14985547 | H32: =F32+H31 -> 528337.19 | I32: =J32/$C$32 -> 0.33490429 | J32: =H32+J31 -> 1180753.7 | K32: =L32/$C$32 -> 0.54048546 | L32: =J32+L31 -> 1905559.9 | M32: =N32/$C$32 -> 0.71342176 | N32: =L32+N31 -> 2515271.9 | O32: =P32/$C$32 -> 0.83928342 | P32: =N32+P31 -> 2959015.5 | Q32: =R32/$C$32 -> 0.92807376 | R32: =P32+R31 -> 3272058.7 | S32: =T32/$C$32 -> 1 | T32: =R32+T31 -> 3525645.1 | U32: =U31 -> 3525645.1
A33: LOCAL / DATA: Morada Nova de Minas, 18 de Março de 2026
A34: RESPONSÁVEL TÉCNICO: Miguel César Feliciano
A35: REPRESENTANTE LEGAL: Hermano Álvares Francisco de Moura
B41: ______________________
B42: Responsável Técnico

Sheet PLANILHA ORIGINAL
A2: PREFEITURA MUNICIPAL DE MORADA NOVA DE MINAS
A3: CRECHE MUNICIPAL: NOVA CRECHE ASC DO BAIRRO SÃO GERALDO | E3: SER: Superintendência Reg. De Ensino De Pará de Minas
A4: ENDEREÇO: RUA DELVITO ALVES DA SILVA - SÃO GERALDO - MORADA NOVA DE MINAS | G4: MG/BDI USADO = 23,12%
G5: SERVIÇO: CONSTRUÇÃO INDIRETA
A7: ITEM | B7: CÓDIGO | C7: DESCRIÇÃO | D7: FONTE | E7: UND | F7: QUANTIDADE | G7: PREÇO UNITÁRIO R$ | H7: PREÇO TOTAL R$
A8: 1 | C8: SERVIÇOS PRELIMINARES | F8: 1 | G8: 86617.12 | H8: 86617.12
A9: 1.1 | B9: 103689 | C9: FORNECIMENTO E INSTALAÇÃO DE PLACA DE OBRA COM CHAPA GALVANIZADA E ESTRUTURA DE MADEIRA. AF_03/2022_PS | D9: SINAPI | E9: M2 | F9: 6.48 | G9: 502.36 | H9: =G9*F9 -> 3255.2928
A10: 1.2 | B10: 98459 | C10: TAPUME COM TELHA METÁLICA. AF_03/2024 | D10: SINAPI | E10: M2 | F10: 391.6 | G10: 86.27 | H10: =G10*F10 -> 33783.332
A11: 1.3 | B11: 101509 | C11: ENTRADA DE ENERGIA ELÉTRICA, AÉREA, TRIFÁSICA, COM CAIXA DE EMBUTIR, CABO DE 10 MM2 E DISJUNTOR DIN 50A (NÃO INCLUSO O POSTE DE CONCRETO). AF_07/2020 | D11: SINAPI | E11: UN | F11: 1 | G11: 2012.87 | H11: =G11*F11 -> 2012.87
A12: 1.4 | B12: FNDE 03 | C12: LIGAÇÃO PROVISÓRIA DE ÁGUA E ESGOTO | D12: PRÓPRIA | E12: UN | F12: 1 | G12: 3118.51 | H12: =G12*F12 -> 3118.51
A13: 1.5 | B13: 99059 | C13: LOCAÇÃO CONVENCIONAL DE OBRA, UTILIZANDO GABARITO DE TÁBUAS CORRIDAS PONTALETADAS A CADA 2,00M - 2 UTILIZAÇÕES. AF_03/2024 | D13: SINAPI | E13: M | F13: 220 | G13: 73.32 | H13: =G13*F13 -> 16130.4
A14: 1.6 | B14: FNDE 231 | C14: LOCACAO DE CONTAINER 2,30 X 6,00 M, ALT. 2,50 M, COM 1 SANITARIO, PARA ESCRITORIO, COMPLETO, SEM DIVISORIAS INTERNAS (NAO INCLUI MOBILIZACAO/DESMOBILIZACAO) | D14: PRÓPRIA | E14: MÊS | F14: 8 | G14: 1169.71 | H14: =G14*F14 -> 9357.68
A15: 1.7 | B15: FNDE 230 | C15: LOCACAO DE CONTAINER 2,30 X 6,00 M, ALT. 2,50 M, PARA ESCRITORIO, SEM DIVISORIAS INTERNAS E SEM SANITARIO (NAO INCLUI MOBILIZACAO/DESMOBILIZACAO) | D15: PRÓPRIA | E15: MÊS | F15: 8 | G15: 956.42 | H15: =G15*F15 -> 7651.36
A16: 1.8 | B16: FNDE 232 | C16: LOCACAO DE CONTAINER 2,30 X 6,00 M, ALT. 2,50 M, PARA SANITARIO, COM 4 BACIAS, 8 CHUVEIROS,1 LAVATORIO E 1 MICTORIO (NAO INCLUI MOBILIZACAO/DESMOBILIZACAO) | D16: PRÓPRIA | E16: MÊS | F16: 8 | G16: 1413.46 | H16: =G16*F16 -> 11307.68
A17: 2 | C17: MOVIMENTO DE TERRA PARA FUNDAÇÕES | F17: 1 | G17: 86149.69 | H17: 86149.7
A18: 2.1 | B18: 98525 | C18: LIMPEZA MECANIZADA DE CAMADA VEGETAL, VEGETAÇÃO E PEQUENAS ÁRVORES (DIÂMETRO DE TRONCO MENOR QUE 0,20 M), COM TRATOR DE ESTEIRAS. AF_03/2024 | D18: SINAPI | E18: M2 | F18: 1800 | G18: 0.7 | H18: =G18*F18 -> 1260
A19: 2.2 | B19: 94304 | C19: ATERRO MECANIZADO DE VALA COM ESCAVADEIRA HIDRÁULICA (CAPACIDADE DA CAÇAMBA: 0,8 M³ / POTÊNCIA: 111 HP), LARGURA ATÉ 2,5 M, PROFUNDIDADE ATÉ 1,5 M, COM SOLO ARGILO-ARENOSO. AF_08/2023 | D19: SINAPI | E19: M3 | F19: 360 | G19: 76.58 | H19: =G19*F19 -> 27568.8
A20: 2.3 | B20: 96521 | C20: ESCAVAÇÃO MECANIZADA PARA BLOCO DE COROAMENTO OU SAPATA COM RETROESCAVADEIRA (INCLUINDO ESCAVAÇÃO PARA COLOCAÇÃO DE FÔRMAS). AF_01/2024 | D20: SINAPI | E20: M3 | F20: 360.09 | G20: 44.55 | H20: =G20*F20 -> 16042.009
A21: 2.4 | B21: 96525 | C21: ESCAVAÇÃO MECANIZADA PARA VIGA BALDRAME OU SAPATA CORRIDA COM MINI-ESCAVADEIRA (INCLUINDO ESCAVAÇÃO PARA COLOCAÇÃO DE FÔRMAS). AF_01/2024 | D21: SINAPI | E21: M3 | F21: 167.93 | G21: 57.13 | H21: =G21*F21 -> 9593.8409
A22: 2.5 | B22: 101616 | C22: PREPARO DE FUNDO DE VALA COM LARGURA MENOR QUE 1,5 M (ACERTO DO SOLO NATURAL). AF_08/2020 | D22: SINAPI | E22: M2 | F22: 828.96 | G22: 6.93 | H22: =G22*F22 -> 5744.6928
A23: 2.6 | B23: 104740 | C23: REATERRO MECANIZADO DE VALA COM RETROESCAVADEIRA (CAPACIDADE DA CAÇAMBA DA RETRO: 0,26 M³/POTÊNCIA: 88 HP), LARGURA 0,8 A 1,5 M, PROFUNDIDADE 1,5 A 3,0 M, COM SOLO (SEM SUBSTITUIÇÃO) DE 1ª CATEGORIA E COMPACTADOR DE SOLOS DE PERCUSSÃO. AF_08/2023 | D23: SINAPI | E23: M3 | F23: 465.54 | G23: 28.99 | H23: =G23*F23 -> 13496.005
A24: 2.7 | B24: 104738 | C24: ATERRO MECANIZADO DE VALA COM MINICARREGADEIRA, COM SOLO ARGILO-ARENOSO. AF_08/2023 | D24: SINAPI | E24: M3 | F24: 153.9 | G24: 80.86 | H24: =G24*F24 -> 12444.354
A25: 3 | C25: FUNDAÇÕES | F25: 1 | G25: 119467.83 | H25: =H26+H29+H37 -> 119467.83
A26: 3.1 | B26: CONCRETO ARMADO PARA FUNDAÇÕES | F26: 1 | G26: 40318.24 | H26: =SUM(H27:H28) -> 40318.24
A27: 3.1.1 | B27: 100896 | C27: ESTACA ESCAVADA MECANICAMENTE, SEM FLUIDO ESTABILIZANTE, COM 25CM DE DIÂMETRO, CONCRETO LANÇADO POR CAMINHÃO BETONEIRA (EXCLUSIVE MOBILIZAÇÃO E DESMOBILIZAÇÃO). AF_01/2020_PA | D27: SINAPI | E27: M | F27: 590 | G27: 64.59 | H27: 38108.1
A28: 3.1.2 | B28: 95601 | C28: ARRASAMENTO MECANICO DE ESTACA DE CONCRETO ARMADO, DIAMETROS DE ATÉ 40 CM. AF_05/2021 | D28: SINAPI | E28: UN | F28: 118 | G28: 18.73 | H28: 2210.14
A29: 3.2 | B29: CONCRETO ARMADO PARA SAPATAS | F29: 1 | G29: 6617.65 | H29: =SUM(H30:H36) -> 6617.65
A30: 3.2.1 | B30: 96621 | C30: LASTRO COM MATERIAL GRANULAR, APLICAÇÃO EM BLOCOS DE COROAMENTO, ESPESSURA DE *5 CM*. AF_01/2024 | D30: SINAPI | E30: M3 | F30: 0.59 | G30: 273.45 | H30: 161.34
A31: 3.2.2 | B31: 96619 | C31: LASTRO DE CONCRETO MAGRO, APLICADO EM BLOCOS DE COROAMENTO OU SAPATAS, ESPESSURA DE 5 CM. AF_01/2024 | D31: SINAPI | E31: M2 | F31: 7.8 | G31: 43.38 | H31: 338.36
A32: 3.2.3 | B32: 96535 | C32: FABRICAÇÃO, MONTAGEM E DESMONTAGEM DE FÔRMA PARA SAPATA, EM MADEIRA SERRADA, E=25 MM, 4 UTILIZAÇÕES. AF_01/2024 | D32: SINAPI | E32: M2 | F32: 17.3 | G32: 142.91 | H32: 2472.34
A33: 3.2.4 | B33: 104918 | C33: ARMAÇÃO DE SAPATA ISOLADA, VIGA BALDRAME E SAPATA CORRIDA UTILIZANDO AÇO CA-50 DE 8 MM - MONTAGEM. AF_01/2024 | D33: SINAPI | E33: KG | F33: 61.15 | G33: 14.53 | H33: 888.51
A34: 3.2.5 | B34: 104919 | C34: ARMAÇÃO DE SAPATA ISOLADA, VIGA BALDRAME E SAPATA CORRIDA UTILIZANDO AÇO CA-50 DE 10 MM - MONTAGEM. AF_01/2024 | D34: SINAPI | E34: KG | F34: 54.79 | G34: 12.87 | H34: 705.15
A35: 3.2.6 | B35: 104916 | C35: ARMAÇÃO DE SAPATA ISOLADA, VIGA BALDRAME E SAPATA CORRIDA UTILIZANDO AÇO CA-60 DE 5 MM - MONTAGEM. AF_01/2024 | D35: SINAPI | E35: KG | F35: 15.34 | G35: 17.39 | H35: 266.76
A36: 3.2.7 | B36: 96558 | C36: CONCRETAGEM DE SAPATA, FCK 30 MPA, COM USO DE BOMBA - LANÇAMENTO, ADENSAMENTO E ACABAMENTO. AF_01/2024 | D36: SINAPI | E36: M3 | F36: 2.14 | G36: 834.2 | H36: 1785.19
A37: 3.3 | B37: CONCRETO ARMADO PARA BLOCOS | F37: 1 | G37: 72531.94 | H37: =SUM(H38:H44) -> 72531.94
A38: 3.3.1 | B38: 96621 | C38: LASTRO COM MATERIAL GRANULAR, APLICAÇÃO EM BLOCOS DE COROAMENTO, ESPESSURA DE *5 CM*. AF_01/2024 | D38: SINAPI | E38: M3 | F38: 13.14 | G38: 273.45 | H38: 3593.13
A39: 3.3.2 | B39: 96619 | C39: LASTRO DE CONCRETO MAGRO, APLICADO EM BLOCOS DE COROAMENTO OU SAPATAS, ESPESSURA DE 5 CM. AF_01/2024 | D39: SINAPI | E39: M2 | F39: 262.75 | G39: 43.38 | H39: 11398.1
A40: 3.3.3 | B40: 96534 | C40: FABRICAÇÃO, MONTAGEM E DESMONTAGEM DE FÔRMA PARA BLOCO DE COROAMENTO, EM MADEIRA SERRADA, E=25 MM, 4 UTILIZAÇÕES. AF_01/2024 | D40: SINAPI | E40: M2 | F40: 233.83 | G40: 82.95 | H40: 19396.2
A41: 3.3.4 | B41: 96544 | C41: ARMAÇÃO DE BLOCO UTILIZANDO AÇO CA-50 DE 6,3 MM - MONTAGEM. AF_01/2024 | D41: SINAPI | E41: KG | F41: 273.6 | G41: 18.56 | H41: 5078.02
A42: 3.3.5 | B42: 96546 | C42: ARMAÇÃO DE BLOCO UTILIZANDO AÇO CA-50 DE 10 MM - MONTAGEM. AF_01/2024 | D42: SINAPI | E42: KG | F42: 437.16 | G42: 14.31 | H42: 6255.76
A43: 3.3.6 | B43: 96543 | C43: ARMAÇÃO DE BLOCO UTILIZANDO AÇO CA-60 DE 5 MM - MONTAGEM. AF_01/2024 | D43: SINAPI | E43: KG | F43: 194.57 | G43: 20.94 | H43: 4074.3
A44: 3.3.7 | B44: 96557 | C44: CONCRETAGEM DE BLOCO DE COROAMENTO OU VIGA BALDRAME, FCK 30 MPA, COM USO DE BOMBA - LANÇAMENTO, ADENSAMENTO E ACABAMENTO. AF_01/2024 | D44: SINAPI | E44: M3 | F44: 28.47 | G44: 798.61 | H44: 22736.43
A45: 4 | C45: SUPERESTRUTURA | F45: 1 | G45: 440522.64 | H45: =H46+H55+H61+H69+H77 -> 273659.97
A46: 4.1 | B46: CONCRETO ARMADO - VIGAS BALDRAME | F46: 1 | G46: 110930.04 | H46: =SUM(H47:H54) -> 110930.04
A47: 4.1.1 | B47: 96621 | C47: LASTRO COM MATERIAL GRANULAR, APLICAÇÃO EM BLOCOS DE COROAMENTO, ESPESSURA DE *5 CM*. AF_01/2024 | D47: SINAPI | E47: M3 | F47: 27.57 | G47: 273.45 | H47: 7539.02
A48: 4.1.2 | B48: 96619 | C48: LASTRO DE CONCRETO MAGRO, APLICADO EM BLOCOS DE COROAMENTO OU SAPATAS, ESPESSURA DE 5 CM. AF_01/2024 | D48: SINAPI | E48: M2 | F48: 551.45 | G48: 43.38 | H48: 23921.9
A49: 4.1.3 | B49: 96536 | C49: FABRICAÇÃO, MONTAGEM E DESMONTAGEM DE FÔRMA PARA VIGA BALDRAME, EM MADEIRA SERRADA, E=25 MM, 4 UTILIZAÇÕES. AF_01/2024 | D49: SINAPI | E49: M2 | F49: 331.58 | G49: 71.85 | H49: 23824.02
A50: 4.1.4 | B50: 104918 | C50: ARMAÇÃO DE SAPATA ISOLADA, VIGA BALDRAME E SAPATA CORRIDA UTILIZANDO AÇO CA-50 DE 8 MM - MONTAGEM. AF_01/2024 | D50: SINAPI | E50: KG | F50: 244.82 | G50: 14.53 | H50: 3557.23
A51: 4.1.5 | B51: 104919 | C51: ARMAÇÃO DE SAPATA ISOLADA, VIGA BALDRAME E SAPATA CORRIDA UTILIZANDO AÇO CA-50 DE 10 MM - MONTAGEM. AF_01/2024 | D51: SINAPI | E51: KG | F51: 491.49 | G51: 12.87 | H51: 6325.48
A52: 4.1.6 | B52: 104920 | C52: ARMAÇÃO DE BLOCO, SAPATA ISOLADA, VIGA BALDRAME E SAPATA CORRIDA UTILIZANDO AÇO CA-50 DE 12,5 MM - MONTAGEM. AF_01/2024 | D52: SINAPI | E52: KG | F52: 1005.28 | G52: 10.87 | H52: 10927.39
A53: 4.1.7 | B53: 104916 | C53: ARMAÇÃO DE SAPATA ISOLADA, VIGA BALDRAME E SAPATA CORRIDA UTILIZANDO AÇO CA-60 DE 5 MM - MONTAGEM. AF_01/2024 | D53: SINAPI | E53: KG | F53: 509.73 | G53: 17.39 | H53: 8864.2
A54: 4.1.8 | B54: 96557 | C54: CONCRETAGEM DE BLOCO DE COROAMENTO OU VIGA BALDRAME, FCK 30 MPA, COM USO DE BOMBA - LANÇAMENTO, ADENSAMENTO E ACABAMENTO. AF_01/2024 | D54: SINAPI | E54: M3 | F54: 32.52 | G54: 798.61 | H54: 25970.8
A55: 4.2 | B55: CONCRETO ARMADO - PILARES | F55: 1 | G55: 53242.75 | H55: =SUM(H56:H60) -> 53242.75
A56: 4.2.1 | B56: 92443 | C56: MONTAGEM E DESMONTAGEM DE FÔRMA DE PILARES RETANGULARES E ESTRUTURAS SIMILARES, PÉ-DIREITO SIMPLES, EM CHAPA DE MADEIRA COMPENSADA PLASTIFICADA, 18 UTILIZAÇÕES. AF_09/2020 | D56: SINAPI | E56: M2 | F56: 389.99 | G56: 51.8 | H56: 20201.48
A57: 4.2.2 | B57: 92762 | C57: ARMAÇÃO DE PILAR OU VIGA DE ESTRUTURA CONVENCIONAL DE CONCRETO ARMADO UTILIZANDO AÇO CA-50 DE 10,0 MM - MONTAGEM. AF_06/2022 | D57: SINAPI | E57: KG | F57: 1099.37 | G57: 11 | H57: 12093.07
A58: 4.2.3 | B58: 92763 | C58: ARMAÇÃO DE PILAR OU VIGA DE ESTRUTURA CONVENCIONAL DE CONCRETO ARMADO UTILIZANDO AÇO CA-50 DE 12,5 MM - MONTAGEM. AF_06/2022 | D58: SINAPI | E58: KG | F58: 13.56 | G58: 9.18 | H58: 124.48
A59: 4.2.4 | B59: 92759 | C59: ARMAÇÃO DE PILAR OU VIGA DE ESTRUTURA CONVENCIONAL DE CONCRETO ARMADO UTILIZANDO AÇO CA-60 DE 5,0 MM - MONTAGEM. AF_06/2022 | D59: SINAPI | E59: KG | F59: 465.08 | G59: 14.47 | H59: 6729.71
A60: 4.2.5 | B60: FNDE 239 | C60: CONCRETAGEM DE PILARES, FCK = 30 MPA, COM USO DE BOMBA - LANÇAMENTO, ADENSAMENTO E ACABAMENTO. | D60: PRÓPRIA | E60: M3 | F60: 19.02 | G60: 741.01 | H60: 14094.01
A61: 4.3 | B61: CONCRETO ARMADO - VIGAS | F61: 1 | G61: 104548.92 | H61: =SUM(H62:H67) -> 104548.92
A62: 4.3.1 | B62: 92479 | C62: MONTAGEM E DESMONTAGEM DE FÔRMA DE VIGA, ESCORAMENTO COM GARFO DE MADEIRA, PÉ-DIREITO SIMPLES, EM CHAPA DE MADEIRA PLASTIFICADA, 18 UTILIZAÇÕES. AF_09/2020 | D62: SINAPI | E62: M2 | F62: 666.59 | G62: 74.06 | H62: 49367.66
A63: 4.3.2 | B63: 92761 | C63: ARMAÇÃO DE PILAR OU VIGA DE ESTRUTURA CONVENCIONAL DE CONCRETO ARMADO UTILIZANDO AÇO CA-50 DE 8,0 MM - MONTAGEM. AF_06/2022 | D63: SINAPI | E63: KG | F63: 1030.52 | G63: 12.42 | H63: 12799.06
A64: 4.3.3 | B64: 92762 | C64: ARMAÇÃO DE PILAR OU VIGA DE ESTRUTURA CONVENCIONAL DE CONCRETO ARMADO UTILIZANDO AÇO CA-50 DE 10,0 MM - MONTAGEM. AF_06/2022 | D64: SINAPI | E64: KG | F64: 319.67 | G64: 11 | H64: 3516.37
A65: 4.3.4 | B65: 92763 | C65: ARMAÇÃO DE PILAR OU VIGA DE ESTRUTURA CONVENCIONAL DE CONCRETO ARMADO UTILIZANDO AÇO CA-50 DE 12,5 MM - MONTAGEM. AF_06/2022 | D65: SINAPI | E65: KG | F65: 143.78 | G65: 9.18 | H65: 1319.9
A66: 4.3.5 | B66: 92759 | C66: ARMAÇÃO DE PILAR OU VIGA DE ESTRUTURA CONVENCIONAL DE CONCRETO ARMADO UTILIZANDO AÇO CA-60 DE 5,0 MM - MONTAGEM. AF_06/2022 | D66: SINAPI | E66: KG | F66: 564.06 | G66: 14.47 | H66: 8161.95
A67: 4.3.6 | B67: FNDE 240 | C67: CONCRETAGEM DE VIGAS E LAJES, FCK=30 MPA, PARA LAJES MACIÇAS OU NERVURADAS COM USO DE BOMBA - LANÇAMENTO, ADENSAMENTO E ACABAMENTO. | D67: PRÓPRIA | E67: M3 | F67: 39.56 | G67: 742.77 | H67: 29383.98
A68: 4.4 | B68: CONCRETO ARMADO - LAJE | F68: 1 | G68: 4938.26 | H68: 4938.26
A69: 4.4.1 | B69: LAJE DE PISO - CASA DE MÁQUINAS E MASTRO | F69: 1 | G69: 2818.13 | H69: =SUM(H70:H76) -> 2818.13
A70: 4.4.1.1 | B70: 97083 | C70: COMPACTAÇÃO MECÂNICA DE SOLO PARA EXECUÇÃO DE RADIER, PISO DE CONCRETO OU LAJE SOBRE SOLO, COM COMPACTADOR DE SOLOS A PERCUSSÃO. AF_09/2021 | D70: SINAPI | E70: M2 | F70: 12.86 | G70: 3.58 | H70: 46.04
A71: 4.4.1.2 | B71: 96624 | C71: LASTRO COM MATERIAL GRANULAR (PEDRA BRITADA N.2), APLICADO EM PISOS OU LAJES SOBRE SOLO, ESPESSURA DE *10 CM*. AF_01/2024 | D71: SINAPI | E71: M3 | F71: 1.29 | G71: 218.56 | H71: 281.94
A72: 4.4.1.3 | B72: 97087 | C72: CAMADA SEPARADORA PARA EXECUÇÃO DE RADIER, PISO DE CONCRETO OU LAJE SOBRE SOLO, EM LONA PLÁSTICA. AF_09/2021 | D72: SINAPI | E72: M2 | F72: 12.86 | G72: 2.7 | H72: 34.72
A73: 4.4.1.4 | B73: 97086 | C73: FABRICAÇÃO, MONTAGEM E DESMONTAGEM DE FORMA PARA RADIER, PISO DE CONCRETO OU LAJE SOBRE SOLO, EM MADEIRA SERRADA, 4 UTILIZAÇÕES. AF_09/2021 | D73: SINAPI | E73: M2 | F73: 5.6 | G73: 149.61 | H73: 837.82
A74: 4.4.1.5 | B74: 97091 | C74: ARMAÇÃO PARA EXECUÇÃO DE RADIER, PISO DE CONCRETO OU LAJE SOBRE SOLO, COM USO DE TELA Q-159. AF_09/2021 | D74: SINAPI | E74: KG | F74: 15.87 | G74: 15.85 | H74: 251.54
A75: 4.4.1.6 | B75: 97096 | C75: CONCRETAGEM DE RADIER, PISO DE CONCRETO OU LAJE SOBRE SOLO, FCK 30 MPA - LANÇAMENTO, ADENSAMENTO E ACABAMENTO. AF_09/2021 | D75: SINAPI | E75: M3 | F75: 1.72 | G75: 691.56 | H75: 1189.48
A76: 4.4.1.7 | B76: 97097 | C76: ACABAMENTO POLIDO PARA PISO DE CONCRETO ARMADO OU LAJE SOBRE SOLO DE ALTA RESISTÊNCIA. AF_09/2021 | D76: SINAPI | E76: M2 | F76: 5.15 | G76: 34.29 | H76: 176.59
A77: 4.4.2 | B77: LAJE DE COBERTURA - CASA DE GÁS | F77: 1 | G77: 2120.13 | H77: =SUM(H78:H82) -> 2120.13
A78: 4.4.2.1 | B78: 92538 | C78: MONTAGEM E DESMONTAGEM DE FÔRMA DE LAJE MACIÇA, PÉ-DIREITO SIMPLES, EM CHAPA DE MADEIRA COMPENSADA PLASTIFICADA, 18 UTILIZAÇÕES. AF_09/2020 | D78: SINAPI | E78: M2 | F78: 16.11 | G78: 33.36 | H78: 537.43
A79: 4.4.2.2 | B79: 92769 | C79: ARMAÇÃO DE LAJE DE ESTRUTURA CONVENCIONAL DE CONCRETO ARMADO UTILIZANDO AÇO CA-50 DE 6,3 MM - MONTAGEM. AF_06/2022 | D79: SINAPI | E79: KG | F79: 0.83 | G79: 12.81 | H79: 10.63
A80: 4.4.2.3 | B80: 92770 | C80: ARMAÇÃO DE LAJE DE ESTRUTURA CONVENCIONAL DE CONCRETO ARMADO UTILIZANDO AÇO CA-50 DE 8,0 MM - MONTAGEM. AF_06/2022 | D80: SINAPI | E80: KG | F80: 12.4 | G80: 11.86 | H80: 147.06
A81: 4.4.2.4 | B81: 92768 | C81: ARMAÇÃO DE LAJE DE ESTRUTURA CONVENCIONAL DE CONCRETO ARMADO UTILIZANDO AÇO CA-60 DE 5,0 MM - MONTAGEM. AF_06/2022 | D81: SINAPI | E81: KG | F81: 24.59 | G81: 13.85 | H81: 340.57
A82: 4.4.2.5 | B82: FNDE 240 | C82: CONCRETAGEM DE VIGAS E LAJES, FCK=30 MPA, PARA LAJES MACIÇAS OU NERVURADAS COM USO DE BOMBA - LANÇAMENTO, ADENSAMENTO E ACABAMENTO. | D82: PRÓPRIA | E82: M3 | F82: 1.46 | G82: 742.77 | H82: 1084.44
A83: 4.5 | C83: ESTRUTURA METÁLICA | F83: 1 | G83: 166862.67 | H83: =SUM(H84:H87) -> 166862.67
A84: 4.5.1 | B84: FNDE 607 | C84: ESTRUTURA TRELIÇADA DE COBERTURA, INCLUSOS PERFIS METÁLICOS, CHAPA METÁLICAS, MÃO DE OBRA E TRANSPORTE COM GUINDASTE - FORNECIMENTO E INSTALAÇÃO | D84: PRÓPRIA | E84: KG | F84: 12515.5 | G84: 11.89 | H84: 148809.3
A85: 4.5.2 | B85: 100723 | C85: PINTURA COM TINTA ALQUÍDICA DE FUNDO E ACABAMENTO (ESMALTE SINTÉTICO GRAFITE) PULVERIZADA SOBRE PERFIL METÁLICO EXECUTADO EM FÁBRICA (POR DEMÃO). AF_01/2020_PE | D85: SINAPI | E85: M2 | F85: 826.84 | G85: 14.21 | H85: 11749.4
A86: 4.5.3 | B86: 100719 | C86: PINTURA COM TINTA ALQUÍDICA DE FUNDO (TIPO ZARCÃO) PULVERIZADA SOBRE PERFIL METÁLICO EXECUTADO EM FÁBRICA (POR DEMÃO). AF_01/2020_PE | D86: SINAPI | E86: M2 | F86: 240.06 | G86: 13.23 | H86: 3175.99
A87: 4.5.4 | B87: 100739 | C87: PINTURA COM TINTA ALQUÍDICA DE ACABAMENTO (ESMALTE SINTÉTICO ACETINADO) PULVERIZADA SOBRE PERFIL METÁLICO EXECUTADO EM FÁBRICA (POR DEMÃO). AF_01/2020_PE | D87: SINAPI | E87: M2 | F87: 240.06 | G87: 13.03 | H87: 3127.98
A88: 5 | C88: SISTEMA DE VEDAÇÃO VERTICAL | F88: 1 | G88: 95347.75 | H88: 95347.75
A89: 5.1 | B89: ELEMENTOS VAZADOS | F89: 1 | G89: 1148.93 | H89: 1148.93
A90: 5.1.1 | B90: 101161 | C90: ALVENARIA DE VEDAÇÃO COM ELEMENTO VAZADO DE CONCRETO (COBOGÓ) DE 7X50X50CM E ARGAMASSA DE ASSENTAMENTO COM PREPARO EM BETONEIRA. AF_05/2020 | D90: SINAPI | E90: M2 | F90: 4.8 | G90: 239.36 | H90: 1148.93
A91: 5.2 | B91: ALVENARIA DE VEDAÇÃO | F91: 1 | G91: 80218.42 | H91: 80218.42
A92: 5.2.1 | B92: 103368 | C92: ALVENARIA DE VEDAÇÃO DE BLOCOS CERÂMICOS FURADOS NA HORIZONTAL DE 14X19X39 CM (ESPESSURA 14 CM) E ARGAMASSA DE ASSENTAMENTO COM PREPARO EM BETONEIRA. AF_12/2021 | D92: SINAPI | E92: M2 | F92: 632.97 | G92: 70.79 | H92: 44807.95
A93: 5.2.2 | B93: 103364 | C93: ALVENARIA DE VEDAÇÃO DE BLOCOS CERÂMICOS FURADOS NA HORIZONTAL DE 9X19X39 CM (ESPESSURA 9 CM) E ARGAMASSA DE ASSENTAMENTO COM PREPARO EM BETONEIRA. AF_12/2021 | D93: SINAPI | E93: M2 | F93: 538.37 | G93: 52.05 | H93: 28022.16
A94: 5.2.3 | B94: 103328 | C94: ALVENARIA DE VEDAÇÃO DE BLOCOS CERÂMICOS FURADOS NA HORIZONTAL DE 9X19X19 CM (ESPESSURA 9 CM) E ARGAMASSA DE ASSENTAMENTO COM PREPARO EM BETONEIRA. AF_12/2021 | D94: SINAPI | E94: M2 | F94: 11.62 | G94: 98.08 | H94: 1139.69
A95: 5.2.4 | B95: 101159 | C95: ALVENARIA DE VEDAÇÃO DE BLOCOS CERÂMICOS MACIÇOS DE 5X10X20CM (ESPESSURA 10CM) E ARGAMASSA DE ASSENTAMENTO COM PREPARO EM BETONEIRA. AF_05/2020 | D95: SINAPI | E95: M2 | F95: 9.56 | G95: 139.69 | H95: 1335.44
A96: 5.2.5 | B96: 93200 | C96: FIXAÇÃO (ENCUNHAMENTO) DE ALVENARIA DE VEDAÇÃO COM ARGAMASSA APLICADA COM BISNAGA. AF_03/2024 | D96: SINAPI | E96: M | F96: 386.56 | G96: 12.71 | H96: 4913.18
A97: 5.3 | B97: CONCRETO ARMADO PARA VERGAS | F97: 1 | G97: 6326.06 | H97: 6326.06
A98: 5.3.1 | B98: 105024 | C98: VERGA MOLDADA IN LOCO EM CONCRETO, ESPESSURA DE *10* CM. AF_03/2024 | D98: SINAPI | E98: M | F98: 36.18 | G98: 58.88 | H98: 2130.28
A99: 5.3.2 | B99: 105023 | C99: VERGA MOLDADA IN LOCO EM CONCRETO, ESPESSURA DE *15* CM. AF_03/2024 | D99: SINAPI | E99: M | F99: 1 | G99: 71.55 | H99: 71.55
A100: 5.3.3 | B100: 105030 | C100: CONTRAVERGA MOLDADA IN LOCO EM CONCRETO, ESPESSURA DE *10* CM. AF_03/2024 | D100: SINAPI | E100: M | F100: 48.5 | G100: 45.73 | H100: 2217.91
A101: 5.3.4 | B101: 105029 | C101: CONTRAVERGA MOLDADA IN LOCO EM CONCRETO, ESPESSURA DE *15* CM. AF_03/2024 | D101: SINAPI | E101: M | F101: 35.25 | G101: 54.08 | H101: 1906.32
A102: 5.4 | B102: DIVISÓRIAS | F102: 1 | G102: 7654.34 | H102: 7654.34
...
