Workbook

Sheet Planilha Orçamentária
E1: Prefeitura Municipal de Morada Nova de Minas
E2: Av. Cel. Sebastião Pereira M. e Castro, 315, Centro - CEP 35628000
E3: CNPJ 18.296.665/0001-50
A5: PLANILHA ORÇAMENTÁRIA
A7: PREFEITURA: PREFEITURA MUNICIPAL DE MORADA NOVA DE MINAS
A8: OBRA: ASSENTAMENTO DE ADUELAS CÓRREGO PALMEIRAS E NA GROTA CAPELINHA - PONTE DO RIACHO, ALFORGEZ E ARROZAL | H8: DATA: 15/06/2026
A9: LOCAL: REGIÃO DO TRAÇADAL E LAGOINHA | G9: FORMA DE EXECUÇÃO
A10: REGIÃO/MÊS DE REFERÊNCIA: SETOP - R. CENTRAL - JAN. 2026/SINAPI - MARÇO 2026 - SEM DESONERAÇÃO | G10: ( ) | H10: DIRETA | I10: ( X ) | J10: INDIRETA
A11: PRAZO DE EXECUÇÃO: 12 MÊSES | G11: ART: | I11: BDI: | J11: 0.2951 | K11: 1.2951
A13: ASSENTAMENTO DE ADUELA CÓRREGO PALMEIRAS
A14: ITEM | B14: FONTE | D14: CÓDIGO | E14: DESCRIÇÃO | F14: UNIDADE | G14: QUANTIDADE | H14: CUSTO UNITÁRIO SEM BDI (R$) | I14: PREÇO UNITÁRIO COM BDI (R$) | J14: PREÇO TOTAL (R$)
A15: 1 | E15: SERVIÇOS PRELIMINARES | I15: SUB-TOTAL | J15: =SUM(J16:J23) -> 35199.26
A16: 1.1 | B16: SETOP | D16: ED-16350 | E16: LOCAÇÃO DE CONTAINER COM ISOLAMENTO TÉRMICO, TIPO 3, PARA DEPÓSITO/FERRAMENTARIA DE OBRA, COM MEDIDAS REFERENCIAIS DE (6) METROS COMPRIMENTO, (2,3) METROS LARGURA E (2,5) METROS ALTURA ÚTIL INTERNA, INCLUSIVE LIGAÇÕES ELÉTRICAS INTERNAS, EXCLUSIVE MOBILIZAÇÃO/ DESMOBILIZAÇÃO E LIGAÇÕES PROVISÓRIAS EXTERNAS | F16: MÊS | G16: 2 | H16: 858.6 | I16: =H16*1.2951 -> 1111.9729 | J16: =TRUNC(I16*G16,2) -> 2223.94
A17: 1.2 | B17: SETOP | D17: ED-50137 | E17: MOBILIZAÇÃO E DESMOBILIZAÇÃO DE CONTAINER, INCLUSIVE CARGA, DESCARGA E TRANSPORTE EM CAMINHÃO CARROCERIA COM GUINDAUTO (MUNCK), EXCLUSIVE LOCAÇÃO DO CONTAINER | F17: UN | G17: 1 | H17: 1702.32 | I17: =H17*1.2951 -> 2204.6746 | J17: =TRUNC(I17*G17,2) -> 2204.67
A18: 1.3 | B18: SETOP | D18: ED-48485 | E18: REMOÇÃO MANUAL DE PISO DE TÁBUAS, COM REAPROVEITAMENTO, INCLUSIVE AFASTAMENTO E EMPILHAMENTO, EXCLUSIVE TRANSPORTE E RETIRADA DO MATERIAL REMOVIDO NÃO REAPROVEITÁVEL | F18: M2 | G18: =3.5*12.6 -> 44.1 | H18: 30.58 | I18: =H18*1.2951 -> 39.604158 | J18: =TRUNC(I18*G18,2) -> 1746.54
A19: 1.4 | B19: SETOP | D19: ED-28427 | E19: FORNECIMENTO E COLOCAÇÃO DE PLACA DE OBRA EM CHAPA GALVANIZADA #26, ESP. 0,45MM, DIMENSÃO (3X1,5)M, PLOTADA COM ADESIVO VINÍLICO, AFIXADA COM REBITES 4,8X40MM, EM ESTRUTURA METÁLICA DE METALON 20X20MM, ESP. 1,25MM, INCLUSIVE SUPORTE EM EUCALIPTO AUTOCLAVADO PINTADO COM TINTA PVA DUAS (2) DEMÃOS | F19: UN | G19: 1 | H19: 1206.72 | I19: =H19*1.2951 -> 1562.8231 | J19: =TRUNC(I19*G19,2) -> 1562.82
A20: 1.5 | B20: SINAPI | D20: 99059 | E20: LOCAÇÃO CONVENCIONAL DE OBRA, UTILIZANDO GABARITO DE TÁBUAS CORRIDAS PONTALETADAS A CADA 2,00M - 2 UTILIZAÇÕES. AF_03/2024 | F20: M | G20: =10*8.3 -> 83 | H20: 77.74 | I20: =H20*1.2951 -> 100.68107 | J20: =TRUNC(I20*G20,2) -> 8356.52 | K20: LOCAÇÃO DA OBRA
A21: 1.6 | B21: SINAPI | D21: 93421 | E21: GRUPO GERADOR REBOCÁVEL, POTÊNCIA 66 KVA, MOTOR A DIESEL - CHP DIURNO. AF_03/2016 | F21: H | G21: 40 | H21: 91.89 | I21: =H21*1.2951 -> 119.00674 | J21: =TRUNC(I21*G21,2) -> 4760.26
A22: 1.7 | B22: SINAPI | D22: 5875 | E22: RETROESCAVADEIRA SOBRE RODAS COM CARREGADEIRA, TRAÇÃO 4X4, POTÊNCIA LÍQ. 72 HP, CAÇAMBA CARREG. CAP. MÍN. 0,79 M3, CAÇAMBA RETRO CAP. 0,18 M3, PESO OPERACIONAL MÍN. 7.140 KG, PROFUNDIDADE ESCAVAÇÃO MÁX. 4,50 M - CHP DIURNO. AF_06/2014 | F22: CHP | G22: 50 | H22: 159.92 | I22: =H22*1.2951 -> 207.11239 | J22: =TRUNC(I22*G22,2) -> 10355.61 | K22: LIMPEZA E PREPARAÇÃO DO TERRENO
A23: 1.8 | B23: CP | D23: 1 | E23: TRANSPORTE PLUVIAL | F23: DIA | G23: =22*2*2 -> 88 | H23: 35 | I23: =H23*1.2951 -> 45.3285 | J23: =TRUNC(I23*G23,2) -> 3988.9
A24: 2 | E24: INFRAESTRUTURA (ESTACA E BLOCO) | I24: SUB-TOTAL | J24: =SUM(J25:J29) -> 30106.777
A25: 2.1 | B25: SETOP | D25: RO-00218 | E25: ESCAVAÇÃO MANUAL DE VALA EM MATERIAL DE 1ª CATEGORIA NA PROFUNDIDADE DE 0 A 1,50 M | F25: M3 | G25: =(1.6*0.5*(3.55+3.3+3.55))*2 -> 16.64 | H25: 89.59 | I25: =H25*$K$11 -> 116.02801 | J25: =I25*G25 -> 1930.7061 | K25: ESCAVAÇÃO BLOCO
A26: 2.2 | B26: SETOP | D26: ED-29801 | E26: PERFURAÇÃO MANUAL DE ESTACA TIPO BROCA A TRADO, INCLUSIVE AFASTAMENTO, EXCLUSIVE ARMAÇÃO, CONCRETO ESTRUTURAL, TRANSPORTE E RETIRADA DO MATERIAL ESCAVADO | F26: M3 | G26: =(3.14*0.15^2)*3*8 -> 1.6956 | H26: 276.67 | I26: =H26*$K$11 -> 358.31532 | J26: =I26*G26 -> 607.55945 | K26: ESCAVAÇÃO ESTACA
A27: 2.3 | B27: SETOP | D27: ED-51123 | E27: REGULARIZAÇÃO MANUAL E COMPACTAÇÃO MECANIZADA DE TERRENO COM PLACA VIBRATÓRIA, EXCLUSIVE DESMATAMENTO, DESTOCAMENTO, LIMPEZA/ROÇADA DO TERRENO | F27: M2 | G27: =(1.6*(3.55+3.3+3.55))*2 -> 33.28 | H27: 6.1 | I27: =H27*$K$11 -> 7.90011 | J27: =I27*G27 -> 262.91566 | K27: Regularização e compactação DO BLOCO
A28: 2.4 | B28: SETOP | D28: RO-00542 | E28: ARMAÇÃO DE AÇO CA-50 PARA OBRAS DE ARTES ESPECIAIS - FORNECIMENTO, PREPARO E COLOCAÇÃO | F28: KG | G28: =(((70*3.8*2)+(20*10.4*2))*0.617)+((5*3.1*8)*0.617)+((25*0.84*8)*0.154) -> 687.296 | H28: 10.35 | I28: =H28*$K$11 -> 13.404285 | J28: =I28*G28 -> 9212.7115 | K28: estaca e bloco
A29: 2.5 | B29: SETOP | D29: ED-49632 | E29: FORNECIMENTO DE CONCRETO ESTRUTURAL, USINADO, COM FCK 35MPA, INCLUSIVE LANÇAMENTO, ADENSAMENTO E ACABAMENTO | F29: M3 | G29: =(3.14*0.15^2*3*8)+((0.5*1.6*(3.55+3.3+3.55))*2) -> 18.3356 | H29: 761.92 | I29: =H29*$K$11 -> 986.76259 | J29: =I29*G29 -> 18092.884 | K29: estaca e bloco
A30: 3 | E30: SUPERESTRUTURA | J30: =SUM(J31:J37) -> 95653.484
A31: 3.1 | B31: SETOP | D31: ED-51123 | E31: REGULARIZAÇÃO MANUAL E COMPACTAÇÃO MECANIZADA DE TERRENO COM PLACA VIBRATÓRIA, EXCLUSIVE DESMATAMENTO, DESTOCAMENTO, LIMPEZA/ROÇADA DO TERRENO | F31: M2 | G31: 30.28 | H31: 6.1 | I31: =H31*1.2951 -> 7.90011 | J31: =I31*G31 -> 239.21533 | K31: REGULARIZAÇÃO E COMPACTAÇÃO DO BERÇO
A32: 3.2 | B32: SETOP | D32: ED-49632 | E32: FORNECIMENTO DE CONCRETO ESTRUTURAL, USINADO, COM FCK 35MPA, INCLUSIVE LANÇAMENTO, ADENSAMENTO E ACABAMENTO | F32: M3 | G32: =(30.28*0.1)+(((3.55*4.1*0.2)*4)+((3.3*0.7*0.2)*2)) -> 15.596 | H32: 761.92 | I32: =H32*1.2951 -> 986.76259 | J32: =I32*G32 -> 15389.549 | K32: Berço das aduelas, cortina
A33: 3.3 | B33: SETOP | D33: RO-00542 | E33: ARMAÇÃO DE AÇO CA-50 PARA OBRAS DE ARTES ESPECIAIS - FORNECIMENTO, PREPARO E COLOCAÇÃO | F33: KG | G33: 752.68 | H33: 10.35 | I33: =H33*1.2951 -> 13.404285 | J33: =I33*G33 -> 10089.137 | K33: cortina, pilar e viga
A34: 3.4 | B34: SETOP | D34: ED-15690 | E34: FÔRMA E DESFORMA PARA CORTINA DE CONCRETO OU PAREDE ESTRUTURAL (VIGA-PAREDE), ALTURA MÁXIMA DE 360CM, COM CHAPA DE COMPENSADO PLASTIFICADO, ESP. 18MM, REAPROVEITAMENTO (3X), INCLUSIVE TRAVAMENTO COM TIRANTES EM ARAME E ESCORA PARA PRUMO EM MADEIRA | F34: M2 | G34: 119.08 | H34: 146.63 | I34: =H34*1.2951 -> 189.90051 | J34: =I34*G34 -> 22613.353 | K34: cortina
A35: 3.5 | B35: SINAPI | D35: 104497 | E35: ADUELA/ GALERIA FECHADA PRE-MOLDADA DE CONCRETO ARMADO, SECAO QUADRANGULAR INTERNA DE 3,00 X 3,00 M (L X A), MISULA DE 20 X 20 CM, C = 1,00 M, ESPESSURA MIN = 20 CM, TB-45 E FCK DO CONCRETO = 30MPA FORNECIMENTO E ASSENTAMENTO. AF_01/2023 | F35: M | G35: 4 | H35: 8198.05 | I35: =H35*1.2951 -> 10617.295 | J35: =I35*G35 -> 42469.178
A36: 3.6 | B36: SETOP | D36: RO-00856 | E36: CARGA, MANOBRA E DESCARGA DE MATERIAIS DIVERSOS EM CAMINHÃO CARROCERIA DE 15 T - CARGA E DESCARGA COM CAMINHÃO GUINDAUTO DE 20 T.M | F36: T | G36: =(((12*1*0.15)*2500)/1000)*4 -> 18 | H36: 36.46 | I36: =H36*1.2951 -> 47.219346 | J36: =I36*G36 -> 849.94823
A37: 3.7 | B37: SINAPI | D37: 106685 | E37: TRANSPORTE COM CAMINHÃO CARROCERIA 15T DE 10 M³, EM VIA URBANA PAVIMENTADA, ADICIONAL PARA DMT EXCEDENTE A 30 KM (UNIDADE: TXKM). AF_02/2026 | F37: TXKM | G37: =18*212 -> 3816 | H37: 0.81 | I37: =H37*1.2951 -> 1.049031 | J37: =I37*G37 -> 4003.1023
A38: 4 | E38: SERVIÇO COMPLEMENTARES | I38: SUB-TOTAL | J38: =SUM(J39:J40) -> 2675.99
A39: 4.1 | B39: SETOP | D39: RO-00050 | E39: ESCAVAÇÃO, CARGA E TRANSPORTE DE MATERIAL DE 1ª CATEGORIA - EXECUTADO COM ESCAVADEIRA DE 1,40 M3 E CAMINHÃO BASCULANTE DE 12 M3 E COM CAMINHO DE SERVIÇO EM LEITO NATURAL - DMT DE 800 A 1.000 M | F39: M3 | G39: 203.16 | H39: 9.05 | I39: =H39*1.2951 -> 11.720655 | J39: =TRUNC(I39*G39,2) -> 2381.16 | K39: ESCAVAÇÃO, CARGA E TRANSPORTE DE MATERIAL PARA ATERRO
A40: 4.2 | B40: SETOP | D40: ED-51124 | E40: REGULARIZAÇÃO E COMPACTAÇÃO MECÂNICA DE TERRENO COM ROLO VIBRATÓRIO, EXCLUSIVE DESMATAMENTO, DESTOCAMENTO, LIMPEZA/ROÇADA DO TERRENO | F40: M2 | G40: 79.6 | H40: 2.86 | I40: =H40*1.2951 -> 3.703986 | J40: =TRUNC(I40*G40,2) -> 294.83 | K40: ESPALHAMENTO E COMPATAÇÃO
A42: SUB TOTAL | J42: =J15+J38+J30+J24 -> 163635.51
A43: ASSENTAMENTO ADUELA GROTA CAPELINHA
A44: ='ADUELA CAPELINHA'!A14 -> 1 | E44: ='ADUELA CAPELINHA'!E14 -> SERVIÇOS PRELIMINARES | I44: ='ADUELA CAPELINHA'!I14 -> SUB-TOTAL | J44: ='ADUELA CAPELINHA'!J14 -> 28106.67
A45: ='ADUELA CAPELINHA'!A15 -> 1.1 | B45: ='ADUELA CAPELINHA'!B15 -> SETOP | D45: ='ADUELA CAPELINHA'!D15 -> ED-16350 | E45: ='ADUELA CAPELINHA'!E15 -> LOCAÇÃO DE CONTAINER COM ISOLAMENTO TÉRMICO, TIPO 3, PARA DEPÓSITO/FERRAMENTARIA DE OBRA, COM MEDIDAS REFERENCIAIS DE (6) METROS COMPRIMENTO, (2,3) METROS LARGURA E (2,5) METROS ALTURA ÚTIL INTERNA, INCLUSIVE LIGAÇÕES ELÉTRICAS INTERNAS, EXCLUSIVE MOBILIZAÇÃO/ DESMOBILIZAÇÃO E LIGAÇÕES PROVISÓRIAS EXTERNAS | F45: ='ADUELA CAPELINHA'!F15 -> MÊS | G45: ='ADUELA CAPELINHA'!G15 -> 2 | H45: ='ADUELA CAPELINHA'!H15 -> 858.6 | I45: ='ADUELA CAPELINHA'!I15 -> 1111.9729 | J45: ='ADUELA CAPELINHA'!J15 -> 2223.94
A46: ='ADUELA CAPELINHA'!A16 -> 1.2 | B46: ='ADUELA CAPELINHA'!B16 -> SETOP | D46: ='ADUELA CAPELINHA'!D16 -> ED-50137 | E46: ='ADUELA CAPELINHA'!E16 -> MOBILIZAÇÃO E DESMOBILIZAÇÃO DE CONTAINER, INCLUSIVE CARGA, DESCARGA E TRANSPORTE EM CAMINHÃO CARROCERIA COM GUINDAUTO (MUNCK), EXCLUSIVE LOCAÇÃO DO CONTAINER | F46: ='ADUELA CAPELINHA'!F16 -> UN | G46: ='ADUELA CAPELINHA'!G16 -> 1 | H46: ='ADUELA CAPELINHA'!H16 -> 1702.32 | I46: ='ADUELA CAPELINHA'!I16 -> 2204.6746 | J46: ='ADUELA CAPELINHA'!J16 -> 2204.67
A47: ='ADUELA CAPELINHA'!A17 -> 1.3 | B47: ='ADUELA CAPELINHA'!B17 -> SETOP | D47: ='ADUELA CAPELINHA'!D17 -> ED-48485 | E47: ='ADUELA CAPELINHA'!E17 -> REMOÇÃO MANUAL DE PISO DE TÁBUAS, COM REAPROVEITAMENTO, INCLUSIVE AFASTAMENTO E EMPILHAMENTO, EXCLUSIVE TRANSPORTE E RETIRADA DO MATERIAL REMOVIDO NÃO REAPROVEITÁVEL | F47: ='ADUELA CAPELINHA'!F17 -> M2 | G47: ='ADUELA CAPELINHA'!G17 -> 19.25 | H47: ='ADUELA CAPELINHA'!H17 -> 30.58 | I47: ='ADUELA CAPELINHA'!I17 -> 39.604158 | J47: ='ADUELA CAPELINHA'!J17 -> 762.38
A48: ='ADUELA CAPELINHA'!A18 -> 1.4 | B48: ='ADUELA CAPELINHA'!B18 -> SETOP | D48: ='ADUELA CAPELINHA'!D18 -> ED-28427 | E48: ='ADUELA CAPELINHA'!E18 -> FORNECIMENTO E COLOCAÇÃO DE PLACA DE OBRA EM CHAPA GALVANIZADA #26, ESP. 0,45MM, DIMENSÃO (3X1,5)M, PLOTADA COM ADESIVO VINÍLICO, AFIXADA COM REBITES 4,8X40MM, EM ESTRUTURA METÁLICA DE METALON 20X20MM, ESP. 1,25MM, INCLUSIVE SUPORTE EM EUCALIPTO AUTOCLAVADO PINTADO COM TINTA PVA DUAS (2) DEMÃOS | F48: ='ADUELA CAPELINHA'!F18 -> UN | G48: ='ADUELA CAPELINHA'!G18 -> 1 | H48: ='ADUELA CAPELINHA'!H18 -> 1206.72 | I48: ='ADUELA CAPELINHA'!I18 -> 1562.8231 | J48: ='ADUELA CAPELINHA'!J18 -> 1562.82
A49: ='ADUELA CAPELINHA'!A19 -> 1.5 | B49: ='ADUELA CAPELINHA'!B19 -> SINAPI | D49: ='ADUELA CAPELINHA'!D19 -> 99059 | E49: ='ADUELA CAPELINHA'!E19 -> LOCAÇÃO CONVENCIONAL DE OBRA, UTILIZANDO GABARITO DE TÁBUAS CORRIDAS PONTALETADAS A CADA 2,00M - 2 UTILIZAÇÕES. AF_03/2024 | F49: ='ADUELA CAPELINHA'!F19 -> M | G49: ='ADUELA CAPELINHA'!G19 -> 42.9 | H49: ='ADUELA CAPELINHA'!H19 -> 77.74 | I49: ='ADUELA CAPELINHA'!I19 -> 100.68107 | J49: ='ADUELA CAPELINHA'!J19 -> 4319.21
A50: ='ADUELA CAPELINHA'!A20 -> 1.6 | B50: ='ADUELA CAPELINHA'!B20 -> SINAPI | D50: ='ADUELA CAPELINHA'!D20 -> 93421 | E50: ='ADUELA CAPELINHA'!E20 -> GRUPO GERADOR REBOCÁVEL, POTÊNCIA 66 KVA, MOTOR A DIESEL - CHP DIURNO. AF_03/2016 | F50: ='ADUELA CAPELINHA'!F20 -> H | G50: ='ADUELA CAPELINHA'!G20 -> 40 | H50: ='ADUELA CAPELINHA'!H20 -> 91.89 | I50: ='ADUELA CAPELINHA'!I20 -> 119.00674 | J50: ='ADUELA CAPELINHA'!J20 -> 4760.26
A51: ='ADUELA CAPELINHA'!A21 -> 1.7 | B51: ='ADUELA CAPELINHA'!B21 -> SINAPI | D51: ='ADUELA CAPELINHA'!D21 -> 5875 | E51: ='ADUELA CAPELINHA'!E21 -> RETROESCAVADEIRA SOBRE RODAS COM CARREGADEIRA, TRAÇÃO 4X4, POTÊNCIA LÍQ. 72 HP, CAÇAMBA CARREG. CAP. MÍN. 0,79 M3, CAÇAMBA RETRO CAP. 0,18 M3, PESO OPERACIONAL MÍN. 7.140 KG, PROFUNDIDADE ESCAVAÇÃO MÁX. 4,50 M - CHP DIURNO. AF_06/2014 | F51: ='ADUELA CAPELINHA'!F21 -> CHP | G51: ='ADUELA CAPELINHA'!G21 -> 40 | H51: ='ADUELA CAPELINHA'!H21 -> 159.92 | I51: ='ADUELA CAPELINHA'!I21 -> 207.11239 | J51: ='ADUELA CAPELINHA'!J21 -> 8284.49
A52: ='ADUELA CAPELINHA'!A22 -> 1.8 | B52: ='ADUELA CAPELINHA'!B22 -> CP | D52: ='ADUELA CAPELINHA'!D22 -> 1 | E52: ='ADUELA CAPELINHA'!E22 -> TRANSPORTE PLUVIAL | F52: ='ADUELA CAPELINHA'!F22 -> DIA | G52: ='ADUELA CAPELINHA'!G22 -> 88 | H52: ='ADUELA CAPELINHA'!H22 -> 35 | I52: ='ADUELA CAPELINHA'!I22 -> 45.3285 | J52: ='ADUELA CAPELINHA'!J22 -> 3988.9
A53: ='ADUELA CAPELINHA'!A23 -> 2 | E53: ='ADUELA CAPELINHA'!E23 -> INFRAESTRUTURA (ESTACA E BLOCO) | I53: ='ADUELA CAPELINHA'!I23 -> SUB-TOTAL | J53: ='ADUELA CAPELINHA'!J23 -> 14754.251
A54: ='ADUELA CAPELINHA'!A24 -> 2.1 | B54: ='ADUELA CAPELINHA'!B24 -> SETOP | D54: ='ADUELA CAPELINHA'!D24 -> RO-00218 | E54: ='ADUELA CAPELINHA'!E24 -> ESCAVAÇÃO MANUAL DE VALA EM MATERIAL DE 1ª CATEGORIA NA PROFUNDIDADE DE 0 A 1,50 M | F54: ='ADUELA CAPELINHA'!F24 -> M3 | G54: ='ADUELA CAPELINHA'!G24 -> 8.762 | H54: ='ADUELA CAPELINHA'!H24 -> 89.59 | I54: ='ADUELA CAPELINHA'!I24 -> 116.02801 | J54: ='ADUELA CAPELINHA'!J24 -> 1016.6374
A55: ='ADUELA CAPELINHA'!A25 -> 2.2 | B55: ='ADUELA CAPELINHA'!B25 -> SETOP | D55: ='ADUELA CAPELINHA'!D25 -> ED-29801 | E55: ='ADUELA CAPELINHA'!E25 -> PERFURAÇÃO MANUAL DE ESTACA TIPO BROCA A TRADO, INCLUSIVE AFASTAMENTO, EXCLUSIVE ARMAÇÃO, CONCRETO ESTRUTURAL, TRANSPORTE E RETIRADA DO MATERIAL ESCAVADO | F55: ='ADUELA CAPELINHA'!F25 -> M3 | G55: ='ADUELA CAPELINHA'!G25 -> 1.6956 | H55: ='ADUELA CAPELINHA'!H25 -> 276.67 | I55: ='ADUELA CAPELINHA'!I25 -> 358.31532 | J55: ='ADUELA CAPELINHA'!J25 -> 607.55945
A56: ='ADUELA CAPELINHA'!A26 -> 2.3 | B56: ='ADUELA CAPELINHA'!B26 -> SETOP | D56: ='ADUELA CAPELINHA'!D26 -> ED-51123 | E56: ='ADUELA CAPELINHA'!E26 -> REGULARIZAÇÃO MANUAL E COMPACTAÇÃO MECANIZADA DE TERRENO COM PLACA VIBRATÓRIA, EXCLUSIVE DESMATAMENTO, DESTOCAMENTO, LIMPEZA/ROÇADA DO TERRENO | F56: ='ADUELA CAPELINHA'!F26 -> M2 | G56: ='ADUELA CAPELINHA'!G26 -> 17.524 | H56: ='ADUELA CAPELINHA'!H26 -> 6.1 | I56: ='ADUELA CAPELINHA'!I26 -> 7.90011 | J56: ='ADUELA CAPELINHA'!J26 -> 138.44153
A57: ='ADUELA CAPELINHA'!A27 -> 2.4 | B57: ='ADUELA CAPELINHA'!B27 -> SETOP | D57: ='ADUELA CAPELINHA'!D27 -> RO-00542 | E57: ='ADUELA CAPELINHA'!E27 -> ARMAÇÃO DE AÇO CA-50 PARA OBRAS DE ARTES ESPECIAIS - FORNECIMENTO, PREPARO E COLOCAÇÃO | F57: ='ADUELA CAPELINHA'!F27 -> KG | G57: ='ADUELA CAPELINHA'!G27 -> 199.3724 | H57: ='ADUELA CAPELINHA'!H27 -> 10.35 | I57: ='ADUELA CAPELINHA'!I27 -> 13.404285 | J57: ='ADUELA CAPELINHA'!J27 -> 2672.4445
A58: ='ADUELA CAPELINHA'!A28 -> 2.5 | B58: ='ADUELA CAPELINHA'!B28 -> SETOP | D58: ='ADUELA CAPELINHA'!D28 -> ED-49632 | E58: ='ADUELA CAPELINHA'!E28 -> FORNECIMENTO DE CONCRETO ESTRUTURAL, USINADO, COM FCK 35MPA, INCLUSIVE LANÇAMENTO, ADENSAMENTO E ACABAMENTO | F58: ='ADUELA CAPELINHA'!F28 -> M3 | G58: ='ADUELA CAPELINHA'!G28 -> 10.4576 | H58: ='ADUELA CAPELINHA'!H28 -> 761.92 | I58: ='ADUELA CAPELINHA'!I28 -> 986.76259 | J58: ='ADUELA CAPELINHA'!J28 -> 10319.168
A59: ='ADUELA CAPELINHA'!A29 -> 3 | E59: ='ADUELA CAPELINHA'!E29 -> SUPERESTRUTURA | I59: ='ADUELA CAPELINHA'!I29 -> SUB-TOTAL | J59: ='ADUELA CAPELINHA'!J29 -> 68675.963
A60: ='ADUELA CAPELINHA'!A30 -> 3.1 | B60: ='ADUELA CAPELINHA'!B30 -> SETOP | D60: ='ADUELA CAPELINHA'!D30 -> ED-51123 | E60: ='ADUELA CAPELINHA'!E30 -> REGULARIZAÇÃO MANUAL E COMPACTAÇÃO MECANIZADA DE TERRENO COM PLACA VIBRATÓRIA, EXCLUSIVE DESMATAMENTO, DESTOCAMENTO, LIMPEZA/ROÇADA DO TERRENO | F60: ='ADUELA CAPELINHA'!F30 -> M2 | G60: ='ADUELA CAPELINHA'!G30 -> 31.8 | H60: ='ADUELA CAPELINHA'!H30 -> 6.1 | I60: ='ADUELA CAPELINHA'!I30 -> 7.90011 | J60: ='ADUELA CAPELINHA'!J30 -> 251.2235
A61: ='ADUELA CAPELINHA'!A31 -> 3.2 | B61: ='ADUELA CAPELINHA'!B31 -> SETOP | D61: ='ADUELA CAPELINHA'!D31 -> ED-49632 | E61: ='ADUELA CAPELINHA'!E31 -> FORNECIMENTO DE CONCRETO ESTRUTURAL, USINADO, COM FCK 35MPA, INCLUSIVE LANÇAMENTO, ADENSAMENTO E ACABAMENTO | F61: ='ADUELA CAPELINHA'!F31 -> M3 | G61: ='ADUELA CAPELINHA'!G31 -> 9.716 | H61: ='ADUELA CAPELINHA'!H31 -> 761.92 | I61: ='ADUELA CAPELINHA'!I31 -> 986.76259 | J61: ='ADUELA CAPELINHA'!J31 -> 9587.3853
A62: ='ADUELA CAPELINHA'!A32 -> 3.3 | B62: ='ADUELA CAPELINHA'!B32 -> SETOP | D62: ='ADUELA CAPELINHA'!D32 -> RO-00542 | E62: ='ADUELA CAPELINHA'!E32 -> ARMAÇÃO DE AÇO CA-50 PARA OBRAS DE ARTES ESPECIAIS - FORNECIMENTO, PREPARO E COLOCAÇÃO | F62: ='ADUELA CAPELINHA'!F32 -> KG | G62: ='ADUELA CAPELINHA'!G32 -> 527.8472 | H62: ='ADUELA CAPELINHA'!H32 -> 10.35 | I62: ='ADUELA CAPELINHA'!I32 -> 13.404285 | J62: ='ADUELA CAPELINHA'!J32 -> 7075.4143
A63: ='ADUELA CAPELINHA'!A33 -> 3.4 | B63: ='ADUELA CAPELINHA'!B33 -> SETOP | D63: ='ADUELA CAPELINHA'!D33 -> ED-15690 | E63: ='ADUELA CAPELINHA'!E33 -> FÔRMA E DESFORMA PARA CORTINA DE CONCRETO OU PAREDE ESTRUTURAL (VIGA-PAREDE), ALTURA MÁXIMA DE 360CM, COM CHAPA DE COMPENSADO PLASTIFICADO, ESP. 18MM, REAPROVEITAMENTO (3X), INCLUSIVE TRAVAMENTO COM TIRANTES EM ARAME E ESCORA PARA PRUMO EM MADEIRA | F63: ='ADUELA CAPELINHA'!F33 -> M2 | G63: ='ADUELA CAPELINHA'!G33 -> 64.8 | H63: ='ADUELA CAPELINHA'!H33 -> 146.63 | I63: ='ADUELA CAPELINHA'!I33 -> 189.90051 | J63: ='ADUELA CAPELINHA'!J33 -> 12305.553
A64: ='ADUELA CAPELINHA'!A34 -> 3.5 | B64: ='ADUELA CAPELINHA'!B34 -> SINAPI | D64: ='ADUELA CAPELINHA'!D34 -> 104494 | E64: ='ADUELA CAPELINHA'!E34 -> ADUELA/ GALERIA FECHADA PRE-MOLDADA DE CONCRETO ARMADO, SECAO QUADRANGULAR INTERNA DE 2,50 X 2,50 M (L X A), MISULA DE 20 X 20 CM, C = 1,00 M, ESPESSURA MIN = 15 CM, TB-45 E FCK DO CONCRETO = 30 MPA FORNECIMENTO E ASSENTAMENTO. AF_01/2023 | F64: ='ADUELA CAPELINHA'!F34 -> M | G64: ='ADUELA CAPELINHA'!G34 -> 4 | H64: ='ADUELA CAPELINHA'!H34 -> 6835.8 | I64: ='ADUELA CAPELINHA'!I34 -> 8853.0446 | J64: ='ADUELA CAPELINHA'!J34 -> 35412.178
A65: ='ADUELA CAPELINHA'!A35 -> 3.6 | B65: ='ADUELA CAPELINHA'!B35 -> SETOP | D65: ='ADUELA CAPELINHA'!D35 -> RO-00856 | E65: ='ADUELA CAPELINHA'!E35 -> CARGA, MANOBRA E DESCARGA DE MATERIAIS DIVERSOS EM CAMINHÃO CARROCERIA DE 15 T - CARGA E DESCARGA COM CAMINHÃO GUINDAUTO DE 20 T.M | F65: ='ADUELA CAPELINHA'!F35 -> T | G65: ='ADUELA CAPELINHA'!G35 -> 15 | H65: ='ADUELA CAPELINHA'!H35 -> 36.46 | I65: ='ADUELA CAPELINHA'!I35 -> 47.219346 | J65: ='ADUELA CAPELINHA'!J35 -> 708.29019
A66: ='ADUELA CAPELINHA'!A36 -> 3.7 | B66: ='ADUELA CAPELINHA'!B36 -> SINAPI | D66: ='ADUELA CAPELINHA'!D36 -> 106685 | E66: ='ADUELA CAPELINHA'!E36 -> TRANSPORTE COM CAMINHÃO CARROCERIA 15T DE 10 M³, EM VIA URBANA PAVIMENTADA, ADICIONAL PARA DMT EXCEDENTE A 30 KM (UNIDADE: TXKM). AF_02/2026 | F66: ='ADUELA CAPELINHA'!F36 -> TXKM | G66: ='ADUELA CAPELINHA'!G36 -> 3180 | H66: ='ADUELA CAPELINHA'!H36 -> 0.81 | I66: ='ADUELA CAPELINHA'!I36 -> 1.049031 | J66: ='ADUELA CAPELINHA'!J36 -> 3335.9186
A67: ='ADUELA CAPELINHA'!A37 -> 4 | E67: ='ADUELA CAPELINHA'!E37 -> SERVIÇO COMPLEMENTARES | I67: ='ADUELA CAPELINHA'!I37 -> SUB-TOTAL | J67: ='ADUELA CAPELINHA'!J37 -> 2886.55
A68: ='ADUELA CAPELINHA'!A38 -> 4.1 | B68: ='ADUELA CAPELINHA'!B38 -> SETOP | D68: ='ADUELA CAPELINHA'!D38 -> RO-00050 | E68: ='ADUELA CAPELINHA'!E38 -> ESCAVAÇÃO, CARGA E TRANSPORTE DE MATERIAL DE 1ª CATEGORIA - EXECUTADO COM ESCAVADEIRA DE 1,40 M3 E CAMINHÃO BASCULANTE DE 12 M3 E COM CAMINHO DE SERVIÇO EM LEITO NATURAL - DMT DE 800 A 1.000 M | F68: ='ADUELA CAPELINHA'!F38 -> M3 | G68: ='ADUELA CAPELINHA'!G38 -> 174.48 | H68: ='ADUELA CAPELINHA'!H38 -> 9.05 | I68: ='ADUELA CAPELINHA'!I38 -> 11.720655 | J68: ='ADUELA CAPELINHA'!J38 -> 2045.01
A69: ='ADUELA CAPELINHA'!A39 -> 4.2 | B69: ='ADUELA CAPELINHA'!B39 -> SETOP | D69: ='ADUELA CAPELINHA'!D39 -> ED-51124 | E69: ='ADUELA CAPELINHA'!E39 -> REGULARIZAÇÃO E COMPACTAÇÃO MECÂNICA DE TERRENO COM ROLO VIBRATÓRIO, EXCLUSIVE DESMATAMENTO, DESTOCAMENTO, LIMPEZA/ROÇADA DO TERRENO | F69: ='ADUELA CAPELINHA'!F39 -> M2 | G69: ='ADUELA CAPELINHA'!G39 -> 227.2 | H69: ='ADUELA CAPELINHA'!H39 -> 2.86 | I69: ='ADUELA CAPELINHA'!I39 -> 3.703986 | J69: ='ADUELA CAPELINHA'!J39 -> 841.54
A71: ='ADUELA CAPELINHA'!A41 -> SUB-TOTAL | J71: ='ADUELA CAPELINHA'!J41 -> 114423.43
A72: PONTE RIACHO
A73: ='PONTE RIACHO'!A14 -> 1 | E73: ='PONTE RIACHO'!E14 -> SERVIÇOS PRELIMINARES | I73: ='PONTE RIACHO'!I14 -> SUB-TOTAL | J73: ='PONTE RIACHO'!J14 -> 29879.27
A74: ='PONTE RIACHO'!A15 -> 1.1 | B74: ='PONTE RIACHO'!B15 -> SETOP | D74: ='PONTE RIACHO'!D15 -> ED-16350 | E74: ='PONTE RIACHO'!E15 -> LOCAÇÃO DE CONTAINER COM ISOLAMENTO TÉRMICO, TIPO 3, PARA DEPÓSITO/FERRAMENTARIA DE OBRA, COM MEDIDAS REFERENCIAIS DE (6) METROS COMPRIMENTO, (2,3) METROS LARGURA E (2,5) METROS ALTURA ÚTIL INTERNA, INCLUSIVE LIGAÇÕES ELÉTRICAS INTERNAS, EXCLUSIVE MOBILIZAÇÃO/ DESMOBILIZAÇÃO E LIGAÇÕES PROVISÓRIAS EXTERNAS | F74: ='PONTE RIACHO'!F15 -> MÊS | G74: ='PONTE RIACHO'!G15 -> 3 | H74: ='PONTE RIACHO'!H15 -> 858.6 | I74: ='PONTE RIACHO'!I15 -> 1111.9729 | J74: ='PONTE RIACHO'!J15 -> 3335.91
A75: ='PONTE RIACHO'!A16 -> 1.2 | B75: ='PONTE RIACHO'!B16 -> SETOP | D75: ='PONTE RIACHO'!D16 -> ED-50137 | E75: ='PONTE RIACHO'!E16 -> MOBILIZAÇÃO E DESMOBILIZAÇÃO DE CONTAINER, INCLUSIVE CARGA, DESCARGA E TRANSPORTE EM CAMINHÃO CARROCERIA COM GUINDAUTO (MUNCK), EXCLUSIVE LOCAÇÃO DO CONTAINER | F75: ='PONTE RIACHO'!F16 -> UN | G75: ='PONTE RIACHO'!G16 -> 1 | H75: ='PONTE RIACHO'!H16 -> 1702.32 | I75: ='PONTE RIACHO'!I16 -> 2204.6746 | J75: ='PONTE RIACHO'!J16 -> 2204.67
A76: ='PONTE RIACHO'!A17 -> 1.3 | B76: ='PONTE RIACHO'!B17 -> SETOP | D76: ='PONTE RIACHO'!D17 -> ED-48485 | E76: ='PONTE RIACHO'!E17 -> REMOÇÃO MANUAL DE PISO DE TÁBUAS, COM REAPROVEITAMENTO, INCLUSIVE AFASTAMENTO E EMPILHAMENTO, EXCLUSIVE TRANSPORTE E RETIRADA DO MATERIAL REMOVIDO NÃO REAPROVEITÁVEL | F76: ='PONTE RIACHO'!F17 -> M2 | G76: ='PONTE RIACHO'!G17 -> 32 | H76: ='PONTE RIACHO'!H17 -> 30.58 | I76: ='PONTE RIACHO'!I17 -> 39.604158 | J76: ='PONTE RIACHO'!J17 -> 1267.33
A77: ='PONTE RIACHO'!A18 -> 1.4 | B77: ='PONTE RIACHO'!B18 -> SETOP | D77: ='PONTE RIACHO'!D18 -> ED-28427 | E77: ='PONTE RIACHO'!E18 -> FORNECIMENTO E COLOCAÇÃO DE PLACA DE OBRA EM CHAPA GALVANIZADA #26, ESP. 0,45MM, DIMENSÃO (3X1,5)M, PLOTADA COM ADESIVO VINÍLICO, AFIXADA COM REBITES 4,8X40MM, EM ESTRUTURA METÁLICA DE METALON 20X20MM, ESP. 1,25MM, INCLUSIVE SUPORTE EM EUCALIPTO AUTOCLAVADO PINTADO COM TINTA PVA DUAS (2) DEMÃOS | F77: ='PONTE RIACHO'!F18 -> UN | G77: ='PONTE RIACHO'!G18 -> 1 | H77: ='PONTE RIACHO'!H18 -> 1206.72 | I77: ='PONTE RIACHO'!I18 -> 1562.8231 | J77: ='PONTE RIACHO'!J18 -> 1562.82
A78: ='PONTE RIACHO'!A19 -> 1.5 | B78: ='PONTE RIACHO'!B19 -> SINAPI | D78: ='PONTE RIACHO'!D19 -> 99059 | E78: ='PONTE RIACHO'!E19 -> LOCAÇÃO CONVENCIONAL DE OBRA, UTILIZANDO GABARITO DE TÁBUAS CORRIDAS PONTALETADAS A CADA 2,00M - 2 UTILIZAÇÕES. AF_03/2024 | F78: ='PONTE RIACHO'!F19 -> M | G78: ='PONTE RIACHO'!G19 -> 36 | H78: ='PONTE RIACHO'!H19 -> 77.74 | I78: ='PONTE RIACHO'!I19 -> 100.68107 | J78: ='PONTE RIACHO'!J19 -> 3624.51
A79: ='PONTE RIACHO'!A20 -> 1.6 | B79: ='PONTE RIACHO'!B20 -> SINAPI | D79: ='PONTE RIACHO'!D20 -> 93421 | E79: ='PONTE RIACHO'!E20 -> GRUPO GERADOR REBOCÁVEL, POTÊNCIA 66 KVA, MOTOR A DIESEL - CHP DIURNO. AF_03/2016 | F79: ='PONTE RIACHO'!F20 -> H | G79: ='PONTE RIACHO'!G20 -> 100 | H79: ='PONTE RIACHO'!H20 -> 91.89 | I79: ='PONTE RIACHO'!I20 -> 119.00674 | J79: ='PONTE RIACHO'!J20 -> 11900.67
A80: ='PONTE RIACHO'!A21 -> 1.7 | B80: ='PONTE RIACHO'!B21 -> CP | D80: ='PONTE RIACHO'!D21 -> 1 | E80: ='PONTE RIACHO'!E21 -> TRANSPORTE FLUVIAL | F80: ='PONTE RIACHO'!F21 -> DIA | G80: ='PONTE RIACHO'!G21 -> 132 | H80: ='PONTE RIACHO'!H21 -> 35 | I80: ='PONTE RIACHO'!I21 -> 45.3285 | J80: ='PONTE RIACHO'!J21 -> 5983.36
A81: ='PONTE RIACHO'!A22 -> 2 | E81: ='PONTE RIACHO'!E22 -> MESOESTRUTURA (TRANSVERSINAS) | I81: ='PONTE RIACHO'!I22 -> SUB-TOTAL | J81: ='PONTE RIACHO'!J22 -> 7209.518
A82: ='PONTE RIACHO'!A23 -> 2.1 | B82: ='PONTE RIACHO'!B23 -> SETOP | D82: ='PONTE RIACHO'!D23 -> ED-49664 | E82: ='PONTE RIACHO'!E23 -> FORNECIMENTO DE ESTRUTURA METÁLICA EM PERFIL LAMINADO, INCLUSIVE FABRICAÇÃO, TRANSPORTE, MONTAGEM E APLICAÇÃO DE FUNDO PREPARADOR ANTICORROSIVO EM SUPERFÍCIE METÁLICA, UMA (1) DEMÃO | F82: ='PONTE RIACHO'!F23 -> KG | G82: ='PONTE RIACHO'!G23 -> 182.25 | H82: ='PONTE RIACHO'!H23 -> 29.42 | I82: ='PONTE RIACHO'!I23 -> 38.101842 | J82: ='PONTE RIACHO'!J23 -> 6944.0607
A83: ='PONTE RIACHO'!A24 -> 2.3. | B83: ='PONTE RIACHO'!B24 -> SETOP | D83: ='PONTE RIACHO'!D24 -> ED-50495 | E83: ='PONTE RIACHO'!E24 -> PINTURA ESMALTE BASE SOLVENTE EM SUPERFÍCIES METÁLICAS , DUAS (2) DEMÃOS, COM APLICAÇÃO MANUAL, INCLUSIVE UMA (1) DEMÃO DE FUNDO ANTICORROSIVO | F83: ='PONTE RIACHO'!F24 -> M2 | G83: ='PONTE RIACHO'!G24 -> 5.67 | H83: ='PONTE RIACHO'!H24 -> 36.15 | I83: ='PONTE RIACHO'!I24 -> 46.817865 | J83: ='PONTE RIACHO'!J24 -> 265.45729
A84: ='PONTE RIACHO'!A25 -> 3 | E84: ='PONTE RIACHO'!E25 -> SUPERESTRUTURA | I84: ='PONTE RIACHO'!I25 -> SUB-TOTAL | J84: ='PONTE RIACHO'!J25 -> 35655.59
A85: ='PONTE RIACHO'!A26 -> 3.1 | B85: ='PONTE RIACHO'!B26 -> SETOP | D85: ='PONTE RIACHO'!D26 -> RO-00542 | E85: ='PONTE RIACHO'!E26 -> ARMAÇÃO DE AÇO CA-50 PARA OBRAS DE ARTES ESPECIAIS - FORNECIMENTO, PREPARO E COLOCAÇÃO | F85: ='PONTE RIACHO'!F26 -> KG | G85: ='PONTE RIACHO'!G26 -> 1145.695 | H85: ='PONTE RIACHO'!H26 -> 10.77 | I85: ='PONTE RIACHO'!I26 -> 13.948227 | J85: ='PONTE RIACHO'!J26 -> 15980.41
A86: ='PONTE RIACHO'!A27 -> 3.2 | B86: ='PONTE RIACHO'!B27 -> SETOP | D86: ='PONTE RIACHO'!D27 -> RO-01089 | E86: ='PONTE RIACHO'!E27 -> TELHA-FÔRMA EM AÇO GAÇVANIZADO ASTM A653 GRAU 40- E= 1,25MM - FORNECIMENTO E INSTALAÇÃO | F86: ='PONTE RIACHO'!F27 -> M2 | G86: ='PONTE RIACHO'!G27 -> 40.5 | H86: ='PONTE RIACHO'!H27 -> 215.68 | I86: ='PONTE RIACHO'!I27 -> 279.32717 | J86: ='PONTE RIACHO'!J27 -> 11312.75
A87: ='PONTE RIACHO'!A28 -> 3.3 | B87: ='PONTE RIACHO'!B28 -> SETOP | D87: ='PONTE RIACHO'!D28 -> ED-49632 | E87: ='PONTE RIACHO'!E28 -> FORNECIMENTO DE CONCRETO ESTRUTURAL, USINADO, COM FCK 35MPA, INCLUSIVE LANÇAMENTO, ADENSAMENTO E ACABAMENTO | F87: ='PONTE RIACHO'!F28 -> M3 | G87: ='PONTE RIACHO'!G28 -> 8.1 | H87: ='PONTE RIACHO'!H28 -> 783.22 | I87: ='PONTE RIACHO'!I28 -> 1014.3482 | J87: ='PONTE RIACHO'!J28 -> 8216.22
A88: ='PONTE RIACHO'!A29 -> 3.4 | B88: ='PONTE RIACHO'!B29 -> SICRO | D88: ='PONTE RIACHO'!D29 -> 2007971 | E88: ='PONTE RIACHO'!E29 -> DRENO DE PVC D=100MM PARA OAE - FORNECIMENTO E INSTALAÇÃO | F88: ='PONTE RIACHO'!F29 -> M | G88: ='PONTE RIACHO'!G29 -> 1.2 | H88: ='PONTE RIACHO'!H29 -> 94.08 | I88: ='PONTE RIACHO'!I29 -> 121.84301 | J88: ='PONTE RIACHO'!J29 -> 146.21
A89: ='PONTE RIACHO'!A30 -> 4 | E89: ='PONTE RIACHO'!E30 -> SERVIÇO COMPLEMENTARES | I89: ='PONTE RIACHO'!I30 -> SUB-TOTAL | J89: ='PONTE RIACHO'!J30 -> 38324.34
A90: ='PONTE RIACHO'!A31 -> 4.1 | B90: ='PONTE RIACHO'!B31 -> SETOP | D90: ='PONTE RIACHO'!D31 -> ED-20478 | E90: ='PONTE RIACHO'!E31 -> PERFIL "UDC" ENRIJECIDO DOBRADO DE CHAPA (MATERIAL: AÇO PATINÁVEL|DIMENSÕES: 200X75X20MM|ESPESSURA: 2,25MM|MASSA LINEAR: 6,66KG/M) - FORNECIMENTO, EXCLUSIVE SERVIÇO DE MONTAGEM/INSTALAÇÃO. | F90: ='PONTE RIACHO'!F31 -> M | G90: ='PONTE RIACHO'!G31 -> 99 | H90: ='PONTE RIACHO'!H31 -> 64.53 | I90: ='PONTE RIACHO'!I31 -> 83.572803 | J90: ='PONTE RIACHO'!J31 -> 8273.7
A91: ='PONTE RIACHO'!A32 -> 4.2 | B91: ='PONTE RIACHO'!B32 -> SETOP | D91: ='PONTE RIACHO'!D32 -> ED-50495 | E91: ='PONTE RIACHO'!E32 -> PINTURA ESMALTE BASE SOLVENTE EM SUPERFÍCIES METÁLICAS , DUAS (2) DEMÃOS, COM APLICAÇÃO MANUAL, INCLUSIVE UMA (1) DEMÃO DE FUNDO ANTICORROSIVO | F91: ='PONTE RIACHO'!F32 -> M2 | G91: ='PONTE RIACHO'!G32 -> 34.65 | H91: ='PONTE RIACHO'!H32 -> 36.15 | I91: ='PONTE RIACHO'!I32 -> 46.817865 | J91: ='PONTE RIACHO'!J32 -> 1622.23
A92: ='PONTE RIACHO'!A33 -> 4.3 | B92: ='PONTE RIACHO'!B33 -> SETOP | D92: ='PONTE RIACHO'!D33 -> ED-49664 | E92: ='PONTE RIACHO'!E33 -> FORNECIMENTO DE ESTRUTURA METÁLICA EM PERFIL LAMINADO, INCLUSIVE FABRICAÇÃO, TRANSPORTE, MONTAGEM E APLICAÇÃO DE FUNDO PREPARADOR ANTICORROSIVO EM SUPERFÍCIE METÁLICA, UMA (1) DEMÃO | F92: ='PONTE RIACHO'!F33 -> KG | G92: ='PONTE RIACHO'!G33 -> 294.624 | H92: ='PONTE RIACHO'!H33 -> 29.42 | I92: ='PONTE RIACHO'!I33 -> 38.101842 | J92: ='PONTE RIACHO'!J33 -> 11225.71
A93: ='PONTE RIACHO'!A34 -> 4.4 | B93: ='PONTE RIACHO'!B34 -> SETOP | D93: ='PONTE RIACHO'!D34 -> ED-50428 | E93: ='PONTE RIACHO'!E34 -> LANÇAMENTO DE VIGA PARA PONTE, EXCLUSIVE FORNECIMENTO , DESCARGA E TRANSPORTE - PROJETO PADRÃO SEINFRA-MG | F93: ='PONTE RIACHO'!F34 -> KG | G93: ='PONTE RIACHO'!G34 -> 2880 | H93: ='PONTE RIACHO'!H34 -> 1.73 | I93: ='PONTE RIACHO'!I34 -> 2.240523 | J93: ='PONTE RIACHO'!J34 -> 6452.7
A94: ='PONTE RIACHO'!A35 -> 4.5 | B94: ='PONTE RIACHO'!B35 -> SETOP | D94: ='PONTE RIACHO'!D35 -> ED-29091 | E94: ='PONTE RIACHO'!E35 -> TRANSPORTE DE VIGA OU TABULEIRO PARA PONTE (CUSTO FIXO ), INCLUSIVE CARGA, EXCLUSIVE FORNECIMENTO , DESCARGA E TRANSPORTE EM QUILÔMETRO RODADO (CUSTO VARIÁVEL) | F94: ='PONTE RIACHO'!F35 -> UN | G94: ='PONTE RIACHO'!G35 -> 9 | H94: ='PONTE RIACHO'!H35 -> 922.28 | I94: ='PONTE RIACHO'!I35 -> 1194.4448 | J94: ='PONTE RIACHO'!J35 -> 10750
A96: ='PONTE RIACHO'!A38 -> SUB-TOTAL | J96: ='PONTE RIACHO'!J38 -> 111068.72
A97: PONTE ALFORGES
A98: 1 | E98: SERVIÇOS PRELIMINARES | I98: SUB-TOTAL | J98: 28563.67
A99: 1.1 | B99: SETOP | D99: ED-16350 | E99: LOCAÇÃO DE CONTAINER COM ISOLAMENTO TÉRMICO, TIPO 3, PARA DEPÓSITO/FERRAMENTARIA DE OBRA, COM MEDIDAS REFERENCIAIS DE (6) METROS COMPRIMENTO, (2,3) METROS LARGURA E (2,5) METROS ALTURA ÚTIL INTERNA, INCLUSIVE LIGAÇÕES ELÉTRICAS INTERNAS, EXCLUSIVE MOBILIZAÇÃO/ DESMOBILIZAÇÃO E LIGAÇÕES PROVISÓRIAS EXTERNAS | F99: MÊS | G99: 3 | H99: 858.6 | I99: 1111.9729 | J99: 3335.91
A100: 1.2 | B100: SETOP | D100: ED-50137 | E100: MOBILIZAÇÃO E DESMOBILIZAÇÃO DE CONTAINER, INCLUSIVE CARGA, DESCARGA E TRANSPORTE EM CAMINHÃO CARROCERIA COM GUINDAUTO (MUNCK), EXCLUSIVE LOCAÇÃO DO CONTAINER | F100: UN | G100: 1 | H100: 1702.32 | I100: 2204.6746 | J100: 2204.67
A101: 1.3 | B101: SETOP | D101: ED-48485 | E101: REMOÇÃO MANUAL DE PISO DE TÁBUAS, COM REAPROVEITAMENTO, INCLUSIVE AFASTAMENTO E EMPILHAMENTO, EXCLUSIVE TRANSPORTE E RETIRADA DO MATERIAL REMOVIDO NÃO REAPROVEITÁVEL | F101: M2 | G101: 36 | H101: 30.58 | I101: 39.604158 | J101: 1425.74
A102: 1.4 | B102: SETOP | D102: ED-28427 | E102: FORNECIMENTO E COLOCAÇÃO DE PLACA DE OBRA EM CHAPA GALVANIZADA #26, ESP. 0,45MM, DIMENSÃO (3X1,5)M, PLOTADA COM ADESIVO VINÍLICO, AFIXADA COM REBITES 4,8X40MM, EM ESTRUTURA METÁLICA DE METALON 20X20MM, ESP. 1,25MM, INCLUSIVE SUPORTE EM EUCALIPTO AUTOCLAVADO PINTADO COM TINTA PVA DUAS (2) DEMÃOS | F102: UN | G102: 1 | H102: 1206.72 | I102: 1562.8231 | J102: 1562.82
A103: 1.5 | B103: SINAPI | D103: 99059 | E103: LOCAÇÃO CONVENCIONAL DE OBRA, UTILIZANDO GABARITO DE TÁBUAS CORRIDAS PONTALETADAS A CADA 2,00M - 2 UTILIZAÇÕES. AF_03/2024 | F103: M | G103: 45 | H103: 77.74 | I103: 100.68107 | J103: 4530.64
A104: 1.6 | B104: SINAPI | D104: 93421 | E104: GRUPO GERADOR REBOCÁVEL, POTÊNCIA 66 KVA, MOTOR A DIESEL - CHP DIURNO. AF_03/2016 | F104: H | G104: 80 | H104: 91.89 | I104: 119.00674 | J104: 9520.53
A105: 1.7 | B105: CP | D105: 1 | E105: TRANSPORTE FLUVIAL | F105: DIA | G105: 132 | H105: 35 | I105: 45.3285 | J105: 5983.36
A106: 2 | E106: MESOESTRUTURA (TRANSVERSINAS) | J106: 7209.518
...

Sheet ADUELA CAPELINHA
E1: Prefeitura Municipal de Morada Nova de Minas
E2: Av. Cel. Sebastião Pereira M. e Castro, 315, Centro - CEP 35628000
E3: CNPJ 18.296.665/0001-50
A5: PLANILHA ORÇAMENTÁRIA
A7: PREFEITURA: PREFEITURA MUNICIPAL DE MORADA NOVA DE MINAS
A8: OBRA: ASSENTAMENTO DE ADUELAS CAPELINHA | H8: DATA: 15/06/2026
A9: LOCAL: PASSAGEM REGIÃO CAPELINHA - LAT.: 18º33'3.22"S - LONG.: 45º30'34.44"O | G9: FORMA DE EXECUÇÃO
A10: REGIÃO/MÊS DE REFERÊNCIA: SETOP - R. CENTRAL - JAN. 2026/SINAPI - MARÇO 2026 - SEM DESONERAÇÃO | G10: ( ) | H10: DIRETA | I10: ( X ) | J10: INDIRETA
A11: PRAZO DE EXECUÇÃO: 2 MÊSES | G11: ART: | I11: BDI: | J11: 0.2951 | K11: 1.2951
A13: ITEM | B13: FONTE | D13: CÓDIGO | E13: DESCRIÇÃO | F13: UNIDADE | G13: QUANTIDADE | H13: CUSTO UNITÁRIO SEM BDI (R$) | I13: PREÇO UNITÁRIO COM BDI (R$) | J13: PREÇO TOTAL (R$)
A14: 1 | E14: SERVIÇOS PRELIMINARES | I14: SUB-TOTAL | J14: =SUM(J15:J22) -> 28106.67
A15: 1.1 | B15: SETOP | D15: ED-16350 | E15: LOCAÇÃO DE CONTAINER COM ISOLAMENTO TÉRMICO, TIPO 3, PARA DEPÓSITO/FERRAMENTARIA DE OBRA, COM MEDIDAS REFERENCIAIS DE (6) METROS COMPRIMENTO, (2,3) METROS LARGURA E (2,5) METROS ALTURA ÚTIL INTERNA, INCLUSIVE LIGAÇÕES ELÉTRICAS INTERNAS, EXCLUSIVE MOBILIZAÇÃO/ DESMOBILIZAÇÃO E LIGAÇÕES PROVISÓRIAS EXTERNAS | F15: MÊS | G15: 2 | H15: 858.6 | I15: =H15*1.2951 -> 1111.9729 | J15: =TRUNC(I15*G15,2) -> 2223.94
A16: 1.2 | B16: SETOP | D16: ED-50137 | E16: MOBILIZAÇÃO E DESMOBILIZAÇÃO DE CONTAINER, INCLUSIVE CARGA, DESCARGA E TRANSPORTE EM CAMINHÃO CARROCERIA COM GUINDAUTO (MUNCK), EXCLUSIVE LOCAÇÃO DO CONTAINER | F16: UN | G16: 1 | H16: 1702.32 | I16: =H16*1.2951 -> 2204.6746 | J16: =TRUNC(I16*G16,2) -> 2204.67
A17: 1.3 | B17: SETOP | D17: ED-48485 | E17: REMOÇÃO MANUAL DE PISO DE TÁBUAS, COM REAPROVEITAMENTO, INCLUSIVE AFASTAMENTO E EMPILHAMENTO, EXCLUSIVE TRANSPORTE E RETIRADA DO MATERIAL REMOVIDO NÃO REAPROVEITÁVEL | F17: M2 | G17: =3.5*5.5 -> 19.25 | H17: 30.58 | I17: =H17*1.2951 -> 39.604158 | J17: =TRUNC(I17*G17,2) -> 762.38
A18: 1.4 | B18: SETOP | D18: ED-28427 | E18: FORNECIMENTO E COLOCAÇÃO DE PLACA DE OBRA EM CHAPA GALVANIZADA #26, ESP. 0,45MM, DIMENSÃO (3X1,5)M, PLOTADA COM ADESIVO VINÍLICO, AFIXADA COM REBITES 4,8X40MM, EM ESTRUTURA METÁLICA DE METALON 20X20MM, ESP. 1,25MM, INCLUSIVE SUPORTE EM EUCALIPTO AUTOCLAVADO PINTADO COM TINTA PVA DUAS (2) DEMÃOS | F18: UN | G18: 1 | H18: 1206.72 | I18: =H18*1.2951 -> 1562.8231 | J18: =TRUNC(I18*G18,2) -> 1562.82
A19: 1.5 | B19: SINAPI | D19: 99059 | E19: LOCAÇÃO CONVENCIONAL DE OBRA, UTILIZANDO GABARITO DE TÁBUAS CORRIDAS PONTALETADAS A CADA 2,00M - 2 UTILIZAÇÕES. AF_03/2024 | F19: M | G19: =7.8*5.5 -> 42.9 | H19: 77.74 | I19: =H19*1.2951 -> 100.68107 | J19: =TRUNC(I19*G19,2) -> 4319.21 | K19: LOCAÇÃO DA OBRA
A20: 1.6 | B20: SINAPI | D20: 93421 | E20: GRUPO GERADOR REBOCÁVEL, POTÊNCIA 66 KVA, MOTOR A DIESEL - CHP DIURNO. AF_03/2016 | F20: H | G20: 40 | H20: 91.89 | I20: =H20*1.2951 -> 119.00674 | J20: =TRUNC(I20*G20,2) -> 4760.26
A21: 1.7 | B21: SINAPI | D21: 5875 | E21: RETROESCAVADEIRA SOBRE RODAS COM CARREGADEIRA, TRAÇÃO 4X4, POTÊNCIA LÍQ. 72 HP, CAÇAMBA CARREG. CAP. MÍN. 0,79 M3, CAÇAMBA RETRO CAP. 0,18 M3, PESO OPERACIONAL MÍN. 7.140 KG, PROFUNDIDADE ESCAVAÇÃO MÁX. 4,50 M - CHP DIURNO. AF_06/2014 | F21: CHP | G21: 40 | H21: 159.92 | I21: =H21*1.2951 -> 207.11239 | J21: =TRUNC(I21*G21,2) -> 8284.49 | K21: LIMPEZA E PREPARAÇÃO DO TERRENO
A22: 1.8 | B22: CP | D22: 1 | E22: TRANSPORTE PLUVIAL | F22: DIA | G22: =22*2*2 -> 88 | H22: 35 | I22: =H22*1.2951 -> 45.3285 | J22: =TRUNC(I22*G22,2) -> 3988.9
A23: 2 | E23: INFRAESTRUTURA (ESTACA E BLOCO) | I23: SUB-TOTAL | J23: =SUM(J24:J28) -> 14754.251
A24: 2.1 | B24: SETOP | D24: RO-00218 | E24: ESCAVAÇÃO MANUAL DE VALA EM MATERIAL DE 1ª CATEGORIA NA PROFUNDIDADE DE 0 A 1,50 M | F24: M3 | G24: =(1.3*0.5*(2.12+2.12+2.5))*2 -> 8.762 | H24: 89.59 | I24: =H24*$K$11 -> 116.02801 | J24: =I24*G24 -> 1016.6374 | K24: ESCAVAÇÃO BLOCO
A25: 2.2 | B25: SETOP | D25: ED-29801 | E25: PERFURAÇÃO MANUAL DE ESTACA TIPO BROCA A TRADO, INCLUSIVE AFASTAMENTO, EXCLUSIVE ARMAÇÃO, CONCRETO ESTRUTURAL, TRANSPORTE E RETIRADA DO MATERIAL ESCAVADO | F25: M3 | G25: =(3.14*0.15^2)*3*8 -> 1.6956 | H25: 276.67 | I25: =H25*$K$11 -> 358.31532 | J25: =I25*G25 -> 607.55945 | K25: ESCAVAÇÃO ESTACA
A26: 2.3 | B26: SETOP | D26: ED-51123 | E26: REGULARIZAÇÃO MANUAL E COMPACTAÇÃO MECANIZADA DE TERRENO COM PLACA VIBRATÓRIA, EXCLUSIVE DESMATAMENTO, DESTOCAMENTO, LIMPEZA/ROÇADA DO TERRENO | F26: M2 | G26: =(1.3*(2.12+2.12+2.5))*2 -> 17.524 | H26: 6.1 | I26: =H26*$K$11 -> 7.90011 | J26: =I26*G26 -> 138.44153 | K26: Regularização e compactação DO BLOCO
A27: 2.4 | B27: SETOP | D27: RO-00542 | E27: ARMAÇÃO DE AÇO CA-50 PARA OBRAS DE ARTES ESPECIAIS - FORNECIMENTO, PREPARO E COLOCAÇÃO | F27: KG | G27: =(((5*3.1*8)+(14*3.1*2)+(16*2.2*2))*0.617)+((25*0.84*8)*0.154) -> 199.3724 | H27: 10.35 | I27: =H27*$K$11 -> 13.404285 | J27: =I27*G27 -> 2672.4445 | K27: estaca e bloco
A28: 2.5 | B28: SETOP | D28: ED-49632 | E28: FORNECIMENTO DE CONCRETO ESTRUTURAL, USINADO, COM FCK 35MPA, INCLUSIVE LANÇAMENTO, ADENSAMENTO E ACABAMENTO | F28: M3 | G28: =(3.14*0.15^2*3*8)+(0.5*1.3*(2.12+2.5+2.12)*2) -> 10.4576 | H28: 761.92 | I28: =H28*$K$11 -> 986.76259 | J28: =I28*G28 -> 10319.168 | K28: estaca e bloco
A29: 3 | E29: SUPERESTRUTURA | I29: SUB-TOTAL | J29: =SUM(J30:J36) -> 68675.963
A30: 3.1 | B30: SETOP | D30: ED-51123 | E30: REGULARIZAÇÃO MANUAL E COMPACTAÇÃO MECANIZADA DE TERRENO COM PLACA VIBRATÓRIA, EXCLUSIVE DESMATAMENTO, DESTOCAMENTO, LIMPEZA/ROÇADA DO TERRENO | F30: M2 | G30: =31.8 -> 31.8 | H30: 6.1 | I30: =H30*1.2951 -> 7.90011 | J30: =I30*G30 -> 251.2235 | K30: REGULARIZAÇÃO E COMPACTAÇÃO DO BERÇO
A31: 3.2 | B31: SETOP | D31: ED-49632 | E31: FORNECIMENTO DE CONCRETO ESTRUTURAL, USINADO, COM FCK 35MPA, INCLUSIVE LANÇAMENTO, ADENSAMENTO E ACABAMENTO | F31: M3 | G31: =(31.8*0.1)+((2.12*3.5*0.2)*4)+((2.5*0.6*0.2)*2) -> 9.716 | H31: 761.92 | I31: =H31*1.2951 -> 986.76259 | J31: =I31*G31 -> 9587.3853 | K31: Berço das aduelas, cortina
A32: 3.3 | B32: SETOP | D32: RO-00542 | E32: ARMAÇÃO DE AÇO CA-50 PARA OBRAS DE ARTES ESPECIAIS - FORNECIMENTO, PREPARO E COLOCAÇÃO | F32: KG | G32: =((((14*3.8*2)*4)+((17*0.6*2)*2)+((24*2*2)*4)+((4*2.5*2)*2))*0.395)+(((115.2+35.2)*0.617)+(224*0.154))+(((2.3*4)*4)*0.617)+((16*(0.1+0.1+0.25+0.25+0.1)*4)*0.154)+(((2.8*4)*2)*0.617)+(((18*(0.1+0.1+0.25+0.25+0.1))*2)*0.154) -> 527.8472 | H32: 10.35 | I32: =H32*1.2951 -> 13.404285 | J32: =I32*G32 -> 7075.4143 | K32: cortina, pilar e viga
A33: 3.4 | B33: SETOP | D33: ED-15690 | E33: FÔRMA E DESFORMA PARA CORTINA DE CONCRETO OU PAREDE ESTRUTURAL (VIGA-PAREDE), ALTURA MÁXIMA DE 360CM, COM CHAPA DE COMPENSADO PLASTIFICADO, ESP. 18MM, REAPROVEITAMENTO (3X), INCLUSIVE TRAVAMENTO COM TIRANTES EM ARAME E ESCORA PARA PRUMO EM MADEIRA | F33: M2 | G33: =((2.1*3.5*2)*4)+((2.5*0.6*2)*2) -> 64.8 | H33: 146.63 | I33: =H33*1.2951 -> 189.90051 | J33: =I33*G33 -> 12305.553 | K33: cortina
A34: 3.5 | B34: SINAPI | D34: 104494 | E34: ADUELA/ GALERIA FECHADA PRE-MOLDADA DE CONCRETO ARMADO, SECAO QUADRANGULAR INTERNA DE 2,50 X 2,50 M (L X A), MISULA DE 20 X 20 CM, C = 1,00 M, ESPESSURA MIN = 15 CM, TB-45 E FCK DO CONCRETO = 30 MPA FORNECIMENTO E ASSENTAMENTO. AF_01/2023 | F34: M | G34: 4 | H34: 6835.8 | I34: =H34*1.2951 -> 8853.0446 | J34: =I34*G34 -> 35412.178
A35: 3.6 | B35: SETOP | D35: RO-00856 | E35: CARGA, MANOBRA E DESCARGA DE MATERIAIS DIVERSOS EM CAMINHÃO CARROCERIA DE 15 T - CARGA E DESCARGA COM CAMINHÃO GUINDAUTO DE 20 T.M | F35: T | G35: =(((10*1*0.15)*2500)/1000)*4 -> 15 | H35: 36.46 | I35: =H35*1.2951 -> 47.219346 | J35: =I35*G35 -> 708.29019
A36: 3.7 | B36: SINAPI | D36: 106685 | E36: TRANSPORTE COM CAMINHÃO CARROCERIA 15T DE 10 M³, EM VIA URBANA PAVIMENTADA, ADICIONAL PARA DMT EXCEDENTE A 30 KM (UNIDADE: TXKM). AF_02/2026 | F36: TXKM | G36: =15*212 -> 3180 | H36: 0.81 | I36: =H36*1.2951 -> 1.049031 | J36: =I36*G36 -> 3335.9186
A37: 4 | E37: SERVIÇO COMPLEMENTARES | I37: SUB-TOTAL | J37: =SUM(J38:J39) -> 2886.55
A38: 4.1 | B38: SETOP | D38: RO-00050 | E38: ESCAVAÇÃO, CARGA E TRANSPORTE DE MATERIAL DE 1ª CATEGORIA - EXECUTADO COM ESCAVADEIRA DE 1,40 M3 E CAMINHÃO BASCULANTE DE 12 M3 E COM CAMINHO DE SERVIÇO EM LEITO NATURAL - DMT DE 800 A 1.000 M | F38: M3 | G38: =((3*7.8*3.6)*2)+(4*2.5*0.6) -> 174.48 | H38: 9.05 | I38: =H38*1.2951 -> 11.720655 | J38: =TRUNC(I38*G38,2) -> 2045.01 | K38: ESCAVAÇÃO, CARGA E TRANSPORTE DE MATERIAL PARA ATERRO
A39: 4.2 | B39: SETOP | D39: ED-51124 | E39: REGULARIZAÇÃO E COMPACTAÇÃO MECÂNICA DE TERRENO COM ROLO VIBRATÓRIO, EXCLUSIVE DESMATAMENTO, DESTOCAMENTO, LIMPEZA/ROÇADA DO TERRENO | F39: M2 | G39: =(((3*7.8)*2)+(4*2.5))*4 -> 227.2 | H39: 2.86 | I39: =H39*1.2951 -> 3.703986 | J39: =TRUNC(I39*G39,2) -> 841.54 | K39: ESPALHAMENTO E COMPATAÇÃO
A41: SUB-TOTAL | J41: =J14+J37+J29+J23 -> 114423.43
E48: Miguel César Feliciano - Eng. Civil - CREA-MG 202.020/D | G48: Hermano Álvares Francisco de Moura - Prefeito Municipal

Sheet PONTE RIACHO
E1: Prefeitura Municipal de Morada Nova de Minas
E2: Av. Cel. Sebastião Pereira M. e Castro, 315, Centro - CEP 35628000
E3: CNPJ 18.296.665/0001-50
A5: PLANILHA ORÇAMENTÁRIA
A7: PREFEITURA: PREFEITURA MUNICIPAL DE MORADA NOVA DE MINAS
A8: OBRA: Ponte de 9m | H8: DATA: 15/06/2026
A9: LOCAL: Córrego Riacho (Região Traçadal e Pindaíbas) - Lat. 18º 25' 19.77" S - Longit. 45º 28' 5.79" O | G9: FORMA DE EXECUÇÃO
A10: REGIÃO/MÊS DE REFERÊNCIA: SETOP - R. CENTRAL - JAN. 2026/SINAPI - MARÇO 2026/ SICRO - JAN. 2026 - SEM DESONERAÇÃO | G10: ( ) | H10: DIRETA | I10: ( X ) | J10: INDIRETA
A11: PRAZO DE EXECUÇÃO: 3 MÊSES | G11: ART: | I11: BDI: | J11: 0.2951
A13: ITEM | B13: FONTE | D13: CÓDIGO | E13: DESCRIÇÃO | F13: UNIDADE | G13: QUANTIDADE | H13: CUSTO UNITÁRIO SEM BDI (R$) | I13: PREÇO UNITÁRIO COM BDI (R$) | J13: PREÇO TOTAL (R$)
A14: 1 | E14: SERVIÇOS PRELIMINARES | I14: SUB-TOTAL | J14: =SUM(J15:J21) -> 29879.27
A15: 1.1 | B15: SETOP | D15: ED-16350 | E15: LOCAÇÃO DE CONTAINER COM ISOLAMENTO TÉRMICO, TIPO 3, PARA DEPÓSITO/FERRAMENTARIA DE OBRA, COM MEDIDAS REFERENCIAIS DE (6) METROS COMPRIMENTO, (2,3) METROS LARGURA E (2,5) METROS ALTURA ÚTIL INTERNA, INCLUSIVE LIGAÇÕES ELÉTRICAS INTERNAS, EXCLUSIVE MOBILIZAÇÃO/ DESMOBILIZAÇÃO E LIGAÇÕES PROVISÓRIAS EXTERNAS | F15: MÊS | G15: 3 | H15: 858.6 | I15: =H15*1.2951 -> 1111.9729 | J15: =TRUNC(I15*G15,2) -> 3335.91
A16: 1.2 | B16: SETOP | D16: ED-50137 | E16: MOBILIZAÇÃO E DESMOBILIZAÇÃO DE CONTAINER, INCLUSIVE CARGA, DESCARGA E TRANSPORTE EM CAMINHÃO CARROCERIA COM GUINDAUTO (MUNCK), EXCLUSIVE LOCAÇÃO DO CONTAINER | F16: UN | G16: 1 | H16: 1702.32 | I16: =H16*1.2951 -> 2204.6746 | J16: =TRUNC(I16*G16,2) -> 2204.67
A17: 1.3 | B17: SETOP | D17: ED-48485 | E17: REMOÇÃO MANUAL DE PISO DE TÁBUAS, COM REAPROVEITAMENTO, INCLUSIVE AFASTAMENTO E EMPILHAMENTO, EXCLUSIVE TRANSPORTE E RETIRADA DO MATERIAL REMOVIDO NÃO REAPROVEITÁVEL | F17: M2 | G17: =4*8 -> 32 | H17: 30.58 | I17: =H17*1.2951 -> 39.604158 | J17: =TRUNC(I17*G17,2) -> 1267.33
A18: 1.4 | B18: SETOP | D18: ED-28427 | E18: FORNECIMENTO E COLOCAÇÃO DE PLACA DE OBRA EM CHAPA GALVANIZADA #26, ESP. 0,45MM, DIMENSÃO (3X1,5)M, PLOTADA COM ADESIVO VINÍLICO, AFIXADA COM REBITES 4,8X40MM, EM ESTRUTURA METÁLICA DE METALON 20X20MM, ESP. 1,25MM, INCLUSIVE SUPORTE EM EUCALIPTO AUTOCLAVADO PINTADO COM TINTA PVA DUAS (2) DEMÃOS | F18: UN | G18: 1 | H18: 1206.72 | I18: =H18*1.2951 -> 1562.8231 | J18: =TRUNC(I18*G18,2) -> 1562.82
A19: 1.5 | B19: SINAPI | D19: 99059 | E19: LOCAÇÃO CONVENCIONAL DE OBRA, UTILIZANDO GABARITO DE TÁBUAS CORRIDAS PONTALETADAS A CADA 2,00M - 2 UTILIZAÇÕES. AF_03/2024 | F19: M | G19: =8*4.5 -> 36 | H19: 77.74 | I19: =H19*1.2951 -> 100.68107 | J19: =TRUNC(I19*G19,2) -> 3624.51
A20: 1.6 | B20: SINAPI | D20: 93421 | E20: GRUPO GERADOR REBOCÁVEL, POTÊNCIA 66 KVA, MOTOR A DIESEL - CHP DIURNO. AF_03/2016 | F20: H | G20: 100 | H20: 91.89 | I20: =H20*1.2951 -> 119.00674 | J20: =TRUNC(I20*G20,2) -> 11900.67 | R20: =80*0.2 -> 16
A21: 1.7 | B21: CP | D21: 1 | E21: TRANSPORTE FLUVIAL | F21: DIA | G21: 132 | H21: 35 | I21: =H21*1.2951 -> 45.3285 | J21: =TRUNC(I21*G21,2) -> 5983.36
A22: 2 | E22: MESOESTRUTURA (TRANSVERSINAS) | I22: SUB-TOTAL | J22: =SUM(J23:J24) -> 7209.518
A23: 2.1 | B23: SETOP | D23: ED-49664 | E23: FORNECIMENTO DE ESTRUTURA METÁLICA EM PERFIL LAMINADO, INCLUSIVE FABRICAÇÃO, TRANSPORTE, MONTAGEM E APLICAÇÃO DE FUNDO PREPARADOR ANTICORROSIVO EM SUPERFÍCIE METÁLICA, UMA (1) DEMÃO | F23: KG | G23: =(3*2.7)*22.5 -> 182.25 | H23: 29.42 | I23: =H23*1.2951 -> 38.101842 | J23: =I23*G23 -> 6944.0607 | K23: 22,5KG/M
A24: 2.3. | B24: SETOP | D24: ED-50495 | E24: PINTURA ESMALTE BASE SOLVENTE EM SUPERFÍCIES METÁLICAS , DUAS (2) DEMÃOS, COM APLICAÇÃO MANUAL, INCLUSIVE UMA (1) DEMÃO DE FUNDO ANTICORROSIVO | F24: M2 | G24: =((0.25+0.25+0.1+0.1)*2.7)*3 -> 5.67 | H24: 36.15 | I24: =H24*1.2951 -> 46.817865 | J24: =I24*G24 -> 265.45729
A25: 3 | E25: SUPERESTRUTURA | I25: SUB-TOTAL | J25: =SUM(J26:J29) -> 35655.59
A26: 3.1 | B26: SETOP | D26: RO-00542 | E26: ARMAÇÃO DE AÇO CA-50 PARA OBRAS DE ARTES ESPECIAIS - FORNECIMENTO, PREPARO E COLOCAÇÃO | F26: KG | G26: =((20*4.75)+(92*1.21))*9*0.617 -> 1145.695 | H26: 10.77 | I26: =H26*1.2951 -> 13.948227 | J26: =TRUNC(I26*G26,2) -> 15980.41
A27: 3.2 | B27: SETOP | D27: RO-01089 | E27: TELHA-FÔRMA EM AÇO GAÇVANIZADO ASTM A653 GRAU 40- E= 1,25MM - FORNECIMENTO E INSTALAÇÃO | F27: M2 | G27: =9*4.5 -> 40.5 | H27: 215.68 | I27: =H27*1.2951 -> 279.32717 | J27: =TRUNC(I27*G27,2) -> 11312.75
A28: 3.3 | B28: SETOP | D28: ED-49632 | E28: FORNECIMENTO DE CONCRETO ESTRUTURAL, USINADO, COM FCK 35MPA, INCLUSIVE LANÇAMENTO, ADENSAMENTO E ACABAMENTO | F28: M3 | G28: =9*4.5*0.2 -> 8.1 | H28: 783.22 | I28: =H28*1.2951 -> 1014.3482 | J28: =TRUNC(I28*G28,2) -> 8216.22
A29: 3.4 | B29: SICRO | D29: 2007971 | E29: DRENO DE PVC D=100MM PARA OAE - FORNECIMENTO E INSTALAÇÃO | F29: M | G29: 1.2 | H29: 94.08 | I29: =H29*1.2951 -> 121.84301 | J29: =TRUNC(I29*G29,2) -> 146.21 | K29: COLOCAR NO PROJETO
A30: 4 | E30: SERVIÇO COMPLEMENTARES | I30: SUB-TOTAL | J30: =SUM(J31:J35) -> 38324.34
A31: 4.1 | B31: SETOP | D31: ED-20478 | E31: PERFIL "UDC" ENRIJECIDO DOBRADO DE CHAPA (MATERIAL: AÇO PATINÁVEL|DIMENSÕES: 200X75X20MM|ESPESSURA: 2,25MM|MASSA LINEAR: 6,66KG/M) - FORNECIMENTO, EXCLUSIVE SERVIÇO DE MONTAGEM/INSTALAÇÃO. | F31: M | G31: =(4.5+1+4.5+1)*9 -> 99 | H31: 64.53 | I31: =H31*1.2951 -> 83.572803 | J31: =TRUNC(I31*G31,2) -> 8273.7
A32: 4.2 | B32: SETOP | D32: ED-50495 | E32: PINTURA ESMALTE BASE SOLVENTE EM SUPERFÍCIES METÁLICAS , DUAS (2) DEMÃOS, COM APLICAÇÃO MANUAL, INCLUSIVE UMA (1) DEMÃO DE FUNDO ANTICORROSIVO | F32: M2 | G32: =G31*0.35 -> 34.65 | H32: 36.15 | I32: =H32*1.2951 -> 46.817865 | J32: =TRUNC(I32*G32,2) -> 1622.23
A33: 4.3 | B33: SETOP | D33: ED-49664 | E33: FORNECIMENTO DE ESTRUTURA METÁLICA EM PERFIL LAMINADO, INCLUSIVE FABRICAÇÃO, TRANSPORTE, MONTAGEM E APLICAÇÃO DE FUNDO PREPARADOR ANTICORROSIVO EM SUPERFÍCIE METÁLICA, UMA (1) DEMÃO | F33: KG | G33: =(0.2*8*9)*20.46 -> 294.624 | H33: 29.42 | I33: =H33*1.2951 -> 38.101842 | J33: =TRUNC(I33*G33,2) -> 11225.71 | K33: 20,46kg/m | L33: conectores de cisalhamento
A34: 4.4 | B34: SETOP | D34: ED-50428 | E34: LANÇAMENTO DE VIGA PARA PONTE, EXCLUSIVE FORNECIMENTO , DESCARGA E TRANSPORTE - PROJETO PADRÃO SEINFRA-MG | F34: KG | G34: =(9+9+9+9)*80 -> 2880 | H34: 1.73 | I34: =H34*1.2951 -> 2.240523 | J34: =TRUNC(I34*G34,2) -> 6452.7
A35: 4.5 | B35: SETOP | D35: ED-29091 | E35: TRANSPORTE DE VIGA OU TABULEIRO PARA PONTE (CUSTO FIXO ), INCLUSIVE CARGA, EXCLUSIVE FORNECIMENTO , DESCARGA E TRANSPORTE EM QUILÔMETRO RODADO (CUSTO VARIÁVEL) | F35: UN | G35: 9 | H35: 922.28 | I35: =H35*1.2951 -> 1194.4448 | J35: =TRUNC(I35*G35,2) -> 10750
A38: SUB-TOTAL | J38: =J14+J25+J30+J22 -> 111068.72
E45: Miguel César Feliciano - Eng. Civil - CREA-MG 202.020/D | G45: Hermano Álvares Francisco de Moura - Prefeito Municipal

Sheet PONTE ALFORGES
E1: Prefeitura Municipal de Morada Nova de Minas
E2: Av. Cel. Sebastião Pereira M. e Castro, 315, Centro - CEP 35628000
E3: CNPJ 18.296.665/0001-50
A5: PLANILHA ORÇAMENTÁRIA
A7: PREFEITURA: PREFEITURA MUNICIPAL DE MORADA NOVA DE MINAS
A8: OBRA: Ponte de 10m | H8: DATA: 15/06/2026
A9: LOCAL: Córrego Alforges (Região Traçadal e Pindaíbas) - Lat. 18º 26' 57.00" S - Longit. 45º 28' 34.44" O | G9: FORMA DE EXECUÇÃO
A10: REGIÃO/MÊS DE REFERÊNCIA: SETOP - R. CENTRAL - JAN. 2026/SINAPI - MARÇO 2026/ SICRO - JAN. 2026 - SEM DESONERAÇÃO | G10: ( ) | H10: DIRETA | I10: ( X ) | J10: INDIRETA
A11: PRAZO DE EXECUÇÃO: 3 MÊSES | G11: ART: | I11: BDI: | J11: 0.2951
A13: ITEM | B13: FONTE | D13: CÓDIGO | E13: DESCRIÇÃO | F13: UNIDADE | G13: QUANTIDADE | H13: CUSTO UNITÁRIO SEM BDI (R$) | I13: PREÇO UNITÁRIO COM BDI (R$) | J13: PREÇO TOTAL (R$)
A14: 1 | E14: SERVIÇOS PRELIMINARES | I14: SUB-TOTAL | J14: =SUM(J15:J21) -> 28563.67
A15: 1.1 | B15: SETOP | D15: ED-16350 | E15: LOCAÇÃO DE CONTAINER COM ISOLAMENTO TÉRMICO, TIPO 3, PARA DEPÓSITO/FERRAMENTARIA DE OBRA, COM MEDIDAS REFERENCIAIS DE (6) METROS COMPRIMENTO, (2,3) METROS LARGURA E (2,5) METROS ALTURA ÚTIL INTERNA, INCLUSIVE LIGAÇÕES ELÉTRICAS INTERNAS, EXCLUSIVE MOBILIZAÇÃO/ DESMOBILIZAÇÃO E LIGAÇÕES PROVISÓRIAS EXTERNAS | F15: MÊS | G15: 3 | H15: 858.6 | I15: =H15*1.2951 -> 1111.9729 | J15: =TRUNC(I15*G15,2) -> 3335.91
A16: 1.2 | B16: SETOP | D16: ED-50137 | E16: MOBILIZAÇÃO E DESMOBILIZAÇÃO DE CONTAINER, INCLUSIVE CARGA, DESCARGA E TRANSPORTE EM CAMINHÃO CARROCERIA COM GUINDAUTO (MUNCK), EXCLUSIVE LOCAÇÃO DO CONTAINER | F16: UN | G16: 1 | H16: 1702.32 | I16: =H16*1.2951 -> 2204.6746 | J16: =TRUNC(I16*G16,2) -> 2204.67
A17: 1.3 | B17: SETOP | D17: ED-48485 | E17: REMOÇÃO MANUAL DE PISO DE TÁBUAS, COM REAPROVEITAMENTO, INCLUSIVE AFASTAMENTO E EMPILHAMENTO, EXCLUSIVE TRANSPORTE E RETIRADA DO MATERIAL REMOVIDO NÃO REAPROVEITÁVEL | F17: M2 | G17: =4*9 -> 36 | H17: 30.58 | I17: =H17*1.2951 -> 39.604158 | J17: =TRUNC(I17*G17,2) -> 1425.74
A18: 1.4 | B18: SETOP | D18: ED-28427 | E18: FORNECIMENTO E COLOCAÇÃO DE PLACA DE OBRA EM CHAPA GALVANIZADA #26, ESP. 0,45MM, DIMENSÃO (3X1,5)M, PLOTADA COM ADESIVO VINÍLICO, AFIXADA COM REBITES 4,8X40MM, EM ESTRUTURA METÁLICA DE METALON 20X20MM, ESP. 1,25MM, INCLUSIVE SUPORTE EM EUCALIPTO AUTOCLAVADO PINTADO COM TINTA PVA DUAS (2) DEMÃOS | F18: UN | G18: 1 | H18: 1206.72 | I18: =H18*1.2951 -> 1562.8231 | J18: =TRUNC(I18*G18,2) -> 1562.82
A19: 1.5 | B19: SINAPI | D19: 99059 | E19: LOCAÇÃO CONVENCIONAL DE OBRA, UTILIZANDO GABARITO DE TÁBUAS CORRIDAS PONTALETADAS A CADA 2,00M - 2 UTILIZAÇÕES. AF_03/2024 | F19: M | G19: =10*4.5 -> 45 | H19: 77.74 | I19: =H19*1.2951 -> 100.68107 | J19: =TRUNC(I19*G19,2) -> 4530.64
A20: 1.6 | B20: SINAPI | D20: 93421 | E20: GRUPO GERADOR REBOCÁVEL, POTÊNCIA 66 KVA, MOTOR A DIESEL - CHP DIURNO. AF_03/2016 | F20: H | G20: 80 | H20: 91.89 | I20: =H20*1.2951 -> 119.00674 | J20: =TRUNC(I20*G20,2) -> 9520.53 | R20: =80*0.2 -> 16
A21: 1.7 | B21: CP | D21: 1 | E21: TRANSPORTE FLUVIAL | F21: DIA | G21: =66*2 -> 132 | H21: 35 | I21: =H21*1.2951 -> 45.3285 | J21: =TRUNC(I21*G21,2) -> 5983.36
A22: 2 | E22: MESOESTRUTURA (TRANSVERSINAS) | J22: =SUM(J23:J24) -> 7209.518
A23: 2.1 | B23: SETOP | D23: ED-49664 | E23: FORNECIMENTO DE ESTRUTURA METÁLICA EM PERFIL LAMINADO, INCLUSIVE FABRICAÇÃO, TRANSPORTE, MONTAGEM E APLICAÇÃO DE FUNDO PREPARADOR ANTICORROSIVO EM SUPERFÍCIE METÁLICA, UMA (1) DEMÃO | F23: KG | G23: =(3*2.7)*22.5 -> 182.25 | H23: 29.42 | I23: =H23*1.2951 -> 38.101842 | J23: =I23*G23 -> 6944.0607 | K23: 22,5KG/M
A24: 2.2 | B24: SETOP | D24: ED-50495 | E24: PINTURA ESMALTE BASE SOLVENTE EM SUPERFÍCIES METÁLICAS , DUAS (2) DEMÃOS, COM APLICAÇÃO MANUAL, INCLUSIVE UMA (1) DEMÃO DE FUNDO ANTICORROSIVO | F24: M2 | G24: =((0.25+0.25+0.1+0.1)*2.7)*3 -> 5.67 | H24: 36.15 | I24: =H24*1.2951 -> 46.817865 | J24: =I24*G24 -> 265.45729
A25: 3 | E25: SUPERESTRUTURA | I25: SUB-TOTAL | J25: =SUM(J26:J29) -> 39601.07
A26: 3.1 | B26: SETOP | D26: RO-00542 | E26: ARMAÇÃO DE AÇO CA-50 PARA OBRAS DE ARTES ESPECIAIS - FORNECIMENTO, PREPARO E COLOCAÇÃO | F26: KG | G26: =((20*4.75)+(92*1.21))*10*0.617 -> 1272.9944 | H26: 10.77 | I26: =H26*1.2951 -> 13.948227 | J26: =TRUNC(I26*G26,2) -> 17756.01
A27: 3.2 | B27: SETOP | D27: RO-01089 | E27: TELHA-FÔRMA EM AÇO GAÇVANIZADO ASTM A653 GRAU 40- E= 1,25MM - FORNECIMENTO E INSTALAÇÃO | F27: M2 | G27: =10*4.5 -> 45 | H27: 215.68 | I27: =H27*1.2951 -> 279.32717 | J27: =TRUNC(I27*G27,2) -> 12569.72
A28: 3.3 | B28: SETOP | D28: ED-49632 | E28: FORNECIMENTO DE CONCRETO ESTRUTURAL, USINADO, COM FCK 35MPA, INCLUSIVE LANÇAMENTO, ADENSAMENTO E ACABAMENTO | F28: M3 | G28: =10*4.5*0.2 -> 9 | H28: 783.22 | I28: =H28*1.2951 -> 1014.3482 | J28: =TRUNC(I28*G28,2) -> 9129.13
A29: 3.4 | B29: SICRO | D29: 2007971 | E29: DRENO DE PVC D=100MM PARA OAE - FORNECIMENTO E INSTALAÇÃO | F29: M | G29: 1.2 | H29: 94.08 | I29: =H29*1.2951 -> 121.84301 | J29: =TRUNC(I29*G29,2) -> 146.21 | K29: COLOCAR NO PROJETO
A30: 4 | E30: SERVIÇO COMPLEMENTARES | I30: SUB-TOTAL | J30: =SUM(J31:J34) -> 35412.93
A31: 4.1 | B31: SETOP | D31: ED-20478 | E31: PERFIL "UDC" ENRIJECIDO DOBRADO DE CHAPA (MATERIAL: AÇO PATINÁVEL|DIMENSÕES: 200X75X20MM|ESPESSURA: 2,25MM|MASSA LINEAR: 6,66KG/M) - FORNECIMENTO, EXCLUSIVE SERVIÇO DE MONTAGEM/INSTALAÇÃO. | F31: M | G31: =(4.5+1+4.5+1)*10 -> 110 | H31: 64.53 | I31: =H31*1.2951 -> 83.572803 | J31: =TRUNC(I31*G31,2) -> 9193
A32: 4.2 | B32: SETOP | D32: ED-50495 | E32: PINTURA ESMALTE BASE SOLVENTE EM SUPERFÍCIES METÁLICAS , DUAS (2) DEMÃOS, COM APLICAÇÃO MANUAL, INCLUSIVE UMA (1) DEMÃO DE FUNDO ANTICORROSIVO | F32: M2 | G32: =(0.075+0.2+0.075)*110 -> 38.5 | H32: 36.15 | I32: =H32*1.2951 -> 46.817865 | J32: =TRUNC(I32*G32,2) -> 1802.48
A33: 4.3 | B33: SETOP | D33: ED-49664 | E33: FORNECIMENTO DE ESTRUTURA METÁLICA EM PERFIL LAMINADO, INCLUSIVE FABRICAÇÃO, TRANSPORTE, MONTAGEM E APLICAÇÃO DE FUNDO PREPARADOR ANTICORROSIVO EM SUPERFÍCIE METÁLICA, UMA (1) DEMÃO | F33: KG | G33: =(0.2*8*10)*20.46 -> 327.36 | H33: 29.42 | I33: =H33*1.2951 -> 38.101842 | J33: =TRUNC(I33*G33,2) -> 12473.01 | K33: 20,46kg/m | L33: conectores de cisalhamento
A34: 4.4 | B34: SETOP | D34: ED-29091 | E34: TRANSPORTE DE VIGA OU TABULEIRO PARA PONTE (CUSTO FIXO ), INCLUSIVE CARGA, EXCLUSIVE FORNECIMENTO , DESCARGA E TRANSPORTE EM QUILÔMETRO RODADO (CUSTO VARIÁVEL) | F34: un | G34: 10 | H34: 922.28 | I34: =H34*1.2951 -> 1194.4448 | J34: =TRUNC(I34*G34,2) -> 11944.44
A37: TOTA GERAL DA OBRA | J37: =J14+J25+J30+J22 -> 110787.19
E44: Miguel César Feliciano - Eng. Civil - CREA-MG 202.020/D | G44: Hermano Álvares Francisco de Moura - Prefeito Municipal

Sheet PONTE ARROZAL
E1: Prefeitura Municipal de Morada Nova de Minas
E2: Av. Cel. Sebastião Pereira M. e Castro, 315, Centro - CEP 35628000
E3: CNPJ 18.296.665/0001-50
A5: PLANILHA ORÇAMENTÁRIA
A7: PREFEITURA: PREFEITURA MUNICIPAL DE MORADA NOVA DE MINAS
A8: OBRA: Ponte de 12m | H8: DATA: 15/06/2026
A9: LOCAL: Córrego Arrozal (Região Traçadal e Pindaíbas) - Lat. 18º 28' 51.39" S - Longit. 45º 30' 28.26" O | G9: FORMA DE EXECUÇÃO
A10: REGIÃO/MÊS DE REFERÊNCIA: SETOP - R. CENTRAL - JAN. 2026/SINAPI - MARÇO 2026/ SICRO - JAN. 2026 - SEM DESONERAÇÃO | G10: ( ) | H10: DIRETA | I10: ( X ) | J10: INDIRETA
A11: PRAZO DE EXECUÇÃO: 3 MÊSES | G11: ART: | I11: BDI: | J11: 0.2951
A13: ITEM | B13: FONTE | D13: CÓDIGO | E13: DESCRIÇÃO | F13: UNIDADE | G13: QUANTIDADE | H13: CUSTO UNITÁRIO SEM BDI (R$) | I13: PREÇO UNITÁRIO COM BDI (R$) | J13: PREÇO TOTAL (R$)
A14: 1 | E14: SERVIÇOS PRELIMINARES | I14: SUB-TOTAL | J14: =SUM(J15:J21) -> 29707.43
A15: 1.1 | B15: SETOP | D15: ED-16350 | E15: LOCAÇÃO DE CONTAINER COM ISOLAMENTO TÉRMICO, TIPO 3, PARA DEPÓSITO/FERRAMENTARIA DE OBRA, COM MEDIDAS REFERENCIAIS DE (6) METROS COMPRIMENTO, (2,3) METROS LARGURA E (2,5) METROS ALTURA ÚTIL INTERNA, INCLUSIVE LIGAÇÕES ELÉTRICAS INTERNAS, EXCLUSIVE MOBILIZAÇÃO/ DESMOBILIZAÇÃO E LIGAÇÕES PROVISÓRIAS EXTERNAS | F15: MÊS | G15: 3 | H15: 858.6 | I15: =H15*1.2951 -> 1111.9729 | J15: =TRUNC(I15*G15,2) -> 3335.91
A16: 1.2 | B16: SETOP | D16: ED-50137 | E16: MOBILIZAÇÃO E DESMOBILIZAÇÃO DE CONTAINER, INCLUSIVE CARGA, DESCARGA E TRANSPORTE EM CAMINHÃO CARROCERIA COM GUINDAUTO (MUNCK), EXCLUSIVE LOCAÇÃO DO CONTAINER | F16: UN | G16: 1 | H16: 1702.32 | I16: =H16*1.2951 -> 2204.6746 | J16: =TRUNC(I16*G16,2) -> 2204.67
A17: 1.3 | B17: SETOP | D17: ED-48485 | E17: REMOÇÃO MANUAL DE PISO DE TÁBUAS, COM REAPROVEITAMENTO, INCLUSIVE AFASTAMENTO E EMPILHAMENTO, EXCLUSIVE TRANSPORTE E RETIRADA DO MATERIAL REMOVIDO NÃO REAPROVEITÁVEL | F17: M2 | G17: =4*10.5 -> 42 | H17: 30.58 | I17: =H17*1.2951 -> 39.604158 | J17: =TRUNC(I17*G17,2) -> 1663.37
A18: 1.4 | B18: SETOP | D18: ED-28427 | E18: FORNECIMENTO E COLOCAÇÃO DE PLACA DE OBRA EM CHAPA GALVANIZADA #26, ESP. 0,45MM, DIMENSÃO (3X1,5)M, PLOTADA COM ADESIVO VINÍLICO, AFIXADA COM REBITES 4,8X40MM, EM ESTRUTURA METÁLICA DE METALON 20X20MM, ESP. 1,25MM, INCLUSIVE SUPORTE EM EUCALIPTO AUTOCLAVADO PINTADO COM TINTA PVA DUAS (2) DEMÃOS | F18: UN | G18: 1 | H18: 1206.72 | I18: =H18*1.2951 -> 1562.8231 | J18: =TRUNC(I18*G18,2) -> 1562.82
A19: 1.5 | B19: SINAPI | D19: 99059 | E19: LOCAÇÃO CONVENCIONAL DE OBRA, UTILIZANDO GABARITO DE TÁBUAS CORRIDAS PONTALETADAS A CADA 2,00M - 2 UTILIZAÇÕES. AF_03/2024 | F19: M | G19: 54 | H19: 77.74 | I19: =H19*1.2951 -> 100.68107 | J19: =TRUNC(I19*G19,2) -> 5436.77
A20: 1.6 | B20: SINAPI | D20: 93421 | E20: GRUPO GERADOR REBOCÁVEL, POTÊNCIA 66 KVA, MOTOR A DIESEL - CHP DIURNO. AF_03/2016 | F20: H | G20: 80 | H20: 91.89 | I20: =H20*1.2951 -> 119.00674 | J20: =TRUNC(I20*G20,2) -> 9520.53 | R20: =80*0.2 -> 16
A21: 1.7 | B21: CP | D21: 1 | E21: TRANSPORTE FLUVIAL | F21: DIA | G21: =66*2 -> 132 | H21: 35 | I21: =H21*1.2951 -> 45.3285 | J21: =TRUNC(I21*G21,2) -> 5983.36
A22: 2 | E22: MESOESTRUTURA (TRANSVERSINAS) | J22: =SUM(J23:J24) -> 7209.518
A23: 2.1 | B23: SETOP | D23: ED-49664 | E23: FORNECIMENTO DE ESTRUTURA METÁLICA EM PERFIL LAMINADO, INCLUSIVE FABRICAÇÃO, TRANSPORTE, MONTAGEM E APLICAÇÃO DE FUNDO PREPARADOR ANTICORROSIVO EM SUPERFÍCIE METÁLICA, UMA (1) DEMÃO | F23: KG | G23: =(3*2.7)*22.5 -> 182.25 | H23: 29.42 | I23: =H23*1.2951 -> 38.101842 | J23: =I23*G23 -> 6944.0607 | K23: 22,5KG/M
A24: 2.2 | B24: SETOP | D24: ED-50495 | E24: PINTURA ESMALTE BASE SOLVENTE EM SUPERFÍCIES METÁLICAS , DUAS (2) DEMÃOS, COM APLICAÇÃO MANUAL, INCLUSIVE UMA (1) DEMÃO DE FUNDO ANTICORROSIVO | F24: M2 | G24: =((0.25+0.25+0.1+0.1)*2.7)*3 -> 5.67 | H24: 36.15 | I24: =H24*1.2951 -> 46.817865 | J24: =I24*G24 -> 265.45729
A25: 3 | E25: SUPERESTRUTURA | I25: SUB-TOTAL | J25: =SUM(J26:J29) -> 47492.04
A26: 3.1 | B26: SETOP | D26: RO-00542 | E26: ARMAÇÃO DE AÇO CA-50 PARA OBRAS DE ARTES ESPECIAIS - FORNECIMENTO, PREPARO E COLOCAÇÃO | F26: KG | G26: =((20*4.75)+(92*1.21))*12*0.617 -> 1527.5933 | H26: 10.77 | I26: =H26*1.2951 -> 13.948227 | J26: =TRUNC(I26*G26,2) -> 21307.21
A27: 3.2 | B27: SETOP | D27: RO-01089 | E27: TELHA-FÔRMA EM AÇO GALVANIZADO ASTM A653 GRAU 40- E= 1,25MM - FORNECIMENTO E INSTALAÇÃO | F27: M2 | G27: =12*4.5 -> 54 | H27: 215.68 | I27: =H27*1.2951 -> 279.32717 | J27: =TRUNC(I27*G27,2) -> 15083.66
A28: 3.3 | B28: SETOP | D28: ED-49632 | E28: FORNECIMENTO DE CONCRETO ESTRUTURAL, USINADO, COM FCK 35MPA, INCLUSIVE LANÇAMENTO, ADENSAMENTO E ACABAMENTO | F28: M3 | G28: =12*4.5*0.2 -> 10.8 | H28: 783.22 | I28: =H28*1.2951 -> 1014.3482 | J28: =TRUNC(I28*G28,2) -> 10954.96
A29: 3.4 | B29: SICRO | D29: 2007971 | E29: DRENO DE PVC D=100MM PARA OAE - FORNECIMENTO E INSTALAÇÃO | F29: M | G29: 1.2 | H29: 94.08 | I29: =H29*1.2951 -> 121.84301 | J29: =TRUNC(I29*G29,2) -> 146.21 | K29: COLOCAR NO PROJETO
A30: 4 | E30: SERVIÇO COMPLEMENTARES | I30: SUB-TOTAL | J30: =SUM(J31:J34) -> 42495.53
A31: 4.1 | B31: SETOP | D31: ED-20478 | E31: PERFIL "UDC" ENRIJECIDO DOBRADO DE CHAPA (MATERIAL: AÇO PATINÁVEL|DIMENSÕES: 200X75X20MM|ESPESSURA: 2,25MM|MASSA LINEAR: 6,66KG/M) - FORNECIMENTO, EXCLUSIVE SERVIÇO DE MONTAGEM/INSTALAÇÃO. | F31: M | G31: 132 | H31: 64.53 | I31: =H31*1.2951 -> 83.572803 | J31: =TRUNC(I31*G31,2) -> 11031.6
A32: 4.2 | B32: SETOP | D32: ED-50495 | E32: PINTURA ESMALTE BASE SOLVENTE EM SUPERFÍCIES METÁLICAS , DUAS (2) DEMÃOS, COM APLICAÇÃO MANUAL, INCLUSIVE UMA (1) DEMÃO DE FUNDO ANTICORROSIVO | F32: M2 | G32: =G31*0.35 -> 46.2 | H32: 36.15 | I32: =H32*1.2951 -> 46.817865 | J32: =TRUNC(I32*G32,2) -> 2162.98
A33: 4.3 | B33: SETOP | D33: ED-49664 | E33: FORNECIMENTO DE ESTRUTURA METÁLICA EM PERFIL LAMINADO, INCLUSIVE FABRICAÇÃO, TRANSPORTE, MONTAGEM E APLICAÇÃO DE FUNDO PREPARADOR ANTICORROSIVO EM SUPERFÍCIE METÁLICA, UMA (1) DEMÃO | F33: KG | G33: =(0.2*8*12)*20.46 -> 392.832 | H33: 29.42 | I33: =H33*1.2951 -> 38.101842 | J33: =TRUNC(I33*G33,2) -> 14967.62 | K33: 20,46kg/m | L33: conectores de cisalhamento
A34: 4.4 | B34: SETOP | D34: ED-29091 | E34: TRANSPORTE DE VIGA OU TABULEIRO PARA PONTE (CUSTO FIXO ), INCLUSIVE CARGA, EXCLUSIVE FORNECIMENTO , DESCARGA E TRANSPORTE EM QUILÔMETRO RODADO (CUSTO VARIÁVEL) | F34: UN | G34: 12 | H34: 922.28 | I34: =H34*1.2951 -> 1194.4448 | J34: =TRUNC(I34*G34,2) -> 14333.33
A37: TOTA GERAL DA OBRA | J37: =J14+J25+J30+J22 -> 126904.52
E44: Miguel César Feliciano - Eng. Civil - CREA-MG 202.020/D | G44: Hermano Álvares Francisco de Moura - Prefeito Municipal

Sheet CRONOGRAMA FISICO FINANCEIRO
C1: Prefeitura Municipal de Morada Nova de Minas
C2: Av. Cel. Sebastião Pereira M. e Castro, 315, Centro - CEP 35628000
C3: CNPJ 18.296.665/0001-50
A6: CRONOGRAMA FÍSICO-FINANCEIRO
A7: ='Planilha Orçamentária'!A7 -> PREFEITURA: PREFEITURA MUNICIPAL DE MORADA NOVA DE MINAS | D7: VALOR DA OBRA: | F7: =E35 -> 626819.37 | I7: ='Planilha Orçamentária'!H8 -> DATA: 15/06/2026
A8: ='Planilha Orçamentária'!A8 -> OBRA: ASSENTAMENTO DE ADUELAS CÓRREGO PALMEIRAS E NA GROTA CAPELINHA - PONTE DO RIACHO, ALFORGEZ E ARROZAL | D8: ='Planilha Orçamentária'!A9 -> LOCAL: REGIÃO DO TRAÇADAL E LAGOINHA | I8: ='Planilha Orçamentária'!A11 -> PRAZO DE EXECUÇÃO: 12 MÊSES
A9: ITEM | B9: CÓDIGO | C9: ETAPAS/DESCRIÇÃO | D9: FÍSICO/ FINANCEIRO | E9: TOTAL ETAPAS | F9: MÊS 1 | G9: MÊS 2 | H9: MÊS 3 | I9: MÊS 4 | J9: MÊS 5 | K9: MÊS 6 | L9: MÊS 7 | M9: MÊS 8 | N9: MÊS 9
A10: 1 | C10: ASSENTAMENTO ADUELA PALMEIRAS | D10: Físico % | E10: =E11/E35 -> 0.26105688 | F10: 0.7 | G10: 0.3
D11: Financeiro | E11: ='Planilha Orçamentária'!J42 -> 163635.51 | F11: =F10*$E$11 -> 114544.86 | G11: =G10*$E$11 -> 49090.653 | H11: =H10*$E$11 -> 0 | I11: =I10*$E$11 -> 0 | J11: =J10*$E$11 -> 0
A12: 2 | C12: ASSENTAMENTO ADUELA CAPELINHA | D12: Físico % | E12: =E13/E35 -> 0.18254611 | G12: 0.3 | H12: 0.7
D13: Financeiro | E13: ='Planilha Orçamentária'!J71 -> 114423.43 | F13: =F12*$E$13 -> 0 | G13: =G12*$E$13 -> 34327.03 | H13: =H12*$E$13 -> 80096.404 | I13: =I12*$E$13 -> 0 | J13: =J12*$E$13 -> 0
A14: 3 | C14: PONTE RIACHO | D14: Físico % | E14: =E15/E35 -> 0.17719414 | H14: 0.2 | I14: 0.5 | J14: 0.3
D15: Financeiro | E15: ='Planilha Orçamentária'!J96 -> 111068.72 | F15: =F14*$E$15 -> 0 | G15: =G14*$E$15 -> 0 | H15: =H14*$E$15 -> 22213.744 | I15: =I14*$E$15 -> 55534.359 | J15: =J14*$E$15 -> 33320.615 | K15: =K14*$E$15 -> 0 | L15: =L14*$E$15 -> 0 | M15: =M14*$E$15 -> 0 | N15: =N14*$E$15 -> 0
A16: 4 | C16: PONTE ALFORGEZ | D16: Físico % | E16: =E17/E35 -> 0.176745 | J16: 0.2 | K16: 0.5 | L16: 0.3
D17: Financeiro | E17: ='Planilha Orçamentária'!J120 -> 110787.19 | F17: =F16*$E$17 -> 0 | G17: =G16*$E$17 -> 0 | H17: =H16*$E$17 -> 0 | I17: =I16*$E$17 -> 0 | J17: =J16*$E$17 -> 22157.438 | K17: =K16*$E$17 -> 55393.594 | L17: =L16*$E$17 -> 33236.156 | M17: =M16*$E$17 -> 0 | N17: =N16*$E$17 -> 0
A18: 5 | C18: PONTE ARROZAL | D18: Físico % | E18: =E19/E35 -> 0.20245788 | L18: 0.2 | M18: 0.5 | N18: 0.3
D19: Financeiro | E19: ='Planilha Orçamentária'!J144 -> 126904.52 | F19: =F18*$E$19 -> 0 | G19: =G18*$E$19 -> 0 | I19: =I18*$E$19 -> 0 | J19: =J18*$E$19 -> 0 | K19: =K18*$E$19 -> 0 | L19: =L18*$E$19 -> 25380.904 | M19: =M18*$E$19 -> 63452.259 | N19: =N18*$E$19 -> 38071.355
D20: Físico %
D21: Financeiro | F21: =F20*$E$21 -> 0 | G21: =G20*$E$21 -> 0 | H21: =H20*$E$21 -> 0 | I21: =I20*$E$21 -> 0 | J21: =J20*$E$21 -> 0
D22: Físico %
D23: Financeiro | F23: =F22*$E$23 -> 0 | G23: =G22*$E$23 -> 0 | H23: =H22*$E$23 -> 0 | I23: =I22*$E$23 -> 0 | J23: =J22*$E$23 -> 0
D24: Físico %
D25: Financeiro | F25: =F24*$E$25 -> 0 | G25: =G24*$E$25 -> 0 | H25: =H24*$E$25 -> 0 | I25: =I24*$E$25 -> 0 | J25: =J24*$E$25 -> 0
D26: Físico %
D27: Financeiro | F27: =F26*$E$27 -> 0 | G27: =G26*$E$27 -> 0 | H27: =H26*$E$27 -> 0 | I27: =I26*$E$27 -> 0 | J27: =J26*$E$27 -> 0
D28: Físico %
D29: Financeiro | F29: =F28*$E$29 -> 0 | G29: =G28*$E$29 -> 0 | H29: =H28*$E$29 -> 0 | I29: =I28*$E$29 -> 0 | J29: =J28*$E$29 -> 0
D30: Físico %
D31: Financeiro | F31: =F30*$E$31 -> 0 | G31: =G30*$E$31 -> 0 | H31: =H30*$E$31 -> 0 | I31: =I30*$E$31 -> 0 | J31: =J30*$E$31 -> 0
D32: Físico %
D33: Financeiro | F33: =F32*$E$33 -> 0 | G33: =G32*$E$33 -> 0 | H33: =H32*$E$33 -> 0 | I33: =I32*$E$33 -> 0 | J33: =J32*$E$33 -> 0
A34: TOTAL | D34: Físico % | E34: =E10+E12+E14+E16+E18+E20+E22+E24+E26+E28+E30+E32 -> 1 | F34: =F35/$E$35 -> 0.18273982 | G34: =G35/$E$35 -> 0.1330809 | H34: =H35/$E$35 -> 0.1632211 | I34: =I35/$E$35 -> 0.088597069 | J34: =J35/$E$35 -> 0.088507241 | K34: =K35/$E$35 -> 0.088372499 | L34: =L35/$E$35 -> 0.093515074 | M34: =M35/$E$35 -> 0.10122894 | N34: =N35/$E$35 -> 0.060737363
D35: Financeiro | E35: =E11+E13+E15+E17+E19+E21+E23+E25+E27+E29+E31+E33 -> 626819.37 | F35: =F11+F13+F15+F17+F19+F21+F23+F25+F27+F29+F31+F33 -> 114544.86 | G35: =G11+G13+G15+G17+G19+G21+G23+G25+G27+G29+G31+G33 -> 83417.684 | H35: =H11+H13+H15+H17+H19+H21+H23+H25+H27+H29+H31+H33 -> 102310.15 | I35: =I11+I13+I15+I17+I19+I21+I23+I25+I27+I29+I31+I33 -> 55534.359 | J35: =J11+J13+J15+J17+J19+J21+J23+J25+J27+J29+J31+J33 -> 55478.053 | K35: =K11+K13+K15+K17+K19+K21+K23+K25+K27+K29+K31+K33 -> 55393.594 | L35: =L11+L13+L15+L17+L19+L21+L23+L25+L27+L29+L31+L33 -> 58617.06 | ... N35: =N11+N13+N15+N17+N19+N21+N23+N25+N27+N29+N31+N33 -> 38071.355
H37: Observações:
B43: ='Planilha Orçamentária'!E152 -> Miguel César Feliciano - Eng. Civil - CREA-MG 202.020/D
B49: ='Planilha Orçamentária'!G152 -> Hermano Álvares Francisco de Moura - Prefeito Municipal
