Workbook

Sheet Planilha Orcamentaria
A2: Praça Francelino Pereira, 10 – Centro – Tel: (33) 99846-7992 Materlândia – Minas Gerais – CEP: 39755-000
A4: PLANILHA ORÇAMENTÁRIA DE CUSTOS
A6: PREFEITURA: MUNICIPAL DE MATERLÂNDIA | F6: FOLHA Nº: 02
A7: OBRA: PAVIMENTAÇÃO DE RUAS DIVERSAS | F7: DATA: 20/02/2026
A8: LOCAL: BAIRRO: CENTRO - RUA PROFESSORA QUITA, RUA ARGEMIRO FRANCISCO, RUA JOÃO AUGUSTO DOS SANTOS C/RUA PADRE JOVIANO, RUA DA CACHOEIRA, RUA CENTENÁRIO, BECO
A9: REGIÃO/MÊS DE REFERÊNCIA: | G9: ( X ) | H9: INDIRETA
C10: SICOR_2026_01_CENTRAL_SEM_DESONERACAO | G10: LDI 1 | H10: 0.23
C11: SINAP_2026_02_SEM_DESONERACAO
C12: SICRO_MG_2025_10_SEM_DESONERACAO
A13: PRAZO DE EXECUÇÃO: 03 MESES
A15: ITEM | B15: CÓDIGO | C15: DESCRIÇÃO | D15: UNIDADE | E15: QUANTIDADE | F15: PREÇO UNITÁRIO S/ LDI | G15: PREÇO UNITÁRIO C/ LDI | H15: PREÇO TOTAL
C16: PAVIMENTAÇÃO EM BLOQUETE SEXTAVADO 8CM, 35MPA | I16: RUA PROFESSORA QUITA | J16: RUA ARGEMIRO FRANCISCO | K16: RUA JOÃO AUGUSTO DOS SANTOS C/RUA PADRE JOVIANO | L16: RUA DA CACHOEIRA | M16: RUA CENTENARIO | N16: BECO
A17: 1 | C17: IDENTIFICAÇÃO DA OBRA | H17: =H18 -> 8905.62
A18: 1.1 | B18: SICOR ED-28427 | C18: FORNECIMENTO E COLOCAÇÃO DE PLACA DE OBRA EM GALVANIZADA #26, ESP. 0,45MM, DIMENSÃO (3X1,5)M, PLOTADA COM ADESIVO VINÍLICO, AFIXADA COM REBITES 4,8X40MM, EM ESTRUTURA METÁLICA DE METALON 20X20MM, ESP. 1,25MM, INCLUSIVE SUPORTE EM EUCALIPTO AUTOCLAVADO PINTADO COM TINTA PVA DUAS (2) DEMÃOS | D18: UNID | E18: =O18 -> 6 | F18: 1206.72 | G18: =ROUND(F18*(1+($H$10)),2) -> 1484.27 | H18: =ROUND((G18*E18),2) -> 8905.62 | I18: 1 | J18: 1 | K18: 1 | L18: 1 | M18: 1 | N18: 1 | O18: =I18+J18+K18+L18+M18+N18 -> 6
A19: 2 | C19: SERVIÇOS EM TERRA | H19: =H20 -> 14001.27 | O19: =I19+J19+K19+L19+M19+N19 -> 0
A20: 2.1 | B20: SINAP 100576 | C20: REGULARIZAÇÃO E COMPACTAÇÃO DE SUBLEITO DE SOLO PREDOMINANTEMENTE ARGILOSO, PARA OBRAS DE CONSTRUÇÃO DE PAVIMENTOS. AF_09/2024 | D20: M2 | E20: =O20 -> 3910.97 | F20: 2.91 | G20: =ROUND(F20*(1+($H$10)),2) -> 3.58 | H20: =ROUND((G20*E20),2) -> 14001.27 | I20: 531.3 | J20: 1028.52 | K20: 1120.5 | L20: 644.29 | M20: 309.52 | N20: 276.84 | O20: =I20+J20+K20+L20+M20+N20 -> 3910.97
A21: 3 | C21: URBANIZAÇÃO | H21: =H22+H23 -> 138392.54 | O21: =I21+J21+K21+L21+M21+N21 -> 0
A22: 3.1 | B22: SICOR ED-51139 | C22: GUIA DE MEIO-FIO, EM CONCRETO COM FCK 20MPA, PRÉ-MOLDADA, MFC-01 PADRÃO DER-MG, DIMENSÕES (12X16,7X35)CM , EXCLUSIVE SARJETA, INCLUSIVE ESCAVAÇÃO, APILOAMENTO E TRANSPORTE COM RETIRADA DO MATERIAL ESCAVADO (EM CAÇAMBA) | D22: M | E22: =O22 -> 886.85 | F22: 83.2 | G22: =ROUND(F22*(1+($H$10)),2) -> 102.34 | H22: =ROUND((G22*E22),2) -> 90760.23 | I22: =15.84+5.77+5.94+5.98+6.06+6.4+8.67 -> 54.66 | J22: =4.67+3.39+6.86+5.48+4.12+0.89+0.43+2.84+1.94+3.81+3.49+5.2+0.9+1.08+0.92+1.65+1.57+0.77+0.5+1.39+1.17+3.37+1.12+3.31+5.7+ 0.87 -> 67.44 | K22: =5.2+5.3+4.29+4.8+4.45+5.02+4.52+5.36+6.23+4.57+4.69+4.03+5.1+5.15+ 3.13 -> 71.84 | L22: =39.99+48.84+2.14+4.44+2.76+48.84+40.01+6.92+7.94+4.4+4.4+4.4+4.4+4.4+4.4+4.4+4.4+4.4+16.29+8.96+8.61+28.33+24.46+7.44+8.3+2.49 -> 346.36 | M22: =8.57+22.34+41.75+3.5+38.39+19.87+6.07+3.5+3.5+3.5+3.5+3.5+3.5+3.5+3.5+3.5+3.5+11.16+6.02+2.54+2.23+16.8 -> 214.24 | N22: =27.93+14.38+26.43+9.23+4+11.35+19.14+3.51+ 4.87+5.45+6.02 -> 132.31 | O22: =I22+J22+K22+L22+M22+N22 -> 886.85
A23: 3.2 | B23: SICOR ED-14762 | C23: SARJETA DE CONCRETO URBANO (SCU), TIPO 1, COM FCK 15 MPA , LARGURA DE 50CM COM INCLINAÇÃO DE 3%, ESP. 7CM, PADRÃO DER-MG, EXCLUSIVE MEIO-FIO, INCLUSIVE ESCAVAÇÃO, APILAOMENTO E TRANSPORTE COM RETIRADA DO MATERIAL ESCAVADO (EM CAÇAMBA) | D23: M | E23: =O23 -> 847.55 | F23: 45.69 | G23: =ROUND(F23*(1+($H$10)),2) -> 56.2 | H23: =ROUND((G23*E23),2) -> 47632.31 | I23: =2.14+2.14+1.91+1.54+3.01+5.77+3.38+1.06+0.61+1.06+1.29+0.77+0.47+0.17+0.1+0.26+1.01+0.78+0.86+1.02+1.11+2.76+6.63+11.87+10.15+19.48+0.73+2.99+2.84+1.05+0.89+0.57+0.35+4.97+1.48+1.41+3.99+18.38+8.7+14.52+13.13+6.43 -> 163.78 | J23: =3.91+5.93+7.45+3.05+4.12+5.48+8.14+6.91+4.1+2.28+1.02+2.83+6.01+3.67+8.92+1.92+0.78+2.08+0.65+0.83+2.27+7.54+10.75+1.04+1.37+3.81+1.94+2.84+0.43+0.89+6.59+6.35+0.22+0.32+5.9+4.28+3.79+1.16+4.21+5.54+13.28+1.99+1.85 -> 168.44 | K23: =0.59+1.68+2.75+2+4.79+0.71+0.96+7.43+3.74+8.23+17.73+1.7+1.93+8.66+8.15+2.21+5.47+6.73+2.89+5.69+6.1+11.39+8.2+1.37+1.51+0.66+7.3+3.79+2.01+1.22+8.47+4.18+2.33+3.55+5.87+1.93+0.6+2.09+4.23+5.83+10.79+5.25+0.03+5.05 -> 197.79 | L23: =8.96+39.99+8.61+48.84+28.33+2.14 -> 136.87 | M23: =8.57+22.34+41.75+ 11.16+6.02+2.54 -> 92.38 | N23: =27.93+14.38+26.43+9.23+4.87+5.45 -> 88.29 | O23: =I23+J23+K23+L23+M23+N23 -> 847.55
A24: 4 | C24: PAVIMENTAÇÃO | H24: =H25+H26 -> 453611.97 | O24: =I24+J24+K24+L24+M24+N24 -> 0
A25: 4.1 | B25: SICOR ED-8914 | C25: EXECUÇÃO DE PAVIMENTO COM PISO INTERTRAVADO, TIPO SEXTAVADO, ESP. 8CM, COM FCK DE 35MPA, INCLUSIVE COLCHÃO DE AREIA, ESP. 6CM, PARA ASSENTAMENTO, COMPACTAÇÃO MECANIZADA, CARGA E DESCARGA MECÂNICA EM CAMINHÃO, EXCLUSIVE TRANSPORTE DE PISO INTERTRAVADO | D25: M2 | E25: =O25 -> 3486.48 | F25: 103.55 | G25: =ROUND(F25*(1+($H$10)),2) -> 127.37 | H25: =ROUND((G25*E25),2) -> 444072.96 | I25: 450.88 | J25: 943.08 | K25: 1021.5 | L25: 576.49 | M25: 263.9 | N25: 230.63 | O25: =I25+J25+K25+L25+M25+N25 -> 3486.48
A26: 4.2 | B26: SICOR ED-7425 | C26: TRANSPORTE DE PISO INTERTRAVADO, EM CAMINHÃO, TRAÇÃO 6X2, TIPO TRUCADO, PESO BRUTO TOTAL (PBT) DE 23.000KG, COM GUINDASTE ARTICULADO, MOMENTO DE CARGA MÁXIMO DE 10TXM, E CARROCERIA DE CARGA SECA, COM CAPACIDADE DE 14T, EM RODOVIA PAVIMENTADA, EXCLUSIVE MANOBRA, CARGA E DESCARGA DMT=30KM | D26: TxKM | E26: 8367.55 | F26: 0.93 | G26: =ROUND(F26*(1+($H$10)),2) -> 1.14 | H26: =ROUND((G26*E26),2) -> 9539.01 | I26: =450.88*0.08*30 -> 1082.112 | J26: =943.08*0.08*30 -> 2263.392 | K26: =1021.5*0.08*30 -> 2451.6 | L26: =576.49*0.08*30 -> 1383.576 | M26: =263.9*0.08*30 -> 633.36 | N26: =230.63*0.08*30 -> 553.512 | O26: =I26+J26+K26+L26+M26+N26 -> 8367.552
A27: 5 | C27: SINALIZAÇÃO VERTICAL | H27: =H28+H29 -> 3737.6 | O27: =I27+J27+K27+L27+M27+N27 -> 0
A28: 5.1 | B28: SICRO 5213863 | C28: SUPORTE METÁLICO GALVANIZADO PARA PLACA DE ADVERTÊNCIA OU REGULAMENTAÇÃO - LADO OU DIÂMETRO DE 0,60 M - FORNECIMENTO E IMPLANTAÇÃO | D28: UN | E28: =O28 -> 4 | F28: 475.75 | G28: =ROUND(F28*(1+($H$10)),2) -> 585.17 | H28: =ROUND((G28*E28),2) -> 2340.68 | I28: 1 | J28: 1 | K28: 1 | L28: 1 | O28: =I28+J28+K28+L28+M28+N28 -> 4
A29: 5.1 | B29: SICRO 5213444 | C29: PLACA DE REGULAMENTAÇÃO EM AÇO, R1 LADO 0,248 M - PELÍCULA RETRORREFLETIVA TIPO I + SI - FORNECIMENTO E IMPLANTAÇÃO | D29: UM | E29: =O29 -> 4 | F29: 283.93 | G29: =ROUND(F29*(1+($H$10)),2) -> 349.23 | H29: =ROUND((G29*E29),2) -> 1396.92 | I29: 1 | J29: 1 | K29: 1 | L29: 1 | O29: =I29+J29+K29+L29+M29+N29 -> 4
A30: 6 | C30: ACESSIBILIDADE | H30: =H31 -> 618.53 | O30: =I30+J30+K30+L30+M30+N30 -> 0
A31: 6.1 | B31: SICOR ED-51148 | C31: RAMPA PARA ACESSO DE DEFICIENTE, EM CONCRETO SIMPLES FCK = 25 MPA, DESEMPENADA, COM PINTURA INDICATIVA, 02 DEMÃOS | D31: UNID | E31: =O31 -> 1 | F31: 502.87 | G31: =ROUND(F31*(1+($H$10)),2) -> 618.53 | H31: =ROUND((G31*E31),2) -> 618.53 | L31: 1 | O31: =I31+J31+K31+L31+M31+N31 -> 1
A32: TOTAL GERAL DA OBRA | H32: =H30+H27+H24+H21+H19+H17 -> 619267.53
E35: 223609/D
B36: Carimbo e assinatura do engenheiro responsável técnico pela elaboração da planilha | E36: CREA
C38: ROLISON FELIPE DE REZENDE
B41: Carimbo e assinatura do representante legal
C42: MARQUES SERAFIM DE PINHO

Sheet MEMORIA DE CAL
A2: Praça Francelino Pereira, 10 – Centro – Tel: (33) 99846-7992 Materlândia – Minas Gerais – CEP: 39755-000
A3: MEMÓRIA DE CÁLCULO
A4: PREFEITURA: MUNICIPAL DE MATERLÂNDIA | F4: FOLHA Nº: 03
A5: OBRA: PAVIMENTAÇÃO DE RUAS DIVERSAS | F5: DATA: 20/02/2026
A6: LOCAL: BAIRRO: CENTRO - RUA PROFESSORA QUITA, RUA ARGEMIRO FRANCISCO, RUA JOÃO AUGUSTO DOS SANTOS C/RUA PADRE JOVIANO, RUA DA CACHOEIRA, RUA CENTENÁRIO, BECO | E6: FORMA DE EXECUÇÃO:
A7: REGIÃO/MÊS DE REFERÊNCIA: | E7: ( ) | F7: DIRETA | G7: ( X ) | H7: INDIRETA
C8: SICOR_2025_10_CENTRAL_SEM_DESONERACAO | G8: LDI 1 | H8: 0.23
C9: SINAP_2026_01_SEM_DESONERACAO
C10: SICRO_MG_2025_10_SEM_DESONERACAO
A11: PRAZO DE EXECUÇÃO: 03 MESES
A12: ITEM | B12: COD | C12: DESCRIÇÃO | D12: UNIDADE | E12: MEMÓRIA DE CÁLCULO | H12: TOTAL
C13: PAVIMENTAÇÃO EM BLOQUETE SEXTAVADO 8CM, 35MPA
A14: ='Planilha Orcamentaria'!A17 -> 1 | C14: ='Planilha Orcamentaria'!C17 -> IDENTIFICAÇÃO DA OBRA
A15: ='Planilha Orcamentaria'!A18 -> 1.1 | B15: ='Planilha Orcamentaria'!B18 -> SICOR ED-28427 | C15: ='Planilha Orcamentaria'!C18 -> FORNECIMENTO E COLOCAÇÃO DE PLACA DE OBRA EM GALVANIZADA #26, ESP. 0,45MM, DIMENSÃO (3X1,5)M, PLOTADA COM ADESIVO VINÍLICO, AFIXADA COM REBITES 4,8X40MM, EM ESTRUTURA METÁLICA DE METALON 20X20MM, ESP. 1,25MM, INCLUSIVE SUPORTE EM EUCALIPTO AUTOCLAVADO PINTADO COM TINTA PVA DUAS (2) DEMÃOS | D15: ='Planilha Orcamentaria'!D18 -> UNID | E15: RUA PROFESSORA QUITA - 01 UNIDADE RUA ARGEMIRO FRANCISCO - 01 UNIDADE RUA JOÃO AUGUSTO DOS SANTOS C/RUA PADRE JOVIANO - 01 UNIDADE RUA DA CACHOEIRA - 01 UNIDADE RUA CENTENÁRIO - 01 UNIDADE BECO - 01 UNIDADE | H15: ='Planilha Orcamentaria'!O18 -> 6
A16: ='Planilha Orcamentaria'!A19 -> 2 | C16: ='Planilha Orcamentaria'!C19 -> SERVIÇOS EM TERRA
A17: ='Planilha Orcamentaria'!A20 -> 2.1 | B17: ='Planilha Orcamentaria'!B20 -> SINAP 100576 | C17: ='Planilha Orcamentaria'!C20 -> REGULARIZAÇÃO E COMPACTAÇÃO DE SUBLEITO DE SOLO PREDOMINANTEMENTE ARGILOSO, PARA OBRAS DE CONSTRUÇÃO DE PAVIMENTOS. AF_09/2024 | D17: ='Planilha Orcamentaria'!D20 -> M2 | E17: RUA PROFESSORA QUITA - 531,30M2 RUA ARGEMIRO FRANCISCO -1028,52M2 RUA JOÃO AUGUSTO DOS SANTOS C/RUA PADRE JOVIANO - 1120,50M2 RUA DA CACHOEIRA - 644,29M2 RUA CENTENÁRIO - 309,52M2 BECO - 276,84M2 | H17: ='Planilha Orcamentaria'!O20 -> 3910.97
A18: ='Planilha Orcamentaria'!A21 -> 3 | C18: ='Planilha Orcamentaria'!C21 -> URBANIZAÇÃO
A19: ='Planilha Orcamentaria'!A22 -> 3.1 | B19: ='Planilha Orcamentaria'!B22 -> SICOR ED-51139 | C19: ='Planilha Orcamentaria'!C22 -> GUIA DE MEIO-FIO, EM CONCRETO COM FCK 20MPA, PRÉ-MOLDADA, MFC-01 PADRÃO DER-MG, DIMENSÕES (12X16,7X35)CM , EXCLUSIVE SARJETA, INCLUSIVE ESCAVAÇÃO, APILOAMENTO E TRANSPORTE COM RETIRADA DO MATERIAL ESCAVADO (EM CAÇAMBA) | D19: ='Planilha Orcamentaria'!D22 -> M | E19: RUA PROFESSORA QUITA =15,84+5,77+5,94+5,98+6,06+6,4+8,67 RUA ARGEMIRO FRANCISCO = 4,67+3,39+6,86+5,48+4,12+0,89+0,43+2,84+1,94 +3,81+3,49+5,2+0,9+1,08+0,92+1,65+1,57+0,77+0,5+1,39+1,17+3,37+1,12+3,31+5,7+ 0,87 RUA JOÃO AUGUSTO DOS SANTOS C/RUA PADRE JOVIANO =5,2+5,3+4,29+4,8+4,45+5,02+4,52+5,36+6,23+4,57+4,69+4,03+5,1+5,15+ 3,13 RUA DA CACHOEIRA =39,99+48,84+2,14+4,44+2,76+48,84+40,01+6,92+7,94+4,4+4,4+4,4+4,4+4,4 +4,4+4,4+4,4+4,4+16,29+8,96+8,61+28,33+24,46+7,44+8,3+2,49 RUA CENTENÁRIO = 8,57+22,34+41,75+3,5+38,39+19,87+6,07+3,5+3,5+ 3,5+3,5+3,5+3,5+3,5+3,5+3,5+3,5+11,16+6,02+2,54+2,23+16,8 BECO = 27,93+14,38+26,43+9,23+4+11,35+19,14+3,51+ 4,87+5,45+6,02 | H19: ='Planilha Orcamentaria'!O22 -> 886.85
A20: ='Planilha Orcamentaria'!A23 -> 3.2 | B20: ='Planilha Orcamentaria'!B23 -> SICOR ED-14762 | C20: ='Planilha Orcamentaria'!C23 -> SARJETA DE CONCRETO URBANO (SCU), TIPO 1, COM FCK 15 MPA , LARGURA DE 50CM COM INCLINAÇÃO DE 3%, ESP. 7CM, PADRÃO DER-MG, EXCLUSIVE MEIO-FIO, INCLUSIVE ESCAVAÇÃO, APILAOMENTO E TRANSPORTE COM RETIRADA DO MATERIAL ESCAVADO (EM CAÇAMBA) | D20: ='Planilha Orcamentaria'!D23 -> M | E20: RUA PROFESSORA QUITA =2,14+2,14+1,91+1,54+3,01+5,77+3,38+1,06+0,61+1,06+1,29+0,77+0,47+0,17+0,1+0,26+1,01+0,78+0,86+1,02+1,11+2,76+6,63+11,87+10,15+19,48+0,73+2,99+2,84+1,05+0,89+0,57+0,35+4,97+1,48+1,41+3,99+18,38+8,7+14,52+13,13+6,43 RUA ARGEMIRO FRANCISCO =3,91+5,93+7,45+3,05+4,12+5,48+8,14+6,91+4,1+2,28+1,02+2,83+6,01+3,67+8,92+1,92+0,78+2,08+0,65+0,83+2,27+7,54+10,75+1,04+1,37+3,81+1,94+2,84+0,43+0,89+6,59+6,35+0,22+0,32+5,9+4,28+3,79+1,16+4,21+5,54+13,28+1,99+1,85 RUA JOÃO AUGUSTO DOS SANTOS C/RUA PADRE JOVIANO = 0,59+1,68+2,75+2+4,79+0,71+0,96+7,43+3,74+8,23+17,73+1,7+1,93+8,66+8,15+2,21+5,47+6,73+2,89+5,69+6,1+11,39+8,2+1,37+1,51+0,66+7,3+3,79+2,01+1,22+8,47+4,18+2,33+3,55+5,87+1,93+0,6+2,09+4,23+5,83+10,79+5,25+0,03+5,05 RUA DA CACHOEIRA = 8,96+39,99+8,61+48,84+28,33+2,14 RUA CENTENÁRIO = 8,57+22,34+41,75+ 11,16+6,02+2,54 BECO = 27,93+14,38+26,43+9,23+4,87+5,45 | H20: ='Planilha Orcamentaria'!O23 -> 847.55
A21: ='Planilha Orcamentaria'!A24 -> 4 | C21: ='Planilha Orcamentaria'!C24 -> PAVIMENTAÇÃO
A22: ='Planilha Orcamentaria'!A25 -> 4.1 | B22: ='Planilha Orcamentaria'!B25 -> SICOR ED-8914 | C22: ='Planilha Orcamentaria'!C25 -> EXECUÇÃO DE PAVIMENTO COM PISO INTERTRAVADO, TIPO SEXTAVADO, ESP. 8CM, COM FCK DE 35MPA, INCLUSIVE COLCHÃO DE AREIA, ESP. 6CM, PARA ASSENTAMENTO, COMPACTAÇÃO MECANIZADA, CARGA E DESCARGA MECÂNICA EM CAMINHÃO, EXCLUSIVE TRANSPORTE DE PISO INTERTRAVADO | D22: ='Planilha Orcamentaria'!D25 -> M2 | E22: RUA PROFESSORA QUITA =450,88M2 RUA ARGEMIRO FRANCISCO =943,08M2 RUA JOÃO AUGUSTO DOS SANTOS C/RUA PADRE JOVIANO = 1021,50M2 RUA DA CACHOEIRA = 576,49M2 RUA CENTENÁRIO = 263,90M2 BECO = 230,63M2 | H22: ='Planilha Orcamentaria'!O25 -> 3486.48
A23: ='Planilha Orcamentaria'!A26 -> 4.2 | B23: ='Planilha Orcamentaria'!B26 -> SICOR ED-7425 | C23: ='Planilha Orcamentaria'!C26 -> TRANSPORTE DE PISO INTERTRAVADO, EM CAMINHÃO, TRAÇÃO 6X2, TIPO TRUCADO, PESO BRUTO TOTAL (PBT) DE 23.000KG, COM GUINDASTE ARTICULADO, MOMENTO DE CARGA MÁXIMO DE 10TXM, E CARROCERIA DE CARGA SECA, COM CAPACIDADE DE 14T, EM RODOVIA PAVIMENTADA, EXCLUSIVE MANOBRA, CARGA E DESCARGA DMT=30KM | D23: ='Planilha Orcamentaria'!D26 -> TxKM | E23: RUA PROFESSORA QUITA = 450,88M2*0,08M*30KM RUA ARGEMIRO FRANCISCO = 943,08M2*0,08M*30KM RUA JOÃO AUGUSTO DOS SANTOS C/RUA PADRE JOVIANO = 1021,5M2*0,08M*30KM RUA DA CACHOEIRA = 576,49M2*0,08M*30KM RUA CENTENÁRIO = 263,90M2*0,08M*30KM BECO = 230,63M2*0,08M*30KM | H23: 8367.55
A24: ='Planilha Orcamentaria'!A27 -> 5 | C24: ='Planilha Orcamentaria'!C27 -> SINALIZAÇÃO VERTICAL
A25: ='Planilha Orcamentaria'!A28 -> 5.1 | B25: ='Planilha Orcamentaria'!B28 -> SICRO 5213863 | C25: ='Planilha Orcamentaria'!C28 -> SUPORTE METÁLICO GALVANIZADO PARA PLACA DE ADVERTÊNCIA OU REGULAMENTAÇÃO - LADO OU DIÂMETRO DE 0,60 M - FORNECIMENTO E IMPLANTAÇÃO | D25: ='Planilha Orcamentaria'!D28 -> UN | E25: "RUA PROFESSORA QUITA - 01 UNIDADE RUA ARGEMIRO FRANCISCO - 01 UNIDADE RUA JOÃO AUGUSTO DOS SANTOS C/RUA PADRE JOVIANO - 01 UNIDADE RUA DA CACHOEIRA - 01 UNIDADE | H25: ='Planilha Orcamentaria'!O28 -> 4
A26: ='Planilha Orcamentaria'!A29 -> 5.1 | B26: ='Planilha Orcamentaria'!B29 -> SICRO 5213444 | C26: ='Planilha Orcamentaria'!C29 -> PLACA DE REGULAMENTAÇÃO EM AÇO, R1 LADO 0,248 M - PELÍCULA RETRORREFLETIVA TIPO I + SI - FORNECIMENTO E IMPLANTAÇÃO | D26: UN | E26: "RUA PROFESSORA QUITA - 01 UNIDADE RUA ARGEMIRO FRANCISCO - 01 UNIDADE RUA JOÃO AUGUSTO DOS SANTOS C/RUA PADRE JOVIANO - 01 UNIDADE RUA DA CACHOEIRA - 01 UNIDADE | H26: ='Planilha Orcamentaria'!O29 -> 4
A27: ='Planilha Orcamentaria'!A30 -> 6 | C27: ='Planilha Orcamentaria'!C30 -> ACESSIBILIDADE
A28: ='Planilha Orcamentaria'!A31 -> 6.1 | B28: ='Planilha Orcamentaria'!B31 -> SICOR ED-51148 | C28: ='Planilha Orcamentaria'!C31 -> RAMPA PARA ACESSO DE DEFICIENTE, EM CONCRETO SIMPLES FCK = 25 MPA, DESEMPENADA, COM PINTURA INDICATIVA, 02 DEMÃOS | D28: ='Planilha Orcamentaria'!D31 -> UNID | E28: RUA DA CACHOEIRA = 01 UNIDADE | H28: ='Planilha Orcamentaria'!O31 -> 1
B32: MARQUES SERAFIM DE PINHO
B33: GESTOR MUNICIPAL
B36: ROLISON FELIPE DE REZENDE
B37: ENGENHEIRO CIVIL E AMBIENTAL CRAMG 223.609/D

Sheet CRONOGRAMA FISICO
A2: Praça Francelino Pereira, 10 – Centro – Tel: (33) 99846-7992 Materlândia – Minas Gerais – CEP: 39755-000
A3: CRONOGRAMA FÍSICO-FINANCEIRO
A4: PREFEITURA: MUNIIPAL DE MATERLÂNDIA | D4: VALOR DO CONVÊNIO: $500.000,00 | I4: DATA: 20/02/2026
A5: OBRA: PAVIMENTAÇÃO DE RUAS | D5: LOCAL: BAIRRO: CENTRO - RUA PROFESSORA QUITA, RUA ARGEMIRO FRANCISCO, RUA JOÃO AUGUSTO DOS SANTOS C/RUA PADRE JOVIANO, RUA DA CACHOEIRA, RUA CENTENÁRIO, BECO | I5: PRAZO DA OBRA: 03MÊSES
A6: ITEM | B6: CÓDIGO | C6: ETAPAS/DESCRIÇÃO | D6: FÍSICO/ FINANCEIRO | E6: TOTAL ETAPAS | F6: MÊS 1 | G6: MÊS 2 | H6: MÊS 3 | I6: MÊS 4 | J6: MÊS 5 | K6: MÊS 6
A7: 1 | C7: ='Planilha Orcamentaria'!C17 -> IDENTIFICAÇÃO DA OBRA | D7: Físico % | E7: =E8/$E$32 -> 0.014380893 | F7: 1
D8: Financeiro | E8: ='Planilha Orcamentaria'!H17 -> 8905.62 | F8: =F7*$E$8 -> 8905.62 | G8: =G7*$E$8 -> 0 | H8: =H7*$E$8 -> 0 | I8: =I7*$E$8 -> 0 | J8: =J7*$E$8 -> 0 | K8: =K7*$E$8 -> 0
A9: 2 | C9: ='Planilha Orcamentaria'!C19 -> SERVIÇOS EM TERRA | D9: Físico % | E9: =E10/$E$32 -> 0.022609404 | F9: 0.4 | G9: 0.3 | H9: 0.3
D10: Financeiro | E10: ='Planilha Orcamentaria'!H19 -> 14001.27 | F10: =F9*$E$10 -> 5600.508 | G10: =G9*$E$10 -> 4200.381 | H10: =H9*$E$10 -> 4200.381 | I10: =I9*$E$10 -> 0 | J10: =J9*$E$10 -> 0 | K10: =K9*$E$10 -> 0
A11: 3 | C11: ='Planilha Orcamentaria'!C21 -> URBANIZAÇÃO | D11: Físico % | E11: =E12/$E$32 -> 0.22347779 | F11: 0.4 | G11: 0.3 | H11: 0.3
D12: Financeiro | E12: ='Planilha Orcamentaria'!H21 -> 138392.54 | F12: =F11*$E$12 -> 55357.016 | G12: =G11*$E$12 -> 41517.762 | H12: =H11*$E$12 -> 41517.762 | I12: =I11*$E$12 -> 0 | J12: =J11*$E$12 -> 0 | K12: =K11*$E$12 -> 0
A13: 4 | C13: ='Planilha Orcamentaria'!C24 -> PAVIMENTAÇÃO | D13: Físico % | E13: =E14/$E$32 -> 0.73249758 | F13: 0.4 | G13: 0.3 | H13: 0.3
D14: Financeiro | E14: ='Planilha Orcamentaria'!H24 -> 453611.97 | F14: =F13*$E$14 -> 181444.79 | G14: =G13*$E$14 -> 136083.59 | H14: =H13*$E$14 -> 136083.59 | I14: =I13*$E$10 -> 0 | J14: =J13*$E$10 -> 0 | K14: =K13*$E$10 -> 0
A15: 5 | C15: ='Planilha Orcamentaria'!C27 -> SINALIZAÇÃO VERTICAL | D15: Físico % | E15: =E16/$E$32 -> 0.0060355175 | H15: 1
D16: Financeiro | E16: ='Planilha Orcamentaria'!H27 -> 3737.6 | F16: =F15*$E$16 -> 0 | G16: =G15*$E$16 -> 0 | H16: =H15*$E$16 -> 3737.6 | I16: =I15*$E$12 -> 0 | J16: =J15*$E$12 -> 0 | K16: =K15*$E$12 -> 0
A17: 6 | C17: ='MEMORIA DE CAL'!C27 -> ACESSIBILIDADE | D17: Físico % | E17: =E18/$E$32 -> 0.00099880903 | H17: 1
D18: Financeiro | E18: ='Planilha Orcamentaria'!H30 -> 618.53 | F18: =F17*$E$18 -> 0 | G18: =G17*$E$18 -> 0 | H18: =H17*$E$18 -> 618.53 | I18: =I17*$E$18 -> 0 | J18: =J17*$E$18 -> 0 | K18: =K17*$E$18 -> 0
D19: Físico %
D20: Financeiro | F20: =F19*$E$20 -> 0 | G20: =G19*$E$20 -> 0 | H20: =H19*$E$20 -> 0 | I20: =I19*$E$20 -> 0 | J20: =J19*$E$20 -> 0 | K20: =K19*$E$20 -> 0
D21: Físico %
D22: Financeiro | F22: =F21*$E$22 -> 0 | G22: =G21*$E$22 -> 0 | H22: =H21*$E$22 -> 0 | I22: =I21*$E$22 -> 0 | J22: =J21*$E$22 -> 0 | K22: =K21*$E$22 -> 0
D23: Físico %
D24: Financeiro | F24: =F23*$E$24 -> 0 | G24: =G23*$E$24 -> 0 | H24: =H23*$E$24 -> 0 | I24: =I23*$E$24 -> 0 | J24: =J23*$E$24 -> 0 | K24: =K23*$E$24 -> 0
D25: Físico %
D26: Financeiro | F26: =F25*$E$26 -> 0 | G26: =G25*$E$26 -> 0 | H26: =H25*$E$26 -> 0 | I26: =I25*$E$26 -> 0 | J26: =J25*$E$26 -> 0 | K26: =K25*$E$26 -> 0
D27: Físico %
D28: Financeiro | F28: =F27*$E$28 -> 0 | G28: =G27*$E$28 -> 0 | H28: =H27*$E$28 -> 0 | I28: =I27*$E$28 -> 0 | J28: =J27*$E$28 -> 0 | K28: =K27*$E$28 -> 0
D29: Físico %
D30: Financeiro | F30: =F29*$E$30 -> 0 | G30: =G29*$E$30 -> 0 | H30: =H29*$E$30 -> 0 | I30: =I29*$E$30 -> 0 | J30: =J29*$E$30 -> 0 | K30: =K29*$E$30 -> 0
A31: TOTAL | D31: Físico % | E31: =E7+E9+E15+E11++E13+E17+E19+E21+E23+E25+E27+E29 -> 1 | F31: =F32/$E$32 -> 0.40581481 | G31: =G32/$E$32 -> 0.29357543 | H31: =H32/$E$32 -> 0.30060976 | I31: =I32/$E$32 -> 0 | J31: =J32/$E$32 -> 0 | K31: =K32/$E$32 -> 0
D32: Financeiro | E32: =E8+E10+E12+E14+E16+E18+E20+E22+E24+E26+E28+E30 -> 619267.53 | F32: =F8+F10+F12+F14+F16+F18+F20+F22+F24+F26+F28+F30 -> 251307.93 | G32: =G8+G10+G12+G14+G16+G18+G20+G22+G24+G26+G28+G30 -> 181801.73 | H32: =H8+H10+H12+H14+H16+H18+H20+H22+H24+H26+H28+H30 -> 186157.86 | I32: =I8+I10+I12+I14+I16+I18+I20+I22+I24+I26+I28+I30 -> 0 | J32: =J8+J10+J12+J14+J16+J18+J20+J22+J24+J26+J28+J30 -> 0 | K32: =K8+K10+K12+K14+K16+K18+K20+K22+K24+K26+K28+K30 -> 0
H35: Observações:
B36: Assinatura do engenheiro/arquiteto/técnico em edificaçõe/técnico em estradas responsável | E36: CREA ou CAU
B39: Assinatura do Prefeito
