Workbook
Name \0: #REF!
Name \0: #REF!
Name \a: #REF!
Name \a: #REF!
Name \c: [1]PLMUSEU!#REF!
Name \c: [1]PLMUSEU!#REF!
Name \d: '[2]Bm 8'!#REF!
Name \d: '[2]Bm 8'!#REF!
Name \f: #N/A
Name \I: #REF!
Name \I: #REF!
Name \p: #N/A
Name \q: '[2]Bm 8'!#REF!
Name \q: '[2]Bm 8'!#REF!
Name \S: [3]COMPOS1!#REF!
Name \S: [3]COMPOS1!#REF!
Name \x: [1]PLMUSEU!#REF!
Name \x: [1]PLMUSEU!#REF!
Name \z: [1]PLMUSEU!#REF!
Name \z: [1]PLMUSEU!#REF!
Name ______BOR1: '[2]Bm 8'!#REF!
Name ______BOR1: '[2]Bm 8'!#REF!
Name ____Ele200502: #REF!
Name ____Ele200502: #REF!
Name ____Ele200609: #REF!
Name ____Ele200609: #REF!
Name ____pv2: #REF!
Name ____pv2: #REF!
Name ____pv3: #REF!
Name ____pv3: #REF!
Name ____REV5: #REF!
Name ____REV5: #REF!
Name ____Ser200506: #REF!
Name ____Ser200506: #REF!
Name ____Ser200705: #REF!
Name ____Ser200705: #REF!
Name ____Ser200712: #REF!
Name ____Ser200712: #REF!
Name ____Ser201104: #REF!
Name ____Ser201104: #REF!
Name ____TR2: #REF!
Name ____TR2: #REF!
Name ____TR5: #REF!
Name ____TR5: #REF!
Name ___BOR1: '[2]Bm 8'!#REF!
Name ___BOR1: '[2]Bm 8'!#REF!
Name ___Ele200502: #REF!
Name ___Ele200502: #REF!
Name ___Ele200609: #REF!
Name ___Ele200609: #REF!
Name ___pv2: #REF!
Name ___pv2: #REF!
Name ___pv3: #REF!
Name ___pv3: #REF!
Name ___REV5: #REF!
Name ___REV5: #REF!
Name ___Ser200506: #REF!
Name ___Ser200506: #REF!
Name ___Ser200705: #REF!
Name ___Ser200705: #REF!

Sheet previsao
C2: Empresa: Anderson Soares Paulino e Cia Ltda | H2: Local da Obra | K2: PROCESSO LICITATÓRIO Nº 606 | M2: Período de medição | Q2: Boletim de medição nº
C3: Objeto Contratual: Pavimentação e Drenagem | H3: Rua São José | K3: CONCORRÊNCIA PÚBLICA Nº 22/2015
A5: BDI: | B5: 0.3 | C5: DADOS CONTRATUAIS | M5: DADOS DE MEDIÇÃO
A6: ITEM | B6: CÓDIGO | C6: DESCRIÇÃO DOS SERVIÇOS | D6: UNID. | E6: Quantidades | H6: Valor unit. S/ BDI | I6: Valor unit. C/ BDI | J6: Valores | M6: ACUMULADO ANTERIOR | O6: SALDO ANTERIOR | Q6: BM Atual | S6: SALDO ATUAL
E7: CONTR. | F7: T.A | G7: ACUM. | J7: CONTR. | K7: T.A | L7: ACUM. | M7: Quant. | N7: Valor | O7: Quant. | P7: Valor | Q7: Quant. | R7: Valor | S7: Quant. | T7: Valor
A8: 1 | C8: INSTALAÇÕES INICIAIS DA OBRA | J8: =SUM(J9:J15) -> 11729.12 | K8: =SUM(K9:K10) -> 0 | L8: =SUM(L9:L15) -> 11729.12 | N8: =SUM(N9:N15) -> #REF! | P8: =SUM(P9:P15) -> #REF! | R8: =SUM(R9:R15) -> 1572.1615 | T8: =SUM(T9:T15) -> #REF!
A9: 1.1 | B9: COMP | C9: FORNECIMENTO E COLOCAÇÃO DE PLACA DE OBRA EM CHAPA GALVANIZADA (3,00 X 1,50 M) | D9: UND | E9: 1 | G9: =E9+F9 -> 1 | H9: 626.29 | I9: =H9*(1+$B$5) -> 814.177 | J9: =E9*I9 -> 814.177 | K9: =F9*I9 -> 0 | L9: =J9+K9 -> 814.177 | M9: =#REF!+#REF!+#REF! -> #REF! | N9: =M9*I9 -> #REF! | O9: =G9-M9 -> #REF! | P9: =O9*I9 -> #REF! | R9: =Q9*I9 -> 0 | S9: =G9-(M9+Q9) -> #REF! | T9: =S9*I9 -> #REF!
A10: 1.2 | B10: MOB-DES-020 | C10: MOBILIZAÇÃO E DESMOBILIZAÇÃO DE OBRA - PARA OBRAS EXECUTADAS EM CENTROS URBANOS OU PRÓXIMOS DE CENTROS URBANOS ATÉ O VALOR DE 1.000.000,00 | D10: UND | E10: 1 | G10: =E10+F10 -> 1 | H10: 2317.91 | I10: =H10*(1+$B$5) -> 3013.283 | J10: =E10*I10 -> 3013.283 | K10: =F10*I10 -> 0 | L10: =J10+K10 -> 3013.283 | M10: =#REF!+#REF!+#REF! -> #REF! | N10: =M10*I10 -> #REF! | O10: =G10-M10 -> #REF! | P10: =O10*I10 -> #REF! | Q10: 0.5 | R10: =Q10*I10 -> 1506.6415 | S10: =G10-(M10+Q10) -> #REF! | T10: =S10*I10 -> #REF!
A11: 1.3 | B11: IIO-BAR-046 | C11: BARRACÃO DE OBRA, INCLUSIVE SANITÁRIOS | D11: M2 | E11: 18 | G11: =E11+F11 -> 18 | H11: 252.02 | I11: =H11*(1+$B$5) -> 327.626 | J11: =E11*I11 -> 5897.268 | K11: =F11*I11 -> 0 | L11: =J11+K11 -> 5897.268 | M11: =#REF!+#REF!+#REF! -> #REF! | N11: =M11*I11 -> #REF! | O11: =G11-M11 -> #REF! | P11: =O11*I11 -> #REF! | R11: =Q11*I11 -> 0 | S11: =G11-(M11+Q11) -> #REF! | T11: =S11*I11 -> #REF!
A12: 1.4 | B12: IIO-LIG-015 | C12: LIGAÇÃO PROVISÓRIA DE ÁGUA E ESGOTO | D12: UND | E12: 1 | G12: =E12+F12 -> 1 | H12: 341.79 | I12: =H12*(1+$B$5) -> 444.327 | J12: =E12*I12 -> 444.327 | K12: =F12*I12 -> 0 | L12: =J12+K12 -> 444.327 | M12: =#REF!+#REF!+#REF! -> #REF! | N12: =M12*I12 -> #REF! | O12: =G12-M12 -> #REF! | P12: =O12*I12 -> #REF! | R12: =Q12*I12 -> 0 | S12: =G12-(M12+Q12) -> #REF! | T12: =S12*I12 -> #REF!
A13: 1.5 | B13: IIO-TAP-025 | C13: TAPUME COM TELA DE POLIETILENO | D13: M2 | E13: 100 | G13: =E13+F13 -> 100 | H13: 7.13 | I13: =H13*(1+$B$5) -> 9.269 | J13: =E13*I13 -> 926.9 | K13: =F13*I13 -> 0 | L13: =J13+K13 -> 926.9 | M13: =#REF!+#REF!+#REF! -> #REF! | N13: =M13*I13 -> #REF! | O13: =G13-M13 -> #REF! | P13: =O13*I13 -> #REF! | R13: =Q13*I13 -> 0 | S13: =G13-(M13+Q13) -> #REF! | T13: =S13*I13 -> #REF!
A14: 1.6 | B14: COMP | C14: CONFECÇÃO DE FAIXA EM TNT COM LOGO, PARA SINALIZAÇÃO DE VIA (5,00X0,60) PADRÃO PREFEITURA | D14: UND | E14: 4 | G14: =E14+F14 -> 4 | H14: 25.2 | I14: =H14*(1+$B$5) -> 32.76 | J14: =E14*I14 -> 131.04 | K14: =F14*I14 -> 0 | L14: =J14+K14 -> 131.04 | M14: =#REF!+#REF!+#REF! -> #REF! | N14: =M14*I14 -> #REF! | O14: =G14-M14 -> #REF! | P14: =O14*I14 -> #REF! | Q14: 2 | R14: =Q14*I14 -> 65.52 | S14: =G14-(M14+Q14) -> #REF! | T14: =S14*I14 -> #REF!
A15: 1.7 | B15: COMP | C15: PASSARELA PROVISÓRIA EM TABUAS E PONTALETES (1,50X1,50)m INCLUSIVE MONTAGEM, DESMONTAGEM E TRANSPORTE. | D15: UND | E15: 5 | G15: =E15+F15 -> 5 | H15: 77.25 | I15: =H15*(1+$B$5) -> 100.425 | J15: =E15*I15 -> 502.125 | K15: =F15*I15 -> 0 | L15: =J15+K15 -> 502.125 | M15: =#REF!+#REF!+#REF! -> #REF! | N15: =M15*I15 -> #REF! | O15: =G15-M15 -> #REF! | P15: =O15*I15 -> #REF! | R15: =Q15*I15 -> 0 | S15: =G15-(M15+Q15) -> #REF! | T15: =S15*I15 -> #REF!
A16: 2 | C16: OBRAS VIÁRIAS - PAVIMENTAÇÃO | J16: =SUM(J17:J24) -> 318150.67 | K16: =SUM(K17:K24) -> 0 | L16: =SUM(L17:L24) -> 318150.67 | M16: =#REF!+#REF!+#REF! -> #REF! | N16: =SUM(N17:N24) -> #REF! | P16: =SUM(P17:P24) -> #REF! | R16: =SUM(R17:R24) -> 74577.841 | T16: =SUM(T17:T24) -> #REF!
A17: 2.1 | B17: COMP | C17: REMOÇÃO DE PAVIMENTO EXISTENTE INCLUSIVE REMOÇÃO PARA BOTA FORA | D17: M2 | E17: 3423.5 | G17: =E17+F17 -> 3423.5 | H17: 3.76 | I17: =H17*(1+$B$5) -> 4.888 | J17: =E17*I17 -> 16734.068 | K17: =F17*I17 -> 0 | L17: =J17+K17 -> 16734.068 | M17: =#REF!+#REF!+#REF! -> #REF! | N17: =M17*I17 -> #REF! | O17: =G17-M17 -> #REF! | P17: =O17*I17 -> #REF! | Q17: =123*5 -> 615 | R17: =Q17*I17 -> 3006.12 | S17: =G17-(M17+Q17) -> #REF! | T17: =S17*I17 -> #REF!
A18: 2.2 | B18: TER-COR-005 | C18: CORTE E DESATERRO PARA REGULARIZAÇÃO E ARRASTAMENTO NIVELADO A CURTA DISTÃNCIA COM LÂMINA | D18: M3 | E18: 684.6 | G18: =E18+F18 -> 684.6 | H18: 2.06 | I18: =H18*(1+$B$5) -> 2.678 | J18: =E18*I18 -> 1833.3588 | K18: =F18*I18 -> 0 | L18: =J18+K18 -> 1833.3588 | M18: =#REF!+#REF!+#REF! -> #REF! | N18: =M18*I18 -> #REF! | O18: =G18-M18 -> #REF! | P18: =O18*I18 -> #REF! | R18: =Q18*I18 -> 0 | S18: =G18-(M18+Q18) -> #REF! | T18: =S18*I18 -> #REF!
A19: 2.3 | B19: OBR-VIA-130 | C19: REGULARIZAÇÃO DO SUBLEITO COM PROCTOR INTERMEDIÁRIO | D19: M2 | E19: 3423.5 | G19: =E19+F19 -> 3423.5 | H19: 0.89 | I19: =H19*(1+$B$5) -> 1.157 | J19: =E19*I19 -> 3960.9895 | K19: =F19*I19 -> 0 | L19: =J19+K19 -> 3960.9895 | M19: =#REF!+#REF!+#REF! -> #REF! | N19: =M19*I19 -> #REF! | O19: =G19-M19 -> #REF! | P19: =O19*I19 -> #REF! | Q19: =Q17 -> 615 | R19: =Q19*I19 -> 711.555 | S19: =G19-(M19+Q19) -> #REF! | T19: =S19*I19 -> #REF!
A20: 2.4 | B20: OBR-VIA-315 | C20: TRANSPORTE DE MATERIAL DE JAZIDA PARA CONSERVAÇÃO DMT DE 0 A 10 KM | D20: M³xKm | E20: 3423.5 | G20: =E20+F20 -> 3423.5 | H20: 0.8 | I20: =H20*(1+$B$5) -> 1.04 | J20: =E20*I20 -> 3560.44 | K20: =F20*I20 -> 0 | L20: =J20+K20 -> 3560.44 | M20: =#REF!+#REF!+#REF! -> #REF! | N20: =M20*I20 -> #REF! | O20: =G20-M20 -> #REF! | P20: =O20*I20 -> #REF! | Q20: =Q17 -> 615 | R20: =Q20*I20 -> 639.6 | S20: =G20-(M20+Q20) -> #REF! | T20: =S20*I20 -> #REF!
A21: 2.5 | B21: OBR-VIA-135 | C21: EXECUÇÃO DE REFORÇO DO SUBLEITO, INCLUINDO ESCAVAÇÃO, CARGA, DESCARGA, HOMOGENIZAÇÃO, UMIDECIMENTO, ESPALHAMENTO E COMPACTAÇÃO DE MATERIAL (PROCTOR INTERMEDIÁRIO) | D21: M3 | E21: 342.3 | G21: =E21+F21 -> 342.3 | H21: 7.08 | I21: =H21*(1+$B$5) -> 9.204 | J21: =E21*I21 -> 3150.5292 | K21: =F21*I21 -> 0 | L21: =J21+K21 -> 3150.5292 | M21: =#REF!+#REF!+#REF! -> #REF! | N21: =M21*I21 -> #REF! | O21: =G21-M21 -> #REF! | P21: =O21*I21 -> #REF! | Q21: =Q17*0.1 -> 61.5 | R21: =Q21*I21 -> 566.046 | S21: =G21-(M21+Q21) -> #REF! | T21: =S21*I21 -> #REF!
A22: 2.6 | B22: OBR-VIA-205 | C22: EXECUÇÃO DE PAVIMENTO EM CALÇAMENTO DE PARALELEPÍPEDO, INCLUINDO FORNECIMENTO DE TODOS OS MATERIAIS, COLCHÃO DE ASSENTAMENTO; INCLUSIVE O TRANSPORTE DO PARALELEPÍPEDO | D22: m² | E22: 2770 | G22: =E22+F22 -> 2770 | H22: 59.6 | I22: =H22*(1+$B$5) -> 77.48 | J22: =E22*I22 -> 214619.6 | K22: =F22*I22 -> 0 | L22: =J22+K22 -> 214619.6 | M22: =#REF!+#REF!+#REF! -> #REF! | N22: =M22*I22 -> #REF! | O22: =G22-M22 -> #REF! | P22: =O22*I22 -> #REF! | Q22: =16.5*6+800 -> 899 | R22: =Q22*I22 -> 69654.52 | S22: =G22-(M22+Q22) -> #REF! | T22: =S22*I22 -> #REF!
A23: 2.7 | B23: COMP | C23: EXECUÇÃO DE PAVIMENTO DE LAJE DE PEDRA, INCLUINDO FORNECIMENTO DE DA LAJE, COLCHÃO DE AREIA E REJUNTAMENTO EM CONCRETO | D23: m² | E23: 653.5 | G23: =E23+F23 -> 653.5 | H23: 82 | I23: =H23*(1+$B$5) -> 106.6 | J23: =E23*I23 -> 69663.1 | K23: =F23*I23 -> 0 | L23: =J23+K23 -> 69663.1 | M23: =#REF!+#REF!+#REF! -> #REF! | N23: =M23*I23 -> #REF! | O23: =G23-M23 -> #REF! | P23: =O23*I23 -> #REF! | R23: =Q23*I23 -> 0 | S23: =G23-(M23+Q23) -> #REF! | T23: =S23*I23 -> #REF!
A24: 2.8 | B24: OBR-VIA-410 | C24: TRANSPORTE DE MATERIAL DE QUALQUER NATUREZA DMT 0 A 10 KM | D24: TXKM | E24: 7120.9 | G24: =E24+F24 -> 7120.9 | H24: 0.5 | I24: =H24*(1+$B$5) -> 0.65 | J24: =E24*I24 -> 4628.585 | K24: =F24*I24 -> 0 | L24: =J24+K24 -> 4628.585 | M24: =#REF!+#REF!+#REF! -> #REF! | N24: =M24*I24 -> #REF! | O24: =G24-M24 -> #REF! | P24: =O24*I24 -> #REF! | R24: =Q24*I24 -> 0 | S24: =G24-(M24+Q24) -> #REF! | T24: =S24*I24 -> #REF!
A25: 3 | C25: DRENAGEM | J25: =SUM(J26:J33) -> 94355.495 | K25: =SUM(K26:K33) -> 0 | L25: =SUM(L26:L33) -> 94355.495 | M25: =#REF!+#REF!+#REF! -> #REF! | N25: =SUM(N26:N33) -> #REF! | P25: =SUM(P26:P33) -> #REF! | R25: =SUM(R26:R33) -> 31495.179 | T25: =SUM(T26:T33) -> #REF!
A26: 3.1 | B26: OBR-VIA-085 | C26: ESCAVAÇÃO MECÂNICA DE VALAS DE MATERIAL DE 1ª CATEGORIA, INCLUINDO REMOÇÃO PARA BOTA FORA DO LEITO ESTRADAL | D26: M3 | E26: 532 | G26: =E26+F26 -> 532 | H26: 3.07 | I26: =H26*(1+$B$5) -> 3.991 | J26: =E26*I26 -> 2123.212 | K26: =F26*I26 -> 0 | L26: =J26+K26 -> 2123.212 | M26: =#REF!+#REF!+#REF! -> #REF! | N26: =M26*I26 -> #REF! | O26: =G26-M26 -> #REF! | P26: =O26*I26 -> #REF! | Q26: =((50+8+13+29+18+11+11)*0.5*0.9)+(8*0.7*1.1)+319.74 -> 388.9 | R26: =Q26*I26 -> 1552.0999 | S26: =G26-(M26+Q26) -> #REF! | T26: =S26*I26 -> #REF!
A27: 3.2 | B27: DRE-CON-005 | C27: CONCRETO PARA BERÇO DE REDE TUBULAR TRAÇO 1:3:6, INCLUSIVE LANÇAMENTO | D27: M3 | E27: 47 | G27: =E27+F27 -> 47 | H27: 191.86 | I27: =H27*(1+$B$5) -> 249.418 | J27: =E27*I27 -> 11722.646 | K27: =F27*I27 -> 0 | L27: =J27+K27 -> 11722.646 | M27: =#REF!+#REF!+#REF! -> #REF! | N27: =M27*I27 -> #REF! | O27: =G27-M27 -> #REF! | P27: =O27*I27 -> #REF! | Q27: =((50+8+13+29+18+11+11)*0.1*0.5)+(8*0.1*0.7) -> 7.56 | R27: =Q27*I27 -> 1885.6001 | S27: =G27-(M27+Q27) -> #REF! | T27: =S27*I27 -> #REF!
A28: 3.3 | B28: DRE-SAR-005 | C28: SARJETA TIPO 1 - 50 X 5 CM, I = 3 %, PADRÃO DEOP-MG | D28: M | E28: 1080 | G28: =E28+F28 -> 1080 | H28: 8.91 | I28: =H28*(1+$B$5) -> 11.583 | J28: =E28*I28 -> 12509.64 | K28: =F28*I28 -> 0 | L28: =J28+K28 -> 12509.64 | M28: =#REF!+#REF!+#REF! -> #REF! | N28: =M28*I28 -> #REF! | O28: =G28-M28 -> #REF! | P28: =O28*I28 -> #REF! | Q28: =148*2+110+21.4 -> 427.4 | R28: =Q28*I28 -> 4950.5742 | S28: =G28-(M28+Q28) -> #REF! | T28: =S28*I28 -> #REF!
A29: 3.4 | B29: DRE-BOC-010 | C29: BOCA DE LOBO SIMPLES, QUADRO, GRELHA E CANTONEIRA, INCLUSIVE ESCAVAÇÃO, REATERRO E BOTA-FORA | D29: UND | E29: 25 | G29: =E29+F29 -> 25 | H29: 448.3 | I29: =H29*(1+$B$5) -> 582.79 | J29: =E29*I29 -> 14569.75 | K29: =F29*I29 -> 0 | L29: =J29+K29 -> 14569.75 | M29: =#REF!+#REF!+#REF! -> #REF! | N29: =M29*I29 -> #REF! | O29: =G29-M29 -> #REF! | P29: =O29*I29 -> #REF! | Q29: 18 | R29: =Q29*I29 -> 10490.22 | S29: =G29-(M29+Q29) -> #REF! | T29: =S29*I29 -> #REF!
A30: 3.5 | B30: DRE-POÇ-020 | C30: POÇO DE VISITA PARA REDE TUBULAR TIPO A DN 800, INCLUSIVE ESCAVAÇÃO, REATERRO E BOTA FORA | D30: UND | E30: 3 | G30: =E30+F30 -> 3 | H30: 980.35 | I30: =H30*(1+$B$5) -> 1274.455 | J30: =E30*I30 -> 3823.365 | K30: =F30*I30 -> 0 | L30: =J30+K30 -> 3823.365 | M30: =#REF!+#REF!+#REF! -> #REF! | N30: =M30*I30 -> #REF! | O30: =G30-M30 -> #REF! | P30: =O30*I30 -> #REF! | Q30: 1 | R30: =Q30*I30 -> 1274.455 | S30: =G30-(M30+Q30) -> #REF! | T30: =S30*I30 -> #REF!
A31: 3.6 | B31: DRE-TUB-045 | C31: FORNECIMENTO, ASSENTAMENTO E REJUNTAMENTO DE TUBO DE CONCRETO SIMPLES PS1 D = 400 MM | D31: M | E31: 721 | G31: =E31+F31 -> 721 | H31: 48.65 | I31: =H31*(1+$B$5) -> 63.245 | J31: =E31*I31 -> 45599.645 | K31: =F31*I31 -> 0 | L31: =J31+K31 -> 45599.645 | M31: =#REF!+#REF!+#REF! -> #REF! | N31: =M31*I31 -> #REF! | O31: =G31-M31 -> #REF! | P31: =O31*I31 -> #REF! | Q31: =(50+8+13+29+18+11+11) -> 140 | R31: =Q31*I31 -> 8854.3 | S31: =G31-(M31+Q31) -> #REF! | T31: =S31*I31 -> #REF!
A32: 3.7 | B32: DRE-TUB-055 | C32: FORNECIMENTO, ASSENTAMENTO E REJUNTAMENTO DE TUBO DE CONCRETO SIMPLES PS1 D = 600 MM | D32: M | E32: 8 | G32: =E32+F32 -> 8 | H32: 83.65 | I32: =H32*(1+$B$5) -> 108.745 | J32: =E32*I32 -> 869.96 | K32: =F32*I32 -> 0 | L32: =J32+K32 -> 869.96 | M32: =#REF!+#REF!+#REF! -> #REF! | N32: =M32*I32 -> #REF! | O32: =G32-M32 -> #REF! | P32: =O32*I32 -> #REF! | Q32: 8 | R32: =Q32*I32 -> 869.96 | S32: =G32-(M32+Q32) -> #REF! | T32: =S32*I32 -> #REF!
A33: 3.8 | B33: TER-REA-010 | C33: REATERRO COMPACTADO DE VALA COM EQUIPAMENTO PLACA VIBRATÓRIA | D33: M3 | E33: 213 | G33: =E33+F33 -> 213 | H33: 11.33 | I33: =H33*(1+$B$5) -> 14.729 | J33: =E33*I33 -> 3137.277 | K33: =F33*I33 -> 0 | L33: =J33+K33 -> 3137.277 | M33: =#REF!+#REF!+#REF! -> #REF! | N33: =M33*I33 -> #REF! | O33: =G33-M33 -> #REF! | P33: =O33*I33 -> #REF! | Q33: =((50+8+13+29+18+11+11))*0.5*0.9-(50+8+13+29+18+11+11)*((3.1415*(0.4^2))/4)+((8)*0.7*1.1)*((3.1415*(0.6^2))/4)+62.7 -> 109.84925 | R33: =Q33*I33 -> 1617.9696 | S33: =G33-(M33+Q33) -> #REF! | T33: =S33*I33 -> #REF!
A34: 4 | C34: URBANIZAÇÃO E ACESSIBILIDADE | J34: =SUM(J35:J38) -> 28207.374 | K34: =SUM(K35:K38) -> 0 | L34: =SUM(L35:L38) -> 28207.374 | M34: =#REF!+#REF!+#REF! -> #REF! | N34: =SUM(N35:N38) -> #REF! | P34: =SUM(P35:P38) -> #REF! | R34: =SUM(R35:R38) -> 4469.348 | T34: =SUM(T35:T38) -> #REF!
A35: 4.1 | B35: URB-MFC-005 | C35: MEIO-FIO DE CONCRETO PRÉ-MOLDADO TIPO A - (12 X 16,7 X 35) CM, INCLUSIVE ESCAVAÇÃO E REATERRO | D35: M | E35: 400 | G35: =E35+F35 -> 400 | H35: 22.93 | I35: =H35*(1+$B$5) -> 29.809 | J35: =E35*I35 -> 11923.6 | K35: =F35*I35 -> 0 | L35: =J35+K35 -> 11923.6 | M35: =#REF!+#REF!+#REF! -> #REF! | N35: =M35*I35 -> #REF! | O35: =G35-M35 -> #REF! | P35: =O35*I35 -> #REF! | Q35: 70 | R35: =Q35*I35 -> 2086.63 | S35: =G35-(M35+Q35) -> #REF! | T35: =S35*I35 -> #REF!
A36: 4.2 | B36: URB-PAS-005 | C36: PASSEIOS DE CONCRETO E = 8 CM, FCK = 15 MPA PADRÃO PREFEITURA | D36: M2 | E36: 280 | G36: =E36+F36 -> 280 | H36: 25.57 | I36: =H36*(1+$B$5) -> 33.241 | J36: =E36*I36 -> 9307.48 | K36: =F36*I36 -> 0 | L36: =J36+K36 -> 9307.48 | M36: =#REF!+#REF!+#REF! -> #REF! | N36: =M36*I36 -> #REF! | O36: =G36-M36 -> #REF! | P36: =O36*I36 -> #REF! | Q36: 60 | R36: =Q36*I36 -> 1994.46 | S36: =G36-(M36+Q36) -> #REF! | T36: =S36*I36 -> #REF!
A37: 4.3 | B37: URB-RAM-005 | C37: RAMPA PARA ACESSO DE DEFICIENTE EM CONCRETO SIMPLES FCK=25MPA, DESEMPENADO, COM PINTURA INDICATIVA DUAS DEMÃOS | D37: UND | E37: 6 | G37: =E37+F37 -> 6 | H37: 149.33 | I37: =H37*(1+$B$5) -> 194.129 | J37: =E37*I37 -> 1164.774 | K37: =F37*I37 -> 0 | L37: =J37+K37 -> 1164.774 | M37: =#REF!+#REF!+#REF! -> #REF! | N37: =M37*I37 -> #REF! | O37: =G37-M37 -> #REF! | P37: =O37*I37 -> #REF! | Q37: 2 | R37: =Q37*I37 -> 388.258 | S37: =G37-(M37+Q37) -> #REF! | T37: =S37*I37 -> #REF!
A38: 4.4 | B38: OBR-VIA-205 | C38: EXECUÇÃO DE PAVIMENTO EM CALÇAMENTO DE PARALELEPÍPEDO, INCLUINDO FORNECIMENTO DE TODOS OS MATERIAIS, COLCHÃO DE ASSENTAMENTO; INCLUSIVE O TRANSPORTE DO PARALELEPÍPEDO - PASSAGEM ELEVADA DE PEDESTRE | D38: m² | E38: 80 | G38: =E38+F38 -> 80 | H38: 55.88 | I38: =H38*(1+$B$5) -> 72.644 | J38: =E38*I38 -> 5811.52 | K38: =F38*I38 -> 0 | L38: =J38+K38 -> 5811.52 | M38: =#REF!+#REF!+#REF! -> #REF! | N38: =M38*I38 -> #REF! | O38: =G38-M38 -> #REF! | P38: =O38*I38 -> #REF! | Q38: 0 | R38: =Q38*I38 -> 0 | S38: =G38-(M38+Q38) -> #REF! | T38: =S38*I38 -> #REF!
C39: LIMPEZA DA OBRA | J39: =SUM(J40) -> 9034.6165 | K39: =SUM(K40:K40) -> 0 | L39: =SUM(L40:L40) -> 9034.6165 | M39: =#REF!+#REF!+#REF! -> #REF! | N39: =SUM(N40:N40) -> #REF! | P39: =SUM(P40:P40) -> #REF! | R39: =SUM(R40:R40) -> 9034.6165 | T39: =SUM(T40:T40) -> #REF!
A40: 5.1 | B40: LIM-GER-005 | C40: LIMPEZA GERAL DE OBRA | D40: M2 | E40: 3423.5 | G40: =E40+F40 -> 3423.5 | H40: 2.03 | I40: =H40*(1+$B$5) -> 2.639 | J40: =E40*I40 -> 9034.6165 | K40: =F40*I40 -> 0 | L40: =J40+K40 -> 9034.6165 | M40: =#REF!+#REF!+#REF! -> #REF! | N40: =M40*I40 -> #REF! | O40: =G40-M40 -> #REF! | P40: =O40*I40 -> #REF! | Q40: 3423.5 | R40: =Q40*I40 -> 9034.6165 | S40: =G40-(M40+Q40) -> #REF! | T40: =S40*I40 -> #REF!
J42: =SUM(J8,J16,J25,J34,,J39) -> 461477.28 | K42: =SUM(K8,K16,K25,K34,,K39) -> 0 | L42: =SUM(L8,L16,L25,L34,,L39) -> 461477.28 | N42: =SUM(N8,N16,N25,N34,,N39) -> #REF! | P42: =SUM(P8,P16,P25,P34,,P39) -> #REF! | R42: =SUM(R8,R16,R25,R34,,R39) -> 121149.15 | T42: =SUM(T8,T16,T25,T34,,T39) -> #REF!
J43: =J42*1.25 -> 576846.6
...

Sheet saldo contrato
C2: Empresa: Anderson Soares Paulino e Cia Ltda | H2: Local da Obra | K2: PROCESSO LICITATÓRIO Nº 606
C3: Objeto Contratual: Pavimentação e Drenagem | H3: Rua São José | K3: CONCORRÊNCIA PÚBLICA Nº 22/2015
A5: BDI: | B5: 0.3 | C5: DADOS CONTRATUAIS | M5: DADOS DE MEDIÇÃO
A6: ITEM | B6: CÓDIGO | C6: DESCRIÇÃO DOS SERVIÇOS | D6: UNID. | E6: Quantidades | H6: Valor unit. S/ BDI | I6: Valor unit. C/ BDI | J6: Valores | M6: ACUMULADO ANTERIOR | O6: SALDO ANTERIOR | Q6: BM Atual | S6: SALDO ATUAL
E7: CONTR. | F7: T.A | G7: ACUM. | J7: CONTR. | K7: T.A | L7: ACUM. | M7: Quant. | N7: Valor | O7: Quant. | P7: Valor | Q7: Quant. | R7: Valor | S7: Quant. | T7: Valor
A8: 1 | C8: INSTALAÇÕES INICIAIS DA OBRA | J8: =SUM(J9:J15) -> 11729.12 | K8: =SUM(K9:K10) -> 0 | L8: =SUM(L9:L15) -> 11729.12 | N8: =SUM(N9:N15) -> #REF! | P8: =SUM(P9:P15) -> #REF! | R8: =SUM(R9:R15) -> 0 | T8: =SUM(T9:T15) -> #REF!
A9: 1.1 | B9: COMP | C9: FORNECIMENTO E COLOCAÇÃO DE PLACA DE OBRA EM CHAPA GALVANIZADA (3,00 X 1,50 M) | D9: UND | E9: 1 | G9: =E9+F9 -> 1 | H9: 626.29 | I9: =H9*(1+$B$5) -> 814.177 | J9: =E9*I9 -> 814.177 | K9: =F9*I9 -> 0 | L9: =J9+K9 -> 814.177 | M9: =#REF!+#REF!+#REF!+previsao!Q9 -> #REF! | N9: =M9*I9 -> #REF! | O9: =G9-M9 -> #REF! | P9: =O9*I9 -> #REF! | R9: =Q9*I9 -> 0 | S9: =G9-(M9+Q9) -> #REF! | T9: =S9*I9 -> #REF!
A10: 1.2 | B10: MOB-DES-020 | C10: MOBILIZAÇÃO E DESMOBILIZAÇÃO DE OBRA - PARA OBRAS EXECUTADAS EM CENTROS URBANOS OU PRÓXIMOS DE CENTROS URBANOS ATÉ O VALOR DE 1.000.000,00 | D10: UND | E10: 1 | G10: =E10+F10 -> 1 | H10: 2317.91 | I10: =H10*(1+$B$5) -> 3013.283 | J10: =E10*I10 -> 3013.283 | K10: =F10*I10 -> 0 | L10: =J10+K10 -> 3013.283 | M10: =#REF!+#REF!+#REF!+previsao!Q10 -> #REF! | N10: =M10*I10 -> #REF! | O10: =G10-M10 -> #REF! | P10: =O10*I10 -> #REF! | R10: =Q10*I10 -> 0 | S10: =G10-(M10+Q10) -> #REF! | T10: =S10*I10 -> #REF!
A11: 1.3 | B11: IIO-BAR-046 | C11: BARRACÃO DE OBRA, INCLUSIVE SANITÁRIOS | D11: M2 | E11: 18 | G11: =E11+F11 -> 18 | H11: 252.02 | I11: =H11*(1+$B$5) -> 327.626 | J11: =E11*I11 -> 5897.268 | K11: =F11*I11 -> 0 | L11: =J11+K11 -> 5897.268 | M11: =#REF!+#REF!+#REF!+previsao!Q11 -> #REF! | N11: =M11*I11 -> #REF! | O11: =G11-M11 -> #REF! | P11: =O11*I11 -> #REF! | R11: =Q11*I11 -> 0 | S11: =G11-(M11+Q11) -> #REF! | T11: =S11*I11 -> #REF!
A12: 1.4 | B12: IIO-LIG-015 | C12: LIGAÇÃO PROVISÓRIA DE ÁGUA E ESGOTO | D12: UND | E12: 1 | G12: =E12+F12 -> 1 | H12: 341.79 | I12: =H12*(1+$B$5) -> 444.327 | J12: =E12*I12 -> 444.327 | K12: =F12*I12 -> 0 | L12: =J12+K12 -> 444.327 | M12: =#REF!+#REF!+#REF!+previsao!Q12 -> #REF! | N12: =M12*I12 -> #REF! | O12: =G12-M12 -> #REF! | P12: =O12*I12 -> #REF! | R12: =Q12*I12 -> 0 | S12: =G12-(M12+Q12) -> #REF! | T12: =S12*I12 -> #REF!
A13: 1.5 | B13: IIO-TAP-025 | C13: TAPUME COM TELA DE POLIETILENO | D13: M2 | E13: 100 | G13: =E13+F13 -> 100 | H13: 7.13 | I13: =H13*(1+$B$5) -> 9.269 | J13: =E13*I13 -> 926.9 | K13: =F13*I13 -> 0 | L13: =J13+K13 -> 926.9 | M13: =#REF!+#REF!+#REF!+previsao!Q13 -> #REF! | N13: =M13*I13 -> #REF! | O13: =G13-M13 -> #REF! | P13: =O13*I13 -> #REF! | R13: =Q13*I13 -> 0 | S13: =G13-(M13+Q13) -> #REF! | T13: =S13*I13 -> #REF!
A14: 1.6 | B14: COMP | C14: CONFECÇÃO DE FAIXA EM TNT COM LOGO, PARA SINALIZAÇÃO DE VIA (5,00X0,60) PADRÃO PREFEITURA | D14: UND | E14: 4 | G14: =E14+F14 -> 4 | H14: 25.2 | I14: =H14*(1+$B$5) -> 32.76 | J14: =E14*I14 -> 131.04 | K14: =F14*I14 -> 0 | L14: =J14+K14 -> 131.04 | M14: =#REF!+#REF!+#REF!+previsao!Q14 -> #REF! | N14: =M14*I14 -> #REF! | O14: =G14-M14 -> #REF! | P14: =O14*I14 -> #REF! | R14: =Q14*I14 -> 0 | S14: =G14-(M14+Q14) -> #REF! | T14: =S14*I14 -> #REF!
A15: 1.7 | B15: COMP | C15: PASSARELA PROVISÓRIA EM TABUAS E PONTALETES (1,50X1,50)m INCLUSIVE MONTAGEM, DESMONTAGEM E TRANSPORTE. | D15: UND | E15: 5 | G15: =E15+F15 -> 5 | H15: 77.25 | I15: =H15*(1+$B$5) -> 100.425 | J15: =E15*I15 -> 502.125 | K15: =F15*I15 -> 0 | L15: =J15+K15 -> 502.125 | M15: =#REF!+#REF!+#REF!+previsao!Q15 -> #REF! | N15: =M15*I15 -> #REF! | O15: =G15-M15 -> #REF! | P15: =O15*I15 -> #REF! | R15: =Q15*I15 -> 0 | S15: =G15-(M15+Q15) -> #REF! | T15: =S15*I15 -> #REF!
A16: 2 | C16: OBRAS VIÁRIAS - PAVIMENTAÇÃO | J16: =SUM(J17:J24) -> 318150.67 | K16: =SUM(K17:K24) -> 0 | L16: =SUM(L17:L24) -> 318150.67 | N16: =SUM(N17:N24) -> #REF! | P16: =SUM(P17:P24) -> #REF! | R16: =SUM(R17:R24) -> 0 | T16: =SUM(T17:T24) -> #REF!
A17: 2.1 | B17: COMP | C17: REMOÇÃO DE PAVIMENTO EXISTENTE INCLUSIVE REMOÇÃO PARA BOTA FORA | D17: M2 | E17: 3423.5 | G17: =E17+F17 -> 3423.5 | H17: 3.76 | I17: =H17*(1+$B$5) -> 4.888 | J17: =E17*I17 -> 16734.068 | K17: =F17*I17 -> 0 | L17: =J17+K17 -> 16734.068 | M17: =#REF!+#REF!+#REF!+previsao!Q17 -> #REF! | N17: =M17*I17 -> #REF! | O17: =G17-M17 -> #REF! | P17: =O17*I17 -> #REF! | R17: =Q17*I17 -> 0 | S17: =G17-(M17+Q17) -> #REF! | T17: =S17*I17 -> #REF!
A18: 2.2 | B18: TER-COR-005 | C18: CORTE E DESATERRO PARA REGULARIZAÇÃO E ARRASTAMENTO NIVELADO A CURTA DISTÃNCIA COM LÂMINA | D18: M3 | E18: 684.6 | G18: =E18+F18 -> 684.6 | H18: 2.06 | I18: =H18*(1+$B$5) -> 2.678 | J18: =E18*I18 -> 1833.3588 | K18: =F18*I18 -> 0 | L18: =J18+K18 -> 1833.3588 | M18: =#REF!+#REF!+#REF!+previsao!Q18 -> #REF! | N18: =M18*I18 -> #REF! | O18: =G18-M18 -> #REF! | P18: =O18*I18 -> #REF! | R18: =Q18*I18 -> 0 | S18: =G18-(M18+Q18) -> #REF! | T18: =S18*I18 -> #REF!
A19: 2.3 | B19: OBR-VIA-130 | C19: REGULARIZAÇÃO DO SUBLEITO COM PROCTOR INTERMEDIÁRIO | D19: M2 | E19: 3423.5 | G19: =E19+F19 -> 3423.5 | H19: 0.89 | I19: =H19*(1+$B$5) -> 1.157 | J19: =E19*I19 -> 3960.9895 | K19: =F19*I19 -> 0 | L19: =J19+K19 -> 3960.9895 | M19: =#REF!+#REF!+#REF!+previsao!Q19 -> #REF! | N19: =M19*I19 -> #REF! | O19: =G19-M19 -> #REF! | P19: =O19*I19 -> #REF! | R19: =Q19*I19 -> 0 | S19: =G19-(M19+Q19) -> #REF! | T19: =S19*I19 -> #REF!
A20: 2.4 | B20: OBR-VIA-315 | C20: TRANSPORTE DE MATERIAL DE JAZIDA PARA CONSERVAÇÃO DMT DE 0 A 10 KM | D20: M³xKm | E20: 3423.5 | G20: =E20+F20 -> 3423.5 | H20: 0.8 | I20: =H20*(1+$B$5) -> 1.04 | J20: =E20*I20 -> 3560.44 | K20: =F20*I20 -> 0 | L20: =J20+K20 -> 3560.44 | M20: =#REF!+#REF!+#REF!+previsao!Q20 -> #REF! | N20: =M20*I20 -> #REF! | O20: =G20-M20 -> #REF! | P20: =O20*I20 -> #REF! | R20: =Q20*I20 -> 0 | S20: =G20-(M20+Q20) -> #REF! | T20: =S20*I20 -> #REF!
A21: 2.5 | B21: OBR-VIA-135 | C21: EXECUÇÃO DE REFORÇO DO SUBLEITO, INCLUINDO ESCAVAÇÃO, CARGA, DESCARGA, HOMOGENIZAÇÃO, UMIDECIMENTO, ESPALHAMENTO E COMPACTAÇÃO DE MATERIAL (PROCTOR INTERMEDIÁRIO) | D21: M3 | E21: 342.3 | G21: =E21+F21 -> 342.3 | H21: 7.08 | I21: =H21*(1+$B$5) -> 9.204 | J21: =E21*I21 -> 3150.5292 | K21: =F21*I21 -> 0 | L21: =J21+K21 -> 3150.5292 | M21: =#REF!+#REF!+#REF!+previsao!Q21 -> #REF! | N21: =M21*I21 -> #REF! | O21: =G21-M21 -> #REF! | P21: =O21*I21 -> #REF! | R21: =Q21*I21 -> 0 | S21: =G21-(M21+Q21) -> #REF! | T21: =S21*I21 -> #REF!
A22: 2.6 | B22: OBR-VIA-205 | C22: EXECUÇÃO DE PAVIMENTO EM CALÇAMENTO DE PARALELEPÍPEDO, INCLUINDO FORNECIMENTO DE TODOS OS MATERIAIS, COLCHÃO DE ASSENTAMENTO; INCLUSIVE O TRANSPORTE DO PARALELEPÍPEDO | D22: m² | E22: 2770 | G22: =E22+F22 -> 2770 | H22: 59.6 | I22: =H22*(1+$B$5) -> 77.48 | J22: =E22*I22 -> 214619.6 | K22: =F22*I22 -> 0 | L22: =J22+K22 -> 214619.6 | M22: =#REF!+#REF!+#REF!+previsao!Q22 -> #REF! | N22: =M22*I22 -> #REF! | O22: =G22-M22 -> #REF! | P22: =O22*I22 -> #REF! | R22: =Q22*I22 -> 0 | S22: =G22-(M22+Q22) -> #REF! | T22: =S22*I22 -> #REF!
A23: 2.7 | B23: COMP | C23: EXECUÇÃO DE PAVIMENTO DE LAJE DE PEDRA, INCLUINDO FORNECIMENTO DE DA LAJE, COLCHÃO DE AREIA E REJUNTAMENTO EM CONCRETO | D23: m² | E23: 653.5 | G23: =E23+F23 -> 653.5 | H23: 82 | I23: =H23*(1+$B$5) -> 106.6 | J23: =E23*I23 -> 69663.1 | K23: =F23*I23 -> 0 | L23: =J23+K23 -> 69663.1 | M23: =#REF!+#REF!+#REF!+previsao!Q23 -> #REF! | N23: =M23*I23 -> #REF! | O23: =G23-M23 -> #REF! | P23: =O23*I23 -> #REF! | R23: =Q23*I23 -> 0 | S23: =G23-(M23+Q23) -> #REF! | T23: =S23*I23 -> #REF!
A24: 2.8 | B24: OBR-VIA-410 | C24: TRANSPORTE DE MATERIAL DE QUALQUER NATUREZA DMT 0 A 10 KM | D24: TXKM | E24: 7120.9 | G24: =E24+F24 -> 7120.9 | H24: 0.5 | I24: =H24*(1+$B$5) -> 0.65 | J24: =E24*I24 -> 4628.585 | K24: =F24*I24 -> 0 | L24: =J24+K24 -> 4628.585 | M24: =#REF!+#REF!+#REF!+previsao!Q24 -> #REF! | N24: =M24*I24 -> #REF! | O24: =G24-M24 -> #REF! | P24: =O24*I24 -> #REF! | R24: =Q24*I24 -> 0 | S24: =G24-(M24+Q24) -> #REF! | T24: =S24*I24 -> #REF!
A25: 3 | C25: DRENAGEM | J25: =SUM(J26:J33) -> 94355.495 | K25: =SUM(K26:K33) -> 0 | L25: =SUM(L26:L33) -> 94355.495 | N25: =SUM(N26:N33) -> #REF! | P25: =SUM(P26:P33) -> #REF! | R25: =SUM(R26:R33) -> 0 | T25: =SUM(T26:T33) -> #REF!
A26: 3.1 | B26: OBR-VIA-085 | C26: ESCAVAÇÃO MECÂNICA DE VALAS DE MATERIAL DE 1ª CATEGORIA, INCLUINDO REMOÇÃO PARA BOTA FORA DO LEITO ESTRADAL | D26: M3 | E26: 532 | G26: =E26+F26 -> 532 | H26: 3.07 | I26: =H26*(1+$B$5) -> 3.991 | J26: =E26*I26 -> 2123.212 | K26: =F26*I26 -> 0 | L26: =J26+K26 -> 2123.212 | M26: =#REF!+#REF!+#REF!+previsao!Q26 -> #REF! | N26: =M26*I26 -> #REF! | O26: =G26-M26 -> #REF! | P26: =O26*I26 -> #REF! | R26: =Q26*I26 -> 0 | S26: =G26-(M26+Q26) -> #REF! | T26: =S26*I26 -> #REF!
A27: 3.2 | B27: DRE-CON-005 | C27: CONCRETO PARA BERÇO DE REDE TUBULAR TRAÇO 1:3:6, INCLUSIVE LANÇAMENTO | D27: M3 | E27: 47 | G27: =E27+F27 -> 47 | H27: 191.86 | I27: =H27*(1+$B$5) -> 249.418 | J27: =E27*I27 -> 11722.646 | K27: =F27*I27 -> 0 | L27: =J27+K27 -> 11722.646 | M27: =#REF!+#REF!+#REF!+previsao!Q27 -> #REF! | N27: =M27*I27 -> #REF! | O27: =G27-M27 -> #REF! | P27: =O27*I27 -> #REF! | R27: =Q27*I27 -> 0 | S27: =G27-(M27+Q27) -> #REF! | T27: =S27*I27 -> #REF!
A28: 3.3 | B28: DRE-SAR-005 | C28: SARJETA TIPO 1 - 50 X 5 CM, I = 3 %, PADRÃO DEOP-MG | D28: M | E28: 1080 | G28: =E28+F28 -> 1080 | H28: 8.91 | I28: =H28*(1+$B$5) -> 11.583 | J28: =E28*I28 -> 12509.64 | K28: =F28*I28 -> 0 | L28: =J28+K28 -> 12509.64 | M28: =#REF!+#REF!+#REF!+previsao!Q28 -> #REF! | N28: =M28*I28 -> #REF! | O28: =G28-M28 -> #REF! | P28: =O28*I28 -> #REF! | R28: =Q28*I28 -> 0 | S28: =G28-(M28+Q28) -> #REF! | T28: =S28*I28 -> #REF!
A29: 3.4 | B29: DRE-BOC-010 | C29: BOCA DE LOBO SIMPLES, QUADRO, GRELHA E CANTONEIRA, INCLUSIVE ESCAVAÇÃO, REATERRO E BOTA-FORA | D29: UND | E29: 25 | G29: =E29+F29 -> 25 | H29: 448.3 | I29: =H29*(1+$B$5) -> 582.79 | J29: =E29*I29 -> 14569.75 | K29: =F29*I29 -> 0 | L29: =J29+K29 -> 14569.75 | M29: =#REF!+#REF!+#REF!+previsao!Q29 -> #REF! | N29: =M29*I29 -> #REF! | O29: =G29-M29 -> #REF! | P29: =O29*I29 -> #REF! | R29: =Q29*I29 -> 0 | S29: =G29-(M29+Q29) -> #REF! | T29: =S29*I29 -> #REF!
A30: 3.5 | B30: DRE-POÇ-020 | C30: POÇO DE VISITA PARA REDE TUBULAR TIPO A DN 800, INCLUSIVE ESCAVAÇÃO, REATERRO E BOTA FORA | D30: UND | E30: 3 | G30: =E30+F30 -> 3 | H30: 980.35 | I30: =H30*(1+$B$5) -> 1274.455 | J30: =E30*I30 -> 3823.365 | K30: =F30*I30 -> 0 | L30: =J30+K30 -> 3823.365 | M30: =#REF!+#REF!+#REF!+previsao!Q30 -> #REF! | N30: =M30*I30 -> #REF! | O30: =G30-M30 -> #REF! | P30: =O30*I30 -> #REF! | R30: =Q30*I30 -> 0 | S30: =G30-(M30+Q30) -> #REF! | T30: =S30*I30 -> #REF!
A31: 3.6 | B31: DRE-TUB-045 | C31: FORNECIMENTO, ASSENTAMENTO E REJUNTAMENTO DE TUBO DE CONCRETO SIMPLES PS1 D = 400 MM | D31: M | E31: 721 | G31: =E31+F31 -> 721 | H31: 48.65 | I31: =H31*(1+$B$5) -> 63.245 | J31: =E31*I31 -> 45599.645 | K31: =F31*I31 -> 0 | L31: =J31+K31 -> 45599.645 | M31: =#REF!+#REF!+#REF!+previsao!Q31 -> #REF! | N31: =M31*I31 -> #REF! | O31: =G31-M31 -> #REF! | P31: =O31*I31 -> #REF! | R31: =Q31*I31 -> 0 | S31: =G31-(M31+Q31) -> #REF! | T31: =S31*I31 -> #REF!
A32: 3.7 | B32: DRE-TUB-055 | C32: FORNECIMENTO, ASSENTAMENTO E REJUNTAMENTO DE TUBO DE CONCRETO SIMPLES PS1 D = 600 MM | D32: M | E32: 8 | G32: =E32+F32 -> 8 | H32: 83.65 | I32: =H32*(1+$B$5) -> 108.745 | J32: =E32*I32 -> 869.96 | K32: =F32*I32 -> 0 | L32: =J32+K32 -> 869.96 | M32: =#REF!+#REF!+#REF!+previsao!Q32 -> #REF! | N32: =M32*I32 -> #REF! | O32: =G32-M32 -> #REF! | P32: =O32*I32 -> #REF! | R32: =Q32*I32 -> 0 | S32: =G32-(M32+Q32) -> #REF! | T32: =S32*I32 -> #REF!
A33: 3.8 | B33: TER-REA-010 | C33: REATERRO COMPACTADO DE VALA COM EQUIPAMENTO PLACA VIBRATÓRIA | D33: M3 | E33: 213 | G33: =E33+F33 -> 213 | H33: 11.33 | I33: =H33*(1+$B$5) -> 14.729 | J33: =E33*I33 -> 3137.277 | K33: =F33*I33 -> 0 | L33: =J33+K33 -> 3137.277 | M33: =#REF!+#REF!+#REF!+previsao!Q33 -> #REF! | N33: =M33*I33 -> #REF! | O33: =G33-M33 -> #REF! | P33: =O33*I33 -> #REF! | R33: =Q33*I33 -> 0 | S33: =G33-(M33+Q33) -> #REF! | T33: =S33*I33 -> #REF!
A34: 4 | C34: URBANIZAÇÃO E ACESSIBILIDADE | J34: =SUM(J35:J38) -> 28207.374 | K34: =SUM(K35:K38) -> 0 | L34: =SUM(L35:L38) -> 28207.374 | N34: =SUM(N35:N38) -> #REF! | P34: =SUM(P35:P38) -> #REF! | R34: =SUM(R35:R38) -> 0 | T34: =SUM(T35:T38) -> #REF!
A35: 4.1 | B35: URB-MFC-005 | C35: MEIO-FIO DE CONCRETO PRÉ-MOLDADO TIPO A - (12 X 16,7 X 35) CM, INCLUSIVE ESCAVAÇÃO E REATERRO | D35: M | E35: 400 | G35: =E35+F35 -> 400 | H35: 22.93 | I35: =H35*(1+$B$5) -> 29.809 | J35: =E35*I35 -> 11923.6 | K35: =F35*I35 -> 0 | L35: =J35+K35 -> 11923.6 | M35: =#REF!+#REF!+#REF!+previsao!Q35 -> #REF! | N35: =M35*I35 -> #REF! | O35: =G35-M35 -> #REF! | P35: =O35*I35 -> #REF! | R35: =Q35*I35 -> 0 | S35: =G35-(M35+Q35) -> #REF! | T35: =S35*I35 -> #REF!
A36: 4.2 | B36: URB-PAS-005 | C36: PASSEIOS DE CONCRETO E = 8 CM, FCK = 15 MPA PADRÃO PREFEITURA | D36: M2 | E36: 280 | G36: =E36+F36 -> 280 | H36: 25.57 | I36: =H36*(1+$B$5) -> 33.241 | J36: =E36*I36 -> 9307.48 | K36: =F36*I36 -> 0 | L36: =J36+K36 -> 9307.48 | M36: =#REF!+#REF!+#REF!+previsao!Q36 -> #REF! | N36: =M36*I36 -> #REF! | O36: =G36-M36 -> #REF! | P36: =O36*I36 -> #REF! | R36: =Q36*I36 -> 0 | S36: =G36-(M36+Q36) -> #REF! | T36: =S36*I36 -> #REF!
A37: 4.3 | B37: URB-RAM-005 | C37: RAMPA PARA ACESSO DE DEFICIENTE EM CONCRETO SIMPLES FCK=25MPA, DESEMPENADO, COM PINTURA INDICATIVA DUAS DEMÃOS | D37: UND | E37: 6 | G37: =E37+F37 -> 6 | H37: 149.33 | I37: =H37*(1+$B$5) -> 194.129 | J37: =E37*I37 -> 1164.774 | K37: =F37*I37 -> 0 | L37: =J37+K37 -> 1164.774 | M37: =#REF!+#REF!+#REF!+previsao!Q37 -> #REF! | N37: =M37*I37 -> #REF! | O37: =G37-M37 -> #REF! | P37: =O37*I37 -> #REF! | R37: =Q37*I37 -> 0 | S37: =G37-(M37+Q37) -> #REF! | T37: =S37*I37 -> #REF!
A38: 4.4 | B38: OBR-VIA-205 | C38: EXECUÇÃO DE PAVIMENTO EM CALÇAMENTO DE PARALELEPÍPEDO, INCLUINDO FORNECIMENTO DE TODOS OS MATERIAIS, COLCHÃO DE ASSENTAMENTO; INCLUSIVE O TRANSPORTE DO PARALELEPÍPEDO - PASSAGEM ELEVADA DE PEDESTRE | D38: m² | E38: 80 | G38: =E38+F38 -> 80 | H38: 55.88 | I38: =H38*(1+$B$5) -> 72.644 | J38: =E38*I38 -> 5811.52 | K38: =F38*I38 -> 0 | L38: =J38+K38 -> 5811.52 | M38: =#REF!+#REF!+#REF!+previsao!Q38 -> #REF! | N38: =M38*I38 -> #REF! | O38: =G38-M38 -> #REF! | P38: =O38*I38 -> #REF! | R38: =Q38*I38 -> 0 | S38: =G38-(M38+Q38) -> #REF! | T38: =S38*I38 -> #REF!
C39: LIMPEZA DA OBRA | J39: =SUM(J40) -> 9034.6165 | K39: =SUM(K40:K40) -> 0 | L39: =SUM(L40:L40) -> 9034.6165 | N39: =SUM(N40:N40) -> #REF! | P39: =SUM(P40:P40) -> #REF! | R39: =SUM(R40:R40) -> 0 | T39: =SUM(T40:T40) -> #REF!
A40: 5.1 | B40: LIM-GER-005 | C40: LIMPEZA GERAL DE OBRA | D40: M2 | E40: 3423.5 | G40: =E40+F40 -> 3423.5 | H40: 2.03 | I40: =H40*(1+$B$5) -> 2.639 | J40: =E40*I40 -> 9034.6165 | K40: =F40*I40 -> 0 | L40: =J40+K40 -> 9034.6165 | M40: =#REF!+#REF!+#REF!+previsao!Q40 -> #REF! | N40: =M40*I40 -> #REF! | O40: =G40-M40 -> #REF! | P40: =O40*I40 -> #REF! | R40: =Q40*I40 -> 0 | S40: =G40-(M40+Q40) -> #REF! | T40: =S40*I40 -> #REF!
J42: =SUM(J8,J16,J25,J34,,J39) -> 461477.28 | K42: =SUM(K8,K16,K25,K34,,K39) -> 0 | L42: =SUM(L8,L16,L25,L34,,L39) -> 461477.28 | N42: =SUM(N8,N16,N25,N34,,N39) -> #REF! | P42: =SUM(P8,P16,P25,P34,,P39) -> #REF! | R42: =SUM(R8,R16,R25,R34,,R39) -> 0 | T42: =SUM(T8,T16,T25,T34,,T39) -> #REF!
A44: APROVAÇÕES
...

Sheet Sinapi 05-24 Setop 01-2024
A1: CODIGO DA COMPOSICAO | B1: DESCRICAO DA COMPOSICAO - BASE: SINAPI 05-24, SETOP 01-24 | C1: UNIDADE | D1: CUSTO TOTAL
A2: 38605 | B2: ABERTURA PARA ENCAIXE DE CUBA OU LAVATORIO EM BANCADA DE MARMORE/ GRANITO OU OUTRO TIPO DE PEDRA NATURAL | C2: UN | D2: 115,31
A3: 11270 | B3: ABRACADEIRA DE LATAO PARA FIXACAO DE CABO PARA-RAIO, DIMENSOES 32 X 24 X 24 MM | C3: UN | D3: 3,54
A4: 412 | B4: ABRACADEIRA DE NYLON PARA AMARRACAO DE CABOS, COMPRIMENTO DE *230* X *7,6* MM | C4: UN | D4: 1,02
A5: 414 | B5: ABRACADEIRA DE NYLON PARA AMARRACAO DE CABOS, COMPRIMENTO DE 100 X 2,5 MM | C5: UN | D5: 0,06
A6: 410 | B6: ABRACADEIRA DE NYLON PARA AMARRACAO DE CABOS, COMPRIMENTO DE 150 X *3,6* MM | C6: UN | D6: 0,15
A7: 411 | B7: ABRACADEIRA DE NYLON PARA AMARRACAO DE CABOS, COMPRIMENTO DE 200 X *4,6* MM | C7: UN | D7: 0,20
A8: 408 | B8: ABRACADEIRA DE NYLON PARA AMARRACAO DE CABOS, COMPRIMENTO DE 390 X *4,6* MM | C8: UN | D8: 0,99
A9: 39131 | B9: ABRACADEIRA EM ACO PARA AMARRACAO DE ELETRODUTOS, TIPO D, COM 1 1/2" E CUNHA DE FIXACAO | C9: UN | D9: 3,16
A10: 394 | B10: ABRACADEIRA EM ACO PARA AMARRACAO DE ELETRODUTOS, TIPO D, COM 1 1/2" E PARAFUSO DE FIXACAO | C10: UN | D10: 3,20
A11: 39130 | B11: ABRACADEIRA EM ACO PARA AMARRACAO DE ELETRODUTOS, TIPO D, COM 1 1/4" E CUNHA DE FIXACAO | C11: UN | D11: 2,88
A12: 395 | B12: ABRACADEIRA EM ACO PARA AMARRACAO DE ELETRODUTOS, TIPO D, COM 1 1/4" E PARAFUSO DE FIXACAO | C12: UN | D12: 3,08
A13: 39127 | B13: ABRACADEIRA EM ACO PARA AMARRACAO DE ELETRODUTOS, TIPO D, COM 1/2" E CUNHA DE FIXACAO | C13: UN | D13: 1,52
... A4828: 41096 | B4828: VIGIA DIURNO (MENSALISTA) | C4828: MES | D4828: 3.055,69
A4829: 97141 | B4829: ASSENTAMENTO DE TUBO DE FERRO FUNDIDO PARA REDE DE ÁGUA, DN 80 MM, JUNTA ELÁSTICA, INSTALADO EM LOCAL COM NÍVEL ALTO DE INTERFERÊNCIAS (NÃO INCLUI FORNECIMENTO). AF_05/2024 | C4829: M | D4829: 4,80
A4830: 97142 | B4830: ASSENTAMENTO DE TUBO DE FERRO FUNDIDO PARA REDE DE ÁGUA, DN 100 MM, JUNTA ELÁSTICA, INSTALADO EM LOCAL COM NÍVEL ALTO DE INTERFERÊNCIAS (NÃO INCLUI FORNECIMENTO). AF_05/2024 | C4830: M | D4830: 5,53
A4831: 97143 | B4831: ASSENTAMENTO DE TUBO DE FERRO FUNDIDO PARA REDE DE ÁGUA, DN 150 MM, JUNTA ELÁSTICA, INSTALADO EM LOCAL COM NÍVEL ALTO DE INTERFERÊNCIAS (NÃO INCLUI FORNECIMENTO). AF_05/2024 | C4831: M | D4831: 7,31
A4832: 97144 | B4832: ASSENTAMENTO DE TUBO DE FERRO FUNDIDO PARA REDE DE ÁGUA, DN 200 MM, JUNTA ELÁSTICA, INSTALADO EM LOCAL COM NÍVEL ALTO DE INTERFERÊNCIAS (NÃO INCLUI FORNECIMENTO). AF_05/2024 | C4832: M | D4832: 9,09
A4833: 97145 | B4833: ASSENTAMENTO DE TUBO DE FERRO FUNDIDO PARA REDE DE ÁGUA, DN 250 MM, JUNTA ELÁSTICA, INSTALADO EM LOCAL COM NÍVEL ALTO DE INTERFERÊNCIAS (NÃO INCLUI FORNECIMENTO). AF_05/2024 | C4833: M | D4833: 10,88
A4834: 97146 | B4834: ASSENTAMENTO DE TUBO DE FERRO FUNDIDO PARA REDE DE ÁGUA, DN 300 MM, JUNTA ELÁSTICA, INSTALADO EM LOCAL COM NÍVEL ALTO DE INTERFERÊNCIAS (NÃO INCLUI FORNECIMENTO). AF_05/2024 | C4834: M | D4834: 12,69
A4835: 97147 | B4835: ASSENTAMENTO DE TUBO DE FERRO FUNDIDO PARA REDE DE ÁGUA, DN 350 MM, JUNTA ELÁSTICA, INSTALADO EM LOCAL COM NÍVEL ALTO DE INTERFERÊNCIAS (NÃO INCLUI FORNECIMENTO). AF_05/2024 | C4835: M | D4835: 14,50
A4836: 97148 | B4836: ASSENTAMENTO DE TUBO DE FERRO FUNDIDO PARA REDE DE ÁGUA, DN 400 MM, JUNTA ELÁSTICA, INSTALADO EM LOCAL COM NÍVEL ALTO DE INTERFERÊNCIAS (NÃO INCLUI FORNECIMENTO). AF_05/2024 | C4836: M | D4836: 16,29
A4837: 97149 | B4837: ASSENTAMENTO DE TUBO DE FERRO FUNDIDO PARA REDE DE ÁGUA, DN 450 MM, JUNTA ELÁSTICA, INSTALADO EM LOCAL COM NÍVEL ALTO DE INTERFERÊNCIAS (NÃO INCLUI FORNECIMENTO). AF_05/2024 | C4837: M | D4837: 18,12
A4838: 97150 | B4838: ASSENTAMENTO DE TUBO DE FERRO FUNDIDO PARA REDE DE ÁGUA, DN 500 MM, JUNTA ELÁSTICA, INSTALADO EM LOCAL COM NÍVEL ALTO DE INTERFERÊNCIAS (NÃO INCLUI FORNECIMENTO). AF_05/2024 | C4838: M | D4838: 23,12
A4839: 97151 | B4839: ASSENTAMENTO DE TUBO DE FERRO FUNDIDO PARA REDE DE ÁGUA, DN 600 MM, JUNTA ELÁSTICA, INSTALADO EM LOCAL COM NÍVEL ALTO DE INTERFERÊNCIAS (NÃO INCLUI FORNECIMENTO). AF_05/2024 | C4839: M | D4839: 27,25
A4840: 97152 | B4840: ASSENTAMENTO DE TUBO DE FERRO FUNDIDO PARA REDE DE ÁGUA, DN 700 MM, JUNTA ELÁSTICA, INSTALADO EM LOCAL COM NÍVEL ALTO DE INTERFERÊNCIAS (NÃO INCLUI FORNECIMENTO). AF_05/2024 | C4840: M | D4840: 31,14
... A7107: 94590 | B7107: CONTRAMARCO DE ALUMÍNIO, FIXAÇÃO COM PARAFUSO - FORNECIMENTO E INSTALAÇÃO. AF_12/2019 | C7107: M | D7107: 17,65
A7108: 100674 | B7108: JANELA FIXA DE ALUMÍNIO PARA VIDRO, COM VIDRO, BATENTE E FERRAGENS. EXCLUSIVE ACABAMENTO, ALIZAR E CONTRAMARCO. FORNECIMENTO E INSTALAÇÃO. AF_12/2019 | C7108: M2 | D7108: 722,27 | E7108: =18.9/0.3/0.3 -> 210
A7109: 101096 | B7109: TUBULÃO A CÉU ABERTO, DIÂMETRO DO FUSTE DE 70CM, ESCAVAÇÃO MANUAL, SEM ALARGAMENTO DE BASE, CONCRETO FEITO EM OBRA E LANÇADO COM JERICA. AF_05/2020_PA | C7109: M3 | D7109: 1.351,67
A7110: 101097 | B7110: TUBULÃO A CÉU ABERTO, DIÂMETRO DO FUSTE DE 80CM, ESCAVAÇÃO MANUAL, SEM ALARGAMENTO DE BASE, CONCRETO FEITO EM OBRA E LANÇADO COM JERICA. AF_05/2020_PA | C7110: M3 | D7110: 1.273,58
A7111: 101098 | B7111: TUBULÃO A CÉU ABERTO, DIÂMETRO DO FUSTE DE 100CM, ESCAVAÇÃO MANUAL, SEM ALARGAMENTO DE BASE, CONCRETO FEITO EM OBRA E LANÇADO COM JERICA. AF_05/2020_PA | C7111: M3 | D7111: 1.171,84
A7112: 101099 | B7112: TUBULÃO A CÉU ABERTO, DIÂMETRO DO FUSTE DE 120CM, ESCAVAÇÃO MANUAL, SEM ALARGAMENTO DE BASE, CONCRETO FEITO EM OBRA E LANÇADO COM JERICA. AF_05/2020_PA | C7112: M3 | D7112: 1.071,90
A7113: 101100 | B7113: TUBULÃO A CÉU ABERTO, DIÂMETRO DO FUSTE DE 70CM, ESCAVAÇÃO MECÂNICA, SEM ALARGAMENTO DE BASE, CONCRETO FEITO EM OBRA E LANÇADO COM JERICA. AF_05/2020_PA | C7113: M3 | D7113: 963,17
A7114: 101101 | B7114: TUBULÃO A CÉU ABERTO, DIÂMETRO DO FUSTE DE 80CM, ESCAVAÇÃO MECÂNICA, SEM ALARGAMENTO DE BASE, CONCRETO FEITO EM OBRA E LANÇADO COM JERICA (EXCLUSIVE MOBILIZAÇÃO E DESMOBILIZAÇÃO). AF_05/2020_PA | C7114: M3 | D7114: 939,20
A7115: 101102 | B7115: TUBULÃO A CÉU ABERTO, DIÂMETRO DO FUSTE DE 100CM, ESCAVAÇÃO MECÂNICA, SEM ALARGAMENTO DE BASE, CONCRETO FEITO EM OBRA E LANÇADO COM JERICA (EXCLUSIVE MOBILIZAÇÃO E DESMOBILIZAÇÃO). AF_05/2020_PA | C7115: M3 | D7115: 912,04
A7116: 101103 | B7116: TUBULÃO A CÉU ABERTO, DIÂMETRO DO FUSTE DE 120CM, ESCAVAÇÃO MECÂNICA, SEM ALARGAMENTO DE BASE, CONCRETO FEITO EM OBRA E LANÇADO COM JERICA (EXCLUSIVE MOBILIZAÇÃO E DESMOBILIZAÇÃO). AF_05/2020_PA | C7116: M3 | D7116: 860,57
A7117: 101104 | B7117: TUBULÃO A CÉU ABERTO, DIÂMETRO DO FUSTE DE 70CM, ESCAVAÇÃO MANUAL, SEM ALARGAMENTO DE BASE, CONCRETO USINADO E LANÇADO COM BOMBA OU DIRETAMENTE DO CAMINHÃO (EXCLUSIVE BOMBEAMENTO). AF_05/2020_PA | C7117: M3 | D7117: 1.384,90
A7118: 101105 | B7118: TUBULÃO A CÉU ABERTO, DIÂMETRO DO FUSTE DE 80CM, ESCAVAÇÃO MANUAL, SEM ALARGAMENTO DE BASE, CONCRETO USINADO E LANÇADO COM BOMBA OU DIRETAMENTE DO CAMINHÃO (EXCLUSIVE BOMBEAMENTO). AF_05/2020_PA | C7118: M3 | D7118: 1.306,42
A7119: 101106 | B7119: TUBULÃO A CÉU ABERTO, DIÂMETRO DO FUSTE DE 100CM, ESCAVAÇÃO MANUAL, SEM ALARGAMENTO DE BASE, CONCRETO USINADO E LANÇADO COM BOMBA OU DIRETAMENTE DO CAMINHÃO (EXCLUSIVE BOMBEAMENTO). AF_05/2020_PA | C7119: M3 | D7119: 1.204,56
A7120: 101107 | B7120: TUBULÃO A CÉU ABERTO, DIÂMETRO DO FUSTE DE 120CM, ESCAVAÇÃO MANUAL, SEM ALARGAMENTO DE BASE, CONCRETO USINADO E LANÇADO COM BOMBA OU DIRETAMENTE DO CAMINHÃO (EXCLUSIVE BOMBEAMENTO). AF_05/2020_PA | C7120: M3 | D7120: 1.103,91
...

Sheet PLANILHA ORÇAMENTÁRIA
A1: Reforma do Campo de Futebol - Bairro Morro do Vento
A2: OBRA: REFORMA DO CAMPO DE FUTEBOL - BAIRRO MORRO DO VENTO - SERRO MG | D2: Nº Contrato: | G2: VALORES INICIAIS
A3: ENDEREÇO: RUA FLORIANÓPOLIS 135 , BAIRRO MORRO DO VENTO - SERRO MG | D3: Local: SEDE MUNICIPAL
A4: Empresa: | D4: CNPJ:
A5: ITEM | B5: DATA BASE | C5: ESCOPO DA OBRA | E5: DESCTO: | G5: CONTRATUAL
B6: SINAPI 05/24 SETOP 01/2024 | C6: DESCRIÇÃO DOS SERVIÇOS | D6: UNID. | E6: BDI SERV. | F6: =BDI!B15 -> 0.22746552 | G6: QUANT. | H6: R$ TOTAL
E7: R$ UNIT. | F7: R$ UNIT. C/ BDI
A9: 1 | C9: ADMINISTRAÇÃO LOCAL | H9: =SUBTOTAL(9,H10:H11) -> 21228.28
A10: 1.1 | B10: 2706 | C10: =VLOOKUP('PLANILHA ORÇAMENTÁRIA'!B10,'Sinapi 05-24 Setop 01-2024'!A:C,2,) -> ENGENHEIRO CIVIL DE OBRA JUNIOR (HORISTA) | D10: =VLOOKUP('PLANILHA ORÇAMENTÁRIA'!B10,'Sinapi 05-24 Setop 01-2024'!A:C,3,) -> H | E10: =VLOOKUP('PLANILHA ORÇAMENTÁRIA'!B10,'Sinapi 05-24 Setop 01-2024'!A:D,4,) -> 113,95 | F10: =E10*(1+($F$6))*(1-($F$5)) -> 139.8697 | G10: ='MEMÓRIA DE CÁLCULO'!D7 -> 24 | H10: =ROUND(F10*G10,2) -> 3356.87
A11: 1.2 | B11: 90776 | C11: =VLOOKUP('PLANILHA ORÇAMENTÁRIA'!B11,'Sinapi 05-24 Setop 01-2024'!A:C,2,) -> ENCARREGADO GERAL COM ENCARGOS COMPLEMENTARES | D11: =VLOOKUP('PLANILHA ORÇAMENTÁRIA'!B11,'Sinapi 05-24 Setop 01-2024'!A:C,3,) -> H | E11: =VLOOKUP('PLANILHA ORÇAMENTÁRIA'!B11,'Sinapi 05-24 Setop 01-2024'!A:D,4,) -> 55,15 | F11: =E11*(1+($F$6))*(1-($F$5)) -> 67.694724 | G11: ='MEMÓRIA DE CÁLCULO'!D8 -> 264 | H11: =ROUND(F11*G11,2) -> 17871.41
A12: 2 | C12: CANTEIRO DE OBRA | H12: =SUBTOTAL(9,H13,H14) -> 10709.92
A13: 2.1 | B13: ED-16660 | C13: =VLOOKUP('PLANILHA ORÇAMENTÁRIA'!B13,'Sinapi 05-24 Setop 01-2024'!A:C,2,) -> FORNECIMENTO E COLOCAÇÃO DE PLACA DE OBRA EM CHAPA GALVANIZADA #26, ESP. 0,45 MM, PLOTADA COM ADESIVO VINÍLICO, AFIXADA COM REBITES 4,8X40 MM, EM ESTRUTURA METÁLICA DE METALON 20X20 MM, ESP. 1,25 MM, INCLUSIVE SUPORTE EM EUCALIPTO AUTOCLAVADO PINTADO COM TINTA PVA DUAS (2) DEMÃOS | D13: =VLOOKUP('PLANILHA ORÇAMENTÁRIA'!B13,'Sinapi 05-24 Setop 01-2024'!A:C,3,) -> m2 | E13: =VLOOKUP('PLANILHA ORÇAMENTÁRIA'!B13,'Sinapi 05-24 Setop 01-2024'!A:D,4,) -> 302.03 | F13: =E13*(1+($F$6))*(1-($F$5)) -> 370.73141 | G13: ='MEMÓRIA DE CÁLCULO'!D10 -> 4.5 | H13: =ROUND(F13*G13,2) -> 1668.29
A14: 2.2 | B14: ED-50128 | C14: =VLOOKUP('PLANILHA ORÇAMENTÁRIA'!B14,'Sinapi 05-24 Setop 01-2024'!A:C,2,) -> BARRACÃO DE OBRA PARA DEPÓSITO E FERRAMENTARIA TIPO-I, ÁREA INTERNA 14,52M2, EM CHAPA DE COMPENSADO RESINADO, INCLUSIVE MOBILIÁRIO (OBRA DE PEQUENO PORTE, EFETIVO ATÉ 30 HOMENS), PADRÃO DER-MG | D14: =VLOOKUP('PLANILHA ORÇAMENTÁRIA'!B14,'Sinapi 05-24 Setop 01-2024'!A:C,3,) -> un | E14: =VLOOKUP('PLANILHA ORÇAMENTÁRIA'!B14,'Sinapi 05-24 Setop 01-2024'!A:D,4,) -> 7366.1 | F14: =E14*(1+($F$6))*(1-($F$5)) -> 9041.6338 | G14: ='MEMÓRIA DE CÁLCULO'!D11 -> 1 | H14: =ROUND(F14*G14,2) -> 9041.63
A15: 3 | C15: LOCAÇÃO DE ANDAIMES | H15: =SUBTOTAL(9,H16,H17) -> 1025.13
A16: 3.1 | B16: ED-9075 | C16: =VLOOKUP('PLANILHA ORÇAMENTÁRIA'!B16,'Sinapi 05-24 Setop 01-2024'!A:C,2,) -> FORNECIMENTO DE ANDAIME METÁLICO PARA FACHADA (LOCAÇÃO), INCLUSIVE PISO METÁLICO E SAPATAS, EXCLUSIVE MONTAGEM E DESMONTAGEM | D16: =VLOOKUP('PLANILHA ORÇAMENTÁRIA'!B16,'Sinapi 05-24 Setop 01-2024'!A:C,3,) -> m2xmês | E16: =VLOOKUP('PLANILHA ORÇAMENTÁRIA'!B16,'Sinapi 05-24 Setop 01-2024'!A:D,4,) -> 13.01 | F16: =E16*(1+($F$6))*(1-($F$5)) -> 15.969326 | G16: ='MEMÓRIA DE CÁLCULO'!D13 -> 50.16 | H16: =ROUND(F16*G16,2) -> 801.02
A17: 3.2 | B17: ED-48245 | C17: =VLOOKUP('PLANILHA ORÇAMENTÁRIA'!B17,'Sinapi 05-24 Setop 01-2024'!A:C,2,) -> MONTAGEM E DESMONTAGEM DE ANDAIME METÁLICO PARA FACHADA COM PISO METÁLICO, INCLUSIVE RODAPÉ/GUARDA-CORPO EM MADEIRA, EXCLUSIVE FORNECIMENTO DO ANDAIME | D17: =VLOOKUP('PLANILHA ORÇAMENTÁRIA'!B17,'Sinapi 05-24 Setop 01-2024'!A:C,3,) -> m2 | E17: =VLOOKUP('PLANILHA ORÇAMENTÁRIA'!B17,'Sinapi 05-24 Setop 01-2024'!A:D,4,) -> 10.92 | F17: =E17*(1+($F$6))*(1-($F$5)) -> 13.403924 | G17: ='MEMÓRIA DE CÁLCULO'!D14 -> 16.72 | H17: =ROUND(F17*G17,2) -> 224.11
A18: 4 | C18: FUNDAÇÕES | H18: =SUBTOTAL(9,H19:H28) -> 47819.11
A19: 4.1 | B19: ED-51108 | C19: =VLOOKUP('PLANILHA ORÇAMENTÁRIA'!B19,'Sinapi 05-24 Setop 01-2024'!A:C,2,) -> ESCAVAÇÃO MANUAL DE VALA COM PROFUNDIDADE MAIOR QUE 1,5M E MENOR OU IGUAL 3,0M, INCLUSIVE DESCARGA LATERAL | D19: =VLOOKUP('PLANILHA ORÇAMENTÁRIA'!B19,'Sinapi 05-24 Setop 01-2024'!A:C,3,) -> m3 | E19: =VLOOKUP('PLANILHA ORÇAMENTÁRIA'!B19,'Sinapi 05-24 Setop 01-2024'!A:D,4,) -> 81.52 | F19: =E19*(1+($F$6))*(1-($F$5)) -> 100.06299 | G19: ='MEMÓRIA DE CÁLCULO'!D16 -> 16.0258 | H19: =ROUND(F19*G19,2) -> 1603.59
A20: 4.2 | B20: ED-51093 | C20: =VLOOKUP('PLANILHA ORÇAMENTÁRIA'!B20,'Sinapi 05-24 Setop 01-2024'!A:C,2,) -> APILOAMENTO MANUAL EM FUNDO DE VALA COM SOQUETE, EXCLUSIVE ESCAVAÇÃO | D20: =VLOOKUP('PLANILHA ORÇAMENTÁRIA'!B20,'Sinapi 05-24 Setop 01-2024'!A:C,3,) -> m2 | E20: =VLOOKUP('PLANILHA ORÇAMENTÁRIA'!B20,'Sinapi 05-24 Setop 01-2024'!A:D,4,) -> 20.84 | F20: =E20*(1+($F$6))*(1-($F$5)) -> 25.580382 | G20: ='MEMÓRIA DE CÁLCULO'!D17 -> 34.882 | H20: =ROUND(F20*G20,2) -> 892.29
A21: 4.3 | B21: 95241 | C21: =VLOOKUP('PLANILHA ORÇAMENTÁRIA'!B21,'Sinapi 05-24 Setop 01-2024'!A:C,2,) -> LASTRO DE CONCRETO MAGRO, APLICADO EM PISOS, LAJES SOBRE SOLO OU RADIERS, ESPESSURA DE 5 CM. AF_01/2024 | D21: =VLOOKUP('PLANILHA ORÇAMENTÁRIA'!B21,'Sinapi 05-24 Setop 01-2024'!A:C,3,) -> M2 | E21: =VLOOKUP('PLANILHA ORÇAMENTÁRIA'!B21,'Sinapi 05-24 Setop 01-2024'!A:D,4,) -> 37,40 | F21: =E21*(1+($F$6))*(1-($F$5)) -> 45.907211 | G21: ='MEMÓRIA DE CÁLCULO'!D18 -> 49.088 | H21: =ROUND(F21*G21,2) -> 2253.49
A22: 4.4 | B22: ED-48214 | C22: =VLOOKUP('PLANILHA ORÇAMENTÁRIA'!B22,'Sinapi 05-24 Setop 01-2024'!A:C,2,) -> ALVENARIA DE BLOCO DE CONCRETO CHEIO COM ARMAÇÃO, EM CONCRETO COM FCK 15MPA , ESP. 19CM, PARA REVESTIMENTO, INCLUSIVE ARGAMASSA PARA ASSENTAMENTO (DETALHE D - CADERNO SEDS) | D22: =VLOOKUP('PLANILHA ORÇAMENTÁRIA'!B22,'Sinapi 05-24 Setop 01-2024'!A:C,3,) -> m2 | E22: =VLOOKUP('PLANILHA ORÇAMENTÁRIA'!B22,'Sinapi 05-24 Setop 01-2024'!A:D,4,) -> 245.63 | F22: =E22*(1+($F$6))*(1-($F$5)) -> 301.50236 | G22: ='MEMÓRIA DE CÁLCULO'!D19 -> 49.088 | H22: =ROUND(F22*G22,2) -> 14800.15
A23: 4.5 | B23: ED-48220 | C23: =VLOOKUP('PLANILHA ORÇAMENTÁRIA'!B23,'Sinapi 05-24 Setop 01-2024'!A:C,2,) -> ALVENARIA DE BLOCO DE CONCRETO CHEIO SEM ARMAÇÃO, EM CONCRETO COM FCK DE 20MPA , ESP. 19CM, PARA REVESTIMENTO, INCLUSIVE ARGAMASSA PARA ASSENTAMENTO (DETALHE D - CADERNO SEDS) | D23: =VLOOKUP('PLANILHA ORÇAMENTÁRIA'!B23,'Sinapi 05-24 Setop 01-2024'!A:C,3,) -> m2 | E23: =VLOOKUP('PLANILHA ORÇAMENTÁRIA'!B23,'Sinapi 05-24 Setop 01-2024'!A:D,4,) -> 187.26 | F23: =E23*(1+($F$6))*(1-($F$5)) -> 229.85519 | G23: ='MEMÓRIA DE CÁLCULO'!D20 -> 71.44 | H23: =ROUND(F23*G23,2) -> 16420.86
A24: 4.6 | B24: ED-31567 | C24: =VLOOKUP('PLANILHA ORÇAMENTÁRIA'!B24,'Sinapi 05-24 Setop 01-2024'!A:C,2,) -> FÔRMA E DESFORMA PARA PILAR DE MADEIRA COM TÁBUA E SARRAFO, REAPROVEITAMENTO (3X), EXCLUSIVE ESCORAMENTO | D24: =VLOOKUP('PLANILHA ORÇAMENTÁRIA'!B24,'Sinapi 05-24 Setop 01-2024'!A:C,3,) -> m2 | E24: =VLOOKUP('PLANILHA ORÇAMENTÁRIA'!B24,'Sinapi 05-24 Setop 01-2024'!A:D,4,) -> 65.76 | F24: =E24*(1+($F$6))*(1-($F$5)) -> 80.718133 | G24: ='MEMÓRIA DE CÁLCULO'!D21 -> 25.22 | H24: =ROUND(F24*G24,2) -> 2035.71
A25: 4.7 | B25: ED-8486 | C25: =VLOOKUP('PLANILHA ORÇAMENTÁRIA'!B25,'Sinapi 05-24 Setop 01-2024'!A:C,2,) -> CONCRETO ESTRUTURAL, PREPARADO EM OBRA COM BETONEIRA, CONTROLE "A", COM FCK 20MPA, BRITA Nº (1 E 2), CONSISTÊNCIA PARA VIBRAÇÃO (FABRICAÇÃO) | D25: =VLOOKUP('PLANILHA ORÇAMENTÁRIA'!B25,'Sinapi 05-24 Setop 01-2024'!A:C,3,) -> m3 | E25: =VLOOKUP('PLANILHA ORÇAMENTÁRIA'!B25,'Sinapi 05-24 Setop 01-2024'!A:D,4,) -> 584.38 | F25: =E25*(1+($F$6))*(1-($F$5)) -> 717.3063 | G25: ='MEMÓRIA DE CÁLCULO'!D22 -> 6.3652 | H25: =ROUND(F25*G25,2) -> 4565.8
A26: 4.8 | B26: 92761 | C26: =VLOOKUP('PLANILHA ORÇAMENTÁRIA'!B26,'Sinapi 05-24 Setop 01-2024'!A:C,2,) -> ARMAÇÃO DE PILAR OU VIGA DE ESTRUTURA CONVENCIONAL DE CONCRETO ARMADO UTILIZANDO AÇO CA-50 DE 8,0 MM - MONTAGEM. AF_06/2022 | D26: =VLOOKUP('PLANILHA ORÇAMENTÁRIA'!B26,'Sinapi 05-24 Setop 01-2024'!A:C,3,) -> KG | E26: =VLOOKUP('PLANILHA ORÇAMENTÁRIA'!B26,'Sinapi 05-24 Setop 01-2024'!A:D,4,) -> 11,53 | F26: =E26*(1+($F$6))*(1-($F$5)) -> 14.152677 | G26: ='MEMÓRIA DE CÁLCULO'!D23 -> 280.32 | H26: =ROUND(F26*G26,2) -> 3967.28
A27: 4.9 | B27: 92802 | C27: =VLOOKUP('PLANILHA ORÇAMENTÁRIA'!B27,'Sinapi 05-24 Setop 01-2024'!A:C,2,) -> CORTE E DOBRA DE AÇO CA-50, DIÂMETRO DE 8,0 MM. AF_06/2022 | D27: =VLOOKUP('PLANILHA ORÇAMENTÁRIA'!B27,'Sinapi 05-24 Setop 01-2024'!A:C,3,) -> KG | E27: =VLOOKUP('PLANILHA ORÇAMENTÁRIA'!B27,'Sinapi 05-24 Setop 01-2024'!A:D,4,) -> 9,09 | F27: =E27*(1+($F$6))*(1-($F$5)) -> 11.157662 | G27: ='MEMÓRIA DE CÁLCULO'!D25 -> 80.15 | H27: =ROUND(F27*G27,2) -> 894.29
A28: 4.10 | B28: ED-29230 | C28: =VLOOKUP('PLANILHA ORÇAMENTÁRIA'!B28,'Sinapi 05-24 Setop 01-2024'!A:C,2,) -> TRANSPORTE DE MATERIAL DE QUALQUER NATUREZA EM CAMINHÃO, DISTÂNCIA MAIOR QUE 1KM E MENOR OU IGUAL A 2KM, DENTRO DO PERÍMETRO URBANO, EXCLUSIVE CARGA, INCLUSIVE DESCARGA | D28: =VLOOKUP('PLANILHA ORÇAMENTÁRIA'!B28,'Sinapi 05-24 Setop 01-2024'!A:C,3,) -> M3xKM | E28: =VLOOKUP('PLANILHA ORÇAMENTÁRIA'!B28,'Sinapi 05-24 Setop 01-2024'!A:D,4,) -> 3.92 | F28: =E28*(1+($F$6))*(1-($F$5)) -> 4.8116649 | G28: ='MEMÓRIA DE CÁLCULO'!D25 -> 80.15 | H28: =ROUND(F28*G28,2) -> 385.65
A29: 5 | C29: ESTRUTURA | H29: =SUBTOTAL(9,H30:H36) -> 8458.14
A30: 5.1 | B30: ED-19633 | C30: =VLOOKUP('PLANILHA ORÇAMENTÁRIA'!B30,'Sinapi 05-24 Setop 01-2024'!A:C,2,) -> ESCORAMENTO METÁLICO PARA LAJE E VIGA EM CONCRETO ARMADO, TIPO "A", ALTURA DE (200 ATÉ 310)CM, INCLUSIVE DESCARGA, MONTAGEM, DESMONTAGEM E CARGA | D30: =VLOOKUP('PLANILHA ORÇAMENTÁRIA'!B30,'Sinapi 05-24 Setop 01-2024'!A:C,3,) -> m2xmês | E30: =VLOOKUP('PLANILHA ORÇAMENTÁRIA'!B30,'Sinapi 05-24 Setop 01-2024'!A:D,4,) -> 18.06 | F30: =E30*(1+($F$6))*(1-($F$5)) -> 22.168027 | G30: ='MEMÓRIA DE CÁLCULO'!D27 -> 8.74 | H30: =ROUND(F30*G30,2) -> 193.75
A31: 5.2 | B31: ED-31567 | C31: =VLOOKUP('PLANILHA ORÇAMENTÁRIA'!B31,'Sinapi 05-24 Setop 01-2024'!A:C,2,) -> FÔRMA E DESFORMA PARA PILAR DE MADEIRA COM TÁBUA E SARRAFO, REAPROVEITAMENTO (3X), EXCLUSIVE ESCORAMENTO | D31: =VLOOKUP('PLANILHA ORÇAMENTÁRIA'!B31,'Sinapi 05-24 Setop 01-2024'!A:C,3,) -> m2 | E31: =VLOOKUP('PLANILHA ORÇAMENTÁRIA'!B31,'Sinapi 05-24 Setop 01-2024'!A:D,4,) -> 65.76 | F31: =E31*(1+($F$6))*(1-($F$5)) -> 80.718133 | G31: ='MEMÓRIA DE CÁLCULO'!D28 -> 21.38 | H31: =ROUND(F31*G31,2) -> 1725.75
A32: 5.3 | B32: ED-8486 | C32: =VLOOKUP('PLANILHA ORÇAMENTÁRIA'!B32,'Sinapi 05-24 Setop 01-2024'!A:C,2,) -> CONCRETO ESTRUTURAL, PREPARADO EM OBRA COM BETONEIRA, CONTROLE "A", COM FCK 20MPA, BRITA Nº (1 E 2), CONSISTÊNCIA PARA VIBRAÇÃO (FABRICAÇÃO) | D32: =VLOOKUP('PLANILHA ORÇAMENTÁRIA'!B32,'Sinapi 05-24 Setop 01-2024'!A:C,3,) -> m3 | E32: =VLOOKUP('PLANILHA ORÇAMENTÁRIA'!B32,'Sinapi 05-24 Setop 01-2024'!A:D,4,) -> 584.38 | F32: =E32*(1+($F$6))*(1-($F$5)) -> 717.3063 | G32: ='MEMÓRIA DE CÁLCULO'!D29 -> 2.81 | H32: =ROUND(F32*G32,2) -> 2015.63
A33: 5.4 | B33: 92769 | C33: =VLOOKUP('PLANILHA ORÇAMENTÁRIA'!B33,'Sinapi 05-24 Setop 01-2024'!A:C,2,) -> ARMAÇÃO DE LAJE DE ESTRUTURA CONVENCIONAL DE CONCRETO ARMADO UTILIZANDO AÇO CA-50 DE 6,3 MM - MONTAGEM. AF_06/2022 | D33: =VLOOKUP('PLANILHA ORÇAMENTÁRIA'!B33,'Sinapi 05-24 Setop 01-2024'!A:C,3,) -> KG | E33: =VLOOKUP('PLANILHA ORÇAMENTÁRIA'!B33,'Sinapi 05-24 Setop 01-2024'!A:D,4,) -> 11,87 | F33: =E33*(1+($F$6))*(1-($F$5)) -> 14.570016 | G33: ='MEMÓRIA DE CÁLCULO'!D30 -> 52.44 | H33: =ROUND(F33*G33,2) -> 764.05
A34: 5.5 | B34: 92761 | C34: =VLOOKUP('PLANILHA ORÇAMENTÁRIA'!B34,'Sinapi 05-24 Setop 01-2024'!A:C,2,) -> ARMAÇÃO DE PILAR OU VIGA DE ESTRUTURA CONVENCIONAL DE CONCRETO ARMADO UTILIZANDO AÇO CA-50 DE 8,0 MM - MONTAGEM. AF_06/2022 | D34: =VLOOKUP('PLANILHA ORÇAMENTÁRIA'!B34,'Sinapi 05-24 Setop 01-2024'!A:C,3,) -> KG | E34: =VLOOKUP('PLANILHA ORÇAMENTÁRIA'!B34,'Sinapi 05-24 Setop 01-2024'!A:D,4,) -> 11,53 | F34: =E34*(1+($F$6))*(1-($F$5)) -> 14.152677 | G34: ='MEMÓRIA DE CÁLCULO'!D31 -> 108.112 | H34: =ROUND(F34*G34,2) -> 1530.07
A35: 5.6 | B35: ED-29550 | C35: =VLOOKUP('PLANILHA ORÇAMENTÁRIA'!B35,'Sinapi 05-24 Setop 01-2024'!A:C,2,) -> CORTE, DOBRA E MONTAGEM DE AÇO CA-50, DIÂMETRO 8MM, INCLUSIVE ESPAÇADOR | D35: =VLOOKUP('PLANILHA ORÇAMENTÁRIA'!B35,'Sinapi 05-24 Setop 01-2024'!A:C,3,) -> Kg | E35: =VLOOKUP('PLANILHA ORÇAMENTÁRIA'!B35,'Sinapi 05-24 Setop 01-2024'!A:D,4,) -> 11.31 | F35: =E35*(1+($F$6))*(1-($F$5)) -> 13.882635 | G35: ='MEMÓRIA DE CÁLCULO'!D32 -> 108.112 | H35: =ROUND(F35*G35,2) -> 1500.88
A36: 5.7 | B36: ED-29549 | C36: =VLOOKUP('PLANILHA ORÇAMENTÁRIA'!B36,'Sinapi 05-24 Setop 01-2024'!A:C,2,) -> CORTE, DOBRA E MONTAGEM DE AÇO CA-50, DIÂMETRO 6,3MM, INCLUSIVE ESPAÇADOR | D36: =VLOOKUP('PLANILHA ORÇAMENTÁRIA'!B36,'Sinapi 05-24 Setop 01-2024'!A:C,3,) -> Kg | E36: =VLOOKUP('PLANILHA ORÇAMENTÁRIA'!B36,'Sinapi 05-24 Setop 01-2024'!A:D,4,) -> 11.31 | F36: =E36*(1+($F$6))*(1-($F$5)) -> 13.882635 | G36: ='MEMÓRIA DE CÁLCULO'!D33 -> 52.44 | H36: =ROUND(F36*G36,2) -> 728.01
A37: 6 | C37: ALVENARIA | H37: =SUBTOTAL(9,H38:H38) -> 7361.3
A38: 6.1 | B38: 103330 | C38: =VLOOKUP('PLANILHA ORÇAMENTÁRIA'!B38,'Sinapi 05-24 Setop 01-2024'!A:C,2,) -> ALVENARIA DE VEDAÇÃO DE BLOCOS CERÂMICOS FURADOS NA HORIZONTAL DE 11,5X19X19 CM (ESPESSURA 11,5 CM) E ARGAMASSA DE ASSENTAMENTO COM PREPARO EM BETONEIRA. AF_12/2021 | D38: =VLOOKUP('PLANILHA ORÇAMENTÁRIA'!B38,'Sinapi 05-24 Setop 01-2024'!A:C,3,) -> M2 | E38: =VLOOKUP('PLANILHA ORÇAMENTÁRIA'!B38,'Sinapi 05-24 Setop 01-2024'!A:D,4,) -> 82,27 | F38: =E38*(1+($F$6))*(1-($F$5)) -> 100.98359 | G38: ='MEMÓRIA DE CÁLCULO'!D35 -> 72.896 | H38: =ROUND(F38*G38,2) -> 7361.3
A39: 7 | C39: REVESTIMENTOS | H39: =SUBTOTAL(9,H40:H45) -> 12563.9
A40: 7.1 | C40: CHAPISCO | H40: =SUBTOTAL(9,H41) -> 1587.02
A41: 7.1.1 | B41: 87893 | C41: =VLOOKUP('PLANILHA ORÇAMENTÁRIA'!B41,'Sinapi 05-24 Setop 01-2024'!A:C,2,) -> CHAPISCO APLICADO EM ALVENARIA (SEM PRESENÇA DE VÃOS) E ESTRUTURAS DE CONCRETO DE FACHADA, COM COLHER DE PEDREIRO. ARGAMASSA TRAÇO 1:3 COM PREPARO MANUAL. AF_10/2022 | D41: =VLOOKUP('PLANILHA ORÇAMENTÁRIA'!B41,'Sinapi 05-24 Setop 01-2024'!A:C,3,) -> M2 | E41: =VLOOKUP('PLANILHA ORÇAMENTÁRIA'!B41,'Sinapi 05-24 Setop 01-2024'!A:D,4,) -> 7,28 | F41: =E41*(1+($F$6))*(1-($F$5)) -> 8.935949 | G41: ='MEMÓRIA DE CÁLCULO'!D38 -> 177.6 | H41: =ROUND(F41*G41,2) -> 1587.02
...

Sheet BDI
A1: DEMONSTRATIVO DO BDI
A2: ITEM COMPONENTE | B2: 1º QUARTIL | C2: MÉDIO | D2: 3º QUARTIL | E2: ADOTADO | G2: IMPOSTOS
A3: Seguro+Garantia - G+S | B3: 0.8 | C3: 0.8 | D3: 1 | E3: 0.8 | G3: PIS | H3: 0.65
A4: Risco - R | B4: 0.97 | C4: 1.27 | D4: 1.27 | E4: 1.27 | G4: COFINS | H4: 3
A5: Despesas Financeiras - DF | B5: 0.59 | C5: 1.23 | D5: 1.39 | E5: 1.23 | G5: ISS | H5: 2.4
A6: Administração Central - AC | B6: 3 | C6: 4 | D6: 5.5 | E6: 4 | G6: Contribuição Previdenciária sobre a renda bruta
A7: Lucro - L | B7: 6.16 | C7: 7.4 | D7: 8.96 | E7: 7.4
A8: Impostos - I | E8: =H8 -> 6.05 | G8: TOTAL | H8: =SUM(H3:H7) -> 6.05
A15: BDI CALCULADO = | B15: =((((1+E6/100+E3/100+E4/100)*(1+E5/100)*(1+E7/100))/(1-E8/100))-1) -> 0.22746552
A17: onde:
A18: AC = taxa de administração central
A19: S = taxa de seguros
A20: R = taxa de riscos
A21: G = taxa de garantias
A22: DF = taxa de despesas financeiras
A23: L = taxa de lucro/remuneração
A24: I = taxa de incidência de impostos (PIS, COFINS, ISS e CPRB)
A25: FÓRMULA CONFORME ACORDAO nº 2622/2013 TCU - PLENÁRIO
C27: Serro, 11 de Julho de 2024.
B30: ______________________________________________
C31: Paula Alves Cardoso
C32: CREA-MG 141830080-2
C33: Engenheiro Civil Municipal

Sheet CRONOGRAMA
A1: CRONOGRAMA
A2: Obra: | B2: REFORMA DO CAMPO DE FUTEBOL DO BAIRRO MORRO DO VENTO -SERRO MG
A3: Item | B3: Etapa | C3: R$ Parcial | D3: 1º MÊS | E3: 2º MÊS | F3: 3º MÊS
A4: 1 | B4: =VLOOKUP(A4,'PLANILHA ORÇAMENTÁRIA'!A:H,3,) -> ADMINISTRAÇÃO LOCAL | C4: =VLOOKUP(A4,'PLANILHA ORÇAMENTÁRIA'!A:H,8,) -> 21228.28 | D4: 0.3333 | E4: 0.3333 | F4: 0.3334
A5: 2 | B5: =VLOOKUP(A5,'PLANILHA ORÇAMENTÁRIA'!A:H,3,) -> CANTEIRO DE OBRA | C5: =VLOOKUP(A5,'PLANILHA ORÇAMENTÁRIA'!A:H,8,) -> 10709.92 | D5: 1
A6: 3 | B6: =VLOOKUP(A6,'PLANILHA ORÇAMENTÁRIA'!A:H,3,) -> LOCAÇÃO DE ANDAIMES | C6: =VLOOKUP(A6,'PLANILHA ORÇAMENTÁRIA'!A:H,8,) -> 1025.13 | D6: 0.3333 | E6: 0.3333 | F6: 0.3334
A7: 4 | B7: =VLOOKUP(A7,'PLANILHA ORÇAMENTÁRIA'!A:H,3,) -> FUNDAÇÕES | C7: =VLOOKUP(A7,'PLANILHA ORÇAMENTÁRIA'!A:H,8,) -> 47819.11 | D7: 1
A8: 5 | B8: =VLOOKUP(A8,'PLANILHA ORÇAMENTÁRIA'!A:H,3,) -> ESTRUTURA | C8: =VLOOKUP(A8,'PLANILHA ORÇAMENTÁRIA'!A:H,8,) -> 8458.14 | D8: 0.5 | E8: 0.5
A9: 6 | B9: =VLOOKUP(A9,'PLANILHA ORÇAMENTÁRIA'!A:H,3,) -> ALVENARIA | C9: =VLOOKUP(A9,'PLANILHA ORÇAMENTÁRIA'!A:H,8,) -> 7361.3 | E9: 0.7 | F9: 0.3
A10: 7 | B10: =VLOOKUP(A10,'PLANILHA ORÇAMENTÁRIA'!A:H,3,) -> REVESTIMENTOS | C10: =VLOOKUP(A10,'PLANILHA ORÇAMENTÁRIA'!A:H,8,) -> 12563.9 | E10: 0.7 | F10: 0.3
A11: 8 | B11: =VLOOKUP(A11,'PLANILHA ORÇAMENTÁRIA'!A:H,3,) -> COBERTURA | C11: =VLOOKUP(A11,'PLANILHA ORÇAMENTÁRIA'!A:H,8,) -> 1782.29 | E11: 0.8 | F11: 0.2
A12: 9 | B12: =VLOOKUP(A12,'PLANILHA ORÇAMENTÁRIA'!A:H,3,) -> CALHAS | C12: =VLOOKUP(A12,'PLANILHA ORÇAMENTÁRIA'!A:H,8,) -> 754.3 | E12: 0.7 | F12: 0.3
A13: 10 | B13: =VLOOKUP(A13,'PLANILHA ORÇAMENTÁRIA'!A:H,3,) -> VIDRO | C13: =VLOOKUP(A13,'PLANILHA ORÇAMENTÁRIA'!A:H,8,) -> 302.74 | E13: 0.7 | F13: 0.3
A14: 11 | B14: =VLOOKUP(A14,'PLANILHA ORÇAMENTÁRIA'!A:H,3,) -> PISO | C14: =VLOOKUP(A14,'PLANILHA ORÇAMENTÁRIA'!A:H,8,) -> 8399.63 | E14: 0.7 | F14: 0.3
A15: 12 | B15: =VLOOKUP(A15,'PLANILHA ORÇAMENTÁRIA'!A:H,3,) -> PINTURA | C15: =VLOOKUP(A15,'PLANILHA ORÇAMENTÁRIA'!A:H,8,) -> 10818.79 | F15: 1
A16: 13 | B16: =VLOOKUP(A16,'PLANILHA ORÇAMENTÁRIA'!A:H,3,) -> INSTALAÇÕES ELÉTRICAS | C16: =VLOOKUP(A16,'PLANILHA ORÇAMENTÁRIA'!A:H,8,) -> 32829.89 | D16: 0.2 | E16: 0.5 | F16: 0.3
A17: 14 | B17: =VLOOKUP(A17,'PLANILHA ORÇAMENTÁRIA'!A:H,3,) -> INSTALAÇÕES HIDRÁULICAS | C17: =VLOOKUP(A17,'PLANILHA ORÇAMENTÁRIA'!A:H,8,) -> 10471.15 | D17: 0.2 | E17: 0.5 | F17: 0.3
A18: 15 | B18: =VLOOKUP(A18,'PLANILHA ORÇAMENTÁRIA'!A:H,3,) -> ESQUADRIAS | C18: =VLOOKUP(A18,'PLANILHA ORÇAMENTÁRIA'!A:H,8,) -> 4191.14 | E18: 0.8 | F18: 0.2
A19: 16 | B19: =VLOOKUP(A19,'PLANILHA ORÇAMENTÁRIA'!A:H,3,) -> DIVERSOS | C19: =VLOOKUP(A19,'PLANILHA ORÇAMENTÁRIA'!A:H,8,) -> 94005.42 | D19: 0.2 | E19: 0.5 | F19: 0.3
A21: Total | C21: =SUBTOTAL(9,C4:C19) -> 272721.13 | D21: =SUMPRODUCT(D4:D19,$C$4:$C$19) -> 97636.454 | E21: =SUMPRODUCT(E4:E19,$C$4:$C$19) -> 105645.41 | F21: =SUMPRODUCT(F4:F19,$C$4:$C$19) -> 69439.262
B22: ____________________________________________________ | C22: ___________________________________
B23: Paula Alves Cardoso | C23: Epaminondas Pires de Miranda
B24: CREA-MG 141830080-2 | C24: Prefeito Municipal
B25: Engenheiro Civil Municipal
B26: Serro, 03 de julho de 2024

Sheet MEMÓRIA DE CÁLCULO
A1: MEMÓRIA DE CÁLCULO
A2: REFORMA DO CAMPO DE FUTEBOL - BAIRRO MORRO DO VENTO - SERRO/MG
