Workbook
Name __Anonymous_Sheet_DB__1: 'MEMÓRIA DE CÁLCULO'!$F$1:$F$64230
Name __Anonymous_Sheet_DB__1_1: 'MEMÓRIA DE CÁLCULO'!#REF!
Name __Anonymous_Sheet_DB__2: 'MEMÓRIA DE CÁLCULO'!$B$1:$I$64230
Name Excel_BuiltIn__FilterDatabase: 'MEMÓRIA DE CÁLCULO'!$F$1:$F$64230
Name Excel_BuiltIn__FilterDatabase_1: 'MEMÓRIA DE CÁLCULO'!$F$1:$F$64230
Name Excel_BuiltIn_Print_Area: 'MEMÓRIA DE CÁLCULO'!$A$1:$I$454
Name Print_Area: CFF!$A$1:$AA$27
Name Print_Area: 'CFF - CORRIGIDO'!$A$1:$Y$28
Name Print_Area: 'MEMÓRIA DE CÁLCULO'!$A$1:$I$459
Name Print_Titles: 'MEMÓRIA DE CÁLCULO'!$1:$5

Sheet ADITIVO
B1: SECRETARIA DE ESTADO DE EDUCAÇÃO - DIRETORIA DE INFRAESTRUTURA ESCOLAR E GESTÃO DA REDE FÍSICA - PLANILHA DE SERVIÇOS
A2: ESCOLA: CENTRO MUNICIPAL DE EDUCAÇÃO INFANTIL DR. JOSÉ MONTEIRO DA CUNHA MAGALHÃES | L2: TERMO DE CONVÊNIO Nº: 1261001375/2021
A3: MUNICÍPIO: DISTRITO DE PEDRO LESSA, SERRO/MG | D3: 0.05 | E3: SERVIÇOS: CONSTRUÇÃO DE QUADRA POLIESPORTIVA
A4: ITEM | B4: DESCRIÇÃO | C4: UN. | D4: V. CONVÊNIO | F4: =F448 -> 572825.09 | G4: V. CONTRATADO | I4: =I448 -> 572733.4 | J4: V. EXECUTADO (1ª empresa) | L4: =L448 -> 205210.67 | M4: A SER EXECUTADO | O4: =O448 -> 367522.72 | P4: V. A SER EXCUTAR/ATUALIZADO | R4: =R448 -> 515328.23 | S4: TOTAL OBRA (valor executado + valor a ser executado atualizado) | U4: =U448 -> 720538.9 | V4: LOCAL DE INTERVENÇÃO
D5: QUANT. | E5: PREÇO UNIT. | F5: TOTAL | G5: QUANT. | H5: PREÇO UNIT. | I5: TOTAL | J5: QUANT. | K5: PREÇO UNIT. | L5: TOTAL | M5: QUANT. | N5: PREÇO UNIT. | O5: TOTAL | P5: QUANT. | Q5: PREÇO UNIT. | R5: TOTAL | S5: QUANT. | T5: PREÇO UNIT. | U5: TOTAL | V5: MEMÓRIA DE CALCULO
A6: 010000 | B6: INSTALAÇÃO DOS SERVIÇOS DE ENGENHARIA
A7: 010001 | B7: Locação dos serviços de engenharia: execução de gabarito | C7: M² | D7: =28*18 -> 504 | E7: 7.61 | F7: =D7*E7 -> 3835.44 | G7: =28*18 -> 504 | H7: 7.61 | I7: =G7*H7 -> 3835.44 | J7: =28*18 -> 504 | K7: 7.61 | L7: =J7*K7 -> 3835.44 | M7: 0 | N7: 7.61 | O7: =M7*N7 -> 0 | P7: 0 | Q7: 9.54 | R7: 0 | S7: =J7+P7 -> 504 | U7: =L7+R7 -> 3835.44 | V7: 28*18 | W7: Área de projeção da quadra
B8: Será medido pela área de obra locada, aferida entre os eixos de fundação e acrescentando-se 0,50 m, a partir do eixo, para o lado externo (m²). O item remunera o fornecimento de pontaletes em Pinus ou Cedrinho de 3" x 3"; tábuas em Pinus de 1" x 12"; arame galvanizado; inclusive materiais acessórios e a mão-de-obra necessária para os serviços de locação completa em obras de edificação compreendendo: locação de estacas, eixos principais, paredes, etc.
A11: 010003 | B11: Fornecimento e colocação de placa dos serviços de engenharia em chapa galvanizada (3,00 X 1,50m) - Governo do Estado - (Ampliação e / ou Reforma acima de R$ 30.000,00) | C11: UN | D11: 1 | E11: 1121.47 | F11: =D11*E11 -> 1121.47 | G11: 1 | H11: 1121.47 | I11: =G11*H11 -> 1121.47 | J11: 1 | K11: 1121.47 | L11: =J11*K11 -> 1121.47 | M11: 0 | N11: 1121.47 | O11: =M11*N11 -> 0 | P11: 0 | Q11: 1419.25 | R11: 0 | S11: =J11+P11 -> 1 | U11: =L11+R11 -> 1121.47 | V11: 1 | W11: Rente ao muro de divisa da escola
B12: Será medido por unidade de placa instalada (UN). O item remunera as placas de obras que deverão ser confeccionadas em chapa galvanizada 0,26. As chapas serão afixadas com rebites 540 e parafusos 3/8, em uma estrutura metálica com viga U 2” enrijecida e Metalon 20x20. O suporte para a instalação deverá ser em Eucalipto Autoclavado. As placas serão pintadas na frente e no verso com fundo anticorrosivo e tinta automotiva. FORMATO: 3,00 x 1,50m. O tamanho da placa é definido em função do local da sua instalação e/ou do valor dos serviços acima de R$ 30.000,00, obedecendo à proporção de 6,00 x 3,00m e o manual de identidade visual do Governo de Minas.
A14: 010004 | B14: Limpeza do terreno, raspagem, capina e queima manual | C14: M2 | D14: =31*21+3*3 -> 660 | E14: 1.04 | F14: =D14*E14 -> 686.4 | G14: =31*21+3*3 -> 660 | H14: 1.04 | I14: =G14*H14 -> 686.4 | J14: =31*21+3*3 -> 660 | K14: 1.04 | L14: =J14*K14 -> 686.4 | M14: 0 | N14: 1.04 | O14: =M14*N14 -> 0 | P14: 0 | Q14: 1.31 | R14: 0 | S14: =J14+P14 -> 660 | U14: =L14+R14 -> 686.4 | V14: 31*21+3*3 | W14: Área de implantação da quadra
B15: Será medido pela área real do terreno, onde ocorrer a limpeza manual de vegetação (m²). O item remunera o fornecimento de caminhão basculante, a mão-de-obra necessária e ferramentas auxiliares para a execução dos serviços executados manualmente com auxílio de ferramental apropriado para a roçada, derrubada de árvores e arbustos, destocamento, fragmentação de galhos e troncos, empilhamento e transporte, abrangendo: a remoção de vegetação, árvores e arbustos com diâmetro do tronco até 5 cm, medidos na altura de 1,00 m do solo, capim. etc.; arrancamento e remoção de tocos, raízes e troncos; raspagem manual da camada de solo vegetal na espessura mínima de 15 cm; carga manual; e o transporte, interno na obra, num raio de 500m.
A18: 010006 | B18: Barracão em madeira, piso cimentado e cobertura em telhas de fibrocimento ondulada | C18: M² | D18: =3.3*3.3 -> 10.89 | E18: 418.27 | F18: =D18*E18 -> 4554.9603 | G18: =3.3*3.3 -> 10.89 | H18: 418.27 | I18: =G18*H18 -> 4554.9603 | J18: =3.3*3.3 -> 10.89 | K18: 418.27 | L18: =J18*K18 -> 4554.9603 | M18: 0 | N18: 418.27 | O18: =M18*N18 -> 0 | P18: 0 | Q18: 551.03 | R18: 0 | S18: =J18+P18 -> 10.89 | U18: =L18+R18 -> 4554.9603 | V18: 3,3*3,3 | W18: Local a ser definido com a fiscalização
B19: Será medido pela área de projeção da cobertura de construção provisória executada, com croqui analisado e aprovado previamente pela fiscalização. (M²) O item remunera o fornecimento de materiais e mão-de-obra necessários para a execução de construção provisória em madeira destinada a escritório e/ou depósito de obra, constituída por: piso interno e calçada externa em concreto usinado, Fck 20 MPa; paredes, portas e janelas em chapa compensada plastificada de no mínimo 6 mm de espessura, e / ou compensado resinado com seladora impermeabilizante e aplicação de textura na pintura; janelas com vidro fantasia de 3 ou 4mm; porta com dobradiças de latão cromado e fechadura de embutir cromada e com miolo tipo Georges; estrutura, apoio para cobertura e contraventamentos em pontaletes e tábuas de Pinus ou Cedrinho e engradamento da cobertura de eucalípto imunizado, cobertura com telha em fibrocimento, perfil ondulado de no mínimo 5 mm de espessura; instalação elétrica e pintura acrílica, materiais acessórios para execução total da construção provisória, conforme norma regulamentadora. Devem obedecer a NR 18 (Áreas de vivência). Remunera também a manutenção durante todo o periodo da obra e a demobilização completa deste barracão.
C21: SUB-TOTAL = | F21: =SUM(F7:F20) -> 10198.27 | G21: SUB-TOTAL = | I21: =SUM(I7:I20) -> 10198.27 | J21: SUB-TOTAL = | L21: =SUM(L7:L20) -> 10198.27 | M21: SUB-TOTAL = | O21: =SUM(O7:O20) -> 0 | P21: SUB-TOTAL = | R21: 0 | S21: SUB-TOTAL = | U21: =L21+R21 -> 10198.27
A22: 030000 | B22: TRABALHOS EM TERRA
A23: 030001 | B23: Aterro Compactado manual, com soquete | C23: M3 | D23: =31*1.5*2*0.05+18*2*0.05+(2.35+1.36)*1.36*0.25+3.89*1.36*0.44 -> 10.039176 | E23: 53.41 | F23: =D23*E23 -> 536.19239 | G23: =31*1.5*2*0.05+18*2*0.05+(2.35+1.36)*1.36*0.25+3.89*1.36*0.44 -> 10.039176 | H23: 53.41 | I23: =G23*H23 -> 536.19239 | J23: =31*1.5*2*0.05+18*2*0.05+(2.35+1.36)*1.36*0.25+3.89*1.36*0.44 -> 10.039176 | K23: 53.41 | L23: =J23*K23 -> 536.19239 | M23: 0 | N23: 53.41 | O23: =M23*N23 -> 0 | P23: 0 | Q23: 67.39 | R23: 0 | S23: =J23+P23 -> 10.039176 | U23: =L23+R23 -> 536.19239 | V23: 31*1,5*2*0,05+18*2*0,05+(2,35+1,36)*1,36*0,25+3,89*1,36*0,44 | W23: Passeio lateral e rampa
B24: Será medido pelo volume de aterro compactado (m³). O item remunera o fornecimento de equipamentos e mão-de-obra necessários para execução dos serviços de aterro interno, com material existente ou importado, incluindo o apiloamento em camadas, de 20 cm, com maço de 30 kg e a disposição das sobras.
A26: 030002 | B26: Escavação manual de vala em solo de 1ª e 2ª categoria, profundidade em até 2,00m | C26: M3 | D26: =28*0.25*0.46*2+18*0.25*0.46*2+(18.6+3.02)*0.25*0.46*2+(4.46+2.25+2.41+2.25+2.41+0.2)*0.25*0.46+0.4*0.25*0.46*2+15.4*0.25*0.46*2+1.1*0.25*0.4*2+(3.75+1.66)*0.25*0.46+(2.58+3.74)*0.25*0.46+1.24*0.25*0.46+4.7*0.25*0.46+(2.11*2+0.18*3)*0.25*0.46+1.82*0.25*0.46+0.75*0.75*0.8*14+0.45*0.45*0.46*15 -> 31.5003 | E26: 53.41 | F26: =D26*E26 -> 1682.431 | G26: =28*0.25*0.46*2+18*0.25*0.46*2+(18.6+3.02)*0.25*0.46*2+(4.46+2.25+2.41+2.25+2.41+0.2)*0.25*0.46+0.4*0.25*0.46*2+15.4*0.25*0.46*2+1.1*0.25*0.4*2+(3.75+1.66)*0.25*0.46+(2.58+3.74)*0.25*0.46+1.24*0.25*0.46+4.7*0.25*0.46+(2.11*2+0.18*3)*0.25*0.46+1.82*0.25*0.46+0.75*0.75*0.8*14+0.45*0.45*0.46*15 -> 31.5003 | H26: 53.41 | I26: =G26*H26 -> 1682.431 | J26: =28*0.25*0.46*2+18*0.25*0.46*2+(18.6+3.02)*0.25*0.46*2+(4.46+2.25+2.41+2.25+2.41+0.2)*0.25*0.46+0.4*0.25*0.46*2+15.4*0.25*0.46*2+1.1*0.25*0.4*2+(3.75+1.66)*0.25*0.46+(2.58+3.74)*0.25*0.46+1.24*0.25*0.46+4.7*0.25*0.46+(2.11*2+0.18*3)*0.25*0.46+1.82*0.25*0.46+0.75*0.75*0.8*14+0.45*0.45*0.46*15 -> 31.5003 | K26: 53.41 | L26: =J26*K26 -> 1682.431 | M26: 0 | N26: 53.41 | O26: =M26*N26 -> 0 | P26: 0 | Q26: 67.39 | R26: 0 | S26: =J26+P26 -> 31.5003 | U26: =L26+R26 -> 1682.431 | V26: 28*0,25*0,46*2+18*0,25*0,46*2+(18,6+3,02)*0,25*0,46*2+(4,46+2,25+2,41+2,25+2,41+0,2)*0,25*0,46+0,4*0,25*0,46*2+15,4*0,25*0,46*2+1,1*0,25*0,4*2+(3,75+1,66)*0,25*0,46+(2,58+3,74)*0,25*0,46+1,24*0,25*0,46+4,7*0,25*0,46+(2,11*2+0,18*3)*0,25*0,46+1,82*0,25*0,46+0,75*0,75*0,8*14+0,45*0,45*0,46*15 | W26: Baldrames,blocos e coroamento
B27: Será medido pelo volume escavado, considerando-se um acréscimo para cada lado, no plano horizontal, em relação às dimensões de cada peça, de 20 cm (m³). O item remunera o fornecimento da mão-de-obra necessária para a escavação manual em solo de 1ª e 2ª categorias em valas ou cavas até 2,00 m de profundidade.
A29: 030003 | B29: Escavação manual em campo aberto em solo exceto rocha com profundidade em até 2,00m | C29: M3 | D29: =3.14*1.3*1.3*1.7 -> 9.02122 | E29: 31.42 | F29: =D29*E29 -> 283.44673 | G29: =3.14*1.3*1.3*1.7 -> 9.02122 | H29: 31.42 | I29: =G29*H29 -> 283.44673 | J29: =3.14*1.3*1.3*1.7 -> 9.02122 | K29: 31.42 | L29: =J29*K29 -> 283.44673 | M29: 0 | N29: 31.42 | O29: =M29*N29 -> 0 | P29: 0 | Q29: 39.48 | R29: 0 | S29: =J29+P29 -> 9.02122 | U29: =L29+R29 -> 283.44673 | V29: 3,14*1,3*1,3*1,7 | W29: Reservatório de água pluvial
B30: Será medido pelo volume real escavado (m³). O item remunera o fornecimento da mão-de-obra necessária para a escavação manual em solo, de primeira ou segunda categoria, em campo aberto.
A33: 030005 | B33: Reaterro manual de vala apiloado | C33: M3 | D33: =28*0.05*0.4*2+18*0.05*0.4*2+(18.6+3.02)*0.05*0.4*2+(4.46+2.25+2.41+2.25+2.41+0.2)*0.05*0.4+0.4*0.05*0.4*2+15.4*0.05*0.4*2+1.1*0.05*0.4*2+(3.75+1.66)*0.05*0.4+(2.58+3.74)*0.05*0.4+1.24*0.05*0.4+4.7*0.05*0.4+(2.11*2+0.18*3)*0.05*0.4+1.82*0.05*0.4+14*0.05*0.05*0.7+15*0.05*0.05*0.4 -> 4.1849 | E33: 53.41 | F33: =D33*E33 -> 223.51551 | G33: =28*0.05*0.4*2+18*0.05*0.4*2+(18.6+3.02)*0.05*0.4*2+(4.46+2.25+2.41+2.25+2.41+0.2)*0.05*0.4+0.4*0.05*0.4*2+15.4*0.05*0.4*2+1.1*0.05*0.4*2+(3.75+1.66)*0.05*0.4+(2.58+3.74)*0.05*0.4+1.24*0.05*0.4+4.7*0.05*0.4+(2.11*2+0.18*3)*0.05*0.4+1.82*0.05*0.4+14*0.05*0.05*0.7+15*0.05*0.05*0.4 -> 4.1849 | H33: 53.41 | I33: =G33*H33 -> 223.51551 | J33: =28*0.05*0.4*2+18*0.05*0.4*2+(18.6+3.02)*0.05*0.4*2+(4.46+2.25+2.41+2.25+2.41+0.2)*0.05*0.4+0.4*0.05*0.4*2+15.4*0.05*0.4*2+1.1*0.05*0.4*2+(3.75+1.66)*0.05*0.4+(2.58+3.74)*0.05*0.4+1.24*0.05*0.4+4.7*0.05*0.4+(2.11*2+0.18*3)*0.05*0.4+1.82*0.05*0.4+14*0.05*0.05*0.7+15*0.05*0.05*0.4 -> 4.1849 | K33: 53.41 | L33: =J33*K33 -> 223.51551 | M33: 0 | N33: 53.41 | O33: =M33*N33 -> 0 | P33: 0 | Q33: 67.39 | R33: 0 | S33: =J33+P33 -> 4.1849 | U33: =L33+R33 -> 223.51551 | V33: 28*0,05*0,4*2+18*0,05*0,4*2+(18,6+3,02)*0,05*0,4*2+(4,46+2,25+2,41+2,25+2,41+0,2)*0,05*0,4+0,4*0,05*0,4*2+15,4*0,05*0,4*2+1,1*0,05*0,4*2+(3,75+1,66)*0,05*0,4+(2,58+3,74)*0,05*0,4+1,24*0,05*0,4+4,7*0,05*0,4+(2,11*2+0,18*3)*0,05*0,4+1,82*0,05*0,4+14*,05*,05*,7+15*,05*,05*,4 | W33: Baldrames,blocos e coroamento
B34: Será medido pelo volume de reaterro em valas, poços ou cavas executado (m³). O item remunera o fornecimento da mão-de-obra necessária para a execução dos serviços de reaterro manual apiloado, com material existente ou importado, sem controle de compactação.
A37: 030007 | B37: Escavação manual de tubulão à céu aberto | C37: M3 | D37: =3.14*0.7*0.7/4*2*14 -> 10.7702 | E37: 279.14 | F37: =D37*E37 -> 3006.3936 | G37: =3.14*0.7*0.7/4*2*14 -> 10.7702 | H37: 279.14 | I37: =G37*H37 -> 3006.3936 | J37: =3.14*0.7*0.7/4*2*14 -> 10.7702 | K37: 279.14 | L37: =J37*K37 -> 3006.3936 | M37: 0 | N37: 279.14 | O37: =M37*N37 -> 0 | P37: 0 | Q37: 327 | R37: 0 | S37: =J37+P37 -> 10.7702 | U37: =L37+R37 -> 3006.3936 | V37: 3,14*0,7*0,7/4*2*14 | W37: Tubulão para pilares metálicos
B38: Será medido pelo volume escavado até a cota prevista (m³) O item remunera o fornecimento de mão de obra, ferramentas e equipamentos necessários para a execução dos serviços de escavação do tubulão a céu aberto. Remunera também a locação do tubulão, o alargamento da base, esgotamento caso seja encontrado quantidade de água que impeça a continuidade da escavação
C40: SUB-TOTAL = | F40: =SUM(F23:F39) -> 5731.9793 | G40: SUB-TOTAL = | I40: =SUM(I23:I39) -> 5731.9793 | J40: SUB-TOTAL = | L40: =SUM(L23:L39) -> 5731.9793 | M40: SUB-TOTAL = | O40: =SUM(O23:O39) -> 0 | P40: SUB-TOTAL = | R40: 0 | S40: SUB-TOTAL = | U40: =L40+R40 -> 5731.9793
A41: 040000 | B41: SONDAGEM, FUNDAÇÕES, MUROS E CONTENÇÕES
A42: 040001 | B42: Armadura de aço, CA 50, corte e dobra no canteiro | C42: KG | D42: =33.8*35 -> 1183 | E42: 13.27 | F42: =D42*E42 -> 15698.41 | G42: =33.8*35 -> 1183 | H42: 13.27 | I42: =G42*H42 -> 15698.41 | J42: 1086.6 | K42: 13.27 | L42: =J42*K42 -> 14419.182 | M42: 96.4 | N42: 13.27 | O42: =M42*N42 -> 1279.228 | P42: 96.4 | Q42: 13.88 | R42: 1338.032 | S42: =J42+P42 -> 1183 | U42: =L42+R42 -> 15757.214 | V42: 33,8*35 | W42: Fundação
B43: Será medido pelo peso nominal das bitolas constantes no projeto de armadura (kg). O item remunera o fornecimento de aço CA-50 ( A ou B ) com fyk igual 500 MPa, dobramento, transporte e colocação de armaduras de qualquer bitola e qualquer comprimento; estão incluídos no item os serviços e materiais secundários como arame, espaçadores, perdas decorrentes de desbitolamento, cortes e pontas de transpasse para emendas.
A45: 040002 | B45: Fôrma de madeira para fundação, com tábuas e sarrafos, 3 aproveitamentos e desforma | C45: M2 | D45: =28*0.4*4+18*0.4*4+21.62*0.4*4+(3.75+1.66)*0.4*2+15.4*0.4*6+(3.74+2.58)*0.4*2+1.24*0.4*2+4.7*0.4*2+1.82*0.4*2+4.22*0.4*2+0.7*0.4*4*14+15*0.4*4*0.4 -> 189.4 | E45: 47.03 | F45: =D45*E45 -> 8907.482 | G45: =28*0.4*4+18*0.4*4+21.62*0.4*4+(3.75+1.66)*0.4*2+15.4*0.4*6+(3.74+2.58)*0.4*2+1.24*0.4*2+4.7*0.4*2+1.82*0.4*2+4.22*0.4*2+0.7*0.4*4*14+15*0.4*4*0.4 -> 189.4 | H45: 47.03 | I45: =G45*H45 -> 8907.482 | J45: 157.88 | K45: 47.03 | L45: =J45*K45 -> 7425.0964 | M45: 31.52 | N45: 47.03 | O45: =M45*N45 -> 1482.3856 | P45: 31.52 | Q45: 60.61 | R45: 1910.4272 | S45: =J45+P45 -> 189.4 | U45: =L45+R45 -> 9335.5236 | V45: 28*0,4*4+18*0,4*4+21,62*0,4*4+(3,75+1,66)*0,4*2+15,4*0,4*6+(3,74+2,58)*0,4*2+1,24*0,4*2+4,7*0,4*2+1,82*0,4*2+4,22*0,4*2+0,7*0,4*4*14+15*0,4*4 | W45: Fundação
B46: Será medido pelo desenvolvimento das áreas em contato com o concreto, não se descontando áreas de interseção até 0,20 m² (m²). O item remunera o fornecimento dos materiais e a mão-de-obra para execução e instalação da forma, incluindo escoras, gravatas, desmoldante e desforma.
A48: 040003 | B48: Concreto armado para fundação (incluindo fornecimento, transporte, lançamento, forma e desforma) | C48: M3 | D48: =3.14*1.3*1.3*0.08 -> 0.424528 | E48: 1709 | F48: =D48*E48 -> 725.51835 | G48: =3.14*1.3*1.3*0.08 -> 0.424528 | H48: 1709 | I48: =G48*H48 -> 725.51835 | J48: =3.14*1.3*1.3*0.08 -> 0.424528 | K48: 1709 | L48: =J48*K48 -> 725.51835 | M48: 0 | N48: 1709 | O48: =M48*N48 -> 0 | P48: 0 | Q48: 2147.9 | R48: 0 | S48: =J48+P48 -> 0.424528 | U48: =L48+R48 -> 725.51835 | V48: 3,14*1,3*1,3*0,08 | W48: Laje reservatório subterrâneo
B49: Será medido pelo volume calculado no projeto de formas, sendo que o volume da interseção dos diversos elementos estruturais deve ser computado uma só vez (m³). O item remunera o fornecimento de betoneira, pedra britada números 1 e 2, cimento, areia e a mão-de-obra necessária para o preparo do concreto, com resistência mínima à compressão de 20,0 MPa. Remunera também o transporte, lançamento e adensamento. Está também incluido e remunerado 70Kg por m³ de concreto de armadura considerando o fornecimento de aço CA-50 ( A ou B ) com fyk igual 500 MPa, dobramento, transporte e colocação de armaduras de qualquer bitola e qualquer comprimento; estão incluídos no item os serviços e materiais secundários como arame, espaçadores, perdas decorrentes de desbitolamento, cortes e pontas de traspasse para emendas e também 8m² de forma por m³ de concreto considerando o fornecimento dos materiais e a mão-de-obra para execução e instalação da forma, incluindo escoras, gravatas, desmoldante e desforma.
A51: 040004 | B51: Concreto estrutural virado no local,controle "A", consistência para vibração, brita 1, FCK=20 MPA e lançamento em fundação | C51: M³ | D51: =28*0.2*0.4*2+18*0.2*0.4*2+(18.6+3.02)*0.2*0.4*2+(4.46+2.25+2.41+2.25+2.41+0.2)*0.2*0.4+0.4*0.2*0.4*2+15.4*0.2*0.4*2+1.1*0.2*0.4*2+(3.75+1.66)*0.2*0.4+(2.58+3.74)*0.2*0.4+1.24*0.2*0.4+4.7*0.2*0.4+(2.11*2+0.18*3)*0.2*0.4+1.82*0.2*0.4+10.77+14*0.7*0.7*0.8+15*0.4*0.4*0.4 -> 33.7996 | E51: 403.86 | F51: =D51*E51 -> 13650.306 | G51: =28*0.2*0.4*2+18*0.2*0.4*2+(18.6+3.02)*0.2*0.4*2+(4.46+2.25+2.41+2.25+2.41+0.2)*0.2*0.4+0.4*0.2*0.4*2+15.4*0.2*0.4*2+1.1*0.2*0.4*2+(3.75+1.66)*0.2*0.4+(2.58+3.74)*0.2*0.4+1.24*0.2*0.4+4.7*0.2*0.4+(2.11*2+0.18*3)*0.2*0.4+1.82*0.2*0.4+10.77+14*0.7*0.7*0.8+15*0.4*0.4*0.4 -> 33.7996 | H51: 403.86 | I51: =G51*H51 -> 13650.306 | J51: =28*0.2*0.4*2+18*0.2*0.4*2+(18.6+3.02)*0.2*0.4*2+(4.46+2.25+2.41+2.25+2.41+0.2)*0.2*0.4+0.4*0.2*0.4*2+15.4*0.2*0.4*2+1.1*0.2*0.4*2+(3.75+1.66)*0.2*0.4+(2.58+3.74)*0.2*0.4+1.24*0.2*0.4+4.7*0.2*0.4+(2.11*2+0.18*3)*0.2*0.4+1.82*0.2*0.4+10.77+14*0.7*0.7*0.8+15*0.4*0.4*0.4 -> 33.7996 | K51: 403.86 | L51: =J51*K51 -> 13650.306 | M51: 0 | N51: 403.86 | O51: =M51*N51 -> 0 | P51: 0 | Q51: 691.42 | R51: 0 | S51: =J51+P51 -> 33.7996 | U51: =L51+R51 -> 13650.306 | V51: 28*0,2*0,4*2+18*0,2*0,4*2+(18,6+3,02)*0,2*0,4*2+(4,46+2,25+2,41+2,25+2,41+0,2)*0,2*0,4+0,4*0,2*0,4*2+15,4*0,2*0,4*2+1,1*0,2*0,4*2+(3,75+1,66)*0,2*0,4+(2,58+3,74)*0,2*0,4+1,24*0,2*0,4+4,7*0,2*0,4+(2,11*2+0,18*3)*0,2*0,4+1,82*0,2*0,4+10,77+14*0,7*0,7*0,8+15*0,4*0,4*0,4 | W51: Fundação
B52: Será medido pelo volume calculado no projeto de formas, sendo que o volume da interseção dos diversos elementos estruturais deve ser computado uma só vez (m³). O item remunera o fornecimento de betoneira, pedra britada número 1, cimento, areia e a mão-de-obra necessária para o preparo do concreto, com resistência mínima à compressão de 20,0 MPa. Remunera também o transporte, lançamento e adensamento.
A54: 040005 | B54: Lastro de concreto (contra-piso) não estrutural impermeabilizado, E=6 cm | C54: M2 | D54: =28*0.25*2+18*0.25*2+(18.6+3.02)*0.25*2+(4.46+2.25+2.41+2.25+2.41+0.2)*0.25+0.4*0.25*2+15.4*0.25*2+1.1*0.25*2+(3.75+1.66)*0.25+(2.58+3.74)*0.25+1.24*0.25+4.7*0.25+(2.11*2+0.18*3)*0.25+1.82*0.25+14*0.7*0.7+15*0.4*0.4+1.3*1.3*3.14 -> 66.3841 | E54: 44.98 | F54: =D54*E54 -> 2985.9568 | G54: =28*0.25*2+18*0.25*2+(18.6+3.02)*0.25*2+(4.46+2.25+2.41+2.25+2.41+0.2)*0.25+0.4*0.25*2+15.4*0.25*2+1.1*0.25*2+(3.75+1.66)*0.25+(2.58+3.74)*0.25+1.24*0.25+4.7*0.25+(2.11*2+0.18*3)*0.25+1.82*0.25+14*0.7*0.7+15*0.4*0.4+1.3*1.3*3.14 -> 66.3841 | H54: 44.98 | I54: =G54*H54 -> 2985.9568 | J54: 0 | K54: 44.98 | L54: =J54*K54 -> 0 | M54: =28*0.25*2+18*0.25*2+(18.6+3.02)*0.25*2+(4.46+2.25+2.41+2.25+2.41+0.2)*0.25+0.4*0.25*2+15.4*0.25*2+1.1*0.25*2+(3.75+1.66)*0.25+(2.58+3.74)*0.25+1.24*0.25+4.7*0.25+(2.11*2+0.18*3)*0.25+1.82*0.25+14*0.7*0.7+15*0.4*0.4+1.3*1.3*3.14 -> 66.3841 | N54: 44.98 | O54: =M54*N54 -> 2985.9568 | P54: 66.3841 | Q54: 58.52 | R54: 3884.7975 | S54: =J54+P54 -> 66.3841 | U54: =L54+R54 -> 3884.7975 | V54: 28*0,25*2+18*0,25*2+(18,6+3,02)*0,25*2+(4,46+2,25+2,41+2,25+2,41+0,2)*0,25+0,4*0,25*2+15,4*0,25*2+1,1*0,25*2+(3,75+1,66)*0,25+(2,58+3,74)*0,25+1,24*0,25+4,7*0,25+(2,11*2+0,18*3)*0,25+1,82*0,25+14*0,7*0,7+15*0,4*0,4+1,3*1,3*3,14 | W54: Fundação
B55: Será medido pela área onde será executado, na espessura mínima de 6cm (m²). O item remunera o fornecimento de cimento, areia, pedra britada nº 1, 2, e a mão-de-obra necessária para o apiloamento do terreno e execução do lastro.
A58: 040300 | B58: Sondagem a percurssão
A59: 040301 | B59: Mobilização e desmobilização por equipamentos de sondagem a percussão d= 2 1/2" | C59: UN | D59: 1 | E59: 700 | F59: =D59*E59 -> 700 | G59: 1 | H59: 700 | I59: =G59*H59 -> 700 | J59: 1 | K59: 700 | L59: =J59*K59 -> 700 | M59: 0 | N59: 700 | O59: =M59*N59 -> 0 | P59: 0 | Q59: 693.08 | R59: 0 | S59: =J59+P59 -> 1 | U59: =L59+R59 -> 700 | V59: 1 | W59: Mobilização
B60: Será medido por unidade de transporte e instalação de equipamento de sondagem (un). O item remunera o fornecimento e instalação de equipamentos necessários para execução de sondagem, a mobilização e desmobilização dos mesmos, independente da distância entre a empresa fornecedora e o local da sondagem.
A62: 040302 | B62: Sondagem a percurssão d=2 1/2" (profundidade mínima para medição 30m) | C62: M | D62: 51 | E62: 75.62 | F62: =D62*E62 -> 3856.62 | G62: 51 | H62: 75.62 | I62: =G62*H62 -> 3856.62 | J62: 51 | K62: 75.62 | L62: =J62*K62 -> 3856.62 | M62: 0 | N62: 75.62 | O62: =M62*N62 -> 0 | P62: 0 | Q62: 72.5 | R62: 0 | S62: =J62+P62 -> 51 | U62: =L62+R62 -> 3856.62 | V62: 51 | W62: Mínmo de 3 furos de sondagem a serem executados no local de implantação da quadra.
B63: Será medido pelo comprimento total dos furos de sondagem executados, sendo a quantidade mínima para medição 30 metros (m). O item remunera o fornecimento da mão-de-obra qualificada necessária para a execução de sondagem a percussão, remunera também as peças gráficas e relatórios pertinentes.
C64: SUB-TOTAL = | F64: =SUM(F42:F63) -> 46524.294 | G64: SUB-TOTAL = | I64: =SUM(I42:I63) -> 46524.294 | J64: SUB-TOTAL = | L64: =SUM(L42:L63) -> 40776.723 | M64: SUB-TOTAL = | O64: =SUM(O42:O63) -> 5747.5704 | P64: SUB-TOTAL = | R64: 7133.2567 | S64: SUB-TOTAL = | U64: =L64+R64 -> 47909.98
A65: 050000 | B65: SUPERESTRUTURA
A67: 050005 | B67: Concreto armado (incluindo fornecimento, transporte, lançamento, forma e desforma) | C67: M3 | D67: =0.15*0.15*1.5*16+22*0.15*0.15*0.5+0.18*0.2*6*3+0.2*0.2*4*3+0.15*0.15*10*0.5+5*0.15*0.15*1+1.3*1.3*0.08*3.14 -> 2.565028 | E67: 2349.32 | F67: =D67*E67 -> 6026.0716 | G67: =0.15*0.15*1.5*16+22*0.15*0.15*0.5+0.18*0.2*6*3+0.2*0.2*4*3+0.15*0.15*10*0.5+5*0.15*0.15*1+1.3*1.3*0.08*3.14 -> 2.565028 | H67: 2349.32 | I67: =G67*H67 -> 6026.0716 | J67: 1.95 | K67: 2349.32 | L67: =J67*K67 -> 4581.174 | M67: =G67-J67 -> 0.615028 | N67: 2349.32 | O67: =M67*N67 -> 1444.8976 | P67: =M67 -> 0.615028 | Q67: 3009.71 | R67: 1866.0202 | S67: =J67+P67 -> 2.565028 | U67: =L67+R67 -> 6447.1942 | V67: 0,15*0,15*1,5*16+22*0,15*0,15*0,5+0,18*0,2*6*3+0,2*0,2*4*3+0,15*0,15*10*0,5+5*0,15*0,15*1+1,3*1,3*0,08*3,14 | W67: Pilares e pilaretes da superestrutura e tampa reservatório subterrâneo
B68: Será medido pelo volume calculado no projeto de formas, sendo que o volume da interseção dos diversos elementos estruturais deve ser computado uma só vez (m³). O item remunera o fornecimento de betoneira, pedra britada números 1 e 2, cimento, areia e a mão-de-obra necessária para o preparo do concreto, com resistência mínima à compressão de 25,0 MPa. Remunera também o transporte, lançamento e adensamento. Está também incluido e remunerado 80Kg por m³ de concreto de armadura considerando o fornecimento de aço CA-50 ( A ou B ) com fyk igual 500 MPa, dobramento, transporte e colocação de armaduras de qualquer bitola e qualquer comprimento; estão incluídos no item os serviços e materiais secundários como arame, espaçadores, perdas decorrentes de desbitolamento, cortes e pontas de traspasse para emendas e também 15m² de forma de compensado plastificado por m³ de concreto considerando o fornecimento dos materiais e a mão-de-obra para execução e instalação da forma, incluindo escoras, gravatas, desmoldante e desforma.
A71: 050009 | B71: Laje pré-fabricada treliçada para piso, intereixo 50 cm e=25cm (capeamento 5 cm e elemento cerâmico 20 cm) sobrecarga mínima 300 Kgf / m² | C71: M2 | D71: =(4.46+2.25+2.41+2.4+2.46)*0.4+15.8*0.7+15.8*0.4+(2.11*2+0.2+0.36)*2.2+2.96*4.14+10.24*3.74-2.35*1.36-1.36*4.89+2.58*3.74 -> 83.8428 | E71: 238.9 | F71: =D71*E71 -> 20030.045 | G71: =(4.46+2.25+2.41+2.4+2.46)*0.4+15.8*0.7+15.8*0.4+(2.11*2+0.2+0.36)*2.2+2.96*4.14+10.24*3.74-2.35*1.36-1.36*4.89+2.58*3.74 -> 83.8428 | H71: 238.01 | I71: =G71*H71 -> 19955.425 | J71: 0 | K71: 238.01 | L71: =J71*K71 -> 0 | M71: =(4.46+2.25+2.41+2.4+2.46)*0.4+15.8*0.7+15.8*0.4+(2.11*2+0.2+0.36)*2.2+2.96*4.14+10.24*3.74-2.35*1.36-1.36*4.89+2.58*3.74 -> 83.8428 | N71: 238.01 | O71: =M71*N71 -> 19955.425 | P71: 83.8428 | Q71: 295.43 | R71: 24769.678 | S71: =J71+P71 -> 83.8428 | U71: =L71+R71 -> 24769.678 | V71: (4,46+2,25+2,41+2,4+2,46)*0,4+15,8*0,7+15,8*0,4+(2,11*2+0,2+0,36)*2,2+2,96*4,14+10,24*3,74-2,35*1,36-1,36*4,89+2,58*3,74 | W71: Laje arquibancada, palco, instalações sanitárias, depósito e camarim
B72: Será medido pela área delimitada pelos eixos das paredes e/ou vigas (m²). O item remunera o fornecimento de vigota pré-fabricada treliçada; lajota cerâmica; concreto com fck maior ou igual a 25MPa, para o capeamento; aço para armadura de distribuição; materiais acessórios e a mão-de-obra necessária para a execução dos serviços: a estocagem das vigotas e lajotas cerâmicas conforme exigências e recomendações do fabricante; o transporte interno à obra; o içamento das vigotas e das lajotas cerâmicas; a montagem completa das vigotas treliçadas e das lajotas cerâmicas; resultando laje para piso; a execução e instalação da armadura de distribuição posicionada na capa, para o controle da fissuração; o escoramento até 3,00 m de altura e a retirada do mesmo.
C74: SUB-TOTAL = | F74: =SUM(F66:F73) -> 26056.117 | G74: SUB-TOTAL = | I74: =SUM(I66:I73) -> 25981.496 | J74: SUB-TOTAL = | L74: =SUM(L66:L73) -> 4581.174 | M74: SUB-TOTAL = | O74: =SUM(O66:O73) -> 21400.322 | P74: SUB-TOTAL = | R74: 26635.699 | S74: SUB-TOTAL = | U74: =L74+R74 -> 31216.873
A75: 060000 | B75: ALVENARIA
A76: 060100 | B76: Execução de:
A78: 060107 | B78: Alvenaria de vedação com bloco de concreto, 14x19x39 cm, espessura da parede 14 cm, juntas de 10mm com argamassa mista de cimento, cal hidratada e areia sem peneirar traço 1:0,5:8 | C78: M2 | D78: =(28-4.7)*2*1.5+18*1.5+18*3+21.62*0.5*2+(3.75+1.66)*0.5+15.8*0.5+0.4*0.5*2+15.8*0.5+15.8*1+2.58*3+4.7*3*3+3.74*2.5+(4.22+0.56)*0.3+1.82*3+1.1*1*2-1.6*2*1.5+8.24*0.5+4.78*1+2.02*1 -> 281.829 | E78: 44.47 | F78: =D78*E78 -> 12532.936 | G78: =(28-4.7)*2*1.5+18*1.5+18*3+21.62*0.5*2+(3.75+1.66)*0.5+15.8*0.5+0.4*0.5*2+15.8*0.5+15.8*1+2.58*3+4.7*3*3+3.74*2.5+(4.22+0.56)*0.3+1.82*3+1.1*1*2-1.6*2*1.5+8.24*0.5+4.78*1+2.02*1 -> 281.829 | H78: 44.47 | I78: =G78*H78 -> 12532.936 | J78: 231.05 | K78: 44.47 | L78: =J78*K78 -> 10274.793 | M78: =G78-J78 -> 50.779 | N78: 44.47 | O78: =M78*N78 -> 2258.1421 | P78: =M78 -> 50.779 | Q78: 64.69 | R78: 3285.6051 | S78: =J78+P78 -> 281.829 | U78: =L78+R78 -> 13560.399 | V78: (28-4,7)*2*1,5+18*1,5+18*3+21,62*0,5*2+(3,75+1,66)*0,5+15,8*0,5+0,4*0,5*2+15,8*0,5+15,8*1+2,58*3+4,7*3*3+3,74*2,5+(4,22+0,56)*0,3+1,82*3+1,1*1*2-1,6*2*1,5+8,24*0,5+4,78*1+2,02*1 | W78: Alvenaria conforme consta em projeto
B79: Será medido por área de superfície executada, descontando-se todos os vãos (m²). O item remunera o fornecimento de materiais e mão-de-obra necessários para a execução de alvenaria de vedação a ser revestida, confeccionada em bloco vazado de concreto simples, com superfície áspera para garantir a aderência do revestimento, assentada com argamassa de cimento, cal hidratada e areia; dimensões padronizadas de 14 x 19 x 39 cm, e resistência mínima à compressão de acordo com a NBR 6136.
C81: SUB-TOTAL = | F81: =SUM(F77:F80) -> 12532.936 | G81: SUB-TOTAL = | I81: =SUM(I77:I80) -> 12532.936 | J81: SUB-TOTAL = | L81: =SUM(L77:L80) -> 10274.793 | M81: SUB-TOTAL = | O81: =SUM(O77:O80) -> 2258.1421 | P81: SUB-TOTAL = | R81: 3285.6051 | S81: SUB-TOTAL = | U81: =L81+R81 -> 13560.399
A82: 070000 | B82: COBERTURA E FORRO
A83: 070100 | B83: Fornecimento, transporte e colocação de telhas, tipo:
A84: 070400 | B84: Instalação de Calhas e rufos:
B85: Será medido por comprimento instalado (m). Os itens remuneram o fornecimento e instalação de calhas ou rufos em chapa galvanizada nº 24, com desenvolvimento descrito no item, inclusive materiais acessórios para emendas, junção em outras peças, vedação e fixação.
A88: 070403 | B88: Calha de chapa galvanizada, nº 24 desenvolvimento 60 cm | C88: M | D88: =28*2 -> 56 | E88: 69.65 | F88: =D88*E88 -> 3900.4 | G88: =28*2 -> 56 | H88: 69.65 | I88: =G88*H88 -> 3900.4 | J88: 0 | K88: 69.65 | L88: =J88*K88 -> 0 | M88: 56 | N88: 69.65 | O88: =M88*N88 -> 3900.4 | P88: 56 | Q88: 93.63 | R88: 5243.28 | S88: =J88+P88 -> 56 | U88: =L88+R88 -> 5243.28 | V88: 28*2 | W88: Nas duas águas da cobertura
A90: 070500 | B90: Condutor de água pluvial e buzinotes
B91: Será medido por comprimento instalado (m). O item remunera o fornecimento de materiais e mão de obra para instalação de tubo na cor branca (condutores) verticais e executadas com PVC reforçado com as juntas com bolsa e anel de borracha, inclusive materiais acessórios para emendas, suportes, junção em outras peças, vedação e fixação.
A94: 070502 | B94: Condutor de água (tubo de PVC branco, com conexões, ponta bolsa e virola, diâmetro da seção 100mm) | C94: M | D94: 48 | E94: 88.09 | F94: =D94*E94 -> 4228.32 | G94: 48 | H94: 88.09 | I94: =G94*H94 -> 4228.32 | J94: 0 | K94: 88.09 | L94: =J94*K94 -> 0 | M94: 48 | N94: 88.09 | O94: =M94*N94 -> 4228.32 | P94: 48 | Q94: 100.03 | R94: 4801.44 | S94: =J94+P94 -> 48 | U94: =L94+R94 -> 4801.44 | V94: 8*6 | W94: 8 descidas de água pluvial da cobertura
C96: SUB-TOTAL = | F96: =SUM(F84:F95) -> 8128.72 | G96: SUB-TOTAL = | I96: =SUM(I84:I95) -> 8128.72 | J96: SUB-TOTAL = | L96: =SUM(L84:L95) -> 0 | M96: SUB-TOTAL = | O96: =SUM(O84:O95) -> 8128.72 | P96: SUB-TOTAL = | R96: 10044.72 | S96: SUB-TOTAL = | U96: =L96+R96 -> 10044.72
A97: 080000 | B97: INSTALAÇÕES HIDRÁULICAS
A98: 080100 | B98: Fonecimento e instalação de:
A99: 080101 | B99: Torneira de pressão para uso geral, amarela, p/ jardim | C99: UN | D99: 1 | E99: 35.21 | F99: =D99*E99 -> 35.21 | G99: 1 | H99: 35.21 | I99: =G99*H99 -> 35.21 | J99: 0 | K99: 35.21 | L99: =J99*K99 -> 0 | M99: 1 | N99: 35.21 | O99: =M99*N99 -> 35.21 | P99: 1 | Q99: 45 | R99: 45 | S99: =J99+P99 -> 1 | U99: =L99+R99 -> 45 | V99: 1 | W99: Reservatório de água pluvial
B100: Será medido por unidade de torneira instalada (un). O item remunera o fornecimento e instalação de torneira curta com rosca, para uso geral, em latão fundido sem acabamento de 1/2" ou 3/4"; inclusive materiais acessórios necessários à instalação e ligação à rede de água.
A103: 080105 | B103: Torneira de boia para Caixa d'água Ø 32mm. | C103: UN | D103: 1 | E103: 142.49 | F103: =D103*E103 -> 142.49 | G103: 1 | H103: 142.49 | I103: =G103*H103 -> 142.49 | J103: 0 | K103: 142.49 | L103: =J103*K103 -> 0 | M103: 1 | N103: 142.49 | O103: =M103*N103 -> 142.49 | P103: 1 | Q103: 188.31 | R103: 188.31 | S103: =J103+P103 -> 1 | U103: =L103+R103 -> 188.31 | V103: 1 | W103: Reservatório superior
B104: Será medido por unidade de torneira instalada (un). O item remunera o fornecimento e a instalação da torneira de bóia, com diâmetro nominal de 1", inclusive material de vedação.
A107: 080200 | B107: Fornecimento e instalação de:
A108: 080201 | B108: Válvula de descarga metálica com registro interno e canopla,D: 32mm (1 1/4") ou 40mm (1 1/2) | C108: UN | D108: 2 | E108: 198.83 | F108: =D108*E108 -> 397.66 | G108: 2 | H108: 198.83 | I108: =G108*H108 -> 397.66 | J108: 0 | K108: 198.83 | L108: =J108*K108 -> 0 | M108: 2 | N108: 198.83 | O108: =M108*N108 -> 397.66 | P108: 2 | Q108: 229.88 | R108: 459.76 | S108: =J108+P108 -> 2 | U108: =L108+R108 -> 459.76 | V108: 2 | W108: Instlalação sanitária
B109: Será medido por unidade de válvula de descarga instalada (un). O item remunera o fornecimento e instalação da válvula de descarga, com registro próprio, em latão ou bronze, com acabamento cromado liso, diâmetro nominal de 1 1/4" ou 1 1/2", inclusive materiais acessórios de vedação e o tubo de descida.
A111: 080207 | B111: Lavatório de louça, sem coluna completa para fixação direta. | C111: UN | D111: 2 | E111: 367.89 | F111: =D111*E111 -> 735.78 | G111: 2 | H111: 367.89 | I111: =G111*H111 -> 735.78 | J111: 0 | K111: 367.89 | L111: =J111*K111 -> 0 | M111: 2 | N111: 367.89 | O111: =M111*N111 -> 735.78 | P111: 2 | Q111: 499.76 | R111: 999.52 | S111: =J111+P111 -> 2 | U111: =L111+R111 -> 999.52 | V111: 2 | W111: Instalação sanitária PNE
B112: Será medido por unidade instalada (un). O item remunera o fornecimento e a instalação do lavatório constituído por: lavatório de louça sem coluna; torneira de mesa para lavatório acabamento em latão cromado de 1/2", sifão cromado de 1" x 1 1/2"; tubo de ligação cromado com canopla; válvula metálica de 1" para ligação ao sifão, um par de parafusos com bucha para fixação do lavatório, materiais acessórios necessários para sua instalação e ligação à rede de esgoto.
A116: 080210 | B116: Vaso sanitário convencional branca. | C116: UN | D116: 2 | E116: 246.27 | F116: =D116*E116 -> 492.54 | G116: 2 | H116: 246.27 | I116: =G116*H116 -> 492.54 | J116: 0 | K116: 246.27 | L116: =J116*K116 -> 0 | M116: 2 | N116: 246.27 | O116: =M116*N116 -> 492.54 | P116: 2 | Q116: 295.33 | R116: 590.66 | S116: =J116+P116 -> 2 | U116: =L116+R116 -> 590.66 | V116: 2 | W116: Instlalação sanitária
B117: Será medido por unidade instalada (un). O item remunera o fornecimento da bacia sifonada de louça conforme as normas vigentes NBR 15097 e NBR 15099. Remunera também: bolsa de borracha; anel de borracha de expansão de 4"; tubo de ligação com canopla, parafusos niquelados; massa de vidro para fixação e assentamento da base; materiais acessórios e a mão-de-obra necessária para a instalação e ligação às redes de água e esgoto.
A120: 080400 | B120: Fornecimento e instalação de registro de gaveta com e sem acabamento:
B121: Será medido por unidade de registro instalado (un). O item remunera o fornecimento e instalação de registro de gaveta em latão fundido, diâmetro e acabamento como especificado, inclusive materiais acessórios e de vedação.
A126: 080406 | B126: Com canopla diâmetro 20mm (3/4") - (acabamento cromado) | C126: UN | D126: 1 | E126: 56.76 | F126: =D126*E126 -> 56.76 | G126: 1 | H126: 56.76 | I126: =G126*H126 -> 56.76 | J126: 0 | K126: 56.76 | L126: =J126*K126 -> 0 | M126: 1 | N126: 56.76 | O126: =M126*N126 -> 56.76 | P126: 1 | Q126: 89.03 | R126: 89.03 | S126: =J126+P126 -> 1 | U126: =L126+R126 -> 89.03 | V126: 1 | W126: Bebedouro
A129: 080409 | B129: Com canopla diâmetro 40mm (1 1/2") - (acabamento cromado) | C129: UN | D129: 2 | E129: 116.16 | F129: =D129*E129 -> 232.32 | G129: 2 | H129: 116.16 | I129: =G129*H129 -> 232.32 | J129: 0 | K129: 116.16 | L129: =J129*K129 -> 0 | M129: 2 | N129: 116.16 | O129: =M129*N129 -> 232.32 | P129: 2 | Q129: 161.57 | R129: 323.14 | S129: =J129+P129 -> 2 | U129: =L129+R129 -> 323.14 | V129: 2 | W129: Instlalação sanitária
A131: 080500 | B131: Serviços de fixação de:
A133: 080600 | B133: Fornecimento, transporte e instalação de:
A134: 080601 | B134: Conjunto elevatório motor-bomba (bomba centrífuga) de 3/4 HP | C134: UN | D134: 1 | E134: 1264.07 | F134: =D134*E134 -> 1264.07 | G134: 1 | H134: 1264.07 | I134: =G134*H134 -> 1264.07 | J134: 0 | K134: 1264.07 | L134: =J134*K134 -> 0 | M134: 1 | N134: 1264.07 | O134: =M134*N134 -> 1264.07 | P134: 1 | Q134: 1517.51 | R134: 1517.51 | S134: =J134+P134 -> 1 | U134: =L134+R134 -> 1517.51 | V134: 1 | W134: Eletrobomba reservatório subterrâneo
B135: Será medido por unidade de conjunto motor-bomba instalado e testado de acordo com a vazão exigida em projeto (un). O item remunera o fornecimento e instalação de conjunto motor-bomba centrífuga com multiestágio trifásico, potência de 13/4HP, para vazões de no mínimo 10,8 m³/h com altura manométrica mínima de 20m, remunera também materiais complementares e acessórios como chumbadores e a mão-de-obra necessária para a fixação, instalação completa e realização dos testes de funcionamento.
A137: 080700 | B137: Fornecimento, transporte e instalação da rede de água fria em tubo em PVC:
B138: Será medido por comprimento (m): O item remunera o fornecimento e instalação de tubos de PVC rígido soldável ou roscável de diâmetro especificado; para rede de água fria, inclusive conexões e materiais acessórios; abertura e fechamento de rasgos, para tubulações embutidas; ou escavação e reaterro apiloado de valas com profundidade média de 60 cm, para tubulações enterradas; ou fixação por grampos ou presilhas quando a tubulação for aparente.
A142: 080705 | B142: Tubo PVC soldável 25mm (com conexões), incluindo serviços de rasgo e enchimento de rasgo em alvenaria com argamassa para passagem de tubulação | C142: M | D142: 65 | E142: 24.71 | F142: =D142*E142 -> 1606.15 | G142: 65 | H142: 24.71 | I142: =G142*H142 -> 1606.15 | J142: 0 | K142: 24.71 | L142: =J142*K142 -> 0 | M142: 65 | N142: 24.71 | O142: =M142*N142 -> 1606.15 | P142: 65 | Q142: 30.53 | R142: 1984.45 | S142: =J142+P142 -> 65 | U142: =L142+R142 -> 1984.45 | V142: 65 | W142: Alimentação instalação sanitária e bebedouro
A145: 080707 | B145: Tubo PVC soldável 40mm (com conexões), incluindo serviços de rasgo e enchimento de rasgo em alvenaria com argamassa para passagem de tubulação | C145: M | D145: 8 | E145: 41.77 | F145: =D145*E145 -> 334.16 | G145: 8 | H145: 41.77 | I145: =G145*H145 -> 334.16 | J145: 0 | K145: 41.77 | L145: =J145*K145 -> 0 | M145: 8 | N145: 41.77 | O145: =M145*N145 -> 334.16 | P145: 8 | Q145: 50.65 | R145: 405.2 | S145: =J145+P145 -> 8 | U145: =L145+R145 -> 405.2 | V145: 8 | W145: Alimentação instalação sanitária
A148: 080800 | B148: Fornecimento, transporte e instalação de reservatório d´água:
B149: Será medido por unidade de reservatório instalado (un). O item remunera o fornecimento de reservatório com capacidade especificada destinado ao armazenamento de água, constituído por: corpo cilíndrico em polietileno ou fibra de vidro, acabamento interno liso para evitar o crescimento e proliferação de algas e fungos; tampa superior de encaixe ou alçapão para inspeção; furações para: entrada, saída e ladrão e a mão-de-obra necessária para o transporte interno, assentamento e instalação completa do reservatório.
A151: 080801 | B151: De polietileno cilindrico com tampa, capacidade 1.000 litros | C151: UN | D151: 1 | E151: 615.99 | F151: =D151*E151 -> 615.99 | G151: 1 | H151: 615.99 | I151: =G151*H151 -> 615.99 | J151: 0 | K151: 615.99 | L151: =J151*K151 -> 0 | M151: 1 | N151: 615.99 | O151: =M151*N151 -> 615.99 | P151: 1 | Q151: 883.28 | R151: 883.28 | S151: =J151+P151 -> 1 | U151: =L151+R151 -> 883.28 | V151: 1 | W151: Instalaçao sanitária
A154: 080805 | B154: Em fibra de vidro cilíndrico com tampa, capacidade 10.000 litros | C154: UN | D154: 1 | E154: 2917.73 | F154: =D154*E154 -> 2917.73 | G154: 1 | H154: 2917.73 | I154: =G154*H154 -> 2917.73 | J154: 0 | K154: 2917.73 | L154: =J154*K154 -> 0 | M154: 1 | N154: 2917.73 | O154: =M154*N154 -> 2917.73 | P154: 1 | Q154: 6818.23 | R154: 6818.23 | S154: =J154+P154 -> 1 | U154: =L154+R154 -> 6818.23 | V154: 1 | W154: Reservatório subterrâneo de água pluvial
A156: 080903 | B156: Dispenser toalheiro em ABS para folhas de papel | C156: UN | D156: 2 | E156: 39.68 | F156: =D156*E156 -> 79.36 | G156: 2 | H156: 39.68 | I156: =G156*H156 -> 79.36 | J156: 0 | K156: 39.68 | L156: =J156*K156 -> 0 | M156: 2 | N156: 39.68 | O156: =M156*N156 -> 79.36 | P156: 2 | Q156: 67.49 | R156: 134.98 | S156: =J156+P156 -> 2 | U156: =L156+R156 -> 134.98 | V156: 2 | W156: Instalaçao sanitária
B157: Será medido por unidade de dispenser toalheiro instalado (un). O item remunera o fornecimento e instalação do porta-papel de parede (dispenser toalheiro), em plástico ABS branco, com fecho de segurança, para papel com duas, ou três dobras, inclusive material de fixação.
A159: 081103 | B159: Porta -papel de louça branca | C159: UN | D159: 2 | E159: 53.87 | F159: =D159*E159 -> 107.74 | G159: 2 | H159: 53.87 | I159: =G159*H159 -> 107.74 | J159: 0 | K159: 53.87 | L159: =J159*K159 -> 0 | M159: 2 | N159: 53.87 | O159: =M159*N159 -> 107.74 | P159: 2 | Q159: 96.08 | R159: 192.16 | S159: =J159+P159 -> 2 | U159: =L159+R159 -> 192.16 | V159: 2 | W159: Instalaçao sanitária
B160: Será medido por unidade instalada (un). O item remunera o fornecimento e a instalação de porta-papel de louça de 15 x 15 cm; cimento, areia, cimento branco, inclusive materiais acessórios necessários para a argamassa de assentamento e rejuntamento.
A162: 081104 | B162: Saboneteira de louça branca sem alça | C162: UN | D162: 2 | E162: 43.67 | F162: =D162*E162 -> 87.34 | G162: 2 | H162: 43.67 | I162: =G162*H162 -> 87.34 | J162: 0 | K162: 43.67 | L162: =J162*K162 -> 0 | M162: 2 | N162: 43.67 | O162: =M162*N162 -> 87.34 | P162: 2 | Q162: 53.28 | R162: 106.56 | S162: =J162+P162 -> 2 | U162: =L162+R162 -> 106.56 | V162: 2 | W162: Instalaçao sanitária
B163: Será medido por unidade instalada (un). O item remunera o fornecimento e a instalação de saboneteira de louça de 15 x 15 cm; cimento, areia, cimento branco, inclusive materiais acessórios necessários para a argamassa de assentamento e rejuntamento.
A166: 081106 | B166: Ralo Seco PVC quadrado 100 X 40mm com grelha branca | C166: UN | D166: 2 | E166: 20.76 | F166: =D166*E166 -> 41.52 | G166: 2 | H166: 20.76 | I166: =G166*H166 -> 41.52 | J166: 0 | K166: 20.76 | L166: =J166*K166 -> 0 | M166: 2 | N166: 20.76 | O166: =M166*N166 -> 41.52 | P166: 2 | Q166: 25.91 | R166: 51.82 | S166: =J166+P166 -> 2 | U166: =L166+R166 -> 51.82 | V166: 2 | W166: Instalaçao sanitária
...

Sheet MEMÓRIA DE CÁLCULO
B1: SECRETARIA DE ESTADO DE EDUCAÇÃO - DIRETORIA DE INFRAESTRUTURA ESCOLAR E GESTÃO DA REDE FÍSICA - PLANILHA DE SERVIÇOS
A2: ESCOLA: CENTRO MUNICIPAL DE EDUCAÇÃO INFANTIL DR. JOSÉ MONTEIRO DA CUNHA MAGALHÃES
A3: MUNICÍPIO: DISTRITO DE PEDRO LESSA, SERRO/MG | C3: ISS | D3: 0.05 | E3: SERVIÇOS: CONSTRUÇÃO DE QUADRA POLIESPORTIVA
A4: ITEM | B4: DESCRIÇÃO | C4: UNID. | D4: ANALISADO | F4: =F453 -> 515328.23 | G4: LOCAL DE INTERVENÇÃO
D5: QUANT. | E5: PREÇO UNITÁRIO | F5: TOTAL | G5: MEMÓRIA DE CALCULO
A6: 010000 | B6: INSTALAÇÃO DOS SERVIÇOS DE ENGENHARIA
A7: 010001 | B7: Locação dos serviços de engenharia: execução de gabarito | C7: M² | D7: 0 | E7: 9.54 | F7: =D7*E7 -> 0 | G7: 28*18 - 504,00 | H7: Área de projeção da quadra
B8: Será medido pela área de obra locada, aferida entre os eixos de fundação e acrescentando-se 0,50 m, a partir do eixo, para o lado externo (m²). O item remunera o fornecimento de pontaletes em Pinus ou Cedrinho de 3" x 3"; tábuas em Pinus de 1" x 12"; arame galvanizado; inclusive materiais acessórios e a mão-de-obra necessária para os serviços de locação completa em obras de edificação compreendendo: locação de estacas, eixos principais, paredes, etc.
A11: 010003 | B11: Fornecimento e colocação de placa dos serviços de engenharia em chapa galvanizada (3,00 X 1,50m) - Governo do Estado - (Ampliação e / ou Reforma acima de R$ 30.000,00) | C11: UN | D11: 0 | E11: 1419.25 | F11: =D11*E11 -> 0 | G11: 1,00 - 1,00 | H11: Rente ao muro de divisa da escola
B12: Será medido por unidade de placa instalada (UN). O item remunera as placas de obras que deverão ser confeccionadas em chapa galvanizada 0,26. As chapas serão afixadas com rebites 540 e parafusos 3/8, em uma estrutura metálica com viga U 2” enrijecida e Metalon 20x20. O suporte para a instalação deverá ser em Eucalipto Autoclavado. As placas serão pintadas na frente e no verso com fundo anticorrosivo e tinta automotiva. FORMATO: 3,00 x 1,50m. O tamanho da placa é definido em função do local da sua instalação e/ou do valor dos serviços acima de R$ 30.000,00, obedecendo à proporção de 6,00 x 3,00m e o manual de identidade visual do Governo de Minas.
A14: 010004 | B14: Limpeza do terreno, raspagem, capina e queima manual | C14: M2 | D14: 0 | E14: 1.31 | F14: =D14*E14 -> 0 | G14: 31*21+3*3 - 660,00 | H14: Área de implantação da quadra
B15: Será medido pela área real do terreno, onde ocorrer a limpeza manual de vegetação (m²). O item remunera o fornecimento de caminhão basculante, a mão-de-obra necessária e ferramentas auxiliares para a execução dos serviços executados manualmente com auxílio de ferramental apropriado para a roçada, derrubada de árvores e arbustos, destocamento, fragmentação de galhos e troncos, empilhamento e transporte, abrangendo: a remoção de vegetação, árvores e arbustos com diâmetro do tronco até 5 cm, medidos na altura de 1,00 m do solo, capim. etc.; arrancamento e remoção de tocos, raízes e troncos; raspagem manual da camada de solo vegetal na espessura mínima de 15 cm; carga manual; e o transporte, interno na obra, num raio de 500m.
A18: 010006 | B18: Barracão em madeira, piso cimentado e cobertura em telhas de fibrocimento ondulada | C18: M² | D18: 0 | E18: 551.03 | F18: =D18*E18 -> 0 | G18: 3,3*3,3 - 10,89 | H18: Local a ser definido com a fiscalização
B19: Será medido pela área de projeção da cobertura de construção provisória executada, com croqui analisado e aprovado previamente pela fiscalização. (M²) O item remunera o fornecimento de materiais e mão-de-obra necessários para a execução de construção provisória em madeira destinada a escritório e/ou depósito de obra, constituída por: piso interno e calçada externa em concreto usinado, Fck 20 MPa; paredes, portas e janelas em chapa compensada plastificada de no mínimo 6 mm de espessura, e / ou compensado resinado com seladora impermeabilizante e aplicação de textura na pintura; janelas com vidro fantasia de 3 ou 4mm; porta com dobradiças de latão cromado e fechadura de embutir cromada e com miolo tipo Georges; estrutura, apoio para cobertura e contraventamentos em pontaletes e tábuas de Pinus ou Cedrinho e engradamento da cobertura de eucalípto imunizado, cobertura com telha em fibrocimento, perfil ondulado de no mínimo 5 mm de espessura; instalação elétrica e pintura acrílica, materiais acessórios para execução total da construção provisória, conforme norma regulamentadora. Devem obedecer a NR 18 (Áreas de vivência). Remunera também a manutenção durante todo o periodo da obra e a demobilização completa deste barracão.
C21: SUB-TOTAL = | F21: =SUM(F7:F20) -> 0
A22: 030000 | B22: TRABALHOS EM TERRA
A23: 030001 | B23: Aterro Compactado manual, com soquete | C23: M3 | D23: 0 | E23: 67.39 | F23: =D23*E23 -> 0 | G23: (31*1,5*2*0,05+18*2*0,05+(2,35+1,36)*1,36*0,25+3,89*1,36*0,44) - 10,04 | H23: Passeio lateral e rampa
B24: Será medido pelo volume de aterro compactado (m³). O item remunera o fornecimento de equipamentos e mão-de-obra necessários para execução dos serviços de aterro interno, com material existente ou importado, incluindo o apiloamento em camadas, de 20 cm, com maço de 30 kg e a disposição das sobras.
A26: 030002 | B26: Escavação manual de vala em solo de 1ª e 2ª categoria, profundidade em até 2,00m | C26: M3 | D26: 0 | E26: 67.39 | F26: =D26*E26 -> 0 | G26: (28*0,25*0,46*2+18*0,25*0,46*2+(18,6+3,02)*0,25*0,46*2+(4,46+2,25+2,41+2,25+2,41+0,2)*0,25*0,46+0,4*0,25*0,46*2+15,4*0,25*0,46*2+1,1*0,25*0,4*2+(3,75+1,66)*0,25*0,46+(2,58+3,74)*0,25*0,46+1,24*0,25*0,46+4,7*0,25*0,46+(2,11*2+0,18*3)*0,25*0,46+1,82*0,25*0,46+0,75*0,75*0,8*14+0,45*0,45*0,46*15) - 31,5 | H26: Baldrames,blocos e coroamento
B27: Será medido pelo volume escavado, considerando-se um acréscimo para cada lado, no plano horizontal, em relação às dimensões de cada peça, de 20 cm (m³). O item remunera o fornecimento da mão-de-obra necessária para a escavação manual em solo de 1ª e 2ª categorias em valas ou cavas até 2,00 m de profundidade.
A29: 030003 | B29: Escavação manual em campo aberto em solo exceto rocha com profundidade em até 2,00m | C29: M3 | D29: 0 | E29: 39.48 | F29: =D29*E29 -> 0 | G29: 3,14*1,3*1,3*1,7 - 9,02 | H29: Reservatório de água pluvial
B30: Será medido pelo volume real escavado (m³). O item remunera o fornecimento da mão-de-obra necessária para a escavação manual em solo, de primeira ou segunda categoria, em campo aberto.
A33: 030005 | B33: Reaterro manual de vala apiloado | C33: M3 | D33: 0 | E33: 67.39 | F33: =D33*E33 -> 0 | G33: (28*0,05*0,4*2+18*0,05*0,4*2+(18,6+3,02)*0,05*0,4*2+(4,46+2,25+2,41+2,25+2,41+0,2)*0,05*0,4+0,4*0,05*0,4*2+15,4*0,05*0,4*2+1,1*0,05*0,4*2+(3,75+1,66)*0,05*0,4+(2,58+3,74)*0,05*0,4+1,24*0,05*0,4+4,7*0,05*0,4+(2,11*2+0,18*3)*0,05*0,4+1,82*0,05*0,4+14*0,05*0,05*0,7+15*0,05*0,05*0,4) - 4,18 | H33: Baldrames,blocos e coroamento
B34: Será medido pelo volume de reaterro em valas, poços ou cavas executado (m³). O item remunera o fornecimento da mão-de-obra necessária para a execução dos serviços de reaterro manual apiloado, com material existente ou importado, sem controle de compactação.
A37: 030007 | B37: Escavação manual de tubulão à céu aberto | C37: M3 | D37: 0 | E37: 327 | F37: =D37*E37 -> 0 | G37: 3,14*0,7*0,7/4*2*14 - 10,77 | H37: Tubulão para pilares metálicos
B38: Será medido pelo volume escavado até a cota prevista (m³) O item remunera o fornecimento de mão de obra, ferramentas e equipamentos necessários para a execução dos serviços de escavação do tubulão a céu aberto. Remunera também a locação do tubulão, o alargamento da base, esgotamento caso seja encontrado quantidade de água que impeça a continuidade da escavação
C40: SUB-TOTAL = | F40: =SUM(F23:F39) -> 0
A41: 040000 | B41: SONDAGEM, FUNDAÇÕES, MUROS E CONTENÇÕES
A42: 040001 | B42: Armadura de aço, CA 50, corte e dobra no canteiro | C42: KG | D42: 96.4 | E42: 13.88 | F42: =D42*E42 -> 1338.032 | G42: 33,8*35 - 1086,60 | H42: Fundação
B43: Será medido pelo peso nominal das bitolas constantes no projeto de armadura (kg). O item remunera o fornecimento de aço CA-50 ( A ou B ) com fyk igual 500 MPa, dobramento, transporte e colocação de armaduras de qualquer bitola e qualquer comprimento; estão incluídos no item os serviços e materiais secundários como arame, espaçadores, perdas decorrentes de desbitolamento, cortes e pontas de transpasse para emendas.
A45: 040002 | B45: Fôrma de madeira para fundação, com tábuas e sarrafos, 3 aproveitamentos e desforma | C45: M2 | D45: 31.52 | E45: 60.61 | F45: =D45*E45 -> 1910.4272 | G45: (28*0,4*4+18*0,4*4+21,62*0,4*4+(3,75+1,66)*0,4*2+15,4*0,4*6+(3,74+2,58)*0,4*2+1,24*0,4*2+4,7*0,4*2+1,82*0,4*2+4,22*0,4*2+0,7*0,4*4*14+15*0,4*4)-157,88 | H45: Fundação
B46: Será medido pelo desenvolvimento das áreas em contato com o concreto, não se descontando áreas de interseção até 0,20 m² (m²). O item remunera o fornecimento dos materiais e a mão-de-obra para execução e instalação da forma, incluindo escoras, gravatas, desmoldante e desforma.
A48: 040003 | B48: Concreto armado para fundação (incluindo fornecimento, transporte, lançamento, forma e desforma) | C48: M3 | D48: 0 | E48: 2147.9 | F48: =D48*E48 -> 0 | G48: 3,14*1,3*1,3*0,08-0,42 | H48: Laje reservatório subterrâneo
B49: Será medido pelo volume calculado no projeto de formas, sendo que o volume da interseção dos diversos elementos estruturais deve ser computado uma só vez (m³). O item remunera o fornecimento de betoneira, pedra britada números 1 e 2, cimento, areia e a mão-de-obra necessária para o preparo do concreto, com resistência mínima à compressão de 20,0 MPa. Remunera também o transporte, lançamento e adensamento. Está também incluido e remunerado 70Kg por m³ de concreto de armadura considerando o fornecimento de aço CA-50 ( A ou B ) com fyk igual 500 MPa, dobramento, transporte e colocação de armaduras de qualquer bitola e qualquer comprimento; estão incluídos no item os serviços e materiais secundários como arame, espaçadores, perdas decorrentes de desbitolamento, cortes e pontas de traspasse para emendas e também 8m² de forma por m³ de concreto considerando o fornecimento dos materiais e a mão-de-obra para execução e instalação da forma, incluindo escoras, gravatas, desmoldante e desforma.
A51: 040004 | B51: Concreto estrutural virado no local,controle "A", consistência para vibração, brita 1, FCK=20 MPA e lançamento em fundação | C51: M³ | D51: 0 | E51: 691.42 | F51: =D51*E51 -> 0 | G51: (28*0,2*0,4*2+18*0,2*0,4*2+(18,6+3,02)*0,2*0,4*2+(4,46+2,25+2,41+2,25+2,41+0,2)*0,2*0,4+0,4*0,2*0,4*2+15,4*0,2*0,4*2+1,1*0,2*0,4*2+(3,75+1,66)*0,2*0,4+(2,58+3,74)*0,2*0,4+1,24*0,2*0,4+4,7*0,2*0,4+(2,11*2+0,18*3)*0,2*0,4+1,82*0,2*0,4+10,77+14*0,7*0,7*0,8+15*0,4*0,4*0,4)-33,80 | H51: Fundação
B52: Será medido pelo volume calculado no projeto de formas, sendo que o volume da interseção dos diversos elementos estruturais deve ser computado uma só vez (m³). O item remunera o fornecimento de betoneira, pedra britada número 1, cimento, areia e a mão-de-obra necessária para o preparo do concreto, com resistência mínima à compressão de 20,0 MPa. Remunera também o transporte, lançamento e adensamento.
A54: 040005 | B54: Lastro de concreto (contra-piso) não estrutural impermeabilizado, E=6 cm | C54: M2 | D54: =28*0.25*2+18*0.25*2+(18.6+3.02)*0.25*2+(4.46+2.25+2.41+2.25+2.41+0.2)*0.25+0.4*0.25*2+15.4*0.25*2+1.1*0.25*2+(3.75+1.66)*0.25+(2.58+3.74)*0.25+1.24*0.25+4.7*0.25+(2.11*2+0.18*3)*0.25+1.82*0.25+14*0.7*0.7+15*0.4*0.4+1.3*1.3*3.14 -> 66.3841 | E54: 58.52 | F54: =D54*E54 -> 3884.7975 | G54: 28*0,25*2+18*0,25*2+(18,6+3,02)*0,25*2+(4,46+2,25+2,41+2,25+2,41+0,2)*0,25+0,4*0,25*2+15,4*0,25*2+1,1*0,25*2+(3,75+1,66)*0,25+(2,58+3,74)*0,25+1,24*0,25+4,7*0,25+(2,11*2+0,18*3)*0,25+1,82*0,25+14*0,7*0,7+15*0,4*0,4+1,3*1,3*3,14 | H54: Fundação
B55: Será medido pela área onde será executado, na espessura mínima de 6cm (m²). O item remunera o fornecimento de cimento, areia, pedra britada nº 1, 2, e a mão-de-obra necessária para o apiloamento do terreno e execução do lastro.
A58: 040300 | B58: Sondagem a percurssão
A59: 040301 | B59: Mobilização e desmobilização por equipamentos de sondagem a percussão d= 2 1/2" | C59: UN | D59: 0 | E59: 693.08 | F59: =D59*E59 -> 0 | G59: 1,00 - 1,00 | H59: Mobilização
B60: Será medido por unidade de transporte e instalação de equipamento de sondagem (un). O item remunera o fornecimento e instalação de equipamentos necessários para execução de sondagem, a mobilização e desmobilização dos mesmos, independente da distância entre a empresa fornecedora e o local da sondagem.
A62: 040302 | B62: Sondagem a percurssão d=2 1/2" (profundidade mínima para medição 30m) | C62: M | D62: 0 | E62: 72.5 | F62: =D62*E62 -> 0 | G62: 51,00 - 51,00 | H62: Mínmo de 3 furos de sondagem a serem executados no local de implantação da quadra.
B63: Será medido pelo comprimento total dos furos de sondagem executados, sendo a quantidade mínima para medição 30 metros (m). O item remunera o fornecimento da mão-de-obra qualificada necessária para a execução de sondagem a percussão, remunera também as peças gráficas e relatórios pertinentes.
C64: SUB-TOTAL = | F64: =SUM(F42:F63) -> 7133.2567
A65: 050000 | B65: SUPERESTRUTURA
A67: 050005 | B67: Concreto armado (incluindo fornecimento, transporte, lançamento, forma e desforma) | C67: M3 | D67: 0.62 | E67: 3009.71 | F67: =D67*E67 -> 1866.0202 | G67: (0,15*0,15*1,5*16+22*0,15*0,15*0,5+0,18*0,2*6*3+0,2*0,2*4*3+0,15*0,15*10*0,5+5*0,15*0,15*1+1,3*1,3*0,08*3,14)-1,95 | H67: Pilares e pilaretes da superestrutura e tampa reservatório subterrâneo
B68: Será medido pelo volume calculado no projeto de formas, sendo que o volume da interseção dos diversos elementos estruturais deve ser computado uma só vez (m³). O item remunera o fornecimento de betoneira, pedra britada números 1 e 2, cimento, areia e a mão-de-obra necessária para o preparo do concreto, com resistência mínima à compressão de 25,0 MPa. Remunera também o transporte, lançamento e adensamento. Está também incluido e remunerado 80Kg por m³ de concreto de armadura considerando o fornecimento de aço CA-50 ( A ou B ) com fyk igual 500 MPa, dobramento, transporte e colocação de armaduras de qualquer bitola e qualquer comprimento; estão incluídos no item os serviços e materiais secundários como arame, espaçadores, perdas decorrentes de desbitolamento, cortes e pontas de traspasse para emendas e também 15m² de forma de compensado plastificado por m³ de concreto considerando o fornecimento dos materiais e a mão-de-obra para execução e instalação da forma, incluindo escoras, gravatas, desmoldante e desforma.
A71: 050009 | B71: Laje pré-fabricada treliçada para piso, intereixo 50 cm e=25cm (capeamento 5 cm e elemento cerâmico 20 cm) sobrecarga mínima 300 Kgf / m² | C71: M2 | D71: =(4.46+2.25+2.41+2.4+2.46)*0.4+15.8*0.7+15.8*0.4+(2.11*2+0.2+0.36)*2.2+2.96*4.14+10.24*3.74-2.35*1.36-1.36*4.89+2.58*3.74 -> 83.8428 | E71: 295.43 | F71: =D71*E71 -> 24769.678 | G71: (4,46+2,25+2,41+2,4+2,46)*0,4+15,8*0,7+15,8*0,4+(2,11*2+0,2+0,36)*2,2+2,96*4,14+10,24*3,74-2,35*1,36-1,36*4,89+2,58*3,74 | H71: Laje arquibancada, palco, instalações sanitárias, depósito e camarim
B72: Será medido pela área delimitada pelos eixos das paredes e/ou vigas (m²). O item remunera o fornecimento de vigota pré-fabricada treliçada; lajota cerâmica; concreto com fck maior ou igual a 25MPa, para o capeamento; aço para armadura de distribuição; materiais acessórios e a mão-de-obra necessária para a execução dos serviços: a estocagem das vigotas e lajotas cerâmicas conforme exigências e recomendações do fabricante; o transporte interno à obra; o içamento das vigotas e das lajotas cerâmicas; a montagem completa das vigotas treliçadas e das lajotas cerâmicas; resultando laje para piso; a execução e instalação da armadura de distribuição posicionada na capa, para o controle da fissuração; o escoramento até 3,00 m de altura e a retirada do mesmo.
C74: SUB-TOTAL = | F74: =SUM(F66:F73) -> 26635.699
A75: 060000 | B75: ALVENARIA
A76: 060100 | B76: Execução de:
A78: 060107 | B78: Alvenaria de vedação com bloco de concreto, 14x19x39 cm, espessura da parede 14 cm, juntas de 10mm com argamassa mista de cimento, cal hidratada e areia sem peneirar traço 1:0,5:8 | C78: M2 | D78: 50.79 | E78: 64.69 | F78: =D78*E78 -> 3285.6051 | G78: ((28-4,7)*2*1,5+18*1,5+18*3+21,62*0,5*2+(3,75+1,66)*0,5+15,8*0,5+0,4*0,5*2+15,8*0,5+15,8*1+2,58*3+4,7*3*3+3,74*2,5+(4,22+0,56)*0,3+1,82*3+1,1*1*2-1,6*2*1,5+8,24*0,5+4,78*1+2,02*1)-231,05 | H78: Alvenaria conforme consta em projeto
B79: Será medido por área de superfície executada, descontando-se todos os vãos (m²). O item remunera o fornecimento de materiais e mão-de-obra necessários para a execução de alvenaria de vedação a ser revestida, confeccionada em bloco vazado de concreto simples, com superfície áspera para garantir a aderência do revestimento, assentada com argamassa de cimento, cal hidratada e areia; dimensões padronizadas de 14 x 19 x 39 cm, e resistência mínima à compressão de acordo com a NBR 6136.
C81: SUB-TOTAL = | F81: =SUM(F77:F80) -> 3285.6051
A82: 070000 | B82: COBERTURA E FORRO
A83: 070100 | B83: Fornecimento, transporte e colocação de telhas, tipo:
A84: 070400 | B84: Instalação de Calhas e rufos:
B85: Será medido por comprimento instalado (m). Os itens remuneram o fornecimento e instalação de calhas ou rufos em chapa galvanizada nº 24, com desenvolvimento descrito no item, inclusive materiais acessórios para emendas, junção em outras peças, vedação e fixação.
A88: 070403 | B88: Calha de chapa galvanizada, nº 24 desenvolvimento 60 cm | C88: M | D88: =28*2 -> 56 | E88: 93.63 | F88: =D88*E88 -> 5243.28 | G88: 28*2 | H88: Nas duas águas da cobertura
A90: 070500 | B90: Condutor de água pluvial e buzinotes
B91: Será medido por comprimento instalado (m). O item remunera o fornecimento de materiais e mão de obra para instalação de tubo na cor branca (condutores) verticais e executadas com PVC reforçado com as juntas com bolsa e anel de borracha, inclusive materiais acessórios para emendas, suportes, junção em outras peças, vedação e fixação.
A94: 070502 | B94: Condutor de água (tubo de PVC branco, com conexões, ponta bolsa e virola, diâmetro da seção 100mm) | C94: M | D94: 48 | E94: 100.03 | F94: =D94*E94 -> 4801.44 | G94: 8*6 | H94: 8 descidas de água pluvial da cobertura
C96: SUB-TOTAL = | F96: =SUM(F84:F95) -> 10044.72
A97: 080000 | B97: INSTALAÇÕES HIDRÁULICAS
A98: 080100 | B98: Fonecimento e instalação de:
A99: 080101 | B99: Torneira de pressão para uso geral, amarela, p/ jardim | C99: UN | D99: 1 | E99: 45 | F99: =D99*E99 -> 45 | G99: 1 | H99: Reservatório de água pluvial
B100: Será medido por unidade de torneira instalada (un). O item remunera o fornecimento e instalação de torneira curta com rosca, para uso geral, em latão fundido sem acabamento de 1/2" ou 3/4"; inclusive materiais acessórios necessários à instalação e ligação à rede de água.
A103: 080105 | B103: Torneira de boia para Caixa d'água Ø 32mm. | C103: UN | D103: 1 | E103: 188.31 | F103: =D103*E103 -> 188.31 | G103: 1 | H103: Reservatório superior
B104: Será medido por unidade de torneira instalada (un). O item remunera o fornecimento e a instalação da torneira de bóia, com diâmetro nominal de 1", inclusive material de vedação.
A107: 080200 | B107: Fornecimento e instalação de:
A108: 080201 | B108: Válvula de descarga metálica com registro interno e canopla,D: 32mm (1 1/4") ou 40mm (1 1/2) | C108: UN | D108: 2 | E108: 229.88 | F108: =D108*E108 -> 459.76 | G108: 2 | H108: Instlalação sanitária
B109: Será medido por unidade de válvula de descarga instalada (un). O item remunera o fornecimento e instalação da válvula de descarga, com registro próprio, em latão ou bronze, com acabamento cromado liso, diâmetro nominal de 1 1/4" ou 1 1/2", inclusive materiais acessórios de vedação e o tubo de descida.
A111: 080207 | B111: Lavatório de louça, sem coluna completa para fixação direta. | C111: UN | D111: 2 | E111: 499.76 | F111: =D111*E111 -> 999.52 | G111: 2 | H111: Instalação sanitária PNE
B112: Será medido por unidade instalada (un). O item remunera o fornecimento e a instalação do lavatório constituído por: lavatório de louça sem coluna; torneira de mesa para lavatório acabamento em latão cromado de 1/2", sifão cromado de 1" x 1 1/2"; tubo de ligação cromado com canopla; válvula metálica de 1" para ligação ao sifão, um par de parafusos com bucha para fixação do lavatório, materiais acessórios necessários para sua instalação e ligação à rede de esgoto.
A116: 080210 | B116: Vaso sanitário convencional branca. | C116: UN | D116: 2 | E116: 295.33 | F116: =D116*E116 -> 590.66 | G116: 2 | H116: Instlalação sanitária
B117: Será medido por unidade instalada (un). O item remunera o fornecimento da bacia sifonada de louça conforme as normas vigentes NBR 15097 e NBR 15099. Remunera também: bolsa de borracha; anel de borracha de expansão de 4"; tubo de ligação com canopla, parafusos niquelados; massa de vidro para fixação e assentamento da base; materiais acessórios e a mão-de-obra necessária para a instalação e ligação às redes de água e esgoto.
A120: 080400 | B120: Fornecimento e instalação de registro de gaveta com e sem acabamento:
B121: Será medido por unidade de registro instalado (un). O item remunera o fornecimento e instalação de registro de gaveta em latão fundido, diâmetro e acabamento como especificado, inclusive materiais acessórios e de vedação.
A126: 080406 | B126: Com canopla diâmetro 20mm (3/4") - (acabamento cromado) | C126: UN | D126: 1 | E126: 89.03 | F126: =D126*E126 -> 89.03 | G126: 1 | H126: Bebedouro
A129: 080409 | B129: Com canopla diâmetro 40mm (1 1/2") - (acabamento cromado) | C129: UN | D129: 2 | E129: 161.57 | F129: =D129*E129 -> 323.14 | G129: 2 | H129: Instlalação sanitária
A131: 080500 | B131: Serviços de fixação de:
A133: 080600 | B133: Fornecimento, transporte e instalação de:
A134: 080601 | B134: Conjunto elevatório motor-bomba (bomba centrífuga) de 3/4 HP | C134: UN | D134: 1 | E134: 1517.51 | F134: =D134*E134 -> 1517.51 | G134: 1 | H134: Eletrobomba reservatório subterrâneo
B135: Será medido por unidade de conjunto motor-bomba instalado e testado de acordo com a vazão exigida em projeto (un). O item remunera o fornecimento e instalação de conjunto motor-bomba centrífuga com multiestágio trifásico, potência de 13/4HP, para vazões de no mínimo 10,8 m³/h com altura manométrica mínima de 20m, remunera também materiais complementares e acessórios como chumbadores e a mão-de-obra necessária para a fixação, instalação completa e realização dos testes de funcionamento.
A137: 080700 | B137: Fornecimento, transporte e instalação da rede de água fria em tubo em PVC:
B138: Será medido por comprimento (m): O item remunera o fornecimento e instalação de tubos de PVC rígido soldável ou roscável de diâmetro especificado; para rede de água fria, inclusive conexões e materiais acessórios; abertura e fechamento de rasgos, para tubulações embutidas; ou escavação e reaterro apiloado de valas com profundidade média de 60 cm, para tubulações enterradas; ou fixação por grampos ou presilhas quando a tubulação for aparente.
A142: 080705 | B142: Tubo PVC soldável 25mm (com conexões), incluindo serviços de rasgo e enchimento de rasgo em alvenaria com argamassa para passagem de tubulação | C142: M | D142: 65 | E142: 30.53 | F142: =D142*E142 -> 1984.45 | G142: 65 | H142: Alimentação instalação sanitária e bebedouro
A145: 080707 | B145: Tubo PVC soldável 40mm (com conexões), incluindo serviços de rasgo e enchimento de rasgo em alvenaria com argamassa para passagem de tubulação | C145: M | D145: 8 | E145: 50.65 | F145: =D145*E145 -> 405.2 | G145: 8 | H145: Alimentação instalação sanitária
A148: 080800 | B148: Fornecimento, transporte e instalação de reservatório d´água:
B149: Será medido por unidade de reservatório instalado (un). O item remunera o fornecimento de reservatório com capacidade especificada destinado ao armazenamento de água, constituído por: corpo cilíndrico em polietileno ou fibra de vidro, acabamento interno liso para evitar o crescimento e proliferação de algas e fungos; tampa superior de encaixe ou alçapão para inspeção; furações para: entrada, saída e ladrão e a mão-de-obra necessária para o transporte interno, assentamento e instalação completa do reservatório.
A151: 080801 | B151: De polietileno cilindrico com tampa, capacidade 1.000 litros | C151: UN | D151: 1 | E151: 883.28 | F151: =D151*E151 -> 883.28 | G151: 1 | H151: Instalaçao sanitária
A154: 080805 | B154: Em fibra de vidro cilíndrico com tampa, capacidade 10.000 litros | C154: UN | D154: 1 | E154: 6818.23 | F154: =D154*E154 -> 6818.23 | G154: 1 | H154: Reservatório subterrâneo de água pluvial
A156: 080903 | B156: Dispenser toalheiro em ABS para folhas de papel | C156: UN | D156: 2 | E156: 67.49 | F156: =D156*E156 -> 134.98 | G156: 2 | H156: Instalaçao sanitária
B157: Será medido por unidade de dispenser toalheiro instalado (un). O item remunera o fornecimento e instalação do porta-papel de parede (dispenser toalheiro), em plástico ABS branco, com fecho de segurança, para papel com duas, ou três dobras, inclusive material de fixação.
A159: 081103 | B159: Porta -papel de louça branca | C159: UN | D159: 2 | E159: 96.08 | F159: =D159*E159 -> 192.16 | G159: 2 | H159: Instalaçao sanitária
B160: Será medido por unidade instalada (un). O item remunera o fornecimento e a instalação de porta-papel de louça de 15 x 15 cm; cimento, areia, cimento branco, inclusive materiais acessórios necessários para a argamassa de assentamento e rejuntamento.
A162: 081104 | B162: Saboneteira de louça branca sem alça | C162: UN | D162: 2 | E162: 53.28 | F162: =D162*E162 -> 106.56 | G162: 2 | H162: Instalaçao sanitária
B163: Será medido por unidade instalada (un). O item remunera o fornecimento e a instalação de saboneteira de louça de 15 x 15 cm; cimento, areia, cimento branco, inclusive materiais acessórios necessários para a argamassa de assentamento e rejuntamento.
A166: 081106 | B166: Ralo Seco PVC quadrado 100 X 40mm com grelha branca | C166: UN | D166: 2 | E166: 25.91 | F166: =D166*E166 -> 51.82 | G166: 2 | H166: Instalaçao sanitária
...

Sheet CFF
A1: CRONOGRAMA FÍSICO-FINANCEIRO
A2: ESCOLA: CENTRO MUNICIPAL DE EDUCAÇÃO INFANTIL DR. JOSÉ MONTEIRO DA CUNHA MAGALHÃES
A3: MUNICÍPIO: DISTRITO DE PEDRO LESSA, SERRO/MG | J3: ENDEREÇO: RUA GERALDO AUGUSTO DE ALMEIDA, S/N, DISTRITO DE PEDRO LESSA - SERRO/MG
A4: SERVIÇOS: CONSTRUÇÃO DE QUADRA POLIESPORTIVA
A5: ITEM | B5: DESCRIÇÃO | C5: VALOR | D5: VALOR + BDI | E5: % INC. | F5: 30 DIAS | H5: 60 DIAS | J5: 90 DIAS | L5: 120 DIAS | N5: 150 DIAS | P5: 180 DIAS | R5: 210 DIAS | T5: 240 DIAS | V5: 270 DIAS | X5: 300 DIAS | Z5: 330 DIAS
F6: % | G6: VALOR | H6: % | I6: VALOR | J6: % | K6: VALOR | L6: % | M6: VALOR | N6: % | O6: VALOR | P6: % | Q6: VALOR | R6: % | S6: VALOR | T6: % | U6: VALOR | V6: % | W6: VALOR | X6: % | Y6: VALOR | Z6: % | AA6: VALOR
A7: 1 | B7: ='MEMÓRIA DE CÁLCULO'!B6 -> INSTALAÇÃO DOS SERVIÇOS DE ENGENHARIA | C7: =ADITIVO!U21 -> 10198.27 | D7: =ADITIVO!L21*(1+ADITIVO!$J$447)+ADITIVO!R21*(1+ADITIVO!$P$447) -> 12531.635 | E7: =D7/$D$27 -> 0.017392031 | F7: 1 | G7: =D7*F7 -> 12531.635
A8: 3 | B8: ='MEMÓRIA DE CÁLCULO'!B22 -> TRABALHOS EM TERRA | C8: =ADITIVO!U40 -> 5731.9793 | D8: =ADITIVO!L40*(1+ADITIVO!$J$447)+ADITIVO!R40*(1+ADITIVO!$P$447) -> 7043.4561 | E8: =D8/$D$27 -> 0.0097752615 | F8: 0.05 | G8: =D8*F8 -> 352.17281 | H8: 0.65 | I8: =D8*H8 -> 4578.2465 | J8: 0.3 | K8: =D8*J8 -> 2113.0368
A9: 4 | B9: ='MEMÓRIA DE CÁLCULO'!B41 -> SONDAGEM, FUNDAÇÕES, MUROS E CONTENÇÕES | C9: =ADITIVO!U64 -> 47909.98 | D9: =ADITIVO!L64*(1+ADITIVO!$J$447)+ADITIVO!R64*(1+ADITIVO!$P$447) -> 58997.329 | E9: =D9/$D$27 -> 0.08187945 | F9: 0.07 | G9: =D9*F9 -> 4129.813 | H9: 0.3 | I9: =D9*H9 -> 17699.199 | J9: 0.63 | K9: =D9*J9 -> 37168.317
A10: 5 | B10: ='MEMÓRIA DE CÁLCULO'!B65 -> SUPERESTRUTURA | C10: =ADITIVO!U74 -> 31216.873 | D10: =ADITIVO!L74*(1+ADITIVO!$J$447)+ADITIVO!R74*(1+ADITIVO!$P$447) -> 38828.081 | E10: =D10/$D$27 -> 0.053887557 | L10: 0.15 | M10: =D10*L10 -> 5824.2122 | N10: 0.4 | O10: =D10*N10 -> 15531.233 | P10: 0.45 | Q10: =D10*P10 -> 17472.637
A11: 6 | B11: ='MEMÓRIA DE CÁLCULO'!B75 -> ALVENARIA | C11: =ADITIVO!U81 -> 13560.399 | D11: =ADITIVO!L81*(1+ADITIVO!$J$447)+ADITIVO!R81*(1+ADITIVO!$P$447) -> 16720.844 | E11: =D11/D27 -> 0.023206026 | J11: 0.02 | K11: =D11*J11 -> 334.41689 | L11: 0.58 | M11: =D11*L11 -> 9698.0898 | N11: 0.4 | O11: =D11*N11 -> 6688.3378
A12: 7 | B12: ='MEMÓRIA DE CÁLCULO'!B82 -> COBERTURA E FORRO | C12: =ADITIVO!U96 -> 10044.72 | D12: =ADITIVO!L96*(1+ADITIVO!$J$447)+ADITIVO!R96*(1+ADITIVO!$P$447) -> 12519.739 | E12: =D12/$D$27 -> 0.017375521 | R12: 0.5 | S12: =D12*R12 -> 6259.8695 | T12: 0.5 | U12: =D12*T12 -> 6259.8695
A13: 8 | B13: ='MEMÓRIA DE CÁLCULO'!B97 -> INSTALAÇÕES HIDRÁULICAS | C13: =ADITIVO!U172 -> 15095.53 | D13: =ADITIVO!L172*(1+ADITIVO!$J$447)+ADITIVO!R172*(1+ADITIVO!$P$447) -> 18815.069 | E13: =D13/$D$27 -> 0.026112495 | L13: 0.35 | M13: =D13*L13 -> 6585.274 | N13: 0.1 | O13: =D13*N13 -> 1881.5069 | P13: 0.1 | Q13: =D13*P13 -> 1881.5069 | R13: 0.2 | S13: =D13*R13 -> 3763.0137 | T13: 0.2 | U13: =D13*T13 -> 3763.0137 | V13: 0.05 | W13: =D13*V13 -> 940.75343
A14: 9 | B14: ='MEMÓRIA DE CÁLCULO'!B173 -> INSTALAÇÕES SANITÁRIAS | C14: =ADITIVO!U194 -> 12330.2 | D14: =ADITIVO!L194*(1+ADITIVO!$J$447)+ADITIVO!R194*(1+ADITIVO!$P$447) -> 15368.361 | E14: =D14/$D$27 -> 0.021328982 | L14: 0.1 | M14: =D14*L14 -> 1536.8361 | N14: 0.1 | O14: =D14*N14 -> 1536.8361 | P14: 0.1 | Q14: =D14*P14 -> 1536.8361 | R14: 0.35 | S14: =D14*R14 -> 5378.9264 | T14: 0.2 | U14: =D14*T14 -> 3073.6723 | V14: 0.05 | W14: =D14*V14 -> 768.41806 | X14: 0.1 | Y14: =D14*X14 -> 1536.8361
A15: 10 | B15: ='MEMÓRIA DE CÁLCULO'!B195 -> INSTALAÇÃO ELÉTRICA | C15: =ADITIVO!U283 -> 20173.56 | D15: =ADITIVO!L283*(1+ADITIVO!$J$447)+ADITIVO!R283*(1+ADITIVO!$P$447) -> 25144.325 | E15: =D15/$D$27 -> 0.034896555 | L15: 0.1 | M15: =D15*L15 -> 2514.4325 | N15: 0.1 | O15: =D15*N15 -> 2514.4325 | P15: 0.1 | Q15: =D15*P15 -> 2514.4325 | R15: 0.35 | S15: =D15*R15 -> 8800.5138 | T15: 0.2 | U15: =D15*T15 -> 5028.865 | V15: 0.05 | W15: =D15*V15 -> 1257.2163 | X15: 0.1 | Y15: =D15*X15 -> 2514.4325
A16: 12 | B16: ='MEMÓRIA DE CÁLCULO'!B284 -> ESQUADRIAS METÁLICAS | C16: =ADITIVO!U293 -> 5212.332 | D16: =ADITIVO!L293*(1+ADITIVO!$J$447)+ADITIVO!R293*(1+ADITIVO!$P$447) -> 6496.6506 | E16: =D16/$D$27 -> 0.0090163773 | T16: 0.35 | U16: =D16*T16 -> 2273.8277 | V16: 0.35 | W16: =D16*V16 -> 2273.8277 | X16: 0.3 | Y16: =D16*X16 -> 1948.9952
A17: 13 | B17: ='MEMÓRIA DE CÁLCULO'!B294 -> FERRAGENS | C17: =ADITIVO!U311 -> 12516.635 | D17: =ADITIVO!L311*(1+ADITIVO!$J$447)+ADITIVO!R311*(1+ADITIVO!$P$447) -> 15600.734 | E17: =D17/$D$27 -> 0.021651481 | T17: 0.4 | U17: =D17*T17 -> 6240.2936 | V17: 0.6 | W17: =D17*V17 -> 9360.4405
A18: 14 | B18: ='MEMÓRIA DE CÁLCULO'!B312 -> REVESTIMENTO | C18: =ADITIVO!U328 -> 24285.477 | D18: =ADITIVO!L328*(1+ADITIVO!$J$447)+ADITIVO!R328*(1+ADITIVO!$P$447) -> 30266.45 | E18: =D18/$D$27 -> 0.042005296 | P18: 0.35 | Q18: =D18*P18 -> 10593.258 | R18: 0.35 | S18: =D18*R18 -> 10593.258 | T18: 0.3 | U18: =D18*T18 -> 9079.935
A19: 15 | B19: ='MEMÓRIA DE CÁLCULO'!B329 -> PISOS E RODAPÉS | C19: =ADITIVO!U347 -> 26333.282 | D19: =ADITIVO!L347*(1+ADITIVO!$J$447)+ADITIVO!R347*(1+ADITIVO!$P$447) -> 32821.803 | E19: =D19/$D$27 -> 0.045551743 | R19: 0.35 | S19: =D19*R19 -> 11487.631 | T19: 0.35 | U19: =D19*T19 -> 11487.631 | V19: 0.3 | W19: =D19*V19 -> 9846.5409
A20: 17 | B20: ='MEMÓRIA DE CÁLCULO'!B348 -> PINTURA | C20: =ADITIVO!U358 -> 12500.976 | D20: =ADITIVO!L358*(1+ADITIVO!$J$447)+ADITIVO!R358*(1+ADITIVO!$P$447) -> 15581.216 | E20: =D20/$D$27 -> 0.021624393 | V20: 0.1 | W20: =D20*V20 -> 1558.1216 | X20: 0.65 | Y20: =D20*X20 -> 10127.791 | Z20: 0.25 | AA20: =D20*Z20 -> 3895.3041
A21: 18 | B21: ='MEMÓRIA DE CÁLCULO'!B359 -> BANCADAS, PRATELEIRAS E DIVISÓRIAS | C21: =ADITIVO!U368 -> 120.404 | D21: =ADITIVO!L368*(1+ADITIVO!$J$447)+ADITIVO!R368*(1+ADITIVO!$P$447) -> 150.07155 | E21: =D21/$D$27 -> 0.00020827681 | P21: 0.5 | Q21: =D21*P21 -> 75.035773 | R21: 0.5 | S21: =D21*R21 -> 75.035773
A22: 20 | B22: ='MEMÓRIA DE CÁLCULO'!B369 -> QUADRA | C22: =ADITIVO!U411 -> 312213.63 | D22: =ADITIVO!L411*(1+ADITIVO!$J$447)+ADITIVO!R411*(1+ADITIVO!$P$447) -> 387593.85 | E22: =D22/$D$27 -> 0.53792217 | J22: 0.01 | K22: =D22*J22 -> 3875.9385 | L22: 0.07 | M22: =D22*L22 -> 27131.569 | N22: 0.25 | O22: =D22*N22 -> 96898.462 | P22: 0.25 | Q22: =D22*P22 -> 96898.462 | R22: 0.2 | S22: =D22*R22 -> 77518.77 | T22: 0.1 | U22: =D22*T22 -> 38759.385 | V22: 0.08 | W22: =D22*V22 -> 31007.508 | X22: 0.04 | Y22: =D22*X22 -> 15503.754
A23: 23 | B23: LIMPEZA | C23: =ADITIVO!U419 -> 6503.12 | D23: =ADITIVO!L419*(1+ADITIVO!$J$447)+ADITIVO!R419*(1+ADITIVO!$P$447) -> 8105.4888 | E23: =D23/$D$27 -> 0.011249204 | L23: 0.06 | M23: =D23*L23 -> 486.32933 | N23: 0.06 | O23: =D23*N23 -> 486.32933 | P23: 0.06 | Q23: =D23*P23 -> 486.32933 | R23: 0.06 | S23: =D23*R23 -> 486.32933 | T23: 0.06 | U23: =D23*T23 -> 486.32933 | V23: 0.06 | W23: =D23*V23 -> 486.32933 | X23: 0.06 | Y23: =D23*X23 -> 486.32933 | Z23: 0.58 | AA23: =D23*Z23 -> 4701.1835
A24: 24 | B24: LEVANTAMENTOS, E PROJETOS | C24: =ADITIVO!U440 -> 14179.51 | D24: =ADITIVO!L440*(1+ADITIVO!$J$446)+ADITIVO!R440*(1+ADITIVO!$P$446) -> 17782.168 | E24: =D24/$D$27 -> 0.024678984 | F24: 0.5 | G24: =D24*F24 -> 8891.0841 | H24: 0.5 | I24: =D24*H24 -> 8891.0841
A25: 26 | B25: OUTROS | C25: =ADITIVO!U444 -> 137.7 | D25: =ADITIVO!L444*(1+ADITIVO!$J$447)+ADITIVO!R444*(1+ADITIVO!$P$447) -> 171.62928 | E25: =D25/$D$27 -> 0.00023819572 | V25: 1 | W25: =D25*V25 -> 171.62928
A26: TOTAL MENSAL | F26: =G26/D27 -> 0.035951847 | G26: =SUM(G7:G25) -> 25904.704 | H26: =I26/D27 -> 0.043257247 | I26: =SUM(I7:I25) -> 31168.529 | J26: =K26/D27 -> 0.060359974 | K26: =SUM(K7:K25) -> 43491.709 | L26: =M26/D27 -> 0.07463406 | M26: =SUM(M7:M25) -> 53776.743 | N26: =O26/D27 -> 0.17422673 | O26: =SUM(O7:O25) -> 125537.14 | P26: =Q26/D27 -> 0.18244469 | Q26: =SUM(Q7:Q25) -> 131458.5 | R26: =S26/D27 -> 0.17259769 | S26: =SUM(S7:S25) -> 124363.35 | T26: =U26/D27 -> 0.11998356 | U26: =SUM(U7:U25) -> 86452.822 | V26: =W26/D27 -> 0.080038406 | W26: =SUM(W7:W25) -> 57670.785 | X26: =Y26/D27 -> 0.044575161 | Y26: =SUM(Y7:Y25) -> 32118.138 | Z26: =AA26/D27 -> 0.011930636 | AA26: =SUM(AA7:AA25) -> 8596.4876
A27: TOTAL ACUMULADO | C27: =SUM(C7:C25) -> 580264.57 | D27: =SUM(D7:D25) -> 720538.9 | E27: =SUM(E7:E26) -> 1 | F27: =G27/D27 -> 0.035951847 | G27: =G26 -> 25904.704 | H27: =I27/D27 -> 0.079209094 | I27: =G27+I26 -> 57073.234 | J27: =K27/D27 -> 0.13956907 | K27: =I27+K26 -> 100564.94 | L27: =M27/D27 -> 0.21420313 | M27: =K27+M26 -> 154341.69 | N27: =L27+N26 -> 0.38842986 | O27: =M27+O26 -> 279878.82 | P27: =N27+P26 -> 0.57087455 | Q27: =O27+Q26 -> 411337.32 | R27: =P27+R26 -> 0.74347224 | S27: =Q27+S26 -> 535700.67 | T27: =R27+T26 -> 0.8634558 | ... Y27: =W27+Y26 -> 711942.41 | Z27: =AA27/D27 -> 1 | AA27: =Y27+AA26 -> 720538.9
A28: NOME DO TÉCNICO RESPONSÁVEL PELA ELABORAÇÃO DA PLANILHA: LÚCIO MENDES | V28: CREA/CAU/CFT: 92.287/D | Y28: DATA DE ELABORAÇÃO: 05/02/2025
A29: NOME DO REPRESENTANTE LEGAL: EPAMINONDAS PIRES DE MIRANDA

Sheet CFF - CORRIGIDO
A1: CRONOGRAMA FÍSICO-FINANCEIRO
A2: ESCOLA: CENTRO MUNICIPAL DE EDUCAÇÃO INFANTIL DR. JOSÉ MONTEIRO DA CUNHA MAGALHÃES
A3: MUNICÍPIO: DISTRITO DE PEDRO LESSA, SERRO/MG | H3: ENDEREÇO: RUA GERALDO AUGUSTO DE ALMEIDA, S/N, DISTRITO DE PEDRO LESSA - SERRO/MG
A4: SERVIÇOS: CONSTRUÇÃO DE QUADRA POLIESPORTIVA
A5: ITEM | B5: DESCRIÇÃO | C5: A EXECUTAR | F5: EXECUTADO | H5: A EXECUTAR
C6: VALOR | D6: VALOR + BDI | E6: % INC. | F6: % | G6: VALOR | H6: 30 DIAS | J6: 60 DIAS | L6: 90 DIAS | N6: 120 DIAS | P6: 150 DIAS | R6: 180 DIAS | T6: 210 DIAS | V6: 240 DIAS | X6: 270 DIAS
H7: % | I7: VALOR | J7: % | K7: VALOR | L7: % | M7: VALOR | N7: % | O7: VALOR | P7: % | Q7: VALOR | R7: % | S7: VALOR | T7: % | U7: VALOR | V7: % | W7: VALOR | X7: % | Y7: VALOR
A8: 1 | B8: ='MEMÓRIA DE CÁLCULO'!B6 -> INSTALAÇÃO DOS SERVIÇOS DE ENGENHARIA | C8: =ADITIVO!R21 -> 0 | D8: =C8*(1+ADITIVO!$P$447) -> 0 | E8: =D8/$D$28 -> 0 | F8: =RESUMO!I3 -> 1 | G8: =RESUMO!F3 -> 12531.635
A9: 3 | B9: ='MEMÓRIA DE CÁLCULO'!B22 -> TRABALHOS EM TERRA | C9: =ADITIVO!R40 -> 0 | D9: =C9*(1+ADITIVO!$P$447) -> 0 | E9: =D9/$D$28 -> 0 | F9: =RESUMO!I4 -> 1 | G9: =RESUMO!F4 -> 7043.4561
A10: 4 | B10: ='MEMÓRIA DE CÁLCULO'!B41 -> SONDAGEM, FUNDAÇÕES, MUROS E CONTENÇÕES | C10: =ADITIVO!R64 -> 7133.2567 | D10: =C10*(1+ADITIVO!$P$447) -> 8890.8912 | E10: =D10/$D$28 -> 0.017252871 | F10: =RESUMO!I5 -> 0.84930011 | G10: =RESUMO!F5 -> 50106.437 | H10: =1-F10 -> 0.15069989 | I10: =RESUMO!H5*H10 -> 8890.8912
A11: 5 | B11: ='MEMÓRIA DE CÁLCULO'!B65 -> SUPERESTRUTURA | C11: =ADITIVO!R74 -> 26635.699 | D11: =C11*(1+ADITIVO!$P$447) -> 33198.735 | E11: =D11/$D$28 -> 0.064422504 | F11: =RESUMO!I6 -> 0.14498132 | G11: =RESUMO!F6 -> 5629.3466 | J11: 0.15 | K11: =RESUMO!H6*J11 -> 5824.2122 | L11: 0.4 | M11: =RESUMO!H6*L11 -> 15531.233 | N11: =1-F11-J11-L11 -> 0.30501868 | O11: =RESUMO!H6*N11 -> 11843.29
A12: 6 | B12: ='MEMÓRIA DE CÁLCULO'!B75 -> ALVENARIA | C12: =ADITIVO!R81 -> 3285.6051 | D12: =C12*(1+ADITIVO!$P$447) -> 4095.1782 | E12: =D12/D28 -> 0.0079467376 | F12: =RESUMO!I7 -> 0.75508544 | G12: =RESUMO!F7 -> 12625.666 | H12: 0.02 | I12: =RESUMO!H7*H12 -> 334.41689 | J12: =1-F12-H12 -> 0.22491456 | K12: =RESUMO!H7*J12 -> 3760.7613
A13: 7 | B13: ='MEMÓRIA DE CÁLCULO'!B82 -> COBERTURA E FORRO | C13: =ADITIVO!R96 -> 10044.72 | D13: =C13*(1+ADITIVO!$P$447) -> 12519.739 | E13: =D13/$D$28 -> 0.024294689 | F13: - | G13: - | P13: 0.5 | Q13: =RESUMO!H8*P13 -> 6259.8695 | R13: 0.5 | S13: =RESUMO!H8*R13 -> 6259.8695
A14: 8 | B14: ='MEMÓRIA DE CÁLCULO'!B97 -> INSTALAÇÕES HIDRÁULICAS | C14: =ADITIVO!R172 -> 15095.53 | D14: =C14*(1+ADITIVO!$P$447) -> 18815.069 | E14: =D14/$D$28 -> 0.036510844 | F14: - | G14: - | J14: 0.35 | K14: =RESUMO!H9*J14 -> 6585.274 | L14: 0.1 | M14: =RESUMO!H9*L14 -> 1881.5069 | N14: 0.1 | O14: =RESUMO!H9*N14 -> 1881.5069 | P14: 0.2 | Q14: =RESUMO!H9*P14 -> 3763.0137 | R14: 0.2 | S14: =RESUMO!H9*R14 -> 3763.0137 | T14: 0.05 | U14: =RESUMO!H9*T14 -> 940.75343
A15: 9 | B15: ='MEMÓRIA DE CÁLCULO'!B173 -> INSTALAÇÕES SANITÁRIAS | C15: =ADITIVO!R194 -> 12330.2 | D15: =C15*(1+ADITIVO!$P$447) -> 15368.361 | E15: =D15/$D$28 -> 0.029822471 | F15: - | G15: - | J15: 0.1 | K15: =RESUMO!H10*J15 -> 1536.8361 | L15: 0.1 | M15: =RESUMO!H10*L15 -> 1536.8361 | N15: 0.1 | O15: =RESUMO!H10*N15 -> 1536.8361 | P15: 0.35 | Q15: =RESUMO!H10*P15 -> 5378.9264 | R15: 0.2 | S15: =RESUMO!H10*R15 -> 3073.6723 | T15: 0.05 | U15: =RESUMO!H10*T15 -> 768.41806 | V15: 0.1 | W15: =RESUMO!H10*V15 -> 1536.8361
A16: 10 | B16: ='MEMÓRIA DE CÁLCULO'!B195 -> INSTALAÇÃO ELÉTRICA | C16: =ADITIVO!R283 -> 20173.56 | D16: =C16*(1+ADITIVO!$P$447) -> 25144.325 | E16: =D16/$D$28 -> 0.048792835 | F16: - | G16: - | J16: 0.1 | K16: =RESUMO!H11*J16 -> 2514.4325 | L16: 0.1 | M16: =RESUMO!H11*L16 -> 2514.4325 | N16: 0.1 | O16: =RESUMO!H11*N16 -> 2514.4325 | P16: 0.35 | Q16: =RESUMO!H11*P16 -> 8800.5138 | R16: 0.2 | S16: =RESUMO!H11*R16 -> 5028.865 | T16: 0.05 | U16: =RESUMO!H11*T16 -> 1257.2163 | V16: 0.1 | W16: =RESUMO!H11*V16 -> 2514.4325
A17: 12 | B17: ='MEMÓRIA DE CÁLCULO'!B284 -> ESQUADRIAS METÁLICAS | C17: =ADITIVO!R293 -> 5212.332 | D17: =C17*(1+ADITIVO!$P$447) -> 6496.6506 | E17: =D17/$D$28 -> 0.012606821 | F17: - | G17: - | R17: 0.35 | S17: =RESUMO!H12*R17 -> 2273.8277 | T17: 0.35 | U17: =RESUMO!H12*T17 -> 2273.8277 | V17: 0.3 | W17: =RESUMO!H12*V17 -> 1948.9952
A18: 13 | B18: ='MEMÓRIA DE CÁLCULO'!B294 -> FERRAGENS | C18: =ADITIVO!R311 -> 12516.635 | D18: =C18*(1+ADITIVO!$P$447) -> 15600.734 | E18: =D18/$D$28 -> 0.030273393 | F18: - | G18: - | R18: 0.4 | S18: =RESUMO!H13*R18 -> 6240.2936 | T18: 0.6 | U18: =RESUMO!H13*T18 -> 9360.4405
A19: 14 | B19: ='MEMÓRIA DE CÁLCULO'!B312 -> REVESTIMENTO | C19: =ADITIVO!R328 -> 24116.799 | D19: =C19*(1+ADITIVO!$P$447) -> 30059.178 | E19: =D19/$D$28 -> 0.05833016 | F19: =RESUMO!I14 -> 0.0068482434 | G19: =RESUMO!F14 -> 207.27202 | N19: =1-R19-P19-F19 -> 0.34315176 | O19: =RESUMO!H14*N19 -> 10385.985 | P19: 0.35 | Q19: =RESUMO!H14*P19 -> 10593.258 | R19: 0.3 | S19: =RESUMO!H14*R19 -> 9079.935
A20: 15 | B20: ='MEMÓRIA DE CÁLCULO'!B329 -> PISOS E RODAPÉS | C20: =ADITIVO!R347 -> 26333.282 | D20: =C20*(1+ADITIVO!$P$447) -> 32821.803 | E20: =D20/$D$28 -> 0.063691064 | F20: - | G20: - | P20: 0.35 | Q20: =RESUMO!H15*P20 -> 11487.631 | R20: 0.35 | S20: =RESUMO!H15*R20 -> 11487.631 | T20: 0.3 | U20: =RESUMO!H15*T20 -> 9846.5409
A21: 17 | B21: ='MEMÓRIA DE CÁLCULO'!B348 -> PINTURA | C21: =ADITIVO!R358 -> 12500.976 | D21: =C21*(1+ADITIVO!$P$447) -> 15581.216 | E21: =D21/$D$28 -> 0.030235519 | F21: - | G21: - | T21: 0.1 | U21: =RESUMO!H16*T21 -> 1558.1216 | V21: 0.65 | W21: =RESUMO!H16*V21 -> 10127.791 | X21: 0.25 | Y21: =RESUMO!H16*X21 -> 3895.3041
A22: 18 | B22: ='MEMÓRIA DE CÁLCULO'!B359 -> BANCADAS, PRATELEIRAS E DIVISÓRIAS | C22: =ADITIVO!R368 -> 120.404 | D22: =C22*(1+ADITIVO!$P$447) -> 150.07155 | E22: =D22/$D$28 -> 0.00029121546 | F22: - | G22: - | N22: 0.5 | O22: =RESUMO!H17*N22 -> 75.035773 | P22: 0.5 | Q22: =RESUMO!H17*P22 -> 75.035773
A23: 20 | B23: ='MEMÓRIA DE CÁLCULO'!B369 -> QUADRA | C23: =ADITIVO!R411 -> 224190.03 | D23: =C23*(1+ADITIVO!$P$447) -> 279430.45 | E23: =D23/$D$28 -> 0.54223781 | F23: =RESUMO!I18 -> 0.27906377 | G23: =RESUMO!F18 -> 108163.4 | H23: 0.01 | I23: =RESUMO!H18*H23 -> 3875.9385 | J23: 0.07 | K23: =RESUMO!H18*J23 -> 27131.569 | L23: =1-F23-H23-J23-N23-P23-R23-T23 -> 0.22093623 | M23: =RESUMO!H18*L23 -> 85633.525 | N23: 0.2 | O23: =RESUMO!H18*N23 -> 77518.77 | P23: 0.1 | Q23: =RESUMO!H18*P23 -> 38759.385 | R23: 0.08 | S23: =RESUMO!H18*R23 -> 31007.508 | T23: 0.04 | U23: =RESUMO!H18*T23 -> 15503.754
A24: 23 | B24: LIMPEZA | C24: =ADITIVO!R419 -> 6503.12 | D24: =C24*(1+ADITIVO!$P$447) -> 8105.4888 | E24: =D24/$D$28 -> 0.015728789 | F24: - | G24: - | J24: 0.06 | K24: =RESUMO!H19*J24 -> 486.32933 | L24: 0.06 | M24: =RESUMO!H19*L24 -> 486.32933 | N24: 0.06 | O24: =RESUMO!H19*N24 -> 486.32933 | P24: 0.06 | Q24: =RESUMO!H19*P24 -> 486.32933 | R24: 0.06 | S24: =RESUMO!H19*R24 -> 486.32933 | T24: 0.06 | U24: =RESUMO!H19*T24 -> 486.32933 | V24: 0.06 | W24: =RESUMO!H19*V24 -> 486.32933 | X24: 0.58 | Y24: =RESUMO!H19*X24 -> 4701.1835
A25: 24 | B25: LEVANTAMENTOS, E PROJETOS | C25: =ADITIVO!R440 -> 7052.75 | D25: =C25*(1+ADITIVO!$P$446) -> 8878.707 | E25: =D25/$D$28 -> 0.017229227 | F25: =RESUMO!I20 -> 0.50069604 | G25: =RESUMO!F20 -> 8903.4613 | H25: =1-F25 -> 0.49930396 | I25: =RESUMO!H20*H25 -> 8878.707
A26: 26 | B26: OUTROS | C26: =ADITIVO!R444 -> 137.7 | D26: =C26*(1+ADITIVO!$P$447) -> 171.62928 | E26: =D26/$D$28 -> 0.00033304848 | F26: - | G26: - | T26: 1 | U26: =RESUMO!H21*T26 -> 171.62928
A27: TOTAL MENSAL | F27: =G27/D28 -> 0.39821353 | G27: =SUM(G8:G26) -> 205210.67 | H27: =I27/D28 -> 0.042652338 | I27: =SUM(I8:I26) -> 21979.954 | J27: =K27/D28 -> 0.092832902 | K27: =SUM(K8:K26) -> 47839.415 | L27: =M27/D28 -> 0.20876765 | M27: =SUM(M8:M26) -> 107583.86 | N27: =O27/D28 -> 0.20616411 | O27: =SUM(O8:O26) -> 106242.19 | P27: =Q27/D28 -> 0.16611541 | Q27: =SUM(Q8:Q26) -> 85603.962 | R27: =S27/D28 -> 0.15272004 | S27: =SUM(S8:S26) -> 78700.945 | T27: =U27/D28 -> 0.08182558 | U27: =SUM(U8:U26) -> 42167.031 | V27: =W27/D28 -> 0.032240391 | W27: =SUM(W8:W26) -> 16614.384 | X27: =Y27/D28 -> 0.016681577 | Y27: =SUM(Y8:Y26) -> 8596.4876
A28: TOTAL ACUMULADO | C28: =SUM(C8:C26) -> 413382.6 | D28: =SUM(D8:D26) -> 515328.23 | E28: =SUM(E8:E27) -> 1 | F28: =G28/D28 -> 0.39821353 | G28: =G27 -> 205210.67 | H28: =I28/D28 -> 0.042652338 | I28: =I27 -> 21979.954 | J28: =H28+J27 -> 0.13548524 | K28: =I28+K27 -> 69819.368 | L28: =J28+L27 -> 0.34425289 | M28: =K28+M27 -> 177403.23 | N28: =L28+N27 -> 0.550417 | O28: =M28+O27 -> 283645.42 | P28: =N28+P27 -> 0.71653242 | Q28: =O28+Q27 -> 369249.38 | ... W28: =U28+W27 -> 506731.74 | X28: =Y28/D28 -> 1 | Y28: =W28+Y27 -> 515328.23
A29: NOME DO TÉCNICO RESPONSÁVEL PELA ELABORAÇÃO DA PLANILHA: LÚCIO MENDES | T29: CREA/CAU/CFT: 92.287/D | W29: DATA DE ELABORAÇÃO: 18/02/2025
A30: NOME DO REPRESENTANTE LEGAL: EPAMINONDAS PIRES DE MIRANDA

Sheet RESUMO
A1: ITEM | B1: MACROETAPA | C1: VALOR | D1: DURAÇÃO EM DIAS | E1: DESEMBOLSO DA ATIVIDADE | F1: EXECUTADO | G1: A EXECUTAR (ATUALIZADO) | H1: EXECUTADO + A EXECUTAR | I1: % EXECUTADO
A3: 1 | B3: =CFF!B7 -> INSTALAÇÃO DOS SERVIÇOS DE ENGENHARIA | C3: ='MEMÓRIA DE CÁLCULO'!F17 -> 0 | D3: 30 | E3: =CFF!D7 -> 12531.635 | F3: =ADITIVO!L21*(1+ADITIVO!$J$447) -> 12531.635 | G3: =ADITIVO!R21*(1+ADITIVO!$P$447) -> 0 | H3: =F3+G3 -> 12531.635 | I3: =F3/H3 -> 1
A4: 3 | B4: =CFF!B8 -> TRABALHOS EM TERRA | C4: ='MEMÓRIA DE CÁLCULO'!F36 -> 0 | D4: 90 | E4: =CFF!D8 -> 7043.4561 | F4: =ADITIVO!L40*(1+ADITIVO!$J$447) -> 7043.4561 | G4: =ADITIVO!R40*(1+ADITIVO!$P$447) -> 0 | H4: =F4+G4 -> 7043.4561 | I4: =F4/H4 -> 1
A5: 4 | B5: =CFF!B9 -> SONDAGEM, FUNDAÇÕES, MUROS E CONTENÇÕES | C5: ='MEMÓRIA DE CÁLCULO'!F60 -> 0 | D5: 90 | E5: =CFF!D9 -> 58997.329 | F5: =ADITIVO!L64*(1+ADITIVO!$J$447) -> 50106.437 | G5: =ADITIVO!R64*(1+ADITIVO!$P$447) -> 8890.8912 | H5: =F5+G5 -> 58997.329 | I5: =F5/H5 -> 0.84930011
A6: 5 | B6: =CFF!B10 -> SUPERESTRUTURA | C6: ='MEMÓRIA DE CÁLCULO'!F70 -> 0 | D6: 90 | E6: =CFF!D10 -> 38828.081 | F6: =ADITIVO!L74*(1+ADITIVO!$J$447) -> 5629.3466 | G6: =ADITIVO!R74*(1+ADITIVO!$P$447) -> 33198.735 | H6: =F6+G6 -> 38828.081 | I6: =F6/H6 -> 0.14498132
A7: 6 | B7: =CFF!B11 -> ALVENARIA | C7: ='MEMÓRIA DE CÁLCULO'!F77 -> 0 | D7: 90 | E7: =CFF!D11 -> 16720.844 | F7: =ADITIVO!L81*(1+ADITIVO!$J$447) -> 12625.666 | G7: =ADITIVO!R81*(1+ADITIVO!$P$447) -> 4095.1782 | H7: =F7+G7 -> 16720.844 | I7: =F7/H7 -> 0.75508544
A8: 7 | B8: =CFF!B12 -> COBERTURA E FORRO | C8: ='MEMÓRIA DE CÁLCULO'!F92 -> 0 | D8: 60 | E8: =CFF!D12 -> 12519.739 | F8: =ADITIVO!L96*(1+ADITIVO!$J$447) -> 0 | G8: =ADITIVO!R96*(1+ADITIVO!$P$447) -> 12519.739 | H8: =F8+G8 -> 12519.739 | I8: =F8/H8 -> 0
A9: 8 | B9: =CFF!B13 -> INSTALAÇÕES HIDRÁULICAS | C9: ='MEMÓRIA DE CÁLCULO'!F180 -> 0 | D9: 180 | E9: =CFF!D13 -> 18815.069 | F9: =ADITIVO!L172*(1+ADITIVO!$J$447) -> 0 | G9: =ADITIVO!R172*(1+ADITIVO!$P$447) -> 18815.069 | H9: =F9+G9 -> 18815.069 | I9: =F9/H9 -> 0
A10: 9 | B10: =CFF!B14 -> INSTALAÇÕES SANITÁRIAS | C10: ='MEMÓRIA DE CÁLCULO'!F202 -> 564.69 | D10: 210 | E10: =CFF!D14 -> 15368.361 | F10: =ADITIVO!L194*(1+ADITIVO!$J$447) -> 0 | G10: =ADITIVO!R194*(1+ADITIVO!$P$447) -> 15368.361 | H10: =F10+G10 -> 15368.361 | I10: =F10/H10 -> 0
A11: 10 | B11: =CFF!B15 -> INSTALAÇÃO ELÉTRICA | C11: ='MEMÓRIA DE CÁLCULO'!F296 -> 0 | D11: 210 | E11: =CFF!D15 -> 25144.325 | F11: =ADITIVO!L283*(1+ADITIVO!$J$447) -> 0 | G11: =ADITIVO!R283*(1+ADITIVO!$P$447) -> 25144.325 | H11: =F11+G11 -> 25144.325 | I11: =F11/H11 -> 0
A12: 12 | B12: =CFF!B16 -> ESQUADRIAS METÁLICAS | C12: ='MEMÓRIA DE CÁLCULO'!F306 -> 0 | D12: 90 | E12: =CFF!D16 -> 6496.6506 | F12: =ADITIVO!L293*(1+ADITIVO!$J$447) -> 0 | G12: =ADITIVO!R293*(1+ADITIVO!$P$447) -> 6496.6506 | H12: =F12+G12 -> 6496.6506 | I12: =F12/H12 -> 0
A13: 13 | B13: =CFF!B17 -> FERRAGENS | C13: ='MEMÓRIA DE CÁLCULO'!F324 -> 0 | D13: 60 | E13: =CFF!D17 -> 15600.734 | F13: =ADITIVO!L311*(1+ADITIVO!$J$447) -> 0 | G13: =ADITIVO!R311*(1+ADITIVO!$P$447) -> 15600.734 | H13: =F13+G13 -> 15600.734 | I13: =F13/H13 -> 0
A14: 14 | B14: =CFF!B18 -> REVESTIMENTO | C14: ='MEMÓRIA DE CÁLCULO'!F341 -> 0 | D14: 90 | E14: =CFF!D18 -> 30266.45 | F14: =ADITIVO!L328*(1+ADITIVO!$J$447) -> 207.27202 | G14: =ADITIVO!R328*(1+ADITIVO!$P$447) -> 30059.178 | H14: =F14+G14 -> 30266.45 | I14: =F14/H14 -> 0.0068482434
A15: 15 | B15: =CFF!B19 -> PISOS E RODAPÉS | C15: ='MEMÓRIA DE CÁLCULO'!F360 -> 0 | D15: 90 | E15: =CFF!D19 -> 32821.803 | F15: =ADITIVO!L347*(1+ADITIVO!$J$447) -> 0 | G15: =ADITIVO!R347*(1+ADITIVO!$P$447) -> 32821.803 | H15: =F15+G15 -> 32821.803 | I15: =F15/H15 -> 0
A16: 17 | B16: =CFF!B20 -> PINTURA | C16: ='MEMÓRIA DE CÁLCULO'!F371 -> 0 | D16: 90 | E16: =CFF!D20 -> 15581.216 | F16: =ADITIVO!L358*(1+ADITIVO!$J$447) -> 0 | G16: =ADITIVO!R358*(1+ADITIVO!$P$447) -> 15581.216 | H16: =F16+G16 -> 15581.216 | I16: =F16/H16 -> 0
A17: 18 | B17: =CFF!B21 -> BANCADAS, PRATELEIRAS E DIVISÓRIAS | C17: ='MEMÓRIA DE CÁLCULO'!F389 -> 0 | D17: 60 | E17: =CFF!D21 -> 150.07155 | F17: =ADITIVO!L368*(1+ADITIVO!$J$447) -> 0 | G17: =ADITIVO!R368*(1+ADITIVO!$P$447) -> 150.07155 | H17: =F17+G17 -> 150.07155 | I17: =F17/H17 -> 0
A18: 20 | B18: =CFF!B22 -> QUADRA | C18: ='MEMÓRIA DE CÁLCULO'!F432 -> 0 | D18: 240 | E18: =CFF!D22 -> 387593.85 | F18: =ADITIVO!L411*(1+ADITIVO!$J$447) -> 108163.4 | G18: =ADITIVO!R411*(1+ADITIVO!$P$447) -> 279430.45 | H18: =F18+G18 -> 387593.85 | I18: =F18/H18 -> 0.27906377
A19: 23 | B19: =CFF!B23 -> LIMPEZA | C19: ='MEMÓRIA DE CÁLCULO'!F441 -> 0 | D19: 240 | E19: =CFF!D23 -> 8105.4888 | F19: =ADITIVO!L419*(1+ADITIVO!$J$447) -> 0 | G19: =ADITIVO!R419*(1+ADITIVO!$P$447) -> 8105.4888 | H19: =F19+G19 -> 8105.4888 | I19: =F19/H19 -> 0
A20: 24 | B20: LEVANTAMENTOS, E PROJETOS | C20: ='MEMÓRIA DE CÁLCULO'!F466 -> 0 | D20: 60 | E20: =CFF!D24 -> 17782.168 | F20: =ADITIVO!L440*(1+ADITIVO!$J$446) -> 8903.4613 | G20: =ADITIVO!R440*(1+ADITIVO!$P$446) -> 8878.707 | H20: =F20+G20 -> 17782.168 | I20: =F20/H20 -> 0.50069604
A21: 26 | B21: OUTROS | C21: ='MEMÓRIA DE CÁLCULO'!F470 -> 0 | D21: 30 | E21: =CFF!D25 -> 171.62928 | F21: =ADITIVO!L444*(1+ADITIVO!$J$447) -> 0 | G21: =ADITIVO!R444*(1+ADITIVO!$P$447) -> 171.62928 | H21: =F21+G21 -> 171.62928 | I21: =F21/H21 -> 0
A22: TOTAL | C22: =SUM(C3:C21) -> 564.69 | E22: =SUM(E3:E21) -> 720538.9 | F22: =SUM(F3:F21) -> 205210.67 | G22: =SUM(G3:G21) -> 515328.23 | H22: =F22+G22 -> 720538.9 | I22: =F22/H22 -> 0.28480166
