Workbook
Name __Anonymous_Sheet_DB__1: 'MEMÓRIA DE CÁLCULO'!$F$1:$F$64230
Name __Anonymous_Sheet_DB__1_1: 'MEMÓRIA DE CÁLCULO'!#REF!
Name __Anonymous_Sheet_DB__2: 'MEMÓRIA DE CÁLCULO'!$B$1:$I$64230
Name Excel_BuiltIn__FilterDatabase: 'MEMÓRIA DE CÁLCULO'!$F$1:$F$64230
Name Excel_BuiltIn__FilterDatabase_1: 'MEMÓRIA DE CÁLCULO'!$F$1:$F$64230
Name Excel_BuiltIn_Print_Area: 'MEMÓRIA DE CÁLCULO'!$A$1:$I$454
Name Print_Area: CFF!$A$1:$AA$27
Name Print_Area: 'CFF - CORRIGIDO'!$A$1:$Y$28
Name Print_Area: 'MEMÓRIA DE CÁLCULO'!$A$1:$I$459
Name Print_Titles: 'MEMÓRIA DE CÁLCULO'!$1:$5

Sheet ADITIVO
B1: SECRETARIA DE ESTADO DE EDUCAÇÃO - DIRETORIA DE INFRAESTRUTURA ESCOLAR E GESTÃO DA REDE FÍSICA - PLANILHA DE SERVIÇOS
A2: ESCOLA: CENTRO MUNICIPAL DE EDUCAÇÃO INFANTIL DR. JOSÉ MONTEIRO DA CUNHA MAGALHÃES | L2: TERMO DE CONVÊNIO Nº: 1261001375/2021
A3: MUNICÍPIO: DISTRITO DE PEDRO LESSA, SERRO/MG | D3: 0.05 | E3: SERVIÇOS: CONSTRUÇÃO DE QUADRA POLIESPORTIVA
A4: ITEM | B4: DESCRIÇÃO | C4: UN. | D4: V. CONVÊNIO | F4: =F448 -> 572825.09 | G4: V. CONTRATADO | I4: =I448 -> 572733.4 | J4: V. EXECUTADO (1ª empresa) | L4: =L448 -> 205210.67 | M4: A SER EXECUTADO | O4: =O448 -> 367522.72 | P4: V. A SER EXCUTAR/ATUALIZADO | R4: =R448 -> 515328.23 | S4: TOTAL OBRA (valor executado + valor a ser executado atualizado) | U4: =U448 -> 720538.9 | V4: LOCAL DE INTERVENÇÃO
D5: QUANT. | E5: PREÇO UNIT. | F5: TOTAL | G5: QUANT. | H5: PREÇO UNIT. | I5: TOTAL | J5: QUANT. | K5: PREÇO UNIT. | L5: TOTAL | M5: QUANT. | N5: PREÇO UNIT. | O5: TOTAL | P5: QUANT. | Q5: PREÇO UNIT. | R5: TOTAL | S5: QUANT. | T5: PREÇO UNIT. | U5: TOTAL | V5: MEMÓRIA DE CALCULO
A6: 010000 | B6: INSTALAÇÃO DOS SERVIÇOS DE ENGENHARIA
A7: 010001 | B7: Locação dos serviços de engenharia: execução de gabarito | C7: M² | D7: =28*18 -> 504 | E7: 7.61 | F7: =D7*E7 -> 3835.44 | G7: =28*18 -> 504 | H7: 7.61 | I7: =G7*H7 -> 3835.44 | J7: =28*18 -> 504 | K7: 7.61 | L7: =J7*K7 -> 3835.44 | M7: 0 | N7: 7.61 | O7: =M7*N7 -> 0 | P7: 0 | Q7: 9.54 | R7: 0 | S7: =J7+P7 -> 504 | U7: =L7+R7 -> 3835.44 | V7: 28*18 | W7: Área de projeção da quadra
B8: Será medido pela área de obra locada, aferida entre os eixos de fundação e acrescentando-se 0,50 m, a partir do eixo, para o lado externo (m²). O item remunera o fornecimento de pontaletes em Pinus ou Cedrinho de 3" x 3"; tábuas em Pinus de 1" x 12"; arame galvanizado; inclusive materiais acessórios e a mão-de-obra necessária para os serviços de locação completa em obras de edificação compreendendo: locação de estacas, eixos principais, paredes, etc.
A11: 010003 | B11: Fornecimento e colocação de placa dos serviços de engenharia em chapa galvanizada (3,00 X 1,50m) - Governo do Estado - (Ampliação e / ou Reforma acima de R$ 30.000,00) | C11: UN | D11: 1 | E11: 1121.47 | F11: =D11*E11 -> 1121.47 | G11: 1 | H11: 1121.47 | I11: =G11*H11 -> 1121.47 | J11: 1 | K11: 1121.47 | L11: =J11*K11 -> 1121.47 | M11: 0 | N11: 1121.47 | O11: =M11*N11 -> 0 | P11: 0 | Q11: 1419.25 | R11: 0 | S11: =J11+P11 -> 1 | U11: =L11+R11 -> 1121.47 | V11: 1 | W11: Rente ao muro de divisa da escola
B12: Será medido por unidade de placa instalada (UN). O item remunera as placas de obras que deverão ser confeccionadas em chapa galvanizada 0,26. As chapas serão afixadas com rebites 540 e parafusos 3/8, em uma estrutura metálica com viga U 2” enrijecida e Metalon 20x20. O suporte para a instalação deverá ser em Eucalipto Autoclavado. As placas serão pintadas na frente e no verso com fundo anticorrosivo e tinta automotiva. FORMATO: 3,00 x 1,50m. O tamanho da placa é definido em função do local da sua instalação e/ou do valor dos serviços acima de R$ 30.000,00, obedecendo à proporção de 6,00 x 3,00m e o manual de identidade visual do Governo de Minas.
A14: 010004 | B14: Limpeza do terreno, raspagem, capina e queima manual | C14: M2 | D14: =31*21+3*3 -> 660 | E14: 1.04 | F14: =D14*E14 -> 686.4 | G14: =31*21+3*3 -> 660 | H14: 1.04 | I14: =G14*H14 -> 686.4 | J14: =31*21+3*3 -> 660 | K14: 1.04 | L14: =J14*K14 -> 686.4 | M14: 0 | N14: 1.04 | O14: =M14*N14 -> 0 | P14: 0 | Q14: 1.31 | R14: 0 | S14: =J14+P14 -> 660 | U14: =L14+R14 -> 686.4 | V14: 31*21+3*3 | W14: Área de implantação da quadra
B15: Será medido pela área real do terreno, onde ocorrer a limpeza manual de vegetação (m²). O item remunera o fornecimento de caminhão basculante, a mão-de-obra necessária e ferramentas auxiliares para a execução dos serviços executados manualmente com auxílio de ferramental apropriado para a roçada, derrubada de árvores e arbustos, destocamento, fragmentação de galhos e troncos, empilhamento e transporte, abrangendo: a remoção de vegetação, árvores e arbustos com diâmetro do tronco até 5 cm, medidos na altura de 1,00 m do solo, capim. etc.; arrancamento e remoção de tocos, raízes e troncos; raspagem manual da camada de solo vegetal na espessura mínima de 15 cm; carga manual; e o transporte, interno na obra, num raio de 500m.
A18: 010006 | B18: Barracão em madeira, piso cimentado e cobertura em telhas de fibrocimento ondulada | C18: M² | D18: =3.3*3.3 -> 10.89 | E18: 418.27 | F18: =D18*E18 -> 4554.9603 | G18: =3.3*3.3 -> 10.89 | H18: 418.27 | I18: =G18*H18 -> 4554.9603 | J18: =3.3*3.3 -> 10.89 | K18: 418.27 | L18: =J18*K18 -> 4554.9603 | M18: 0 | N18: 418.27 | O18: =M18*N18 -> 0 | P18: 0 | Q18: 551.03 | R18: 0 | S18: =J18+P18 -> 10.89 | U18: =L18+R18 -> 4554.9603 | V18: 3,3*3,3 | W18: Local a ser definido com a fiscalização
B19: Será medido pela área de projeção da cobertura de construção provisória executada, com croqui analisado e aprovado previamente pela fiscalização. (M²) O item remunera o fornecimento de materiais e mão-de-obra necessários para a execução de construção provisória em madeira destinada a escritório e/ou depósito de obra, constituída por: piso interno e calçada externa em concreto usinado, Fck 20 MPa; paredes, portas e janelas em chapa compensada plastificada de no mínimo 6 mm de espessura, e / ou compensado resinado com seladora impermeabilizante e aplicação de textura na pintura; janelas com vidro fantasia de 3 ou 4mm; porta com dobradiças de latão cromado e fechadura de embutir cromada e com miolo tipo Georges; estrutura, apoio para cobertura e contraventamentos em pontaletes e tábuas de Pinus ou Cedrinho e engradamento da cobertura de eucalípto imunizado, cobertura com telha em fibrocimento, perfil ondulado de no mínimo 5 mm de espessura; instalação elétrica e pintura acrílica, materiais acessórios para execução total da construção provisória, conforme norma regulamentadora. Devem obedecer a NR 18 (Áreas de vivência). Remunera também a manutenção durante todo o periodo da obra e a demobilização completa deste barracão.
C21: SUB-TOTAL = | F21: =SUM(F7:F20) -> 10198.27 | G21: SUB-TOTAL = | I21: =SUM(I7:I20) -> 10198.27 | J21: SUB-TOTAL = | L21: =SUM(L7:L20) -> 10198.27 | M21: SUB-TOTAL = | O21: =SUM(O7:O20) -> 0 | P21: SUB-TOTAL = | R21: 0 | S21: SUB-TOTAL = | U21: =L21+R21 -> 10198.27
A22: 030000 | B22: TRABALHOS EM TERRA
A23: 030001 | B23: Aterro Compactado manual, com soquete | C23: M3 | D23: =31*1.5*2*0.05+18*2*0.05+(2.35+1.36)*1.36*0.25+3.89*1.36*0.44 -> 10.039176 | E23: 53.41 | F23: =D23*E23 -> 536.19239 | G23: =31*1.5*2*0.05+18*2*0.05+(2.35+1.36)*1.36*0.25+3.89*1.36*0.44 -> 10.039176 | H23: 53.41 | I23: =G23*H23 -> 536.19239 | J23: =31*1.5*2*0.05+18*2*0.05+(2.35+1.36)*1.36*0.25+3.89*1.36*0.44 -> 10.039176 | K23: 53.41 | L23: =J23*K23 -> 536.19239 | M23: 0 | N23: 53.41 | O23: =M23*N23 -> 0 | P23: 0 | Q23: 67.39 | R23: 0 | S23: =J23+P23 -> 10.039176 | U23: =L23+R23 -> 536.19239 | V23: 31*1,5*2*0,05+18*2*0,05+(2,35+1,36)*1,36*0,25+3,89*1,36*0,44 | W23: Passeio lateral e rampa
B24: Será medido pelo volume de aterro compactado (m³). O item remunera o fornecimento de equipamentos e mão-de-obra necessários para execução dos serviços de aterro interno, com material existente ou importado, incluindo o apiloamento em camadas, de 20 cm, com maço de 30 kg e a disposição das sobras.
A26: 030002 | B26: Escavação manual de vala em solo de 1ª e 2ª categoria, profundidade em até 2,00m | C26: M3 | D26: =28*0.25*0.46*2+18*0.25*0.46*2+(18.6+3.02)*0.25*0.46*2+(4.46+2.25+2.41+2.25+2.41+0.2)*0.25*0.46+0.4*0.25*0.46*2+15.4*0.25*0.46*2+1.1*0.25*0.4*2+(3.75+1.66)*0.25*0.46+(2.58+3.74)*0.25*0.46+1.24*0.25*0.46+4.7*0.25*0.46+(2.11*2+0.18*3)*0.25*0.46+1.82*0.25*0.46+0.75*0.75*0.8*14+0.45*0.45*0.46*15 -> 31.5003 | E26: 53.41 | F26: =D26*E26 -> 1682.431 | G26: =28*0.25*0.46*2+18*0.25*0.46*2+(18.6+3.02)*0.25*0.46*2+(4.46+2.25+2.41+2.25+2.41+0.2)*0.25*0.46+0.4*0.25*0.46*2+15.4*0.25*0.46*2+1.1*0.25*0.4*2+(3.75+1.66)*0.25*0.46+(2.58+3.74)*0.25*0.46+1.24*0.25*0.46+4.7*0.25*0.46+(2.11*2+0.18*3)*0.25*0.46+1.82*0.25*0.46+0.75*0.75*0.8*14+0.45*0.45*0.46*15 -> 31.5003 | H26: 53.41 | I26: =G26*H26 -> 1682.431 | J26: =28*0.25*0.46*2+18*0.25*0.46*2+(18.6+3.02)*0.25*0.46*2+(4.46+2.25+2.41+2.25+2.41+0.2)*0.25*0.46+0.4*0.25*0.46*2+15.4*0.25*0.46*2+1.1*0.25*0.4*2+(3.75+1.66)*0.25*0.46+(2.58+3.74)*0.25*0.46+1.24*0.25*0.46+4.7*0.25*0.46+(2.11*2+0.18*3)*0.25*0.46+1.82*0.25*0.46+0.75*0.75*0.8*14+0.45*0.45*0.46*15 -> 31.5003 | K26: 53.41 | L26: =J26*K26 -> 1682.431 | M26: 0 | N26: 53.41 | O26: =M26*N26 -> 0 | P26: 0 | Q26: 67.39 | R26: 0 | S26: =J26+P26 -> 31.5003 | U26: =L26+R26 -> 1682.431 | V26: 28*0,25*0,46*2+18*0,25*0,46*2+(18,6+3,02)*0,25*0,46*2+(4,46+2,25+2,41+2,25+2,41+0,2)*0,25*0,46+0,4*0,25*0,46*2+15,4*0,25*0,46*2+1,1*0,25*0,4*2+(3,75+1,66)*0,25*0,46+(2,58+3,74)*0,25*0,46+1,24*0,25*0,46+4,7*0,25*0,46+(2,11*2+0,18*3)*0,25*0,46+1,82*0,25*0,46+0,75*0,75*0,8*14+0,45*0,45*0,46*15 | W26: Baldrames,blocos e coroamento
B27: Será medido pelo volume escavado, considerando-se um acréscimo para cada lado, no plano horizontal, em relação às dimensões de cada peça, de 20 cm (m³). O item remunera o fornecimento da mão-de-obra necessária para a escavação manual em solo de 1ª e 2ª categorias em valas ou cavas até 2,00 m de profundidade.
A29: 030003 | B29: Escavação manual em campo aberto em solo exceto rocha com profundidade em até 2,00m | C29: M3 | D29: =3.14*1.3*1.3*1.7 -> 9.02122 | E29: 31.42 | F29: =D29*E29 -> 283.44673 | G29: =3.14*1.3*1.3*1.7 -> 9.02122 | H29: 31.42 | I29: =G29*H29 -> 283.44673 | J29: =3.14*1.3*1.3*1.7 -> 9.02122 | K29: 31.42 | L29: =J29*K29 -> 283.44673 | M29: 0 | N29: 31.42 | O29: =M29*N29 -> 0 | P29: 0 | Q29: 39.48 | R29: 0 | S29: =J29+P29 -> 9.02122 | U29: =L29+R29 -> 283.44673 | V29: 3,14*1,3*1,3*1,7 | W29: Reservatório de água pluvial
B30: Será medido pelo volume real escavado (m³). O item remunera o fornecimento da mão-de-obra necessária para a escavação manual em solo, de primeira ou segunda categoria, em campo aberto.
A33: 030005 | B33: Reaterro manual de vala apiloado | C33: M3 | D33: =28*0.05*0.4*2+18*0.05*0.4*2+(18.6+3.02)*0.05*0.4*2+(4.46+2.25+2.41+2.25+2.41+0.2)*0.05*0.4+0.4*0.05*0.4*2+15.4*0.05*0.4*2+1.1*0.05*0.4*2+(3.75+1.66)*0.05*0.4+(2.58+3.74)*0.05*0.4+1.24*0.05*0.4+4.7*0.05*0.4+(2.11*2+0.18*3)*0.05*0.4+1.82*0.05*0.4+14*0.05*0.05*0.7+15*0.05*0.05*0.4 -> 4.1849 | E33: 53.41 | F33: =D33*E33 -> 223.51551 | G33: =28*0.05*0.4*2+18*0.05*0.4*2+(18.6+3.02)*0.05*0.4*2+(4.46+2.25+2.41+2.25+2.41+0.2)*0.05*0.4+0.4*0.05*0.4*2+15.4*0.05*0.4*2+1.1*0.05*0.4*2+(3.75+1.66)*0.05*0.4+(2.58+3.74)*0.05*0.4+1.24*0.05*0.4+4.7*0.05*0.4+(2.11*2+0.18*3)*0.05*0.4+1.82*0.05*0.4+14*0.05*0.05*0.7+15*0.05*0.05*0.4 -> 4.1849 | H33: 53.41 | I33: =G33*H33 -> 223.51551 | J33: =28*0.05*0.4*2+18*0.05*0.4*2+(18.6+3.02)*0.05*0.4*2+(4.46+2.25+2.41+2.25+2.41+0.2)*0.05*0.4+0.4*0.05*0.4*2+15.4*0.05*0.4*2+1.1*0.05*0.4*2+(3.75+1.66)*0.05*0.4+(2.58+3.74)*0.05*0.4+1.24*0.05*0.4+4.7*0.05*0.4+(2.11*2+0.18*3)*0.05*0.4+1.82*0.05*0.4+14*0.05*0.05*0.7+15*0.05*0.05*0.4 -> 4.1849 | K33: 53.41 | L33: =J33*K33 -> 223.51551 | M33: 0 | N33: 53.41 | O33: =M33*N33 -> 0 | P33: 0 | Q33: 67.39 | R33: 0 | S33: =J33+P33 -> 4.1849 | U33: =L33+R33 -> 223.51551 | V33: 28*0,05*0,4*2+18*0,05*0,4*2+(18,6+3,02)*0,05*0,4*2+(4,46+2,25+2,41+2,25+2,41+0,2)*0,05*0,4+0,4*0,05*0,4*2+15,4*0,05*0,4*2+1,1*0,05*0,4*2+(3,75+1,66)*0,05*0,4+(2,58+3,74)*0,05*0,4+1,24*0,05*0,4+4,7*0,05*0,4+(2,11*2+0,18*3)*0,05*0,4+1,82*0,05*0,4+14*,05*,05*,7+15*,05*,05*,4 | W33: Baldrames,blocos e coroamento
B34: Será medido pelo volume de reaterro em valas, poços ou cavas executado (m³). O item remunera o fornecimento da mão-de-obra necessária para a execução dos serviços de reaterro manual apiloado, com material existente ou importado, sem controle de compactação.
A37: 030007 | B37: Escavação manual de tubulão à céu aberto | C37: M3 | D37: =3.14*0.7*0.7/4*2*14 -> 10.7702 | E37: 279.14 | F37: =D37*E37 -> 3006.3936 | G37: =3.14*0.7*0.7/4*2*14 -> 10.7702 | H37: 279.14 | I37: =G37*H37 -> 3006.3936 | J37: =3.14*0.7*0.7/4*2*14 -> 10.7702 | K37: 279.14 | L37: =J37*K37 -> 3006.3936 | M37: 0 | N37: 279.14 | O37: =M37*N37 -> 0 | P37: 0 | Q37: 327 | R37: 0 | S37: =J37+P37 -> 10.7702 | U37: =L37+R37 -> 3006.3936 | V37: 3,14*0,7*0,7/4*2*14 | W37: Tubulão para pilares metálicos
B38: Será medido pelo volume escavado até a cota prevista (m³) O item remunera o fornecimento de mão de obra, ferramentas e equipamentos necessários para a execução dos serviços de escavação do tubulão a céu aberto. Remunera também a locação do tubulão, o alargamento da base, esgotamento caso seja encontrado quantidade de água que impeça a continuidade da escavação
C40: SUB-TOTAL = | F40: =SUM(F23:F39) -> 5731.9793 | G40: SUB-TOTAL = | I40: =SUM(I23:I39) -> 5731.9793 | J40: SUB-TOTAL = | L40: =SUM(L23:L39) -> 5731.9793 | M40: SUB-TOTAL = | O40: =SUM(O23:O39) -> 0 | P40: SUB-TOTAL = | R40: 0 | S40: SUB-TOTAL = | U40: =L40+R40 -> 5731.9793
A41: 040000 | B41: SONDAGEM, FUNDAÇÕES, MUROS E CONTENÇÕES
A42: 040001 | B42: Armadura de aço, CA 50, corte e dobra no canteiro | C42: KG | D42: =33.8*35 -> 1183 | E42: 13.27 | F42: =D42*E42 -> 15698.41 | G42: =33.8*35 -> 1183 | H42: 13.27 | I42: =G42*H42 -> 15698.41 | J42: 1086.6 | K42: 13.27 | L42: =J42*K42 -> 14419.182 | M42: 96.4 | N42: 13.27 | O42: =M42*N42 -> 1279.228 | P42: 96.4 | Q42: 13.88 | R42: 1338.032 | S42: =J42+P42 -> 1183 | U42: =L42+R42 -> 15757.214 | V42: 33,8*35 | W42: Fundação
B43: Será medido pelo peso nominal das bitolas constantes no projeto de armadura (kg). O item remunera o fornecimento de aço CA-50 ( A ou B ) com fyk igual 500 MPa, dobramento, transporte e colocação de armaduras de qualquer bitola e qualquer comprimento; estão incluídos no item os serviços e materiais secundários como arame, espaçadores, perdas decorrentes de desbitolamento, cortes e pontas de transpasse para emendas.
A45: 040002 | B45: Fôrma de madeira para fundação, com tábuas e sarrafos, 3 aproveitamentos e desforma | C45: M2 | D45: =28*0.4*4+18*0.4*4+21.62*0.4*4+(3.75+1.66)*0.4*2+15.4*0.4*6+(3.74+2.58)*0.4*2+1.24*0.4*2+4.7*0.4*2+1.82*0.4*2+4.22*0.4*2+0.7*0.4*4*14+15*0.4*4*0.4 -> 189.4 | E45: 47.03 | F45: =D45*E45 -> 8907.482 | G45: =28*0.4*4+18*0.4*4+21.62*0.4*4+(3.75+1.66)*0.4*2+15.4*0.4*6+(3.74+2.58)*0.4*2+1.24*0.4*2+4.7*0.4*2+1.82*0.4*2+4.22*0.4*2+0.7*0.4*4*14+15*0.4*4*0.4 -> 189.4 | H45: 47.03 | I45: =G45*H45 -> 8907.482 | J45: 157.88 | K45: 47.03 | L45: =J45*K45 -> 7425.0964 | M45: 31.52 | N45: 47.03 | O45: =M45*N45 -> 1482.3856 | P45: 31.52 | Q45: 60.61 | R45: 1910.4272 | S45: =J45+P45 -> 189.4 | U45: =L45+R45 -> 9335.5236 | V45: 28*0,4*4+18*0,4*4+21,62*0,4*4+(3,75+1,66)*0,4*2+15,4*0,4*6+(3,74+2,58)*0,4*2+1,24*0,4*2+4,7*0,4*2+1,82*0,4*2+4,22*0,4*2+0,7*0,4*4*14+15*0,4*4 | W45: Fundação
B46: Será medido pelo desenvolvimento das áreas em contato com o concreto, não se descontando áreas de interseção até 0,20 m² (m²). O item remunera o fornecimento dos materiais e a mão-de-obra para execução e instalação da forma, incluindo escoras, gravatas, desmoldante e desforma.
A48: 040003 | B48: Concreto armado para fundação (incluindo fornecimento, transporte, lançamento, forma e desforma) | C48: M3 | D48: =3.14*1.3*1.3*0.08 -> 0.424528 | E48: 1709 | F48: =D48*E48 -> 725.51835 | G48: =3.14*1.3*1.3*0.08 -> 0.424528 | H48: 1709 | I48: =G48*H48 -> 725.51835 | J48: =3.14*1.3*1.3*0.08 -> 0.424528 | K48: 1709 | L48: =J48*K48 -> 725.51835 | M48: 0 | N48: 1709 | O48: =M48*N48 -> 0 | P48: 0 | Q48: 2147.9 | R48: 0 | S48: =J48+P48 -> 0.424528 | U48: =L48+R48 -> 725.51835 | V48: 3,14*1,3*1,3*0,08 | W48: Laje reservatório subterrâneo
B49: Será medido pelo volume calculado no projeto de formas, sendo que o volume da interseção dos diversos elementos estruturais deve ser computado uma só vez (m³). O item remunera o fornecimento de betoneira, pedra britada números 1 e 2, cimento, areia e a mão-de-obra necessária para o preparo do concreto, com resistência mínima à compressão de 20,0 MPa. Remunera também o transporte, lançamento e adensamento. Está também incluido e remunerado 70Kg por m³ de concreto de armadura considerando o fornecimento de aço CA-50 ( A ou B ) com fyk igual 500 MPa, dobramento, transporte e colocação de armaduras de qualquer bitola e qualquer comprimento; estão incluídos no item os serviços e materiais secundários como arame, espaçadores, perdas decorrentes de desbitolamento, cortes e pontas de traspasse para emendas e também 8m² de forma por m³ de concreto considerando o fornecimento dos materiais e a mão-de-obra para execução e instalação da forma, incluindo escoras, gravatas, desmoldante e desforma.
A51: 040004 | B51: Concreto estrutural virado no local,controle "A", consistência para vibração, brita 1, FCK=20 MPA e lançamento em fundação | C51: M³ | D51: =28*0.2*0.4*2+18*0.2*0.4*2+(18.6+3.02)*0.2*0.4*2+(4.46+2.25+2.41+2.25+2.41+0.2)*0.2*0.4+0.4*0.2*0.4*2+15.4*0.2*0.4*2+1.1*0.2*0.4*2+(3.75+1.66)*0.2*0.4+(2.58+3.74)*0.2*0.4+1.24*0.2*0.4+4.7*0.2*0.4+(2.11*2+0.18*3)*0.2*0.4+1.82*0.2*0.4+10.77+14*0.7*0.7*0.8+15*0.4*0.4*0.4 -> 33.7996 | E51: 403.86 | F51: =D51*E51 -> 13650.306 | G51: =28*0.2*0.4*2+18*0.2*0.4*2+(18.6+3.02)*0.2*0.4*2+(4.46+2.25+2.41+2.25+2.41+0.2)*0.2*0.4+0.4*0.2*0.4*2+15.4*0.2*0.4*2+1.1*0.2*0.4*2+(3.75+1.66)*0.2*0.4+(2.58+3.74)*0.2*0.4+1.24*0.2*0.4+4.7*0.2*0.4+(2.11*2+0.18*3)*0.2*0.4+1.82*0.2*0.4+10.77+14*0.7*0.7*0.8+15*0.4*0.4*0.4 -> 33.7996 | H51: 403.86 | I51: =G51*H51 -> 13650.306 | J51: =28*0.2*0.4*2+18*0.2*0.4*2+(18.6+3.02)*0.2*0.4*2+(4.46+2.25+2.41+2.25+2.41+0.2)*0.2*0.4+0.4*0.2*0.4*2+15.4*0.2*0.4*2+1.1*0.2*0.4*2+(3.75+1.66)*0.2*0.4+(2.58+3.74)*0.2*0.4+1.24*0.2*0.4+4.7*0.2*0.4+(2.11*2+0.18*3)*0.2*0.4+1.82*0.2*0.4+10.77+14*0.7*0.7*0.8+15*0.4*0.4*0.4 -> 33.7996 | K51: 403.86 | L51: =J51*K51 -> 13650.306 | M51: 0 | N51: 403.86 | O51: =M51*N51 -> 0 | P51: 0 | Q51: 691.42 | R51: 0 | S51: =J51+P51 -> 33.7996 | U51: =L51+R51 -> 13650.306 | V51: 28*0,2*0,4*2+18*0,2*0,4*2+(18,6+3,02)*0,2*0,4*2+(4,46+2,25+2,41+2,25+2,41+0,2)*0,2*0,4+0,4*0,2*0,4*2+15,4*0,2*0,4*2+1,1*0,2*0,4*2+(3,75+1,66)*0,2*0,4+(2,58+3,74)*0,2*0,4+1,24*0,2*0,4+4,7*0,2*0,4+(2,11*2+0,18*3)*0,2*0,4+1,82*0,2*0,4+10,77+14*0,7*0,7*0,8+15*0,4*0,4*0,4 | W51: Fundação
B52: Será medido pelo volume calculado no projeto de formas, sendo que o volume da interseção dos diversos elementos estruturais deve ser computado uma só vez (m³). O item remunera o fornecimento de betoneira, pedra britada número 1, cimento, areia e a mão-de-obra necessária para o preparo do concreto, com resistência mínima à compressão de 20,0 MPa. Remunera também o transporte, lançamento e adensamento.
A54: 040005 | B54: Lastro de concreto (contra-piso) não estrutural impermeabilizado, E=6 cm | C54: M2 | D54: =28*0.25*2+18*0.25*2+(18.6+3.02)*0.25*2+(4.46+2.25+2.41+2.25+2.41+0.2)*0.25+0.4*0.25*2+15.4*0.25*2+1.1*0.25*2+(3.75+1.66)*0.25+(2.58+3.74)*0.25+1.24*0.25+4.7*0.25+(2.11*2+0.18*3)*0.25+1.82*0.25+14*0.7*0.7+15*0.4*0.4+1.3*1.3*3.14 -> 66.3841 | E54: 44.98 | F54: =D54*E54 -> 2985.9568 | G54: =28*0.25*2+18*0.25*2+(18.6+3.02)*0.25*2+(4.46+2.25+2.41+2.25+2.41+0.2)*0.25+0.4*0.25*2+15.4*0.25*2+1.1*0.25*2+(3.75+1.66)*0.25+(2.58+3.74)*0.25+1.24*0.25+4.7*0.25+(2.11*2+0.18*3)*0.25+1.82*0.25+14*0.7*0.7+15*0.4*0.4+1.3*1.3*3.14 -> 66.3841 | H54: 44.98 | I54: =G54*H54 -> 2985.9568 | J54: 0 | K54: 44.98 | L54: =J54*K54 -> 0 | M54: =28*0.25*2+18*0.25*2+(18.6+3.02)*0.25*2+(4.46+2.25+2.41+2.25+2.41+0.2)*0.25+0.4*0.25*2+15.4*0.25*2+1.1*0.25*2+(3.75+1.66)*0.25+(2.58+3.74)*0.25+1.24*0.25+4.7*0.25+(2.11*2+0.18*3)*0.25+1.82*0.25+14*0.7*0.7+15*0.4*0.4+1.3*1.3*3.14 -> 66.3841 | N54: 44.98 | O54: =M54*N54 -> 2985.9568 | P54: 66.3841 | Q54: 58.52 | R54: 3884.7975 | S54: =J54+P54 -> 66.3841 | U54: =L54+R54 -> 3884.7975 | V54: 28*0,25*2+18*0,25*2+(18,6+3,02)*0,25*2+(4,46+2,25+2,41+2,25+2,41+0,2)*0,25+0,4*0,25*2+15,4*0,25*2+1,1*0,25*2+(3,75+1,66)*0,25+(2,58+3,74)*0,25+1,24*0,25+4,7*0,25+(2,11*2+0,18*3)*0,25+1,82*0,25+14*0,7*0,7+15*0,4*0,4+1,3*1,3*3,14 | W54: Fundação
B55: Será medido pela área onde será executado, na espessura mínima de 6cm (m²). O item remunera o fornecimento de cimento, areia, pedra britada nº 1, 2, e a mão-de-obra necessária para o apiloamento do terreno e execução do lastro.
A58: 040300 | B58: Sondagem a percurssão
A59: 040301 | B59: Mobilização e desmobilização por equipamentos de sondagem a percussão d= 2 1/2" | C59: UN | D59: 1 | E59: 700 | F59: =D59*E59 -> 700 | G59: 1 | H59: 700 | I59: =G59*H59 -> 700 | J59: 1 | K59: 700 | L59: =J59*K59 -> 700 | M59: 0 | N59: 700 | O59: =M59*N59 -> 0 | P59: 0 | Q59: 693.08 | R59: 0 | S59: =J59+P59 -> 1 | U59: =L59+R59 -> 700 | V59: 1 | W59: Mobilização
...

Sheet MEMÓRIA DE CÁLCULO
B1: SECRETARIA DE ESTADO DE EDUCAÇÃO - DIRETORIA DE INFRAESTRUTURA ESCOLAR E GESTÃO DA REDE FÍSICA - PLANILHA DE SERVIÇOS
A2: ESCOLA: CENTRO MUNICIPAL DE EDUCAÇÃO INFANTIL DR. JOSÉ MONTEIRO DA CUNHA MAGALHÃES
A3: MUNICÍPIO: DISTRITO DE PEDRO LESSA, SERRO/MG | C3: ISS | D3: 0.05 | E3: SERVIÇOS: CONSTRUÇÃO DE QUADRA POLIESPORTIVA
A4: ITEM | B4: DESCRIÇÃO | C4: UNID. | D4: ANALISADO | F4: =F453 -> 515328.23 | G4: LOCAL DE INTERVENÇÃO
D5: QUANT. | E5: PREÇO UNITÁRIO | F5: TOTAL | G5: MEMÓRIA DE CALCULO
A6: 010000 | B6: INSTALAÇÃO DOS SERVIÇOS DE ENGENHARIA
A7: 010001 | B7: Locação dos serviços de engenharia: execução de gabarito | C7: M² | D7: 0 | E7: 9.54 | F7: =D7*E7 -> 0 | G7: 28*18 - 504,00 | H7: Área de projeção da quadra
B8: Será medido pela área de obra locada, aferida entre os eixos de fundação e acrescentando-se 0,50 m, a partir do eixo, para o lado externo (m²). O item remunera o fornecimento de pontaletes em Pinus ou Cedrinho de 3" x 3"; tábuas em Pinus de 1" x 12"; arame galvanizado; inclusive materiais acessórios e a mão-de-obra necessária para os serviços de locação completa em obras de edificação compreendendo: locação de estacas, eixos principais, paredes, etc.
A11: 010003 | B11: Fornecimento e colocação de placa dos serviços de engenharia em chapa galvanizada (3,00 X 1,50m) - Governo do Estado - (Ampliação e / ou Reforma acima de R$ 30.000,00) | C11: UN | D11: 0 | E11: 1419.25 | F11: =D11*E11 -> 0 | G11: 1,00 - 1,00 | H11: Rente ao muro de divisa da escola
B12: Será medido por unidade de placa instalada (UN). O item remunera as placas de obras que deverão ser confeccionadas em chapa galvanizada 0,26. As chapas serão afixadas com rebites 540 e parafusos 3/8, em uma estrutura metálica com viga U 2” enrijecida e Metalon 20x20. O suporte para a instalação deverá ser em Eucalipto Autoclavado. As placas serão pintadas na frente e no verso com fundo anticorrosivo e tinta automotiva. FORMATO: 3,00 x 1,50m. O tamanho da placa é definido em função do local da sua instalação e/ou do valor dos serviços acima de R$ 30.000,00, obedecendo à proporção de 6,00 x 3,00m e o manual de identidade visual do Governo de Minas.
A14: 010004 | B14: Limpeza do terreno, raspagem, capina e queima manual | C14: M2 | D14: 0 | E14: 1.31 | F14: =D14*E14 -> 0 | G14: 31*21+3*3 - 660,00 | H14: Área de implantação da quadra
B15: Será medido pela área real do terreno, onde ocorrer a limpeza manual de vegetação (m²). O item remunera o fornecimento de caminhão basculante, a mão-de-obra necessária e ferramentas auxiliares para a execução dos serviços executados manualmente com auxílio de ferramental apropriado para a roçada, derrubada de árvores e arbustos, destocamento, fragmentação de galhos e troncos, empilhamento e transporte, abrangendo: a remoção de vegetação, árvores e arbustos com diâmetro do tronco até 5 cm, medidos na altura de 1,00 m do solo, capim. etc.; arrancamento e remoção de tocos, raízes e troncos; raspagem manual da camada de solo vegetal na espessura mínima de 15 cm; carga manual; e o transporte, interno na obra, num raio de 500m.
A18: 010006 | B18: Barracão em madeira, piso cimentado e cobertura em telhas de fibrocimento ondulada | C18: M² | D18: 0 | E18: 551.03 | F18: =D18*E18 -> 0 | G18: 3,3*3,3 - 10,89 | H18: Local a ser definido com a fiscalização
B19: Será medido pela área de projeção da cobertura de construção provisória executada, com croqui analisado e aprovado previamente pela fiscalização. (M²) O item remunera o fornecimento de materiais e mão-de-obra necessários para a execução de construção provisória em madeira destinada a escritório e/ou depósito de obra, constituída por: piso interno e calçada externa em concreto usinado, Fck 20 MPa; paredes, portas e janelas em chapa compensada plastificada de no mínimo 6 mm de espessura, e / ou compensado resinado com seladora impermeabilizante e aplicação de textura na pintura; janelas com vidro fantasia de 3 ou 4mm; porta com dobradiças de latão cromado e fechadura de embutir cromada e com miolo tipo Georges; estrutura, apoio para cobertura e contraventamentos em pontaletes e tábuas de Pinus ou Cedrinho e engradamento da cobertura de eucalípto imunizado, cobertura com telha em fibrocimento, perfil ondulado de no mínimo 5 mm de espessura; instalação elétrica e pintura acrílica, materiais acessórios para execução total da construção provisória, conforme norma regulamentadora. Devem obedecer a NR 18 (Áreas de vivência). Remunera também a manutenção durante todo o periodo da obra e a demobilização completa deste barracão.
C21: SUB-TOTAL = | F21: =SUM(F7:F20) -> 0
A22: 030000 | B22: TRABALHOS EM TERRA
A23: 030001 | B23: Aterro Compactado manual, com soquete | C23: M3 | D23: 0 | E23: 67.39 | F23: =D23*E23 -> 0 | G23: (31*1,5*2*0,05+18*2*0,05+(2,35+1,36)*1,36*0,25+3,89*1,36*0,44) - 10,04 | H23: Passeio lateral e rampa
B24: Será medido pelo volume de aterro compactado (m³). O item remunera o fornecimento de equipamentos e mão-de-obra necessários para execução dos serviços de aterro interno, com material existente ou importado, incluindo o apiloamento em camadas, de 20 cm, com maço de 30 kg e a disposição das sobras.
A26: 030002 | B26: Escavação manual de vala em solo de 1ª e 2ª categoria, profundidade em até 2,00m | C26: M3 | D26: 0 | E26: 67.39 | F26: =D26*E26 -> 0 | G26: (28*0,25*0,46*2+18*0,25*0,46*2+(18,6+3,02)*0,25*0,46*2+(4,46+2,25+2,41+2,25+2,41+0,2)*0,25*0,46+0,4*0,25*0,46*2+15,4*0,25*0,46*2+1,1*0,25*0,4*2+(3,75+1,66)*0,25*0,46+(2,58+3,74)*0,25*0,46+1,24*0,25*0,46+4,7*0,25*0,46+(2,11*2+0,18*3)*0,25*0,46+1,82*0,25*0,46+0,75*0,75*0,8*14+0,45*0,45*0,46*15) - 31,5 | H26: Baldrames,blocos e coroamento
B27: Será medido pelo volume escavado, considerando-se um acréscimo para cada lado, no plano horizontal, em relação às dimensões de cada peça, de 20 cm (m³). O item remunera o fornecimento da mão-de-obra necessária para a escavação manual em solo de 1ª e 2ª categorias em valas ou cavas até 2,00 m de profundidade.
A29: 030003 | B29: Escavação manual em campo aberto em solo exceto rocha com profundidade em até 2,00m | C29: M3 | D29: 0 | E29: 39.48 | F29: =D29*E29 -> 0 | G29: 3,14*1,3*1,3*1,7 - 9,02 | H29: Reservatório de água pluvial
B30: Será medido pelo volume real escavado (m³). O item remunera o fornecimento da mão-de-obra necessária para a escavação manual em solo, de primeira ou segunda categoria, em campo aberto.
A33: 030005 | B33: Reaterro manual de vala apiloado | C33: M3 | D33: 0 | E33: 67.39 | F33: =D33*E33 -> 0 | G33: (28*0,05*0,4*2+18*0,05*0,4*2+(18,6+3,02)*0,05*0,4*2+(4,46+2,25+2,41+2,25+2,41+0,2)*0,05*0,4+0,4*0,05*0,4*2+15,4*0,05*0,4*2+1,1*0,05*0,4*2+(3,75+1,66)*0,05*0,4+(2,58+3,74)*0,05*0,4+1,24*0,05*0,4+4,7*0,05*0,4+(2,11*2+0,18*3)*0,05*0,4+1,82*0,05*0,4+14*0,05*0,05*0,7+15*0,05*0,05*0,4) - 4,18 | H33: Baldrames,blocos e coroamento
B34: Será medido pelo volume de reaterro em valas, poços ou cavas executado (m³). O item remunera o fornecimento da mão-de-obra necessária para a execução dos serviços de reaterro manual apiloado, com material existente ou importado, sem controle de compactação.
A37: 030007 | B37: Escavação manual de tubulão à céu aberto | C37: M3 | D37: 0 | E37: 327 | F37: =D37*E37 -> 0 | G37: 3,14*0,7*0,7/4*2*14 - 10,77 | H37: Tubulão para pilares metálicos
B38: Será medido pelo volume escavado até a cota prevista (m³) O item remunera o fornecimento de mão de obra, ferramentas e equipamentos necessários para a execução dos serviços de escavação do tubulão a céu aberto. Remunera também a locação do tubulão, o alargamento da base, esgotamento caso seja encontrado quantidade de água que impeça a continuidade da escavação
C40: SUB-TOTAL = | F40: =SUM(F23:F39) -> 0
A41: 040000 | B41: SONDAGEM, FUNDAÇÕES, MUROS E CONTENÇÕES
A42: 040001 | B42: Armadura de aço, CA 50, corte e dobra no canteiro | C42: KG | D42: 96.4 | E42: 13.88 | F42: =D42*E42 -> 1338.032 | G42: 33,8*35 - 1086,60 | H42: Fundação
B43: Será medido pelo peso nominal das bitolas constantes no projeto de armadura (kg). O item remunera o fornecimento de aço CA-50 ( A ou B ) com fyk igual 500 MPa, dobramento, transporte e colocação de armaduras de qualquer bitola e qualquer comprimento; estão incluídos no item os serviços e materiais secundários como arame, espaçadores, perdas decorrentes de desbitolamento, cortes e pontas de transpasse para emendas.
A45: 040002 | B45: Fôrma de madeira para fundação, com tábuas e sarrafos, 3 aproveitamentos e desforma | C45: M2 | D45: 31.52 | E45: 60.61 | F45: =D45*E45 -> 1910.4272 | G45: (28*0,4*4+18*0,4*4+21,62*0,4*4+(3,75+1,66)*0,4*2+15,4*0,4*6+(3,74+2,58)*0,4*2+1,24*0,4*2+4,7*0,4*2+1,82*0,4*2+4,22*0,4*2+0,7*0,4*4*14+15*0,4*4)-157,88 | H45: Fundação
B46: Será medido pelo desenvolvimento das áreas em contato com o concreto, não se descontando áreas de interseção até 0,20 m² (m²). O item remunera o fornecimento dos materiais e a mão-de-obra para execução e instalação da forma, incluindo escoras, gravatas, desmoldante e desforma.
A48: 040003 | B48: Concreto armado para fundação (incluindo fornecimento, transporte, lançamento, forma e desforma) | C48: M3 | D48: 0 | E48: 2147.9 | F48: =D48*E48 -> 0 | G48: 3,14*1,3*1,3*0,08-0,42 | H48: Laje reservatório subterrâneo
B49: Será medido pelo volume calculado no projeto de formas, sendo que o volume da interseção dos diversos elementos estruturais deve ser computado uma só vez (m³). O item remunera o fornecimento de betoneira, pedra britada números 1 e 2, cimento, areia e a mão-de-obra necessária para o preparo do concreto, com resistência mínima à compressão de 20,0 MPa. Remunera também o transporte, lançamento e adensamento. Está também incluido e remunerado 70Kg por m³ de concreto de armadura considerando o fornecimento de aço CA-50 ( A ou B ) com fyk igual 500 MPa, dobramento, transporte e colocação de armaduras de qualquer bitola e qualquer comprimento; estão incluídos no item os serviços e materiais secundários como arame, espaçadores, perdas decorrentes de desbitolamento, cortes e pontas de traspasse para emendas e também 8m² de forma por m³ de concreto considerando o fornecimento dos materiais e a mão-de-obra para execução e instalação da forma, incluindo escoras, gravatas, desmoldante e desforma.
A51: 040004 | B51: Concreto estrutural virado no local,controle "A", consistência para vibração, brita 1, FCK=20 MPA e lançamento em fundação | C51: M³ | D51: 0 | E51: 691.42 | F51: =D51*E51 -> 0 | G51: (28*0,2*0,4*2+18*0,2*0,4*2+(18,6+3,02)*0,2*0,4*2+(4,46+2,25+2,41+2,25+2,41+0,2)*0,2*0,4+0,4*0,2*0,4*2+15,4*0,2*0,4*2+1,1*0,2*0,4*2+(3,75+1,66)*0,2*0,4+(2,58+3,74)*0,2*0,4+1,24*0,2*0,4+4,7*0,2*0,4+(2,11*2+0,18*3)*0,2*0,4+1,82*0,2*0,4+10,77+14*0,7*0,7*0,8+15*0,4*0,4*0,4)-33,80 | H51: Fundação
B52: Será medido pelo volume calculado no projeto de formas, sendo que o volume da interseção dos diversos elementos estruturais deve ser computado uma só vez (m³). O item remunera o fornecimento de betoneira, pedra britada número 1, cimento, areia e a mão-de-obra necessária para o preparo do concreto, com resistência mínima à compressão de 20,0 MPa. Remunera também o transporte, lançamento e adensamento.
A54: 040005 | B54: Lastro de concreto (contra-piso) não estrutural impermeabilizado, E=6 cm | C54: M2 | D54: =28*0.25*2+18*0.25*2+(18.6+3.02)*0.25*2+(4.46+2.25+2.41+2.25+2.41+0.2)*0.25+0.4*0.25*2+15.4*0.25*2+1.1*0.25*2+(3.75+1.66)*0.25+(2.58+3.74)*0.25+1.24*0.25+4.7*0.25+(2.11*2+0.18*3)*0.25+1.82*0.25+14*0.7*0.7+15*0.4*0.4+1.3*1.3*3.14 -> 66.3841 | E54: 58.52 | F54: =D54*E54 -> 3884.7975 | G54: 28*0,25*2+18*0,25*2+(18,6+3,02)*0,25*2+(4,46+2,25+2,41+2,25+2,41+0,2)*0,25+0,4*0,25*2+15,4*0,25*2+1,1*0,25*2+(3,75+1,66)*0,25+(2,58+3,74)*0,25+1,24*0,25+4,7*0,25+(2,11*2+0,18*3)*0,25+1,82*0,25+14*0,7*0,7+15*0,4*0,4+1,3*1,3*3,14 | H54: Fundação
B55: Será medido pela área onde será executado, na espessura mínima de 6cm (m²). O item remunera o fornecimento de cimento, areia, pedra britada nº 1, 2, e a mão-de-obra necessária para o apiloamento do terreno e execução do lastro.
A58: 040300 | B58: Sondagem a percurssão
A59: 040301 | B59: Mobilização e desmobilização por equipamentos de sondagem a percussão d= 2 1/2" | C59: UN | D59: 0 | E59: 693.08 | F59: =D59*E59 -> 0 | G59: 1,00 - 1,00 | H59: Mobilização
...

Sheet CFF
A1: CRONOGRAMA FÍSICO-FINANCEIRO
A2: ESCOLA: CENTRO MUNICIPAL DE EDUCAÇÃO INFANTIL DR. JOSÉ MONTEIRO DA CUNHA MAGALHÃES
A3: MUNICÍPIO: DISTRITO DE PEDRO LESSA, SERRO/MG | J3: ENDEREÇO: RUA GERALDO AUGUSTO DE ALMEIDA, S/N, DISTRITO DE PEDRO LESSA - SERRO/MG
A4: SERVIÇOS: CONSTRUÇÃO DE QUADRA POLIESPORTIVA
A5: ITEM | B5: DESCRIÇÃO | C5: VALOR | D5: VALOR + BDI | E5: % INC. | F5: 30 DIAS | H5: 60 DIAS | J5: 90 DIAS | L5: 120 DIAS | N5: 150 DIAS | P5: 180 DIAS | R5: 210 DIAS | T5: 240 DIAS | V5: 270 DIAS | X5: 300 DIAS | Z5: 330 DIAS
F6: % | G6: VALOR | H6: % | I6: VALOR | J6: % | K6: VALOR | L6: % | M6: VALOR | N6: % | O6: VALOR | P6: % | Q6: VALOR | R6: % | S6: VALOR | T6: % | U6: VALOR | V6: % | W6: VALOR | X6: % | Y6: VALOR | Z6: % | AA6: VALOR
A7: 1 | B7: ='MEMÓRIA DE CÁLCULO'!B6 -> INSTALAÇÃO DOS SERVIÇOS DE ENGENHARIA | C7: =ADITIVO!U21 -> 10198.27 | D7: =ADITIVO!L21*(1+ADITIVO!$J$447)+ADITIVO!R21*(1+ADITIVO!$P$447) -> 12531.635 | E7: =D7/$D$27 -> 0.017392031 | F7: 1 | G7: =D7*F7 -> 12531.635
A8: 3 | B8: ='MEMÓRIA DE CÁLCULO'!B22 -> TRABALHOS EM TERRA | C8: =ADITIVO!U40 -> 5731.9793 | D8: =ADITIVO!L40*(1+ADITIVO!$J$447)+ADITIVO!R40*(1+ADITIVO!$P$447) -> 7043.4561 | E8: =D8/$D$27 -> 0.0097752615 | F8: 0.05 | G8: =D8*F8 -> 352.17281 | H8: 0.65 | I8: =D8*H8 -> 4578.2465 | J8: 0.3 | K8: =D8*J8 -> 2113.0368
A9: 4 | B9: ='MEMÓRIA DE CÁLCULO'!B41 -> SONDAGEM, FUNDAÇÕES, MUROS E CONTENÇÕES | C9: =ADITIVO!U64 -> 47909.98 | D9: =ADITIVO!L64*(1+ADITIVO!$J$447)+ADITIVO!R64*(1+ADITIVO!$P$447) -> 58997.329 | E9: =D9/$D$27 -> 0.08187945 | F9: 0.07 | G9: =D9*F9 -> 4129.813 | H9: 0.3 | I9: =D9*H9 -> 17699.199 | J9: 0.63 | K9: =D9*J9 -> 37168.317
A10: 5 | B10: ='MEMÓRIA DE CÁLCULO'!B65 -> SUPERESTRUTURA | C10: =ADITIVO!U74 -> 31216.873 | D10: =ADITIVO!L74*(1+ADITIVO!$J$447)+ADITIVO!R74*(1+ADITIVO!$P$447) -> 38828.081 | E10: =D10/$D$27 -> 0.053887557 | L10: 0.15 | M10: =D10*L10 -> 5824.2122 | N10: 0.4 | O10: =D10*N10 -> 15531.233 | P10: 0.45 | Q10: =D10*P10 -> 17472.637
A11: 6 | B11: ='MEMÓRIA DE CÁLCULO'!B75 -> ALVENARIA | C11: =ADITIVO!U81 -> 13560.399 | D11: =ADITIVO!L81*(1+ADITIVO!$J$447)+ADITIVO!R81*(1+ADITIVO!$P$447) -> 16720.844 | E11: =D11/D27 -> 0.023206026 | J11: 0.02 | K11: =D11*J11 -> 334.41689 | L11: 0.58 | M11: =D11*L11 -> 9698.0898 | N11: 0.4 | O11: =D11*N11 -> 6688.3378
A12: 7 | B12: ='MEMÓRIA DE CÁLCULO'!B82 -> COBERTURA E FORRO | C12: =ADITIVO!U96 -> 10044.72 | D12: =ADITIVO!L96*(1+ADITIVO!$J$447)+ADITIVO!R96*(1+ADITIVO!$P$447) -> 12519.739 | E12: =D12/$D$27 -> 0.017375521 | R12: 0.5 | S12: =D12*R12 -> 6259.8695 | T12: 0.5 | U12: =D12*T12 -> 6259.8695
A13: 8 | B13: ='MEMÓRIA DE CÁLCULO'!B97 -> INSTALAÇÕES HIDRÁULICAS | C13: =ADITIVO!U172 -> 15095.53 | D13: =ADITIVO!L172*(1+ADITIVO!$J$447)+ADITIVO!R172*(1+ADITIVO!$P$447) -> 18815.069 | E13: =D13/$D$27 -> 0.026112495 | L13: 0.35 | M13: =D13*L13 -> 6585.274 | N13: 0.1 | O13: =D13*N13 -> 1881.5069 | P13: 0.1 | Q13: =D13*P13 -> 1881.5069 | R13: 0.2 | S13: =D13*R13 -> 3763.0137 | T13: 0.2 | U13: =D13*T13 -> 3763.0137 | V13: 0.05 | W13: =D13*V13 -> 940.75343
A14: 9 | B14: ='MEMÓRIA DE CÁLCULO'!B173 -> INSTALAÇÕES SANITÁRIAS | C14: =ADITIVO!U194 -> 12330.2 | D14: =ADITIVO!L194*(1+ADITIVO!$J$447)+ADITIVO!R194*(1+ADITIVO!$P$447) -> 15368.361 | E14: =D14/$D$27 -> 0.021328982 | L14: 0.1 | M14: =D14*L14 -> 1536.8361 | N14: 0.1 | O14: =D14*N14 -> 1536.8361 | P14: 0.1 | Q14: =D14*P14 -> 1536.8361 | R14: 0.35 | S14: =D14*R14 -> 5378.9264 | T14: 0.2 | U14: =D14*T14 -> 3073.6723 | V14: 0.05 | W14: =D14*V14 -> 768.41806 | X14: 0.1 | Y14: =D14*X14 -> 1536.8361
A15: 10 | B15: ='MEMÓRIA DE CÁLCULO'!B195 -> INSTALAÇÃO ELÉTRICA | C15: =ADITIVO!U283 -> 20173.56 | D15: =ADITIVO!L283*(1+ADITIVO!$J$447)+ADITIVO!R283*(1+ADITIVO!$P$447) -> 25144.325 | E15: =D15/$D$27 -> 0.034896555 | L15: 0.1 | M15: =D15*L15 -> 2514.4325 | N15: 0.1 | O15: =D15*N15 -> 2514.4325 | P15: 0.1 | Q15: =D15*P15 -> 2514.4325 | R15: 0.35 | S15: =D15*R15 -> 8800.5138 | T15: 0.2 | U15: =D15*T15 -> 5028.865 | V15: 0.05 | W15: =D15*V15 -> 1257.2163 | X15: 0.1 | Y15: =D15*X15 -> 2514.4325
A16: 12 | B16: ='MEMÓRIA DE CÁLCULO'!B284 -> ESQUADRIAS METÁLICAS | C16: =ADITIVO!U293 -> 5212.332 | D16: =ADITIVO!L293*(1+ADITIVO!$J$447)+ADITIVO!R293*(1+ADITIVO!$P$447) -> 6496.6506 | E16: =D16/$D$27 -> 0.0090163773 | T16: 0.35 | U16: =D16*T16 -> 2273.8277 | V16: 0.35 | W16: =D16*V16 -> 2273.8277 | X16: 0.3 | Y16: =D16*X16 -> 1948.9952
A17: 13 | B17: ='MEMÓRIA DE CÁLCULO'!B294 -> FERRAGENS | C17: =ADITIVO!U311 -> 12516.635 | D17: =ADITIVO!L311*(1+ADITIVO!$J$447)+ADITIVO!R311*(1+ADITIVO!$P$447) -> 15600.734 | E17: =D17/$D$27 -> 0.021651481 | T17: 0.4 | U17: =D17*T17 -> 6240.2936 | V17: 0.6 | W17: =D17*V17 -> 9360.4405
A18: 14 | B18: ='MEMÓRIA DE CÁLCULO'!B312 -> REVESTIMENTO | C18: =ADITIVO!U328 -> 24285.477 | D18: =ADITIVO!L328*(1+ADITIVO!$J$447)+ADITIVO!R328*(1+ADITIVO!$P$447) -> 30266.45 | E18: =D18/$D$27 -> 0.042005296 | P18: 0.35 | Q18: =D18*P18 -> 10593.258 | R18: 0.35 | S18: =D18*R18 -> 10593.258 | T18: 0.3 | U18: =D18*T18 -> 9079.935
A19: 15 | B19: ='MEMÓRIA DE CÁLCULO'!B329 -> PISOS E RODAPÉS | C19: =ADITIVO!U347 -> 26333.282 | D19: =ADITIVO!L347*(1+ADITIVO!$J$447)+ADITIVO!R347*(1+ADITIVO!$P$447) -> 32821.803 | E19: =D19/$D$27 -> 0.045551743 | R19: 0.35 | S19: =D19*R19 -> 11487.631 | T19: 0.35 | U19: =D19*T19 -> 11487.631 | V19: 0.3 | W19: =D19*V19 -> 9846.5409
A20: 17 | B20: ='MEMÓRIA DE CÁLCULO'!B348 -> PINTURA | C20: =ADITIVO!U358 -> 12500.976 | D20: =ADITIVO!L358*(1+ADITIVO!$J$447)+ADITIVO!R358*(1+ADITIVO!$P$447) -> 15581.216 | E20: =D20/$D$27 -> 0.021624393 | V20: 0.1 | W20: =D20*V20 -> 1558.1216 | X20: 0.65 | Y20: =D20*X20 -> 10127.791 | Z20: 0.25 | AA20: =D20*Z20 -> 3895.3041
A21: 18 | B21: ='MEMÓRIA DE CÁLCULO'!B359 -> BANCADAS, PRATELEIRAS E DIVISÓRIAS | C21: =ADITIVO!U368 -> 120.404 | D21: =ADITIVO!L368*(1+ADITIVO!$J$447)+ADITIVO!R368*(1+ADITIVO!$P$447) -> 150.07155 | E21: =D21/$D$27 -> 0.00020827681 | P21: 0.5 | Q21: =D21*P21 -> 75.035773 | R21: 0.5 | S21: =D21*R21 -> 75.035773
A22: 20 | B22: ='MEMÓRIA DE CÁLCULO'!B369 -> QUADRA | C22: =ADITIVO!U411 -> 312213.63 | D22: =ADITIVO!L411*(1+ADITIVO!$J$447)+ADITIVO!R411*(1+ADITIVO!$P$447) -> 387593.85 | E22: =D22/$D$27 -> 0.53792217 | J22: 0.01 | K22: =D22*J22 -> 3875.9385 | L22: 0.07 | M22: =D22*L22 -> 27131.569 | N22: 0.25 | O22: =D22*N22 -> 96898.462 | P22: 0.25 | Q22: =D22*P22 -> 96898.462 | R22: 0.2 | S22: =D22*R22 -> 77518.77 | T22: 0.1 | U22: =D22*T22 -> 38759.385 | V22: 0.08 | W22: =D22*V22 -> 31007.508 | X22: 0.04 | Y22: =D22*X22 -> 15503.754
A23: 23 | B23: LIMPEZA | C23: =ADITIVO!U419 -> 6503.12 | D23: =ADITIVO!L419*(1+ADITIVO!$J$447)+ADITIVO!R419*(1+ADITIVO!$P$447) -> 8105.4888 | E23: =D23/$D$27 -> 0.011249204 | L23: 0.06 | M23: =D23*L23 -> 486.32933 | N23: 0.06 | O23: =D23*N23 -> 486.32933 | P23: 0.06 | Q23: =D23*P23 -> 486.32933 | R23: 0.06 | S23: =D23*R23 -> 486.32933 | T23: 0.06 | U23: =D23*T23 -> 486.32933 | V23: 0.06 | W23: =D23*V23 -> 486.32933 | X23: 0.06 | Y23: =D23*X23 -> 486.32933 | Z23: 0.58 | AA23: =D23*Z23 -> 4701.1835
A24: 24 | B24: LEVANTAMENTOS, E PROJETOS | C24: =ADITIVO!U440 -> 14179.51 | D24: =ADITIVO!L440*(1+ADITIVO!$J$446)+ADITIVO!R440*(1+ADITIVO!$P$446) -> 17782.168 | E24: =D24/$D$27 -> 0.024678984 | F24: 0.5 | G24: =D24*F24 -> 8891.0841 | H24: 0.5 | I24: =D24*H24 -> 8891.0841
A25: 26 | B25: OUTROS | C25: =ADITIVO!U444 -> 137.7 | D25: =ADITIVO!L444*(1+ADITIVO!$J$447)+ADITIVO!R444*(1+ADITIVO!$P$447) -> 171.62928 | E25: =D25/$D$27 -> 0.00023819572 | V25: 1 | W25: =D25*V25 -> 171.62928
A26: TOTAL MENSAL | F26: =G26/D27 -> 0.035951847 | G26: =SUM(G7:G25) -> 25904.704 | H26: =I26/D27 -> 0.043257247 | I26: =SUM(I7:I25) -> 31168.529 | J26: =K26/D27 -> 0.060359974 | K26: =SUM(K7:K25) -> 43491.709 | L26: =M26/D27 -> 0.07463406 | M26: =SUM(M7:M25) -> 53776.743 | N26: =O26/D27 -> 0.17422673 | O26: =SUM(O7:O25) -> 125537.14 | P26: =Q26/D27 -> 0.18244469 | Q26: =SUM(Q7:Q25) -> 131458.5 | R26: =S26/D27 -> 0.17259769 | S26: =SUM(S7:S25) -> 124363.35 | T26: =U26/D27 -> 0.11998356 | U26: =SUM(U7:U25) -> 86452.822 | V26: =W26/D27 -> 0.080038406 | W26: =SUM(W7:W25) -> 57670.785 | X26: =Y26/D27 -> 0.044575161 | Y26: =SUM(Y7:Y25) -> 32118.138 | Z26: =AA26/D27 -> 0.011930636 | AA26: =SUM(AA7:AA25) -> 8596.4876
A27: TOTAL ACUMULADO | C27: =SUM(C7:C25) -> 580264.57 | D27: =SUM(D7:D25) -> 720538.9 | E27: =SUM(E7:E26) -> 1 | F27: =G27/D27 -> 0.035951847 | G27: =G26 -> 25904.704 | H27: =I27/D27 -> 0.079209094 | I27: =G27+I26 -> 57073.234 | J27: =K27/D27 -> 0.13956907 | K27: =I27+K26 -> 100564.94 | L27: =M27/D27 -> 0.21420313 | M27: =K27+M26 -> 154341.69 | N27: =L27+N26 -> 0.38842986 | O27: =M27+O26 -> 279878.82 | P27: =N27+P26 -> 0.57087455 | Q27: =O27+Q26 -> 411337.32 | R27: =P27+R26 -> 0.74347224 | S27: =Q27+S26 -> 535700.67 | T27: =R27+T26 -> 0.8634558 | ... Y27: =W27+Y26 -> 711942.41 | Z27: =AA27/D27 -> 1 | AA27: =Y27+AA26 -> 720538.9
A28: NOME DO TÉCNICO RESPONSÁVEL PELA ELABORAÇÃO DA PLANILHA: LÚCIO MENDES | V28: CREA/CAU/CFT: 92.287/D | Y28: DATA DE ELABORAÇÃO: 05/02/2025
A29: NOME DO REPRESENTANTE LEGAL: EPAMINONDAS PIRES DE MIRANDA

Sheet CFF - CORRIGIDO
A1: CRONOGRAMA FÍSICO-FINANCEIRO
A2: ESCOLA: CENTRO MUNICIPAL DE EDUCAÇÃO INFANTIL DR. JOSÉ MONTEIRO DA CUNHA MAGALHÃES
A3: MUNICÍPIO: DISTRITO DE PEDRO LESSA, SERRO/MG | H3: ENDEREÇO: RUA GERALDO AUGUSTO DE ALMEIDA, S/N, DISTRITO DE PEDRO LESSA - SERRO/MG
A4: SERVIÇOS: CONSTRUÇÃO DE QUADRA POLIESPORTIVA
A5: ITEM | B5: DESCRIÇÃO | C5: A EXECUTAR | F5: EXECUTADO | H5: A EXECUTAR
C6: VALOR | D6: VALOR + BDI | E6: % INC. | F6: % | G6: VALOR | H6: 30 DIAS | J6: 60 DIAS | L6: 90 DIAS | N6: 120 DIAS | P6: 150 DIAS | R6: 180 DIAS | T6: 210 DIAS | V6: 240 DIAS | X6: 270 DIAS
H7: % | I7: VALOR | J7: % | K7: VALOR | L7: % | M7: VALOR | N7: % | O7: VALOR | P7: % | Q7: VALOR | R7: % | S7: VALOR | T7: % | U7: VALOR | V7: % | W7: VALOR | X7: % | Y7: VALOR
A8: 1 | B8: ='MEMÓRIA DE CÁLCULO'!B6 -> INSTALAÇÃO DOS SERVIÇOS DE ENGENHARIA | C8: =ADITIVO!R21 -> 0 | D8: =C8*(1+ADITIVO!$P$447) -> 0 | E8: =D8/$D$28 -> 0 | F8: =RESUMO!I3 -> 1 | G8: =RESUMO!F3 -> 12531.635
A9: 3 | B9: ='MEMÓRIA DE CÁLCULO'!B22 -> TRABALHOS EM TERRA | C9: =ADITIVO!R40 -> 0 | D9: =C9*(1+ADITIVO!$P$447) -> 0 | E9: =D9/$D$28 -> 0 | F9: =RESUMO!I4 -> 1 | G9: =RESUMO!F4 -> 7043.4561
A10: 4 | B10: ='MEMÓRIA DE CÁLCULO'!B41 -> SONDAGEM, FUNDAÇÕES, MUROS E CONTENÇÕES | C10: =ADITIVO!R64 -> 7133.2567 | D10: =C10*(1+ADITIVO!$P$447) -> 8890.8912 | E10: =D10/$D$28 -> 0.017252871 | F10: =RESUMO!I5 -> 0.84930011 | G10: =RESUMO!F5 -> 50106.437 | H10: =1-F10 -> 0.15069989 | I10: =RESUMO!H5*H10 -> 8890.8912
A11: 5 | B11: ='MEMÓRIA DE CÁLCULO'!B65 -> SUPERESTRUTURA | C11: =ADITIVO!R74 -> 26635.699 | D11: =C11*(1+ADITIVO!$P$447) -> 33198.735 | E11: =D11/$D$28 -> 0.064422504 | F11: =RESUMO!I6 -> 0.14498132 | G11: =RESUMO!F6 -> 5629.3466 | J11: 0.15 | K11: =RESUMO!H6*J11 -> 5824.2122 | L11: 0.4 | M11: =RESUMO!H6*L11 -> 15531.233 | N11: =1-F11-J11-L11 -> 0.30501868 | O11: =RESUMO!H6*N11 -> 11843.29
A12: 6 | B12: ='MEMÓRIA DE CÁLCULO'!B75 -> ALVENARIA | C12: =ADITIVO!R81 -> 3285.6051 | D12: =C12*(1+ADITIVO!$P$447) -> 4095.1782 | E12: =D12/D28 -> 0.0079467376 | F12: =RESUMO!I7 -> 0.75508544 | G12: =RESUMO!F7 -> 12625.666 | H12: 0.02 | I12: =RESUMO!H7*H12 -> 334.41689 | J12: =1-F12-H12 -> 0.22491456 | K12: =RESUMO!H7*J12 -> 3760.7613
A13: 7 | B13: ='MEMÓRIA DE CÁLCULO'!B82 -> COBERTURA E FORRO | C13: =ADITIVO!R96 -> 10044.72 | D13: =C13*(1+ADITIVO!$P$447) -> 12519.739 | E13: =D13/$D$28 -> 0.024294689 | F13: - | G13: - | P13: 0.5 | Q13: =RESUMO!H8*P13 -> 6259.8695 | R13: 0.5 | S13: =RESUMO!H8*R13 -> 6259.8695
A14: 8 | B14: ='MEMÓRIA DE CÁLCULO'!B97 -> INSTALAÇÕES HIDRÁULICAS | C14: =ADITIVO!R172 -> 15095.53 | D14: =C14*(1+ADITIVO!$P$447) -> 18815.069 | E14: =D14/$D$28 -> 0.036510844 | F14: - | G14: - | J14: 0.35 | K14: =RESUMO!H9*J14 -> 6585.274 | L14: 0.1 | M14: =RESUMO!H9*L14 -> 1881.5069 | N14: 0.1 | O14: =RESUMO!H9*N14 -> 1881.5069 | P14: 0.2 | Q14: =RESUMO!H9*P14 -> 3763.0137 | R14: 0.2 | S14: =RESUMO!H9*R14 -> 3763.0137 | T14: 0.05 | U14: =RESUMO!H9*T14 -> 940.75343
A15: 9 | B15: ='MEMÓRIA DE CÁLCULO'!B173 -> INSTALAÇÕES SANITÁRIAS | C15: =ADITIVO!R194 -> 12330.2 | D15: =C15*(1+ADITIVO!$P$447) -> 15368.361 | E15: =D15/$D$28 -> 0.029822471 | F15: - | G15: - | J15: 0.1 | K15: =RESUMO!H10*J15 -> 1536.8361 | L15: 0.1 | M15: =RESUMO!H10*L15 -> 1536.8361 | N15: 0.1 | O15: =RESUMO!H10*N15 -> 1536.8361 | P15: 0.35 | Q15: =RESUMO!H10*P15 -> 5378.9264 | R15: 0.2 | S15: =RESUMO!H10*R15 -> 3073.6723 | T15: 0.05 | U15: =RESUMO!H10*T15 -> 768.41806 | V15: 0.1 | W15: =RESUMO!H10*V15 -> 1536.8361
A16: 10 | B16: ='MEMÓRIA DE CÁLCULO'!B195 -> INSTALAÇÃO ELÉTRICA | C16: =ADITIVO!R283 -> 20173.56 | D16: =C16*(1+ADITIVO!$P$447) -> 25144.325 | E16: =D16/$D$28 -> 0.048792835 | F16: - | G16: - | J16: 0.1 | K16: =RESUMO!H11*J16 -> 2514.4325 | L16: 0.1 | M16: =RESUMO!H11*L16 -> 2514.4325 | N16: 0.1 | O16: =RESUMO!H11*N16 -> 2514.4325 | P16: 0.35 | Q16: =RESUMO!H11*P16 -> 8800.5138 | R16: 0.2 | S16: =RESUMO!H11*R16 -> 5028.865 | T16: 0.05 | U16: =RESUMO!H11*T16 -> 1257.2163 | V16: 0.1 | W16: =RESUMO!H11*V16 -> 2514.4325
A17: 12 | B17: ='MEMÓRIA DE CÁLCULO'!B284 -> ESQUADRIAS METÁLICAS | C17: =ADITIVO!R293 -> 5212.332 | D17: =C17*(1+ADITIVO!$P$447) -> 6496.6506 | E17: =D17/$D$28 -> 0.012606821 | F17: - | G17: - | R17: 0.35 | S17: =RESUMO!H12*R17 -> 2273.8277 | T17: 0.35 | U17: =RESUMO!H12*T17 -> 2273.8277 | V17: 0.3 | W17: =RESUMO!H12*V17 -> 1948.9952
A18: 13 | B18: ='MEMÓRIA DE CÁLCULO'!B294 -> FERRAGENS | C18: =ADITIVO!R311 -> 12516.635 | D18: =C18*(1+ADITIVO!$P$447) -> 15600.734 | E18: =D18/$D$28 -> 0.030273393 | F18: - | G18: - | R18: 0.4 | S18: =RESUMO!H13*R18 -> 6240.2936 | T18: 0.6 | U18: =RESUMO!H13*T18 -> 9360.4405
A19: 14 | B19: ='MEMÓRIA DE CÁLCULO'!B312 -> REVESTIMENTO | C19: =ADITIVO!R328 -> 24116.799 | D19: =C19*(1+ADITIVO!$P$447) -> 30059.178 | E19: =D19/$D$28 -> 0.05833016 | F19: =RESUMO!I14 -> 0.0068482434 | G19: =RESUMO!F14 -> 207.27202 | N19: =1-R19-P19-F19 -> 0.34315176 | O19: =RESUMO!H14*N19 -> 10385.985 | P19: 0.35 | Q19: =RESUMO!H14*P19 -> 10593.258 | R19: 0.3 | S19: =RESUMO!H14*R19 -> 9079.935
A20: 15 | B20: ='MEMÓRIA DE CÁLCULO'!B329 -> PISOS E RODAPÉS | C20: =ADITIVO!R347 -> 26333.282 | D20: =C20*(1+ADITIVO!$P$447) -> 32821.803 | E20: =D20/$D$28 -> 0.063691064 | F20: - | G20: - | P20: 0.35 | Q20: =RESUMO!H15*P20 -> 11487.631 | R20: 0.35 | S20: =RESUMO!H15*R20 -> 11487.631 | T20: 0.3 | U20: =RESUMO!H15*T20 -> 9846.5409
A21: 17 | B21: ='MEMÓRIA DE CÁLCULO'!B348 -> PINTURA | C21: =ADITIVO!R358 -> 12500.976 | D21: =C21*(1+ADITIVO!$P$447) -> 15581.216 | E21: =D21/$D$28 -> 0.030235519 | F21: - | G21: - | T21: 0.1 | U21: =RESUMO!H16*T21 -> 1558.1216 | V21: 0.65 | W21: =RESUMO!H16*V21 -> 10127.791 | X21: 0.25 | Y21: =RESUMO!H16*X21 -> 3895.3041
A22: 18 | B22: ='MEMÓRIA DE CÁLCULO'!B359 -> BANCADAS, PRATELEIRAS E DIVISÓRIAS | C22: =ADITIVO!R368 -> 120.404 | D22: =C22*(1+ADITIVO!$P$447) -> 150.07155 | E22: =D22/$D$28 -> 0.00029121546 | F22: - | G22: - | N22: 0.5 | O22: =RESUMO!H17*N22 -> 75.035773 | P22: 0.5 | Q22: =RESUMO!H17*P22 -> 75.035773
A23: 20 | B23: ='MEMÓRIA DE CÁLCULO'!B369 -> QUADRA | C23: =ADITIVO!R411 -> 224190.03 | D23: =C23*(1+ADITIVO!$P$447) -> 279430.45 | E23: =D23/$D$28 -> 0.54223781 | F23: =RESUMO!I18 -> 0.27906377 | G23: =RESUMO!F18 -> 108163.4 | H23: 0.01 | I23: =RESUMO!H18*H23 -> 3875.9385 | J23: 0.07 | K23: =RESUMO!H18*J23 -> 27131.569 | L23: =1-F23-H23-J23-N23-P23-R23-T23 -> 0.22093623 | M23: =RESUMO!H18*L23 -> 85633.525 | N23: 0.2 | O23: =RESUMO!H18*N23 -> 77518.77 | P23: 0.1 | Q23: =RESUMO!H18*P23 -> 38759.385 | R23: 0.08 | S23: =RESUMO!H18*R23 -> 31007.508 | T23: 0.04 | U23: =RESUMO!H18*T23 -> 15503.754
A24: 23 | B24: LIMPEZA | C24: =ADITIVO!R419 -> 6503.12 | D24: =C24*(1+ADITIVO!$P$447) -> 8105.4888 | E24: =D24/$D$28 -> 0.015728789 | F24: - | G24: - | J24: 0.06 | K24: =RESUMO!H19*J24 -> 486.32933 | L24: 0.06 | M24: =RESUMO!H19*L24 -> 486.32933 | N24: 0.06 | O24: =RESUMO!H19*N24 -> 486.32933 | P24: 0.06 | Q24: =RESUMO!H19*P24 -> 486.32933 | R24: 0.06 | S24: =RESUMO!H19*R24 -> 486.32933 | T24: 0.06 | U24: =RESUMO!H19*T24 -> 486.32933 | V24: 0.06 | W24: =RESUMO!H19*V24 -> 486.32933 | X24: 0.58 | Y24: =RESUMO!H19*X24 -> 4701.1835
A25: 24 | B25: LEVANTAMENTOS, E PROJETOS | C25: =ADITIVO!R440 -> 7052.75 | D25: =C25*(1+ADITIVO!$P$446) -> 8878.707 | E25: =D25/$D$28 -> 0.017229227 | F25: =RESUMO!I20 -> 0.50069604 | G25: =RESUMO!F20 -> 8903.4613 | H25: =1-F25 -> 0.49930396 | I25: =RESUMO!H20*H25 -> 8878.707
A26: 26 | B26: OUTROS | C26: =ADITIVO!R444 -> 137.7 | D26: =C26*(1+ADITIVO!$P$447) -> 171.62928 | E26: =D26/$D$28 -> 0.00033304848 | F26: - | G26: - | T26: 1 | U26: =RESUMO!H21*T26 -> 171.62928
A27: TOTAL MENSAL | F27: =G27/D28 -> 0.39821353 | G27: =SUM(G8:G26) -> 205210.67 | H27: =I27/D28 -> 0.042652338 | I27: =SUM(I8:I26) -> 21979.954 | J27: =K27/D28 -> 0.092832902 | K27: =SUM(K8:K26) -> 47839.415 | L27: =M27/D28 -> 0.20876765 | M27: =SUM(M8:M26) -> 107583.86 | N27: =O27/D28 -> 0.20616411 | O27: =SUM(O8:O26) -> 106242.19 | P27: =Q27/D28 -> 0.16611541 | Q27: =SUM(Q8:Q26) -> 85603.962 | R27: =S27/D28 -> 0.15272004 | S27: =SUM(S8:S26) -> 78700.945 | T27: =U27/D28 -> 0.08182558 | U27: =SUM(U8:U26) -> 42167.031 | V27: =W27/D28 -> 0.032240391 | W27: =SUM(W8:W26) -> 16614.384 | X27: =Y27/D28 -> 0.016681577 | Y27: =SUM(Y8:Y26) -> 8596.4876
A28: TOTAL ACUMULADO | C28: =SUM(C8:C26) -> 413382.6 | D28: =SUM(D8:D26) -> 515328.23 | E28: =SUM(E8:E27) -> 1 | F28: =G28/D28 -> 0.39821353 | G28: =G27 -> 205210.67 | H28: =I28/D28 -> 0.042652338 | I28: =I27 -> 21979.954 | J28: =H28+J27 -> 0.13548524 | K28: =I28+K27 -> 69819.368 | L28: =J28+L27 -> 0.34425289 | M28: =K28+M27 -> 177403.23 | N28: =L28+N27 -> 0.550417 | O28: =M28+O27 -> 283645.42 | P28: =N28+P27 -> 0.71653242 | Q28: =O28+Q27 -> 369249.38 | ... W28: =U28+W27 -> 506731.74 | X28: =Y28/D28 -> 1 | Y28: =W28+Y27 -> 515328.23
A29: NOME DO TÉCNICO RESPONSÁVEL PELA ELABORAÇÃO DA PLANILHA: LÚCIO MENDES | T29: CREA/CAU/CFT: 92.287/D | W29: DATA DE ELABORAÇÃO: 18/02/2025
A30: NOME DO REPRESENTANTE LEGAL: EPAMINONDAS PIRES DE MIRANDA

Sheet RESUMO
A1: ITEM | B1: MACROETAPA | C1: VALOR | D1: DURAÇÃO EM DIAS | E1: DESEMBOLSO DA ATIVIDADE | F1: EXECUTADO | G1: A EXECUTAR (ATUALIZADO) | H1: EXECUTADO + A EXECUTAR | I1: % EXECUTADO
A3: 1 | B3: =CFF!B7 -> INSTALAÇÃO DOS SERVIÇOS DE ENGENHARIA | C3: ='MEMÓRIA DE CÁLCULO'!F17 -> 0 | D3: 30 | E3: =CFF!D7 -> 12531.635 | F3: =ADITIVO!L21*(1+ADITIVO!$J$447) -> 12531.635 | G3: =ADITIVO!R21*(1+ADITIVO!$P$447) -> 0 | H3: =F3+G3 -> 12531.635 | I3: =F3/H3 -> 1
A4: 3 | B4: =CFF!B8 -> TRABALHOS EM TERRA | C4: ='MEMÓRIA DE CÁLCULO'!F36 -> 0 | D4: 90 | E4: =CFF!D8 -> 7043.4561 | F4: =ADITIVO!L40*(1+ADITIVO!$J$447) -> 7043.4561 | G4: =ADITIVO!R40*(1+ADITIVO!$P$447) -> 0 | H4: =F4+G4 -> 7043.4561 | I4: =F4/H4 -> 1
A5: 4 | B5: =CFF!B9 -> SONDAGEM, FUNDAÇÕES, MUROS E CONTENÇÕES | C5: ='MEMÓRIA DE CÁLCULO'!F60 -> 0 | D5: 90 | E5: =CFF!D9 -> 58997.329 | F5: =ADITIVO!L64*(1+ADITIVO!$J$447) -> 50106.437 | G5: =ADITIVO!R64*(1+ADITIVO!$P$447) -> 8890.8912 | H5: =F5+G5 -> 58997.329 | I5: =F5/H5 -> 0.84930011
A6: 5 | B6: =CFF!B10 -> SUPERESTRUTURA | C6: ='MEMÓRIA DE CÁLCULO'!F70 -> 0 | D6: 90 | E6: =CFF!D10 -> 38828.081 | F6: =ADITIVO!L74*(1+ADITIVO!$J$447) -> 5629.3466 | G6: =ADITIVO!R74*(1+ADITIVO!$P$447) -> 33198.735 | H6: =F6+G6 -> 38828.081 | I6: =F6/H6 -> 0.14498132
A7: 6 | B7: =CFF!B11 -> ALVENARIA | C7: ='MEMÓRIA DE CÁLCULO'!F77 -> 0 | D7: 90 | E7: =CFF!D11 -> 16720.844 | F7: =ADITIVO!L81*(1+ADITIVO!$J$447) -> 12625.666 | G7: =ADITIVO!R81*(1+ADITIVO!$P$447) -> 4095.1782 | H7: =F7+G7 -> 16720.844 | I7: =F7/H7 -> 0.75508544
A8: 7 | B8: =CFF!B12 -> COBERTURA E FORRO | C8: ='MEMÓRIA DE CÁLCULO'!F92 -> 0 | D8: 60 | E8: =CFF!D12 -> 12519.739 | F8: =ADITIVO!L96*(1+ADITIVO!$J$447) -> 0 | G8: =ADITIVO!R96*(1+ADITIVO!$P$447) -> 12519.739 | H8: =F8+G8 -> 12519.739 | I8: =F8/H8 -> 0
A9: 8 | B9: =CFF!B13 -> INSTALAÇÕES HIDRÁULICAS | C9: ='MEMÓRIA DE CÁLCULO'!F180 -> 0 | D9: 180 | E9: =CFF!D13 -> 18815.069 | F9: =ADITIVO!L172*(1+ADITIVO!$J$447) -> 0 | G9: =ADITIVO!R172*(1+ADITIVO!$P$447) -> 18815.069 | H9: =F9+G9 -> 18815.069 | I9: =F9/H9 -> 0
A10: 9 | B10: =CFF!B14 -> INSTALAÇÕES SANITÁRIAS | C10: ='MEMÓRIA DE CÁLCULO'!F202 -> 564.69 | D10: 210 | E10: =CFF!D14 -> 15368.361 | F10: =ADITIVO!L194*(1+ADITIVO!$J$447) -> 0 | G10: =ADITIVO!R194*(1+ADITIVO!$P$447) -> 15368.361 | H10: =F10+G10 -> 15368.361 | I10: =F10/H10 -> 0
A11: 10 | B11: =CFF!B15 -> INSTALAÇÃO ELÉTRICA | C11: ='MEMÓRIA DE CÁLCULO'!F296 -> 0 | D11: 210 | E11: =CFF!D15 -> 25144.325 | F11: =ADITIVO!L283*(1+ADITIVO!$J$447) -> 0 | G11: =ADITIVO!R283*(1+ADITIVO!$P$447) -> 25144.325 | H11: =F11+G11 -> 25144.325 | I11: =F11/H11 -> 0
A12: 12 | B12: =CFF!B16 -> ESQUADRIAS METÁLICAS | C12: ='MEMÓRIA DE CÁLCULO'!F306 -> 0 | D12: 90 | E12: =CFF!D16 -> 6496.6506 | F12: =ADITIVO!L293*(1+ADITIVO!$J$447) -> 0 | G12: =ADITIVO!R293*(1+ADITIVO!$P$447) -> 6496.6506 | H12: =F12+G12 -> 6496.6506 | I12: =F12/H12 -> 0
A13: 13 | B13: =CFF!B17 -> FERRAGENS | C13: ='MEMÓRIA DE CÁLCULO'!F324 -> 0 | D13: 60 | E13: =CFF!D17 -> 15600.734 | F13: =ADITIVO!L311*(1+ADITIVO!$J$447) -> 0 | G13: =ADITIVO!R311*(1+ADITIVO!$P$447) -> 15600.734 | H13: =F13+G13 -> 15600.734 | I13: =F13/H13 -> 0
A14: 14 | B14: =CFF!B18 -> REVESTIMENTO | C14: ='MEMÓRIA DE CÁLCULO'!F341 -> 0 | D14: 90 | E14: =CFF!D18 -> 30266.45 | F14: =ADITIVO!L328*(1+ADITIVO!$J$447) -> 207.27202 | G14: =ADITIVO!R328*(1+ADITIVO!$P$447) -> 30059.178 | H14: =F14+G14 -> 30266.45 | I14: =F14/H14 -> 0.0068482434
A15: 15 | B15: =CFF!B19 -> PISOS E RODAPÉS | C15: ='MEMÓRIA DE CÁLCULO'!F360 -> 0 | D15: 90 | E15: =CFF!D19 -> 32821.803 | F15: =ADITIVO!L347*(1+ADITIVO!$J$447) -> 0 | G15: =ADITIVO!R347*(1+ADITIVO!$P$447) -> 32821.803 | H15: =F15+G15 -> 32821.803 | I15: =F15/H15 -> 0
A16: 17 | B16: =CFF!B20 -> PINTURA | C16: ='MEMÓRIA DE CÁLCULO'!F371 -> 0 | D16: 90 | E16: =CFF!D20 -> 15581.216 | F16: =ADITIVO!L358*(1+ADITIVO!$J$447) -> 0 | G16: =ADITIVO!R358*(1+ADITIVO!$P$447) -> 15581.216 | H16: =F16+G16 -> 15581.216 | I16: =F16/H16 -> 0
A17: 18 | B17: =CFF!B21 -> BANCADAS, PRATELEIRAS E DIVISÓRIAS | C17: ='MEMÓRIA DE CÁLCULO'!F389 -> 0 | D17: 60 | E17: =CFF!D21 -> 150.07155 | F17: =ADITIVO!L368*(1+ADITIVO!$J$447) -> 0 | G17: =ADITIVO!R368*(1+ADITIVO!$P$447) -> 150.07155 | H17: =F17+G17 -> 150.07155 | I17: =F17/H17 -> 0
A18: 20 | B18: =CFF!B22 -> QUADRA | C18: ='MEMÓRIA DE CÁLCULO'!F432 -> 0 | D18: 240 | E18: =CFF!D22 -> 387593.85 | F18: =ADITIVO!L411*(1+ADITIVO!$J$447) -> 108163.4 | G18: =ADITIVO!R411*(1+ADITIVO!$P$447) -> 279430.45 | H18: =F18+G18 -> 387593.85 | I18: =F18/H18 -> 0.27906377
A19: 23 | B19: =CFF!B23 -> LIMPEZA | C19: ='MEMÓRIA DE CÁLCULO'!F441 -> 0 | D19: 240 | E19: =CFF!D23 -> 8105.4888 | F19: =ADITIVO!L419*(1+ADITIVO!$J$447) -> 0 | G19: =ADITIVO!R419*(1+ADITIVO!$P$447) -> 8105.4888 | H19: =F19+G19 -> 8105.4888 | I19: =F19/H19 -> 0
A20: 24 | B20: LEVANTAMENTOS, E PROJETOS | C20: ='MEMÓRIA DE CÁLCULO'!F466 -> 0 | D20: 60 | E20: =CFF!D24 -> 17782.168 | F20: =ADITIVO!L440*(1+ADITIVO!$J$446) -> 8903.4613 | G20: =ADITIVO!R440*(1+ADITIVO!$P$446) -> 8878.707 | H20: =F20+G20 -> 17782.168 | I20: =F20/H20 -> 0.50069604
A21: 26 | B21: OUTROS | C21: ='MEMÓRIA DE CÁLCULO'!F470 -> 0 | D21: 30 | E21: =CFF!D25 -> 171.62928 | F21: =ADITIVO!L444*(1+ADITIVO!$J$447) -> 0 | G21: =ADITIVO!R444*(1+ADITIVO!$P$447) -> 171.62928 | H21: =F21+G21 -> 171.62928 | I21: =F21/H21 -> 0
A22: TOTAL | C22: =SUM(C3:C21) -> 564.69 | E22: =SUM(E3:E21) -> 720538.9 | F22: =SUM(F3:F21) -> 205210.67 | G22: =SUM(G3:G21) -> 515328.23 | H22: =F22+G22 -> 720538.9 | I22: =F22/H22 -> 0.28480166
