Workbook
Name \0: #REF!
Name \0: #REF!
Name \0: #REF!
Name \0: #REF!
Name \0: #REF!
Name \a: #REF!
Name \a: #REF!
Name \a: #REF!
Name \a: #REF!
Name \a: #REF!
Name \c: [1]PLMUSEU!#REF!
Name \c: [1]PLMUSEU!#REF!
Name \c: [1]PLMUSEU!#REF!
Name \c: [1]PLMUSEU!#REF!
Name \c: [1]PLMUSEU!#REF!
Name \d: '[2]Bm 8'!#REF!
Name \d: '[2]Bm 8'!#REF!
Name \d: '[2]Bm 8'!#REF!
Name \d: '[2]Bm 8'!#REF!
Name \d: '[2]Bm 8'!#REF!
Name \f: #N/A
Name \I: #REF!
Name \I: #REF!
Name \I: #REF!
Name \I: #REF!
Name \I: #REF!
Name \p: #N/A
Name \q: '[2]Bm 8'!#REF!
Name \q: '[2]Bm 8'!#REF!
Name \q: '[2]Bm 8'!#REF!
Name \q: '[2]Bm 8'!#REF!
Name \q: '[2]Bm 8'!#REF!
Name \S: [3]COMPOS1!#REF!
Name \S: [3]COMPOS1!#REF!
Name \S: [3]COMPOS1!#REF!
Name \S: [3]COMPOS1!#REF!
Name \S: [3]COMPOS1!#REF!
Name \x: [1]PLMUSEU!#REF!
Name \x: [1]PLMUSEU!#REF!
Name \x: [1]PLMUSEU!#REF!
Name \x: [1]PLMUSEU!#REF!
Name \x: [1]PLMUSEU!#REF!
Name \z: [1]PLMUSEU!#REF!
Name \z: [1]PLMUSEU!#REF!
Name \z: [1]PLMUSEU!#REF!
Name \z: [1]PLMUSEU!#REF!
Name \z: [1]PLMUSEU!#REF!
Name ______BOR1: '[2]Bm 8'!#REF!
Name ______BOR1: '[2]Bm 8'!#REF!
Name ______BOR1: '[2]Bm 8'!#REF!
Name ______BOR1: '[2]Bm 8'!#REF!
Name ______BOR1: '[2]Bm 8'!#REF!
Name ____Ele200502: #REF!
Name ____Ele200502: #REF!
Name ____Ele200502: #REF!
Name ____Ele200502: #REF!
Name ____Ele200502: #REF!
Name ____Ele200609: #REF!
Name ____Ele200609: #REF!
Name ____Ele200609: #REF!

Sheet Memória de calculo
A1: PLANILHA ORÇAMENTÁRIA
A2: OBRA: | B2: UNIDADE BÁSICA DE SAÚDE - TRÊS BARRAS DA ESTRADA REAL
A3: ENDEREÇO: RUA SÃO GERALDO S/N
A4: ITEM | B4: CÓDIGO | C4: REFERÊNCIA | D4: ETAPA | E4: UNIDADE | F4: QUANT. | G4: MEMÓRIA DE CÁLCULO
A6: 1 | D6: ADMINISTRAÇÃO LOCAL
A7: 1.1 | B7: 4813 | C7: Sinapi | D7: =VLOOKUP(B7,'REF. CUSTO'!A:D,2,) -> PLACA DE OBRA (PARA CONSTRUCAO CIVIL) EM CHAPA GALVANIZADA *N. 22*, ADESIVADA, DE *2,4 X 1,2* M (SEM POSTES PARA FIXACAO) | E7: =VLOOKUP(B7,'REF. CUSTO'!A:D,3,) -> M2 | F7: 4.5
A8: 1.3 | B8: ED-17989 | C8: SETOP | D8: =VLOOKUP(B8,'REF. CUSTO'!A:D,2,) -> LOCAÇÃO DE OBRA COM GABARITO DE TÁBUAS CORRIDAS PONTALETADAS A CADA 2,00M, REAPROVEITAMENTO (2X), INCLUSIVE ACOMPANHAMENTO DE EQUIPE TOPOGRÁFICA PARA MARCAÇÃO DE PONTO TOPOGRÁFICO | E8: =VLOOKUP(B8,'REF. CUSTO'!A:D,3,) -> m | F8: 48.25 | G8: 10,80+11,60+3,85+1,75+6,95+13,30 ==> Total = 48,25
A9: 2 | D9: TERRAPLENAGEM FUNDAÇÃO, PILARES E VIGAS
A10: 2.1 | B10: ED-51107 | C10: SETOP | D10: =VLOOKUP(B10,'REF. CUSTO'!A:D,2,) -> ESCAVAÇÃO MANUAL DE VALA COM PROFUNDIDADE MENOR OU IGUAL A 1,5M, INCLUSIVE DESCARGA LATERAL | E10: =VLOOKUP(B10,'REF. CUSTO'!A:D,3,) -> m3 | F10: 16.01 | G10: vigas (( 0,30 x 0,45 x 66,45 ) = 8,97 )) sapatas total 11 ( 0,80 X 0,80 X 1,00 ) x 11 = 7,04 ==> 8,97+7,04 - Total = 16,01
A11: 2.2 | B11: ED-51093 | C11: SETOP | D11: =VLOOKUP(B11,'REF. CUSTO'!A:D,2,) -> APILOAMENTO MANUAL EM FUNDO DE VALA COM SOQUETE, EXCLUSIVE ESCAVAÇÃO | E11: =VLOOKUP(B11,'REF. CUSTO'!A:D,3,) -> m2 | F11: 26.97 | G11: vigas 0,30 x 66,45 = 19,93 / sapatas total 11 ( 0,80 x 0,80 x 11 = 7,04) / total 19,93+7,04 ==> Total = 26,97
A12: 2.3 | B12: ED-51120 | C12: SETOP | D12: =VLOOKUP(B12,'REF. CUSTO'!A:D,2,) -> REATERRO MANUAL DE VALA, INCLUSIVE ESPALHAMENTO E COMPACTAÇÃO MANUAL COM SOQUETE | E12: =VLOOKUP(B12,'REF. CUSTO'!A:D,3,) -> m3 | F12: 12.37 | G12: vigas 0,80 x 0,80 x 0,60 x 11 = 4,22 / piso (12,02 x 2) + 9,25 + 22,78 + 8,84 + 3,74 + 4,40 + (1,50 x 2 x 2 ) + 2,70 = 81,75 x 0,10 = 8,15 ==> Total = 4,22 + 8,15 = 12,37
A13: 2.4 | B13: ED-8571 | C13: SETOP | D13: =VLOOKUP(B13,'REF. CUSTO'!A:D,2,) -> FÔRMA E DESFORMA PARA VIGA-CINTA/BLOCO COM COMPENSADO PLASTIFICADO, ESP. 12MM, REAPROVEITAMENTO (3X) (FUNDAÇÃO) | E13: =VLOOKUP(B13,'REF. CUSTO'!A:D,3,) -> m2 | F13: 39.87 | G13: 9,60 + 11,35 + 4,00 + 3,85 + 11,35 + ( 3,70 x 4,00 ) + 4,65+ 2,20 + 4,65 = 66,45 - / Total = 66,45 x 0,30x 2= 39,87
A14: 2.5 | B14: ED-49813 | C14: SETOP | D14: =VLOOKUP(B14,'REF. CUSTO'!A:D,2,) -> LASTRO DE BRITA COM PEDRA BRITADA NÚMERO 2 E 3, INCLUSIVE ADENSAMENTO E APILOAMENTO MANUAL | E14: =VLOOKUP(B14,'REF. CUSTO'!A:D,3,) -> m3 | F14: 1.35 | G14: sapata - 0,80 x 0,80 x 0,05 x 11 = 0,35 / viga total - 66,45 x 0,30 x 0,05 = 0,99 / total = 0,35 + 0,99 = 1,35
A15: 2.6 | B15: ED-50600 | C15: SETOP | D15: =VLOOKUP(B15,'REF. CUSTO'!A:D,2,) -> APLICAÇÃO DE LONA PRETA, ESP. 150 MICRAS, INCLUSIVE FORNECIMENTO | E15: =VLOOKUP(B15,'REF. CUSTO'!A:D,3,) -> m2 | F15: 81.75 | G15: piso (12,02 x 2) + 9,25 + 22,78 + 8,84 + 3,74 + 4,40 + (1,50 x 2 x 2 ) + 2,70 - / Total = 81,75
A16: 2.7 | B16: 92803 | C16: Sinapi | D16: =VLOOKUP(B16,'REF. CUSTO'!A:D,2,) -> #N/A | E16: =VLOOKUP(B16,'REF. CUSTO'!A:D,3,) -> #N/A | F16: 490.62 | G16: vigas e cinta ( 66,45 x 2 x 4,00 ) = 531,60 / ( pilares 11 x 4,00 x 4 = 176 ) / (sapatas 8x1,00x11 = 88,00) => 531,60 + 176 + 88 = 795,60 => 795,60÷12 = 66,30 x 7,40 Total = 490,62
A17: 2.8 | B17: 92800 | C17: Sinapi | D17: =VLOOKUP(B17,'REF. CUSTO'!A:D,2,) -> #N/A | E17: =VLOOKUP(B17,'REF. CUSTO'!A:D,3,) -> #N/A | F17: 280.51 | G17: viga e cinta 66,45÷0,20 = 332,25 => 332,25 x 1,20 = 398,70÷12 = 33,22 x 7,40 = 246,64 / pilares - 4 x 11 = 44,00 - 44÷0,20 = 220÷12 = 18,33 => 18,33x1,848 = 33,87 - 246,64 + 33,87 - Total = 280,52
A18: 2.9 | B18: ='REF. CUSTO'!#REF! -> #REF! | C18: SETOP | D18: =VLOOKUP(B18,'REF. CUSTO'!A:D,2,) -> #REF! | E18: =VLOOKUP(B18,'REF. CUSTO'!A:D,3,) -> #REF! | F18: 15.4 | G18: sapata - 0,80 x 0,80 x 0,30 x 11 = 2,11 / viga - 66,45 x 0,30 x 0,20 = 3,98 / piso 81,75 x 0,10 = 8,17 / pilares 11 x 0,20 x 0,20 x 2,60 = 1,14 - 2,11 + 3,98 + 8,17 + 1,14 = Total = 15,4
A19: 2.10 | B19: ED-51105 | C19: SETOP | D19: =VLOOKUP(B19,'REF. CUSTO'!A:D,2,) -> ESCAVAÇÃO MECÂNICA EM MATERIAL DE 1ª CATEGORIA, INCLUSIVE CARGA EM CAMINHÃO, EXCLUSIVE TRANSPORTE E DESCARGA | E19: =VLOOKUP(B19,'REF. CUSTO'!A:D,3,) -> m3 | F19: 153.16 | G19: (23,00 x 14,00 x 0,40) + (( 8,70 x 14,00 )÷2 x 0,40 ) => 128,80 + 24,36 - Total = 153,16
A20: 2.11 | B20: 97918 | C20: SINAPI | D20: =VLOOKUP(B20,'REF. CUSTO'!A:D,2,) -> #N/A | E20: =VLOOKUP(B20,'REF. CUSTO'!A:D,3,) -> #N/A | F20: 1015.45 | G20: 153,16 x 1700kg = 260,37T => 260,37X3km = 781,11 => 781,11 x 1,3 - Total= 1015,45
A21: 3 | D21: ALVENARIAS E LAJE
A22: 3.2 | B22: ED-48222 | C22: SETOP | D22: =VLOOKUP(B22,'REF. CUSTO'!A:D,2,) -> ALVENARIA DE VEDAÇÃO COM TIJOLO CERÂMICO LAMINADO, 18 FUROS, ESP. 11CM, COM ACABAMENTO APARENTE, INCLUSIVE ARGAMASSA PARA ASSENTAMENTO | E22: =VLOOKUP(B22,'REF. CUSTO'!A:D,3,) -> m2 | F22: 167.79 | G22: 9,60 + 11,35 + 2,00 + 2,00 + 3,85 + 11,35 = 40,15 ( 3,70 x 4 )+( 4,65 x 4 ) + 3,85 = 37,25 40,15 + 37,25 = 77,40 77,40 x 2,60 = 201,24 201,24 - 33,45( vãos portas e janelas) ==> Total = 167,79
A23: 3.3 | B23: ED-50727 | C23: SETOP | D23: =VLOOKUP(B23,'REF. CUSTO'!A:D,2,) -> CHAPISCO COM ARGAMASSA, TRAÇO 1:3 (CIMENTO E AREIA), ESP. 5MM, APLICADO EM ALVENARIA/ESTRUTURA DE CONCRETO COM COLHER, INCLUSIVE ARGAMASSA COM PREPARO MECANIZADO | E23: =VLOOKUP(B23,'REF. CUSTO'!A:D,3,) -> m2 | F23: 335.58 | G23: 9,60 + 11,35 + 2,00 + 2,00 + 3,85 + 11,35 = 40,15 ( 3,70 x 4 )+( 4,65 x 4 ) + 3,85 = 37,25 40,15 + 37,25 = 77,40 77,40 x 2,60 = 201,24 201,24 - 33,45( vãos portas e janelas) = 167,79 167,79 x 2 ( dois lados ) ==> Total = 335,58
B24: 87531 | C24: SETOP | D24: =VLOOKUP(B24,'REF. CUSTO'!A:D,2,) -> #N/A | E24: =VLOOKUP(B24,'REF. CUSTO'!A:D,3,) -> #N/A | F24: 335.58 | G24: 9,60 + 11,35 + 2,00 + 2,00 + 3,85 + 11,35 = 40,15 ( 3,70 x 4 )+( 4,65 x 4 ) + 3,85 = 37,25 40,15 + 37,25 = 77,40 77,40 x 2,60 = 201,24 201,24 - 33,45( vãos portas e janelas) = 167,79 167,79 x 2 ( dois lados ) ==> Total = 335,58
A25: 3.4 | B25: ED-50761 | C25: SETOP | D25: =VLOOKUP(B25,'REF. CUSTO'!A:D,2,) -> REBOCO COM ARGAMASSA, TRAÇO 1:2:8 (CIMENTO, CAL E AREIA), ESP. 20MM, APLICAÇÃO MANUAL, INCLUSIVE ARGAMASSA COM PREPARO MECANIZADO, EXCLUSIVE CHAPISCO | E25: =VLOOKUP(B25,'REF. CUSTO'!A:D,3,) -> m2 | F25: 264.22 | G25: banheiro 2x (( 1,50 x 2 ) + ( 2,00 x 2,00 ) x 1,60)) ==> 7,00 x 1,60 = 11,20 11,20 x 2 = 22,40 fraldario ( 1,35 x 2 ) + ( 2,00 x 2,00 ) x 1,60 ==> 6,70 x 1,60 = 10,72 cozinha ( 3,85 x 2 ) + (2,30 x 2 ) x1,60 ==> 12,30 x 1,60 = 19,68 banheio ( 2,20 x 2 ) + ( 2,00 x 2 ) x 1,60 ==> 8,40 x 1,60 = 13,44 depósito ( 1,70 x 2 ) + ( 2,20 x 2 ) x1,60 ==> 7,80 x 1,60 = 12,48 soma - 22,40 + 10,72 + 19,68 + 13,44 + 12,48 = 78,72 vãos de portas = 7,36 78,72 - 7,36 = 71,36 área total a rebocar menos área total de emboço 335,58 - 71,36 ==> Total = 264,22
A26: 3.5 | B26: ='REF. CUSTO'!#REF! -> #REF! | C26: Sinapi | D26: =VLOOKUP(B26,'REF. CUSTO'!A:D,2,) -> #REF! | E26: =VLOOKUP(B26,'REF. CUSTO'!A:D,3,) -> #REF! | F26: 32.06 | G26: P1- 1,50 x 2,10 - 1,50 x 0,20 = 0,30 x 2 + 1,50 = 2,10 x 1 = 2,10 P2- 0,80 x 2,10 - 0,80 x 0,20 = 0,16 x 2 + 0,80 = 1,12 x 3 = 3,36 P3- 0,80 x 2,10 - 0,80 x 0,20 = 0,16 x 2 + 0,80 = 1,12 x 4 = 4,48 P4- 0,70 x 2,10 - 0,70 x 0,20 = 0,14 x 2 + 0,70 = 0,98 x 2 = 1,96 J1- 1,20 x 1,20 - 1,20 x 0,20 = 0,24 x 2 +1,20 = 1,68 x 10 = 16,80 J2- 0,60 x 0,50 - 0,60 x 0,20 = 0,12 x 2 + 0,60 = 0,84 x 4 = 3,36 => total = 32,06
A27: 3.6 | B27: 93194 | C27: Sinapi | D27: =VLOOKUP(B27,'REF. CUSTO'!A:D,2,) -> #N/A | E27: =VLOOKUP(B27,'REF. CUSTO'!A:D,3,) -> #N/A | F27: 20.16 | G27: J1- 1,20 x 1,20 - 1,20 x 0,20 = 0,24 x 2 + 1,20 = 1,68 x 10 = 16,80 J2- 0,60 x 0,50 - 0,60 x 0,20 = 0,12 x 2 + 0,60 = 0,84 x 4 = 3,36 => Total = 20,16
A28: 3.7 | B28: 93205 | C28: Sinapi | D28: =VLOOKUP(B28,'REF. CUSTO'!A:D,2,) -> #N/A | E28: =VLOOKUP(B28,'REF. CUSTO'!A:D,3,) -> #N/A | F28: 77.4 | G28: 9,60 + 11,35 + 2,00 + 2,00 + 3,85 + 11,35 = 40,15 ( 3,70 x 4 )+( 4,65 x 4 ) + 3,85 = 37,25 40,15 + 37,25 = Total - 77,40
A29: 3.8 | B29: 101964 | C29: =C28 -> Sinapi | D29: =VLOOKUP(B29,'REF. CUSTO'!A:D,2,) -> #N/A | E29: =VLOOKUP(B29,'REF. CUSTO'!A:D,3,) -> #N/A | F29: 93.14 | G29: 8,80 x 9,60 + 1,75 x 4,95 = => 84,48 + 8,66 - Total = 93,14
A30: 4 | D30: COBERTURA
A31: 4.1 | B31: ED-48407 | C31: SETOP | D31: =VLOOKUP(B31,'REF. CUSTO'!A:D,2,) -> ENGRADAMENTO EM MADEIRA PARAJU OU EQUIVALENTE, PARA TELHAS CERÂMICAS OU DE CONCRETO, EXCLUSIVE TELHAS | E31: =VLOOKUP(B31,'REF. CUSTO'!A:D,3,) -> m2 | F31: 114.29 | G31: ( 10,60 x 9,80 ) + ( 1,75 x 5,95 ) 103,88 + 10,41 = Total - 114,29
A32: 4.2 | B32: ED-48420 | C32: SETOP | D32: =VLOOKUP(B32,'REF. CUSTO'!A:D,2,) -> COBERTURA EM TELHA CERÂMICA, TIPO PLAN, INCLUSIVE FIXAÇÃO, EXCLUSIVE ENGRADAMENTO E MANTA ISOLANTE/TÉRMICA | E32: =VLOOKUP(B32,'REF. CUSTO'!A:D,3,) -> m2 | F32: 114.29 | G32: ( 10,60 x 9,80 ) + ( 1,75 x 5,95 ) 103,88 + 10,41 = Total - 114,29
A33: 4.3 | B33: ED-48406 | C33: SETOP | D33: =VLOOKUP(B33,'REF. CUSTO'!A:D,2,) -> EMBOÇAMENTO DE TELHA CERÂMICA COM ARGAMASSA, TRAÇO 1:2:9 (CIMENTO, CAL E AREIA), COM PREPARO MECANIZADO, EXCLUSIVE TELHA | E33: =VLOOKUP(B33,'REF. CUSTO'!A:D,3,) -> m | F33: 125.8 | G33: espigão / agua furtada ( 6,80 x 3 ) + 2,75 + ( 4,10 x 3 ) + 1,75 20,40 + 2,75 + 12,30 + 1,75 = 37,20 beiral / testeira 10,60 + 9,80 + 12,35 + 5,95 + 1,75 + 3,85 =44,30 x 2 = 88,60 total : 37,20 + 88,60 = Total - 125,80
A34: 4.4 | B34: ED-50661 | C34: SETOP | D34: =VLOOKUP(B34,'REF. CUSTO'!A:D,2,) -> CALHA EM CHAPA GALVANIZADA, ESP. 0,5MM (GSG-26), COM DESENVOLVIMENTO DE 33CM, INCLUSIVE IÇAMENTO MANUAL VERTICAL | E34: =VLOOKUP(B34,'REF. CUSTO'!A:D,3,) -> m | F34: 44.3 | G34: beiral / testeira 10,60 + 9,80 + 12,35 + 5,95 + 1,75 + 3,85 = Total - 44,30
A35: 4.5 | B35: ED-50685 | D35: =VLOOKUP(B35,'REF. CUSTO'!A:D,2,) -> RUFO E CONTRARRUFO EM CHAPA GALVANIZADA, ESP. 0,5MM (GSG-26), COM DESENVOLVIMENTO DE 33CM, INCLUSIVE IÇAMENTO MANUAL VERTICAL | E35: =VLOOKUP(B35,'REF. CUSTO'!A:D,3,) -> m | F35: 4.1 | G35: agua furtada = 4,10
A36: 5 | D36: ESQUADRIAS
A37: 5.1 | B37: 90844 | C37: Sinapi | D37: =VLOOKUP(B37,'REF. CUSTO'!A:D,2,) -> #N/A | E37: =VLOOKUP(B37,'REF. CUSTO'!A:D,3,) -> #N/A | F37: 1 | G37: Conforme projeto
A38: 5.2 | B38: 90843 | C38: Sinapi | D38: =VLOOKUP(B38,'REF. CUSTO'!A:D,2,) -> #N/A | E38: =VLOOKUP(B38,'REF. CUSTO'!A:D,3,) -> #N/A | F38: 9 | G38: Conforme projeto
A39: 5.3 | B39: ED-49591 | C39: SETOP | D39: =VLOOKUP(B39,'REF. CUSTO'!A:D,2,) -> MARCO DE MADEIRA, DIMENSÃO (80X210)CM, LARGURA DE 14CM, ACABAMENTO NATURAL PARA PINTURA/VERNIZ, INCLUSIVE ASSENTAMENTO, EXCLUSIVE FOLHA DE PORTA, FERRAGENS E PINTURA/VERNIZ | E39: =VLOOKUP(B39,'REF. CUSTO'!A:D,3,) -> un | F39: 10 | G39: Conforme projeto
A40: 5.4 | B40: ED-49584 | C40: SETOP | D40: =VLOOKUP(B40,'REF. CUSTO'!A:D,2,) -> FOLHA DE PORTA EM MADEIRA, LARGURA MENOR OU IGUAL A 60CM, ALTURA MENOR OU IGUAL A 180CM, COM ACABAMENTO NATURAL PARA PINTURA/VERNIZ, TIPO PRANCHETA/SARRAFEADA, INCLUSIVE ASSENTAMENTO, EXCLUSIVE MARCO, FERRAGENS E PINTURA/VERNIZ | E40: =VLOOKUP(B40,'REF. CUSTO'!A:D,3,) -> un | F40: 2 | G40: Conforme projeto
A41: 5.5 | B41: 100665 | C41: Sinapi | D41: =VLOOKUP(B41,'REF. CUSTO'!A:D,2,) -> #N/A | E41: =VLOOKUP(B41,'REF. CUSTO'!A:D,3,) -> #N/A | F41: 14.4 | G41: J1- 1,20 x 1,20 - 1,44 x 10 ( total de janelas) = Total 14,40
...

Sheet PLANILHA 
D4: PLANILHA DE SERVIÇOS
D5: EMPRESA :
D6: OBRA: REFORMA DA UBS MACHADINHO | F6: Base Sinapi: 11-2025 | H6: DESONERADO | I6: BDI MAT.: | J6: NA
D7: ENDEREÇO: PRAÇA ALOISIO MIRANDA SN -BAIRRO MACHADINHO - SERRO MG | F7: Base SEINFRA: 10-2025 | I7: BDI SERV.: | J7: ='BDI SERVIÇOS'!B22/100 -> 0.28135561
B8: ITEM | C8: CÓDIGO | D8: REFERÊNCIA | E8: REFORMA UBS MACHADINHO | F8: UNIDADE | G8: R$ UNIT. | H8: R$ UNIT. C/ BDI | I8: QUANT. | J8: R$ TOTAL | K8: PESO
B9: 1 | E9: SERVIÇOS PRELIMINARES | J9: =SUM(J10,J12) -> 4527.9263 | K9: =J9/$J$176 -> 0.016878447
B10: 1.2 | E10: PLACA DE OBRA | J10: =SUM(J11) -> 1511.4102 | K10: =J10/$J$176 -> 0.0056339822
B11: 1.2.1 | C11: ED-16660 | D11: SEINFRA | E11: =VLOOKUP(C11,'REF. CUSTO'!A:D,2,) -> FORNECIMENTO E COLOCAÇÃO DE PLACA DE OBRA EM CHAPA GALVANIZADA #26, ESP. 0,45 MM, PLOTADA COM ADESIVO VINÍLICO, AFIXADA COM REBITES 4,8X40 MM, EM ESTRUTURA METÁLICA DE METALON 20X20 MM, ESP. 1,25 MM, INCLUSIVE SUPORTE EM EUCALIPTO AUTOCLAVADO PINTADO COM TINTA PVA DUAS (2) DEMÃOS | F11: =VLOOKUP(C11,'REF. CUSTO'!A:D,3,) -> m2 | G11: =VLOOKUP(C11,'REF. CUSTO'!A:D,4,) -> 262.12 | H11: =G11*(1+($J$7)) -> 335.86893 | I11: =1.5*3 -> 4.5 | J11: =H11*I11 -> 1511.4102 | K11: =J11/$J$176 -> 0.0056339822
B12: 1.3.1 | E12: ANDAIMES | J12: =SUM(J13:J14) -> 3016.5161 | K12: =J12/$J$176 -> 0.011244464
B13: 1.4 | C13: ED-9076 | D13: SEINFRA | E13: =VLOOKUP(C13,'REF. CUSTO'!A:D,2,) -> FORNECIMENTO DE ANDAIME METÁLICO TUBULAR TIPO TORRE (LOCAÇÃO), INCLUSIVE RODÍZIOS, EXCLUSIVE MONTAGEM E DESMONTAGEM | F13: =VLOOKUP(C13,'REF. CUSTO'!A:D,3,) -> mxmês | G13: =VLOOKUP(C13,'REF. CUSTO'!A:D,4,) -> 22 | H13: =G13*(1+($J$7)) -> 28.189823 | I13: =24*4 -> 96 | J13: =H13*I13 -> 2706.223 | K13: =J13/$J$176 -> 0.010087806
B14: 1.5 | C14: ED-9077 | D14: SEINFRA | E14: =VLOOKUP(C14,'REF. CUSTO'!A:D,2,) -> MONTAGEM E DESMONTAGEM DE ANDAIME METÁLICO TUBULAR TIPO TORRE, EXCLUSIVE FORNECIMENTO DO ANDAIME | F14: =VLOOKUP(C14,'REF. CUSTO'!A:D,3,) -> m | G14: =VLOOKUP(C14,'REF. CUSTO'!A:D,4,) -> 10.09 | H14: =G14*(1+($J$7)) -> 12.928878 | I14: =3*8 -> 24 | J14: =H14*I14 -> 310.29307 | K14: =J14/$J$176 -> 0.0011566586
B15: 2 | E15: ADMINISTRAÇÃO | J15: =SUM(J16:J17) -> 26267.534 | K15: =J15/$J$176 -> 0.09791572
B16: 2.1 | C16: 90776 | D16: SEINFRA | E16: =VLOOKUP(C16,'REF. CUSTO'!A:D,2,) -> ENCARREGADO GERAL COM ENCARGOS COMPLEMENTARES | F16: =VLOOKUP(C16,'REF. CUSTO'!A:D,3,) -> H | G16: =VLOOKUP(C16,'REF. CUSTO'!A:D,4,) -> 65.38 | H16: =G16*(1+($J$7)) -> 83.77503 | I16: ='MEMORIA DE CALCULO'!G9 -> 200 | J16: =H16*I16 -> 16755.006 | K16: =J16/$J$176 -> 0.062456509 | L16: 50 horas mês | M16: 4 meses de obra
B17: 2.2 | C17: 90778 | D17: SINAPI | E17: =VLOOKUP(C17,'REF. CUSTO'!A:D,2,) -> ENGENHEIRO CIVIL DE OBRA PLENO COM ENCARGOS COMPLEMENTARES | F17: =VLOOKUP(C17,'REF. CUSTO'!A:D,3,) -> H | G17: =VLOOKUP(C17,'REF. CUSTO'!A:D,4,) -> 123.73 | H17: =G17*(1+($J$7)) -> 158.54213 | I17: ='MEMORIA DE CALCULO'!G13 -> 60 | J17: =H17*I17 -> 9512.5278 | K17: =J17/$J$176 -> 0.03545921 | L17: 15 horas mês | M17: 4 meses de obra
B18: N I V E L T É R R E O - R U A 00 | K18: =J18/$J$176 -> 0
B19: 3 | E19: REMOÇÃO E INSTALAÇÃO DE ESQUADRIAS | J19: =J20+J22+J27 -> 39593.106 | K19: =J19/$J$176 -> 0.14758856
B20: 3.1 | E20: REMOÇÃO DE ESQUADRIAS | J20: =J21 -> 500.96596 | K20: =J20/$J$176 -> 0.0018674172
B21: 3.1.1 | C21: 97645 | D21: SINAPI | E21: =VLOOKUP(C21,'REF. CUSTO'!A:D,2,) -> REMOÇÃO DE JANELAS, DE FORMA MANUAL, SEM REAPROVEITAMENTO. AF_09/2023 | F21: =VLOOKUP(C21,'REF. CUSTO'!A:D,3,) -> M2 | G21: =VLOOKUP(C21,'REF. CUSTO'!A:D,4,) -> 24.62 | H21: =G21*(1+($J$7)) -> 31.546975 | I21: ='MEMORIA DE CALCULO'!G21 -> 15.88 | J21: =H21*I21 -> 500.96596 | K21: =J21/$J$176 -> 0.0018674172
B22: 3.2 | E22: INSTALAÇÃO DE ESQUADRIAS | J22: =SUM(J23:J26) -> 20272.581 | K22: =J22/$J$176 -> 0.075568737
B23: 3.2.1 | C23: 100667 | D23: SINAPI | E23: =VLOOKUP(C23,'REF. CUSTO'!A:D,2,) -> JANELA DE MADEIRA IMBUIA/CEDRO ARANA/CEDRO ROSAOU EQUIVALENTE, CAIXA DO BATENTE/ MARCO 10 CM, COM DUAS FOLHAS DE ABRIR TIPO VENEZIANAS E 2 FOLHAS GUILHOTINAS PARA VIDRO (VIDROS NÃO INCLUSOS), COM GUARNIÇÃO/ ALIZAR E FERRAGENS, FIXAÇÃO COM PARAFUSOS E ESPUMA EXPANSIVA, EXCLUSIVE CONTRAMARCO - FORNECIMENTO E INSTALAÇÃO. AF_11/2024 | F23: =VLOOKUP(C23,'REF. CUSTO'!A:D,3,) -> M2 | G23: =VLOOKUP(C23,'REF. CUSTO'!A:D,4,) -> 1091.37 | H23: =G23*(1+($J$7)) -> 1398.4331 | I23: ='MEMORIA DE CALCULO'!G27 -> 11 | J23: =H23*I23 -> 15382.764 | K23: =J23/$J$176 -> 0.057341295
B24: 3.2.2 | C24: 10490 | D24: SINAPI | E24: =VLOOKUP(C24,'REF. CUSTO'!A:D,2,) -> VIDRO LISO INCOLOR 2 A 3 MM - SEM COLOCACAO | F24: =VLOOKUP(C24,'REF. CUSTO'!A:D,3,) -> M2 | G24: =VLOOKUP(C24,'REF. CUSTO'!A:D,4,) -> 91 | H24: =G24*(1+($J$7)) -> 116.60336 | I24: ='MEMORIA DE CALCULO'!G34 -> 19.78 | J24: =H24*I24 -> 2306.4145 | K24: =J24/$J$176 -> 0.0085974662
B25: 3.2.3 | C25: 10498 | D25: SINAPI | E25: =VLOOKUP(C25,'REF. CUSTO'!A:D,2,) -> MASSA PARA VIDRO | F25: =VLOOKUP(C25,'REF. CUSTO'!A:D,3,) -> KG | G25: =VLOOKUP(C25,'REF. CUSTO'!A:D,4,) -> 6.62 | H25: =G25*(1+($J$7)) -> 8.4825741 | I25: ='MEMORIA DE CALCULO'!G40 -> 25.4 | J25: =H25*I25 -> 215.45738 | K25: =J25/$J$176 -> 0.000803146
B26: 3.2.4 | C26: 88325 | D26: SINAPI | E26: =VLOOKUP(C26,'REF. CUSTO'!A:D,2,) -> VIDRACEIRO COM ENCARGOS COMPLEMENTARES | F26: =VLOOKUP(C26,'REF. CUSTO'!A:D,3,) -> H | G26: =VLOOKUP(C26,'REF. CUSTO'!A:D,4,) -> 23.1 | H26: =G26*(1+($J$7)) -> 29.599315 | I26: 80 | J26: =H26*I26 -> 2367.9452 | K26: =J26/$J$176 -> 0.00882683
B27: 3.3 | E27: INSTALAÇÃO DAS PORTAS INTERNAS | J27: =SUM(J28:J35) -> 18819.56 | K27: =J27/$J$176 -> 0.070152407
B28: 3.3.1 | C28: 100678 | D28: SINAPI | E28: =VLOOKUP(C28,'REF. CUSTO'!A:D,2,) -> KIT DE PORTA DE MADEIRA PARA VERNIZ, SEMI-OCA (LEVE OU MÉDIA), PADRÃO MÉDIO, 60X210CM, ESPESSURA DE 3,5CM, ITENS INCLUSOS: DOBRADIÇAS, MONTAGEM E INSTALAÇÃO DE BATENTE, FECHADURA COM EXECUÇÃO DO FURO - FORNECIMENTO E INSTALAÇÃO. AF_10/2025 | F28: =VLOOKUP(C28,'REF. CUSTO'!A:D,3,) -> UN | G28: =VLOOKUP(C28,'REF. CUSTO'!A:D,4,) -> 1086.8 | H28: =G28*(1+($J$7)) -> 1392.5773 | I28: ='MEMORIA DE CALCULO'!F48 -> 1 | J28: =H28*I28 -> 1392.5773 | K28: =J28/$J$176 -> 0.0051910167
B29: 3.3.2 | C29: 100680 | D29: SINAPI | E29: =VLOOKUP(C29,'REF. CUSTO'!A:D,2,) -> KIT DE PORTA DE MADEIRA PARA VERNIZ, SEMI-OCA (LEVE OU MÉDIA), PADRÃO MÉDIO, 70X210CM, ESPESSURA DE 3,5CM, ITENS INCLUSOS: DOBRADIÇAS, MONTAGEM E INSTALAÇÃO DE BATENTE, FECHADURA COM EXECUÇÃO DO FURO - FORNECIMENTO E INSTALAÇÃO. AF_10/2025 | F29: =VLOOKUP(C29,'REF. CUSTO'!A:D,3,) -> UN | G29: =VLOOKUP(C29,'REF. CUSTO'!A:D,4,) -> 1098.58 | H29: =G29*(1+($J$7)) -> 1407.6716 | I29: ='MEMORIA DE CALCULO'!F47 -> 2 | J29: =H29*I29 -> 2815.3433 | K29: =J29/$J$176 -> 0.010494566
B30: 3.3.3 | C30: 100683 | D30: SINAPI | E30: =VLOOKUP(C30,'REF. CUSTO'!A:D,2,) -> KIT DE PORTA DE MADEIRA PARA VERNIZ, SEMI-OCA (LEVE OU MÉDIA), PADRÃO MÉDIO, 80X210CM, ESPESSURA DE 3,5CM, ITENS INCLUSOS: DOBRADIÇAS, MONTAGEM E INSTALAÇÃO DE BATENTE, FECHADURA COM EXECUÇÃO DO FURO - FORNECIMENTO E INSTALAÇÃO. AF_10/2025 | F30: =VLOOKUP(C30,'REF. CUSTO'!A:D,3,) -> UN | G30: =VLOOKUP(C30,'REF. CUSTO'!A:D,4,) -> 1184.32 | H30: =G30*(1+($J$7)) -> 1517.5351 | I30: ='MEMORIA DE CALCULO'!F45 -> 5 | J30: =H30*I30 -> 7587.6754 | K30: =J30/$J$176 -> 0.028284067
B31: 3.3.4 | C31: 100685 | D31: SINAPI | E31: =VLOOKUP(C31,'REF. CUSTO'!A:D,2,) -> KIT DE PORTA DE MADEIRA PARA VERNIZ, SEMI-OCA (LEVE OU MÉDIA), PADRÃO MÉDIO, 90X210CM, ESPESSURA DE 3,5CM, ITENS INCLUSOS: DOBRADIÇAS, MONTAGEM E INSTALAÇÃO DE BATENTE, FECHADURA COM EXECUÇÃO DO FURO - FORNECIMENTO E INSTALAÇÃO. AF_10/2025 | F31: =VLOOKUP(C31,'REF. CUSTO'!A:D,3,) -> UN | G31: =VLOOKUP(C31,'REF. CUSTO'!A:D,4,) -> 1231.8 | H31: =G31*(1+($J$7)) -> 1578.3738 | I31: ='MEMORIA DE CALCULO'!F46 -> 1 | J31: =H31*I31 -> 1578.3738 | K31: =J31/$J$176 -> 0.0058835981
B32: 3.3.5 | C32: 4998 | D32: SINAPI | E32: =VLOOKUP(C32,'REF. CUSTO'!A:D,2,) -> PORTA DE ABRIR / GIRO, EM MADEIRA MACICA (ANGELIM OU EQUIVALENTE REGIONAL), QUALQUER DESENHO (VERTICAL/DIAGONAL/HORIZ.), E = *3,5* CM, DIMENSOES 2,10 X 0,70 (SOMENTE FOLHA DE PORTA, ACABAMENTO NATURAL) | F32: =VLOOKUP(C32,'REF. CUSTO'!A:D,3,) -> M2 | G32: =VLOOKUP(C32,'REF. CUSTO'!A:D,4,) -> 942.31 | H32: =G32*(1+($J$7)) -> 1207.4342 | I32: ='MEMORIA DE CALCULO'!G49 -> 2.31 | J32: =H32*I32 -> 2789.173 | K32: =J32/$J$176 -> 0.010397013
B33: 3.3.6 | C33: 11480 | D33: SINAPI | E33: =VLOOKUP(C33,'REF. CUSTO'!A:D,2,) -> FECHADURA AUXILIAR DE SEGURANCA PARA PORTA EXTERNA, EM ACO INOX, BROCA DE 45 A 55 MM, LINGUETA COM 3 AVANCOS, INCLUINDO 2 CHAVES TIPO CILINDRO | F33: =VLOOKUP(C33,'REF. CUSTO'!A:D,3,) -> CJ | G33: =VLOOKUP(C33,'REF. CUSTO'!A:D,4,) -> 124.75 | H33: =G33*(1+($J$7)) -> 159.84911 | I33: 1 | J33: =H33*I33 -> 159.84911 | K33: =J33/$J$176 -> 0.00059585879
B34: 3.3.7 | C34: 91306 | D34: SINAPI | E34: =VLOOKUP(C34,'REF. CUSTO'!A:D,2,) -> FECHADURA DE EMBUTIR SEM CILINDRO, PARA PORTAS INTERNAS, COMPLETA, ACABAMENTO PADRÃO MÉDIO, COM EXECUÇÃO DE FURO - FORNECIMENTO E INSTALAÇÃO. AF_10/2025 | F34: =VLOOKUP(C34,'REF. CUSTO'!A:D,3,) -> UN | G34: =VLOOKUP(C34,'REF. CUSTO'!A:D,4,) -> 162.78 | H34: =G34*(1+($J$7)) -> 208.57907 | I34: 1 | J34: =H34*I34 -> 208.57907 | K34: =J34/$J$176 -> 0.00077750616
B35: 3.3.8 | C35: ED-49612 | D35: SEINFRA | E35: =VLOOKUP(C35,'REF. CUSTO'!A:D,2,) -> RÉGUA PARA ALIZAR, LARGURA DE 7CM, PARA UMA (1) FACE, ACABAMENTO NATURAL PARA PINTURA/VERNIZ, INCLUSIVE FIXAÇÃO, EXCLUSIVE MARCO, FOLHA DE PORTA E PINTURA/VERNIZ | F35: =VLOOKUP(C35,'REF. CUSTO'!A:D,3,) -> un | G35: =VLOOKUP(C35,'REF. CUSTO'!A:D,4,) -> 89.28 | H35: =G35*(1+($J$7)) -> 114.39943 | I35: ='MEMORIA DE CALCULO'!G60 -> 20 | J35: =H35*I35 -> 2287.9886 | K35: =J35/$J$176 -> 0.0085287812
B36: 4 | E36: PINTURA | J36: =J37+J41+J45+J49+J51 -> 41544.842 | K36: =J36/$J$176 -> 0.15486391
B37: 4.1 | E37: PINTURA PAREDES INTERNAS | J37: =SUM(J38:J40) -> 14023.502 | K37: =J37/$J$176 -> 0.052274467
B38: 4.1.1 | C38: ED-50505 | D38: SEINFRA | E38: =VLOOKUP(C38,'REF. CUSTO'!A:D,2,) -> LIXAMENTO MANUAL EM PAREDE PARA REMOÇÃO DE TINTA | F38: =VLOOKUP(C38,'REF. CUSTO'!A:D,3,) -> m2 | G38: =VLOOKUP(C38,'REF. CUSTO'!A:D,4,) -> 3.16 | H38: =G38*(1+($J$7)) -> 4.0490837 | I38: ='MEMORIA DE CALCULO'!G77 -> 291.381 | J38: =H38*I38 -> 1179.8261 | K38: =J38/$J$176 -> 0.0043979583
B39: 4.1.2 | C39: ED-50478 | D39: SEINFRA | E39: =VLOOKUP(C39,'REF. CUSTO'!A:D,2,) -> EMASSAMENTO EM PAREDE COM MASSA CORRIDA (PVA), DUAS (2) DEMÃOS, INCLUSIVE LIXAMENTO PARA PINTURA | F39: =VLOOKUP(C39,'REF. CUSTO'!A:D,3,) -> m2 | G39: =VLOOKUP(C39,'REF. CUSTO'!A:D,4,) -> 18.91 | H39: =G39*(1+($J$7)) -> 24.230435 | I39: ='MEMORIA DE CALCULO'!G93 -> 291.381 | J39: =H39*I39 -> 7060.2883 | K39: =J39/$J$176 -> 0.026318162
B40: 4.1.3 | C40: ED-50451 | D40: SEINFRA | E40: =VLOOKUP(C40,'REF. CUSTO'!A:D,2,) -> PINTURA ACRÍLICA EM PAREDE, DUAS (2) DEMÃOS, COM APLICAÇÃO MANUAL, EXCLUSIVE SELADOR ACRÍLICO E MASSA ACRÍLICA/CORRIDA (PVA) | F40: =VLOOKUP(C40,'REF. CUSTO'!A:D,3,) -> m2 | G40: =VLOOKUP(C40,'REF. CUSTO'!A:D,4,) -> 15.49 | H40: =G40*(1+($J$7)) -> 19.848198 | I40: ='MEMORIA DE CALCULO'!G77 -> 291.381 | J40: =H40*I40 -> 5783.3879 | K40: =J40/$J$176 -> 0.021558346
B41: 4.2 | E41: PINTURA TETOS | J41: =SUM(J42:J44) -> 11219.191 | K41: =J41/$J$176 -> 0.041821026
B42: 4.2.1 | C42: ED-50506 | D42: SEINFRA | E42: =VLOOKUP(C42,'REF. CUSTO'!A:D,2,) -> LIXAMENTO MANUAL EM TETO PARA REMOÇÃO DE TINTA | F42: =VLOOKUP(C42,'REF. CUSTO'!A:D,3,) -> m2 | G42: =VLOOKUP(C42,'REF. CUSTO'!A:D,4,) -> 3.58 | H42: =G42*(1+($J$7)) -> 4.5872531 | I42: ='MEMORIA DE CALCULO'!G125 -> 147.1797 | J42: =H42*I42 -> 675.15053 | K42: =J42/$J$176 -> 0.0025167133
B43: 4.2.2 | C43: ED-50476 | D43: SEINFRA | E43: =VLOOKUP(C43,'REF. CUSTO'!A:D,2,) -> EMASSAMENTO EM TETO COM MASSA ACRÍLICA, DUAS (2) DEMÃOS, INCLUSIVE LIXAMENTO PARA PINTURA | F43: =VLOOKUP(C43,'REF. CUSTO'!A:D,3,) -> m2 | G43: =VLOOKUP(C43,'REF. CUSTO'!A:D,4,) -> 36.34 | H43: =G43*(1+($J$7)) -> 46.564463 | I43: ='MEMORIA DE CALCULO'!G141 -> 147.1797 | J43: =H43*I43 -> 6853.3437 | K43: =J43/$J$176 -> 0.025546749
...

Sheet MEMORIA DE CALCULO
C2: MEMORIA DE CALCULO
C3: OBRA: REFORMA DA UBS MACHADINHO
C4: ENDEREÇO: PRAÇA ALOISIO MIRANDA SN -BAIRRO MACHADINHO - SERRO MG
B7: 2.1 - ENCARREGADO DE OBRA
B8: TEMPO OBRA-MÊS | C8: TEMPO HORA-MÊS | D8: HORAS P/SEMANA | G8: TOTAL
B9: 4 | C9: 50 | D9: 12.5 | G9: =B9*C9 -> 200
B11: 2.2 - ENGENHEIRO CIVIL PLENO
B12: TEMPO OBRA-MÊS | C12: TEMPO HORA-MÊS | D12: HORAS P/SEMANA | G12: TOTAL
B13: 4 | C13: 15 | D13: 3.75 | G13: =B13*C13 -> 60
B16: 3.1 - REMOÇÃO DE ESQUADRIAS
C17: LARGURA | D17: ALTURA | E17: LADOS | F17: QUANT. | G17: TOTAL
B18: JANELAS
B19: 100x100 | C19: 1 | D19: 1 | F19: 10 | G19: =C19*D19*F19 -> 10
B20: 140X105 | C20: 1.4 | D20: 1.05 | F20: 4 | G20: =C20*D20*F20 -> 5.88
F21: TOTAL | G21: =G19+G20 -> 15.88
B23: 3.2 - INSTALAÇÃO DE ESQUADRIAS
C24: LARGURA | D24: ALTURA | E24: LADOS | F24: QUANT. | G24: TOTAL
B25: JANELAS
B26: 100x100 | C26: 1 | D26: 1 | F26: 11 | G26: =C26*D26*F26 -> 11
F27: TOTAL | G27: =G26 -> 11
B30: 3.2.2 - VIDROS
C31: LARGURA | D31: COMPRIM. | E31: LADOS | F31: QUANT. | G31: TOTAL
B32: BSC01 | C32: 0.7 | D32: 0.7 | F32: 4 | G32: =C32*D32*F32 -> 1.96
B33: J1 | C33: 0.9 | D33: 0.9 | F33: 11 | G33: =C33*D33*2*F33 -> 17.82
F34: TOTAL | G34: =G32+G33 -> 19.78
B36: 3.2.3 - MASSA PARA VIDROS
B37: MASSA PARA VIDRO | C37: =C31 -> LARGURA | D37: =D31 -> COMPRIM. | E37: RENDIM.POR METRO | G37: TOTAL
B38: BSC01 | C38: 0.7 | D38: 0.7 | E38: 0.5 | F38: 4 | G38: =C38*4*F38*E38 -> 5.6
B39: J1 | C39: 0.9 | D39: 0.9 | E39: 0.5 | F39: 11 | G39: =C39*4*F39*E39 -> 19.8
F40: TOTAL | G40: =G38+G39 -> 25.4
B43: 3.3 - INSTALAÇÃO DAS PORTAS INTERNAS
C44: LARGURA | D44: ALTURA | E44: LADOS | F44: QUANT. | G44: TOTAL M²
B45: P1 | C45: 0.8 | D45: 2.1 | F45: 5 | G45: =C45*D45*F45 -> 8.4
B46: P2 | C46: 0.9 | D46: 2.1 | F46: 1 | G46: =C46*D46*F46 -> 1.89
B47: P3 | C47: 0.7 | D47: 2.1 | F47: 2 | G47: =C47*D47*F47 -> 2.94
B48: P4 | C48: 0.6 | D48: 2.1 | F48: 1 | G48: =C48*D48*F48 -> 1.26
B49: P5 | C49: 1.1 | D49: 2.1 | F49: 1 | G49: =C49*D49*F49 -> 2.31
F50: TOTAL | G50: =SUM(G45:G49) -> 16.8
B53: 3.3.8 - ALISARES
C54: LARGURA | D54: ALTURA | E54: POR PORTA | F54: QUANT. | G54: TOTAL
...

Sheet COTAÇÃO-001

Sheet INCC
C2: PREFEITURA DE MARABÁ - PARÁ
C4: SECRETARIA DE VIAÇÃO E OBRAS PÚBLICAS
A10: ATUALIZAÇÃO DOS VALORES COTADOS PELO INCC
C19: Sendo:
C21: R | D21: Valor retroagido
C22: I0 | D22: Índice de preço no mês da data base
C23: I1 | D23: Índice de preço referente ao mês de cotação
C24: V | D24: Valor do preço cotado
C27: CÁLCULO DO ÍNDICE DE RETROAÇÃO DOS VALORES COTADOS:
C30: I0 | D30: julho de 2014: | G30: 598.441
C31: I1 | D31: abril de 2017: | G31: 697.244
D41: R = | E41: =ROUND(((G31-G30)/G30),4) -> 0.1651 | G41: x V

Sheet LARGURA DE VALA
H8: 4 | I8: 600
E10: DIAMETRO NOMINAL | F10: COTA DE CORTE | G10: LARGURA DA VALA EM FUNÇÃO DO TIPO DE ESCORAMENTO E COTA DE CORTE
G11: PONTALETES | H11: CONTÍNUO E DESCONTÍNUO | I11: ESPECIAL | J11: METÁLICO - MADEIRA
F12: (m) | G12: (m) | H12: (m) | I12: (m) | J12: (m)
F13: 0-2 | G13: 0.8 | H13: 0.8 | I13: 0.9 | J13: - | L13: SE(H8<>"";SE(I8=200;SE(H8<2;'NBR 12266'!$I$17;SE(E(H8>=2;H8<4);'NBR 12266'!$I$18;SE(E(H8>=4;H8<6);'NBR 12266'!$I$19;SE(H8>=6;H8<8;'NBR 12266'!$I$20)))));"")
E14: 300 | F14: 2-4 | G14: 0.9 | H14: 1 | I14: 1.2 | J14: 1.85 | L14: SE(H8<>"";SE(E(I8>=250;I8<300);SE(H8<2;'NBR 12266'!$I$21;SE(E(H8>=2;H8<4);'NBR 12266'!$I$22;SE(E(H8>=4;H8<6);'NBR 12266'!$I$23;SE(H8>=6;H8<8;'NBR 12266'!$I$24)))));"")
F15: 4-6 | G15: 1 | H15: 1.2 | I15: 1.5 | J15: 2 | L15: SE(H8<>"";SE(E(I8>=350;I8<400);SE(H8<2;'NBR 12266'!$I$25;SE(E(H8>=2;H8<4);'NBR 12266'!$I$26;SE(E(H8>=4;H8<6);'NBR 12266'!$I$27;SE(H8>=6;H8<8;'NBR 12266'!$I$28)))));"")
F16: 6-8 | G16: 1.1 | H16: 1.4 | I16: 1.8 | J16: 2.15 | L16: SE(H8<>"";SE(I8=450;SE(H8<2;'NBR 12266'!$I$29;SE(E(H8>=2;H8<4);'NBR 12266'!$I$30;SE(E(H8>=4;H8<6);'NBR 12266'!$I$31;SE(H8>=6;H8<8;'NBR 12266'!$I$32)))));"")
F17: 0-2 | G17: 0.9 | H17: 1.1 | I17: 1.2 | J17: - | L17: SE(I8=500;SE(H8<2;'NBR 12266'!$I$33;SE(E(H8>=2;H8<4);'NBR 12266'!$I$34;SE(E(H8>=4;H8<6);'NBR 12266'!$I$35;SE(H8>=6;H8<8;'NBR 12266'!$I$36)))))
E18: 400 | F18: 2-4 | G18: 1 | H18: 1.3 | I18: 1.5 | J18: 2.15
F19: 4-6 | G19: 1.1 | H19: 1.5 | I19: 1.8 | J19: 2.3
F20: 6-8 | G20: 1.2 | H20: 1.7 | I20: 2.1 | J20: 2.45
F21: 0-2 | G21: 1.1 | H21: 1.3 | I21: 1.4 | J21: -
E22: 500 | F22: 2-4 | G22: 1.2 | H22: 1.5 | I22: 1.7 | J22: 2.35
F23: 4-6 | G23: 1.3 | H23: 1.7 | I23: 2 | J23: 2.5
F24: 6-8 | G24: 1.4 | H24: 1.9 | I24: 2.3 | J24: 2.65
F25: 0-2 | G25: 1.2 | H25: 1.4 | I25: 1.5 | J25: -
E26: 600 | F26: 2-4 | G26: 1.3 | H26: 1.6 | I26: 1.8 | J26: 2.45
F27: 4-6 | G27: 1.4 | H27: 1.8 | I27: 2.1 | J27: 2.6
F28: 6-8 | G28: 1.5 | H28: 2 | I28: 2.4 | J28: 2.75
F29: 0-2 | G29: 1.3 | H29: 1.5 | I29: 1.6 | J29: -
E30: 700 | F30: 2-4 | G30: 1.4 | H30: 1.7 | I30: 1.9 | J30: 2.55
F31: 4-6 | G31: 1.5 | H31: 1.9 | I31: 2.2 | J31: 2.7
F32: 6-8 | G32: 1.6 | H32: 2.1 | I32: 2.5 | J32: 2.85
F33: 0-2 | G33: 1.4 | H33: 1.6 | I33: 1.7 | J33: -
E34: 800 | F34: 2-4 | G34: 1.5 | H34: 1.8 | I34: 2 | J34: 2.65
F35: 4-6 | G35: 1.6 | H35: 2 | I35: 2.3 | J35: 2.8
F36: 6-8 | G36: 1.7 | H36: 2.2 | I36: 2.6 | J36: 2.9
F37: 0-2 | G37: 1.5 | H37: 1.7 | I37: 1.8 | J37: -
E38: 900 | F38: 2-4 | G38: 1.6 | H38: 1.9 | I38: 2.1 | J38: 2.75
F39: 4-6 | G39: 1.7 | H39: 2.1 | I39: 2.4 | J39: 2.9
F40: 6-8 | G40: 1.8 | H40: 2.3 | I40: 2.7 | J40: 3.05
F41: 0-2 | G41: 1.6 | H41: 1.8 | I41: 1.9 | J41: -
E42: 1000 | F42: 2-4 | G42: 1.7 | H42: 2 | I42: 2.1 | J42: 2.85
F43: 4-6 | G43: 1.8 | H43: 2.2 | I43: 2.5 | J43: 3
F44: 6-8 | G44: 1.9 | H44: 2.4 | I44: 2.8 | J44: 3.15
F45: 0-2 | G45: 1.8 | H45: 2 | I45: 2.1 | J45: -
E46: 1200 | F46: 2-4 | G46: 1.9 | H46: 2.2 | I46: 2.3 | J46: 3.05
F47: 4-6 | G47: 2 | H47: 2.4 | I47: 2.7 | J47: 3.2
F48: 6-8 | G48: 2.1 | H48: 2.6 | I48: 3 | J48: 3.35
...

Sheet BDI SERVIÇOS
B1: COMPOSIÇÃO DE BDI
B3: OBRA: REFORMA DA UBS MACHADINHO
B4: ENDEREÇO: PRAÇA ALOISIO MIRANDA SN -BAIRRO MACHADINHO - SERRO MG
G6: =[44]ORÇAMENTO!H8 -> DATA: | H6: 06/11/2024
A8: ITEM COMPONENTE | B8: 1º QUARTIL | C8: MÉDIO | D8: 3º QUARTIL | E8: ADOTADO | G8: IMPOSTOS
A9: Seguro+Garantia - G+S | B9: 0.28 | C9: 0.49 | D9: 0.75 | E9: 0.49 | G9: PIS | H9: 0.65
A10: Risco - R | B10: 1 | C10: 1.39 | D10: 1.97 | E10: 1 | G10: COFINS | H10: 3
A11: Despesas Financeiras - DF | B11: 0.94 | C11: 0.99 | D11: 1.17 | E11: 1 | G11: ISS | H11: 2.5
A12: Administração Central - AC | B12: 3.43 | C12: 4.93 | D12: 6.71 | E12: 3.43 | G12: Contribuição Previdenciária sobre a renda bruta | H12: 4.5
A13: Lucro - L | B13: 6.74 | C13: 8.04 | D13: 9.4 | E13: 8.04
A14: Impostos - I | E14: =H14 -> 10.65 | G14: TOTAL | H14: =SUM(H9:H13) -> 10.65
A22: BDI CALCULADO = | B22: =(((1+E12/100+E9/100+E10/100)*(1+E11/100)*(1+E13/100)/(1-E14/100))-1)*100 -> 28.135561
A24: onde:
A25: AC = taxa de administração central
A26: S = taxa de seguros
A27: R = taxa de riscos
A28: G = taxa de garantias
A29: DF = taxa de despesas financeiras
A30: L = taxa de lucro/remuneração
A31: I = taxa de incidência de impostos (PIS, COFINS, ISS e CPRB)

Sheet BDI MATERIAIS
A2: PREFEITURA DE SERRO-MG
A5: BDI DE MATERIAIS
G7: =[44]ORÇAMENTO!H8 -> DATA: | H7: 09/2019
A9: ITEM COMPONENTE | B9: 1º QUARTIL | C9: MÉDIO | D9: 3º QUARTIL | E9: ADOTADO | G9: IMPOSTOS
A10: Seguro+Garantia - G+S | B10: 0.3 | C10: 0.48 | D10: 0.82 | E10: 0.79 | G10: PIS | H10: 0.65
A11: Risco - R | B11: 0.56 | C11: 0.85 | D11: 0.89 | E11: 0.89 | G11: COFINS | H11: 3
A12: Despesas Financeiras - DF | B12: 0.85 | C12: 0.85 | D12: 1.11 | E12: 0.85 | G12: ISS | H12: 0
A13: Administração Central - AC | B13: 1.5 | C13: 3.45 | D13: 4.49 | E13: 4.45 | G13: Contribuição Previdenciária sobre a renda bruta | H13: 0
A14: Lucro - L | B14: 3.5 | C14: 5.11 | D14: 6.22 | E14: 6.22
A15: Impostos - I | B15: 3.65 | C15: 3.65 | D15: 3.65 | E15: =H15 -> 3.65 | G15: TOTAL | H15: =SUM(H10:H14) -> 3.65
A23: BDI CALCULADO = | B23: =(((1+E13/100+E10/100+E11/100)*(1+E12/100)*(1+E14/100)/(1-E15/100))-1)*100 -> 17.996369
A25: onde:
A26: AC = taxa de administração central
A27: S = taxa de seguros
A28: R = taxa de riscos
A29: G = taxa de garantias
A30: DF = taxa de despesas financeiras
A31: L = taxa de lucro/remuneração
A32: I = taxa de incidência de impostos (PIS, COFINS, ISS e CPRB)

Sheet REF. CUSTO
B1: DESCRICAO - SINAPI 11-2025 - SETOP -10/2025 | C1: UNIDADE | D1: PREÇO
B2: COMPOSIÇÃO SINAPI
A3: 104658 | B3: PISO PODOTÁTIL DE ALERTA OU DIRECIONAL, DE CONCRETO, ASSENTADO SOBRE ARGAMASSA. AF_03/2024 | C3: M2 | D3: 156.86
A4: 105002 | B4: RAMPA DE ACESSIBILIDADE EM CONCRETO MOLDADO IN LOCO, EM CALÇADA NOVA COM LARGURA MAIOR OU IGUAL À 3,00 M, FCK 25MPA, COM PISO PODOTÁTIL. AF_03/2024 | C4: UN | D4: 737.77
A5: 105004 | B5: RAMPA DE ACESSIBILIDADE EM CONCRETO MOLDADO IN LOCO, EM CALÇADA NOVA COM LARGURA MENOR À 3,00 M, FCK 25MPA, COM PISO PODOTÁTIL. AF_03/2024 | C5: M2 | D5: 126.45
A6: 105003 | B6: RAMPA DE ACESSIBILIDADE EM CONCRETO MOLDADO IN LOCO, EM CALÇADA PRÉ EXISTENTE COM LARGURA MAIOR OU IGUAL À 3,00 M, FCK 25MPA, COM PISO PODOTÁTIL. AF_03/2024 | C6: UN | D6: 1167.44
A7: 105005 | B7: RAMPA DE ACESSIBILIDADE EM CONCRETO MOLDADO IN LOCO, EM CALÇADA PRÉ EXISTENTE COM LARGURA MENOR À 3,00 M, FCK 25MPA, COM PISO PODOTÁTIL. AF_03/2024 | C7: M2 | D7: 206
A8: 105006 | B8: RAMPA DE ACESSIBILIDADE EM CONCRETO PRÉ MOLDADO, EM CALÇADA NOVA COM LARGURA MAIOR OU IGUAL À 3,00 M, FCK 25MPA, COM PISO PODOTÁTIL. AF_03/2024 | C8: UN | D8: 0
A9: 104999 | B9: RAMPA DE ACESSIBILIDADE EM CONCRETO PRÉ MOLDADO, EM CALÇADA PRÉ EXISTENTE COM LARGURA MAIOR OU IGUAL À 3,00 M, FCK 25MPA, COM PISO PODOTÁTIL. AF_03/2024 | C9: UN | D9: 0
A10: 105000 | B10: RAMPA DE ACESSIBILIDADE PARA ACESSO A EDIFICAÇÕES COM INCLINAÇÃO DE 8,33% EM CONCRETO MOLDADO IN LOCO, COM LARGURA DE 1,20M, FCK 25MPA, NÃO ARMADA, COM JUNTA A CADA 2M COM CORTE À SECO. AF_03/2024 | C10: M | D10: 1470.71
A11: 105001 | B11: RAMPA DE ACESSIBILIDADE PARA ACESSO A EDIFICAÇÕES COM INCLINAÇÃO DE 8,33% EM CONCRETO MOLDADO IN LOCO, COM LARGURA DE 1,50M, FCK 25MPA, NÃO ARMADA, COM JUNTA A CADA 2M COM CORTE À SECO. AF_03/2024 | C11: M | D11: 1504.07
A12: 89306 | B12: ALVENARIA ESTRUTURAL DE BLOCOS CERÂMICOS 14X19X29, (ESPESSURA DE 14 CM), UTILIZANDO COLHER DE PEDREIRO E ARGAMASSA DE ASSENTAMENTO COM PREPARO EM BETONEIRA. AF_03/2023 | C12: M2 | D12: 97.56
A13: 89307 | B13: ALVENARIA ESTRUTURAL DE BLOCOS CERÂMICOS 14X19X29, (ESPESSURA DE 14 CM), UTILIZANDO COLHER DE PEDREIRO E ARGAMASSA DE ASSENTAMENTO COM PREPARO MANUAL. AF_03/2023 | C13: M2 | D13: 99.33
A14: 89290 | B14: ALVENARIA ESTRUTURAL DE BLOCOS CERÂMICOS 14X19X29, (ESPESSURA DE 14 CM), UTILIZANDO PALHETA E ARGAMASSA DE ASSENTAMENTO COM PREPARO EM BETONEIRA. AF_03/2023 | C14: M2 | D14: 80.93
... A9971: 103548 | B9971: VÁLVULA REDUTORA DE PRESSÃO DE FERRO FUNDIDO PARA REDE DE ÁGUA, DN 80 MM, JUNTA FLANGEADA. AF_12/2021 | C9971: UN | D9971: 0
B9973: INSUMOS SINAPI
A9974: 45333 | B9974: ABERTURA PARA ENCAIXE DE CUBA OU LAVATORIO EM BANCADA DE MARMORE/ GRANITO OU OUTRO TIPO DE PEDRA NATURAL | C9974: UN | D9974: 115.31
A9975: 11270 | B9975: ABRACADEIRA DE LATAO PARA FIXACAO DE CABO PARA-RAIO, DIMENSOES 32 X 24 X 24 MM | C9975: UN | D9975: 3.28
A9976: 412 | B9976: ABRACADEIRA DE NYLON PARA AMARRACAO DE CABOS, COMPRIMENTO DE *230* X *7,6* MM | C9976: UN | D9976: 1.02
A9977: 414 | B9977: ABRACADEIRA DE NYLON PARA AMARRACAO DE CABOS, COMPRIMENTO DE 100 X 2,5 MM | C9977: UN | D9977: 0.06
A9978: 410 | B9978: ABRACADEIRA DE NYLON PARA AMARRACAO DE CABOS, COMPRIMENTO DE 150 X *3,6* MM | C9978: UN | D9978: 0.15
A9979: 411 | B9979: ABRACADEIRA DE NYLON PARA AMARRACAO DE CABOS, COMPRIMENTO DE 200 X *4,6* MM | C9979: UN | D9979: 0.2
A9980: 408 | B9980: ABRACADEIRA DE NYLON PARA AMARRACAO DE CABOS, COMPRIMENTO DE 390 X *4,6* MM | C9980: UN | D9980: 0.99
A9981: 39131 | B9981: ABRACADEIRA EM ACO PARA AMARRACAO DE ELETRODUTOS, TIPO D, COM 1 1/2" E CUNHA DE FIXACAO | C9981: UN | D9981: 3.18
A9982: 394 | B9982: ABRACADEIRA EM ACO PARA AMARRACAO DE ELETRODUTOS, TIPO D, COM 1 1/2" E PARAFUSO DE FIXACAO | C9982: UN | D9982: 3.22
A9983: 39130 | B9983: ABRACADEIRA EM ACO PARA AMARRACAO DE ELETRODUTOS, TIPO D, COM 1 1/4" E CUNHA DE FIXACAO | C9983: UN | D9983: 2.9
A9984: 395 | B9984: ABRACADEIRA EM ACO PARA AMARRACAO DE ELETRODUTOS, TIPO D, COM 1 1/4" E PARAFUSO DE FIXACAO | C9984: UN | D9984: 3.1
A9985: 39129 | B9985: ABRACADEIRA EM ACO PARA AMARRACAO DE ELETRODUTOS, TIPO D, COM 1" E CUNHA DE FIXACAO | C9985: UN | D9985: 1.79
... A10017: 36246 | B10017: ACABAMENTO SIMPLES/CONVENCIONAL PARA FORRO PVC, TIPO "U" OU "C", COR BRANCA, COMPRIMENTO 6 M | C10017: M | D10017: 4.32
A10018: 37600 | B10018: ACESSORIO DE LIGACAO NAO ELETRICO PARA CARGAS EXPLOSIVAS, TUBO DE 6 M | C10018: UN
A10019: 37599 | B10019: ACESSORIO INICIADOR NAO ELETRICO, TUBO DE 6 M, TEMPO DE RETARDO DE *160* MS | C10019: UN
A10020: 1 | B10020: ACETILENO - RECARGA DE GAS PARA CILINDRO (NAO INCLUI TROCA/MANUTENCAO DO CILINDRO) | C10020: KG | D10020: 78.33
A10021: 3 | B10021: ACIDO CLORIDRICO / ACIDO MURIATICO, DILUICAO 10% A 12% PARA USO EM LIMPEZA | C10021: L | D10021: 21.25
A10022: 43054 | B10022: ACO CA-25, 10,0 MM, OU 12,5 MM, OU 16,0 MM, OU 20,0 MM, OU 25,0 MM, VERGALHAO | C10022: KG | D10022: 8.21
A10023: 42402 | B10023: ACO CA-25, 16,0 MM, BARRA DE TRANSFERENCIA | C10023: KG | D10023: 7.85
A10024: 42403 | B10024: ACO CA-25, 20,0 MM, BARRA DE TRANSFERENCIA | C10024: KG | D10024: 10.06
A10025: 42404 | B10025: ACO CA-25, 25,0 MM, BARRA DE TRANSFERENCIA | C10025: KG | D10025: 10.01
A10026: 42405 | B10026: ACO CA-25, 32,0 MM, BARRA DE TRANSFERENCIA | C10026: KG | D10026: 10.66
A10027: 34341 | B10027: ACO CA-25, 32,0 MM, VERGALHAO | C10027: KG | D10027: 9.25
A10028: 43053 | B10028: ACO CA-25, 6,3 MM OU 8,0 MM, VERGALHAO | C10028: KG | D10028: 7.33
...

Sheet CRONOGRAMA
B2: CRONOGRAMA
B3: OBRA: REFORMA DA UBS MACHADINHO
B4: ENDEREÇO: PRAÇA ALOISIO MIRANDA SN -BAIRRO MACHADINHO - SERRO MG
A7: OBRA | B7: REFORMA DA UBS MACHADINHO
A8: Item | B8: Etapa | C8: R$ Parcial | D8: Mês 1 | E8: Mês 2 | F8: Mês 3 | G8: Mês 4
A9: 1 | B9: ='PLANILHA '!E9 -> SERVIÇOS PRELIMINARES | C9: ='PLANILHA '!J9 -> 4527.9263 | D9: =$C$9*0.4 -> 1811.1705 | E9: =$C$9*0.2 -> 905.58526 | F9: =$C$9*0.2 -> 905.58526 | G9: =$C$9*0.2 -> 905.58526
A10: 2 | B10: ='PLANILHA '!E15 -> ADMINISTRAÇÃO | C10: ='PLANILHA '!J15 -> 26267.534 | D10: =$C$10*0.25 -> 6566.8834 | E10: =$C$10*0.25 -> 6566.8834 | F10: =$C$10*0.25 -> 6566.8834 | G10: =$C$10*0.25 -> 6566.8834
B11: NIVEL TÉRREO 00
A12: 3 | B12: ='PLANILHA '!E19 -> REMOÇÃO E INSTALAÇÃO DE ESQUADRIAS | C12: ='PLANILHA '!J19 -> 39593.106 | D12: =C12*0.5 -> 19796.553 | E12: =C12*0.5 -> 19796.553
A13: 4 | B13: ='PLANILHA '!E36 -> PINTURA | C13: ='PLANILHA '!J36 -> 41544.842 | E13: =C13*0.4 -> 16617.937 | F13: =C13*0.3 -> 12463.453 | G13: =C13*0.3 -> 12463.453
A14: 5 | B14: ='PLANILHA '!E54 -> INSTALAÇÕES HIDRAULICAS | C14: ='PLANILHA '!J54 -> 16596.003 | D14: =C14*0.35 -> 5808.6009 | E14: =C14*0.35 -> 5808.6009 | F14: =C14*0.3 -> 4978.8008
A15: 6 | B15: ='PLANILHA '!E92 -> INSTALAÇÕES ELÉTRICAS | C15: ='PLANILHA '!J92 -> 11351.978 | E15: =C15*0.45 -> 5108.39 | F15: =C15*0.45 -> 5108.39 | G15: =C15*0.1 -> 1135.1978
A16: 7 | B16: ='PLANILHA '!E112 -> REVESTIMNTO CERÂMICO | C16: ='PLANILHA '!J112 -> 25512.583 | D16: =C16*0.1 -> 2551.2583 | E16: =C16*0.5 -> 12756.291 | F16: =C16*0.4 -> 10205.033
A17: 8 | B17: ='PLANILHA '!E120 -> ÁREA EXTERNA DA ENTRADA PRINCIPAL | C17: ='PLANILHA '!J120 -> 6781.8364 | E17: =C17*0.5 -> 3390.9182 | F17: =C17*0.5 -> 3390.9182
A18: 9 | B18: ='PLANILHA '!E130 -> REPARO E MANUTENÇÃO DA COBERTURA | C18: ='PLANILHA '!J130 -> 6777.6141 | D18: =C18*0.5 -> 3388.8071 | E18: =C18*0.5 -> 3388.8071
B19: NIVEL SUBSOLO -280
A20: 10 | B20: ='PLANILHA '!E134 -> REMOÇÃO E INSTALAÇÃO DE ESQUADRIAS | C20: ='PLANILHA '!J134 -> 5808.4577 | D20: =C20*0.5 -> 2904.2288 | E20: =C20*0.5 -> 2904.2288
A21: 11 | B21: PINTURA PAREDES | C21: ='PLANILHA '!J139 -> 5365.6874 | E21: =C21*0.4 -> 2146.275 | F21: =C21*0.3 -> 1609.7062 | G21: =C21*0.3 -> 1609.7062
A22: 12 | B22: INSTALAÇÃO DE ESQUADRIAS | C22: ='PLANILHA '!J147 -> 10544.375 | D22: =C22*0.5 -> 5272.1876 | E22: =C22*0.5 -> 5272.1876
A23: 13 | B23: ='PLANILHA '!E153 -> PINTURA DE ESQUADRIAS | C23: ='PLANILHA '!J153 -> 1144.891 | E23: =C23*0.4 -> 457.95639 | F23: =C23*0.3 -> 343.4673 | G23: =C23*0.3 -> 343.4673
A24: 14 | B24: ='PLANILHA '!E158 -> INSTALAÇÕES ELÉTRICAS DO SUBSOLO | C24: ='PLANILHA '!J158 -> 5246.0493 | E24: =C24*0.45 -> 2360.7222 | F24: =C24*0.45 -> 2360.7222 | G24: =C24*0.1 -> 524.60493
A25: 15 | B25: ='PLANILHA '!E164 -> ACESSIBILIDADE ÁREA EXTERNA DO SUBSOLO | C25: ='PLANILHA '!J164 -> 52313.539 | F25: =C25*0.5 -> 26156.77 | G25: =C25*0.5 -> 26156.77
A26: 16 | B26: ='PLANILHA '!E170 -> SERVIÇOS DIVERSOS | C26: ='PLANILHA '!J170 -> 4635.3272 | E26: =C26*0.5 -> 2317.6636 | F26: =C26*0.5 -> 2317.6636
A27: 17 | B27: ='PLANILHA '!E173 -> LIMPEZA DA OBRA | C27: ='PLANILHA '!J173 -> 4255.0191 | D27: =C27*0.35 -> 1489.2567 | E27: =C27*0.15 -> 638.25286 | F27: =C27*0.15 -> 638.25286 | G27: =C27*0.35 -> 1489.2567
A28: TOTAL | C28: =SUM(C9:C27) -> 268266.77 | D28: =SUM(D9:D27) -> 49588.947 | E28: =SUM(E9:E27) -> 90437.253 | F28: =SUM(F9:F27) -> 77045.645 | G28: =SUM(G9:G27) -> 51194.924
