Workbook
Name \0: #REF!
Name \0: #REF!
Name \0: #REF!
Name \0: #REF!
Name \a: #REF!
Name \a: #REF!
Name \a: #REF!
Name \b: #N/A
Name \c: #REF!
Name \c: #REF!
Name \c: #REF!
Name \d: #REF!
Name \d: #REF!
Name \e: #N/A
Name \f: #REF!
Name \f: #REF!
Name \f: #REF!
Name \g: #N/A
Name \h: #N/A
Name \i: #REF!
Name \i: #REF!
Name \i: #REF!
Name \j: #N/A
Name \m: #N/A
Name \p: #REF!
Name \p: #REF!
Name \p: #REF!
Name \q: #N/A
Name \r: #REF!
Name \r: #REF!
Name \r: #REF!
Name \s: #N/A
Name \t: #N/A
Name \u: #N/A
Name \v: #N/A
Name \w: #N/A
Name \x: #REF!
Name \x: #REF!
Name \x: #REF!
Name \x: #REF!
Name \x: #REF!
Name \x: #REF!
Name \z: #REF!
Name \z: #REF!
Name \z: #REF!
Name \z: #REF!
Name \z: #REF!
Name _: #REF!
Name _______________________pv3: #REF!
Name ______________________Ele200502: #REF!
Name ______________________pv3: #REF!
Name ______________________Ser200705: #REF!
Name ______________________Ser200712: #REF!
Name ______________________Ser201104: #REF!
Name ______________________TR2: #REF!
Name ______________________TR5: #REF!
Name _____________________Ele200502: #REF!
Name _____________________Ele200609: #REF!
Name _____________________pv2: #REF!
Name _____________________pv3: #REF!

Sheet RESUMO
B1: Obra | C1: Bancos | D1: B.D.I. | G1: Encargos Sociais
B2: REFORMA E AMPLIAÇÃO MERCADO MUNICIPAL MUNICÍPIO DE SERRO - MG | C2: SINAPI - 07/2025 - Minas Gerais SETOP/SICOR - 04/2025 - Minas Gerais SBC - 08/2025 - Minas Gerais ORSE - 06/2025 - Sergipe EMBASA - 01/2025 - Bahia CPOS - 02/2025 - São Paulo GOINFRA - 12/2024 - Goiás | D2: SERVIÇO: | E2: ='BDI SERVIÇOS'!$Z$21 -> 0.2223 | G2: Sem Desoneração
D3: EQUIPAMENTOS: | E3: ='BDI EQUIPAMENTOS'!$K$36 -> 0.1623 | G3: Horista: | H3: ='Encargos Sociais'!$G$48 -> 1.1679
G4: Mensalista: | H4: ='Encargos Sociais'!$H$48 -> 0.7393
A10: Planilha Orçamentária
A12: Item | B12: Descrição | H12: Total | I12: Peso(%)
A13: 1 | B13: =SINTÉTICA!D13 -> ADMINISTRAÇÃO | H13: =SINTÉTICA!K13 -> 1010425.5 | I13: =H13/$H$37 -> 0.24121908
A14: 2 | B14: =SINTÉTICA!D24 -> SERVIÇOS PRELIMINARES | H14: =SINTÉTICA!K24 -> 116753.91 | I14: =H14/$H$37 -> 0.027872684
A15: 3 | B15: =SINTÉTICA!D35 -> DRENAGEM E PAVIMENTAÇÃO DA TRAVESSA MAGALHÃES | H15: =SINTÉTICA!K35 -> 1466672.2 | I15: =SINTÉTICA!L35 -> 0.35013894
A16: 4 | B16: =SINTÉTICA!D79 -> ESTRUTURAL | H16: =SINTÉTICA!K79 -> 482875.66 | I16: =H16/$H$37 -> 0.115277
A17: 5 | B17: =SINTÉTICA!D180 -> DEMOLIÇÕES E REMOÇOES | H17: =SINTÉTICA!K180 -> 25587.602 | I17: =H17/$H$37 -> 0.006108533
A18: 6 | B18: =SINTÉTICA!D208 -> ALVENARIA | H18: =SINTÉTICA!K208 -> 29753.583 | I18: =SINTÉTICA!L208 -> 0.0071030785
A19: 7 | B19: =SINTÉTICA!D214 -> HIDROSSANITÁRIO | H19: =SINTÉTICA!K214 -> 52004.3 | I19: =H19/$H$37 -> 0.012414996
A20: 8 | B20: =SINTÉTICA!D266 -> INSTALAÇÇÕES ELÉTRICAS | H20: =SINTÉTICA!K266 -> 95241.099 | I20: =SINTÉTICA!L266 -> 0.022736926
A21: 9 | B21: =SINTÉTICA!D295 -> REVESTIMENTO DE PISOS | H21: =SINTÉTICA!K295 -> 227403.23 | I21: =H21/$H$37 -> 0.054288016
A22: 10 | B22: =SINTÉTICA!D316 -> REVESTIMENTO DE PAREDES | H22: =SINTÉTICA!K316 -> 113352.48 | I22: =SINTÉTICA!L316 -> 0.02706066
A23: 11 | B23: =SINTÉTICA!D321 -> ESQUADRIAS | H23: =SINTÉTICA!K321 -> 149427.64 | I23: =SINTÉTICA!L321 -> 0.035672889
A24: 12 | B24: =SINTÉTICA!D334 -> FORRO EM GESSO ACARTONADO | H24: =SINTÉTICA!K334 -> 42027.661 | I24: =SINTÉTICA!L334 -> 0.010033271
A25: 13 | B25: =SINTÉTICA!D337 -> PEDRAS - BANCADAS, SOLEIRAS, DIVISÓRIAS E PRATELEIRAS | H25: =SINTÉTICA!K337 -> 53188.874 | I25: =SINTÉTICA!L337 -> 0.01269779
A26: 14 | B26: =SINTÉTICA!D345 -> PINTURA TETO | H26: =SINTÉTICA!K345 -> 31908.818 | I26: =SINTÉTICA!L345 -> 0.0076175982
A27: 15 | B27: =SINTÉTICA!D349 -> PINTURA PAREDES EXTERNAS E INTERNAS | H27: =SINTÉTICA!K349 -> 61016.991 | I27: =SINTÉTICA!L349 -> 0.014566598
A28: 16 | B28: =SINTÉTICA!D353 -> CORRIMÃO | H28: =SINTÉTICA!K353 -> 20733.609 | I28: =SINTÉTICA!L353 -> 0.0049497385
A29: 17 | B29: =SINTÉTICA!D355 -> GUARDA CORPO | H29: =SINTÉTICA!K355 -> 15948.209 | I29: =SINTÉTICA!L355 -> 0.0038073189
A30: 18 | B30: =SINTÉTICA!D357 -> PLATAFORMA ELEVATÓRIA | H30: =SINTÉTICA!K357 -> 63555.933 | I30: =SINTÉTICA!L357 -> 0.01517272
A31: 19 | B31: =SINTÉTICA!D359 -> DIVERSOS | H31: =SINTÉTICA!K359 -> 24608.374 | I31: =SINTÉTICA!L359 -> 0.0058747618
A32: 20 | B32: =SINTÉTICA!D363 -> PAISAGISMO | H32: =SINTÉTICA!K363 -> 10421.096 | I32: =SINTÉTICA!L363 -> 0.0024878301
A33: 21 | B33: =SINTÉTICA!D368 -> LIMPEZA DURANTE E FINAL DA OBRA | H33: =SINTÉTICA!K368 -> 95922.395 | I33: =H33/$H$37 -> 0.022899572
B35: Data de atualização em 23 de setembro de 2025. | G35: Valor sem BDI: | H35: =SINTÉTICA!K373 -> 3427813.3 | I35: =H35/H37 -> 0.81832252
G36: BDI: | H36: =SINTÉTICA!K374 -> 761015.93 | I36: =H36/H37 -> 0.18167748
G37: Total: | H37: =SUM(H13:H33) -> 4188829.2 | I37: =SUM(I5:I33) -> 1 | J37: =H37-SINTÉTICA!K375 -> 4.1909516e-09
B40: ______________________________________________
B41: Deivid Santos Coelho
B42: Engenheiro Civil
B43: CREA-MG: 232245/D

Sheet SINTÉTICA
B1: Obra | E1: Bancos | H1: B.D.I. | K1: Encargos Sociais
B2: REFORMA E AMPLIAÇÃO MERCADO MUNICIPAL MUNICÍPIO DE SERRO - MG | E2: SINAPI - 07/2025 - Minas Gerais SETOP/SICOR - 04/2025 - Minas Gerais SBC - 08/2025 - Minas Gerais ORSE - 06/2025 - Sergipe EMBASA - 01/2025 - Bahia CPOS - 02/2025 - São Paulo GOINFRA - 12/2024 - Goiás | H2: SERVIÇO: | I2: ='BDI SERVIÇOS'!$Z$21 -> 0.2223 | K2: Sem Desoneração
H3: EQUIPAMENTOS: | I3: ='BDI EQUIPAMENTOS'!$K$36 -> 0.1623 | K3: Horista: | L3: ='Encargos Sociais'!$G$48 -> 1.1679
K4: Mensalista: | L4: ='Encargos Sociais'!$H$48 -> 0.7393
A10: Planilha Orçamentária
A12: Item | B12: Código | C12: Banco | D12: Descrição | E12: Und | F12: Quant. | G12: Valor Unit | H12: Valor Total sem BDI | I12: Valor Unit com BDI | J12: Valor Total com BDI | K12: Total | L12: Peso (%)
A13: 1 | D13: ADMINISTRAÇÃO | K13: =SUM(K14:K23) -> 1010425.5 | L13: =K13/$K$375 -> 0.24121908
A14: 1.1 | D14: ADMINISTRAÇÃO LOCAL | K14: =SUM(J15:J15) -> 913997.33 | L14: =K14/$K$375 -> 0.21819876
A15: 1.1.1 | B15: COMP.ADM.01 | C15: PRORÍO | D15: ADMINISTRAÇÃO LOCAL DA OBRA | E15: Un. | F15: 1 | G15: 747768.41 | H15: =IF($G15="SEM",0,F15*G15) -> 747768.41 | I15: =IF($G15="SEM",0,G15*(1+'BDI SERVIÇOS'!$Z$21)) -> 913997.33 | J15: =F15*I15 -> 913997.33
A16: 1.2 | D16: SERVIÇO TÉCNICO DE PROJETOS | K16: =SUM(J17:J23) -> 96428.214 | L16: =K16/$K$375 -> 0.023020326
A17: 1.2.1 | B17: CO-27431 | C17: SETOP | D17: PROJETO EXECUTIVO DE INSTALAÇÕES ELÉTRICAS | E17: PR A1 | F17: 5 | G17: 1779.78 | H17: =IF($G17="SEM",0,F17*G17) -> 8898.9 | I17: =IF($G17="SEM",0,G17*(1+'BDI SERVIÇOS'!$Z$21)) -> 2175.4251 | J17: =F17*I17 -> 10877.125
A18: 1.2.2 | B18: CO-27430 | C18: SETOP | D18: PROJETO EXECUTIVO DE INSTALAÇÕES HIDROSSANITÁRIAS | E18: PR A1 | F18: 6 | G18: 1702.56 | H18: =IF($G18="SEM",0,F18*G18) -> 10215.36 | I18: =IF($G18="SEM",0,G18*(1+'BDI SERVIÇOS'!$Z$21)) -> 2081.0391 | J18: =F18*I18 -> 12486.235
A19: 1.2.3 | B19: CO-27427 | C19: SETOP | D19: PROJETO EXECUTIVO DE ESTRUTURA DE CONCRETO | E19: PR A1 | F19: 10 | G19: 1493 | H19: =IF($G19="SEM",0,F19*G19) -> 14930 | I19: =IF($G19="SEM",0,G19*(1+'BDI SERVIÇOS'!$Z$21)) -> 1824.8939 | J19: =F19*I19 -> 18248.939
A20: 1.2.4 | B20: CO-27428 | C20: SETOP | D20: PROJETO EXECUTIVO DE ESTRUTURA METÁLICA | E20: PR A1 | F20: 10 | G20: 2164.38 | H20: =IF($G20="SEM",0,F20*G20) -> 21643.8 | I20: =IF($G20="SEM",0,G20*(1+'BDI SERVIÇOS'!$Z$21)) -> 2645.5217 | J20: =F20*I20 -> 26455.217
A21: 1.2.5 | B21: 4365 | C21: SBC | D21: PROJETO "AS BUILT" DE ARQUITETURA | E21: M2 | F21: 870.32 | G21: 9.66 | H21: =IF($G21="SEM",0,F21*G21) -> 8407.2912 | I21: =IF($G21="SEM",0,G21*(1+'BDI SERVIÇOS'!$Z$21)) -> 11.807418 | J21: =F21*I21 -> 10276.232
A22: 1.2.6 | B22: 141 | C22: SBC | D22: PROJETO "AS BUILT" DE INSTALACOES ELETRICAS | E22: M2 | F22: 870.32 | G22: 9.39 | H22: =IF($G22="SEM",0,F22*G22) -> 8172.3048 | I22: =IF($G22="SEM",0,G22*(1+'BDI SERVIÇOS'!$Z$21)) -> 11.477397 | J22: =F22*I22 -> 9989.0082
A23: 1.2.7 | B23: 64 | C23: SBC | D23: PROJETO "AS BUILT" DE INSTALACOES HIDRAULICAS | E23: M2 | F23: 870.32 | G23: 7.61 | H23: =IF($G23="SEM",0,F23*G23) -> 6623.1352 | I23: =IF($G23="SEM",0,G23*(1+'BDI SERVIÇOS'!$Z$21)) -> 9.301703 | J23: =F23*I23 -> 8095.4582
A24: 2 | D24: SERVIÇOS PRELIMINARES | K24: =SUM(J25:J34) -> 116753.91 | L24: =K24/$K$375 -> 0.027872684
A25: 2.1 | B25: ED-28429 | C25: SETOP | D25: FORNECIMENTO E COLOCAÇÃO DE PLACA DE OBRA EM CHAPA GALVANIZADA #26, ESP. 0,45MM, DIMENSÃO (6X3)M, PLOTADA COM ADESIVO VINÍLICO, AFIXADA COM REBITES 4,8X40MM, EM ESTRUTURA METÁLICA DE METALON 20X20MM, ESP. 1,25MM, INCLUSIVE SUPORTE EM EUCALIPTO AUTOCLAVADO PINTADO COM TINTA PVA DUAS (2) DEMÃOS | E25: un | F25: 1 | G25: 4624.74 | H25: =IF($G25="SEM",0,F25*G25) -> 4624.74 | I25: =IF($G25="SEM",0,G25*(1+'BDI SERVIÇOS'!$Z$21)) -> 5652.8197 | J25: =F25*I25 -> 5652.8197
A26: 2.2 | B26: ED-50159 | C26: SETOP | D26: TAPUME FIXO DE PROTEÇÃO PARA FECHAMENTO DE OBRA EM CHAPA DE COMPENSADO, ESP. 12MM, COM MÓDULO NA DIMENSÃO DE (110X220)CM, INCLUSIVE PINTURA LÁTEX (PVA) COM DUAS (2) DEMÃOS, EXCLUSIVE ABERTURA PARA PORTÃO | E26: m | F26: 180 | G26: 220.71 | H26: =IF($G26="SEM",0,F26*G26) -> 39727.8 | I26: =IF($G26="SEM",0,G26*(1+'BDI SERVIÇOS'!$Z$21)) -> 269.77383 | J26: =F26*I26 -> 48559.29
A27: 2.3 | B27: ED-50130 | C27: SETOP | D27: BARRACÃO DE OBRA PARA INSTALAÇÃO SANITÁRIA TIPO-I, ÁREA INTERNA 14,52M2, EM CHAPA DE COMPENSADO RESINADO (OBRA DE PEQUENO PORTE, EFETIVO ATÉ 30 HOMENS), PADRÃO DER-MG | E27: un | F27: 1 | G27: 10042.73 | H27: =IF($G27="SEM",0,F27*G27) -> 10042.73 | I27: =IF($G27="SEM",0,G27*(1+'BDI SERVIÇOS'!$Z$21)) -> 12275.229 | J27: =F27*I27 -> 12275.229
A28: 2.4 | B28: ED-50133 | C28: SETOP | D28: BARRACÃO DE OBRA PARA REFEITÓRIO TIPO-I, ÁREA INTERNA 18,15M2, EM CHAPA DE COMPENSADO RESINADO (OBRA DE MÉDIO PORTE, EFETIVO DE 30 A 60 HOMENS), PADRÃO DER-MG | E28: un | F28: 1 | G28: 11403.4 | H28: =IF($G28="SEM",0,F28*G28) -> 11403.4 | I28: =IF($G28="SEM",0,G28*(1+'BDI SERVIÇOS'!$Z$21)) -> 13938.376 | J28: =F28*I28 -> 13938.376
A29: 2.5 | B29: ED-50126 | C29: SETOP | D29: BARRACÃO DE OBRA PARA VESTIÁRIO TIPO-I, ÁREA INTERNA 25,41M2, EM CHAPA DE COMPENSADO RESINADO, INCLUSIVE MOBILIÁRIO (OBRA DE PEQUENO PORTE, EFETIVO ATÉ 30 HOMENS), PADRÃO DER-MG | E29: un | F29: 1 | G29: 16222.98 | H29: =IF($G29="SEM",0,F29*G29) -> 16222.98 | I29: =IF($G29="SEM",0,G29*(1+'BDI SERVIÇOS'!$Z$21)) -> 19829.348 | J29: =F29*I29 -> 19829.348
A30: 2.6 | B30: ED-50150 | C30: SETOP | D30: LIGAÇÃO DE ÁGUA PROVISÓRIA PARA CANTEIRO, INCLUSIVE HIDRÔMETRO E CAVALETE PARA MEDIÇÃO DE ÁGUA - ENTRADA PRINCIPAL, EM AÇO GALVANIZADO DN 20MM (1/2") - PADRÃO CONCESSIONÁRIA | E30: un | F30: 1 | G30: 574.82 | H30: =IF($G30="SEM",0,F30*G30) -> 574.82 | I30: =IF($G30="SEM",0,G30*(1+'BDI SERVIÇOS'!$Z$21)) -> 702.60249 | J30: =F30*I30 -> 702.60249
A31: 2.7 | B31: ED-31745 | C31: SETOP | D31: LIGAÇÃO DE ESGOTO PARA BARRACÃO DE OBRA EM CANTEIRO, EXCLUSIVE FOSSA SÉPTICA | E31: un | F31: 1 | G31: 845.13 | H31: =IF($G31="SEM",0,F31*G31) -> 845.13 | I31: =IF($G31="SEM",0,G31*(1+'BDI SERVIÇOS'!$Z$21)) -> 1033.0024 | J31: =F31*I31 -> 1033.0024
A32: 2.8 | B32: ED-50151 | C32: SETOP | D32: LIGAÇÃO PROVISÓRIA COM ENTRADA DE ENERGIA AÉREA, PADRÃO CEMIG, CARGA INSTALADA DE 15,1KVA ATÉ 30KVA, TRIFÁSICO, COM SAÍDA SUBTERRÂNEA, INCLUSIVE POSTE, CAIXA PARA MEDIDOR, DISJUNTOR, BARRAMENTO, ATERRAMENTO E ACESSÓRIOS | E32: un | F32: 1 | G32: 1069.92 | H32: =IF($G32="SEM",0,F32*G32) -> 1069.92 | I32: =IF($G32="SEM",0,G32*(1+'BDI SERVIÇOS'!$Z$21)) -> 1307.7632 | J32: =F32*I32 -> 1307.7632
A33: 2.9 | B33: 98524 | C33: SINAPI | D33: LIMPEZA MANUAL DE VEGETAÇÃO EM TERRENO COM ENXADA. AF_03/2024 | E33: M2 | F33: 500 | G33: 4.82 | H33: =IF($G33="SEM",0,F33*G33) -> 2410 | I33: =IF($G33="SEM",0,G33*(1+'BDI SERVIÇOS'!$Z$21)) -> 5.891486 | J33: =F33*I33 -> 2945.743
A34: 2.10 | B34: IPHAN.01 | C34: Composição | D34: PAINEL INFORMATIVO PARA AÇÕES DO IPHAN, APLICADO SOBRE TAPUME DE OBRA, 1,80 DE ALTURA E 1,60 DE LARGURA, IMPRESSO EM LONA 440 GRAMAS, INSTALADO EM ESTRUTURA DE TUBO METALON GALVANIZADO 20 X 20 (ESPESSURA COMERCIAL DE 0,9 MM). | E34: un | F34: 10 | G34: 859.83309 | H34: =IF($G34="SEM",0,F34*G34) -> 8598.3309 | I34: =IF($G34="SEM",0,G34*(1+'BDI SERVIÇOS'!$Z$21)) -> 1050.974 | J34: =F34*I34 -> 10509.74
A35: 3 | D35: DRENAGEM E PAVIMENTAÇÃO DA TRAVESSA MAGALHÃES | K35: =SUM(K36+K43+K71) -> 1466672.2 | L35: =K35/$K$375 -> 0.35013894
A36: 3.1 | D36: DOCUMENTAÇÃO ARQUEOLÓGICA | K36: =SUM(J37:J42) -> 159094.57 | L36: =K36/$K$375 -> 0.037980676
A37: 3.1.1 | B37: ARQ01 | C37: MERCADO | D37: ELABORAÇÃO DE RELATÓRIO FCA | E37: UNID | F37: 1 | G37: 1200 | H37: =IF($G37="SEM",0,F37*G37) -> 1200 | I37: =IF($G37="SEM",0,G37*(1+'BDI SERVIÇOS'!$Z$21)) -> 1466.76 | J37: =F37*I37 -> 1466.76
A38: 3.1.2 | B38: ARQ02 | C38: MERCADO | D38: ELABORAÇÃO DE RELATÓRIO INICIAL | E38: UNID | F38: 10 | G38: 4480 | H38: =IF($G38="SEM",0,F38*G38) -> 44800 | I38: =IF($G38="SEM",0,G38*(1+'BDI SERVIÇOS'!$Z$21)) -> 5475.904 | J38: =F38*I38 -> 54759.04
A39: 3.1.3 | B39: ARQ03 | C39: MERCADO | D39: ELABORAÇÃO DE RELATÓRIO FINAL | E39: UNID | F39: 10 | G39: 4480 | H39: =IF($G39="SEM",0,F39*G39) -> 44800 | I39: =IF($G39="SEM",0,G39*(1+'BDI SERVIÇOS'!$Z$21)) -> 5475.904 | J39: =F39*I39 -> 54759.04
A40: 3.1.4 | B40: CO-33095 | C40: SETOP | D40: ARQUEÓLOGO, NÍVEL SÊNIOR, INCLUSIVE ENCARGOS COMPLEMENTARES | E40: H | F40: 400 | G40: 63.28 | H40: =IF($G40="SEM",0,F40*G40) -> 25312 | I40: =IF($G40="SEM",0,G40*(1+'BDI SERVIÇOS'!$Z$21)) -> 77.347144 | J40: =F40*I40 -> 30938.858
A41: 3.1.5 | B41: 88322 | C41: SINAPI | D41: TÉCNICO EM SONDAGEM COM ENCARGOS COMPLEMENTARES | E41: H | F41: 400 | G41: 27.62 | H41: =IF($G41="SEM",0,F41*G41) -> 11048 | I41: =IF($G41="SEM",0,G41*(1+'BDI SERVIÇOS'!$Z$21)) -> 33.759926 | J41: =F41*I41 -> 13503.97
A42: 3.1.6 | B42: ARQ04 | C42: MERCADO | D42: ENDOSSO INSTITUCIONAL | E42: UNID | F42: 1 | G42: 3000 | H42: =IF($G42="SEM",0,F42*G42) -> 3000 | I42: =IF($G42="SEM",0,G42*(1+'BDI SERVIÇOS'!$Z$21)) -> 3666.9 | J42: =F42*I42 -> 3666.9
A43: 3.2 | D43: REMOÇÕES, ESCAVAÇÕES E DISPOSITIVOS DE DRENAGEM | K43: =SUM(J44:J70) -> 856351.42 | L43: =K43/$K$375 -> 0.20443694
A44: 3.2.1 | B44: RO-41211 | C44: SETOP | D44: REMOÇÃO E CARGA DE TODO PAVIMENTO EXISTENTE | E44: m3 | F44: ='MC DRENAGEM'!E13 -> 406.376 | G44: 10.88 | H44: =IF($G44="SEM",0,F44*G44) -> 4421.3709 | I44: =IF($G44="SEM",0,G44*(1+'BDI SERVIÇOS'!$Z$21)) -> 13.298624 | J44: =F44*I44 -> 5404.2416
A45: 3.2.2 | B45: 102322 | C45: SINAPI | D45: ESCAVAÇÃO MECANIZADA DE VALA COM PROF. ATÉ 1,5 M (MÉDIA MONTANTE E JUSANTE/UMA COMPOSIÇÃO POR TRECHO), RETROESCAV. (0,26 M3), LARG. MENOR QUE 0,8 M, EM SOLO DE 2A CATEGORIA, EM LOCAIS COM ALTO NÍVEL DE INTERFERÊNCIA. AF_09/2024 | E45: M3 | F45: ='MC DRENAGEM'!E17 -> 1117.2 | G45: 20.37 | H45: =IF($G45="SEM",0,F45*G45) -> 22757.364 | I45: =IF($G45="SEM",0,G45*(1+'BDI SERVIÇOS'!$Z$21)) -> 24.898251 | J45: =F45*I45 -> 27816.326
A46: 3.2.3 | B46: ED-51132 | C46: SETOP | D46: CARGA MECÂNICA DE MATERIAL DE QUALQUER NATUREZA SOBRE CAMINHÃO, EXCLUSIVE TRANSPORTE | E46: m3 | F46: ='MC DRENAGEM'!E25 -> 406.376 | G46: 3.42 | H46: =IF($G46="SEM",0,F46*G46) -> 1389.8059 | I46: =IF($G46="SEM",0,G46*(1+'BDI SERVIÇOS'!$Z$21)) -> 4.180266 | J46: =F46*I46 -> 1698.7598
...

Sheet ANALÍTICA
B2: Obra | F2: Bancos | G2: B.D.I. | I2: Encargos Sociais
B3: REFORMA E AMPLIAÇÃO MERCADO MUNICIPAL MUNICÍPIO DE SERRO - MG | F3: SINAPI - 07/2025 - Minas Gerais SETOP/SICOR - 04/2025 - Minas Gerais SBC - 08/2025 - Minas Gerais ORSE - 06/2025 - Sergipe EMBASA - 01/2025 - Bahia CPOS - 02/2025 - São Paulo GOINFRA - 12/2024 - Goiás | G3: SERVIÇO: | H3: 0.2223 | I3: Sem Desoneração
G4: EQUIPAMENTOS: | H4: 0.1623 | I4: Horista: | J4: =RESUMO!H3 -> 1.1679
I5: Mensalista: | J5: =RESUMO!H4 -> 0.7393
A11: Composição Analítica com Preço unitário sem BDI
A13: 1 | E13: ADMINISTRAÇÃO LOCAL
A14: 1.1 | B14: Item | C14: Código | D14: Banco | E14: Descrição | F14: Tipo | G14: Un. | H14: Qtd. | I14: Preço | J14: Total
A15: Composição | B15: 1.1 | C15: COMP.ADM.01 | D15: Composição | E15: ADMINISTRAÇÃO LOCAL DA OBRA | G15: Un. | H15: 1 | I15: 747768.41 | J15: =SUM(J16:J20) -> 747768.41
A16: Composição | C16: 93567 | D16: SINAPI | E16: ENGENHEIRO CIVIL DE OBRA PLENO COM ENCARGOS COMPLEMENTARES | F16: SERVIÇOS DIVERSOS | G16: MES | H16: 15 | I16: 23908.02 | J16: =H16*I16 -> 358620.3
A17: Composição | C17: 93572 | D17: SINAPI | E17: ENCARREGADO GERAL DE OBRAS COM ENCARGOS COMPLEMENTARES | F17: SERVIÇOS DIVERSOS | G17: MES | H17: 15 | I17: 11968.97 | J17: =H17*I17 -> 179534.55
A18: Composição | C18: 93564 | D18: SINAPI | E18: APONTADOR OU APROPRIADOR COM ENCARGOS COMPLEMENTARES | F18: SERVIÇOS DIVERSOS | G18: MES | H18: 15 | I18: 4211.95 | J18: =H18*I18 -> 63179.25
A19: Composição | C19: 94296 | D19: SINAPI | E19: TOPOGRAFO COM ENCARGOS COMPLEMENTARES | F19: SERVIÇOS DIVERSOS | G19: MES | H19: 4 | I19: 8424.44 | J19: =H19*I19 -> 33697.76
A20: Composição | C20: 100321 | D20: SINAPI | E20: TÉCNICO EM SEGURANÇA DO TRABALHO COM ENCARGOS COMPLEMENTARES | F20: SERVIÇOS DIVERSOS | G20: MES | H20: 15 | I20: 7515.77 | J20: =H20*I20 -> 112736.55
A22: 2 | E22: SERVIÇOS PRELIMINARES
A23: 2.10 | B23: Item | C23: Código | D23: Banco | E23: Descrição | F23: Tipo | G23: Un. | H23: Qtd. | I23: Preço | J23: Total
A24: Composição | B24: 2.10 | C24: IPHAN.01 | D24: Composição | E24: PAINEL INFORMATIVO PARA AÇÕES DO IPHAN, APLICADO SOBRE TAPUME DE OBRA, 1,80 DE ALTURA E 1,60 DE LARGURA, IMPRESSO EM LONA 440 GRAMAS, INSTALADO EM ESTRUTURA DE TUBO METALON GALVANIZADO 20 X 20 (ESPESSURA COMERCIAL DE 0,9 MM). | G24: M² | H24: 1 | I24: 859.83309 | J24: =SUM(J25:J32) -> 859.83309
A25: Composição | C25: 88251 | D25: SINAPI | E25: AUXILIAR DE SERRALHEIRO COM ENCARGOS COMPLEMENTARES | F25: SERVIÇOS DIVERSOS | G25: H | H25: 8 | I25: 25.02 | J25: =H25*I25 -> 200.16
A26: Composição | C26: 12.07.01 | D26: EMBASA | E26: CORTE E ESMERILHAMENTO EM TUBO DE FOFO DÚCTIL OU AÇO CARBONO, DN < 100MM | F26: SERVIÇOS DIVERSOS | G26: UN | H26: 10 | I26: 5.16 | J26: =H26*I26 -> 51.6
A27: Composição | C27: 88315 | D27: SINAPI | E27: SERRALHEIRO COM ENCARGOS COMPLEMENTARES | F27: SERVIÇOS DIVERSOS | G27: H | H27: 4 | I27: 30.97 | J27: =H27*I27 -> 123.88
A28: Composição | C28: 24.20.090 | D28: CPOS | E28: SOLDA MIG EM ESQUADRIAS METÁLICAS | F28: SERVIÇOS DIVERSOS | G28: M | H28: 0.54624 | I28: 51.2 | J28: =H28*I28 -> 27.967488
A29: Insumo | C29: N.04.000.039114 | D29: CPOS | E29: BANNER EM LONA COM IMPRESSÃO DIGITALMENTE, COM BAINHA REFORÇADA E ILHOSES | F29: MATERIAL | G29: m² | H29: 2.88 | I29: 115.53 | J29: =H29*I29 -> 332.7264
A30: Insumo | C30: 2771 | D30: GOINFRA | E30: METALON 20 X 20 CHAPA 20 (0,90 MM) | F30: MATERIAL | G30: Kg | H30: 4.61 | I30: 10.72 | J30: =H30*I30 -> 49.4192
A31: Insumo | C31: 40552 | D31: SINAPI | E31: PARAFUSO, AUTOATARRAXANTE, CABECA CHATA, FENDA SIMPLES, EM ACO ZINCADO, 1/4" (6,35 MM) X 25 MM | F31: MATERIAL | G31: CENTO | H31: 1 | I31: 61.68 | J31: =H31*I31 -> 61.68
A32: Insumo | C32: E.03.000.026653 | D32: CPOS | E32: PARAFUSO AUTO-ATARRAXANTE/AUTO-BROCANTE EM AÇO MÉDIO CARBONO, COM ACABAMENTO ZINCADO BRANDO, DE 12 X 38 MM - COM ARRUELA DE VEDAÇÃO | F32: MATERIAL | G32: UN | H32: 40 | I32: 0.31 | J32: =H32*I32 -> 12.4
A34: 3 | E34: REVESTIMENTO DE PISOS
A35: 3.2.6 | B35: Item | C35: Código | D35: Banco | E35: Descrição | F35: Tipo | G35: Un. | H35: Qtd. | I35: Preço | J35: Total
A36: Composição | B36: 3.2.6 | C36: SERRO-150 | D36: Composição | E36: REATERRO MANUAL APILOADO COM SOQUETE - BASEADO SINAPI (96995) | G36: m³ | H36: 1 | I36: 54.31336 | J36: =SUM(J37:J37) -> 54.31336
A37: Composição | C37: 88316 | D37: SINAPI | E37: SERVENTE COM ENCARGOS COMPLEMENTARES | F37: SERVIÇOS DIVERSOS | G37: H | H37: 2.399 | I37: 22.64 | J37: =H37*I37 -> 54.31336
A39: 3.2.15 | B39: Item | C39: Código | D39: Banco | E39: Descrição | F39: Tipo | G39: Un. | H39: Qtd. | I39: Preço | J39: Total
A40: Composição | B40: 3.2.15 | C40: GRELHA.01 | D40: Composição | E40: GRELHA DE FERRO FUNDIDO PARA BOCA DE LOBOBASEADO SETOP (48549) | G40: M² | H40: 1 | I40: 1631.02 | J40: =SUM(J41:J44) -> 1631.02
A41: Composição | C41: ED-50381 | D41: SETOP | E41: PEDREIRO COM ENCARGOS COMPLEMENTARES | F41: SERVIÇOS DIVERSOS | G41: hora | H41: 0.5 | I41: 31.22 | J41: =H41*I41 -> 15.61
A42: Composição | C42: ED-50367 | D42: SETOP | E42: SERVENTE COM ENCARGOS COMPLEMENTARES | F42: SERVIÇOS DIVERSOS | G42: hora | H42: 0.5 | I42: 22.66 | J42: =H42*I42 -> 11.33
A43: Insumo | C43: MATED-12823 | D43: SETOP | E43: CANTONEIRA PARA BOCA DE LOBO EM F°F° | F43: MATERIAL | G43: Un. | H43: 1 | I43: 409.49 | J43: =H43*I43 -> 409.49
A44: Insumo | C44: MATED-12826 | D44: SETOP | E44: CONJUNTO QUADRO E GRELHA DE FERRO FUNDIDO P=199KG PARA BOCA DE LOBO | F44: MATERIAL | G44: Un. | H44: 1 | I44: 1194.59 | J44: =H44*I44 -> 1194.59
A46: 3.3.7 | B46: Item | C46: Código | D46: Banco | E46: Descrição | F46: Tipo | G46: Un. | H46: Qtd. | I46: Preço | J46: Total
A47: Composição | B47: 3.3.7 | C47: SERRO-RP-01 | D47: Composição | E47: REASSENTAMENTODE LAJE QUARTZÍTICAS | G47: M² | H47: 1 | I47: 60.045872 | J47: =SUM(J48:J53) -> 60.045872
A48: Composição | C48: 88628 | D48: SINAPI | E48: ARGAMASSA TRAÇO 1:3 (EM VOLUME DE CIMENTO E AREIA MÉDIA ÚMIDA), PREPARO MECÂNICO COM BETONEIRA 400 L. AF_08/2019 | F48: SERVIÇOS DIVERSOS | G48: M3 | H48: 0.0204 | I48: 640.65 | J48: =H48*I48 -> 13.06926
A49: Composição | C49: 88316 | D49: SINAPI | E49: SERVENTE COM ENCARGOS COMPLEMENTARES | G49: H | H49: 0.4021 | I49: 22.64 | J49: =H49*I49 -> 9.103544
A50: Composição | C50: 88260 | D50: SINAPI | E50: CALCETEIRO COM ENCARGOS COMPLEMENTARES | G50: H | H50: 0.4021 | I50: 23.98 | J50: =H50*I50 -> 9.642358
A51: Composição | C51: 5685 | D51: SINAPI | E51: ROLO COMPACTADOR VIBRATÓRIO DE UM CILINDRO AÇO LISO, POTÊNCIA 80 HP, PESO OPERACIONAL MÁXIMO 8,1 T, IMPACTO DINÂMICO 16,15 / 9,5 T, LARGURA DE TRABALHO 1,68 M - CHI DIURNO. AF_06/2014 | G51: CHI | H51: 0.1309 | I51: 66.27 | J51: =H51*I51 -> 8.674743
...

Sheet QCP
A1: Obra | M1: Bancos
A2: REFORMA E AMPLIAÇÃO MERCADO MUNICIPAL MUNICÍPIO DE SERRO - MG | M2: PESQUISA DE MERCADO
A3: QUADRO COMPARATIVO DE PROPOSTA - PREÇO FINAL (MEDIANO)
C6: DESCRIÇÃO DO INSUMO (PRODUTO/EQUIPAMENTO/FERRAMENTA/SERVIÇO
A7: 1 | C7: DECK EM MADEIRA PLÁSTICA | Q7: UNID. | S7: ud | T7: PREÇO UNIT.
A9: REFERENCIA NA CPU | C9: NOME DA EMPRESA | F9: CNPJ | I9: TELEFONE | L9: LINK | O9: DATA | Q9: m² | S9: Quant | T9: PREÇO UNIT. | U9: PREÇO TOTAL
A10: DECK.01 | C10: Deck Deck | F10: 30.297.385/0001-61 | I10: (11) 97855-4676 | L10: https://deckdeck.com.br/produto/deck-madeira-plastica-wpc-brown-regua-25x145x300m-0870m2-caixa-com-02-pecas/ | O10: 45909 | Q10: m² | S10: 1 | T10: 433.7 | U10: =S10*T10 -> 433.7
C11: Você Constroi | F11: 61.740.510/0001-90 | L11: https://www.voceconstroi.com.br/produto/deck-regua-espacofloor-wpc-teca-15x290cm-71935 | O11: 45909 | Q11: m² | S11: 2.2988 | T11: 188.96 | U11: =S11*T11 -> 434.38125
C12: BR Floor | F12: 13.985.720/0001-03 | I12: (16) 99225-4574 | L12: https://www.brfloor.com.br/deck-area-externa-em-wpc?parceiro=9868&gad_source=4&gclid=Cj0KCQjwjLGyBhCYARIsAPqTz19oIRk_9PnE4OBOkcrKXSIaBdnCU0RYQb5wRlHMtVgrr6PekiFAuu4aAloOEALw_wcB | O12: 45909 | Q12: m² | S12: 2.3299 | T12: 165.6 | U12: =S12*T12 -> 385.83144
A13: OBS: Veja Anexo I - Cotação de Mercado | R13: Mediana: | T13: =MEDIAN(U10:U12) -> 433.7
C15: DESCRIÇÃO DO INSUMO (PRODUTO/EQUIPAMENTO/FERRAMENTA/SERVIÇO
A16: 2 | C16: PUXADOR PARA PORTA DUPLO, 80CM, EM AÇO INOX, LINHA: JADE, REF.:SYNETR OU EQUIVALENTE | Q16: UNID. | S16: ud | T16: PREÇO UNIT.
A18: REFERENCIA NA CPU | C18: NOME DA EMPRESA | F18: CNPJ | I18: TELEFONE | L18: LINK | O18: DATA | Q18: UNID. | S18: Quant | T18: PREÇO UNIT. | U18: PREÇO TOTAL
A19: ESQ.01 | C19: LaRoss | F19: 15.442.567/0001-95 | I19: (48) 9695-2871 | L19: https://lista.mercadolivre.com.br/puxador-duplo-de-porta-inox-df-926-cromado-italy-line-800mm?redirectedFromEshopZrp=551d748ccc1f48c8a66e208930765c2c122266877#D[A:Puxador%20Duplo%20De%20Porta%20Inox%20Df%20926%20Cromado%20Italy%20Line%20800MM,La%20Ross] | O19: 45909 | Q19: ud | S19: 1 | T19: 543.9 | U19: =S19*T19 -> 543.9
C20: Loja do Puxador | F20: 20.056.068/0001-08 | I20: (14) 9 9904- 2945 | L20: https://www.lojadopuxador.com.br/puxador-para-porta/puxadores-80-cm-para-portas-inox-escovado-pleno?parceiro=6531 | O20: 45909 | Q20: ud | S20: 1 | T20: =136.15*2 -> 272.3 | U20: =S20*T20 -> 272.3
C21: Formatto Puxadores e Fechaduras | F21: 23.454.833/0001-28 | I21: (49) 99916-1252 | L21: https://www.formattopuxadores.com.br/puxador-duplo-de-porta-inox-df-926-cromado-italy-line-800mm?utm_source=google&utm_medium=Shopping&utm_campaign=puxador-duplo-de-porta-inox-df-926-cromado-italy-line-800mm&inStock#derivacao=501 | O21: 45909 | Q21: ud | S21: 1 | T21: 398.81 | U21: =S21*T21 -> 398.81
A22: OBS: Veja Anexo I - Cotação de Mercado | R22: Mediana: | T22: =MEDIAN(U19:U21) -> 398.81
C24: DESCRIÇÃO DO INSUMO (PRODUTO/EQUIPAMENTO/FERRAMENTA/SERVIÇO
A25: 3 | C25: REVESTIMENTO EM ACM DOS 8 PILARES ESPAÇO DA FEIRA | Q25: UNID. | S25: ud | T25: PREÇO UNIT.
A27: REFERENCIA NA CPU | C27: NOME DA EMPRESA | F27: CNPJ | I27: TELEFONE | L27: CONTATO | O27: DATA | Q27: UNID. | S27: Quant | T27: PREÇO UNIT. | U27: PREÇO TOTAL
A28: DIV.04 | C28: Arte Comunicação | F28: 19.002.324/0001-97 | I28: (38) 3531-7923 | L28: LUCAS | O28: 45440 | Q28: ud | S28: 1 | T28: =SUM(18332.2+25786.8+11762.4) -> 55881.4 | U28: =S28*T28 -> 55881.4
C29: Evouliu Projetos Visuais | F29: 11.005.178/0001-41 | I29: (31) 2568-6368 | L29: Warley | O29: 45440 | Q29: ud | S29: 1 | T29: =35120+16520 -> 51640 | U29: =S29*T29 -> 51640
C30: Clips Digital | I30: (31)9576-5816 | O30: 45449 | Q30: ud | S30: 1 | T30: 0 | U30: =S30*T30 -> 0
A31: OBS: Veja Anexo I - Cotação de Mercado | R31: Mediana: | T31: =MEDIAN(U28:U30) -> 51640
C33: DESCRIÇÃO DO INSUMO (PRODUTO/EQUIPAMENTO/FERRAMENTA/SERVIÇO
A34: 4 | C34: LETREIRO EM ACM "MERCADO MUNICIPAL" | Q34: UNID. | S34: ud | T34: PREÇO UNIT.
A36: REFERENCIA NA CPU | C36: NOME DA EMPRESA | F36: CNPJ | I36: TELEFONE | L36: LINK | O36: DATA | Q36: UNID. | S36: Quant | T36: PREÇO UNIT. | U36: PREÇO TOTAL
A37: DIV.05 | C37: Arte Comunicação | F37: 19.002.324/0001-97 | I37: (38) 3531-7923 | L37: LUCAS | O37: 45440 | Q37: ud | S37: 1 | T37: 5200 | U37: =S37*T37 -> 5200
C38: Evouliu Projetos Visuais | F38: 11.005.178/0001-41 | I38: (31) 2568-6368 | L38: Warley | O38: 45440 | Q38: ud | S38: 1 | T38: =SUM(1422+1651.5) -> 3073.5 | U38: =S38*T38 -> 3073.5
C39: - | Q39: ud | S39: 1 | T39: 0 | U39: =S39*T39 -> 0
A40: OBS: Veja Anexo I - Cotação de Mercado | R40: Mediana: | T40: =MEDIAN(U37:U39) -> 3073.5
C42: DESCRIÇÃO DO INSUMO (PRODUTO/EQUIPAMENTO/FERRAMENTA/SERVIÇO
A43: 5 | C43: ELABORAÇÃO DE RELATÓRIO FCA | Q43: UNID. | S43: ud | T43: PREÇO UNIT.
A45: REFERENCIA NA CPU | C45: NOME DA EMPRESA | F45: CNPJ | I45: TELEFONE | L45: CONTATO | O45: DATA | Q45: UNID. | S45: Quant | T45: PREÇO UNIT. | U45: PREÇO TOTAL
A46: ARQ01 | C46: Múndi Soluções Ambientais | F46: 22.819.133/0001-27 | I46: (38) 99927-7457 | L46: Gilson Demetrio | O46: 45709 | Q46: ud | S46: 1 | T46: 1200 | U46: =S46*T46 -> 1200
Q47: ud | S47: 1 | U47: =S47*T47 -> 0
Q48: ud | S48: 1 | U48: =S48*T48 -> 0
A49: OBS: Veja Anexo I - Cotação de Mercado | R49: Mediana: | T49: =T46 -> 1200
C51: DESCRIÇÃO DO INSUMO (PRODUTO/EQUIPAMENTO/FERRAMENTA/SERVIÇO
A52: 7 | C52: ELABORAÇÃO DE RELATÓRIO INICIAL | Q52: UNID. | S52: ud | T52: PREÇO UNIT.
...

Sheet BDI EQUIPAMENTOS
B1: CALCULO DO BDI EQUIPAMENTOS
B4: TÍTULO | J4: FOLHA:
B5: REFORMA E AMPLIAÇÃO MERCADO MUNICIPAL MUNICÍPIO DE SERRO - MG | J5: 1
J6: DATA:
J7: 9/2025
J8: PRAZO:
J9: Vigência
B11: Empreendimento
B13: Município | K13: UF
B14: SERRO | K14: MG
B15: Parâmetros para cálculo do BDI
B16: Itens Admissíveis | C16: Intervalos admissíveis sem justificativa | I16: Índices adotados
B18: Administração Central (AC) | C18: De | D18: 0.015 | F18: até | G18: 0.0449 | I18: Administração Central (AC) | K18: 0.04 | N18: 0.0425 | Q18: 0.03
B19: Seguro e Garantia (S+G) | C19: De | D19: 0.003 | F19: até | G19: 0.0082 | I19: Seguro e Garantia (S+G) | K19: 0.008 | N19: 0.009 | Q19: 0.008
B20: Risco (R) | C20: De | D20: 0.0045 | F20: até | G20: 0.0089 | I20: Risco (R) | K20: 0.008 | N20: 0.0123 | Q20: 0.0097
B21: Despesas financeiras (DF) | C21: De | D21: 0.0085 | F21: até | G21: 0.0111 | I21: Despesas financeiras (DF) | K21: 0.01 | N21: 0.0095 | Q21: 0.0059
B22: Lucro (L) | C22: De | D22: 0.035 | F22: até | G22: 0.0622 | I22: Lucro (L) | K22: 0.05 | N22: 0.0633 | Q22: 0.0616
B23: Tributos (T) | C23: De | D23: 0.0365 | F23: até | G23: 0.0665 | I23: Tributos (T) | K23: 0.0365 | N23: 0.0865 | Q23: 0.0703
B24: ISS | K24: 0
B25: PIS | K25: 0.0065
B26: CONFINS | K26: 0.03
B27: INSS desoneração (E) | D27: 0 | F27: ou | G27: 0.045 | I27: INSS desoneração (E) | K27: 0 | N27: 0.045 | Q27: 0
B28: Controle
B29: Administração Central (AC) | C29: =IF(K18>G18,"Incidência maior que a permitida",IF(K18<D18,"Incidência menor que a permitida","ok")) -> ok
B30: Seguro e Garantia (S+G) | C30: =IF(K19>G19,"Incidência maior que a permitida",IF(K19<0,"Incidência menor que a permitida","ok")) -> ok | L30: BDI ADMISSÍVEL | M30: BDI NÃO ADMISSÍVEL
B31: Risco (R) | C31: =IF(K20>G20,"Incidência maior que a permitida",IF(K20<0,"Incidência menor que a permitida","ok")) -> ok | L31: 0.2646 | M31: 0.3148
B32: Despesas financeiras (DF) | C32: =IF(K21>G21,"Incidência maior que a permitida",IF(K21<D21,"Incidência menor que a permitida","ok")) -> ok | L32: 0.111 | M32: 0.168
B33: Lucro (L) | C33: =IF(K22>G22,"Incidência maior que a permitida",IF(K22<D22,"Incidência menor que a permitida","ok")) -> ok
B34: Tributos (T) | C34: =IF(K23>G23,"Incidência maior que a permitida",IF(K23<D23,"Incidência menor que a permitida","ok")) -> ok
B35: INSS desoneração (E) | C35: =IF(K27=D27,"ok",IF(K27=G27,"ok","Incidência não permitida")) -> ok
B36: BDI CALCULADO ----> | C36: BDI =[(1+AC+S+R+G)*(1+DF)*(1+L)/(1-(T+E))-1] | K36: =ROUND(((1+K18+K19+K20)*(1+K21)*(1+K22)/(1-(K23+K27))-1),4) -> 0.1623
B37: =IF(K27=0.045,IF(AND(K36>=L31,K36<=M31),L30,M30),IF(AND(K36>=L32,K36<=M32),L30,M30)) -> BDI ADMISSÍVEL

Sheet BDI SERVIÇOS
A1: BDI - SERVIÇOS | AB1: 1 | AF1: CONSTRUÇÃO DE EDIFÍCIOS | AG1: 0.04 | AH1: 0.008 | AI1: 0.0127 | AJ1: 0.0123 | AK1: 0.074
A2: CONTRATANTE: | B2: PREFEITURA MUNICIPAL DE SERRO | S2: PLANILHA MODELO: | Z2: REV_00 | AF2: CONSTRUÇÃO DE RODOVIAS E FERROVIAS | AG2: 0.0401 | AH2: 0.004 | AI2: 0.0056 | AJ2: 0.0111 | AK2: 0.073
A3: PROJETO: | B3: REFORMA E AMPLIAÇÃO MERCADO MUNICIPAL | S3: NÃO DESONERADA | Z3: 45912 | AF3: CONSTRUÇÃO DE REDES DE ABASTECIMENTO DE ÁGUA, COLETA DE ESGOTO E CONSTRUÇÕES CORRELATAS | AG3: 0.0493 | AH3: 0.0049 | AI3: 0.0139 | AJ3: 0.0099 | AK3: 0.0804
A4: LOCAL: | B4: SERRO - MG | AF4: CONSTRUÇÃO DE MANUNTEÇÃO DE ESTAÇÕES E REDES DE DISTRIBUIÇÃO DE ENERGIA ELÉTRICA | AG4: 0.0592 | AH4: 0.0051 | AI4: 0.0148 | AJ4: 0.0107 | AK4: 0.0831
A5: CONSTRUÇÃO DE EDIFÍCIOS | AF5: OBRAS PORTUÁRIAS, MARÍTIMAS E FLUVIAIS | AG5: 0.0552 | AH5: 0.0122 | AI5: 0.0232 | AJ5: 0.0102 | AK5: 0.084
AF6: CAEMA | AG6: 0.0493 | AH6: 0.0049 | AI6: 0.0139 | AJ6: 0.0099 | AK6: 0.0804
A7: AC = | B7: ADMINISTRAÇÃO CENTRAL = | G7: =VLOOKUP(A5,AF1:AK6,2,0) -> 0.04
A8: S + G = | B8: SEGURO + GARANTIAS = | G8: =VLOOKUP(A5,AF1:AK6,3,0) -> 0.008
A9: R = | B9: RISCO = | G9: =VLOOKUP(A5,AF1:AK6,4,0) -> 0.0127 | AG9: ADM | AH9: SG | AI9: RI | AJ9: DF | AK9: LU
A10: DF = | B10: DESPESAS FINANCEIRAS = | G10: =VLOOKUP(A5,AF1:AK6,5,0) -> 0.0123
A11: L = | B11: LUCRO = | G11: =VLOOKUP(A5,AF1:AK6,6,0) -> 0.074
A12: I = | B12: IMPOSTOS = | G12: =SUM(G13:G16) -> 0.0565
E13: COFINS | G13: 0.03
E14: PIS | G14: 0.0065
E15: ISS | G15: 0.02
B21: BDI = | C21: [ | D21: [( | E21: 1 | F21: + | G21: =G7 -> 0.04 | H21: + | I21: =G8 -> 0.008 | J21: + | K21: =G9 -> 0.0127 | L21: )x | M21: ( | N21: 1 | O21: + | P21: =G10 -> 0.0123 | Q21: )x | R21: ( | S21: 1 | T21: + | U21: =G11 -> 0.074 | V21: )] | W21: ] | X21: -1 | Y21: = | Z21: =ROUND((((E21+G21+I21+K21)*(N21+P21)*(S21+U21))/(N23-P23))-1,4) -> 0.2223
M23: ( | N23: 1 | O23: - | P23: =G12 -> 0.0565 | Q23: )
A25: 1 - FORMULA CONFORME ACORDAO nº 2622/2013 TCU - PLENÁRIO

Sheet Encargos Sociais
A1: COMPOSIÇÃO DOS ENCARGOS SOCIAIS | I1: =724 -> 724
A4: TÍTULO | H4: FOLHA:
A5: =RESUMO!B2 -> REFORMA E AMPLIAÇÃO MERCADO MUNICIPAL MUNICÍPIO DE SERRO - MG | H5: 1
H6: DATA:
H7: 9/2025
H8: PRAZO:
H9: Vigência 2025
A11: QUADRO DE COMPOSIÇÃO DOS ENCARGOS SOCIAIS SOBRE A MÃO DE OBRA SEM DESONERAÇÃO
A12: TAXAS DE LEIS SOCIAIS E RISCO DE TRABALHO
A13: DISCRIMINAÇÃO | G13: HORISTA | H13: MENSALISTA
A14: GRUPO A
A15: A.1 | C15: INSS | G15: 0.2 | H15: 0.2
A16: A.2 | C16: SESI / SESC | G16: 0.015 | H16: 0.015
A17: A.3 | C17: SENAI / SENAC | G17: 0.01 | H17: 0.01
A18: A.4 | C18: INCRA | G18: 0.002 | H18: 0.002
A19: A.5 | C19: SEBRAE | G19: 0.006 | H19: 0.006
A20: A.6 | C20: SALÁRIO EDUCAÇÃO | G20: 0.025 | H20: 0.025
A21: A.7 | C21: SEGURO ACIDENTE TRABALHO | G21: 0.03 | H21: 0.03
A22: A.8 | C22: FGTS | G22: 0.08 | H22: 0.08
A23: A.9 | C23: SECONCI | G23: 0.012 | H23: 0.012
A24: SUBTOTAL | G24: =SUM(G15:G23) -> 0.38 | H24: =SUM(H15:H23) -> 0.38
A25: GRUPO B
A26: B.1 | C26: REPOUSO SEMANAL REMUNERADO | G26: 0.1776 | H26: Não Incide
A27: B.2 | C27: FERIADOS / DIAS NÃO TRABALHADOS | G27: 0.0368 | H27: Não Incide
A28: B.3 | C28: AUXÍLIO ENFERMIDADES | G28: 0.0086 | H28: 0.0065
A29: B.4 | C29: 13º SALÁRIO | G29: 0.1106 | H29: 0.0833
A30: B.5 | C30: LICENÇA PATERNIDADE | G30: 0.0007 | H30: 0.0005
A31: B.6 | C31: FALTAS JUSTIFICADAS | G31: 0.0074 | H31: 0.0056
A32: B.7 | C32: DIAS DE CHUVA | G32: 0.0109 | H32: Não Incide
A33: B.8 | C33: AUXILIO ACIDENTE DE TRABALHO | G33: 0.001 | H33: 0.0007
A34: B.9 | C34: FÉRIAS + 1/3 FÉRIAS (separar férias e abono) | G34: 0.1384 | H34: 0.1042
A35: B.10 | C35: SALÁRIO MATERNIDADE | G35: 0.0003 | H35: 0.0003
A36: SUBTOTAL | G36: =SUM(G26:G35) -> 0.4923 | H36: =SUM(H27:H35) -> 0.2011
A37: GRUPO C
A38: C.1 | C38: AVISO PRÉVIO INDENIZADO | G38: 0.0597 | H38: 0.045
A39: C.2 | C39: AVISO PRÉVIO TRABALHADO | G39: 0.0014 | H39: 0.0011
A40: C.3 | C40: FÉRIAS INDENIZADAS | G40: 0.0093 | H40: 0.007
A41: C.4 | C41: DEPÓSITO RESCUSÃO SEM JUSTA CAUSA | G41: 0.0278 | H41: 0.0209
A42: C.5 | C42: INDENIZAÇÃO ADICIONAL | G42: 0.005 | H42: 0.0038
A43: SUBTOTAL | G43: =SUM(G38:G42) -> 0.1032 | H43: =SUM(H38:H42) -> 0.0778
...

Sheet Cronograma
B1: Obra | C1: Bancos | N1: B.D.I. | Q1: Encargos Sociais
B2: REFORMA E AMPLIAÇÃO MERCADO MUNICIPAL MUNICÍPIO DE SERRO - MG | C2: =RESUMO!C2 -> SINAPI - 07/2025 - Minas Gerais SETOP/SICOR - 04/2025 - Minas Gerais SBC - 08/2025 - Minas Gerais ORSE - 06/2025 - Sergipe EMBASA - 01/2025 - Bahia CPOS - 02/2025 - São Paulo GOINFRA - 12/2024 - Goiás | N2: SERVIÇO: | O2: ='BDI SERVIÇOS'!$Z$21 -> 0.2223 | Q2: Sem Desoneração
N3: EQUIPAMENTOS: | O3: ='BDI EQUIPAMENTOS'!$K$36 -> 0.1623 | Q3: Horista: | R3: ='Encargos Sociais'!$G$48 -> 1.1679
Q4: Mensalista: | R4: ='Encargos Sociais'!$H$48 -> 0.7393
A5: Cronograma Físico e Financeiro
A6: Item | B6: Descrição | C6: Total Por Etapa | D6: 1 | E6: 2 | F6: 3 | G6: 4 | H6: 5 | I6: 6 | J6: 7 | K6: 8 | L6: 9 | M6: 10 | N6: 11 | O6: 12 | P6: 13 | Q6: 14 | R6: 15
A7: 1 | B7: =RESUMO!B13 -> ADMINISTRAÇÃO | C7: =C8/$C$49 -> 0.24121908 | D7: 0.015651967 | E7: 0.16818625 | F7: 0.2230784 | G7: 0.1788057 | H7: 0.041747905 | I7: 0.048880572 | J7: 0.049809577 | K7: 0.052267716 | L7: 0.06432589 | M7: 0.055787773 | N7: 0.040809101 | O7: 0.014627953 | P7: 0.022046351 | Q7: 0.017427565 | R7: 0.0065472795 | T7: =SUM(D7:R7) -> 1 | U7: =SUM(D7:R7) -> 1 | V7: =1-U7 -> 3.1188407e-10
C8: =RESUMO!H13 -> 1010425.5 | D8: =$C8*D7 -> 15815.147 | E8: =$C8*E7 -> 169939.69 | F8: =$C8*F7 -> 225404.11 | G8: =$C8*G7 -> 180669.84 | H8: =$C8*H7 -> 42183.149 | I8: =$C8*I7 -> 49390.178 | J8: =$C8*J7 -> 50328.869 | K8: =$C8*K7 -> 52812.635 | ... R8: =$C8*R7 -> 6615.5384
A9: 2 | B9: =RESUMO!B14 -> SERVIÇOS PRELIMINARES | C9: =C10/$C$49 -> 0.027872684 | D9: 0.4 | E9: 0.6 | T9: =SUM(D9:R9) -> 1 | U9: =SUM(D9:R9) -> 1 | V9: =1-U9 -> 0
C10: =RESUMO!H14 -> 116753.91 | D10: =$C10*D9 -> 46701.565 | E10: =$C10*E9 -> 70052.348
A11: 3 | B11: =RESUMO!B15 -> DRENAGEM E PAVIMENTAÇÃO DA TRAVESSA MAGALHÃES | C11: =C12/$C$49 -> 0.35013894 | E11: 0.3 | F11: 0.4 | G11: 0.3 | T11: =SUM(D11:R11) -> 1 | U11: =SUM(D11:R11) -> 1 | V11: =1-U11 -> 0
C12: =RESUMO!H15 -> 1466672.2 | E12: =$C12*E11 -> 440001.67 | F12: =$C12*F11 -> 586668.89 | G12: =$C12*G11 -> 440001.67
A13: 4 | B13: =RESUMO!B16 -> ESTRUTURAL | C13: =C14/$C$49 -> 0.115277 | F13: 0.2 | G13: 0.2 | H13: 0.25 | I13: 0.25 | J13: 0.1 | T13: =SUM(D13:R13) -> 1 | U13: =SUM(D13:R13) -> 1 | V13: =1-U13 -> 0
C14: =RESUMO!H16 -> 482875.66 | F14: =$C14*F13 -> 96575.131 | G14: =$C14*G13 -> 96575.131 | H14: =$C14*H13 -> 120718.91 | I14: =$C14*I13 -> 120718.91 | J14: =$C14*J13 -> 48287.566
A15: 5 | B15: =RESUMO!B17 -> DEMOLIÇÕES E REMOÇOES | C15: =C16/$C$49 -> 0.006108533 | E15: 0.3 | F15: 0.35 | G15: 0.35 | T15: =SUM(D15:R15) -> 1 | U15: =SUM(D15:R15) -> 1 | V15: =1-U15 -> 0
C16: =RESUMO!H17 -> 25587.602 | E16: =$C16*E15 -> 7676.2805 | F16: =$C16*F15 -> 8955.6605 | G16: =$C16*G15 -> 8955.6605
A17: 6 | B17: =RESUMO!B18 -> ALVENARIA | C17: =C18/$C$49 -> 0.0071030785 | G17: 0.2 | H17: 0.3 | I17: 0.3 | J17: 0.2 | T17: =SUM(D17:R17) -> 1 | U17: =SUM(D17:R17) -> 1 | V17: =1-U17 -> 0
C18: =RESUMO!H18 -> 29753.583 | G18: =$C18*G17 -> 5950.7166 | H18: =$C18*H17 -> 8926.0749 | I18: =$C18*I17 -> 8926.0749 | J18: =$C18*J17 -> 5950.7166
A19: 7 | B19: =RESUMO!B19 -> HIDROSSANITÁRIO | C19: =C20/$C$49 -> 0.012414996 | J19: 0.1 | K19: 0.2 | L19: 0.2 | M19: 0.2 | N19: 0.2 | O19: 0.1 | T19: =SUM(D19:R19) -> 1 | U19: =SUM(D19:R19) -> 1 | V19: =1-U19 -> 0
C20: =RESUMO!H19 -> 52004.3 | J20: =$C20*J19 -> 5200.43 | K20: =$C20*K19 -> 10400.86 | L20: =$C20*L19 -> 10400.86 | M20: =$C20*M19 -> 10400.86 | N20: =$C20*N19 -> 10400.86 | O20: =$C20*O19 -> 5200.43
A21: 8 | B21: =RESUMO!B20 -> INSTALAÇÇÕES ELÉTRICAS | C21: =C22/$C$49 -> 0.022736926 | J21: 0.1 | K21: 0.1 | L21: 0.2 | M21: 0.2 | N21: 0.2 | O21: 0.1 | P21: 0.1 | T21: =SUM(D21:R21) -> 1 | U21: =SUM(D21:R21) -> 1 | V21: =1-U21 -> 0
C22: =RESUMO!H20 -> 95241.099 | J22: =$C22*J21 -> 9524.1099 | K22: =$C22*K21 -> 9524.1099 | L22: =$C22*L21 -> 19048.22 | M22: =$C22*M21 -> 19048.22 | N22: =$C22*N21 -> 19048.22 | O22: =$C22*O21 -> 9524.1099 | P22: =$C22*P21 -> 9524.1099
A23: 9 | B23: =RESUMO!B21 -> REVESTIMENTO DE PISOS | C23: =C24/$C$49 -> 0.054288016 | K23: 0.25 | L23: 0.25 | M23: 0.25 | N23: 0.25 | T23: =SUM(D23:R23) -> 1 | U23: =SUM(D23:R23) -> 1 | V23: =1-U23 -> 0
C24: =RESUMO!H21 -> 227403.23 | K24: =$C24*K23 -> 56850.807 | L24: =$C24*L23 -> 56850.807 | M24: =$C24*M23 -> 56850.807 | N24: =$C24*N23 -> 56850.807
A25: 10 | B25: =RESUMO!B22 -> REVESTIMENTO DE PAREDES | C25: =C26/$C$49 -> 0.02706066 | I25: 0.2 | J25: 0.3 | K25: 0.3 | L25: 0.2 | T25: =SUM(D25:R25) -> 1 | U25: =SUM(D25:R25) -> 1 | V25: =1-U25 -> 0
C26: =RESUMO!H22 -> 113352.48 | I26: =$C26*I25 -> 22670.496 | J26: =$C26*J25 -> 34005.745 | K26: =$C26*K25 -> 34005.745 | L26: =$C26*L25 -> 22670.496
A27: 11 | B27: =RESUMO!B23 -> ESQUADRIAS | C27: =C28/$C$49 -> 0.035672889 | J27: 0.35 | K27: 0.35 | L27: 0.3 | T27: =SUM(D27:R27) -> 1 | U27: =SUM(D27:R27) -> 1 | V27: =1-U27 -> 0
C28: =RESUMO!H23 -> 149427.64 | J28: =$C28*J27 -> 52299.673 | K28: =$C28*K27 -> 52299.673 | L28: =$C28*L27 -> 44828.292
A29: 12 | B29: =RESUMO!B24 -> FORRO EM GESSO ACARTONADO | C29: =C30/$C$49 -> 0.010033271 | L29: 0.5 | M29: 0.5 | T29: =SUM(D29:R29) -> 1 | U29: =SUM(D29:R29) -> 1 | V29: =1-U29 -> 0
C30: =RESUMO!H24 -> 42027.661 | L30: =$C30*L29 -> 21013.83 | M30: =$C30*M29 -> 21013.83
A31: 13 | B31: =RESUMO!B25 -> PEDRAS - BANCADAS, SOLEIRAS, DIVISÓRIAS E PRATELEIRAS | C31: =C32/$C$49 -> 0.01269779 | L31: 0.5 | M31: 0.5 | T31: =SUM(D31:R31) -> 1 | U31: =SUM(D31:R31) -> 1 | V31: =1-U31 -> 0
C32: =RESUMO!H25 -> 53188.874 | L32: =$C32*L31 -> 26594.437 | M32: =$C32*M31 -> 26594.437
A33: 14 | B33: =RESUMO!B26 -> PINTURA TETO | C33: =C34/$C$49 -> 0.0076175982 | M33: 0.5 | N33: 0.5 | T33: =SUM(D33:R33) -> 1 | U33: =SUM(D33:R33) -> 1 | V33: =1-U33 -> 0
C34: =RESUMO!H26 -> 31908.818 | M34: =$C34*M33 -> 15954.409 | N34: =$C34*N33 -> 15954.409
A35: 15 | B35: =RESUMO!B27 -> PINTURA PAREDES EXTERNAS E INTERNAS | C35: =C36/$C$49 -> 0.014566598 | M35: 0.4 | N35: 0.4 | O35: 0.2 | T35: =SUM(D35:R35) -> 1 | U35: =SUM(D35:R35) -> 1 | V35: =1-U35 -> 0
C36: =RESUMO!H27 -> 61016.991 | M36: =$C36*M35 -> 24406.796 | N36: =$C36*N35 -> 24406.796 | O36: =$C36*O35 -> 12203.398
A37: 16 | B37: =RESUMO!B28 -> CORRIMÃO | C37: =C38/$C$49 -> 0.0049497385 | O37: 0.5 | P37: 0.5 | T37: =SUM(D37:R37) -> 1 | U37: =SUM(D37:R37) -> 1 | V37: =1-U37 -> 0
C38: =RESUMO!H28 -> 20733.609 | O38: =$C38*O37 -> 10366.805 | P38: =$C38*P37 -> 10366.805
A39: 17 | B39: =RESUMO!B29 -> GUARDA CORPO | C39: =C40/$C$49 -> 0.0038073189 | P39: 0.5 | Q39: 0.5 | T39: =SUM(D39:R39) -> 1 | U39: =SUM(D39:R39) -> 1 | V39: =1-U39 -> 0
C40: =RESUMO!H29 -> 15948.209 | P40: =$C40*P39 -> 7974.1043 | Q40: =$C40*Q39 -> 7974.1043
...

Sheet Curva ABC
B1: Obra | E1: Bancos | H1: B.D.I. | K1: Encargos Sociais
B2: REFORMA E AMPLIAÇÃO MERCADO MUNICIPAL MUNICÍPIO DE SERRO - MG | E2: =RESUMO!C2 -> SINAPI - 07/2025 - Minas Gerais SETOP/SICOR - 04/2025 - Minas Gerais SBC - 08/2025 - Minas Gerais ORSE - 06/2025 - Sergipe EMBASA - 01/2025 - Bahia CPOS - 02/2025 - São Paulo GOINFRA - 12/2024 - Goiás | H2: SERVIÇO: | I2: ='BDI SERVIÇOS'!$Z$21 -> 0.2223 | K2: Sem Desoneração
H3: EQUIPAMENTOS: | I3: ='BDI EQUIPAMENTOS'!$K$36 -> 0.1623 | K3: Horista: | L3: ='Encargos Sociais'!$G$48 -> 1.1679
K4: Mensalista: | L4: ='Encargos Sociais'!$H$48 -> 0.7393
A9: Curva A "20% dos itens representam 80% do custo total."
A10: Curva B "30% dos itens representam 15% do custo total."
A11: Curva C "50% dos itens representam 5% do custo total."
A14: Curva ABC
A16: Item | B16: Código | C16: Banco | D16: Descrição | E16: Und | F16: Quant. | G16: Valor Unit | H16: Valor Total sem BDI | I16: Valor Unit com BDI | J16: Valor Total com BDI | K16: Peso (%) | L16: Acumulado (%)
A17: Curva A "20% dos itens representam 80% do custo total."
A18: 1 | B18: COMP.ADM.01 | C18: PRORÍO | D18: ADMINISTRAÇÃO LOCAL DA OBRA | E18: Un. | F18: 1 | G18: 747768.41 | H18: =F18*G18 -> 747768.41 | I18: 913997.33 | J18: =F18*I18 -> 913997.33 | K18: =J18/$K$283 -> 0.21819876 | L18: =K18 -> 0.21819876
A19: 2 | B19: 41785 | C19: SINAPI | D19: TUBO CORRUGADO PEAD, PAREDE DUPLA, INTERNA LISA, JEI, DN/DI *1000* MM, PARA SANEAMENTO (DRENAGEM/ESGOTO) | E19: M | F19: 286 | G19: 1364.29 | H19: =F19*G19 -> 390186.94 | I19: 1667.5717 | J19: =F19*I19 -> 476925.5 | K19: =J19/$K$283 -> 0.11385651 | L19: =K19+L18 -> 0.33205527
A20: 3 | B20: 101169 | C20: SINAPI | D20: EXECUÇÃO DE PAVIMENTO EM PARALELEPÍPEDOS, REJUNTAMENTO COM ARGAMASSA TRAÇO 1:3 (CIMENTO E AREIA). AF_05/2020 | E20: M2 | F20: 943.8 | G20: 216.32 | H20: =F20*G20 -> 204162.82 | I20: 264.40794 | J20: =F20*I20 -> 249548.21 | K20: =J20/$K$283 -> 0.059574692 | L20: =K20+L19 -> 0.39162996
A21: 4 | B21: ED-49664 | C21: SETOP | D21: FORNECIMENTO DE ESTRUTURA METÁLICA EM PERFIL LAMINADO, INCLUSIVE FABRICAÇÃO, TRANSPORTE, MONTAGEM E APLICAÇÃO DE FUNDO PREPARADOR ANTICORROSIVO EM SUPERFÍCIE METÁLICA, UMA (1) DEMÃO | E21: Kg | F21: 5135 | G21: 25.28 | H21: =F21*G21 -> 129812.8 | I21: 30.899744 | J21: =F21*I21 -> 158670.19 | K21: =J21/$K$283 -> 0.037879364 | L21: =K21+L20 -> 0.42950933
A22: 5 | B22: 1796 | C22: ORSE | D22: BASCULANTE EM MADEIRA DE LEI, MODELO CONVENCIONAL | E22: M² | F22: 50.604 | G22: 1655.52 | H22: =F22*G22 -> 83775.934 | I22: 2023.5421 | J22: =F22*I22 -> 102399.32 | K22: =J22/$K$283 -> 0.02444581 | L22: =K22+L21 -> 0.45395514
A23: 6 | B23: ED-9320 | C23: SETOP | D23: PISO EM CONCRETO USINADO CONVENCIONAL COM DE FCK 15MPA, COM TELA SOLDADA NERVURADA TIPO Q-138, ACABAMENTO POLÍDO EM NÍVEL ZERO, ESP. 10CM, INCLUSIVE FORNECIMENTO, LANÇAMENTO, ADENSAMENTO, EXCLUSIVE JUNTA DE DILATAÇÃO | E23: m2 | F23: 452.9096 | G23: 147.47 | H23: =F23*G23 -> 66790.579 | I23: 180.25258 | J23: =F23*I23 -> 81638.124 | K23: =J23/$K$283 -> 0.019489485 | L23: =K23+L22 -> 0.47344462
A24: 7 | B24: ED-7564 | C24: SETOP | D24: TRANSPORTE EM CAMINHÃO, TRAÇÃO 4X2, TIPO TOCO, PESO BRUTO TOTAL (PBT) DE 14.300KG, COM CARROCERIA DE CARGA SECA, COM CAPACIDADE DE 7T, EM RODOVIA PAVIMENTADA, EXCLUSIVE MANOBRA, CARGA E DESCARGA | E24: TxKM | F24: 59685.912 | G24: 1.11 | H24: =F24*G24 -> 66251.362 | I24: 1.356753 | J24: =F24*I24 -> 80979.04 | K24: =J24/$K$283 -> 0.019332142 | L24: =K24+L23 -> 0.49277676
A25: 8 | B25: SERRO-RP-01 | C25: COMPOSIÇÃO | D25: REASSENTAMENTODE LAJE QUARTZÍTICAS | E25: M2 | F25: 1088.08 | G25: 60.045872 | H25: =F25*G25 -> 65334.712 | I25: 73.394069 | J25: =F25*I25 -> 79858.619 | K25: =J25/$K$283 -> 0.019064663 | L25: =K25+L24 -> 0.51184143
A26: 9 | B26: ED-48549 | C26: SETOP | D26: BOCA DE LOBO SIMPLES (TIPO A - FERRO FUNDIDO), QUADRO, GRELHA E CANTONEIRA, INCLUSIVE ESCAVAÇÃO, REATERRO E BOTA-FORA | E26: U | F26: 20 | G26: 2683.36 | H26: =F26*G26 -> 53667.2 | I26: 3279.8709 | J26: =F26*I26 -> 65597.419 | K26: =J26/$K$283 -> 0.015660084 | L26: =K26+L25 -> 0.52750151
A27: 10 | B27: 13303 | C27: ORSE | D27: PLATAFORMA ELEVATORIA DE TRANSPORTE VERTICAL, DESNIVEL DE 2,0 ATE 4,00 M | E27: UN | F27: 1 | G27: 51997 | H27: =F27*G27 -> 51997 | I27: 63555.933 | J27: =F27*I27 -> 63555.933 | K27: =J27/$K$283 -> 0.01517272 | L27: =K27+L26 -> 0.54267423
A28: 11 | B28: PISO.01 | C28: COMPOSIÇÃO | D28: DECK EM RÉGUAS DE MADEIRA PLÁSTICA, COR JATOBÁ | E28: M² | F28: 86.76 | G28: 585.02163 | H28: =F28*G28 -> 50756.477 | I28: 715.07194 | J28: =F28*I28 -> 62039.641 | K28: =J28/$K$283 -> 0.014810735 | L28: =K28+L27 -> 0.55748496
A29: 12 | B29: 11617 | C29: ORSE | D29: BRISE EM MADEIRA | E29: M² | F29: 96.34 | G29: 506.71 | H29: =F29*G29 -> 48816.441 | I29: 619.35163 | J29: =F29*I29 -> 59668.336 | K29: =J29/$K$283 -> 0.014244633 | L29: =K29+L28 -> 0.5717296
A30: 13 | B30: ARQ02 | C30: MERCADO | D30: ELABORAÇÃO DE RELATÓRIO INICIAL | E30: UNID | F30: 10 | G30: 4480 | H30: =F30*G30 -> 44800 | I30: 5475.904 | J30: =F30*I30 -> 54759.04 | K30: =J30/$K$283 -> 0.013072636 | L30: =K30+L29 -> 0.58480223
A31: 14 | B31: ARQ03 | C31: MERCADO | D31: ELABORAÇÃO DE RELATÓRIO FINAL | E31: UNID | F31: 10 | G31: 4480 | H31: =F31*G31 -> 44800 | I31: 5475.904 | J31: =F31*I31 -> 54759.04 | K31: =J31/$K$283 -> 0.013072636 | L31: =K31+L30 -> 0.59787487
A32: 15 | B32: ED-48636 | C32: SETOP | D32: POÇO DE VISITA PARA REDE TUBULAR TIPO A DN 1000, EXCLUSIVE ESCAVAÇÃO, REATERRO E BOTA FORA | E32: U | F32: 12 | G32: 3490.85 | H32: =F32*G32 -> 41890.2 | I32: 4266.866 | J32: =F32*I32 -> 51202.391 | K32: =J32/$K$283 -> 0.012223557 | L32: =K32+L31 -> 0.61009843
A33: 16 | B33: ED-50159 | C33: SETOP | D33: TAPUME FIXO DE PROTEÇÃO PARA FECHAMENTO DE OBRA EM CHAPA DE COMPENSADO, ESP. 12MM, COM MÓDULO NA DIMENSÃO DE (110X220)CM, INCLUSIVE PINTURA LÁTEX (PVA) COM DUAS (2) DEMÃOS, EXCLUSIVE ABERTURA PARA PORTÃO | E33: m | F33: 180 | G33: 220.71 | H33: =F33*G33 -> 39727.8 | I33: 269.77383 | J33: =F33*I33 -> 48559.29 | K33: =J33/$K$283 -> 0.011592569 | L33: =K33+L32 -> 0.621691
A34: 17 | B34: ED-50270 | C34: SETOP | D34: LIMPEZA PERMANENTE DA OBRA - 01 SERVENTE X 4 HORAS DIÁRIAS | E34: mês | F34: 15 | G34: 2492.6 | H34: =F34*G34 -> 37389 | I34: 3046.705 | J34: =F34*I34 -> 45700.575 | K34: =J34/$K$283 -> 0.010910107 | L34: =K34+L33 -> 0.6326011
A35: 18 | B35: 6259 | C35: SINAPI | D35: CAMINHÃO PIPA 6.000 L, PESO BRUTO TOTAL 13.000 KG, DISTÂNCIA ENTRE EIXOS 4,80 M, POTÊNCIA 189 CV INCLUSIVE TANQUE DE AÇO PARA TRANSPORTE DE ÁGUA, CAPACIDADE 6 M3 - CHP DIURNO. AF_06/2014 | E35: CHP | F35: 132 | G35: 256.35 | H35: =F35*G35 -> 33838.2 | I35: 313.33661 | J35: =F35*I35 -> 41360.432 | K35: =J35/$K$283 -> 0.0098739838 | L35: =K35+L34 -> 0.64247509
A36: 19 | B36: 41782 | C36: SINAPI | D36: TUBO CORRUGADO PEAD, PAREDE DUPLA, INTERNA LISA, JEI, DN/DI 600 MM, PARA SANEAMENTO (DRENAGEM/ESGOTO) | E36: M | F36: 60 | G36: 544.49 | H36: =F36*G36 -> 32669.4 | I36: 665.53013 | J36: =F36*I36 -> 39931.808 | K36: =J36/$K$283 -> 0.009532928 | L36: =K36+L35 -> 0.65200801
A37: 20 | B37: GRELHA.01 | C37: COMPOSIÇÃO | D37: GRELHA DE FERRO FUNDIDO PARA BOCA DE LOBO BASEADO SETOP (48549) | E37: M² | F37: 20 | G37: 1631.02 | H37: =F37*G37 -> 32620.4 | I37: 1993.5957 | J37: =F37*I37 -> 39871.915 | K37: =J37/$K$283 -> 0.0095186298 | L37: =K37+L36 -> 0.66152664
A38: 21 | B38: SERRO-150 | C38: COMPOSIÇÃO | D38: REATERRO MANUAL APILOADO COM SOQUETE - BASEADO SINAPI (96995) | E38: M³ | F38: 558.6 | G38: 54.31336 | H38: =F38*G38 -> 30339.443 | I38: 66.38722 | J38: =F38*I38 -> 37083.901 | K38: =J38/$K$283 -> 0.0088530467 | L38: =K38+L37 -> 0.67037969
A39: 22 | B39: 104921 | C39: SINAPI | D39: ARMAÇÃO DE BLOCO, SAPATA ISOLADA, VIGA BALDRAME E SAPATA CORRIDA UTILIZANDO AÇO CA-50 DE 16 MM - MONTAGEM. AF_01/2024 | E39: KG | F39: 2986 | G39: 10.16 | H39: =F39*G39 -> 30337.76 | I39: 12.418568 | J39: =F39*I39 -> 37081.844 | K39: =J39/$K$283 -> 0.0088525557 | L39: =K39+L38 -> 0.67923225
A40: 23 | B40: ED-49687 | C40: SETOP | D40: FORRO EM CHAPA DE GESSO ACARTONADO, ESP. 12,5MM, COM FIXAÇÃO DO TIPO ARAMADO, EXCLUSIVE PERFIL TABICA, SANCA E MOLDURA, INCLUSIVE ACESSÓRIOS E FIXAÇÃO | E40: m2 | F40: 457.03 | G40: 64.65 | H40: =F40*G40 -> 29546.989 | I40: 79.021695 | J40: =F40*I40 -> 36115.285 | K40: =J40/$K$283 -> 0.0086218089 | L40: =K40+L39 -> 0.68785406
A41: 24 | B41: 102039 | C41: SINAPI | D41: MONTAGEM E DESMONTAGEM DE FÔRMA PARA ESCADAS, COM 1 LANCE E LAJE PLANA, EM MADEIRA SERRADA, 1 UTILIZAÇÃO. AF_11/2020 | E41: M2 | F41: 48.86 | G41: 597.57 | H41: =F41*G41 -> 29197.27 | I41: 730.40981 | J41: =F41*I41 -> 35687.823 | K41: =J41/$K$283 -> 0.0085197609 | L41: =K41+L40 -> 0.69637382
A42: 25 | B42: 91927 | C42: SINAPI | D42: CABO DE COBRE FLEXÍVEL ISOLADO, 2,5 MM², ANTI-CHAMA 0,6/1,0 KV, PARA CIRCUITOS TERMINAIS - FORNECIMENTO E INSTALAÇÃO. AF_03/2023 | E42: M | F42: 5424.71 | G42: 5.19 | H42: =F42*G42 -> 28154.245 | I42: 6.343737 | J42: =F42*I42 -> 34412.934 | K42: =J42/$K$283 -> 0.0082154062 | L42: =K42+L41 -> 0.70458922
A43: 26 | B43: ED-49805 | C43: SETOP | D43: FORNECIMENTO DE CONCRETO ESTRUTURAL, USINADO BOMBEADO, COM FCK 25MPA, INCLUSIVE LANÇAMENTO, ADENSAMENTO E ACABAMENTO (FUNDAÇÃO) | E43: m3 | F43: 38.02 | G43: 740.44 | H43: =F43*G43 -> 28151.529 | I43: 905.03981 | J43: =F43*I43 -> 34409.614 | K43: =J43/$K$283 -> 0.0082146136 | L43: =K43+L42 -> 0.71280384
A44: 27 | B44: 88497 | C44: SINAPI | D44: EMASSAMENTO COM MASSA LÁTEX, APLICAÇÃO EM PAREDE, DUAS DEMÃOS, LIXAMENTO MANUAL. AF_04/2023 | E44: M2 | F44: 1309.8876 | G44: 19.82 | H44: =F44*G44 -> 25961.972 | I44: 24.225986 | J44: =F44*I44 -> 31733.318 | K44: =J44/$K$283 -> 0.0075757011 | L44: =K44+L43 -> 0.72037954
A45: 28 | B45: CO-33095 | C45: SETOP | D45: ARQUEÓLOGO, NÍVEL SÊNIOR, INCLUSIVE ENCARGOS COMPLEMENTARES | E45: H | F45: 400 | G45: 63.28 | H45: =F45*G45 -> 25312 | I45: 77.347144 | J45: =F45*I45 -> 30938.858 | K45: =J45/$K$283 -> 0.0073860394 | L45: =K45+L44 -> 0.72776558
A46: 29 | B46: ED-50759 | C46: SETOP | D46: REBOCO COM ARGAMASSA, TRAÇO 1:7 (CIMENTO E AREIA), ESP. 20MM, APLICAÇÃO MANUAL, INCLUSIVE ARGAMASSA COM PREPARO MECANIZADO, EXCLUSIVE CHAPISCO | E46: m2 | F46: 717.3413 | G46: 35 | H46: =F46*G46 -> 25106.945 | I46: 42.7805 | J46: =F46*I46 -> 30688.219 | K46: =J46/$K$283 -> 0.0073262045 | L46: =K46+L45 -> 0.73509178
A47: 30 | B47: 102322 | C47: SINAPI | D47: ESCAVAÇÃO MECANIZADA DE VALA COM PROF. ATÉ 1,5 M (MÉDIA MONTANTE E JUSANTE/UMA COMPOSIÇÃO POR TRECHO), RETROESCAV. (0,26 M3), LARG. MENOR QUE 0,8 M, EM SOLO DE 2A CATEGORIA, EM LOCAIS COM ALTO NÍVEL DE INTERFERÊNCIA. AF_09/2024 | E47: M3 | F47: 1117.2 | G47: 20.37 | H47: =F47*G47 -> 22757.364 | I47: 24.898251 | J47: =F47*I47 -> 27816.326 | K47: =J47/$K$283 -> 0.0066405968 | L47: =K47+L46 -> 0.74173238
...

Sheet Curva S
H1: Obra | R1: Referência
H2: REFORMA E AMPLIAÇÃO MERCADO MUNICIPAL MUNICÍPIO DE SERRO - MG | R2: CRONOGRAMA FÍSICO E FINCANCEIRO
G6: Curva S
B11: Obra | H11: Obra
H12: RESTAURAÇÃO DA CHÁCARA DO BARÃO MUNICÍPIO DE SERRO - MG
B16: Curva S | H16: Curva S
B17: MÊS | C17: ACUMULADO | H17: MÊS | I17: ACUMULADO
C18: PREVISTO | I18: PREVISTO | J18: REALIZADO
C19: Valor (R$) | D19: Porcentagem (%) | E19: Acumulado (%) | I19: Porcentagem (%) | J19: Porcentagem (%)
B20: 1 | C20: =Cronograma!D52 -> 65563.418 | D20: =C20/$C$36 -> 0.015651967 | E20: =D20 -> 0.015651967 | H20: 1 | I20: =D20 -> 0.015651967 | J20: =I20 -> 0.015651967
B21: 2 | C21: =Cronograma!E52 -> 704503.5 | D21: =C21/$C$36 -> 0.16818625 | E21: =E20+D21 -> 0.18383822 | H21: 2 | I21: =D21 -> 0.16818625 | J21: =J20+I21 -> 0.18383822
B22: 3 | C22: =Cronograma!F52 -> 934437.31 | D22: =C22/$C$36 -> 0.2230784 | E22: =E21+D22 -> 0.40691662 | H22: 3 | I22: =D22 -> 0.2230784 | J22: =J21+I22 -> 0.40691662
B23: 4 | C23: =Cronograma!G52 -> 748986.54 | D23: =C23/$C$36 -> 0.1788057 | E23: =E22+D23 -> 0.58572232 | H23: 4 | I23: =D23 -> 0.1788057 | J23: =J22+I23 -> 0.58572232
B24: 5 | C24: =Cronograma!H52 -> 174874.84 | D24: =C24/$C$36 -> 0.041747905 | E24: =E23+D24 -> 0.62747022 | H24: 5 | I24: =D24 -> 0.041747905 | J24: =J23+I24 -> 0.62747022
B25: 6 | C25: =Cronograma!I52 -> 204752.37 | D25: =C25/$C$36 -> 0.048880572 | E25: =E24+D25 -> 0.67635079 | H25: 6 | I25: =D25 -> 0.048880572 | J25: =J24+I25 -> 0.67635079
B26: 7 | C26: =Cronograma!J52 -> 208643.81 | D26: =C26/$C$36 -> 0.049809577 | E26: =E25+D26 -> 0.72616037 | H26: 7 | I26: =D26 -> 0.049809577 | J26: =J25+I26 -> 0.72616037
B27: 8 | C27: =Cronograma!K52 -> 218940.54 | D27: =C27/$C$36 -> 0.052267716 | E27: =E26+D27 -> 0.77842809 | H27: 8 | I27: =D27 -> 0.052267716 | J27: =J26+I27 -> 0.77842809
B28: 9 | C28: =Cronograma!L52 -> 269450.17 | D28: =C28/$C$36 -> 0.06432589 | E28: =E27+D28 -> 0.84275398 | H28: 9 | I28: =D28 -> 0.06432589 | J28: =J27+I28 -> 0.84275398
B29: 10 | C29: =Cronograma!M52 -> 233685.46 | D29: =C29/$C$36 -> 0.055787773 | E29: =E28+D29 -> 0.89854175 | H29: 10 | I29: =D29 -> 0.055787773 | J29: =J28+I29 -> 0.89854175
B30: 11 | C30: =Cronograma!N52 -> 170942.36 | D30: =C30/$C$36 -> 0.040809101 | E30: =E29+D30 -> 0.93935085 | H30: 11 | I30: =D30 -> 0.040809101 | J30: =J29+I30 -> 0.93935085
B31: 12 | C31: =Cronograma!O52 -> 61273.999 | D31: =C31/$C$36 -> 0.014627953 | E31: =E30+D31 -> 0.95397881 | H31: 12 | I31: =D31 -> 0.014627953 | J31: =J30+I31 -> 0.95397881
B32: 13 | C32: =Cronograma!P52 -> 92348.398 | D32: =C32/$C$36 -> 0.022046351 | E32: =E31+D32 -> 0.97602516 | H32: 13 | I32: =D32 -> 0.022046351 | J32: =J31+I32 -> 0.97602516
B33: 14 | C33: =Cronograma!Q52 -> 73001.092 | D33: =C33/$C$36 -> 0.017427565 | E33: =E32+D33 -> 0.99345272 | H33: 14 | I33: =D33 -> 0.017427565 | J33: =J32+I33 -> 0.99345272
B34: 15 | C34: =Cronograma!R52 -> 27425.436 | D34: =C34/$C$36 -> 0.0065472795 | E34: =E33+D34 -> 1 | H34: 15 | I34: =D34 -> 0.0065472795 | J34: =J33+I34 -> 1
C36: =SUM(C20:C34) -> 4188829.2 | D36: =SUM(D20:D34) -> 1
H45: ______________________________________________
H46: Deivid Santos Coelho
H47: Engenheiro Civil
H48: CREA-MG: 232245/D

Sheet Curva S Ref.
B1: Obra | G1: Obra
G2: REFORMA E AMPLIAÇÃO MERCADO MUNICIPAL MUNICÍPIO DE SERRO - MG
B6: Curva S | G6: Curva S
B7: MÊS | C7: ACUMULADO | G7: MÊS | H7: ACUMULADO
C8: PREVISTO | H8: PREVISTO | I8: REALIZADO
C9: Valor (R$) | D9: Porcentagem (%) | E9: Acumulado (%) | H9: Porcentagem (%) | I9: Porcentagem (%)
B10: 1 | C10: =Cronograma!D52 -> 65563.418 | D10: =C10/$C$26 -> 0.015651967 | E10: =D10 -> 0.015651967 | G10: 1 | H10: =E10 -> 0.015651967
B11: 2 | C11: =Cronograma!E52 -> 704503.5 | D11: =C11/$C$26 -> 0.16818625 | E11: =E10+D11 -> 0.18383822 | G11: 2 | H11: =E11 -> 0.18383822
B12: 3 | C12: =Cronograma!F52 -> 934437.31 | D12: =C12/$C$26 -> 0.2230784 | E12: =E11+D12 -> 0.40691662 | G12: 3 | H12: =E12 -> 0.40691662
B13: 4 | C13: =Cronograma!G52 -> 748986.54 | D13: =C13/$C$26 -> 0.1788057 | E13: =E12+D13 -> 0.58572232 | G13: 4 | H13: =E13 -> 0.58572232
B14: 5 | C14: =Cronograma!H52 -> 174874.84 | D14: =C14/$C$26 -> 0.041747905 | E14: =E13+D14 -> 0.62747022 | G14: 5 | H14: =E14 -> 0.62747022
B15: 6 | C15: =Cronograma!I52 -> 204752.37 | D15: =C15/$C$26 -> 0.048880572 | E15: =E14+D15 -> 0.67635079 | G15: 6 | H15: =E15 -> 0.67635079
B16: 7 | C16: =Cronograma!J52 -> 208643.81 | D16: =C16/$C$26 -> 0.049809577 | E16: =E15+D16 -> 0.72616037 | G16: 7 | H16: =E16 -> 0.72616037
B17: 8 | C17: =Cronograma!K52 -> 218940.54 | D17: =C17/$C$26 -> 0.052267716 | E17: =E16+D17 -> 0.77842809 | G17: 8 | H17: =E17 -> 0.77842809
B18: 9 | C18: =Cronograma!L52 -> 269450.17 | D18: =C18/$C$26 -> 0.06432589 | E18: =E17+D18 -> 0.84275398 | G18: 9 | H18: =E18 -> 0.84275398
B19: 10 | C19: =Cronograma!M52 -> 233685.46 | D19: =C19/$C$26 -> 0.055787773 | E19: =E18+D19 -> 0.89854175 | G19: 10 | H19: =E19 -> 0.89854175
B20: 11 | C20: =Cronograma!N52 -> 170942.36 | D20: =C20/$C$26 -> 0.040809101 | E20: =E19+D20 -> 0.93935085 | G20: 11 | H20: =E20 -> 0.93935085
B21: 12 | C21: =Cronograma!O52 -> 61273.999 | D21: =C21/$C$26 -> 0.014627953 | E21: =E20+D21 -> 0.95397881 | G21: 12 | H21: =E21 -> 0.95397881
B22: 13 | C22: =Cronograma!P52 -> 92348.398 | D22: =C22/$C$26 -> 0.022046351 | E22: =E21+D22 -> 0.97602516 | G22: 13 | H22: =E22 -> 0.97602516
B23: 14 | C23: =Cronograma!Q52 -> 73001.092 | D23: =C23/$C$26 -> 0.017427565 | E23: =E22+D23 -> 0.99345272 | G23: 14 | H23: =E23 -> 0.99345272
B24: 15 | C24: =Cronograma!R52 -> 27425.436 | D24: =C24/$C$26 -> 0.0065472795 | E24: =E23+D24 -> 1 | G24: 15 | H24: =E24 -> 1
C26: =SUM(C10:C24) -> 4188829.2 | D26: =SUM(D10:D11) -> 0.18383822
C28: =C26-RESUMO!H37 -> -0.00031513581

Sheet MC DIVERSOS
A1: MEMÓRIA DE CÁLCULO
A3: TÍTULO: DIVERSOS | E3: PÁGINA
A4: MERCADO MUNICIPAL MUNICÍPIO DE SERRO - MG
E6: REV.
A9: Cálculo banco de concreto, H=50cm - m
A10: FIGURA INDICATIVA (SEM ESCALA)
A33: Cálculo banco de concreto, H=50cm - m
C34: Cálculo | E34: m
A35: Banco 1 + banco 2 | C35: 2,01+2,893+1,622+2,433+5,505 | E35: =2.01+2.893+1.622+2.433+5.505 -> 14.463
A36: Subtotal | E36: =E35 -> 14.463
A37: Cálculo pergolado de madeira - m²
A38: FIGURA INDICATIVA (SEM ESCALA)
A61: Cálculo pergolado de madeira - m²
C62: Cálculo | E62: Área - m²
A63: Banco 1 + banco 2 | C63: 37.44 | E63: 37.44
A64: Subtotal | E64: =E63 -> 37.44
A65: Total | E65: =E64 -> 37.44
A66: Vegetação canteiros - Un
A67: FIGURA INDICATIVA (SEM ESCALA)
A90: Vegetação canteiros - Un
A91: Nome científico | B91: Nome popular | C91: Porte | E91: Unidade - Un
A92: Calliandra dysantha, Fabaceae | B92: Flor do cerrado | C92: 0,5m de altura | E92: 6
A93: Lychnophora triflora | B93: Arnica Arbusto | C93: 1,0m de altura | E93: 6
A94: MISCANTHUS SINENSIS VARIEGATUS | B94: Capim-listrado euláia | C94: 1,0m de altura | E94: 5
A95: Calliandra viscidula, Fabaceae | B95: Flor do cerrado | C95: 0,5m de altura | E95: 13
A96: LAVANDULA SP | B96: Lavanda, alfazema | C96: 0,5m de altura | E96: =16+11 -> 27
A97: CENTAUREA GYMNOCARPA | B97: CENTÁUREA-VELUDO | C97: 0,4m de altura | E97: 3
A98: HEDERA HELIX | B98: HERA TREPADEIRA | C98: - | E98: 13
A99: FICUS RADICANS | B99: FIGUEIRA TREPADEIRA | C99: - | E99: 12
A100: Fuchsia hybrida | B100: BRINCOS-DE-PRINCESA | C100: - | E100: 9
A101: Jacaranda mimosifolia | B101: JACARANDÁ MIMOSO | C101: 15m de altura | E101: 1
A102: Myrciaria cauliflora | B102: JABUTICABEIRA | C102: 3m de altura | E102: 3
A103: Morus Nigra | B103: Amoreira | C103: 10 m de altura | E103: 3
A104: Psidum guajava | B104: Goiabeira | C104: 7m de altura | E104: 2
A105: Eugenia uniflora | B105: PITANGUEIRA | C105: 12m de altura | E105: 2
A106: Psidum cateleyanum | B106: Laranjeira | C106: 8m de altura | E106: 2
A107: Malus domestica | B107: MACIEIRA | C107: 10 m de altura | E107: 1
A108: Subtotal arbusto ou cerva viva | E108: =SUM(E92:E99) -> 85
A109: Subtotal mudas superiores a 2m | E109: =SUM(E100:E107) -> 23
A110: Total | E110: =SUM(E92:E107) -> 108
...

Sheet MC DRENAGEM
A1: MEMÓRIA DE CÁLCULO
A3: TÍTULO: DRENAGEM E PAVIMENTAÇÃO DA TRAVESSA MAGALHÃES | E3: PÁGINA
A4: MERCADO MUNICIPAL MUNICÍPIO DE SERRO - MG
