Workbook

Sheet  Planilha Orçamentária
D1: PREFEITURA MUNICIPAL DE BRAÚNAS ESTADO DE MINAS GERAIS Rua São Bento, nº 401 – Centro – CEP 35.189-000 CNPJ nº 18.307.389/0001-88 – tel/fax (33) 3425-1155
A4: PLANILHA ORÇAMENTÁRIA DE CUSTOS
A6: PREFEITURA: PREFEITURA MUNICIPAL DE BRAÚNAS / MG - ISS = 3%
A7: OBRA: REFORMA DA QUADRA POLIESPORTIVA DA COMUNIDADE DE BARROADAS | G7: DATA: 03/06/2023
A8: LOCAL: COMUNIDADE DE BARROADAS - BRAÚNAS/MG | F8: FORMA DE EXECUÇÃO:
A9: ='Memória de Cálculo'!A9:E9 -> REGIÃO/MÊS DE REFERÊNCIA: SEINFRA/REGIÃO LESTE JANEIRO /2024 E SINAPI/BELO HORIZONTE 04/2024 SEM DESONERAÇÃO | F9: ( ) | G9: DIRETA | H9: ( x ) | I9: INDIRETA
A10: PRAZO DE EXECUÇÃO: 2 MESES | H10: BDI | I10: 0.2316
A12: ITEM | B12: FONTE | C12: CÓDIGO | D12: DESCRIÇÃO | E12: UNIDADE | F12: QUANT | G12: PREÇO UNITÁRIO S/ BDI | H12: PREÇO UNITÁRIO C/ BDI | I12: PREÇO TOTAL
A13: 1.0 | D13: =IFERROR(VLOOKUP(A13,'Memória de Cálculo'!A13:F87,4,0),"") -> SERVIÇOS PRELIMNARES
A14: 1.1 | B14: SEINFRA | C14: ED-28427 | D14: FORNECIMENTO E COLOCAÇÃO DE PLACA DE OBRA EM CHAPA GALVANIZADA #26, ESP. 0,45MM, DIMENSÃO (3X1,5)M, PLOTADA COM ADESIVO VINÍLICO, AFIXADA COM REBITES 4,8X40MM, EM ESTRUTURA METÁLICA DE METALON 20X20MM, ESP. 1,25MM, INCLUSIVE SUPORTE EM EUCALIPTO AUTOCLAVADO PINTADO COM TINTA PVA DUAS (2) DEMÃOS | E14: UN | F14: 1 | G14: 1386.5 | H14: =ROUND(G14+(G14*$I$10),2) -> 1707.61 | I14: =ROUND((F14*H14),2) -> 1707.61
A15: 1.2 | B15: SEINFRA | C15: ED-48442 | D15: DEMOLIÇÃO MECANIZADA DE CONCRETO, SEM ARMAÇÃO, COM EQUIPAMENTO ELÉTRICO, INCLUSIVE AFASTAMENTO E EMPILHAMENTO, EXCLUSIVE TRANSPORTE E RETIRADA DO MATERIAL DEMOLIDO | E15: M3 | F15: 60.93 | G15: 152.18 | H15: =ROUND(G15+(G15*$I$10),2) -> 187.42 | I15: =ROUND((F15*H15),2) -> 11419.5
A16: 1.3 | B16: SEINFRA | C16: ED-51132 | D16: CARGA MECÂNICA DE MATERIAL DE QUALQUER NATUREZA SOBRE CAMINHÃO, EXCLUSIVE TRANSPORTE | E16: M3 | F16: 60.39 | G16: 3.07 | H16: =ROUND(G16+(G16*$I$10),2) -> 3.78 | I16: =ROUND((F16*H16),2) -> 228.27
A17: 1.4 | B17: SEINFRA | C17: ED-29231 | D17: TRANSPORTE DE MATERIAL DE QUALQUER NATUREZA EM CAMINHÃO, DISTÂNCIA MAIOR QUE 2KM E MENOR OU IGUAL A 5KM, DENTRO DO PERÍMETRO URBANO, EXCLUSIVE CARGA, INCLUSIVE DESCARGA | E17: M3xKM | F17: 301.95 | G17: 2.65 | H17: =ROUND(G17+(G17*$I$10),2) -> 3.26 | I17: =ROUND((F17*H17),2) -> 984.36
D18: SUBTOTAL | I18: =SUM(I14:I17) -> 14339.74
A19: 2.0 | D19: PISO
A20: 2.1 | B20: SEINFRA | C20: ED-51123 | D20: REGULARIZAÇÃO MANUAL E COMPACTAÇÃO MECANIZADA DE TERRENO COM PLACA VIBRATÓRIA, EXCLUSIVE DESMATAMENTO, DESTOCAMENTO, LIMPEZA/ROÇADA DO TERRENO | E20: M2 | F20: 609.29 | G20: 5.24 | H20: =ROUND(G20+(G20*$I$10),2) -> 6.45 | I20: =ROUND((F20*H20),2) -> 3929.92
A21: 2.2 | B21: SEINFRA | C21: ED-49813 | D21: LASTRO DE BRITA COM PEDRA BRITADA NÚMERO 2 E 3, INCLUSIVE ADENSAMENTO E APILOAMENTO MANUAL | E21: M3 | F21: 15.0975 | G21: 204.28 | H21: =ROUND(G21+(G21*$I$10),2) -> 251.59 | I21: =ROUND((F21*H21),2) -> 3798.38
A22: 2.3 | B22: SINAPI | C22: 97113 | D22: APLICAÇÃO DE LONA PLÁSTICA PARA EXECUÇÃO DE PAVIMENTOS DE CONCRETO. AF_04/2022 | E22: M2 | F22: 609.29 | G22: 2.51 | H22: =ROUND(G22+(G22*$I$10),2) -> 3.09 | I22: =ROUND((F22*H22),2) -> 1882.71
A23: 2.4 | B23: SEINFRA | C23: ED-29582 | D23: ARMADURA DE TELA DE AÇO CA-60, SOLDADA TIPO Q-138, DIÂMETRO Ø4,2MM, TRAMA COM DIMENSÃO (100X100)MM, INCLUSIVE ESPAÇADOR, EXCLUSIVE CONCRETO | E23: M2 | F23: 609.29 | G23: 30.28 | H23: =ROUND(G23+(G23*$I$10),2) -> 37.29 | I23: =ROUND((F23*H23),2) -> 22720.42
A24: 2.5 | B24: SEINFRA | C24: ED-49638 | D24: FORNECIMENTO DE CONCRETO ESTRUTURAL, USINADO BOMBEADO, COM FCK 25MPA, INCLUSIVE LANÇAMENTO, ADENSAMENTO E ACABAMENTO | E24: M3 | F24: 60.929 | G24: 713.49 | H24: =ROUND(G24+(G24*$I$10),2) -> 878.73 | I24: =ROUND((F24*H24),2) -> 53540.14
A25: 2.6 | B25: SINAPI | C25: 97114 | D25: EXECUÇÃO DE JUNTAS DE CONTRAÇÃO PARA PAVIMENTOS DE CONCRETO. AF_04/2022 | E25: M | F25: 670.8925 | G25: 0.38 | H25: =ROUND(G25+(G25*$I$10),2) -> 0.47 | I25: =ROUND((F25*H25),2) -> 315.32
A26: 2.7 | B26: SEINFRA | C26: ED-50619 | D26: POLIMENTO MECANIZADO DE SUPERFÍCIE EM CONCRETO, INCLUSIVE ACABAMENTO DE CONCRETAGEM EM NIVELAMENTO A LASER (NÍVEL ZERO) | E26: M2 | F26: 609.29 | G26: 13.36 | H26: =ROUND(G26+(G26*$I$10),2) -> 16.45 | I26: =ROUND((F26*H26),2) -> 10022.82
D27: SUBTOTAL | I27: =SUM(I20:I26) -> 96209.71
A28: 3.0 | D28: PASSEIO
A29: 3.1 | B29: SEINFRA | C29: ED-51144 | D29: PASSEIOS DE CONCRETO E = 8 CM, FCK = 15 MPA PADRÃO PREFEITURA | E29: M2 | F29: 11.85 | G29: 72.87 | H29: =ROUND(G29+(G29*$I$10),2) -> 89.75 | I29: =ROUND((F29*H29),2) -> 1063.54
D30: SUBTOTAL | I30: =SUM(I29) -> 1063.54
A31: 4.0 | D31: PINTURA
A32: 4.1 | B32: SEINFRA | C32: ED-50461 | D32: PINTURA ACRÍLICA PARA PISO EM QUADRAS ESPORTIVA, DUAS (2) DEMÃOS | E32: M2 | F32: 609.29 | G32: 12.07 | H32: =ROUND(G32+(G32*$I$10),2) -> 14.87 | I32: =ROUND((F32*H32),2) -> 9060.14
A33: 4.2 | B33: SEINFRA | C33: ED-50460 | D33: PINTURA ACRÍLICA PARA PISO EM FAIXA DE DEMARCAÇÃO DE QUADRA, DUAS (2) DEMÃOS, FAIXA COM LARGURA DE 5 CM | E33: M | F33: 422.26 | G33: 3.69 | H33: =ROUND(G33+(G33*$I$10),2) -> 4.54 | I33: =ROUND((F33*H33),2) -> 1917.06
A34: 4.3 | B34: SEINFRA | C34: ED-50455 | D34: PINTURA ACRÍLICA EM PAREDE, DUAS (2) DEMÃOS, INCLUSIVE UMA (1) DEMÃO DE MASSA CORRIDA (PVA), EXCLUSIVE SELADOR ACRÍLICO | E34: M2 | F34: 240.65 | G34: 28.67 | H34: =ROUND(G34+(G34*$I$10),2) -> 35.31 | I34: =ROUND((F34*H34),2) -> 8497.35
A35: 4.4 | B35: SEINFRA | C35: ED-50514 | D35: PREPARAÇÃO PARA EMASSAMENTO OU PINTURA (LÁTEX/ACRÍLICA) EM PAREDE, INCLUSIVE UMA (1) DEMÃO DE SELADOR ACRÍLICO | E35: M2 | F35: 67.9 | G35: 6.86 | H35: =ROUND(G35+(G35*$I$10),2) -> 8.45 | I35: =ROUND((F35*H35),2) -> 573.76
D36: SUBTOTAL | I36: =SUM(I32:I35) -> 20048.31
A37: 5.0 | D37: TRAVES
A38: 5.1 | B38: SEINFRA | C38: ED-49572 | D38: REDE DE VÔLEI COM MASTRO EM TUBO GALVANIZADO SEM PEDESTAL | E38: CJ | F38: 1 | G38: 768.4 | H38: =ROUND(G38+(G38*$I$10),2) -> 946.36 | I38: =ROUND((F38*H38),2) -> 946.36
A39: 5.2 | B39: SEINFRA | C39: ED-49574 | D39: TABELA DE BASQUETE EM POSTE METÁLICO E SUPORTE DE PISO | E39: UN | F39: 2 | G39: 2236.58 | H39: =ROUND(G39+(G39*$I$10),2) -> 2754.57 | I39: =ROUND((F39*H39),2) -> 5509.14
A40: 5.3 | B40: SEINFRA | C40: ED-49569 | D40: TRAVE DE GOL EM TUBO GALVANIZADO PARA QUADRA, INCLUSIVE REDE E PINTURA | E40: UN | F40: 2 | G40: 4561.8 | H40: =ROUND(G40+(G40*$I$10),2) -> 5618.31 | I40: =ROUND((F40*H40),2) -> 11236.62
D41: SUBTOTAL | I41: =SUM(I38:I40) -> 17692.12
D43: TOTAL GERAL DA OBRA | I43: =I41+I36+I30+I27+I18 -> 149353.42
C46: Carimbo e assinatura do engenheiro responsável técnico
D47: pela elaboração da planilha
...

Sheet Memória de Cálculo
A1: PREFEITURA MUNICIPAL DE BRAÚNAS ESTADO DE MINAS GERAIS Rua São Bento, nº 401 – Centro – CEP 35.189-000 CNPJ nº 18.307.389/0001-88 – tel/fax (33) 3425-1155
A4: MEMÓRIA DE CÁLCULO
A6: PREFEITURA: PREFEITURA MUNICIPAL DE BRAÚNAS / MG - ISS = 3% | G6: FOLHA Nº: 01/01
A7: OBRA: REFORMA DA QUADRA POLIESPORTIVA DA COMUNIDADE DE BARROADAS | G7: 45446
A8: LOCAL: COMUNIDADE DE BARROADAS - BRAÚNAS/MG
A9: REGIÃO/MÊS DE REFERÊNCIA: SEINFRA/REGIÃO LESTE JANEIRO /2024 E SINAPI/BELO HORIZONTE 04/2024 SEM DESONERAÇÃO
A10: PRAZO DE EXECUÇÃO: 2 MESES
A12: ITEM | B12: FONTE | C12: CÓDIGO | D12: DESCRIÇÃO | E12: UNIDADE | F12: QUANTIDADE | G12: CÁLCULO
A13: 1.0 | D13: SERVIÇOS PRELIMNARES
A14: 1.1 | B14: SEINFRA | C14: ED-28427 | D14: FORNECIMENTO E COLOCAÇÃO DE PLACA DE OBRA EM CHAPA GALVANIZADA #26, ESP. 0,45MM, DIMENSÃO (3X1,5)M, PLOTADA COM ADESIVO VINÍLICO, AFIXADA COM REBITES 4,8X40MM, EM ESTRUTURA METÁLICA DE METALON 20X20MM, ESP. 1,25MM, INCLUSIVE SUPORTE EM EUCALIPTO AUTOCLAVADO PINTADO COM TINTA PVA DUAS (2) DEMÃOS | E14: UN | F14: 1 | G14: 01 UNIDADE
A15: 1.2 | B15: SEINFRA | C15: ED-48442 | D15: DEMOLIÇÃO MECANIZADA DE CONCRETO, SEM ARMAÇÃO, COM EQUIPAMENTO ELÉTRICO, INCLUSIVE AFASTAMENTO E EMPILHAMENTO, EXCLUSIVE TRANSPORTE E RETIRADA DO MATERIAL DEMOLIDO | E15: M3 | F15: 60.93 | G15: (30,85*19,75) = 609,29 m² X 10CM = 60.93 M3
A16: 1.3 | B16: SEINFRA | C16: ED-51132 | D16: CARGA MECÂNICA DE MATERIAL DE QUALQUER NATUREZA SOBRE CAMINHÃO, EXCLUSIVE TRANSPORTE | E16: M3 | F16: =60.39 -> 60.39 | G16: (30,85*19,75) = 609,29 m² X 10CM = 60.93 M3
A17: 1.4 | B17: SEINFRA | C17: ED-29231 | D17: TRANSPORTE DE MATERIAL DE QUALQUER NATUREZA EM CAMINHÃO, DISTÂNCIA MAIOR QUE 2KM E MENOR OU IGUAL A 5KM, DENTRO DO PERÍMETRO URBANO, EXCLUSIVE CARGA, INCLUSIVE DESCARGA | E17: M3xKM | F17: =60.39*5 -> 301.95 | G17: 60,39 m3 x 5km = 301.95 m3xkm
A18: 2.0 | D18: PISO
A19: 2.1 | B19: SEINFRA | C19: ED-51123 | D19: REGULARIZAÇÃO MANUAL E COMPACTAÇÃO MECANIZADA DE TERRENO COM PLACA VIBRATÓRIA, EXCLUSIVE DESMATAMENTO, DESTOCAMENTO, LIMPEZA/ROÇADA DO TERRENO | E19: M2 | F19: 609.29 | G19: (30,85*19,75) = 609,29 m²
A20: 2.2 | B20: SEINFRA | C20: ED-49813 | D20: LASTRO DE BRITA COM PEDRA BRITADA NÚMERO 2 E 3, INCLUSIVE ADENSAMENTO E APILOAMENTO MANUAL | E20: M3 | F20: =F17*0.05 -> 15.0975 | G20: (30,85*19,75) = 609,29 m² X 5CM = 30,46 M3
A21: 2.3 | B21: SINAPI | C21: 97113 | D21: APLICAÇÃO DE LONA PLÁSTICA PARA EXECUÇÃO DE PAVIMENTOS DE CONCRETO. AF_04/2022 | E21: M2 | F21: 609.29 | G21: (30,85*19,75) = 609,29 m²
A22: 2.4 | B22: SEINFRA | C22: ED-29582 | D22: ARMADURA DE TELA DE AÇO CA-60, SOLDADA TIPO Q-138, DIÂMETRO Ø4,2MM, TRAMA COM DIMENSÃO (100X100)MM, INCLUSIVE ESPAÇADOR, EXCLUSIVE CONCRETO | E22: M2 | F22: 609.29 | G22: (30,85*19,75) = 609,29 m²
A23: 2.5 | B23: SEINFRA | C23: ED-49638 | D23: FORNECIMENTO DE CONCRETO ESTRUTURAL, USINADO BOMBEADO, COM FCK 25MPA, INCLUSIVE LANÇAMENTO, ADENSAMENTO E ACABAMENTO | E23: M3 | F23: =F22*0.1 -> 60.929 | G23: (30,85*19,75) = 609,29 M²x10cm = 60,93m3
A24: 2.6 | B24: SINAPI | C24: 97114 | D24: EXECUÇÃO DE JUNTAS DE CONTRAÇÃO PARA PAVIMENTOS DE CONCRETO. AF_04/2022 | E24: M | F24: =(30.85/2*30.85)+(19.75/2*19.75) -> 670.8925 | G24: modulação 2m x 2 m = (30,85/2x30.85)+(19.75/2*19.75) = 670.89m
A25: 2.7 | B25: SEINFRA | C25: ED-50619 | D25: POLIMENTO MECANIZADO DE SUPERFÍCIE EM CONCRETO, INCLUSIVE ACABAMENTO DE CONCRETAGEM EM NIVELAMENTO A LASER (NÍVEL ZERO) | E25: M2 | F25: 609.29 | G25: (30,85*19,75) = 609,29 m²
A26: 3.0 | D26: PASSEIO
A27: 3.1 | B27: SEINFRA | C27: ED-51144 | D27: PASSEIOS DE CONCRETO E = 8 CM, FCK = 15 MPA PADRÃO PREFEITURA | E27: M2 | F27: 11.85 | G27: (19,75*0,60) = 11,85 m²
A28: 4.0 | D28: PINTURA
A29: 4.1 | B29: SEINFRA | C29: ED-50461 | D29: PINTURA ACRÍLICA PARA PISO EM QUADRAS ESPORTIVA, DUAS (2) DEMÃOS | E29: M2 | F29: 609.29 | G29: (30,85*19,75) = 609,29 m²
A30: 4.2 | B30: SEINFRA | C30: ED-50460 | D30: PINTURA ACRÍLICA PARA PISO EM FAIXA DE DEMARCAÇÃO DE QUADRA, DUAS (2) DEMÃOS, FAIXA COM LARGURA DE 5 CM | E30: M | F30: =72+180.14+170.12 -> 422.26 | G30: Volei: (18,0x2)+(9,0x4)=72,0 Basquete: (25,82+15,0)x2+2x(19,6+3,15+11,6+3,6+5,65)+11,30=180,140 Futsal: (27,85,0+17,29)x2+17,29+18,85+(3,0+18,85)x2=170,12 | I30: =(((27.85+17.29+27.85+17.29+17.29+18.85+18.85+18.85+6))) -> 170.12
A31: 4.3 | B31: SEINFRA | C31: ED-50455 | D31: PINTURA ACRÍLICA EM PAREDE, DUAS (2) DEMÃOS, INCLUSIVE UMA (1) DEMÃO DE MASSA CORRIDA (PVA), EXCLUSIVE SELADOR ACRÍLICO | E31: M2 | F31: 228.52 | G31: interna =(26,86+41,96+33,94+3,37+61,70) = 167,83 m² externa (18,76+38,56+3,37)= 60,69 m² | L31: =2.18*2 -> 4.36 | M31: =184.5-4.36 -> 180.14
A32: 4.4 | B32: SEINFRA | C32: ED-50514 | D32: PREPARAÇÃO PARA EMASSAMENTO OU PINTURA (LÁTEX/ACRÍLICA) EM PAREDE, INCLUSIVE UMA (1) DEMÃO DE SELADOR ACRÍLICO | E32: M2 | F32: 60.69 | G32: (18,76+38,56+3,37)= 60,69 m²
A33: 5.0 | D33: EQUIPAMENTOS ESPORTIVOS
A34: 5.1 | B34: SEINFRA | C34: ED-49572 | D34: REDE DE VÔLEI COM MASTRO EM TUBO GALVANIZADO SEM PEDESTAL | E34: CJ | F34: 1 | G34: 01 conjunto
A35: 5.2 | B35: SEINFRA | C35: ED-49574 | D35: TABELA DE BASQUETE EM POSTE METÁLICO E SUPORTE DE PISO | E35: UN | F35: 2 | G35: (1+1)= 2 unidades
A36: 5.3 | B36: SEINFRA | C36: ED-49569 | D36: TRAVE DE GOL EM TUBO GALVANIZADO PARA QUADRA, INCLUSIVE REDE E PINTURA | E36: UN | F36: 2 | G36: (1+1)= 2 unidades
C40: Carimbo e assinatura do engenheiro responsável técnico pela elaboração da planilha
C44: Carimbo e assinatura do prefeito

Sheet Cronograma Físico-Financeiro
C1: PREFEITURA MUNICIPAL DE BRAÚNAS ESTADO DE MINAS GERAIS Rua São Bento, nº 401 – Centro – CEP 35.189-000 CNPJ nº 18.307.389/0001-88 – tel/fax (33) 3425-1155
A2: CRONOGRAMA FÍSICO-FINANCEIRO
A4: PREFEITURA: PREFEITURA MUNICIPAL DE BRAÚNAS/MG | H4: 45446
A5: OBRA: REFORMA DA QUADRA POLIESPORTIVA DA COMUNIDADE DE BARROADAS | C5: VALOR DA OBRA: | E5: =D19 -> 149353.42
C6: LOCAL: COMUNIDADE DE BARROADAS - BRAÚNAS/MG | H6: PRAZO DA OBRA: 2 MESES
A7: ITEM | B7: ETAPAS/DESCRIÇÃO | C7: FÍSICO/ FINANCEIRO | D7: TOTAL ETAPAS | E7: MÊS 1 | F7: MÊS 2 | G7: MÊS 3 | H7: MÊS 4 | I7: MÊS 5
A8: 1.0 | B8: ='Memória de Cálculo'!D13 -> SERVIÇOS PRELIMNARES | C8: Físico % | D8: =D9/$D$19 -> 0.09601213 | E8: 1
C9: Financeiro | D9: =' Planilha Orçamentária'!I18 -> 14339.74 | E9: =E8*$D$9 -> 14339.74
A10: 2.0 | B10: PISO | C10: Físico % | D10: =D11/$D$19 -> 0.6441748 | E10: 1
C11: Financeiro | D11: =' Planilha Orçamentária'!I27 -> 96209.71 | E11: =E10*$D$11 -> 96209.71
A12: 3.0 | B12: PASSEIO | C12: Físico % | D12: =D13/$D$19 -> 0.0071209618 | F12: 1
C13: Financeiro | D13: =' Planilha Orçamentária'!I30 -> 1063.54 | F13: =F12*$D$13 -> 1063.54
A14: 4.0 | B14: PINTURA | C14: Físico % | D14: =D15/$D$19 -> 0.13423402 | F14: 1
C15: Financeiro | D15: =' Planilha Orçamentária'!I36 -> 20048.31 | F15: =F14*$D$15 -> 20048.31
A16: 5.0 | B16: TRAVES | C16: Físico % | D16: =D17/$D$19 -> 0.11845808 | F16: 1
C17: Financeiro | D17: =' Planilha Orçamentária'!I41 -> 17692.12 | F17: =F16*$D$17 -> 17692.12
A18: TOTAL | C18: Físico % | D18: =D8+D10+D12+D14+D16 -> 1 | E18: =E19/$D$19 -> 0.74018693 | F18: =F19/$D$19 -> 0.25981307
C19: Financeiro | D19: =D9+D11+D13+D15+D17 -> 149353.42 | E19: =E9+E11 -> 110549.45 | F19: =F13+F15+F17 -> 38803.97
G22: Observações:
B23: Carimbo e assinatura do engenheiro responsável técnico
B24: pela elaboração da planilha
B26: Assinatura do Prefeito
