Workbook
Name _0: #REF!
Name _expansao: #REF!
Name Área_impressão_IM: NA()
Name bocais: #REF!
Name calculo_de_hf: #REF!
Name DIMENSIONAMENTO_DE_TUBULAÇÃO: #REF!
Name DTUBOS: #REF!
Name Excel_BuiltIn_Database: #REF!
Name Excel_BuiltIn_Database_7: #REF!
Name Excel_BuiltIn_Print_Area: BDI!#REF!
Name Excel_BuiltIn_Print_Area: 'CRON. FISICO-FINAC'!$A$8:$P$28
Name Excel_BuiltIn_Print_Area: #REF!
Name ff: #REF!
Name kk: #REF!
Name LL: [1]PL018407!$A$7:$E$161
Name M: #REF!
Name N: #REF!
Name OUTRO: #REF!
Name Payment_Needed: "Pagamento necessário"
Name reducao: #REF!
Name Reimbursement: "Reembolso"
Name RESUMO: #REF!
Name ss: [2]PL001708!$A$7:$E$206
Name SUCCAO: #REF!
Name tabtubo: #REF!
Name TABTUBOMM: #REF!
Name TEST: #REF!
Name Tubos_PRFV: #REF!
Name VAZAO: #REF!

Sheet Planilha2

Sheet ORÇAMENTO ANALITICO
E2: Obra: Reforma, Ampliação e Adequação Sede Própria do IMP | I2: BDI | J2: PRAZO EXECUÇÃO
J3: 6 MESES
J4: DATA
I5: 0.2223 | J5: 46050
I6: REFERÊNCIAS
E8: Endereço: Rua Newton Penido n° 54/56 Municipío de Itaúna | I8: SETOP OUT/2025
I9: SINAPI 12/2025
A10: ITEM | B10: CODIGO | C10: BANCO | D10: SERVIÇO | E10: UND | F10: QUANT. | G10: VALOR UNITÁRIO | H10: VALOR UNITÁRIO (COM BDI) | I10: CUSTO TOTAL | J10: CUSTO TOTAL (COM BDI)
I11: =SUM(I13:I188)/2 -> 671622.62 | J11: =SUM(J13:J188)/2 -> 820933.6
A13: 01 | D13: SERVIÇOS PRELIMINARES | I13: =SUM(I14:I17) -> 6441.98 | J13: =SUM(J14:J17) -> 7874.29
A14: 01.01 | B14: ED-28427 | C14: SETOP | D14: FORNECIMENTO E COLOCAÇÃO DE PLACA DE OBRA EM CHAPA GALVANIZADA #26, ESP. 0,45MM, DIMENSÃO (3X1,5)M, PLOTADA COM ADESIVO VINÍLICO, AFIXADA COM REBITES 4,8X40MM, EM ESTRUTURA METÁLICA DE METALON 20X20MM, ESP. 1,25MM, INCLUSIVE SUPORTE EM EUCALIPTO AUTOCLAVADO PINTADO COM TINTA PVA DUAS (2) DEMÃOS | E14: UND | F14: 1 | G14: 1153.26 | H14: =ROUND(G14*(1+$I$5),2) -> 1409.63 | I14: =ROUND(G14*F14,2) -> 1153.26 | J14: =ROUND(F14*H14,2) -> 1409.63
A15: 01.02 | B15: ED-19633 | C15: SETOP | D15: ESCORAMENTO METÁLICO PARA LAJE E VIGA EM CONCRETO ARMADO, TIPO "A", ALTURA DE (200 ATÉ 310)CM, INCLUSIVE DESCARGA, MONTAGEM, DESMONTAGEM E CARGA | E15: M2XMES | F15: 92 | G15: 19.87 | H15: =ROUND(G15*(1+$I$5),2) -> 24.29 | I15: =ROUND(G15*F15,2) -> 1828.04 | J15: =ROUND(F15*H15,2) -> 2234.68
A16: 01.03 | B16: CO-27430 | C16: SETOP | D16: PROJETO EXECUTIVO DE INSTALAÇÕES HIDRO SANITÁRIAS | E16: PR A1 | F16: 2 | G16: 1730.34 | H16: =ROUND(G16*(1+$I$5),2) -> 2114.99 | I16: =ROUND(G16*F16,2) -> 3460.68 | J16: =ROUND(F16*H16,2) -> 4229.98
A18: 02 | D18: ESCAVAÇÕES, DEMOLIÇÕES E REMOÇÃO | I18: =SUM(I19:I32) -> 12883.45 | J18: =SUM(J19:J32) -> 15747.26
A19: 02.01 | B19: ED-48435 | C19: SETOP | D19: DEMOLIÇÃO MANUAL DE ALVENARIA DE TIJOLO CERÂMICO OU BLOCO DE CONCRETO, INCLUSIVE AFASTAMENTO E EMPILHAMENTO, EXCLUSIVE TRANSPORTE E RETIRADA DO MATERIAL DEMOLIDO | E19: M3 | F19: 9.44 | G19: 109.09 | H19: =ROUND(G19*(1+$I$5),2) -> 133.34 | I19: =ROUND(G19*F19,2) -> 1029.81 | J19: =ROUND(F19*H19,2) -> 1258.73
A20: 02.02 | B20: ED-48502 | C20: SETOP | D20: DEMOLIÇÃO MANUAL DE REVESTIMENTO CERÂMICO, AZULEJO OU LADRILHO HIDRÁULICO, INCLUSIVE AFASTAMENTO E EMPILHAMENTO, EXCLUSIVE DEMOLIÇÃO DO REBOCO OU EMBOÇO, TRANSPORTE E RETIRADA DO MATERIAL DEMOLIDO | E20: M2 | F20: 133.21 | G20: 21.54 | H20: =ROUND(G20*(1+$I$5),2) -> 26.33 | I20: =ROUND(G20*F20,2) -> 2869.34 | J20: =ROUND(F20*H20,2) -> 3507.42
A21: 02.03 | B21: ED-48480 | C21: SETOP | D21: DEMOLIÇÃO MANUAL DE PISO CERÂMICO OU LADRILHO HIDRÁULICO, INCLUSIVE AFASTAMENTO E EMPILHAMENTO, EXCLUSIVE DEMOLIÇÃO DE CONTRAPISO, TRANSPORTE E RETIRADA DO MATERIAL DEMOLIDO | E21: M2 | F21: 53.53 | G21: 17.23 | H21: =ROUND(G21*(1+$I$5),2) -> 21.06 | I21: =ROUND(G21*F21,2) -> 922.32 | J21: =ROUND(F21*H21,2) -> 1127.34
A22: 02.04 | B22: 97628 | C22: SINAPI | D22: DEMOLIÇÃO DE LAJES, EM CONCRETO ARMADO, DE FORMA MANUAL, SEM REAPROVEITAMENTO. AF_09/2023 | E22: M3 | F22: =8.24*0.12 -> 0.9888 | G22: 280 | H22: =ROUND(G22*(1+$I$5),2) -> 342.24 | I22: =ROUND(G22*F22,2) -> 276.86 | J22: =ROUND(F22*H22,2) -> 338.41
A23: 02.05 | B23: ED-51107 | C23: SETOP | D23: ESCAVAÇÃO MANUAL DE VALA COM PROFUNDIDADE MENOR OU IGUAL A 1,5M, INCLUSIVE DESCARGA LATERAL | E23: M3 | F23: 7.91 | G23: 71.42 | H23: =ROUND(G23*(1+$I$5),2) -> 87.3 | I23: =ROUND(G23*F23,2) -> 564.93 | J23: =ROUND(F23*H23,2) -> 690.54
A24: 02.06 | B24: ED-51093 | C24: SETOP | D24: PILOAMENTO MANUAL EM FUNDO DE VALA COM SOQUETE, EXCLUSIVE ESCAVAÇÃO | E24: M2 | F24: 7.6 | G24: 24.08 | H24: =ROUND(G24*(1+$I$5),2) -> 29.43 | I24: =ROUND(G24*F24,2) -> 183.01 | J24: =ROUND(F24*H24,2) -> 223.67
A25: 02.07 | B25: ED-51133 | C25: SETOP | D25: TRANSPORTE DE MATERIAL DE QUALQUER NATUREZA COM CARRINHO DE MÃO, COM DISTÂNCIAS MENORES OU IGUAIS A 50M, INCLUSIVE CARGA/DESCARGA | E25: M3 | F25: =F19+F22+F23+(F31*0.1) -> 26.3688 | G25: 24.77 | H25: =ROUND(G25*(1+$I$5),2) -> 30.28 | I25: =ROUND(G25*F25,2) -> 653.16 | J25: =ROUND(F25*H25,2) -> 798.45
A26: 02.08 | B26: ED-51125 | C26: SETOP | D26: TRANSPORTE DE MATERIAL DEMOLIDO EM CAÇAMBA, EXCLUSIVE CARGA MANUAL OU MECÂNICA | E26: M3 | F26: =F25 -> 26.3688 | G26: 60 | H26: =ROUND(G26*(1+$I$5),2) -> 73.34 | I26: =ROUND(G26*F26,2) -> 1582.13 | J26: =ROUND(F26*H26,2) -> 1933.89
A27: 02.09 | B27: ED-48512 | C27: SETOP | D27: REMOÇÃO MANUAL DE TELHA EM FIBROCIMENTO, TIPO ONDULADA, COM REAPROVEITAMENTO, INCLUSIVE AFASTAMENTO E EMPILHAMENTO, EXCLUSIVE TRANSPORTE E RETIRADA DO MATERIAL REMOVIDO NÃO REAPROVEITÁVEL | E27: M2 | F27: 69.84 | G27: 13.31 | H27: =ROUND(G27*(1+$I$5),2) -> 16.27 | I27: =ROUND(G27*F27,2) -> 929.57 | J27: =ROUND(F27*H27,2) -> 1136.3
A28: 02.10 | B28: ED-48494 | C28: SETOP | D28: REMOÇÃO MANUAL DE FOLHA DE PORTA OU JANELA DE MADEIRA OU METÁLICA, COM REAPROVEITAMENTO, INCLUSIVE AFASTAMENTO E EMPILHAMENTO, EXCLUSIVE TRANSPORTE E RETIRADA DO MATERIAL REMOVIDO NÃO REAPROVEITÁVEL | E28: M2 | F28: 18.16 | G28: 9.43 | H28: =ROUND(G28*(1+$I$5),2) -> 11.53 | I28: =ROUND(G28*F28,2) -> 171.25 | J28: =ROUND(F28*H28,2) -> 209.38
A29: 02.11 | B29: ED-48495 | C29: SETOP | D29: REMOÇÃO MANUAL DE MARCO EM MADEIRA OU METÁLICO, COM REAPROVEITAMENTO, INCLUSIVE AFASTAMENTO E EMPILHAMENTO, EXCLUSIVE TRANSPORTE E RETIRADA DO MATERIAL REMOVIDO NÃO REAPROVEITÁVEL | E29: U | F29: 11 | G29: 18.76 | H29: =ROUND(G29*(1+$I$5),2) -> 22.93 | I29: =ROUND(G29*F29,2) -> 206.36 | J29: =ROUND(F29*H29,2) -> 252.23
A30: 02.12 | B30: ED-48509 | C30: SETOP | D30: REMOÇÃO MANUAL DE TELHA METÁLICA OU PVC, COM REAPROVEITAMENTO, INCLUSIVE AFASTAMENTO E EMPILHAMENTO, EXCLUSIVE TRANSPORTE E RETIRADA DO MATERIAL REMOVIDO NÃO REAPROVEITÁVEL | E30: M2 | F30: 215.92 | G30: 9.32 | H30: =ROUND(G30*(1+$I$5),2) -> 11.39 | I30: =ROUND(G30*F30,2) -> 2012.37 | J30: =ROUND(F30*H30,2) -> 2459.33
A31: 02.13 | B31: ED-48479 | C31: SETOP | D31: DEMOLIÇÃO MANUAL DE PISO CIMENTADO OU CONTRAPISO DE ARGAMASSA, COM ESPESSURA MÁXIMA DE 10CM, INCLUSIVE AFASTAMENTO E EMPILHAMENTO, EXCLUSIVE TRANSPORTE E RETIRADA DO MATERIAL DEMOLIDO | E31: M2 | F31: 80.3 | G31: 18.46 | H31: =ROUND(G31*(1+$I$5),2) -> 22.56 | I31: =ROUND(G31*F31,2) -> 1482.34 | J31: =ROUND(F31*H31,2) -> 1811.57
A33: 03 | D33: ALVENÁRIAS | I33: =SUM(I34:I38) -> 29528.1 | J33: =SUM(J34:J39) -> 36093.23
A34: 03.01 | B34: ED-48232 | C34: SETOP | D34: ALVENARIA DE VEDAÇÃO COM TIJOLO CERÂMICO FURADO, ESP. 14CM, PARA REVESTIMENTO, INCLUSIVE ARGAMASSA PARA ASSENTAMENTO | E34: M2 | F34: 202.32 | G34: 70.88 | H34: =ROUND(G34*(1+$I$5),2) -> 86.64 | I34: =ROUND(G34*F34,2) -> 14340.44 | J34: =ROUND(F34*H34,2) -> 17529
A35: 03.02 | B35: ED-8346 | C35: SETOP | D35: ENCUNHAMENTO DE ALVENARIA DE VEDAÇÃO COM ARGAMASSA, INCLUSIVE ADITIVO EXPANSOR PARA ENCUNHAMENTO | E35: M | F35: =3.25+3.1+3.1+5.6 -> 15.05 | G35: 7.07 | H35: =ROUND(G35*(1+$I$5),2) -> 8.64 | I35: =ROUND(G35*F35,2) -> 106.4 | J35: =ROUND(F35*H35,2) -> 130.03
A36: 03.03 | B36: ED-9903 | C36: SETOP | D36: VERGA OU CONTRAVERGA EM CONCRETO ESTRUTURAL PARA VÃOS DE ATÉ 150CM, PREPARADO EM OBRA COM BETONEIRA, CONTROLE "A", COM FCK 20 MPA, MOLDADA IN LOCO, INCLUSIVE ARMAÇÃO | E36: M3 | F36: 2.22 | G36: 3330.96 | H36: =ROUND(G36*(1+$I$5),2) -> 4071.43 | I36: =ROUND(G36*F36,2) -> 7394.73 | J36: =ROUND(F36*H36,2) -> 9038.57
A37: 03.04 | B37: ED-48201 | C37: SETOP | D37: ALVENARIA ESTRUTURAL COM BLOCO DE CONCRETO, ESP. 14CM , (FBK 4,5MPA), PARA REVESTIMENTO, INCLUSIVE ARGAMASSA PARA ASSENTAMENTO | E37: M2 | F37: 83.66 | G37: 84.19 | H37: =ROUND(G37*(1+$I$5),2) -> 102.91 | I37: =ROUND(G37*F37,2) -> 7043.34 | J37: =ROUND(F37*H37,2) -> 8609.45
A38: 03.05 | B38: ED-48213 | C38: SETOP | D38: ALVENARIA DE BLOCO DE CONCRETO CHEIO COM ARMAÇÃO, EM CONCRETO COM FCK 15MPA , ESP. 14CM, PARA REVESTIMENTO, INCLUSIVE ARGAMASSA PARA ASSENTAMENTO (DETALHE D CADERNO SEDS) | E38: M2 | F38: 2.88 | G38: 223.33 | H38: =ROUND(G38*(1+$I$5),2) -> 272.98 | I38: =ROUND(G38*F38,2) -> 643.19 | J38: =ROUND(F38*H38,2) -> 786.18
A40: 04 | D40: DIVISÕES E REVESTIMENTOS | I40: =SUM(I41:I50) -> 100261.22 | J40: =SUM(J41:J50) -> 122551.94
A41: 04.01 | B41: ED-48209 | C41: SETOP | D41: PAREDE EM CHAPA DE GESSO ACARTONADO (DRYWALL), DIVISÃO ENTRE ÁREAS SECAS DE UMA MESMA UNIDADE (ST/ST), ESP. 115 MM, INCLUSIVE MONTANTES, GUIAS E ACESSÓRIOS, EXCLUSIVE ISOLANTE TÉRMICO/ACÚSTICO | E41: M2 | F41: 54.81 | G41: 84.29 | H41: =ROUND(G41*(1+$I$5),2) -> 103.03 | I41: =ROUND(G41*F41,2) -> 4619.93 | J41: =ROUND(F41*H41,2) -> 5647.07
A42: 04.02 | B42: ED-48533 | C42: SETOP | D42: DIVISÓRIA EM GRANITO CINZA ANDORINHA, ESP. 3CM, INCLUSIVE INSTALAÇÃO, FERRAGENS EM LATÃO CROMADO E ACESSÓRIOS | E42: M2 | F42: 9.13 | G42: 677.65 | H42: =ROUND(G42*(1+$I$5),2) -> 828.29 | I42: =ROUND(G42*F42,2) -> 6186.94 | J42: =ROUND(F42*H42,2) -> 7562.29
A43: 04.03 | B43: ED-50730 | C43: SETOP | D43: CHAPISCO COM ARGAMASSA, TRAÇO 1:2:3 (CIMENTO, AREIA E PEDRISCO), APLICADO COM COLHER, ESP. 5MM, INCLUSIVE ARGAMASSA COM PREPARO MECANIZADO | E43: M2 | F43: 571.97 | G43: 14.79 | H43: =ROUND(G43*(1+$I$5),2) -> 18.08 | I43: =ROUND(G43*F43,2) -> 8459.44 | J43: =ROUND(F43*H43,2) -> 10341.22
A44: 04.04 | B44: ED-50761 | C44: SETOP | D44: REBOCO COM ARGAMASSA, TRAÇO 1:2:8 (CIMENTO, CAL E AREIA) , ESP. 20MM, APLICAÇÃO MANUAL, INCLUSIVE ARGAMASSA COM PREPARO MECANIZADO, EXCLUSIVE CHAPISCO | E44: M2 | F44: =F43 -> 571.97 | G44: 37.56 | H44: =ROUND(G44*(1+$I$5),2) -> 45.91 | I44: =ROUND(G44*F44,2) -> 21483.19 | J44: =ROUND(F44*H44,2) -> 26259.14
A45: 04.05 | B45: ED-9081 | C45: SETOP | D45: REVESTIMENTO COM CERÂMICA APLICADO EM PAREDE, ACABAMENTO ESMALTADO, AMBIENTE INTERNO/EXTERNO, PADRÃO EXTRA, DIMENSÃO DA PEÇA ATÉ 2025 CM2, PEI III, ASSENTAMENTO COM ARGAMASSA INDUSTRIALIZADA, INCLUSIVE REJUNTAMENTO | E45: M2 | F45: 191.12 | G45: 76.1 | H45: =ROUND(G45*(1+$I$5),2) -> 93.02 | I45: =ROUND(G45*F45,2) -> 14544.23 | J45: =ROUND(F45*H45,2) -> 17777.98
A46: 04.06 | B46: ED-50724 | C46: SETOP | D46: REVESTIMENTO COM CERÂMICA APLICADO EM PISO, ACABAMENTO ESMALTADO, AMBIENTE INTERNO, PADRÃO EXTRA, DIMENSÃO DA PEÇA ATÉ 2025 CM2, PEI IV, ASSENTAMENTO COM ARGAMASSA INDUSTRIALIZADA, INCLUSIVE REJUNTAMENTO | E46: M2 | F46: 259.9 | G46: 85.11 | H46: =ROUND(G46*(1+$I$5),2) -> 104.03 | I46: =ROUND(G46*F46,2) -> 22120.09 | J46: =ROUND(F46*H46,2) -> 27037.4
...

Sheet LEVANT.
B3: LEVANTAMENTO
B4: demoliçaõ alvenaria
C5: COMPRI. | D5: ALTU. | E5: ESPESSURA
C6: 3.25 | D6: 2.95 | E6: 0.15 | G6: =E6*D6*C6 -> 1.438125 | I6: =SUM(G6:G18)*1.3 -> 9.7828575
C7: 2.5 | D7: 2.2 | E7: 0.15 | G7: =E7*D7*C7 -> 0.825
C8: 1.18 | D8: 2.95 | E8: 0.15 | G8: =E8*D8*C8 -> 0.52215
C9: 0.8 | D9: 2.1 | E9: 0.15 | G9: =E9*D9*C9 -> 0.252
C10: 0.9 | D10: 2.1 | E10: 0.15 | G10: =E10*D10*C10 -> 0.2835
C11: 2.5 | D11: 1.2 | E11: 0.15 | G11: =E11*D11*C11 -> 0.45
C12: 1.2 | D12: 1.25 | E12: 0.15 | G12: =E12*D12*C12 -> 0.225 | J12: M3
C13: 0.9 | D13: 2.1 | E13: 0.15 | G13: =E13*D13*C13 -> 0.2835
C14: 11.05 | D14: 0.9 | E14: 0.15 | G14: =E14*D14*C14 -> 1.49175
C15: 0.9 | D15: 2.1 | E15: 0.15 | G15: =E15*D15*C15 -> 0.2835
C16: 0.8 | D16: 2.1 | E16: 0.15 | G16: =E16*D16*C16 -> 0.252
C17: 2.5 | D17: 1.2 | E17: 0.15 | G17: =E17*D17*C17 -> 0.45
C18: 2.05 | D18: 2.5 | E18: 0.15 | G18: =E18*D18*C18 -> 0.76875
B21: demolição revestimento
C23: compri | D23: altu | F23: area desconto | G23: total
C24: =4.8*2+(4.28*2) -> 18.16 | D24: 2.95 | F24: =(2*1)+3*(0.8*2.1) -> 7.04 | G24: =(C24*D24)-F24 -> 46.532 | I24: =SUM(G24:G30) -> 168.322
C25: =(4.5*2)+1.45*2 -> 11.9 | D25: 1.5 | F25: =1.6*1.5 -> 2.4 | G25: =(C25*D25)-F25 -> 15.45
C26: =6.6+3.1 -> 9.7 | D26: 2.95 | F26: =(0.9*2.1)+(0.4*0.4) -> 2.05 | G26: =(C26*D26)-F26 -> 26.565
C27: =2.9+6.6 -> 9.5 | D27: 2.95 | F27: =(0.6*2.1)+(0.4*0.4) -> 1.42 | G27: =(C27*D27)-F27 -> 26.605 | J27: m2
C28: =6.6+3.1 -> 9.7 | D28: 2.95 | F28: =(0.9*2.1)+(0.4*0.4) -> 2.05 | G28: =(C28*D28)-F28 -> 26.565
C29: =2.9+6.6 -> 9.5 | D29: 2.95 | F29: =(0.6*2.1)+(0.4*0.4) -> 1.42 | G29: =(C29*D29)-F29 -> 26.605
B35: demolição revest. Piso
C37: compri | D37: larg | F37: area desconto | G37: total
C38: 9.56 | D38: 4.28 | G38: =(C38*D38)-F38 -> 40.9168 | I38: =SUM(G38:G44) -> 86.5708
C39: 1.55 | D39: 3.3 | G39: =(C39*D39)-F39 -> 5.115
C40: 1.55 | D40: 3.3 | G40: =(C40*D40)-F40 -> 5.115
C41: 3.3 | D41: 1.45 | G41: =(C41*D41)-F41 -> 4.785 | J41: m2
C42: 3.3 | D42: 1.45 | G42: =(C42*D42)-F42 -> 4.785
C43: 4.8 | D43: 4.28 | G43: =(C43*D43)-F43 -> 20.544
C44: 4.5 | D44: 1.18 | G44: =(C44*D44)-F44 -> 5.31
B48: escavação manual de vala
C50: compri | D50: larg | E50: altura | G50: total
C51: 3.25 | D51: 0.25 | E51: 0.3 | G51: =(C51*D51*E51) -> 0.24375 | I51: =SUM(G51:G57)*1.3 -> 8.151
C52: 3.25 | D52: 0.25 | E52: 0.3 | G52: =(C52*D52*E52) -> 0.24375
C53: 3.1 | D53: 0.25 | E53: 0.3 | G53: =(C53*D53*E53) -> 0.2325
C54: 5.6 | D54: 0.25 | E54: 0.3 | G54: =(C54*D54*E54) -> 0.42
C55: 1.8 | D55: 1.9 | E55: 1.5 | G55: =(C55*D55*E55) -> 5.13
...

Sheet Plan2

Sheet ORÇAMENTO SINTÉTICO
E2: Obra: Reforma, Ampliação e Adequação Sede Própria do IMP | I2: BDI | J2: PRAZO EXECUÇÃO
J3: 6 MESES
J4: DATA
I5: 0.2223 | J5: 45685
I6: REFERÊNCIAS
E8: Endereço: Rua Newton Penido n° 54/56 Municipío de Itaúna | I8: SETOP OUT/2025
I9: SINAPI 12/2025
A10: ITEM | B10: CODIGO | C10: BANCO | D10: SERVIÇO | E10: UND | F10: QUANT. | G10: VALOR UNITÁRIO | H10: VALOR UNITÁRIO (COM BDI) | I10: CUSTO TOTAL | J10: CUSTO TOTAL (COM BDI)
I11: =SUM(I13:I188)/2 -> 671622.62 | J11: =SUM(J13:J188)/2 -> 820933.6
A13: 01 | D13: SERVIÇOS PRELIMINARES | I13: =SUM(I14:I17) -> 6441.98 | J13: =SUM(J14:J17) -> 7874.29
A14: 01.01 | B14: ED-28427 | C14: SETOP | D14: FORNECIMENTO E COLOCAÇÃO DE PLACA DE OBRA EM CHAPA GALVANIZADA #26, ESP. 0,45MM, DIMENSÃO (3X1,5)M, PLOTADA COM ADESIVO VINÍLICO, AFIXADA COM REBITES 4,8X40MM, EM ESTRUTURA METÁLICA DE METALON 20X20MM, ESP. 1,25MM, INCLUSIVE SUPORTE EM EUCALIPTO AUTOCLAVADO PINTADO COM TINTA PVA DUAS (2) DEMÃOS | E14: UND | F14: 1 | G14: 1153.26 | H14: =ROUND(G14*(1+$I$5),2) -> 1409.63 | I14: =ROUND(G14*F14,2) -> 1153.26 | J14: =ROUND(F14*H14,2) -> 1409.63
A15: 01.02 | B15: ED-19633 | C15: SETOP | D15: ESCORAMENTO METÁLICO PARA LAJE E VIGA EM CONCRETO ARMADO, TIPO "A", ALTURA DE (200 ATÉ 310)CM, INCLUSIVE DESCARGA, MONTAGEM, DESMONTAGEM E CARGA | E15: M2XMES | F15: 92 | G15: 19.87 | H15: =ROUND(G15*(1+$I$5),2) -> 24.29 | I15: =ROUND(G15*F15,2) -> 1828.04 | J15: =ROUND(F15*H15,2) -> 2234.68
A16: 01.03 | B16: CO-27430 | C16: SETOP | D16: PROJETO EXECUTIVO DE INSTALAÇÕES HIDRO SANITÁRIAS | E16: PR A1 | F16: 2 | G16: 1730.34 | H16: =ROUND(G16*(1+$I$5),2) -> 2114.99 | I16: =ROUND(G16*F16,2) -> 3460.68 | J16: =ROUND(F16*H16,2) -> 4229.98
A18: 02 | D18: ESCAVAÇÕES, DEMOLIÇÕES E REMOÇÃO | I18: =SUM(I19:I32) -> 12883.45 | J18: =SUM(J19:J32) -> 15747.26
A19: 02.01 | B19: ED-48435 | C19: SETOP | D19: DEMOLIÇÃO MANUAL DE ALVENARIA DE TIJOLO CERÂMICO OU BLOCO DE CONCRETO, INCLUSIVE AFASTAMENTO E EMPILHAMENTO, EXCLUSIVE TRANSPORTE E RETIRADA DO MATERIAL DEMOLIDO | E19: M3 | F19: 9.44 | G19: 109.09 | H19: =ROUND(G19*(1+$I$5),2) -> 133.34 | I19: =ROUND(G19*F19,2) -> 1029.81 | J19: =ROUND(F19*H19,2) -> 1258.73
A20: 02.02 | B20: ED-48502 | C20: SETOP | D20: DEMOLIÇÃO MANUAL DE REVESTIMENTO CERÂMICO, AZULEJO OU LADRILHO HIDRÁULICO, INCLUSIVE AFASTAMENTO E EMPILHAMENTO, EXCLUSIVE DEMOLIÇÃO DO REBOCO OU EMBOÇO, TRANSPORTE E RETIRADA DO MATERIAL DEMOLIDO | E20: M2 | F20: 133.21 | G20: 21.54 | H20: =ROUND(G20*(1+$I$5),2) -> 26.33 | I20: =ROUND(G20*F20,2) -> 2869.34 | J20: =ROUND(F20*H20,2) -> 3507.42
A21: 02.03 | B21: ED-48480 | C21: SETOP | D21: DEMOLIÇÃO MANUAL DE PISO CERÂMICO OU LADRILHO HIDRÁULICO, INCLUSIVE AFASTAMENTO E EMPILHAMENTO, EXCLUSIVE DEMOLIÇÃO DE CONTRAPISO, TRANSPORTE E RETIRADA DO MATERIAL DEMOLIDO | E21: M2 | F21: 53.53 | G21: 17.23 | H21: =ROUND(G21*(1+$I$5),2) -> 21.06 | I21: =ROUND(G21*F21,2) -> 922.32 | J21: =ROUND(F21*H21,2) -> 1127.34
A22: 02.04 | B22: 97628 | C22: SINAPI | D22: DEMOLIÇÃO DE LAJES, EM CONCRETO ARMADO, DE FORMA MANUAL, SEM REAPROVEITAMENTO. AF_09/2023 | E22: M3 | F22: =8.24*0.12 -> 0.9888 | G22: 280 | H22: =ROUND(G22*(1+$I$5),2) -> 342.24 | I22: =ROUND(G22*F22,2) -> 276.86 | J22: =ROUND(F22*H22,2) -> 338.41
A23: 02.05 | B23: ED-51107 | C23: SETOP | D23: ESCAVAÇÃO MANUAL DE VALA COM PROFUNDIDADE MENOR OU IGUAL A 1,5M, INCLUSIVE DESCARGA LATERAL | E23: M3 | F23: 7.91 | G23: 71.42 | H23: =ROUND(G23*(1+$I$5),2) -> 87.3 | I23: =ROUND(G23*F23,2) -> 564.93 | J23: =ROUND(F23*H23,2) -> 690.54
A24: 02.06 | B24: ED-51093 | C24: SETOP | D24: PILOAMENTO MANUAL EM FUNDO DE VALA COM SOQUETE, EXCLUSIVE ESCAVAÇÃO | E24: M2 | F24: 7.6 | G24: 24.08 | H24: =ROUND(G24*(1+$I$5),2) -> 29.43 | I24: =ROUND(G24*F24,2) -> 183.01 | J24: =ROUND(F24*H24,2) -> 223.67
A25: 02.07 | B25: ED-51133 | C25: SETOP | D25: TRANSPORTE DE MATERIAL DE QUALQUER NATUREZA COM CARRINHO DE MÃO, COM DISTÂNCIAS MENORES OU IGUAIS A 50M, INCLUSIVE CARGA/DESCARGA | E25: M3 | F25: =F19+F22+F23+(F31*0.1) -> 26.3688 | G25: 24.77 | H25: =ROUND(G25*(1+$I$5),2) -> 30.28 | I25: =ROUND(G25*F25,2) -> 653.16 | J25: =ROUND(F25*H25,2) -> 798.45
A26: 02.08 | B26: ED-51125 | C26: SETOP | D26: TRANSPORTE DE MATERIAL DEMOLIDO EM CAÇAMBA, EXCLUSIVE CARGA MANUAL OU MECÂNICA | E26: M3 | F26: =F25 -> 26.3688 | G26: 60 | H26: =ROUND(G26*(1+$I$5),2) -> 73.34 | I26: =ROUND(G26*F26,2) -> 1582.13 | J26: =ROUND(F26*H26,2) -> 1933.89
A27: 02.09 | B27: ED-48512 | C27: SETOP | D27: REMOÇÃO MANUAL DE TELHA EM FIBROCIMENTO, TIPO ONDULADA, COM REAPROVEITAMENTO, INCLUSIVE AFASTAMENTO E EMPILHAMENTO, EXCLUSIVE TRANSPORTE E RETIRADA DO MATERIAL REMOVIDO NÃO REAPROVEITÁVEL | E27: M2 | F27: 69.84 | G27: 13.31 | H27: =ROUND(G27*(1+$I$5),2) -> 16.27 | I27: =ROUND(G27*F27,2) -> 929.57 | J27: =ROUND(F27*H27,2) -> 1136.3
A28: 02.10 | B28: ED-48494 | C28: SETOP | D28: REMOÇÃO MANUAL DE FOLHA DE PORTA OU JANELA DE MADEIRA OU METÁLICA, COM REAPROVEITAMENTO, INCLUSIVE AFASTAMENTO E EMPILHAMENTO, EXCLUSIVE TRANSPORTE E RETIRADA DO MATERIAL REMOVIDO NÃO REAPROVEITÁVEL | E28: M2 | F28: 18.16 | G28: 9.43 | H28: =ROUND(G28*(1+$I$5),2) -> 11.53 | I28: =ROUND(G28*F28,2) -> 171.25 | J28: =ROUND(F28*H28,2) -> 209.38
A29: 02.11 | B29: ED-48495 | C29: SETOP | D29: REMOÇÃO MANUAL DE MARCO EM MADEIRA OU METÁLICO, COM REAPROVEITAMENTO, INCLUSIVE AFASTAMENTO E EMPILHAMENTO, EXCLUSIVE TRANSPORTE E RETIRADA DO MATERIAL REMOVIDO NÃO REAPROVEITÁVEL | E29: U | F29: 11 | G29: 18.76 | H29: =ROUND(G29*(1+$I$5),2) -> 22.93 | I29: =ROUND(G29*F29,2) -> 206.36 | J29: =ROUND(F29*H29,2) -> 252.23
A30: 02.12 | B30: ED-48509 | C30: SETOP | D30: REMOÇÃO MANUAL DE TELHA METÁLICA OU PVC, COM REAPROVEITAMENTO, INCLUSIVE AFASTAMENTO E EMPILHAMENTO, EXCLUSIVE TRANSPORTE E RETIRADA DO MATERIAL REMOVIDO NÃO REAPROVEITÁVEL | E30: M2 | F30: 215.92 | G30: 9.32 | H30: =ROUND(G30*(1+$I$5),2) -> 11.39 | I30: =ROUND(G30*F30,2) -> 2012.37 | J30: =ROUND(F30*H30,2) -> 2459.33
A31: 02.13 | B31: ED-48479 | C31: SETOP | D31: DEMOLIÇÃO MANUAL DE PISO CIMENTADO OU CONTRAPISO DE ARGAMASSA, COM ESPESSURA MÁXIMA DE 10CM, INCLUSIVE AFASTAMENTO E EMPILHAMENTO, EXCLUSIVE TRANSPORTE E RETIRADA DO MATERIAL DEMOLIDO | E31: M2 | F31: 80.3 | G31: 18.46 | H31: =ROUND(G31*(1+$I$5),2) -> 22.56 | I31: =ROUND(G31*F31,2) -> 1482.34 | J31: =ROUND(F31*H31,2) -> 1811.57
A33: 03 | D33: ALVENÁRIAS | I33: =SUM(I34:I38) -> 29528.1 | J33: =SUM(J34:J39) -> 36093.23
A34: 03.01 | B34: ED-48232 | C34: SETOP | D34: ALVENARIA DE VEDAÇÃO COM TIJOLO CERÂMICO FURADO, ESP. 14CM, PARA REVESTIMENTO, INCLUSIVE ARGAMASSA PARA ASSENTAMENTO | E34: M2 | F34: 202.32 | G34: 70.88 | H34: =ROUND(G34*(1+$I$5),2) -> 86.64 | I34: =ROUND(G34*F34,2) -> 14340.44 | J34: =ROUND(F34*H34,2) -> 17529
A35: 03.02 | B35: ED-8346 | C35: SETOP | D35: ENCUNHAMENTO DE ALVENARIA DE VEDAÇÃO COM ARGAMASSA, INCLUSIVE ADITIVO EXPANSOR PARA ENCUNHAMENTO | E35: M | F35: =3.25+3.1+3.1+5.6 -> 15.05 | G35: 7.07 | H35: =ROUND(G35*(1+$I$5),2) -> 8.64 | I35: =ROUND(G35*F35,2) -> 106.4 | J35: =ROUND(F35*H35,2) -> 130.03
A36: 03.03 | B36: ED-9903 | C36: SETOP | D36: VERGA OU CONTRAVERGA EM CONCRETO ESTRUTURAL PARA VÃOS DE ATÉ 150CM, PREPARADO EM OBRA COM BETONEIRA, CONTROLE "A", COM FCK 20 MPA, MOLDADA IN LOCO, INCLUSIVE ARMAÇÃO | E36: M3 | F36: 2.22 | G36: 3330.96 | H36: =ROUND(G36*(1+$I$5),2) -> 4071.43 | I36: =ROUND(G36*F36,2) -> 7394.73 | J36: =ROUND(F36*H36,2) -> 9038.57
A37: 03.04 | B37: ED-48201 | C37: SETOP | D37: ALVENARIA ESTRUTURAL COM BLOCO DE CONCRETO, ESP. 14CM , (FBK 4,5MPA), PARA REVESTIMENTO, INCLUSIVE ARGAMASSA PARA ASSENTAMENTO | E37: M2 | F37: 83.66 | G37: 84.19 | H37: =ROUND(G37*(1+$I$5),2) -> 102.91 | I37: =ROUND(G37*F37,2) -> 7043.34 | J37: =ROUND(F37*H37,2) -> 8609.45
A38: 03.05 | B38: ED-48213 | C38: SETOP | D38: ALVENARIA DE BLOCO DE CONCRETO CHEIO COM ARMAÇÃO, EM CONCRETO COM FCK 15MPA , ESP. 14CM, PARA REVESTIMENTO, INCLUSIVE ARGAMASSA PARA ASSENTAMENTO (DETALHE D CADERNO SEDS) | E38: M2 | F38: 2.88 | G38: 223.33 | H38: =ROUND(G38*(1+$I$5),2) -> 272.98 | I38: =ROUND(G38*F38,2) -> 643.19 | J38: =ROUND(F38*H38,2) -> 786.18
A40: 04 | D40: DIVISÕES E REVESTIMENTOS | I40: =SUM(I41:I50) -> 100261.22 | J40: =SUM(J41:J50) -> 122551.94
A41: 04.01 | B41: ED-48209 | C41: SETOP | D41: PAREDE EM CHAPA DE GESSO ACARTONADO (DRYWALL), DIVISÃO ENTRE ÁREAS SECAS DE UMA MESMA UNIDADE (ST/ST), ESP. 115 MM, INCLUSIVE MONTANTES, GUIAS E ACESSÓRIOS, EXCLUSIVE ISOLANTE TÉRMICO/ACÚSTICO | E41: M2 | F41: 54.81 | G41: 84.29 | H41: =ROUND(G41*(1+$I$5),2) -> 103.03 | I41: =ROUND(G41*F41,2) -> 4619.93 | J41: =ROUND(F41*H41,2) -> 5647.07
A42: 04.02 | B42: ED-48533 | C42: SETOP | D42: DIVISÓRIA EM GRANITO CINZA ANDORINHA, ESP. 3CM, INCLUSIVE INSTALAÇÃO, FERRAGENS EM LATÃO CROMADO E ACESSÓRIOS | E42: M2 | F42: 9.13 | G42: 677.65 | H42: =ROUND(G42*(1+$I$5),2) -> 828.29 | I42: =ROUND(G42*F42,2) -> 6186.94 | J42: =ROUND(F42*H42,2) -> 7562.29
A43: 04.03 | B43: ED-50730 | C43: SETOP | D43: CHAPISCO COM ARGAMASSA, TRAÇO 1:2:3 (CIMENTO, AREIA E PEDRISCO), APLICADO COM COLHER, ESP. 5MM, INCLUSIVE ARGAMASSA COM PREPARO MECANIZADO | E43: M2 | F43: 571.97 | G43: 14.79 | H43: =ROUND(G43*(1+$I$5),2) -> 18.08 | I43: =ROUND(G43*F43,2) -> 8459.44 | J43: =ROUND(F43*H43,2) -> 10341.22
A44: 04.04 | B44: ED-50761 | C44: SETOP | D44: REBOCO COM ARGAMASSA, TRAÇO 1:2:8 (CIMENTO, CAL E AREIA) , ESP. 20MM, APLICAÇÃO MANUAL, INCLUSIVE ARGAMASSA COM PREPARO MECANIZADO, EXCLUSIVE CHAPISCO | E44: M2 | F44: =F43 -> 571.97 | G44: 37.56 | H44: =ROUND(G44*(1+$I$5),2) -> 45.91 | I44: =ROUND(G44*F44,2) -> 21483.19 | J44: =ROUND(F44*H44,2) -> 26259.14
A45: 04.05 | B45: ED-9081 | C45: SETOP | D45: REVESTIMENTO COM CERÂMICA APLICADO EM PAREDE, ACABAMENTO ESMALTADO, AMBIENTE INTERNO/EXTERNO, PADRÃO EXTRA, DIMENSÃO DA PEÇA ATÉ 2025 CM2, PEI III, ASSENTAMENTO COM ARGAMASSA INDUSTRIALIZADA, INCLUSIVE REJUNTAMENTO | E45: M2 | F45: 191.12 | G45: 76.1 | H45: =ROUND(G45*(1+$I$5),2) -> 93.02 | I45: =ROUND(G45*F45,2) -> 14544.23 | J45: =ROUND(F45*H45,2) -> 17777.98
A46: 04.06 | B46: ED-50724 | C46: SETOP | D46: REVESTIMENTO COM CERÂMICA APLICADO EM PISO, ACABAMENTO ESMALTADO, AMBIENTE INTERNO, PADRÃO EXTRA, DIMENSÃO DA PEÇA ATÉ 2025 CM2, PEI IV, ASSENTAMENTO COM ARGAMASSA INDUSTRIALIZADA, INCLUSIVE REJUNTAMENTO | E46: M2 | F46: 259.9 | G46: 85.11 | H46: =ROUND(G46*(1+$I$5),2) -> 104.03 | I46: =ROUND(G46*F46,2) -> 22120.09 | J46: =ROUND(F46*H46,2) -> 27037.4
...

Sheet CRON. FISICO-FINAC
E3: CRONOGRAMA FISICO FINANCEIRO
A8: Obra: Reforma, Ampliação e Adequação Sede Própria do IMP
A10: ITEM | B10: DISCRIMINAÇÃO DOS SERVIÇOS | C10: PESO (%) | D10: VALOR (R$) | E10: MESES
E11: 1º MÊS | G11: 2 MÊS | I11: 3 MÊS | K11: 4 MÊS | M11: 5 MÊS | O11: 6 MÊS
E12: % | F12: R$ | G12: % | H12: R$ | I12: % | J12: R$ | K12: % | L12: R$ | M12: % | N12: R$ | O12: % | P12: R$
A13: 1 | B13: ='ORÇAMENTO ANALITICO'!D13 -> SERVIÇOS PRELIMINARES | C13: =D13/$D$27 -> 0.009591872 | D13: ='ORÇAMENTO ANALITICO'!J13 -> 7874.29 | E13: 0.4622 | F13: =E13*$D13 -> 3639.4968 | G13: =100%-E13 -> 0.5378 | H13: =G13*$D13 -> 4234.7932 | J13: =I13*$D13 -> 0 | L13: =K13*$D13 -> 0 | N13: =M13*$D13 -> 0 | P13: =O13*$D13 -> 0 | Q13: =O13+E13+M13+G13+I13+K13 -> 1 | R13: =P13+N13+H13+F13+J13+L13 -> 7874.29
A14: 2 | B14: ='ORÇAMENTO ANALITICO'!D18 -> ESCAVAÇÕES, DEMOLIÇÕES E REMOÇÃO | C14: =D14/$D$27 -> 0.019182136 | D14: ='ORÇAMENTO ANALITICO'!J18 -> 15747.26 | E14: 1 | F14: =E14*$D14 -> 15747.26 | H14: =G14*$D14 -> 0 | J14: =I14*$D14 -> 0 | L14: =K14*$D14 -> 0 | N14: =M14*$D14 -> 0 | P14: =O14*$D14 -> 0 | Q14: =O14+E14+M14+G14+I14+K14 -> 1 | R14: =P14+N14+H14+F14+J14+L14 -> 15747.26
A15: 3 | B15: ='ORÇAMENTO ANALITICO'!D33 -> ALVENÁRIAS | C15: =D15/$D$27 -> 0.043966077 | D15: ='ORÇAMENTO ANALITICO'!J33 -> 36093.23 | E15: 0.3 | F15: =E15*$D15 -> 10827.969 | G15: 0.55 | H15: =G15*$D15 -> 19851.277 | I15: 0.15 | J15: =I15*$D15 -> 5413.9845 | L15: =K15*$D15 -> 0 | N15: =M15*$D15 -> 0 | P15: =O15*$D15 -> 0 | Q15: =O15+E15+M15+G15+I15+K15 -> 1 | R15: =P15+N15+H15+F15+J15+L15 -> 36093.23
A16: 4 | B16: ='ORÇAMENTO ANALITICO'!D40 -> DIVISÕES E REVESTIMENTOS | C16: =D16/$D$27 -> 0.14928362 | D16: ='ORÇAMENTO ANALITICO'!J40 -> 122551.94 | F16: =E16*$D16 -> 0 | G16: 0.15 | H16: =G16*$D16 -> 18382.791 | I16: 0.15 | J16: =I16*$D16 -> 18382.791 | K16: 0.35 | L16: =K16*$D16 -> 42893.179 | M16: 0.35 | N16: =M16*$D16 -> 42893.179 | P16: =O16*$D16 -> 0 | Q16: =O16+E16+M16+G16+I16+K16 -> 1 | R16: =P16+N16+H16+F16+J16+L16 -> 122551.94
A17: 5 | B17: ='ORÇAMENTO ANALITICO'!D52 -> ESQUADRIAS , GRADE PROTEÇÃO | C17: =D17/$D$27 -> 0.10249845 | D17: ='ORÇAMENTO ANALITICO'!J52 -> 84144.42 | F17: =E17*$D17 -> 0 | H17: =G17*$D17 -> 0 | I17: 0.3 | J17: =I17*$D17 -> 25243.326 | K17: 0.5 | L17: =K17*$D17 -> 42072.21 | M17: 0.2 | N17: =M17*$D17 -> 16828.884 | P17: =O17*$D17 -> 0 | Q17: =O17+E17+M17+G17+I17+K17 -> 1 | R17: =P17+N17+H17+F17+J17+L17 -> 84144.42
A18: 6 | B18: ='ORÇAMENTO ANALITICO'!D64 -> CORTE E DOBRA DE AÇO | C18: =D18/$D$27 -> 0.029299763 | D18: ='ORÇAMENTO ANALITICO'!J64 -> 24053.16 | E18: 0.4 | F18: =E18*$D18 -> 9621.264 | G18: 0.4 | H18: =G18*$D18 -> 9621.264 | I18: 0.2 | J18: =I18*$D18 -> 4810.632 | L18: =K18*$D18 -> 0 | N18: =M18*$D18 -> 0 | P18: =O18*$D18 -> 0 | Q18: =O18+E18+M18+G18+I18+K18 -> 1 | R18: =P18+N18+H18+F18+J18+L18 -> 24053.16
A19: 7 | B19: ='ORÇAMENTO ANALITICO'!D68 -> CONCRETO, FORMA E DESFORMA | C19: =D19/$D$27 -> 0.03958241 | D19: ='ORÇAMENTO ANALITICO'!J68 -> 32494.53 | E19: 0.1 | F19: =E19*$D19 -> 3249.453 | G19: 0.7 | H19: =G19*$D19 -> 22746.171 | I19: 0.2 | J19: =I19*$D19 -> 6498.906 | L19: =K19*$D19 -> 0 | N19: =M19*$D19 -> 0 | P19: =O19*$D19 -> 0 | Q19: =O19+E19+M19+G19+I19+K19 -> 1 | R19: =P19+N19+H19+F19+J19+L19 -> 32494.53
A20: 8 | B20: ='ORÇAMENTO ANALITICO'!D72 -> ANDAIME | C20: =D20/$D$27 -> 0.026978747 | D20: ='ORÇAMENTO ANALITICO'!J72 -> 22147.76 | F20: =E20*$D20 -> 0 | G20: 0.4 | H20: =G20*$D20 -> 8859.104 | I20: 0.3 | J20: =I20*$D20 -> 6644.328 | K20: 0.3 | L20: =K20*$D20 -> 6644.328 | N20: =M20*$D20 -> 0 | P20: =O20*$D20 -> 0 | Q20: =O20+E20+M20+G20+I20+K20 -> 1 | R20: =P20+N20+H20+F20+J20+L20 -> 22147.76
A21: 9 | B21: ='ORÇAMENTO ANALITICO'!D76 -> PINTURA | C21: =D21/$D$27 -> 0.058502259 | D21: ='ORÇAMENTO ANALITICO'!J76 -> 48026.47 | F21: =E21*$D21 -> 0 | H21: =G21*$D21 -> 0 | J21: =I21*$D21 -> 0 | K21: 0.4 | L21: =K21*$D21 -> 19210.588 | M21: 0.4 | N21: =M21*$D21 -> 19210.588 | O21: 0.2 | P21: =O21*$D21 -> 9605.294 | Q21: =O21+E21+M21+G21+I21+K21 -> 1 | R21: =P21+N21+H21+F21+J21+L21 -> 48026.47
A22: 10 | B22: ='ORÇAMENTO ANALITICO'!D83 -> COBERTURA | C22: =D22/$D$27 -> 0.12106515 | D22: ='ORÇAMENTO ANALITICO'!J83 -> 99386.45 | F22: =E22*$D22 -> 0 | H22: =G22*$D22 -> 0 | I22: 0.69 | J22: =I22*$D22 -> 68576.65 | K22: 0.1 | L22: =K22*$D22 -> 9938.645 | M22: 0.21 | N22: =M22*$D22 -> 20871.154 | P22: =O22*$D22 -> 0 | Q22: =O22+E22+M22+G22+I22+K22 -> 1 | R22: =P22+N22+H22+F22+J22+L22 -> 99386.45
A23: 11 | B23: ='ORÇAMENTO ANALITICO'!D93 -> INSTALAÇÕES ELETRICAS | C23: =D23/$D$27 -> 0.091500872 | D23: ='ORÇAMENTO ANALITICO'!J93 -> 75116.14 | F23: =E23*$D23 -> 0 | G23: 0.2 | H23: =G23*$D23 -> 15023.228 | I23: 0.4 | J23: =I23*$D23 -> 30046.456 | K23: 0.4 | L23: =K23*$D23 -> 30046.456 | N23: =M23*$D23 -> 0 | P23: =O23*$D23 -> 0 | Q23: =O23+E23+M23+G23+I23+K23 -> 1 | R23: =P23+N23+H23+F23+J23+L23 -> 75116.14
A24: 12 | B24: ='ORÇAMENTO ANALITICO'!D133 -> CABEAMENTO | C24: =D24/$D$27 -> 0.034912933 | D24: ='ORÇAMENTO ANALITICO'!J133 -> 28661.2 | F24: =E24*$D24 -> 0 | H24: =G24*$D24 -> 0 | I24: 0.2 | J24: =I24*$D24 -> 5732.24 | K24: 0.8 | L24: =K24*$D24 -> 22928.96 | N24: =M24*$D24 -> 0 | P24: =O24*$D24 -> 0 | Q24: =O24+E24+M24+G24+I24+K24 -> 1 | R24: =P24+N24+H24+F24+J24+L24 -> 28661.2
A25: 13 | B25: ='ORÇAMENTO ANALITICO'!D141 -> INSTALAÇÕES HIDRO SANITÁRIAS | C25: =D25/$D$27 -> 0.044630723 | D25: ='ORÇAMENTO ANALITICO'!J141 -> 36638.86 | F25: =E25*$D25 -> 0 | H25: =G25*$D25 -> 0 | I25: 0.2 | J25: =I25*$D25 -> 7327.772 | K25: 0.2 | L25: =K25*$D25 -> 7327.772 | M25: 0.3 | N25: =M25*$D25 -> 10991.658 | O25: 0.3 | P25: =O25*$D25 -> 10991.658 | Q25: =O25+E25+M25+G25+I25+K25 -> 1 | R25: =P25+N25+H25+F25+J25+L25 -> 36638.86
A26: 14 | B26: ='ORÇAMENTO ANALITICO'!D171 -> SERVIÇOS COMPLEMENTARES | C26: =D26/$D$27 -> 0.22900499 | D26: ='ORÇAMENTO ANALITICO'!J171 -> 187997.89 | F26: =E26*$D26 -> 0 | G26: 0.038 | H26: =G26*$D26 -> 7143.9198 | J26: =I26*$D26 -> 0 | L26: =K26*$D26 -> 0 | M26: 0.4 | N26: =M26*$D26 -> 75199.156 | O26: =100%-M26-G26 -> 0.562 | P26: =O26*$D26 -> 105654.81 | Q26: =O26+E26+M26+G26+I26+K26 -> 1 | R26: =P26+N26+H26+F26+J26+L26 -> 187997.89
A27: TOTAL | B27: SIMPLES | C27: =SUM(C13:C26) -> 1 | D27: =SUM(D13:D26) -> 820933.6 | E27: =F27/$D$27 -> 0.052483469 | F27: =SUM(F13:F26) -> 43085.443 | G27: =H27/$D$27 -> 0.12895385 | H27: =SUM(H13:H26) -> 105862.55 | I27: =J27/$D$27 -> 0.21765108 | J27: =SUM(J13:J26) -> 178677.09 | K27: =L27/$D$27 -> 0.22055637 | L27: =SUM(L13:L26) -> 181062.14 | M27: =N27/$D$27 -> 0.22656475 | N27: =SUM(N13:N26) -> 185994.62 | O27: =P27/$D$27 -> 0.15379047 | P27: =SUM(P13:P26) -> 126251.77 | Q27: =O27+E27+M27+G27+K27+I27 -> 1 | R27: =P27+N27+H27+F27+J27+L27 -> 820933.6
B28: ACUMULADO | E28: =SUM(E27) -> 0.052483469 | F28: =F27 -> 43085.443 | G28: =E28+G27 -> 0.18143732 | H28: =F28+H27 -> 148947.99 | I28: =G28+I27 -> 0.3990884 | J28: =H28+J27 -> 327625.08 | K28: =I28+K27 -> 0.61964477 | L28: =J28+L27 -> 508687.21 | M28: =K28+M27 -> 0.84620953 | N28: =L28+N27 -> 694681.83 | O28: =M28+O27 -> 1 | P28: =P27+N28 -> 820933.6
Q32: =3000.8/3 -> 1000.2667 | R32: 33184.84
Q33: =Q32/3000.8 -> 0.33333333 | R33: =R32/76433.82 -> 0.43416435

Sheet BDI
E5: BDI
E11: Obra: Reforma, Ampliação e Adequação Sede Própria do IMP

Sheet MEMORIA - CALCULO
E2: Obra: Reforma, Ampliação e Adequação Sede Própria do IMP | K2: BDI | L2: PRAZO EXECUÇÃO
L3: 6 MESES
L4: DATA
K5: 0.2223 | L5: 45859
K6: REFERÊNCIAS
E8: Endereço: Rua Newton Penido n° 54/56 Municipío de Itaúna | K8: SETOP ABRIL/2025
K9: SINAPI 07/2025
A10: ITEM | B10: DESCRIÇÃO SERVIÇO | D10: LOCAL | E10: COMPRIM. | F10: ALTURA | G10: LARGURA | H10: REPET. | I10: DESCONTO | J10: QUANTI. | K10: TOTAL | L10: UND
A13: 1.1
A14: 1.2
A15: 1.3
A17: 2 | B17: ESCAVAÇÕES, DEMOLIÇÕES E REMOÇÃO
A19: 2.1 | B19: DEMOLIÇÃO MANUAL DE ALVENARIA | D19: Sala1 - 1° piso | E19: 3.1 | F19: 2.95 | G19: 0.15 | J19: =G19*F19*E19 -> 1.37175 | K19: =SUM(J19:J31) -> 9.4449 | L19: m3
D20: Antiga cozinha 1° piso | E20: 2.65 | F20: 2.2 | G20: 0.15 | J20: =G20*F20*E20 -> 0.8745
D21: Antiga cozinha 1° piso | E21: 1.18 | F21: 2.95 | G21: 0.15 | J21: =G21*F21*E21 -> 0.52215
D22: abertura para porta Sala 1° piso | E22: 0.9 | F22: 2.1 | G22: 0.15 | J22: =G22*F22*E22 -> 0.2835
D23: abert. porta banheiro 1° piso | E23: 0.9 | F23: 2.1 | G23: 0.15 | J23: =G23*F23*E23 -> 0.2835
D24: abert. Porta hall escada 1° piso | E24: 0.9 | F24: 2.1 | G24: 0.15 | J24: =G24*F24*E24 -> 0.2835
D25: abert. Acesso elevador | E25: 1.6 | F25: 2.2 | G25: 0.15 | J25: =G25*F25*E25 -> 0.528
D26: abertura para porta Sala 2° piso | E26: 0.9 | F26: 2.1 | G26: 0.15 | J26: =G26*F26*E26 -> 0.2835
D27: abert. porta banheiro 2° piso | E27: 0.9 | F27: 2.1 | G27: 0.15 | J27: =G27*F27*E27 -> 0.2835
D28: abert. Acesso elevador 2° piso | E28: 1.6 | F28: 2.2 | G28: 0.15 | J28: =G28*F28*E28 -> 0.528
D29: platibanda frontal 3° piso | E29: 9.52 | F29: 1 | G29: 0.15 | J29: =G29*F29*E29 -> 1.428
D30: abert. Acesso elevador 3° piso | E30: 1.6 | F30: 1.5 | G30: 0.15 | J30: =G30*F30*E30 -> 0.36
D31: banheiro existente 3° piso | E31: =1.9+2.2+1.7+2.25 -> 8.05 | F31: 2 | G31: 0.15 | J31: =G31*F31*E31 -> 2.415
A33: 2.2 | B33: DEMOLIÇÃO MANUAL DE REVESTIMENTO CERÂMICO | D33: Antiga cozinha 1° piso | E33: 10.85 | F33: 1.5 | I33: =(2.1*0.8) -> 1.68 | J33: =(E33*F33)-I33 -> 14.595 | K33: =SUM(J33:J40) -> 133.205 | L33: M2
D34: Banheiro pdc 1° piso | E34: =(6.6+3.1) -> 9.7 | F34: 2.95 | I34: =(0.9*2.1)+(0.4*0.4) -> 2.05 | J34: =(E34*F34)-I34 -> 26.565
D35: Banheiro 1° piso | E35: =(2.9+6.6) -> 9.5 | F35: 2.95 | I35: =(0.6*2.1)+(0.4*0.4) -> 1.42 | J35: =(E35*F35)-I35 -> 26.605
D36: Banheiro pdc 2° piso | E36: =(6.6+3.1) -> 9.7 | F36: 2.95 | I36: =(0.9*2.1)+(0.4*0.4) -> 2.05 | J36: =(E36*F36)-I36 -> 26.565
D37: Banheiro 2° piso | E37: =(2.9+6.6) -> 9.5 | F37: 2.95 | I37: =(0.6*2.1)+(0.4*0.4) -> 1.42 | J37: =(E37*F37)-I37 -> 26.605
D38: Antiga cozinha 2° piso | E38: 4.8 | F38: 2.95 | I38: =0.9*2.1 -> 1.89 | J38: =(E38*F38)-I38 -> 12.27
J39: =(E39*F39)-G39 -> 0
J40: =(E40*F40)-G40 -> 0
A42: 2.3 | B42: DEMOLIÇÃO MANUAL DE PISO CERÂMICO | D42: Sala 1° pavimento | E42: 2.95 | G42: 3.7 | J42: =(E42*G42) -> 10.915 | K42: =SUM(J42:J54) -> 53.534 | L42: M2
D43: Corredor 1° pavimento | E43: 3.85 | G43: 1.18 | J43: =(E43*G43) -> 4.543
D44: antiga cozinha 1° pavimento | E44: 3.5 | G44: 4.28 | J44: =(E44*G44) -> 14.98
D45: Antiga varanda 1° pavimento | E45: 2.06 | G45: 1.6 | J45: =(E45*G45) -> 3.296
D46: Banheiro pdc 1° pavimento | E46: 3.3 | G46: 1.55 | J46: =(E46*G46) -> 5.115
D47: Banheiro 1° pavimento | E47: 3.3 | G47: 1.45 | J47: =(E47*G47) -> 4.785
D48: Banheiro pdc 2° pavimento | E48: 3.3 | G48: 1.55 | J48: =(E48*G48) -> 5.115
...

Sheet  COTAÇÃO.
B2: COTAÇÃO ELEVADOR
B4: FABRICAÇÃO DE UM ELEVADOR DE PASSAGEIRO CARGA MIN. DE 400 KG - 03 PARADAS
B9: EMPRESA: ELEVADORES DE CARGA BRAGANÇA | G9: EMPRESA: MONTELE ELEVADORES | K9: EMPRESA: AMPLA ELEVADORES
B10: CNPJ: 21.094.394/0001-64 | G10: CNPJ: | K10: CNPJ: 29.622.429/0001-00
B11: EMAIL: CONTATO@ELEVADORESBRAGANCA.COM.BR | G11: EMAIL: RAFAEL.MOURA@MONTELE.IND.BR | K11: EMAIL: PROJETOS.AMPLAELEVADORES@GMAIL.COM
B12: FONE: 31 971129569 | G12: FONE: 31 996010286 | K12: FONE: 31 41341230
B14: VALOR: | C14: 128300 | G14: VALOR: | H14: 155481.39 | K14: VALOR: | L14: 110500
B16: MÉDIA | D16: =(H14+C14+L14)/3 -> 131427.13

Sheet Plan5
D3: AREA FORRO PVC | K3: AREA PINTURA TETO
D4: 1 piso | G4: 2 piso | K4: 1 piso | N4: 2 piso
E5: COZINHA | I5: =G5+G6+G7+G8+G9+G10+G11 -> 0 | L5: 8.26 | O5: 13.44 | P5: =L5+L6+L7+L8+L9+L10+L11+L12+L13+L14+L15+L16+O5+O6+O7+O8+O9+O10+O11+O12+O13+O14+O15 -> 267.52
L6: 7.99 | O6: 14.87
L7: 16.64
L8: 14.46 | O8: 9.9
L9: 14.87 | O9: 13.35
L10: 16.66 | O10: 16.96
L11: 14.19 | O11: 18.08
L12: 13.35 | O12: 11.9
L13: 9.9 | O13: 5.79
L14: 16.96
L15: 18.05
L16: 11.9

Sheet BDI CALCULO
B2: BDI | AC2: 1 | AG2: CONSTRUÇÃO DE EDIFÍCIOS | AH2: 0.04 | AI2: 0.008 | AJ2: 0.0127 | AK2: 0.0123 | AL2: 0.074 | AN2: CONSTRUÇÃO DE EDIFÍCIOS | AO2: 0.03 | AP2: 0.008 | AQ2: 0.0097 | AR2: 0.0059 | AS2: 0.0616 | AU2: CONSTRUÇÃO DE EDIFÍCIOS | AV2: 0.055 | AW2: 0.01 | AX2: 0.0127 | AY2: 0.0139 | AZ2: 0.0896
T3: PLANILHA MODELO: | AA3: REV_00 | AG3: CONSTRUÇÃO DE RODOVIAS E FERROVIAS | AH3: 0.0401 | AI3: 0.004 | AJ3: 0.0056 | AK3: 0.0111 | AL3: 0.073 | AN3: CONSTRUÇÃO DE RODOVIAS E FERROVIAS | AO3: 0.038 | AP3: 0.0032 | AQ3: 0.005 | AR3: 0.0102 | AS3: 0.0664 | AU3: CONSTRUÇÃO DE RODOVIAS E FERROVIAS | AV3: 0.0467 | AW3: 0.0074 | AX3: 0.0097 | AY3: 0.0121 | AZ3: 0.0869
T4: NÃO DESONERADA | AA4: 01/03/ | AG4: CONSTRUÇÃO DE REDES DE ABASTECIMENTO DE ÁGUA, COLETA DE ESGOTO E CONSTRUÇÕES CORRELATAS | AH4: 0.0493 | AI4: 0.0049 | AJ4: 0.0139 | AK4: 0.0099 | AL4: 0.0804 | AN4: CONSTRUÇÃO DE REDES DE ABASTECIMENTO DE ÁGUA, COLETA DE ESGOTO E CONSTRUÇÕES CORRELATAS | AO4: 0.0343 | AP4: 0.0028 | AQ4: 0.01 | AR4: 0.0094 | AS4: 0.0674 | AU4: CONSTRUÇÃO DE REDES DE ABASTECIMENTO DE ÁGUA, COLETA DE ESGOTO E CONSTRUÇÕES CORRELATAS | AV4: 0.0671 | AW4: 0.0075 | AX4: 0.0174 | AY4: 0.0117 | AZ4: 0.094
B5: PROJETO: | C5: Reforma, Ampliação e Adequação Sede Própria do IMP | T5: TERCEIRO QUARTIL | AG5: CONSTRUÇÃO DE MANUNTEÇÃO DE ESTAÇÕES E REDES DE DISTRIBUIÇÃO DE ENERGIA ELÉTRICA | AH5: 0.0592 | AI5: 0.0051 | AJ5: 0.0148 | AK5: 0.0107 | AL5: 0.0831 | AN5: CONSTRUÇÃO DE MANUNTEÇÃO DE ESTAÇÕES E REDES DE DISTRIBUIÇÃO DE ENERGIA ELÉTRICA | AO5: 0.0529 | AP5: 0.0025 | AQ5: 0.01 | AR5: 0.0101 | AS5: 0.08 | AU5: CONSTRUÇÃO DE MANUNTEÇÃO DE ESTAÇÕES E REDES DE DISTRIBUIÇÃO DE ENERGIA ELÉTRICA | AV5: 0.0793 | AW5: 0.0056 | AX5: 0.0197 | AY5: 0.0111 | AZ5: 0.0951
B6: CONSTRUÇÃO DE EDIFÍCIOS | AG6: OBRAS PORTUÁRIAS, MARÍTIMAS E FLUVIAIS | AH6: 0.0552 | AI6: 0.0122 | AJ6: 0.0232 | AK6: 0.0102 | AL6: 0.084 | AN6: OBRAS PORTUÁRIAS, MARÍTIMAS E FLUVIAIS | AO6: 0.04 | AP6: 0.0081 | AQ6: 0.0146 | AR6: 0.0094 | AS6: 0.0714 | AU6: OBRAS PORTUÁRIAS, MARÍTIMAS E FLUVIAIS | AV6: 0.0785 | AW6: 0.0199 | AX6: 0.0316 | AY6: 0.0133 | AZ6: 0.1043
AG7: CAEMA | AH7: 0.0493 | AI7: 0.0049 | AJ7: 0.0139 | AK7: 0.0099 | AL7: 0.0804 | AN7: CAEMA | AO7: 0.0493 | AP7: 0.0049 | AQ7: 0.0139 | AR7: 0.0099 | AS7: 0.0804 | AU7: CAEMA | AV7: 0.0493 | AW7: 0.0049 | AX7: 0.0139 | AY7: 0.0099 | AZ7: 0.0804
B8: AC = | C8: ADMINISTRAÇÃO CENTRAL = | H8: 0.04
B9: S + G = | C9: SEGURO + GARANTIAS = | H9: 0.008 | AH9: QUARTIL MÉDIO | AO9: 1 QUARTIL | AV9: 3 QUARTIL
B10: R = | C10: RISCO = | H10: 0.0127 | AH10: ADM | AI10: SG | AJ10: RI | AK10: DF | AL10: LU | AO10: ADM | AP10: SG | AQ10: RI | AR10: DF | AS10: LU | AV10: ADM | AW10: SG | AX10: RI | AY10: DF | AZ10: LU
B11: DF = | C11: DESPESAS FINANCEIRAS = | H11: 0.0123
B12: L = | C12: LUCRO = | H12: 0.074
B13: I = | C13: IMPOSTOS = | H13: 0.0565
F14: COFINS | H14: 0.03
F15: PIS | H15: 0.0065
F16: ISS | H16: 0.02
F17: CPRB | H17: -
C22: BDI = | D22: [ | E22: [( | F22: 1 | G22: + | H22: =H8 -> 0.04 | I22: + | J22: =H9 -> 0.008 | K22: + | L22: =H10 -> 0.0127 | M22: )x | N22: ( | O22: 1 | P22: + | Q22: =H11 -> 0.0123 | R22: )x | S22: ( | T22: 1 | U22: + | V22: =H12 -> 0.074 | W22: )] | X22: ] | Y22: -1 | Z22: = | AA22: =ROUND((((F22+H22+J22+L22)*(O22+Q22)*(T22+V22))/(O24-Q24))-1,4) -> 0.2223
N24: ( | O24: 1 | P24: - | Q24: =H13 -> 0.0565 | R24: )
B26: 1 - FORMULA CONFORME ACORDAO nº 2622/2013 TCU - PLENÁRIO

Sheet MEMORIA CALCULO
E2: Obra: Reforma, Ampliação e Adequação Sede Própria do IMP | K2: BDI | L2: PRAZO EXECUÇÃO
L3: 6 MESES
L4: DATA
K5: 0.2223 | L5: 46050
K6: REFERÊNCIAS
E8: Endereço: Rua Newton Penido n° 54/56 Municipío de Itaúna | K8: SETOP OUT/2025
K9: SINAPI 12/2025
A10: ITEM | B10: DESCRIÇÃO SERVIÇO | D10: LOCAL | E10: COMPRIM. | F10: ALTURA | G10: LARGURA | H10: REPET. | I10: DESCONTO | J10: QUANTI. | K10: TOTAL | L10: UND
A13: 1.1
A14: 1.2
A15: 1.3
A17: 2 | B17: ESCAVAÇÕES, DEMOLIÇÕES E REMOÇÃO
A19: 2.1 | B19: DEMOLIÇÃO MANUAL DE ALVENARIA | D19: Sala1 - 1° piso | E19: 3.1 | F19: 2.95 | G19: 0.15 | J19: =G19*F19*E19 -> 1.37175 | K19: =SUM(J19:J31) -> 9.4449 | L19: m3
D20: Antiga cozinha 1° piso | E20: 2.65 | F20: 2.2 | G20: 0.15 | J20: =G20*F20*E20 -> 0.8745
D21: Antiga cozinha 1° piso | E21: 1.18 | F21: 2.95 | G21: 0.15 | J21: =G21*F21*E21 -> 0.52215
D22: abertura para porta Sala 1° piso | E22: 0.9 | F22: 2.1 | G22: 0.15 | J22: =G22*F22*E22 -> 0.2835
D23: abert. porta banheiro 1° piso | E23: 0.9 | F23: 2.1 | G23: 0.15 | J23: =G23*F23*E23 -> 0.2835
D24: abert. Porta hall escada 1° piso | E24: 0.9 | F24: 2.1 | G24: 0.15 | J24: =G24*F24*E24 -> 0.2835
D25: abert. Acesso elevador | E25: 1.6 | F25: 2.2 | G25: 0.15 | J25: =G25*F25*E25 -> 0.528
D26: abertura para porta Sala 2° piso | E26: 0.9 | F26: 2.1 | G26: 0.15 | J26: =G26*F26*E26 -> 0.2835
D27: abert. porta banheiro 2° piso | E27: 0.9 | F27: 2.1 | G27: 0.15 | J27: =G27*F27*E27 -> 0.2835
D28: abert. Acesso elevador 2° piso | E28: 1.6 | F28: 2.2 | G28: 0.15 | J28: =G28*F28*E28 -> 0.528
D29: platibanda frontal 3° piso | E29: 9.52 | F29: 1 | G29: 0.15 | J29: =G29*F29*E29 -> 1.428
D30: abert. Acesso elevador 3° piso | E30: 1.6 | F30: 1.5 | G30: 0.15 | J30: =G30*F30*E30 -> 0.36
D31: banheiro existente 3° piso | E31: =1.9+2.2+1.7+2.25 -> 8.05 | F31: 2 | G31: 0.15 | J31: =G31*F31*E31 -> 2.415
A33: 2.2 | B33: DEMOLIÇÃO MANUAL DE REVESTIMENTO CERÂMICO | D33: Antiga cozinha 1° piso | E33: 10.85 | F33: 1.5 | I33: =(2.1*0.8) -> 1.68 | J33: =(E33*F33)-I33 -> 14.595 | K33: =SUM(J33:J40) -> 133.205 | L33: M2
D34: Banheiro pdc 1° piso | E34: =(6.6+3.1) -> 9.7 | F34: 2.95 | I34: =(0.9*2.1)+(0.4*0.4) -> 2.05 | J34: =(E34*F34)-I34 -> 26.565
D35: Banheiro 1° piso | E35: =(2.9+6.6) -> 9.5 | F35: 2.95 | I35: =(0.6*2.1)+(0.4*0.4) -> 1.42 | J35: =(E35*F35)-I35 -> 26.605
D36: Banheiro pdc 2° piso | E36: =(6.6+3.1) -> 9.7 | F36: 2.95 | I36: =(0.9*2.1)+(0.4*0.4) -> 2.05 | J36: =(E36*F36)-I36 -> 26.565
D37: Banheiro 2° piso | E37: =(2.9+6.6) -> 9.5 | F37: 2.95 | I37: =(0.6*2.1)+(0.4*0.4) -> 1.42 | J37: =(E37*F37)-I37 -> 26.605
D38: Antiga cozinha 2° piso | E38: 4.8 | F38: 2.95 | I38: =0.9*2.1 -> 1.89 | J38: =(E38*F38)-I38 -> 12.27
J39: =(E39*F39)-G39 -> 0
J40: =(E40*F40)-G40 -> 0
A42: 2.3 | B42: DEMOLIÇÃO MANUAL DE PISO CERÂMICO | D42: Sala 1° pavimento | E42: 2.95 | G42: 3.7 | J42: =(E42*G42) -> 10.915 | K42: =SUM(J42:J54) -> 53.534 | L42: M2
D43: Corredor 1° pavimento | E43: 3.85 | G43: 1.18 | J43: =(E43*G43) -> 4.543
D44: antiga cozinha 1° pavimento | E44: 3.5 | G44: 4.28 | J44: =(E44*G44) -> 14.98
D45: Antiga varanda 1° pavimento | E45: 2.06 | G45: 1.6 | J45: =(E45*G45) -> 3.296
D46: Banheiro pdc 1° pavimento | E46: 3.3 | G46: 1.55 | J46: =(E46*G46) -> 5.115
D47: Banheiro 1° pavimento | E47: 3.3 | G47: 1.45 | J47: =(E47*G47) -> 4.785
D48: Banheiro pdc 2° pavimento | E48: 3.3 | G48: 1.55 | J48: =(E48*G48) -> 5.115
...
