Workbook
Name Nível: [1]Eventograma_e_Quantitativos!$C1

Sheet PLANILHA ORÇAMENTÁRIA
D1: OBRA: | E1: Bancos: | G1: BDI:
D2: CONSTRUÇÃO DE PONTE NA FORQUILHA/BATATAL | E2: SEINFRA REGIÃO CENTRAL (08/2023) - SEM DESONERAÇÃO; SINAPI/MG (09/2023) - NÃO DESONERADO | G2: 0.22
A3: Planilha Orçamentária Sintética | K3: MEDIÇÕES | AF3: VERIFICAÇÃO | AH3: OBSERVAÇÕES
A4: Item | B4: Código | C4: Banco | D4: Descrição | E4: Und | F4: Quant. | G4: Valor Unit | H4: Valor Unit. com BDI | I4: Total | J4: Serviço (%) | K4: MEDIÇÃO 01 (31/03/2022 a 25/05/2022) | N4: MEDIÇÃO 02 (00/00/0000 a 00/00/0000) | Q4: MEDIÇÃO 03 (00/00/0000 a 00/00/0000) | T4: MEDIÇÃO 04 (00/00/0000 a 00/00/0000) | W4: MEDIÇÃO 05 (00/00/0000 a 00/00/0000) | Z4: MEDIÇÃO 06 (00/00/0000 a 00/00/0000) | AC4: TOTAL EXECUTADO
K5: Quant. | L5: Valor | M5: % Executada | N5: Quant. | O5: Valor | P5: % Executada | Q5: Quant. | R5: Valor | S5: % Executada | T5: Quant. | U5: Valor | V5: % Executada | W5: Quant. | X5: Valor | Y5: % Executada | Z5: Quant. | AA5: Valor | AB5: % Executada | AC5: Valor | AD5: % Executada | AF5: DIFERENÇA | AG5: STATUS
A6: 1 | D6: CONSTRUÇÃO DE PONTE NA FORQUILHA/BATATAL | L6: =SUM(#REF!) -> #REF! | M6: =L6/$I$6 -> #REF! | O6: =SUM(#REF!) -> #REF! | P6: =O6/$I$6 -> #REF! | R6: =SUM(#REF!) -> #REF! | S6: =R6/$I$6 -> #REF! | U6: =SUM(#REF!) -> #REF! | V6: =U6/$I$6 -> #REF! | X6: =SUM(#REF!) -> #REF! | Y6: =X6/$I$6 -> #REF! | AA6: =SUM(#REF!) -> #REF! | AB6: =AA6/$I$6 -> #REF! | AC6: =SUM(L6,O6,R6,U6,X6,AA6) -> #REF! | AD6: =AC6/I6 -> #REF! | AF6: =AC6-I6 -> #REF! | AG6: =IF(AF6=0,"CONCLUÍDO",IF(AF6<0,"À FINALIZAR","ATENÇÃO!!!")) -> #REF!
A7: 1.1 | D7: SERVIÇOS PRELIMINARES | I7: =SUM(I8:I9) -> 2930.72 | J7: =I7/$I$74 -> 0.0066528379
A8: 1.1.1 | B8: 103689 | C8: SINAPI | D8: FORNECIMENTO E INSTALAÇÃO DE PLACA DE OBRA COM CHAPA GALVANIZADA E ESTRUTURA DE MADEIRA. AF_03/2022_PS | E8: M2 | F8: 4.5 | G8: 307.73 | H8: =ROUND(G8*(1+$G$2),2) -> 375.43 | I8: =ROUND(F8*H8,2) -> 1689.44 | J8: =I8/$I$74 -> 0.0038350885
A9: 1.1.2 | B9: 99058 | C9: SINAPI | D9: LOCAÇÃO DE PONTO PARA REFERÊNCIA TOPOGRÁFICA. AF_10/2018 | E9: UN | F9: 72 | G9: 14.13 | H9: =ROUND(G9*(1+$G$2),2) -> 17.24 | I9: =ROUND(F9*H9,2) -> 1241.28 | J9: =I9/$I$74 -> 0.0028177494
A10: 1.2 | D10: CANTEIRO DE OBRAS | I10: =SUM(I11:I12) -> 20440.44 | J10: =I10/$I$74 -> 0.046400521
A11: 1.2.1 | B11: ED-50128 | C11: SEINFRA | D11: BARRACÃO DE OBRA PARA DEPÓSITO E FERRAMENTARIA TIPO-I, ÁREA INTERNA 14,52M2, EM CHAPA DE COMPENSADO RESINADO, INCLUSIVE MOBILIÁRIO (OBRA DE PEQUENO PORTE, EFETIVO ATÉ 30 HOMENS), PADRÃO DER-MG | E11: un | F11: 1 | G11: 7953.59 | H11: =ROUND(G11*(1+$G$2),2) -> 9703.38 | I11: =ROUND(F11*H11,2) -> 9703.38 | J11: =I11/$I$74 -> 0.022027015
A12: 1.2.2 | B12: ED-50130 | C12: SEINFRA | D12: BARRACÃO DE OBRA PARA INSTALAÇÃO SANITÁRIA TIPO-I, ÁREA INTERNA 14,52M2, EM CHAPA DE COMPENSADO RESINADO (OBRA DE PEQUENO PORTE, EFETIVO ATÉ 30 HOMENS), PADRÃO DER-MG | E12: un | F12: 1 | G12: 8800.87 | H12: =ROUND(G12*(1+$G$2),2) -> 10737.06 | I12: =ROUND(F12*H12,2) -> 10737.06 | J12: =I12/$I$74 -> 0.024373505
A13: 1.3 | D13: LIGAÇÕES PROVISÓRIAS | I13: =SUM(I14) -> 1469.76 | J13: =I13/$I$74 -> 0.0033364071
A14: 1.3.1 | B14: ED-50151 | C14: SEINFRA | D14: LIGAÇÃO PROVISÓRIA COM ENTRADA DE ENERGIA AÉREA, PADRÃO CEMIG, CARGA INSTALADA DE 15,1KVA ATÉ 30KVA, TRIFÁSICO, COM SAÍDA SUBTERRÂNEA, INCLUSIVE POSTE, CAIXA PARA MEDIDOR, DISJUNTOR, BARRAMENTO, ATERRAMENTO E ACESSÓRIOS | E14: un | F14: 1 | G14: 1204.72 | H14: =ROUND(G14*(1+$G$2),2) -> 1469.76 | I14: =ROUND(F14*H14,2) -> 1469.76 | J14: =I14/$I$74 -> 0.0033364071
A15: 1.4 | D15: FUNDAÇÕES - ESTACAS | I15: =SUM(I16:I21) -> 71456.11 | J15: =I15/$I$74 -> 0.16220789
A16: 1.4.1 | B16: 101124 | C16: SINAPI | D16: ESCAVAÇÃO HORIZONTAL, INCLUINDO CARGA E DESCARGA EM SOLO DE 1A CATEGORIA COM TRATOR DE ESTEIRAS (100HP/LÂMINA: 2,19M3). AF_07/2020 | E16: M3 | F16: 171.68 | G16: 15.74 | H16: =ROUND(G16*(1+$G$2),2) -> 19.2 | I16: =ROUND(F16*H16,2) -> 3296.26 | J16: =I16/$I$74 -> 0.0074826266
A17: 1.4.2 | B17: ED-50422 | C17: SEINFRA | D17: ENSECADEIRA INCLUSIVE RETIRADA DO MADEIRAMENTO , PAREDE SIMPLES | E17: m2 | F17: 29.88 | G17: 160.15 | H17: =ROUND(G17*(1+$G$2),2) -> 195.38 | I17: =ROUND(F17*H17,2) -> 5837.95 | J17: =I17/$I$74 -> 0.013252353
A18: 1.4.3 | B18: 7042 | C18: SINAPI | D18: MOTOBOMBA TRASH (PARA ÁGUA SUJA) AUTO ESCORVANTE, MOTOR GASOLINA DE 6,41 HP, DIÂMETROS DE SUCÇÃO X RECALQUE: 3" X 3", HM/Q = 10 MCA / 60 M3/H A 23 MCA / 0 M3/H - CHP DIURNO. AF_10/2014 | E18: CHP | F18: 32 | G18: 23.74 | H18: =ROUND(G18*(1+$G$2),2) -> 28.96 | I18: =ROUND(F18*H18,2) -> 926.72 | J18: =I18/$I$74 -> 0.0021036871
A19: 1.4.4 | B19: ED-49732 | C19: SEINFRA | D19: CRAVAÇÃO DE ESTACA PRÉ-MOLDADA DE CONCRETO, DIMENSÃO (23X23)CM, COMPRESSÃO ADMISSÍVEL DE 70T, INCLUSIVE FORNECIMENTO DE ESTACA, EXCLUSIVE EMENDA | E19: m | F19: 144 | G19: 263.42 | H19: =ROUND(G19*(1+$G$2),2) -> 321.37 | I19: =ROUND(F19*H19,2) -> 46277.28 | J19: =I19/$I$74 -> 0.10505106
A20: 1.4.5 | B20: ED-29819 | C20: SEINFRA | D20: MOBILIZAÇÃO E DESMOBILIZAÇÃO DE EQUIPAMENTO PARA ESTACA TIPO CRAVADA (CUSTO FIXO), INCLUSIVE CARGA E DESCARGA, EXCLUSIVE TRANSPORTE EM QUILÔMETRO RODADO (CUSTO VARIÁVEL) | E20: un | F20: 1 | G20: 9744 | H20: =ROUND(G20*(1+$G$2),2) -> 11887.68 | I20: =ROUND(F20*H20,2) -> 11887.68 | J20: =I20/$I$74 -> 0.026985453
A21: 1.4.6 | B21: ED-29820 | C21: SEINFRA | D21: MOBILIZAÇÃO E DESMOBILIZAÇÃO DE EQUIPAMENTO PARA ESTACA TIPO CRAVADA (CUSTO VARIÁVEL), EXCLUSIVE CUSTO FIXO DE TRANSPORTE | E21: km | F21: 103.4 | G21: 25.61 | H21: =ROUND(G21*(1+$G$2),2) -> 31.24 | I21: =ROUND(F21*H21,2) -> 3230.22 | J21: =I21/$I$74 -> 0.0073327135
A22: 1.5 | D22: FUNDAÇÕES - BLOCOS | I22: =SUM(I23:I28) -> 22314.49 | J22: =I22/$I$74 -> 0.05065468
A23: 1.5.1 | B23: 7042 | C23: SINAPI | D23: MOTOBOMBA TRASH (PARA ÁGUA SUJA) AUTO ESCORVANTE, MOTOR GASOLINA DE 6,41 HP, DIÂMETROS DE SUCÇÃO X RECALQUE: 3" X 3", HM/Q = 10 MCA / 60 M3/H A 23 MCA / 0 M3/H - CHP DIURNO. AF_10/2014 | E23: CHP | F23: 56 | G23: 23.74 | H23: =ROUND(G23*(1+$G$2),2) -> 28.96 | I23: =ROUND(F23*H23,2) -> 1621.76 | J23: =I23/$I$74 -> 0.0036814525
A24: 1.5.2 | B24: 96523 | C24: SINAPI | D24: ESCAVAÇÃO MANUAL PARA BLOCO DE COROAMENTO OU SAPATA (INCLUINDO ESCAVAÇÃO PARA COLOCAÇÃO DE FÔRMAS). AF_06/2017 | E24: M3 | F24: 15.35 | G24: 92.95 | H24: =ROUND(G24*(1+$G$2),2) -> 113.4 | I24: =ROUND(F24*H24,2) -> 1740.69 | J24: =I24/$I$74 -> 0.0039514278
A25: 1.5.3 | B25: RO-42285 | C25: SEINFRA | D25: Armação: Aço CA-50 (Execução, incluindo preparo, dobragem, colocação nas formas e transporte de todos os materiais) | E25: Kg | F25: 300.4 | G25: 9.79 | H25: =ROUND(G25*(1+$G$2),2) -> 11.94 | I25: =ROUND(F25*H25,2) -> 3586.78 | J25: =I25/$I$74 -> 0.0081421173
A26: 1.5.4 | B26: RO-41552 | C26: SEINFRA | D26: Armação: Aço CA-60 (Execução, incluindo preparo, dobragem, colocação nas formas e transporte de todos os materiais) | E26: Kg | F26: 10.91 | G26: 11.03 | H26: =ROUND(G26*(1+$G$2),2) -> 13.46 | I26: =ROUND(F26*H26,2) -> 146.85 | J26: =I26/$I$74 -> 0.00033335469
A27: 1.5.5 | B27: 96534 | C27: SINAPI | D27: FABRICAÇÃO, MONTAGEM E DESMONTAGEM DE FÔRMA PARA BLOCO DE COROAMENTO, EM MADEIRA SERRADA, E=25 MM, 4 UTILIZAÇÕES. AF_06/2017 | E27: M2 | F27: 47.16 | G27: 104.52 | H27: =ROUND(G27*(1+$G$2),2) -> 127.51 | I27: =ROUND(F27*H27,2) -> 6013.37 | J27: =I27/$I$74 -> 0.013650562
A28: 1.5.6 | B28: 96557 | C28: SINAPI | D28: CONCRETAGEM DE BLOCOS DE COROAMENTO E VIGAS BALDRAMES, FCK 30 MPA, COM USO DE BOMBA  LANÇAMENTO, ADENSAMENTO E ACABAMENTO. AF_06/2017 | E28: M3 | F28: 10.1 | G28: 747.04 | H28: =ROUND(G28*(1+$G$2),2) -> 911.39 | I28: =ROUND(F28*H28,2) -> 9205.04 | J28: =I28/$I$74 -> 0.020895766
A29: 1.6 | D29: PILARES | I29: =SUM(I30:I31) -> 22330.89 | J29: =I29/$I$74 -> 0.050691909
A30: 1.6.1 | B30: RO-42285 | C30: SEINFRA | D30: Armação: Aço CA-50 (Execução, incluindo preparo, dobragem, colocação nas formas e transporte de todos os materiais) | E30: Kg | F30: 1596.73 | G30: 9.79 | H30: =ROUND(G30*(1+$G$2),2) -> 11.94 | I30: =ROUND(F30*H30,2) -> 19064.96 | J30: =I30/$I$74 -> 0.043278133
A31: 1.6.2 | B31: RO-41552 | C31: SEINFRA | D31: Armação: Aço CA-60 (Execução, incluindo preparo, dobragem, colocação nas formas e transporte de todos os materiais) | E31: Kg | F31: 242.64 | G31: 11.03 | H31: =ROUND(G31*(1+$G$2),2) -> 13.46 | I31: =ROUND(F31*H31,2) -> 3265.93 | J31: =I31/$I$74 -> 0.0074137765
A32: 1.7 | D32: ALAS | I32: =SUM(I33:I35) -> 117034.41 | J32: =I32/$I$74 -> 0.26567224
A33: 1.7.1 | B33: RO-42285 | C33: SEINFRA | D33: Armação: Aço CA-50 (Execução, incluindo preparo, dobragem, colocação nas formas e transporte de todos os materiais) | E33: Kg | F33: 3291.73 | G33: 9.79 | H33: =ROUND(G33*(1+$G$2),2) -> 11.94 | I33: =ROUND(F33*H33,2) -> 39303.26 | J33: =I33/$I$74 -> 0.089219788
A34: 1.7.2 | B34: 100341 | C34: SINAPI | D34: FABRICAÇÃO, MONTAGEM E DESMONTAGEM DE FÔRMA PARA CORTINA DE CONTENÇÃO, EM CHAPA DE MADEIRA COMPENSADA PLASTIFICADA, E = 18 MM, 10 UTILIZAÇÕES. AF_07/2019 | E34: M2 | F34: 204.25 | G34: 36.64 | H34: =ROUND(G34*(1+$G$2),2) -> 44.7 | I34: =ROUND(F34*H34,2) -> 9129.98 | J34: =I34/$I$74 -> 0.020725377
A35: 1.7.3 | B35: 100349 | C35: SINAPI | D35: CONCRETAGEM DE CORTINA DE CONTENÇÃO, ATRAVÉS DE BOMBA  LANÇAMENTO, ADENSAMENTO E ACABAMENTO. AF_07/2019 | E35: M3 | F35: 77.4 | G35: 726.49 | H35: =ROUND(G35*(1+$G$2),2) -> 886.32 | I35: =ROUND(F35*H35,2) -> 68601.17 | J35: =I35/$I$74 -> 0.15572708
A36: 1.8 | D36: VIGAS METÁLICAS | I36: =SUM(I37:I40) -> 74242.64 | J36: =I36/$I$74 -> 0.16853342
A37: 1.8.1 | B37: 100764 | C37: SINAPI | D37: VIGA METÁLICA EM PERFIL LAMINADO OU SOLDADO EM AÇO ESTRUTURAL, COM CONEXÕES SOLDADAS, INCLUSOS MÃO DE OBRA, TRANSPORTE E IÇAMENTO UTILIZANDO GUINDASTE - FORNECIMENTO E INSTALAÇÃO. AF_01/2020_PA | E37: KG | F37: 3360 | G37: 15.76 | H37: =ROUND(G37*(1+$G$2),2) -> 19.23 | I37: =ROUND(F37*H37,2) -> 64612.8 | J37: =I37/$I$74 -> 0.14667334
A38: 1.8.2 | B38: 100763 | C38: SINAPI | D38: VIGA METÁLICA EM PERFIL LAMINADO OU SOLDADO EM AÇO ESTRUTURAL, COM CONEXÕES PARAFUSADAS, INCLUSOS MÃO DE OBRA, TRANSPORTE E IÇAMENTO UTILIZANDO GUINDASTE - FORNECIMENTO E INSTALAÇÃO. AF_01/2020_PSA | E38: KG | F38: 173.94 | G38: 16.13 | H38: =ROUND(G38*(1+$G$2),2) -> 19.68 | I38: =ROUND(F38*H38,2) -> 3423.14 | J38: =I38/$I$74 -> 0.0077706487
A39: 1.8.3 | B39: 43665 | C39: SINAPI-I | D39: PERFIL "U" DE ACO LAMINADO, "U" 102 X 9,3 | E39: KG | F39: 154 | G39: 8.68 | H39: =ROUND(G39*(1+$G$2),2) -> 10.59 | I39: =ROUND(F39*H39,2) -> 1630.86 | J39: =I39/$I$74 -> 0.0037021098
A40: 1.8.4 | B40: RO-41582 | C40: SEINFRA | D40: Aparelhos de apoio em neoprene fretado (Execução, incluindo a aplicação, fornecimento e transporte dos materiais) | E40: dm3 | F40: 33.84 | G40: 110.84 | H40: =ROUND(G40*(1+$G$2),2) -> 135.22 | I40: =ROUND(F40*H40,2) -> 4575.84 | J40: =I40/$I$74 -> 0.010387318
...

Sheet CRONOGRAMA
B5: OBRA: CONSTRUÇÃO DE PONTE NA FORQUILHA/BATATAL | F5: VALOR: | G5: =E42 -> 440521.78 | I5: DATA: XX/XX/XXXX
F6: LOCAL: | G6: Carmo da Mata/MG | I6: PRAZO DA OBRA: 06 meses
B7: CRONOGRAMA FÍSICO FINANCEIRO - RESUMO
B8: Item | C8: Descrição | D8: FÍSICO / FINANCEIRO | E8: Total Por Etapa | F8: 1° Mês | G8: 2° Mês | H8: 3° Mês | I8: 4° Mês | J8: 5° Mês | K8: 6° Mês
B9: 1 | C9: ='PLANILHA ORÇAMENTÁRIA'!D6 -> CONSTRUÇÃO DE PONTE NA FORQUILHA/BATATAL
B11: ='PLANILHA ORÇAMENTÁRIA'!A7 -> 1.1 | C11: ='PLANILHA ORÇAMENTÁRIA'!$D$7 -> SERVIÇOS PRELIMINARES | D11: FÍSICO % | E11: =E12/$E$42 -> 0.0066528379 | F11: 1
D12: FINANCEIRO | E12: ='PLANILHA ORÇAMENTÁRIA'!$I$7 -> 2930.72 | F12: =F11*$E$12 -> 2930.72
B13: ='PLANILHA ORÇAMENTÁRIA'!A10 -> 1.2 | C13: ='PLANILHA ORÇAMENTÁRIA'!D10 -> CANTEIRO DE OBRAS | D13: FÍSICO % | E13: =E14/$E$42 -> 0.046400521 | F13: 1
D14: FINANCEIRO | E14: ='PLANILHA ORÇAMENTÁRIA'!$I$10 -> 20440.44 | F14: =F13*$E$14 -> 20440.44
B15: ='PLANILHA ORÇAMENTÁRIA'!A13 -> 1.3 | C15: ='PLANILHA ORÇAMENTÁRIA'!D13 -> LIGAÇÕES PROVISÓRIAS | D15: FÍSICO % | E15: =E16/$E$42 -> 0.0033364071 | F15: 1
D16: FINANCEIRO | E16: ='PLANILHA ORÇAMENTÁRIA'!$I$13 -> 1469.76 | F16: =F15*$E$16 -> 1469.76
B17: ='PLANILHA ORÇAMENTÁRIA'!A15 -> 1.4 | C17: ='PLANILHA ORÇAMENTÁRIA'!D15 -> FUNDAÇÕES - ESTACAS | D17: FÍSICO % | E17: =E18/$E$42 -> 0.16220789 | F17: 1
D18: FINANCEIRO | E18: ='PLANILHA ORÇAMENTÁRIA'!$I$15 -> 71456.11 | F18: =F17*$E$18 -> 71456.11
B19: ='PLANILHA ORÇAMENTÁRIA'!A22 -> 1.5 | C19: ='PLANILHA ORÇAMENTÁRIA'!D22 -> FUNDAÇÕES - BLOCOS | D19: FÍSICO % | E19: =E20/$E$42 -> 0.05065468 | G19: 1
D20: FINANCEIRO | E20: ='PLANILHA ORÇAMENTÁRIA'!$I$22 -> 22314.49 | G20: =G19*$E$20 -> 22314.49
B21: ='PLANILHA ORÇAMENTÁRIA'!A29 -> 1.6 | C21: ='PLANILHA ORÇAMENTÁRIA'!D29 -> PILARES | D21: FÍSICO % | E21: =E22/$E$42 -> 0.050691909 | G21: 1
D22: FINANCEIRO | E22: ='PLANILHA ORÇAMENTÁRIA'!$I$29 -> 22330.89 | G22: =G21*$E$22 -> 22330.89
B23: ='PLANILHA ORÇAMENTÁRIA'!A32 -> 1.7 | C23: ='PLANILHA ORÇAMENTÁRIA'!D32 -> ALAS | D23: FÍSICO % | E23: =E24/$E$42 -> 0.26567224 | H23: 1
D24: FINANCEIRO | E24: ='PLANILHA ORÇAMENTÁRIA'!$I$32 -> 117034.41 | H24: =H23*$E$24 -> 117034.41
B25: ='PLANILHA ORÇAMENTÁRIA'!A36 -> 1.8 | C25: ='PLANILHA ORÇAMENTÁRIA'!D36 -> VIGAS METÁLICAS | D25: FÍSICO % | E25: =E26/$E$42 -> 0.16853342 | I25: 1
D26: FINANCEIRO | E26: ='PLANILHA ORÇAMENTÁRIA'!$I$36 -> 74242.64 | I26: =I25*$E$26 -> 74242.64
B27: ='PLANILHA ORÇAMENTÁRIA'!A41 -> 1.9 | C27: ='PLANILHA ORÇAMENTÁRIA'!D41 -> TABULEIRO | D27: FÍSICO % | E27: =E28/$E$42 -> 0.085808266 | J27: 1
D28: FINANCEIRO | E28: ='PLANILHA ORÇAMENTÁRIA'!$I$41 -> 37800.41 | J28: =J27*$E$28 -> 37800.41
B29: ='PLANILHA ORÇAMENTÁRIA'!A48 -> 1.10 | C29: ='PLANILHA ORÇAMENTÁRIA'!D48 -> GUARDA RODAS NEW JERSEY | D29: FÍSICO % | E29: =E30/$E$42 -> 0.034962267 | K29: 1
D30: FINANCEIRO | E30: ='PLANILHA ORÇAMENTÁRIA'!$I$48 -> 15401.64 | K30: =K29*$E30 -> 15401.64
B31: ='PLANILHA ORÇAMENTÁRIA'!A53 -> 1.11 | C31: ='PLANILHA ORÇAMENTÁRIA'!D53 -> TERRAPLENAGEM | D31: FÍSICO % | E31: =E32/$E$42 -> 0.032513307 | K31: 1
D32: FINANCEIRO | E32: ='PLANILHA ORÇAMENTÁRIA'!$I$53 -> 14322.82 | K32: =K31*$E32 -> 14322.82
B33: ='PLANILHA ORÇAMENTÁRIA'!A58 -> 1.12 | C33: ='PLANILHA ORÇAMENTÁRIA'!D58 -> PAVIMENTAÇÃO | D33: FÍSICO % | E33: =E34/$E$42 -> 0.056627189 | K33: 1
D34: FINANCEIRO | E34: ='PLANILHA ORÇAMENTÁRIA'!$I$58 -> 24945.51 | K34: =K33*$E34 -> 24945.51
B35: ='PLANILHA ORÇAMENTÁRIA'!A66 -> 1.13 | C35: ='PLANILHA ORÇAMENTÁRIA'!D66 -> SINALIZAÇÃO | D35: FÍSICO % | E35: =E36/$E$42 -> 0.0010874604 | K35: 1
D36: FINANCEIRO | E36: ='PLANILHA ORÇAMENTÁRIA'!$I$66 -> 479.05 | K36: =K35*$E36 -> 479.05
B37: ='PLANILHA ORÇAMENTÁRIA'!A68 -> 1.14 | C37: ='PLANILHA ORÇAMENTÁRIA'!D68 -> SERVIÇOS FINAIS | D37: FÍSICO % | E37: =E38/$E$42 -> 0.0020223972 | K37: 1
D38: FINANCEIRO | E38: ='PLANILHA ORÇAMENTÁRIA'!$I$68 -> 890.91 | K38: =K37*$E38 -> 890.91
B39: ='PLANILHA ORÇAMENTÁRIA'!A71 -> 1.15 | C39: ='PLANILHA ORÇAMENTÁRIA'!D71 -> ADMINISTRAÇÃO LOCAL | D39: FÍSICO % | E39: =E40/$E$42 -> 0.032829205 | F39: =SUM(F38,F12,F14,F16,F18,F20,F22,F24,F26,F28,F30,F32,F34,F36)/($E$42-$E$40) -> 0.22601764 | G39: =SUM(G38,G12,G14,G16,G18,G20,G22,G24,G26,G28,G30,G32,G34,G36)/($E$42-$E$40) -> 0.10478665 | H39: =SUM(H38,H12,H14,H16,H18,H20,H22,H24,H26,H28,H30,H32,H34,H36)/($E$42-$E$40) -> 0.2746901 | I39: =SUM(I38,I12,I14,I16,I18,I20,I22,I24,I26,I28,I30,I32,I34,I36)/($E$42-$E$40) -> 0.17425404 | J39: =SUM(J38,J12,J14,J16,J18,J20,J22,J24,J26,J28,J30,J32,J34,J36)/($E$42-$E$40) -> 0.088720903 | K39: =SUM(K38,K12,K14,K16,K18,K20,K22,K24,K26,K28,K30,K32,K34,K36)/($E$42-$E$40) -> 0.13153067
D40: FINANCEIRO | E40: ='PLANILHA ORÇAMENTÁRIA'!$I$71 -> 14461.98 | F40: =ROUND(F39*$E$40,2) -> 3268.66 | G40: =ROUND(G39*$E$40,2) -> 1515.42 | H40: =ROUND(H39*$E$40,2) -> 3972.56 | I40: =ROUND(I39*$E$40,2) -> 2520.06 | J40: =ROUND(J39*$E$40,2) -> 1283.08 | K40: =ROUND(K39*$E$40,2) -> 1902.19
B41: TOTAL | D41: FÍSICO % | E41: =SUM(E11,E13,E15,E17,E19,E21,E23,E25,E27,E39) -> 0.87278738 | F41: =F42/$E$42 -> 0.22601763 | G41: =G42/$E$42 -> 0.10478665 | H41: =H42/$E$42 -> 0.2746901 | I41: =I42/$E$42 -> 0.17425404 | J41: =J42/$E$42 -> 0.088720903 | K41: =K42/$E$42 -> 0.13153066
D42: FINANCEIRO | E42: =SUM(E12,E14,E16,E18,E20,E22,E24,E26,E28,E30,E32,E34,E36,E38,E40) -> 440521.78 | F42: =SUM(F12,F14,F16,F18,F20,F22,F24,F26,F28,F30,F32,F34,F36,F38,F40) -> 99565.69 | G42: =SUM(G12,G14,G16,G18,G20,G22,G24,G26,G28,G30,G32,G34,G36,G38,G40) -> 46160.8 | H42: =SUM(H12,H14,H16,H18,H20,H22,H24,H26,H28,H30,H32,H34,H36,H38,H40) -> 121006.97 | I42: =SUM(I12,I14,I16,I18,I20,I22,I24,I26,I28,I30,I32,I34,I36,I38,I40) -> 76762.7 | J42: =SUM(J12,J14,J16,J18,J20,J22,J24,J26,J28,J30,J32,J34,J36,J38,J40) -> 39083.49 | K42: =SUM(K12,K14,K16,K18,K20,K22,K24,K26,K28,K30,K32,K34,K36,K38,K40) -> 57942.12
D44: Porcentagem Acumulado | F44: =F41 -> 0.22601763 | G44: =F44+G41 -> 0.33080428 | H44: =G44+H41 -> 0.60549438 | I44: =H44+I41 -> 0.77974842 | J44: =I44+J41 -> 0.86846932 | K44: =J44+K41 -> 0.99999998
D45: Custo Acumulado | F45: =F42 -> 99565.69 | G45: =F45+G42 -> 145726.49 | H45: =G45+H42 -> 266733.46 | I45: =H45+I42 -> 343496.16 | J45: =I45+J42 -> 382579.65 | K45: =J45+K42 -> 440521.77
B48: Carmo da Mata, XX de XXX de 2024
...
