Workbook
Name Nível: [1]Eventograma_e_Quantitativos!$C1

Sheet PLANILHA ORÇAMENTÁRIA
D1: OBRA: | E1: Bancos: | G1: BDI:
D2: CONSTRUÇÃO DE PONTE NA FORQUILHA/BATATAL | E2: SEINFRA REGIÃO CENTRAL (08/2023) - SEM DESONERAÇÃO; SINAPI/MG (09/2023) - NÃO DESONERADO | G2: 0.22
A3: Planilha Orçamentária Sintética | K3: MEDIÇÕES | AF3: VERIFICAÇÃO | AH3: OBSERVAÇÕES
A4: Item | B4: Código | C4: Banco | D4: Descrição | E4: Und | F4: Quant. | G4: Valor Unit | H4: Valor Unit. com BDI | I4: Total | J4: Serviço (%) | K4: MEDIÇÃO 01 (31/03/2022 a 25/05/2022) | N4: MEDIÇÃO 02 (00/00/0000 a 00/00/0000) | Q4: MEDIÇÃO 03 (00/00/0000 a 00/00/0000) | T4: MEDIÇÃO 04 (00/00/0000 a 00/00/0000) | W4: MEDIÇÃO 05 (00/00/0000 a 00/00/0000) | Z4: MEDIÇÃO 06 (00/00/0000 a 00/00/0000) | AC4: TOTAL EXECUTADO
K5: Quant. | L5: Valor | M5: % Executada | N5: Quant. | O5: Valor | P5: % Executada | Q5: Quant. | R5: Valor | S5: % Executada | T5: Quant. | U5: Valor | V5: % Executada | W5: Quant. | X5: Valor | Y5: % Executada | Z5: Quant. | AA5: Valor | AB5: % Executada | AC5: Valor | AD5: % Executada | AF5: DIFERENÇA | AG5: STATUS
A6: 1 | D6: CONSTRUÇÃO DE PONTE NA FORQUILHA/BATATAL | L6: =SUM(#REF!) -> #REF! | M6: =L6/$I$6 -> #REF! | O6: =SUM(#REF!) -> #REF! | P6: =O6/$I$6 -> #REF! | R6: =SUM(#REF!) -> #REF! | S6: =R6/$I$6 -> #REF! | U6: =SUM(#REF!) -> #REF! | V6: =U6/$I$6 -> #REF! | X6: =SUM(#REF!) -> #REF! | Y6: =X6/$I$6 -> #REF! | AA6: =SUM(#REF!) -> #REF! | AB6: =AA6/$I$6 -> #REF! | AC6: =SUM(L6,O6,R6,U6,X6,AA6) -> #REF! | AD6: =AC6/I6 -> #REF! | AF6: =AC6-I6 -> #REF! | AG6: =IF(AF6=0,"CONCLUÍDO",IF(AF6<0,"À FINALIZAR","ATENÇÃO!!!")) -> #REF!
A7: 1.1 | D7: SERVIÇOS PRELIMINARES | I7: =SUM(I8:I9) -> 2930.72 | J7: =I7/$I$74 -> 0.0066528379
A8: 1.1.1 | B8: 103689 | C8: SINAPI | D8: FORNECIMENTO E INSTALAÇÃO DE PLACA DE OBRA COM CHAPA GALVANIZADA E ESTRUTURA DE MADEIRA. AF_03/2022_PS | E8: M2 | F8: 4.5 | G8: 307.73 | H8: =ROUND(G8*(1+$G$2),2) -> 375.43 | I8: =ROUND(F8*H8,2) -> 1689.44 | J8: =I8/$I$74 -> 0.0038350885
A9: 1.1.2 | B9: 99058 | C9: SINAPI | D9: LOCAÇÃO DE PONTO PARA REFERÊNCIA TOPOGRÁFICA. AF_10/2018 | E9: UN | F9: 72 | G9: 14.13 | H9: =ROUND(G9*(1+$G$2),2) -> 17.24 | I9: =ROUND(F9*H9,2) -> 1241.28 | J9: =I9/$I$74 -> 0.0028177494
A10: 1.2 | D10: CANTEIRO DE OBRAS | I10: =SUM(I11:I12) -> 20440.44 | J10: =I10/$I$74 -> 0.046400521
A11: 1.2.1 | B11: ED-50128 | C11: SEINFRA | D11: BARRACÃO DE OBRA PARA DEPÓSITO E FERRAMENTARIA TIPO-I, ÁREA INTERNA 14,52M2, EM CHAPA DE COMPENSADO RESINADO, INCLUSIVE MOBILIÁRIO (OBRA DE PEQUENO PORTE, EFETIVO ATÉ 30 HOMENS), PADRÃO DER-MG | E11: un | F11: 1 | G11: 7953.59 | H11: =ROUND(G11*(1+$G$2),2) -> 9703.38 | I11: =ROUND(F11*H11,2) -> 9703.38 | J11: =I11/$I$74 -> 0.022027015
A12: 1.2.2 | B12: ED-50130 | C12: SEINFRA | D12: BARRACÃO DE OBRA PARA INSTALAÇÃO SANITÁRIA TIPO-I, ÁREA INTERNA 14,52M2, EM CHAPA DE COMPENSADO RESINADO (OBRA DE PEQUENO PORTE, EFETIVO ATÉ 30 HOMENS), PADRÃO DER-MG | E12: un | F12: 1 | G12: 8800.87 | H12: =ROUND(G12*(1+$G$2),2) -> 10737.06 | I12: =ROUND(F12*H12,2) -> 10737.06 | J12: =I12/$I$74 -> 0.024373505
A13: 1.3 | D13: LIGAÇÕES PROVISÓRIAS | I13: =SUM(I14) -> 1469.76 | J13: =I13/$I$74 -> 0.0033364071
A14: 1.3.1 | B14: ED-50151 | C14: SEINFRA | D14: LIGAÇÃO PROVISÓRIA COM ENTRADA DE ENERGIA AÉREA, PADRÃO CEMIG, CARGA INSTALADA DE 15,1KVA ATÉ 30KVA, TRIFÁSICO, COM SAÍDA SUBTERRÂNEA, INCLUSIVE POSTE, CAIXA PARA MEDIDOR, DISJUNTOR, BARRAMENTO, ATERRAMENTO E ACESSÓRIOS | E14: un | F14: 1 | G14: 1204.72 | H14: =ROUND(G14*(1+$G$2),2) -> 1469.76 | I14: =ROUND(F14*H14,2) -> 1469.76 | J14: =I14/$I$74 -> 0.0033364071
A15: 1.4 | D15: FUNDAÇÕES - ESTACAS | I15: =SUM(I16:I21) -> 71456.11 | J15: =I15/$I$74 -> 0.16220789
A16: 1.4.1 | B16: 101124 | C16: SINAPI | D16: ESCAVAÇÃO HORIZONTAL, INCLUINDO CARGA E DESCARGA EM SOLO DE 1A CATEGORIA COM TRATOR DE ESTEIRAS (100HP/LÂMINA: 2,19M3). AF_07/2020 | E16: M3 | F16: 171.68 | G16: 15.74 | H16: =ROUND(G16*(1+$G$2),2) -> 19.2 | I16: =ROUND(F16*H16,2) -> 3296.26 | J16: =I16/$I$74 -> 0.0074826266
A17: 1.4.2 | B17: ED-50422 | C17: SEINFRA | D17: ENSECADEIRA INCLUSIVE RETIRADA DO MADEIRAMENTO , PAREDE SIMPLES | E17: m2 | F17: 29.88 | G17: 160.15 | H17: =ROUND(G17*(1+$G$2),2) -> 195.38 | I17: =ROUND(F17*H17,2) -> 5837.95 | J17: =I17/$I$74 -> 0.013252353
A18: 1.4.3 | B18: 7042 | C18: SINAPI | D18: MOTOBOMBA TRASH (PARA ÁGUA SUJA) AUTO ESCORVANTE, MOTOR GASOLINA DE 6,41 HP, DIÂMETROS DE SUCÇÃO X RECALQUE: 3" X 3", HM/Q = 10 MCA / 60 M3/H A 23 MCA / 0 M3/H - CHP DIURNO. AF_10/2014 | E18: CHP | F18: 32 | G18: 23.74 | H18: =ROUND(G18*(1+$G$2),2) -> 28.96 | I18: =ROUND(F18*H18,2) -> 926.72 | J18: =I18/$I$74 -> 0.0021036871
A19: 1.4.4 | B19: ED-49732 | C19: SEINFRA | D19: CRAVAÇÃO DE ESTACA PRÉ-MOLDADA DE CONCRETO, DIMENSÃO (23X23)CM, COMPRESSÃO ADMISSÍVEL DE 70T, INCLUSIVE FORNECIMENTO DE ESTACA, EXCLUSIVE EMENDA | E19: m | F19: 144 | G19: 263.42 | H19: =ROUND(G19*(1+$G$2),2) -> 321.37 | I19: =ROUND(F19*H19,2) -> 46277.28 | J19: =I19/$I$74 -> 0.10505106
A20: 1.4.5 | B20: ED-29819 | C20: SEINFRA | D20: MOBILIZAÇÃO E DESMOBILIZAÇÃO DE EQUIPAMENTO PARA ESTACA TIPO CRAVADA (CUSTO FIXO), INCLUSIVE CARGA E DESCARGA, EXCLUSIVE TRANSPORTE EM QUILÔMETRO RODADO (CUSTO VARIÁVEL) | E20: un | F20: 1 | G20: 9744 | H20: =ROUND(G20*(1+$G$2),2) -> 11887.68 | I20: =ROUND(F20*H20,2) -> 11887.68 | J20: =I20/$I$74 -> 0.026985453
A21: 1.4.6 | B21: ED-29820 | C21: SEINFRA | D21: MOBILIZAÇÃO E DESMOBILIZAÇÃO DE EQUIPAMENTO PARA ESTACA TIPO CRAVADA (CUSTO VARIÁVEL), EXCLUSIVE CUSTO FIXO DE TRANSPORTE | E21: km | F21: 103.4 | G21: 25.61 | H21: =ROUND(G21*(1+$G$2),2) -> 31.24 | I21: =ROUND(F21*H21,2) -> 3230.22 | J21: =I21/$I$74 -> 0.0073327135
A22: 1.5 | D22: FUNDAÇÕES - BLOCOS | I22: =SUM(I23:I28) -> 22314.49 | J22: =I22/$I$74 -> 0.05065468
A23: 1.5.1 | B23: 7042 | C23: SINAPI | D23: MOTOBOMBA TRASH (PARA ÁGUA SUJA) AUTO ESCORVANTE, MOTOR GASOLINA DE 6,41 HP, DIÂMETROS DE SUCÇÃO X RECALQUE: 3" X 3", HM/Q = 10 MCA / 60 M3/H A 23 MCA / 0 M3/H - CHP DIURNO. AF_10/2014 | E23: CHP | F23: 56 | G23: 23.74 | H23: =ROUND(G23*(1+$G$2),2) -> 28.96 | I23: =ROUND(F23*H23,2) -> 1621.76 | J23: =I23/$I$74 -> 0.0036814525
A24: 1.5.2 | B24: 96523 | C24: SINAPI | D24: ESCAVAÇÃO MANUAL PARA BLOCO DE COROAMENTO OU SAPATA (INCLUINDO ESCAVAÇÃO PARA COLOCAÇÃO DE FÔRMAS). AF_06/2017 | E24: M3 | F24: 15.35 | G24: 92.95 | H24: =ROUND(G24*(1+$G$2),2) -> 113.4 | I24: =ROUND(F24*H24,2) -> 1740.69 | J24: =I24/$I$74 -> 0.0039514278
A25: 1.5.3 | B25: RO-42285 | C25: SEINFRA | D25: Armação: Aço CA-50 (Execução, incluindo preparo, dobragem, colocação nas formas e transporte de todos os materiais) | E25: Kg | F25: 300.4 | G25: 9.79 | H25: =ROUND(G25*(1+$G$2),2) -> 11.94 | I25: =ROUND(F25*H25,2) -> 3586.78 | J25: =I25/$I$74 -> 0.0081421173
A26: 1.5.4 | B26: RO-41552 | C26: SEINFRA | D26: Armação: Aço CA-60 (Execução, incluindo preparo, dobragem, colocação nas formas e transporte de todos os materiais) | E26: Kg | F26: 10.91 | G26: 11.03 | H26: =ROUND(G26*(1+$G$2),2) -> 13.46 | I26: =ROUND(F26*H26,2) -> 146.85 | J26: =I26/$I$74 -> 0.00033335469
A27: 1.5.5 | B27: 96534 | C27: SINAPI | D27: FABRICAÇÃO, MONTAGEM E DESMONTAGEM DE FÔRMA PARA BLOCO DE COROAMENTO, EM MADEIRA SERRADA, E=25 MM, 4 UTILIZAÇÕES. AF_06/2017 | E27: M2 | F27: 47.16 | G27: 104.52 | H27: =ROUND(G27*(1+$G$2),2) -> 127.51 | I27: =ROUND(F27*H27,2) -> 6013.37 | J27: =I27/$I$74 -> 0.013650562
A28: 1.5.6 | B28: 96557 | C28: SINAPI | D28: CONCRETAGEM DE BLOCOS DE COROAMENTO E VIGAS BALDRAMES, FCK 30 MPA, COM USO DE BOMBA  LANÇAMENTO, ADENSAMENTO E ACABAMENTO. AF_06/2017 | E28: M3 | F28: 10.1 | G28: 747.04 | H28: =ROUND(G28*(1+$G$2),2) -> 911.39 | I28: =ROUND(F28*H28,2) -> 9205.04 | J28: =I28/$I$74 -> 0.020895766
A29: 1.6 | D29: PILARES | I29: =SUM(I30:I31) -> 22330.89 | J29: =I29/$I$74 -> 0.050691909
A30: 1.6.1 | B30: RO-42285 | C30: SEINFRA | D30: Armação: Aço CA-50 (Execução, incluindo preparo, dobragem, colocação nas formas e transporte de todos os materiais) | E30: Kg | F30: 1596.73 | G30: 9.79 | H30: =ROUND(G30*(1+$G$2),2) -> 11.94 | I30: =ROUND(F30*H30,2) -> 19064.96 | J30: =I30/$I$74 -> 0.043278133
A31: 1.6.2 | B31: RO-41552 | C31: SEINFRA | D31: Armação: Aço CA-60 (Execução, incluindo preparo, dobragem, colocação nas formas e transporte de todos os materiais) | E31: Kg | F31: 242.64 | G31: 11.03 | H31: =ROUND(G31*(1+$G$2),2) -> 13.46 | I31: =ROUND(F31*H31,2) -> 3265.93 | J31: =I31/$I$74 -> 0.0074137765
A32: 1.7 | D32: ALAS | I32: =SUM(I33:I35) -> 117034.41 | J32: =I32/$I$74 -> 0.26567224
A33: 1.7.1 | B33: RO-42285 | C33: SEINFRA | D33: Armação: Aço CA-50 (Execução, incluindo preparo, dobragem, colocação nas formas e transporte de todos os materiais) | E33: Kg | F33: 3291.73 | G33: 9.79 | H33: =ROUND(G33*(1+$G$2),2) -> 11.94 | I33: =ROUND(F33*H33,2) -> 39303.26 | J33: =I33/$I$74 -> 0.089219788
A34: 1.7.2 | B34: 100341 | C34: SINAPI | D34: FABRICAÇÃO, MONTAGEM E DESMONTAGEM DE FÔRMA PARA CORTINA DE CONTENÇÃO, EM CHAPA DE MADEIRA COMPENSADA PLASTIFICADA, E = 18 MM, 10 UTILIZAÇÕES. AF_07/2019 | E34: M2 | F34: 204.25 | G34: 36.64 | H34: =ROUND(G34*(1+$G$2),2) -> 44.7 | I34: =ROUND(F34*H34,2) -> 9129.98 | J34: =I34/$I$74 -> 0.020725377
A35: 1.7.3 | B35: 100349 | C35: SINAPI | D35: CONCRETAGEM DE CORTINA DE CONTENÇÃO, ATRAVÉS DE BOMBA  LANÇAMENTO, ADENSAMENTO E ACABAMENTO. AF_07/2019 | E35: M3 | F35: 77.4 | G35: 726.49 | H35: =ROUND(G35*(1+$G$2),2) -> 886.32 | I35: =ROUND(F35*H35,2) -> 68601.17 | J35: =I35/$I$74 -> 0.15572708
A36: 1.8 | D36: VIGAS METÁLICAS | I36: =SUM(I37:I40) -> 74242.64 | J36: =I36/$I$74 -> 0.16853342
A37: 1.8.1 | B37: 100764 | C37: SINAPI | D37: VIGA METÁLICA EM PERFIL LAMINADO OU SOLDADO EM AÇO ESTRUTURAL, COM CONEXÕES SOLDADAS, INCLUSOS MÃO DE OBRA, TRANSPORTE E IÇAMENTO UTILIZANDO GUINDASTE - FORNECIMENTO E INSTALAÇÃO. AF_01/2020_PA | E37: KG | F37: 3360 | G37: 15.76 | H37: =ROUND(G37*(1+$G$2),2) -> 19.23 | I37: =ROUND(F37*H37,2) -> 64612.8 | J37: =I37/$I$74 -> 0.14667334
A38: 1.8.2 | B38: 100763 | C38: SINAPI | D38: VIGA METÁLICA EM PERFIL LAMINADO OU SOLDADO EM AÇO ESTRUTURAL, COM CONEXÕES PARAFUSADAS, INCLUSOS MÃO DE OBRA, TRANSPORTE E IÇAMENTO UTILIZANDO GUINDASTE - FORNECIMENTO E INSTALAÇÃO. AF_01/2020_PSA | E38: KG | F38: 173.94 | G38: 16.13 | H38: =ROUND(G38*(1+$G$2),2) -> 19.68 | I38: =ROUND(F38*H38,2) -> 3423.14 | J38: =I38/$I$74 -> 0.0077706487
A39: 1.8.3 | B39: 43665 | C39: SINAPI-I | D39: PERFIL "U" DE ACO LAMINADO, "U" 102 X 9,3 | E39: KG | F39: 154 | G39: 8.68 | H39: =ROUND(G39*(1+$G$2),2) -> 10.59 | I39: =ROUND(F39*H39,2) -> 1630.86 | J39: =I39/$I$74 -> 0.0037021098
A40: 1.8.4 | B40: RO-41582 | C40: SEINFRA | D40: Aparelhos de apoio em neoprene fretado (Execução, incluindo a aplicação, fornecimento e transporte dos materiais) | E40: dm3 | F40: 33.84 | G40: 110.84 | H40: =ROUND(G40*(1+$G$2),2) -> 135.22 | I40: =ROUND(F40*H40,2) -> 4575.84 | J40: =I40/$I$74 -> 0.010387318
A41: 1.9 | D41: TABULEIRO | I41: =SUM(I42:I47) -> 37800.41 | J41: =I41/$I$74 -> 0.085808266
A42: 1.9.1 | B42: 103763 | C42: SINAPI | D42: MONTAGEM E DESMONTAGEM DE FÔRMA DE LAJE MACIÇA, PÉ-DIREITO SIMPLES, EM CHAPA DE MADEIRA COMPENSADA RESINADA E CIMBRAMENTO DE MADEIRA, 8 UTILIZAÇÕES. AF_03/2022 | E42: M2 | F42: 57.2 | G42: 64.3 | H42: =ROUND(G42*(1+$G$2),2) -> 78.45 | I42: =ROUND(F42*H42,2) -> 4487.34 | J42: =I42/$I$74 -> 0.01018642
A43: 1.9.2 | B43: RO-42285 | C43: SEINFRA | D43: Armação: Aço CA-50 (Execução, incluindo preparo, dobragem, colocação nas formas e transporte de todos os materiais) | E43: Kg | F43: 1513.16 | G43: 9.79 | H43: =ROUND(G43*(1+$G$2),2) -> 11.94 | I43: =ROUND(F43*H43,2) -> 18067.13 | J43: =I43/$I$74 -> 0.041013023
A44: 1.9.3 | B44: ED-49639 | C44: SEINFRA | D44: FORNECIMENTO DE CONCRETO ESTRUTURAL, USINADO BOMBEADO, COM FCK 30MPA, INCLUSIVE LANÇAMENTO, ADENSAMENTO E ACABAMENTO | E44: m3 | F44: 10.58 | G44: 722.15 | H44: =ROUND(G44*(1+$G$2),2) -> 881.02 | I44: =ROUND(F44*H44,2) -> 9321.19 | J44: =I44/$I$74 -> 0.021159431
A45: 1.9.4 | B45: RO-41590 | C45: SEINFRA | D45: Dreno de PVC ø = 100 mm, comprimento unitário = 45 cm (Execução, incluindo o fornecimento e transporte de todos os materiais) | E45: U | F45: 22 | G45: 25.66 | H45: =ROUND(G45*(1+$G$2),2) -> 31.31 | I45: =ROUND(F45*H45,2) -> 688.82 | J45: =I45/$I$74 -> 0.0015636457
A46: 1.9.5 | B46: RO-41565 | C46: SEINFRA | D46: Juntas de pavimentação longitudinal e transversal (Execução, incluindo o fornecimento e transporte de todos os materiais) | E46: m | F46: 11.44 | G46: 11.46 | H46: =ROUND(G46*(1+$G$2),2) -> 13.98 | I46: =ROUND(F46*H46,2) -> 159.93 | J46: =I46/$I$74 -> 0.00036304675
A47: 1.9.6 | B47: 94994 | C47: SINAPI | D47: EXECUÇÃO DE PASSEIO (CALÇADA) OU PISO DE CONCRETO COM CONCRETO MOLDADO IN LOCO, FEITO EM OBRA, ACABAMENTO CONVENCIONAL, ESPESSURA 8 CM, ARMADO. AF_08/2022 | E47: M2 | F47: 43.2 | G47: 96.31 | H47: =ROUND(G47*(1+$G$2),2) -> 117.5 | I47: =ROUND(F47*H47,2) -> 5076 | J47: =I47/$I$74 -> 0.011522699
A48: 1.10 | D48: GUARDA RODAS NEW JERSEY | I48: =SUM(I49:I52) -> 15401.64 | J48: =I48/$I$74 -> 0.034962267
A49: 1.10.1 | B49: RO-42418 | C49: SEINFRA | D49: Formas planas de compensado com revestimento resinado (Execução, incluindo desforma,fornecimento e transporte de todos os materiais) | E49: m2 | F49: 42.72 | G49: 94.15 | H49: =ROUND(G49*(1+$G$2),2) -> 114.86 | I49: =ROUND(F49*H49,2) -> 4906.82 | J49: =I49/$I$74 -> 0.011138655
A50: 1.10.2 | B50: RO-42285 | C50: SEINFRA | D50: Armação: Aço CA-50 (Execução, incluindo preparo, dobragem, colocação nas formas e transporte de todos os materiais) | E50: Kg | F50: 570.89 | G50: 9.79 | H50: =ROUND(G50*(1+$G$2),2) -> 11.94 | I50: =ROUND(F50*H50,2) -> 6816.43 | J50: =I50/$I$74 -> 0.015473537
A51: 1.10.3 | B51: ED-49639 | C51: SEINFRA | D51: FORNECIMENTO DE CONCRETO ESTRUTURAL, USINADO BOMBEADO, COM FCK 30MPA, INCLUSIVE LANÇAMENTO, ADENSAMENTO E ACABAMENTO | E51: m3 | F51: 3.84 | G51: 722.15 | H51: =ROUND(G51*(1+$G$2),2) -> 881.02 | I51: =ROUND(F51*H51,2) -> 3383.12 | J51: =I51/$I$74 -> 0.0076798019
A52: 1.10.4 | B52: 98575 | C52: SINAPI | D52: TRATAMENTO DE JUNTA DE DILATAÇÃO, COM TARUGO DE POLIETILENO E SELANTE PU, INCLUSO PREENCHIMENTO COM ESPUMA EXPANSIVA PU. AF_09/2023 | E52: M | F52: 3.76 | G52: 64.37 | H52: =ROUND(G52*(1+$G$2),2) -> 78.53 | I52: =ROUND(F52*H52,2) -> 295.27 | J52: =I52/$I$74 -> 0.00067027333
A53: 1.11 | D53: TERRAPLENAGEM | I53: =SUM(I54:I57) -> 14322.82 | J53: =I53/$I$74 -> 0.032513307
A54: 1.11.1 | B54: 96385 | C54: SINAPI | D54: EXECUÇÃO E COMPACTAÇÃO DE ATERRO COM SOLO PREDOMINANTEMENTE ARGILOSO - EXCLUSIVE SOLO, ESCAVAÇÃO, CARGA E TRANSPORTE. AF_11/2019 | E54: M3 | F54: 249.57 | G54: 11.94 | H54: =ROUND(G54*(1+$G$2),2) -> 14.57 | I54: =ROUND(F54*H54,2) -> 3636.23 | J54: =I54/$I$74 -> 0.0082543705
A55: 1.11.2 | B55: 101146 | C55: SINAPI | D55: ESCAVAÇÃO HORIZONTAL, INCLUINDO CARGA, DESCARGA E TRANSPORTE EM SOLO DE 1A CATEGORIA COM TRATOR DE ESTEIRAS (170HP/LÂMINA: 5,20M3) E CAMINHÃO BASCULANTE DE 14M3, DMT ATÉ 200M. AF_07/2020 | E55: M3 | F55: 249.57 | G55: 14.42 | H55: =ROUND(G55*(1+$G$2),2) -> 17.59 | I55: =ROUND(F55*H55,2) -> 4389.94 | J55: =I55/$I$74 -> 0.0099653189
A56: 1.11.3 | B56: 100979 | C56: SINAPI | D56: CARGA, MANOBRA E DESCARGA DE SOLOS E MATERIAIS GRANULARES EM CAMINHÃO BASCULANTE 14 M³ - CARGA COM ESCAVADEIRA HIDRÁULICA (CAÇAMBA DE 1,20 M³ / 155 HP) E DESCARGA LIVRE (UNIDADE: M3). AF_07/2020 | E56: M3 | F56: 249.57 | G56: 6.83 | H56: =ROUND(G56*(1+$G$2),2) -> 8.33 | I56: =ROUND(F56*H56,2) -> 2078.92 | J56: =I56/$I$74 -> 0.0047192218
A57: 1.11.4 | B57: 93591 | C57: SINAPI | D57: TRANSPORTE COM CAMINHÃO BASCULANTE DE 14 M³, EM VIA URBANA EM LEITO NATURAL (UNIDADE: M3XKM). AF_07/2020 | E57: M3XKM | F57: 1247.85 | G57: 2.77 | H57: =ROUND(G57*(1+$G$2),2) -> 3.38 | I57: =ROUND(F57*H57,2) -> 4217.73 | J57: =I57/$I$74 -> 0.0095743961
A58: 1.12 | D58: PAVIMENTAÇÃO | I58: =SUM(I59:I65) -> 24945.51 | J58: =I58/$I$74 -> 0.056627189
A59: 1.12.1 | B59: 99064 | C59: SINAPI | D59: LOCAÇÃO DE PAVIMENTAÇÃO. AF_10/2018 | E59: M | F59: 37.58 | G59: 0.7 | H59: =ROUND(G59*(1+$G$2),2) -> 0.85 | I59: =ROUND(F59*H59,2) -> 31.94 | J59: =I59/$I$74 -> 7.2504928e-05
A60: 1.12.2 | B60: RO-43836 | C60: SEINFRA | D60: Base, com mistura na pista, de bica corrida melhorada com 2% de cimento, compactada na energia do proctor intermediário (Execução, incluindo fornecimento e transporte do cimento, fornecimento da bica corrida, espalhamento, umidecimento, homogeneização e compactação da mistura; exclui o transporte da bica corrida) | E60: m3 | F60: 25.75 | G60: 163.78 | H60: =ROUND(G60*(1+$G$2),2) -> 199.81 | I60: =ROUND(F60*H60,2) -> 5145.11 | J60: =I60/$I$74 -> 0.011679581
A61: 1.12.3 | B61: 93592 | C61: SINAPI | D61: TRANSPORTE COM CAMINHÃO BASCULANTE DE 14 M³, EM VIA URBANA EM REVESTIMENTO PRIMÁRIO (UNIDADE: M3XKM). AF_07/2020 | E61: M3XKM | F61: 1017.13 | G61: 2.4 | H61: =ROUND(G61*(1+$G$2),2) -> 2.93 | I61: =ROUND(F61*H61,2) -> 2980.19 | J61: =I61/$I$74 -> 0.0067651366
A62: 1.12.4 | B62: 101170 | C62: SINAPI | D62: EXECUÇÃO DE PAVIMENTO EM PEDRAS POLIÉDRICAS, REJUNTAMENTO COM PÓ DE PEDRA. AF_05/2020 | E62: M2 | F62: 134.07 | G62: 47.63 | H62: =ROUND(G62*(1+$G$2),2) -> 58.11 | I62: =ROUND(F62*H62,2) -> 7790.81 | J62: =I62/$I$74 -> 0.017685414
A63: 1.12.5 | B63: 94265 | C63: SINAPI | D63: GUIA (MEIO-FIO) CONCRETO, MOLDADA IN LOCO EM TRECHO RETO COM EXTRUSORA, 15 CM BASE X 30 CM ALTURA. AF_06/2016 | E63: M | F63: 75.16 | G63: 47.86 | H63: =ROUND(G63*(1+$G$2),2) -> 58.39 | I63: =ROUND(F63*H63,2) -> 4388.59 | J63: =I63/$I$74 -> 0.0099622543
A64: 1.12.6 | B64: 94273 | C64: SINAPI | D64: ASSENTAMENTO DE GUIA (MEIO-FIO) EM TRECHO RETO, CONFECCIONADA EM CONCRETO PRÉ-FABRICADO, DIMENSÕES 100X15X13X30 CM (COMPRIMENTO X BASE INFERIOR X BASE SUPERIOR X ALTURA), PARA VIAS URBANAS (USO VIÁRIO). AF_06/2016 | E64: M | F64: 9.2 | G64: 73.2 | H64: =ROUND(G64*(1+$G$2),2) -> 89.3 | I64: =ROUND(F64*H64,2) -> 821.56 | J64: =I64/$I$74 -> 0.0018649702
A65: 1.12.7 | B65: ED-14762 | C65: SEINFRA | D65: SARJETA DE CONCRETO URBANO (SCU), TIPO 1, COM FCK 15 MPA, LARGURA DE 50CM COM INCLINAÇÃO DE 3%, ESP. 7CM, PADRÃO DER-MG, EXCLUSIVE MEIO-FIO, INCLUSIVE ESCAVAÇÃO, APILAOMENTO E TRANSPORTE COM RETIRADA DO MATERIAL ESCAVADO (EM CAÇAMBA) | E65: m | F65: 75.16 | G65: 41.3 | H65: =ROUND(G65*(1+$G$2),2) -> 50.39 | I65: =ROUND(F65*H65,2) -> 3787.31 | J65: =I65/$I$74 -> 0.0085973275
A66: 1.13 | D66: SINALIZAÇÃO | I66: =SUM(I67) -> 479.05 | J66: =I66/$I$74 -> 0.0010874604
A67: 1.13.1 | B67: RO-42980 | C67: SEINFRA | D67: Placa de aço carbono com película refletiva alta intensidade prismática tipo III da ABNT - Placa quadrada (Execução, incluindo fornecimento e transporte de todos os materiais, inclusive postes de sustentação) | E67: m2 | F67: 0.5 | G67: 785.33 | H67: =ROUND(G67*(1+$G$2),2) -> 958.1 | I67: =ROUND(F67*H67,2) -> 479.05 | J67: =I67/$I$74 -> 0.0010874604
A68: 1.14 | D68: SERVIÇOS FINAIS | I68: =SUM(I69:I70) -> 890.91 | J68: =I68/$I$74 -> 0.0020223972
A69: 1.14.1 | B69: 104641 | C69: SINAPI | D69: PINTURA LÁTEX ACRÍLICA ECONÔMICA, APLICAÇÃO MANUAL EM PAREDES, DUAS DEMÃOS. AF_04/2023 | E69: M2 | F69: 42.72 | G69: 8.62 | H69: =ROUND(G69*(1+$G$2),2) -> 10.52 | I69: =ROUND(F69*H69,2) -> 449.41 | J69: =I69/$I$74 -> 0.0010201766
A70: 1.14.2 | B70: ED-50266 | C70: SEINFRA | D70: LIMPEZA FINAL PARA ENTREGA DA OBRA | E70: m2 | F70: 50.4 | G70: 7.18 | H70: =ROUND(G70*(1+$G$2),2) -> 8.76 | I70: =ROUND(F70*H70,2) -> 441.5 | J70: =I70/$I$74 -> 0.0010022206
A71: 1.15 | D71: ADMINISTRAÇÃO LOCAL | I71: =SUM(I72) -> 14461.98 | J71: =I71/$I$74 -> 0.032829205
A72: 1.15.1 | B72: 001 | C72: Composição | D72: ADMINISTRAÇÃO LOCAL | E72: MÊS | F72: 6 | G72: 1975.68 | H72: =ROUND(G72*(1+$G$2),2) -> 2410.33 | I72: =ROUND(F72*H72,2) -> 14461.98 | J72: =I72/$I$74 -> 0.032829205
A74: TOTAL | I74: =SUM(I7,I10,I13,I15,I22,I29,I32,I36,I41,I48,I53,I58,I66,I68,I71) -> 440521.78 | J74: =SUM(J7,J10,J13,J15,J22,J29,J32,J36,J41,J48,J53,J58,J66,J68,J71) -> 1 | K74: - | L74: =SUM(L6) -> #REF! | M74: =L74/$I$74 -> #REF! | N74: - | O74: =SUM(O6) -> #REF! | P74: =O74/$I$74 -> #REF! | Q74: - | R74: =SUM(R6) -> #REF! | S74: =R74/$I$74 -> #REF! | T74: - | U74: =SUM(U6) -> #REF! | V74: =U74/$I$74 -> #REF! | W74: - | X74: =SUM(X6) -> #REF! | Y74: =X74/$I$74 -> #REF! | Z74: - | AA74: =SUM(AA6) -> #REF! | AB74: =AA74/$I$74 -> #REF! | AC74: =SUM(L74,O74,R74,U74,X74,AA74) -> #REF! | AD74: =AC74/I74 -> #REF! | AF74: =AC74-I74 -> #REF! | AG74: =IF(AF74=0,"CONCLUÍDO",IF(AF74<0,"À FINALIZAR","ATENÇÃO!!!")) -> #REF!
A77: Carmo da Mata, XX de XXXX de 2024 | L77: =SUM(G7:G50) -> 31481.53
A80: __________________________________________________________
A81: XXXXXXXXXXXXXXXXXXXX
A82: Engenheiro Civil - CREA XXXX/D

Sheet CRONOGRAMA
B5: OBRA: CONSTRUÇÃO DE PONTE NA FORQUILHA/BATATAL | F5: VALOR: | G5: =E42 -> 440521.78 | I5: DATA: XX/XX/XXXX
F6: LOCAL: | G6: Carmo da Mata/MG | I6: PRAZO DA OBRA: 06 meses
B7: CRONOGRAMA FÍSICO FINANCEIRO - RESUMO
B8: Item | C8: Descrição | D8: FÍSICO / FINANCEIRO | E8: Total Por Etapa | F8: 1° Mês | G8: 2° Mês | H8: 3° Mês | I8: 4° Mês | J8: 5° Mês | K8: 6° Mês
B9: 1 | C9: ='PLANILHA ORÇAMENTÁRIA'!D6 -> CONSTRUÇÃO DE PONTE NA FORQUILHA/BATATAL
B11: ='PLANILHA ORÇAMENTÁRIA'!A7 -> 1.1 | C11: ='PLANILHA ORÇAMENTÁRIA'!$D$7 -> SERVIÇOS PRELIMINARES | D11: FÍSICO % | E11: =E12/$E$42 -> 0.0066528379 | F11: 1
D12: FINANCEIRO | E12: ='PLANILHA ORÇAMENTÁRIA'!$I$7 -> 2930.72 | F12: =F11*$E$12 -> 2930.72
B13: ='PLANILHA ORÇAMENTÁRIA'!A10 -> 1.2 | C13: ='PLANILHA ORÇAMENTÁRIA'!D10 -> CANTEIRO DE OBRAS | D13: FÍSICO % | E13: =E14/$E$42 -> 0.046400521 | F13: 1
D14: FINANCEIRO | E14: ='PLANILHA ORÇAMENTÁRIA'!$I$10 -> 20440.44 | F14: =F13*$E$14 -> 20440.44
B15: ='PLANILHA ORÇAMENTÁRIA'!A13 -> 1.3 | C15: ='PLANILHA ORÇAMENTÁRIA'!D13 -> LIGAÇÕES PROVISÓRIAS | D15: FÍSICO % | E15: =E16/$E$42 -> 0.0033364071 | F15: 1
D16: FINANCEIRO | E16: ='PLANILHA ORÇAMENTÁRIA'!$I$13 -> 1469.76 | F16: =F15*$E$16 -> 1469.76
B17: ='PLANILHA ORÇAMENTÁRIA'!A15 -> 1.4 | C17: ='PLANILHA ORÇAMENTÁRIA'!D15 -> FUNDAÇÕES - ESTACAS | D17: FÍSICO % | E17: =E18/$E$42 -> 0.16220789 | F17: 1
D18: FINANCEIRO | E18: ='PLANILHA ORÇAMENTÁRIA'!$I$15 -> 71456.11 | F18: =F17*$E$18 -> 71456.11
B19: ='PLANILHA ORÇAMENTÁRIA'!A22 -> 1.5 | C19: ='PLANILHA ORÇAMENTÁRIA'!D22 -> FUNDAÇÕES - BLOCOS | D19: FÍSICO % | E19: =E20/$E$42 -> 0.05065468 | G19: 1
D20: FINANCEIRO | E20: ='PLANILHA ORÇAMENTÁRIA'!$I$22 -> 22314.49 | G20: =G19*$E$20 -> 22314.49
B21: ='PLANILHA ORÇAMENTÁRIA'!A29 -> 1.6 | C21: ='PLANILHA ORÇAMENTÁRIA'!D29 -> PILARES | D21: FÍSICO % | E21: =E22/$E$42 -> 0.050691909 | G21: 1
D22: FINANCEIRO | E22: ='PLANILHA ORÇAMENTÁRIA'!$I$29 -> 22330.89 | G22: =G21*$E$22 -> 22330.89
B23: ='PLANILHA ORÇAMENTÁRIA'!A32 -> 1.7 | C23: ='PLANILHA ORÇAMENTÁRIA'!D32 -> ALAS | D23: FÍSICO % | E23: =E24/$E$42 -> 0.26567224 | H23: 1
D24: FINANCEIRO | E24: ='PLANILHA ORÇAMENTÁRIA'!$I$32 -> 117034.41 | H24: =H23*$E$24 -> 117034.41
B25: ='PLANILHA ORÇAMENTÁRIA'!A36 -> 1.8 | C25: ='PLANILHA ORÇAMENTÁRIA'!D36 -> VIGAS METÁLICAS | D25: FÍSICO % | E25: =E26/$E$42 -> 0.16853342 | I25: 1
D26: FINANCEIRO | E26: ='PLANILHA ORÇAMENTÁRIA'!$I$36 -> 74242.64 | I26: =I25*$E$26 -> 74242.64
B27: ='PLANILHA ORÇAMENTÁRIA'!A41 -> 1.9 | C27: ='PLANILHA ORÇAMENTÁRIA'!D41 -> TABULEIRO | D27: FÍSICO % | E27: =E28/$E$42 -> 0.085808266 | J27: 1
D28: FINANCEIRO | E28: ='PLANILHA ORÇAMENTÁRIA'!$I$41 -> 37800.41 | J28: =J27*$E$28 -> 37800.41
B29: ='PLANILHA ORÇAMENTÁRIA'!A48 -> 1.10 | C29: ='PLANILHA ORÇAMENTÁRIA'!D48 -> GUARDA RODAS NEW JERSEY | D29: FÍSICO % | E29: =E30/$E$42 -> 0.034962267 | K29: 1
D30: FINANCEIRO | E30: ='PLANILHA ORÇAMENTÁRIA'!$I$48 -> 15401.64 | K30: =K29*$E30 -> 15401.64
B31: ='PLANILHA ORÇAMENTÁRIA'!A53 -> 1.11 | C31: ='PLANILHA ORÇAMENTÁRIA'!D53 -> TERRAPLENAGEM | D31: FÍSICO % | E31: =E32/$E$42 -> 0.032513307 | K31: 1
D32: FINANCEIRO | E32: ='PLANILHA ORÇAMENTÁRIA'!$I$53 -> 14322.82 | K32: =K31*$E32 -> 14322.82
B33: ='PLANILHA ORÇAMENTÁRIA'!A58 -> 1.12 | C33: ='PLANILHA ORÇAMENTÁRIA'!D58 -> PAVIMENTAÇÃO | D33: FÍSICO % | E33: =E34/$E$42 -> 0.056627189 | K33: 1
D34: FINANCEIRO | E34: ='PLANILHA ORÇAMENTÁRIA'!$I$58 -> 24945.51 | K34: =K33*$E34 -> 24945.51
B35: ='PLANILHA ORÇAMENTÁRIA'!A66 -> 1.13 | C35: ='PLANILHA ORÇAMENTÁRIA'!D66 -> SINALIZAÇÃO | D35: FÍSICO % | E35: =E36/$E$42 -> 0.0010874604 | K35: 1
D36: FINANCEIRO | E36: ='PLANILHA ORÇAMENTÁRIA'!$I$66 -> 479.05 | K36: =K35*$E36 -> 479.05
B37: ='PLANILHA ORÇAMENTÁRIA'!A68 -> 1.14 | C37: ='PLANILHA ORÇAMENTÁRIA'!D68 -> SERVIÇOS FINAIS | D37: FÍSICO % | E37: =E38/$E$42 -> 0.0020223972 | K37: 1
D38: FINANCEIRO | E38: ='PLANILHA ORÇAMENTÁRIA'!$I$68 -> 890.91 | K38: =K37*$E38 -> 890.91
B39: ='PLANILHA ORÇAMENTÁRIA'!A71 -> 1.15 | C39: ='PLANILHA ORÇAMENTÁRIA'!D71 -> ADMINISTRAÇÃO LOCAL | D39: FÍSICO % | E39: =E40/$E$42 -> 0.032829205 | F39: =SUM(F38,F12,F14,F16,F18,F20,F22,F24,F26,F28,F30,F32,F34,F36)/($E$42-$E$40) -> 0.22601764 | G39: =SUM(G38,G12,G14,G16,G18,G20,G22,G24,G26,G28,G30,G32,G34,G36)/($E$42-$E$40) -> 0.10478665 | H39: =SUM(H38,H12,H14,H16,H18,H20,H22,H24,H26,H28,H30,H32,H34,H36)/($E$42-$E$40) -> 0.2746901 | I39: =SUM(I38,I12,I14,I16,I18,I20,I22,I24,I26,I28,I30,I32,I34,I36)/($E$42-$E$40) -> 0.17425404 | J39: =SUM(J38,J12,J14,J16,J18,J20,J22,J24,J26,J28,J30,J32,J34,J36)/($E$42-$E$40) -> 0.088720903 | K39: =SUM(K38,K12,K14,K16,K18,K20,K22,K24,K26,K28,K30,K32,K34,K36)/($E$42-$E$40) -> 0.13153067
D40: FINANCEIRO | E40: ='PLANILHA ORÇAMENTÁRIA'!$I$71 -> 14461.98 | F40: =ROUND(F39*$E$40,2) -> 3268.66 | G40: =ROUND(G39*$E$40,2) -> 1515.42 | H40: =ROUND(H39*$E$40,2) -> 3972.56 | I40: =ROUND(I39*$E$40,2) -> 2520.06 | J40: =ROUND(J39*$E$40,2) -> 1283.08 | K40: =ROUND(K39*$E$40,2) -> 1902.19
B41: TOTAL | D41: FÍSICO % | E41: =SUM(E11,E13,E15,E17,E19,E21,E23,E25,E27,E39) -> 0.87278738 | F41: =F42/$E$42 -> 0.22601763 | G41: =G42/$E$42 -> 0.10478665 | H41: =H42/$E$42 -> 0.2746901 | I41: =I42/$E$42 -> 0.17425404 | J41: =J42/$E$42 -> 0.088720903 | K41: =K42/$E$42 -> 0.13153066
D42: FINANCEIRO | E42: =SUM(E12,E14,E16,E18,E20,E22,E24,E26,E28,E30,E32,E34,E36,E38,E40) -> 440521.78 | F42: =SUM(F12,F14,F16,F18,F20,F22,F24,F26,F28,F30,F32,F34,F36,F38,F40) -> 99565.69 | G42: =SUM(G12,G14,G16,G18,G20,G22,G24,G26,G28,G30,G32,G34,G36,G38,G40) -> 46160.8 | H42: =SUM(H12,H14,H16,H18,H20,H22,H24,H26,H28,H30,H32,H34,H36,H38,H40) -> 121006.97 | I42: =SUM(I12,I14,I16,I18,I20,I22,I24,I26,I28,I30,I32,I34,I36,I38,I40) -> 76762.7 | J42: =SUM(J12,J14,J16,J18,J20,J22,J24,J26,J28,J30,J32,J34,J36,J38,J40) -> 39083.49 | K42: =SUM(K12,K14,K16,K18,K20,K22,K24,K26,K28,K30,K32,K34,K36,K38,K40) -> 57942.12
D44: Porcentagem Acumulado | F44: =F41 -> 0.22601763 | G44: =F44+G41 -> 0.33080428 | H44: =G44+H41 -> 0.60549438 | I44: =H44+I41 -> 0.77974842 | J44: =I44+J41 -> 0.86846932 | K44: =J44+K41 -> 0.99999998
D45: Custo Acumulado | F45: =F42 -> 99565.69 | G45: =F45+G42 -> 145726.49 | H45: =G45+H42 -> 266733.46 | I45: =H45+I42 -> 343496.16 | J45: =I45+J42 -> 382579.65 | K45: =J45+K42 -> 440521.77
B48: Carmo da Mata, XX de XXX de 2024
B49: ________________________________________________________________________________
B50: XXXXXXXXXXXXX
B51: Engenheiro Civil - CREA XXXXX/D
