Workbook
Name ___sub1: #REF!
Name ___sub2: #REF!
Name ___sub3: #REF!
Name __sub1: #REF!
Name __sub2: #REF!
Name __sub3: #REF!
Name _sub1: #REF!
Name _sub2: #REF!
Name _sub3: #REF!
Name a: #REF!
Name a: #REF!
Name AREA: #REF!
Name AREA: #REF!
Name B: #REF!
Name B: #REF!
Name BDI: #REF!
Name BDI: #REF!
Name DOLAR: [1]INSUMOS!$G$8
Name ersdcefgbrnghrbgbrgfbgfwbvbfgvwfv: #REF!
Name Excel_BuiltIn_Print_Area_2: #REF!
Name Excel_BuiltIn_Print_Area_2_1: #REF!
Name Excel_BuiltIn_Print_Area_2_1_1: #REF!
Name Excel_BuiltIn_Print_Area_2_1_1_1: #REF!
Name Excel_BuiltIn_Print_Area_4: #REF!
Name leosde: #REF!
Name NCOMPOSICOES: 7
Name NCOTACOES: 15
Name obra: #REF!
Name obra: #REF!
Name obra1: #REF!
Name obra1: #REF!
Name obra2: #REF!
Name obra2: #REF!
Name obra3: #REF!
Name obra3: #REF!
Name obra4: #REF!
Name obra4: #REF!
Name obra5: #REF!
Name obra5: #REF!
Name P.1: #REF!
Name P.1: #REF!
Name P.10: #REF!
Name P.10: #REF!
Name P.11: #REF!
Name P.11: #REF!
Name P.12: #REF!
Name P.12: #REF!
Name P.13: #REF!
Name P.13: #REF!
Name P.14: #REF!
Name P.14: #REF!
Name P.15: #REF!
Name P.15: #REF!
Name P.2: #REF!
Name P.2: #REF!
Name P.3: #REF!
Name P.3: #REF!
Name P.4: #REF!
Name P.4: #REF!
Name P.5: #REF!

Sheet Planilha Orcamentária
A2: PLANILHA ORÇAMENTÁRIA DE CUSTOS
A3: PREFEITURA MUNICIPAL DE CRUCILÂNDIA/MG | F3: DOC Nº: | H3: 01/04.
A4: OBRA:PAVIMENTAÇÃO ASFALTICA. | F4: DATA: | H4: =TODAY() -> 45258
A5: LOCAL: ESTRADA RURAL DE ACESSO DO MUNICÍPIO DE CRUCILÂNDIA AO POVOADO DE SESMARIAS- ZONA RURAL, MUNICÍPIO DE CRUCILÂNDIA/MG. | F5: FORMA DE EXECUÇÃO:
A6: REGIÃO/MÊS DE REFERÊNCIA: SETOP/SEINFRA - REGIÃO CENTRAL - AGOSTO/2023 - COM DESONERAÇÃO | F6: ( ) | G6: DIRETA | H6: ( X ) | I6: INDIRETA
A7: *DEMONSTRATIVO DE BDI EXTRAÍDO DA TABELA DE REFERÊNCIA (SETOP/SEINFRA) ACIMA RELACIONADA - PÁG. 15. | F7: % ISS MUNICIPAL: | G7: 0.05 | H7: BDI: | I7: 0.2675
A9: ITEM | B9: CÓDIGO | C9: CÓDIGO | D9: DESCRIÇÃO | E9: UNIDADE | F9: QUANTIDADE | G9: PREÇO UNITÁRIO S/ BDI | H9: PREÇO UNITÁRIO C/ BDI | I9: PREÇO TOTAL
A10: 1.0 | D10: SERVIÇOS PRELIMINARES | H10: =ROUND(G10+(G10*$I$7),2) -> 0 | I10: =SUM(I11:I11) -> 1732.85
A11: 1.1 | B11: SEINFRA | C11: ED-28427 | D11: FORNECIMENTO E COLOCAÇÃO DE PLACA DE OBRA EM CHAPA GALVANIZADA #26, ESP. 0,45MM, DIMENSÃO (3X1,5)M, PLOTADA COM ADESIVO VINÍLICO, AFIXADA COM REBITES 4,8X40MM, EM ESTRUTURA METÁLICA DE METALON 20X20MM, ESP. 1,25MM, INCLUSIVE SUPORTE EM EUCALIPTO AUTOCLAVADO PINTADO COM TINTA PVA DUAS (2) DEMÃOS | E11: U | F11: ='Memória de Cálculo'!B14 -> 1 | G11: 1367.14 | H11: =ROUND(G11+(G11*$I$7),2) -> 1732.85 | I11: =ROUND((F11*H11),2) -> 1732.85
A13: 2.0 | D13: DRENAGEM PLUVIAL | I13: =SUM(I14:I16) -> 166296.38
A14: 2.1 | B14: SEINFRA | C14: RO-40647 | D14: Sarjeta de concreto em corte tipo DR.SCC-x/y. Largura = 50 cm tipo 40/ 10 (Execução, incluindo escavação, fornecimento e transporte de todos os materiais) | E14: M | F14: ='Memória de Cálculo'!E29 -> 3060 | G14: 42.39 | H14: =ROUND(G14+(G14*$I$7),2) -> 53.73 | I14: =ROUND((F14*H14),2) -> 164413.8
A15: 2.2 | B15: SICRO | C15: 2003385 | D15: Entrada para descida d’água - EDA 01 - areia e brita comerciais | E15: UN | F15: ='Memória de Cálculo'!E34 -> 14 | G15: 56.83 | H15: =ROUND(G15+(G15*$I$7),2) -> 72.03 | I15: =ROUND((F15*H15),2) -> 1008.42
A16: 2.3 | B16: SICRO | C16: 2003391 | D16: Descida d’água de aterros tipo rápido - DAR 02 - areia e brita comerciais | E16: M | F16: ='Memória de Cálculo'!E37 -> 14 | G16: 49.26 | H16: =ROUND(G16+(G16*$I$7),2) -> 62.44 | I16: =ROUND((F16*H16),2) -> 874.16
A17: =ROUND(G17+(G17*$I$7),2) -> 0
A18: 3.0 | D18: TERRAPLENAGEM | H18: =ROUND(G18+(G18*$I$7),2) -> 0 | I18: =SUM(I19:I24) -> 201422.68
A19: 3.1 | B19: SEINFRA | C19: RO-41081 | D19: REGULARIZAÇÃO DO SUB-LEITO (PROCTOR NORMAL) | E19: M² | F19: ='Memória de Cálculo'!E60 -> 10710 | G19: 1.18 | H19: =ROUND(G19+(G19*$I$7),2) -> 1.5 | I19: =ROUND((F19*H19),2) -> 16065
A20: 3.2 | B20: SEINFRA | C20: RO-43113 | D20: BASE DE SOLO SEM MISTURA, COMPACTADA NA ENERGIA DO PROCTOR INTERMEDIÁRIO (EXECUÇÃO, INCLUINDO ESCAVAÇÃO, CARGA, DESCARGA, ESPALHAMENTO, UMIDECIMENTO E COMPACTAÇÃO DO MATERIAL; EXCLUI AQUISIÇÃO E TRANSPORTE DO MATERIAL) | E20: M³ | F20: ='Memória de Cálculo'!C67 -> 1606.5 | G20: 21.91 | H20: =ROUND(G20+(G20*$I$7),2) -> 27.77 | I20: =ROUND((F20*H20),2) -> 44612.51
A21: 3.3 | B21: SEINFRA | C21: ED-49540 | D21: ENROCAMENTO MANUAL COM PEDRA DE MÃO JOGADA, INCLUSIVE FORNECIMENTO | E21: M³ | F21: ='Memória de Cálculo'!C74 -> 480 | G21: 158.65 | H21: =ROUND(G21+(G21*$I$7),2) -> 201.09 | I21: =ROUND((F21*H21),2) -> 96523.2
A22: 3.4 | B22: - | C22: - | D22: FORNECIMENTO DO MATERIAL DE BASE EM CASCALHO | E22: M³ | F22: ='Memória de Cálculo'!E81 -> 1606.5 | G22: A CARGO DA PREFEITURA MUNICIPAL
A23: 3.5 | B23: SEINFRA | C23: RO-41337 | D23: TRANSPORTE DE MATERIAL DE JAZIDA PARA CONSERVAÇÃO. DISTÂNCIA MÉDIA DE TRANSPORTE <= 10,00 (CASCALHO) | E23: M³XKM | F23: ='Memória de Cálculo'!E85 -> 4498.2 | G23: 2.03 | H23: =ROUND(G23+(G23*$I$7),2) -> 2.57 | I23: =ROUND((F23*H23),2) -> 11560.37
A24: 3.6 | B24: SEINFRA | C24: RO-41351 | D24: Transporte de agregados para conservação. Distância média de transporte de 40,10 a 50,00 km (PEDRA DE MÃO) | E24: M³XKM | F24: ='Memória de Cálculo'!D92 -> 21072 | G24: 1.22 | H24: =ROUND(G24+(G24*$I$7),2) -> 1.55 | I24: =ROUND((F24*H24),2) -> 32661.6
A25: =ROUND(G25+(G25*$I$7),2) -> 0
A26: 4.0 | D26: PAVIMENTAÇÃO | H26: =ROUND(G26+(G26*$I$7),2) -> 0 | I26: =SUM(I27:I31) -> 654273.75
A27: 4.1 | B27: SEINFRA | C27: RO-51228 | D27: Imprimação (Execução e fornecimento do material betuminoso, exclusive transporte do material betuminoso) | E27: M² | F27: ='Memória de Cálculo'!E107 -> 9180 | G27: 3.53 | H27: =ROUND(G27+(G27*$I$7),2) -> 4.47 | I27: =ROUND((F27*H27),2) -> 41034.6
A28: 4.2 | B28: SEINFRA | C28: RO-51229 | D28: PINTURA DE LIGAÇÃO (EXECUÇÃO E FORNECIMENTO DO MATERIAL BETUMINOSO, EXCLUSIVE TRANSPORTE DO MATERIAL BETUMINOSO) | E28: M² | F28: ='Memória de Cálculo'!E120 -> 9180 | G28: 1.87 | H28: =ROUND(G28+(G28*$I$7),2) -> 2.37 | I28: =ROUND((F28*H28),2) -> 21756.6
A29: 4.3 | B29: SEINFRA | C29: ED-7623 | D29: EXECUÇÃO E APLICAÇÃO DE CONCRETO BETUMINOSO USINADO A QUENTE (CBUQ), MASSA COMERCIAL, INCLUINDO FORNECIMENTO E TRANSPORTE DOS AGREGADOS E MATERIAL BETUMINOSO, EXCLUSIVE TRANSPORTE DA MASSA ASFÁLTICA ATÉ A PISTA | E29: M³ | F29: ='Memória de Cálculo'!E133 -> 275.4 | G29: 1530.55 | H29: =ROUND(G29+(G29*$I$7),2) -> 1939.97 | I29: =ROUND((F29*H29),2) -> 534267.74
A30: 4.4 | B30: SEINFRA | C30: RO-41376 | D30: TRANSPORTE DE MATERIAL DE QUALQUER NATUREZA. DISTÂNCIA MÉDIA DE TRANSPORTE >= 50,10 KM ) (IMPRIMAÇÃO E PINTURA DE LIGAÇÃO) | E30: TXKM | F30: ='Memória de Cálculo'!F144 -> 1877.1264 | G30: 0.77 | H30: =ROUND(G30+(G30*$I$7),2) -> 0.98 | I30: =ROUND((F30*H30),2) -> 1839.58
A31: 4.5 | B31: SEINFRA | C31: RO-14038 | D31: TRANSPORTE DE CONCRETO BETUMINOSO USINADO A QUENTE. DISTÂNCIA MÉDIA DE TRANSPORTE > 50,00 KM ( MASSA ASFALTICA VOLUME COMPACTADO) | E31: M³XKM | F31: ='Memória de Cálculo'!F153 -> 23464.08 | G31: 1.86 | H31: =ROUND(G31+(G31*$I$7),2) -> 2.36 | I31: =F31*H31 -> 55375.229
A33: 5.0 | D33: SINALIZAÇÃO VIÁRIA | H33: =ROUND(G33+(G33*$I$7),2) -> 0 | I33: =SUM(I34:I36) -> 29571.19
A34: 5.1 | B34: SEINFRA | C34: RO-41841 | D34: PLACA DE AÇO CARBONO COM PELÍCULA REFLETIVA GRAU TÉCNICO TIPO I DA ABNT - PLACA CIRCULAR (EXECUÇÃO, INCLUINDO FORNECIMENTO E TRANSPORTE DE TODOS OS MATERIAIS, INCLUSIVE POSTE DE SUSTENTAÇÃO) | E34: M2 | F34: 0.94 | G34: 648.59 | H34: =ROUND(G34+(G34*$I$7),2) -> 822.09 | I34: =ROUND((F34*H34),2) -> 772.76
A35: 5.2 | B35: SEINFRA | C35: RO-41237 | D35: LINHAS DE RESINA ACRILICA DE 0,6MM DE ESPESSURA E LARGURA = 0,10M (EXECUÇÃO, INCLUINDO PRÉ-MARCAÇÃO, FORNECIMENTO E TRANSPORTE DE TODOS OS MATERIAIS) | E35: M | F35: ='Memória de Cálculo'!F177 -> 4590 | G35: 2.93 | H35: =ROUND(G35+(G35*$I$7),2) -> 3.71 | I35: =ROUND((F35*H35),2) -> 17028.9
A36: 5.2 | B36: SEINFRA | C36: RO-41230 | D36: Tacha refletiva tipo SHTRP, com catadióptrico nas duas faces (Execução , incluindo fornecimento, colocação e transporte de todos os materiais) | E36: M | F36: ='Memória de Cálculo'!F190 -> 382.5 | G36: 24.28 | H36: =ROUND(G36+(G36*$I$7),2) -> 30.77 | I36: =ROUND((F36*H36),2) -> 11769.53
A38: TOTAL GERAL DA OBRA | I38: =I10+J5+I13+I18+I26+I33 -> 1053296.8
C42: Genilson Gonçalves Da Silva
C44: Engenheiro Civil
C45: CREA-MG Nº: 237.650/D
C48: Ilaerson Ferreira De Souza
C49: Prefeito Municipal de Santa Crucilândia/MG

Sheet Cronograma
A2: CRONOGRAMA FÍSICO-FINANCEIRO
A3: ='Planilha Orcamentária'!A3 -> PREFEITURA MUNICIPAL DE CRUCILÂNDIA/MG | E3: VALOR DO CONVÊNIO: | G3: =D18 -> 1053296.8 | H3: DOC Nº: 04/04.
A4: ='Planilha Orcamentária'!A5 -> LOCAL: ESTRADA RURAL DE ACESSO DO MUNICÍPIO DE CRUCILÂNDIA AO POVOADO DE SESMARIAS- ZONA RURAL, MUNICÍPIO DE CRUCILÂNDIA/MG. | E4: PRAZO PREVISTO PARA EXECUÇÃO DA OBRA: 4 MESES
A5: ='Planilha Orcamentária'!A4 -> OBRA:PAVIMENTAÇÃO ASFALTICA.
A6: ITEM | B6: ETAPAS/DESCRIÇÃO | C6: FÍSICO/ FINANCEIRO | D6: TOTAL ETAPAS | E6: MÊS 1 | F6: MÊS 2 | G6: MÊS 3 | H6: MÊS 4
A7: ='Planilha Orcamentária'!A10 -> 1.0 | B7: ='Planilha Orcamentária'!D10 -> SERVIÇOS PRELIMINARES | C7: Físico % | D7: =D8/$D$18 -> 0.0016451677 | E7: 1 | G7: 0 | H7: 0
C8: Financeiro | D8: ='Planilha Orcamentária'!I10 -> 1732.85 | E8: =E7*$D$8 -> 1732.85 | G8: =G7*$D$8 -> 0 | H8: =H7*$D$8 -> 0
A9: ='Planilha Orcamentária'!A13 -> 2.0 | B9: ='Planilha Orcamentária'!D13 -> DRENAGEM PLUVIAL | C9: Físico % | D9: =D10/$D$18 -> 0.15788178 | E9: 0 | F9: 0 | G9: 0 | H9: 1
C10: Financeiro | D10: ='Planilha Orcamentária'!I13 -> 166296.38 | E10: =E9*$D$10 -> 0 | F10: =F9*$D$10 -> 0 | G10: =G9*$D$10 -> 0 | H10: =H9*$D$10 -> 166296.38
A11: ='Planilha Orcamentária'!A18 -> 3.0 | B11: ='Planilha Orcamentária'!D18 -> TERRAPLENAGEM | C11: Físico % | D11: =D12/$D$18 -> 0.19123069 | E11: 0.5 | F11: 0.5 | G11: 0 | H11: 0
C12: Financeiro | D12: ='Planilha Orcamentária'!I18 -> 201422.68 | E12: =E11*$D$12 -> 100711.34 | F12: =F11*$D$12 -> 100711.34 | G12: =G11*$D$12 -> 0 | H12: =H11*$D$12 -> 0
A13: ='Planilha Orcamentária'!A26 -> 4.0 | B13: ='Planilha Orcamentária'!D26 -> PAVIMENTAÇÃO | C13: Físico % | D13: =D14/$D$18 -> 0.62116748 | E13: 0.3 | F13: 0.3 | G13: 0.3 | H13: 0.1
C14: Financeiro | D14: ='Planilha Orcamentária'!I26 -> 654273.75 | E14: =E13*$D$14 -> 196282.12 | F14: =F13*$D$14 -> 196282.12 | G14: =G13*$D$14 -> 196282.12 | H14: =H13*$D$14 -> 65427.375
A15: ='Planilha Orcamentária'!A33 -> 5.0 | B15: ='Planilha Orcamentária'!D33 -> SINALIZAÇÃO VIÁRIA | C15: Físico % | D15: =D16/$D$18 -> 0.028074887 | E15: 0 | F15: 0 | G15: 0 | H15: 1
C16: Financeiro | D16: ='Planilha Orcamentária'!I33 -> 29571.19 | E16: =E15*$D$16 -> 0 | F16: =F15*$D$16 -> 0 | G16: =G15*$D$16 -> 0 | H16: =H15*$D$16 -> 29571.19
A17: TOTAL | C17: Físico % | D17: =D7+D9+D11+D13+D15 -> 1 | E17: =E18/$D$18 -> 0.28361076 | F17: =F18/$D$18 -> 0.28196559 | G17: =G18/$D$18 -> 0.18635024 | H17: =H18/$D$18 -> 0.24807341
C18: Financeiro | D18: =D8+D10+D12+D14+D16 -> 1053296.8 | E18: =E8+E10+E12+E14+E16 -> 298726.31 | F18: =F8+F10+F12+F14+F16 -> 296993.46 | G18: =G8+G10+G12+G14+G16 -> 196282.12 | H18: =H8+H10+H12+H14+H16 -> 261294.94
B22: ='Planilha Orcamentária'!C42 -> Genilson Gonçalves Da Silva
B23: ='Planilha Orcamentária'!C44 -> Engenheiro Civil
B24: ='Planilha Orcamentária'!C45 -> CREA-MG Nº: 237.650/D
B27: ='Planilha Orcamentária'!C48 -> Ilaerson Ferreira De Souza
B28: {='Planilha Orcamentária'!C49:D49} -> Prefeito Municipal de Santa Crucilândia/MG | C28: 0

Sheet Memória de Cálculo
A2: MEMÓRIA DE CÁLCULO DE QUANTITATIVOS
A3: ='Planilha Orcamentária'!$A$3 -> PREFEITURA MUNICIPAL DE CRUCILÂNDIA/MG
A4: ='Planilha Orcamentária'!$A$5 -> LOCAL: ESTRADA RURAL DE ACESSO DO MUNICÍPIO DE CRUCILÂNDIA AO POVOADO DE SESMARIAS- ZONA RURAL, MUNICÍPIO DE CRUCILÂNDIA/MG.
A5: ='Planilha Orcamentária'!A4 -> OBRA:PAVIMENTAÇÃO ASFALTICA.
A7: Resp. Técnico: | C7: ='Planilha Orcamentária'!C42 -> Genilson Gonçalves Da Silva | E7: ='Planilha Orcamentária'!C44 -> Engenheiro Civil
A8: ITEM | B8: CÓDIGO | C8: SERVIÇOS
A10: ='Planilha Orcamentária'!A10 -> 1.0 | C10: ='Planilha Orcamentária'!D10 -> SERVIÇOS PRELIMINARES
A12: ='Planilha Orcamentária'!A11 -> 1.1 | B12: ='Planilha Orcamentária'!C11 -> ED-28427 | C12: ='Planilha Orcamentária'!D11 -> FORNECIMENTO E COLOCAÇÃO DE PLACA DE OBRA EM CHAPA GALVANIZADA #26, ESP. 0,45MM, DIMENSÃO (3X1,5)M, PLOTADA COM ADESIVO VINÍLICO, AFIXADA COM REBITES 4,8X40MM, EM ESTRUTURA METÁLICA DE METALON 20X20MM, ESP. 1,25MM, INCLUSIVE SUPORTE EM EUCALIPTO AUTOCLAVADO PINTADO COM TINTA PVA DUAS (2) DEMÃOS
A14: Quantidade = | B14: 1 | C14: U
A16: ='Planilha Orcamentária'!A13 -> 2.0 | C16: ='Planilha Orcamentária'!D13 -> DRENAGEM PLUVIAL
A19: ='Planilha Orcamentária'!A14 -> 2.1 | B19: ='Planilha Orcamentária'!C14 -> RO-40647 | C19: ='Planilha Orcamentária'!D14 -> Sarjeta de concreto em corte tipo DR.SCC-x/y. Largura = 50 cm tipo 40/ 10 (Execução, incluindo escavação, fornecimento e transporte de todos os materiais)
A21: TRECHO 1
A22: ESTENSÃO M | C22: LADOS DA VIA | E22: EXTENSÃO NO TRECHO (M)
A23: 1330 | C23: 2 | E23: =A23*C23 -> 2660
A24: TRECHO 2
A25: ESTENSÃO M | C25: LADOS DA VIA | E25: EXTENSÃO NO TRECHO (M)
A26: 200 | C26: 2 | E26: =A26*C26 -> 400
E28: EXTENSÃO TOTAL NOS TRECHOS (M)
E29: =E23+E26 -> 3060
A31: 2.2 | B31: 2003385 | C31: ='Planilha Orcamentária'!D15 -> Entrada para descida d’água - EDA 01 - areia e brita comerciais
A33: TRECHO 1 | C33: TRECHO 2 | E33: EXTENSÃO NO TRECHO (M)
A34: 10 | C34: 4 | E34: =A34+C34 -> 14
E36: EXTENSÃO TOTAL NOS TRECHOS (M)
E37: =E34 -> 14
A39: 2.3 | B39: 2003391 | C39: ='Planilha Orcamentária'!D16 -> Descida d’água de aterros tipo rápido - DAR 02 - areia e brita comerciais
A41: =A33 -> TRECHO 1 | C41: =C33 -> TRECHO 2 | E41: EXTENSÃO NO TRECHO (M)
A42: 10 | C42: 4 | E42: =A42+C42 -> 14
E44: EXTENSÃO TOTAL NOS TRECHOS (M)
E45: =E42 -> 14
A47: ='Planilha Orcamentária'!A18 -> 3.0 | C47: ='Planilha Orcamentária'!D18 -> TERRAPLENAGEM
A49: ='Planilha Orcamentária'!A19 -> 3.1 | B49: ='Planilha Orcamentária'!C19 -> RO-41081 | C49: ='Planilha Orcamentária'!D19 -> REGULARIZAÇÃO DO SUB-LEITO (PROCTOR NORMAL)
A51: TRECHO 1
A52: EXTENSÃO DO TRECHO (M) | C52: LARGURA DA REGULARIZAÇÃO | E52: ÁREA DO TRECHO (M²)
A53: 1330 | C53: =6+0.5+0.5 -> 7 | E53: =A53*C53 -> 9310
A55: TRECHO 2
A56: COMPRIMENTO (M) | C56: LARGURA MEDIA (M) | E56: ÁREA (M²)
A57: 200 | C57: 7 | E57: =A57*C57 -> 1400
E59: ÁREA TOTAL DOS TRECHOS (M²)
E60: =E53+E57 -> 10710
A62: ='Planilha Orcamentária'!A20 -> 3.2 | B62: ='Planilha Orcamentária'!C20 -> RO-43113 | C62: ='Planilha Orcamentária'!D20 -> BASE DE SOLO SEM MISTURA, COMPACTADA NA ENERGIA DO PROCTOR INTERMEDIÁRIO (EXECUÇÃO, INCLUINDO ESCAVAÇÃO, CARGA, DESCARGA, ESPALHAMENTO, UMIDECIMENTO E COMPACTAÇÃO DO MATERIAL; EXCLUI AQUISIÇÃO E TRANSPORTE DO MATERIAL)
...

Sheet BDI
A1: DEMONSTRATIVO DO BDI - COM DESONERAÇÃO - OBRA RODOVIÁRIA
A3: BDI (CONFORME ACÓRDÃO Nº 2622/13 e LEI Nº 13.161 DE 31/08/15)
A4: DISCRIMINAÇÃO DAS PARCELAS | B4: SIG. (1) | C4: CONSTRUÇÃO DE RODOVIAS E FERROVIAS | J4: INC. (6)
C5: ISS (2) | G5: DIFERENCIADO
C6: 0.02 | D6: 0.03 | E6: 0.04 | F6: 0.05 | G6: MATERIAL (5) | H6: SERVIÇO TERCEIRIZADO (4) (ISS=5%) | I6: EQUIPAMENTO (3) (ISS=5%)
A7: CUSTO DIRETO | B7: CD | C7: 1 | D7: 1 | E7: 1 | F7: 1 | G7: 1 | H7: 1 | I7: 1
A8: ADMINISTRAÇÃO CENTRAL | B8: AC | C8: 0.04 | D8: 0.04 | E8: 0.04 | F8: 0.04 | G8: 0.0342 | H8: 0.0401 | I8: 0.0342 | J8: CD
A9: LUCRO BRUTO | B9: L | C9: 0.07 | D9: 0.07 | E9: 0.07 | F9: 0.07 | G9: 0.0494 | H9: 0.0664 | I9: 0.0494 | J9: CD
A10: DESPESAS FINANCEIRAS | B10: DF | C10: 0.009647 | D10: 0.009647 | E10: 0.009647 | F10: 0.009647 | G10: 0.009647 | H10: 0.009647 | I10: 0.009647 | J10: CD
A11: SEGUROS, GARANTIAS E RISCO | C11: =SUM(C12:C13) -> 0.0171 | D11: =SUM(D12:D13) -> 0.0171 | E11: =SUM(E12:E13) -> 0.0171 | F11: =SUM(F12:F13) -> 0.0171 | G11: =SUM(G12:G13) -> 0.0129 | H11: =SUM(H12:H13) -> 0.0082 | I11: =SUM(I12:I13) -> 0.0129 | J11: CD
A12: SEGUROS + GARANTIAS | B12: S | C12: 0.0074 | D12: 0.0074 | E12: 0.0074 | F12: 0.0074 | G12: 0.0053 | H12: 0.0032 | I12: 0.0053 | J12: CD
A13: RISCO(*) | B13: R | C13: 0.0097 | D13: 0.0097 | E13: 0.0097 | F13: 0.0097 | G13: 0.0076 | H13: 0.005 | I13: 0.0076 | J13: CD
A14: TRIBUTOS | B14: I | C14: =SUM(C15:C17) -> 0.0435 | D14: =SUM(D15:D17) -> 0.047 | E14: =SUM(E15:E17) -> 0.0505 | F14: =SUM(F15:F17) -> 0.054 | G14: =SUM(G15:G17) -> 0.0365 | H14: =SUM(H15:H17) -> 0.0615 | I14: =SUM(I15:I17) -> 0.0615 | J14: PV
A15: ISS | B15: ISS(2) | C15: 0.007 | D15: 0.0105 | E15: 0.014 | F15: 0.0175 | G15: - | H15: 0.025 | I15: 0.025 | J15: PV
A16: PIS | B16: PIS | C16: 0.0065 | D16: 0.0065 | E16: 0.0065 | F16: 0.0065 | G16: 0.0065 | H16: 0.0065 | I16: 0.0065 | J16: PV
A17: COFINS | B17: - | C17: 0.03 | D17: 0.03 | E17: 0.03 | F17: 0.03 | G17: 0.03 | H17: 0.03 | I17: 0.03 | J17: PV
A18: CPRB | B18: INSS | C18: 0.045 | D18: 0.045 | E18: 0.045 | F18: 0.045 | G18: 0.045 | H18: 0.045 | I18: 0.045 | J18: PV
A20: FÓRMULA DO BDI | C20: (1 + (AC + S + G + R)) x (1 + DF) x (1 + L)
C21: (1 - (I + CPRB))
A22: BDI (NUMERADOR) | C22: =(1+(C8+C11))*(1+C10)*(1+C9)-1 -> 0.14200869 | D22: =(1+(D8+D11))*(1+D10)*(1+D9)-1 -> 0.14200869 | E22: =(1+(E8+E11))*(1+E10)*(1+E9)-1 -> 0.14200869 | F22: =(1+(F8+F11))*(1+F10)*(1+F9)-1 -> 0.14200869 | G22: =(1+(G8+G11))*(1+G10)*(1+G9)-1 -> 0.10942712 | H22: =(1+(H8+H11))*(1+H10)*(1+H9)-1 -> 0.12869157 | I22: =(1+(I8+I11))*(1+I10)*(1+I9)-1 -> 0.10942712
A23: BDI (DENOMINADOR) | C23: =(1-(C14+C18)) -> 0.9115 | D23: =(1-(D14+D18)) -> 0.908 | E23: =(1-(E14+E18)) -> 0.9045 | F23: =(1-(F14+F18)) -> 0.901 | G23: =(1-(G14+G18)) -> 0.9185 | H23: =(1-(H14+H18)) -> 0.8935 | I23: =(1-(I14+I18)) -> 0.8935
A24: BDI | C24: =(1+C22)/C23-1 -> 0.25288941 | D24: =(1+D22)/D23-1 -> 0.25771882 | E24: =(1+E22)/E23-1 -> 0.26258562 | F24: =(1+F22)/F23-1 -> 0.26749023 | G24: =(1+G22)/G23-1 -> 0.2078684 | H24: =(1+H22)/H23-1 -> 0.26322504 | I24: =(1+I22)/I23-1 -> 0.24166438
A26: OBSERVAÇÕES
A27: (1) SIGLA. (2) INCIDÊNCIA DE ISS EM 35% DO PREÇO DE VENDA, COM PERCENTUAIS DE 5%. (3) BDI DIFERENCIADO A SER APLICADO EM LOCAÇÃO DE CUSTO HORÁRIO DE EQUIPAMENTO. (4) BDI DIFERENCIADO A SER APLICADO PARA SERVIÇOS TERCEIRIZADOS. (5) BDI DIFERENCIADO A SER APLICADO PARA FORNECIMENTO DE MATERIAL BETUMINOSO E MATERIAL DE JAZIDA. (6) INCIDÊNCIA.
A29: Crucilândia/MG, | C29: =TODAY() -> 45258 | D29: . | H29: DOC Nº: | I29: 02/04.
C35: ='Planilha Orcamentária'!C42 -> Genilson Gonçalves Da Silva
B36: ='Planilha Orcamentária'!C44 -> Engenheiro Civil | E36: ='Planilha Orcamentária'!C45 -> CREA-MG Nº: 237.650/D
C41: ='Planilha Orcamentária'!C48 -> Ilaerson Ferreira De Souza
C42: ='Planilha Orcamentária'!C49 -> Prefeito Municipal de Santa Crucilândia/MG

Sheet Planilha1
