Workbook
Name ___sub1: #REF!
Name ___sub2: #REF!
Name ___sub3: #REF!
Name _sub1: #REF!
Name _sub2: #REF!
Name _sub3: #REF!
Name a: #REF!
Name AREA: #REF!
Name B: #REF!
Name BDI: #REF!
Name DOLAR: [1]INSUMOS!$G$8
Name ersdcefgbrnghrbgbrgfbgfwbvbfgvwfv: #REF!
Name Excel_BuiltIn_Print_Area_2: #REF!
Name Excel_BuiltIn_Print_Area_2_1: #REF!
Name Excel_BuiltIn_Print_Area_2_1_1: #REF!
Name Excel_BuiltIn_Print_Area_2_1_1_1: #REF!
Name Excel_BuiltIn_Print_Area_4: #REF!
Name leosde: #REF!
Name NCOMPOSICOES: 7
Name NCOTACOES: 15
Name obra: #REF!
Name obra1: #REF!
Name obra2: #REF!
Name obra3: #REF!
Name obra4: #REF!
Name obra5: #REF!
Name P.1: #REF!
Name P.10: #REF!
Name P.11: #REF!
Name P.12: #REF!
Name P.13: #REF!
Name P.14: #REF!
Name P.15: #REF!
Name P.2: #REF!
Name P.3: #REF!
Name P.4: #REF!
Name P.5: #REF!
Name P.6: #REF!
Name P.7: #REF!
Name P.8: #REF!
Name P.9: #REF!
Name Pedreiro_de_acabamento: [1]INSUMOS!$B$11
Name PP1.1: #REF!
Name PP1.10: #REF!
Name PP1.11: #REF!
Name PP1.12: #REF!
Name PP1.13: #REF!
Name PP1.14: #REF!
Name PP1.15: #REF!
Name PP1.2: #REF!
Name PP1.3: #REF!
Name PP1.4: #REF!
Name PP1.5: #REF!
Name PP1.6: #REF!
Name PP1.7: #REF!
Name PP1.8: #REF!
Name PP1.9: #REF!
Name T.1: #REF!
Name T.10: #REF!
Name T.11: #REF!

Sheet BDI
A2: CÁLCULO DE BDI
A3: PREFEITURA MUNICIPAL DE CRUCILâNDIA.
A4: OBRA: PAVIMENTAÇÃO ASFÃLTICA EM CBUQ | I4: FOLHA Nº: | J4: 01/05.
A5: LOCAL: ESTRADA RURAL DE ACESSO DO MUNICÍPIO DE CRUCILÂNDIA AO POVOADO DE BURÁ (EM FRENTE A CAPELA)- ZONA RURAL, MUNICÍPIO DE CRUCILÂNDIA/MG. | I5: DATA: | J5: =TODAY() -> 46155
A7: DEMONSTRATIVO DO BDI - SEM DESONERAÇÃO - OBRA RODOVIÁRIA
A9: BDI (CONFORME ACÓRDÃO Nº 2622/13 e LEI Nº 13.161 DE 31/08/15)
A10: DISCRIMINAÇÃO DAS PARCELAS | B10: SIG. (1) | C10: CONSTRUÇÃO DE RODOVIAS E FERROVIAS | J10: INC. (6)
C11: ISS (2) | G11: DIFERENCIADO
C12: 0.02 | D12: 0.03 | E12: 0.04 | F12: 0.05 | G12: MATERIAL (5) | H12: SERVIÇO TERCEIRIZADO (4) (ISS=5%) | I12: EQUIPAMENTO (3) (ISS=5%)
A13: CUSTO DIRETO | B13: CD | C13: 1 | D13: 1 | E13: 1 | F13: 1 | G13: 1 | H13: 1 | I13: 1
A14: ADMINISTRAÇÃO CENTRAL | B14: AC | C14: 0.0467 | D14: 0.0467 | E14: 0.0467 | F14: 0.0467 | G14: 0.0342 | H14: 0.0401 | I14: 0.0342 | J14: CD
A15: LUCRO BRUTO | B15: L | C15: 0.0753 | D15: 0.0753 | E15: 0.0753 | F15: 0.0753 | G15: 0.0494 | H15: 0.0664 | I15: 0.0494 | J15: CD
A16: DESPESAS FINANCEIRAS | B16: DF | C16: 0.010477 | D16: 0.010477 | E16: 0.010477 | F16: 0.010477 | G16: 0.010477 | H16: 0.010477 | I16: 0.010477 | J16: CD
A17: SEGUROS, GARANTIAS E RISCO | C17: =SUM(C18:C19) -> 0.0171 | D17: =SUM(D18:D19) -> 0.0171 | E17: =SUM(E18:E19) -> 0.0171 | F17: =SUM(F18:F19) -> 0.0171 | G17: =SUM(G18:G19) -> 0.0129 | H17: =SUM(H18:H19) -> 0.0082 | I17: =SUM(I18:I19) -> 0.0129 | J17: CD
A18: SEGUROS + GARANTIAS | B18: S | C18: 0.0074 | D18: 0.0074 | E18: 0.0074 | F18: 0.0074 | G18: 0.0053 | H18: 0.0032 | I18: 0.0053 | J18: CD
A19: RISCO(*) | B19: R | C19: 0.0097 | D19: 0.0097 | E19: 0.0097 | F19: 0.0097 | G19: 0.0076 | H19: 0.005 | I19: 0.0076 | J19: CD
A20: TRIBUTOS | B20: I | C20: =SUM(C21:C23) -> 0.0505 | D20: =SUM(D21:D23) -> 0.0575 | E20: =SUM(E21:E23) -> 0.0645 | F20: =SUM(F21:F23) -> 0.0715 | G20: =SUM(G21:G23) -> 0.0365 | H20: =SUM(H21:H23) -> 0.0615 | I20: =SUM(I21:I23) -> 0.0615 | J20: PV
A21: ISS | B21: ISS(2) | C21: 0.014 | D21: 0.021 | E21: 0.028 | F21: 0.035 | G21: - | H21: 0.025 | I21: 0.025 | J21: PV
A22: PIS | B22: PIS | C22: 0.0065 | D22: 0.0065 | E22: 0.0065 | F22: 0.0065 | G22: 0.0065 | H22: 0.0065 | I22: 0.0065 | J22: PV
A23: COFINS | B23: - | C23: 0.03 | D23: 0.03 | E23: 0.03 | F23: 0.03 | G23: 0.03 | H23: 0.03 | I23: 0.03 | J23: PV
A24: CPRB (7) | B24: INSS | C24: 0 | D24: 0 | E24: 0 | F24: 0 | G24: 0 | H24: 0 | I24: 0 | J24: PV
A26: FÓRMULA DO BDI | C26: (1 + (AC + S + G + R)) x (1 + DF) x (1 + L)
C27: (1 - (I + CPRB))
A28: BDI (NUMERADOR) | C28: =(1+(C14+C17))*(1+C16)*(1+C15)-1 -> 0.15588882 | D28: =(1+(D14+D17))*(1+D16)*(1+D15)-1 -> 0.15588882 | E28: =(1+(E14+E17))*(1+E16)*(1+E15)-1 -> 0.15588882 | F28: =(1+(F14+F17))*(1+F16)*(1+F15)-1 -> 0.15588882 | G28: =(1+(G14+G17))*(1+G16)*(1+G15)-1 -> 0.11033915 | H28: =(1+(H14+H17))*(1+H16)*(1+H15)-1 -> 0.12961943 | I28: =(1+(I14+I17))*(1+I16)*(1+I15)-1 -> 0.11033915
A29: BDI (DENOMINADOR) | C29: =(1-(C20+C24)) -> 0.9495 | D29: =(1-(D20+D24)) -> 0.9425 | E29: =(1-(E20+E24)) -> 0.9355 | F29: =(1-(F20+F24)) -> 0.9285 | G29: =(1-(G20+G24)) -> 0.9635 | H29: =(1-(H20+H24)) -> 0.9385 | I29: =(1-(I20+I24)) -> 0.9385
A30: BDI | C30: =(1+C28)/C29-1 -> 0.2173658 | D30: =(1+D28)/D29-1 -> 0.22640724 | E30: =(1+E28)/E29-1 -> 0.23558399 | F30: =(1+F28)/F29-1 -> 0.24489911 | G30: =(1+G28)/G29-1 -> 0.15240181 | H30: =(1+H28)/H29-1 -> 0.20364351 | I30: =(1+I28)/I29-1 -> 0.18309978
A32: OBSERVAÇÕES
A33: (1) SIGLA. (2) INCIDÊNCIA DE ISS EM 70% DO PREÇO DE VENDA, COM PERCENTUAIS DE 2%, 3%, 4% E 5%. (3) BDI DIFERENCIADO A SER APLICADO EM LOCAÇÃO DE CUSTO HORÁRIO DE EQUIPAMENTO. (4) BDI DIFERENCIADO A SER APLICADO PARA SERVIÇOS TERCEIRIZADOS. (5) BDI DIFERENCIADO A SER APLICADO PARA FORNECIMENTO DE MATERIAL BETUMINOSO E MATERIAL DE JAZIDA. (6) INCIDÊNCIA. (7) TRANSIÇÃO DESONERAÇÃO LEI Nº 14.973, DE 16 DE SETEMBRO DE 2024.
A34: *Informamos que está em análise o pleito apresentado pelo Ofício nº 042/24-S, do Sindicato da Indústria da Construção Pesada de Minas Gerais (SICEPOT-MG), referente ao posicionamento do colegiado da Segunda Turma do Superior Tribunal de Justiça (STJ), no AREsp nº 2.486.358/SP, relatado pelo Ministro Herman Benjamin, julgado em 13/05/2024, com publicação no DJe de 29/05/2024, que versa sobre a aplicação da dedução na base de cálculo do Imposto Sobre Serviços de Qualquer Natureza (ISSQN).
D40: HUILDYS ESTÁCIO DE OLIVEIRA
D41: ENGENHEIRO CIVIL
D42: CREA/MG Nº: 249.249/D
D46: ELIZÂNGELA CRISTINA LARA DINIZ
D47: PREFEITA MUNICIPAL

Sheet Memória de Cálculo
A2: MEMÓRIA DE CÁLCULO DE QUANTITATIVOS
A3: PREFEITURA MUNICIPAL DE CRUCILâNDIA.
A4: OBRA: PAVIMENTAÇÃO ASFÃLTICA EM CBUQ | F4: FOLHA Nº: | G4: 02/05.
A5: LOCAL: ESTRADA RURAL DE ACESSO DO MUNICÍPIO DE CRUCILÂNDIA AO POVOADO DE BURÁ (EM FRENTE A CAPELA)- ZONA RURAL, MUNICÍPIO DE CRUCILÂNDIA/MG. | F5: DATA: | G5: =TODAY() -> 46155
A7: ITEM | C7: CÓDIGO | D7: DESCRIÇÃO | E7: UNIDADE | F7: QUANTIDADE | G7: FÓRMULA DO CÁLCULO
A8: 1.0 | D8: SERVIÇOS PRELIMINARES
A9: 1.1 | B9: SICOR/ SEINFRA | C9: ED-28427 | D9: FORNECIMENTO E COLOCAÇÃO DE PLACA DE OBRA EM CHAPA GALVANIZADA #26, ESP. 0,45MM, DIMENSÃO (3X1,5)M, PLOTADA COM ADESIVO VINÍLICO, AFIXADA COM REBITES 4,8X40MM, EM ESTRUTURA METÁLICA DE METALON 20X20MM, ESP. 1,25MM, INCLUSIVE SUPORTE EM EUCALIPTO AUTOCLAVADO PINTADO COM TINTA PVA DUAS (2) DEMÃOS | E9: U | F9: 1 | G9: 1,00 unidade conforme padrão exigido
A11: 2.0 | D11: MOBILIZAÇÃO E DESMOBILIZAÇÃO DE OBRA
A12: 2.1 | B12: SICOR/ SEINFRA | C12: ED-50392 | D12: MOBILIZAÇÃO E DESMOBILIZAÇÃO DE OBRA EM CENTRO URBANO OU REGIÃO LIMÍTROFE COM VALOR ATÉ 1.000.000,00 | E12: % | F12: 0.5 | G12: Mobilização e Desmobilização = Valor Total da Obra × 0,5%
A14: 3.0 | D14: SERVIÇOS DE TERRAPLENAGEM
A15: 3.1 | B15: SICRO/ DNIT | C15: 4011209 | D15: REGULARIZAÇÃO DO SUBLEITO | E15: M² | F15: 591.73 | G15: A1 = 9,50 x 4,60 = 43,70m²+A2 = ((4,60+7,19)/2) x ((9,89+7,13)/2) =50,17m² +A3 = (7,12x0,98)/2= 3,49m² +A4 = ((2,50+4,19)/2)*((3,91+4,34)/2)= 13,80m²+A5 = ((3,21+4,08)/2)x((5,12+5,20)/2)= 18,81m²+A6 = (6,16x8,23)/2= 25,35m²+A7 = 6,51x12,34= 80,33m² +A8 = (6,51x1,11)/2= 3,61m²+A9 = ((4,34+4,33)/2) x ((20,69+20,67)/2)= 89,65m²+A10 = ((1,87+2,47)/2)x((3,34+3,71)/2)= 7,65m²+A11 = (11,58x3,71)/2= 21,48m²+A12 = (9,74x2,47)/2= 12,03m²+A13 = ((4,34+4,20)/2) x ((18,17+18,34)/2)= 77,95m² +A14 = 4,20x ((19,50+20,54)/2)= 84,08m²+A15 = 4,20x3,40= 14,28m²+ ((83,52*0,25)+ (97,88*0,25) =591,73M². OBSERVAÇÃO: OS 25 CENTÍMETROS ADICIONAIS EM CADA LADO FORAM PREVISTOS PARA QUE A BASE POSSUA LARGURA SUPERIOR À DA PISTA DE ROLAMENTO, GARANTINDO O ESPAÇO NECESSÁRIO PARA A CORRETA EXECUÇÃO DA OBRA, E OS 6,50M DE DIFERENÇA LADO 2, SÃO DA ENTRADA DA ESTRADA EXISTENTE.
A16: 3.2 | B16: SICRO/ DNIT | C16: 4011219 | D16: BASE DE SOLO ESTABILIZADO GRANULOMETRICAMENTE SEM MISTURA COM MATERIAL DE JAZIDA | E16: M³ | F16: 118.35 | G16: 591,73m²(ÁREA DA BASE) x 0,20m(ALTURA DA BASE) = 118,35m³
A17: 3.3 | D17: AQUISIÇÃO DE MATERIAL DE JAZIDA PARA BASE - CASCALHO | E17: M³ | F17: 118.35 | G17: 591,73m²(ÁREA DA BASE) x 0,20m(ALTURA DA BASE) = 118,35m³
A18: 3.4 | B18: SICRO/ DNIT | C18: 5915320 | D18: TRANSPORTE COM CAMINHÃO BASCULANTE DE 14 M³ - RODOVIA EM REVESTIMENTO PRIMÁRIO | E18: TxKM | F18: 189.36 | G18: 118,35m³(VOLUME DE CASCALHO) x 1,00KM(DMT CASCALHO) x 1,60T/m³(PESO ESPECÍFICO DO CASCALHO)= 189,36 T
A20: 4.0 | D20: SERVIÇOS DE PAVIMENTAÇÃO
A21: 4.1 | B21: SICRO/ DNIT | C21: 4011352 | D21: IMPRIMAÇÃO COM EMULSÃO ASFÁLTICA (EAI) | E21: M² | F21: 546.38 | G21: A1 = 9,50 x 4,60 = 43,70m²+A2 = ((4,60+7,19)/2) x ((9,89+7,13)/2) =50,17m² +A3 = (7,12x0,98)/2= 3,49m² +A4 = ((2,50+4,19)/2)*((3,91+4,34)/2)= 13,80m²+A5 = ((3,21+4,08)/2)x((5,12+5,20)/2)= 18,81m²+A6 = (6,16x8,23)/2= 25,35m²+A7 = 6,51x12,34= 80,33m² +A8 = (6,51x1,11)/2= 3,61m²+A9 = ((4,34+4,33)/2) x ((20,69+20,67)/2)= 89,65m²+A10 = ((1,87+2,47)/2)x((3,34+3,71)/2)= 7,65m²+A11 = (11,58x3,71)/2= 21,48m²+A12 = (9,74x2,47)/2= 12,03m²+A13 = ((4,34+4,20)/2) x ((18,17+18,34)/2)= 77,95m² +A14 = 4,20x ((19,50+20,54)/2)= 546,38m²
A22: 4.2 | B22: DER-MG | C22: ARP 231/2024 (Preço Unit. com ICMS) | D22: FORNECIMENTO DE MATERIAL BETUMINOSO EAI - EMULSÃO ASFÁLTICA PARA IMPRIMAÇÃO | E22: T | F22: 0.71 | G22: 546,38m²(ÁREA DE IMPRIMAÇÃO) x 0,0013T/m²= 0,71T
A23: 4.3 | B23: DER-MG | C23: TABELA DE FRETE 02 - (Pág. 01/04) | D23: FRETE DE MATERIAL BETUMINOSO - DER | E23: T | F23: 0.71 | G23: 546,38m²(ÁREA DE IMPRIMAÇÃO) x 0,0013T/m²= 0,71T
A24: 4.4 | B24: SICRO/ DNIT | C24: 4011353 | D24: PINTURA DE LIGAÇÃO (RR-1C) | E24: M² | F24: 546.38 | G24: A1 = 9,50 x 4,60 = 43,70m²+A2 = ((4,60+7,19)/2) x ((9,89+7,13)/2) =50,17m² +A3 = (7,12x0,98)/2= 3,49m² +A4 = ((2,50+4,19)/2)*((3,91+4,34)/2)= 13,80m²+A5 = ((3,21+4,08)/2)x((5,12+5,20)/2)= 18,81m²+A6 = (6,16x8,23)/2= 25,35m²+A7 = 6,51x12,34= 80,33m² +A8 = (6,51x1,11)/2= 3,61m²+A9 = ((4,34+4,33)/2) x ((20,69+20,67)/2)= 89,65m²+A10 = ((1,87+2,47)/2)x((3,34+3,71)/2)= 7,65m²+A11 = (11,58x3,71)/2= 21,48m²+A12 = (9,74x2,47)/2= 12,03m²+A13 = ((4,34+4,20)/2) x ((18,17+18,34)/2)= 77,95m² +A14 = 4,20x ((19,50+20,54)/2)= 546,38m²
A25: 4.5 | B25: DER-MG | C25: ARP 231/2024 (Preço Unit. com ICMS) | D25: FORNECIMENTO DE MATERIAL BETUMINOSO RR-1C | E25: T | F25: 0.27 | G25: 546,38m²(ÁREA DE PINTURA DE LIGAÇÃO) x 0,0005T/m²= 0,27T
A26: 4.6 | B26: DER-MG | C26: TABELA DE FRETE 02 - (Pág. 01/04) | D26: FRETE DE MATERIAL BETUMINOSO - DER | E26: T | F26: 0.27 | G26: 546,38m²(ÁREA DE PINTURA DE LIGAÇÃO) x 0,0005T/m²= 0,27T)
A27: 4.7 | B27: SICOR/ SEINFRA | C27: ED-7623 | D27: EXECUÇÃO E APLICAÇÃO DE CONCRETO BETUMINOSO USINADO A QUENTE (CBUQ), MASSA COMERCIAL, INCLUINDO FORNECIMENTO E TRANSPORTE DOS AGREGADOS E ATERIAL BETUMINOSO, EXCLUSIVE TRANSPORTE DA MASSA ASFÁLTICA ATÉ A PISTA | E27: M³ | F27: 16.39 | G27: 546,38m²(ÁREA DE PINTURA DE LIGAÇÃO) x 0,03m= 16,39 m³
A28: 4.8 | B28: SICRO/ DNIT | C28: 5914612 | D28: TRANSPORTE DE MISTURA BETUMINOSA A QUENTE COM CAMINHÃO COM CAÇAMBA TÉRMICA DE 6 M³ - RODOVIA PAVIMENTADA | E28: TXKM | F28: 3107.81 | G28: 546,38m²(ÁREA DE PINTURA DE LIGAÇÃO) x 0,03m x 2,4T/m³(PESO ESPECÍFICO DO CBUQ) x 79,00KM(DMT)= 3.107,81 T/KM
A30: 5.0 | D30: SERVIÇOS DE DRENAGEM
A31: 5.1 | B31: SINAPI | C31: 94277 | D31: ASSENTAMENTO DE GUIA (MEIO-FIO) EM TRECHO RETO, CONFECCIONADA EM CONCRETO PRÉ-FABRICADO, DIMENSÕES 80X08X08X25 CM (COMPRIMENTO X BASE INFERIOR X BASE SUPERIOR X ALTURA). AF_01/2024 | E31: M | F31: 175 | G31: LADO A = (927+1030+233+2067+1811+1944+3,40)/100=83,52m + LADO B = (949+714+1025+1219+1142+1723+2026+3,40)/100=91,38m = 175,00m
A32: 5.2 | B32: SINAPI | C32: 94287 | D32: EXECUÇÃO DE SARJETA DE CONCRETO USINADO, MOLDADA IN LOCO EM TRECHO RETO, 30 CM BASE X 10 CM ALTURA. AF_01/2024 | E32: M | F32: 84 | G32: LADO A = (927+1030+233+2067+1811+1944+3,40)/100=83,52m ARREDONDANDO 84,00m OBSERVAÇÃO: OPTOU-SE PELO DIMENSIONAMENTO E IMPLANTAÇÃO DE SARJETA EM APENAS UM DOS LADOS DA VIA, DEFININDO-SE O PERFIL TRANSVERSAL COM CAIMENTO ÚNICO DIRECIONADO PARA ESSE LADO. A DECISÃO BASEIA-SE NA LARGURA EXISTENTE DA PISTA, QUE VARIA ENTRE 4,20 M E 5,10 M AO LONGO DO TRECHO.
A34: 6.0 | D34: SINALIZAÇÃO VIÁRIA
A35: 6.1 | B35: SICRO/ DNIT | C35: 5213570 | D35: PLACA EM AÇO - PELÍCULA I + I - FORNECIMENTO E IMPLANTAÇÃO | E35: M² | F35: 0.57 | G35: PLACA VERTICAL R19 CIRCULAR 0,3²(RAIO DA PLACA)x3,1416(PI)x2(PLACAS)= 0,57m²
A36: 6.2 | B36: SICRO/ DNIT | C36: 5213859 | D36: SUPORTE METÁLICO GALVANIZADO PARA PLACA DE REGULAMENTAÇÃO - R2 - LADO DE 0,60 M - FORNECIMENTO E IMPLANTAÇÃO | E36: UN | F36: 2 | G36: 1 SUPORTE PARA CADA PLACA = 2 UNIDADES
A37: 6.3 | B37: SICRO/ DNIT | C37: 5213401 | D37: PINTURA DE FAIXA COM TINTA ACRÍLICA - ESPESSURA DE 0,6 MM | E37: M² | F37: 17.5 | G37: LADO A = ((927+1030+233+2067+1811+1944+3,40)/100=83,52m x 0,10m + LADO B = (949+714+1025+1219+1142+1723+2026+3,40)/100=91,38m) x 0,10m = 17,50m²
A38: 6.4 | B38: SICRO/ DNIT | C38: 5219619 | D38: TACHA REFLETIVA EM RESINA SINTÉTICA - BIDIRECIONAL TIPO I - COM UM PINO - FORNECIMENTO E COLOCAÇÃO | E38: UN | F38: 22 | G38: LADO A = ((927+1030+233+2067+1811+1944+3,40)/100=83,52m x 0,10m + LADO B = (949+714+1025+1219+1142+1723+2026+3,40)/100=91,38m) / 8,00m(DISTÂNCIA ENTRE CADA TACHA)= 22,00 UNIDADES
D43: HUILDYS ESTÁCIO DE OLIVEIRA | F43: ELIZÂNGELA CRISTINA LARA DINIZ
D44: ENGENHEIRO CIVIL | F44: PREFEITA MUNICIPAL
D45: CREA/MG Nº: 249.249/D

Sheet Memória de Cálculo- Calculo DMT
A2: MEMÓRIA DE CÁLCULO DE QUANTITATIVOS
A3: PREFEITURA MUNICIPAL DE CRUCILâNDIA.
A4: OBRA: PAVIMENTAÇÃO ASFÃLTICA EM CBUQ | F4: FOLHA Nº: | G4: 03/05.
A5: LOCAL: ESTRADA RURAL DE ACESSO DO MUNICÍPIO DE CRUCILÂNDIA AO POVOADO DE BURÁ (EM FRENTE A CAPELA)- ZONA RURAL, MUNICÍPIO DE CRUCILÂNDIA/MG. | F5: DATA: | G5: =TODAY() -> 46155
A7: 1.0 | B7: CALCULO DO DMT DO CASCALHO
A8: #VALUE!
A9: Calculo de DMT para transporte de material de jazida até a pista = 1,00 KM
A11: 2.0 | B11: Calculo de DMT da refinaria Gabriel Passos até Crucilândia para transporte de material para pintura de ligação, imprimação.
A12: #VALUE!
A13: DMT DE REFINARIA ATÉ A OBRA = 88,10KM
A15: 3.0 | B15: Calculo de DMT de Usina até a obra para transporte de CBUQ.
A16: #VALUE!
A17: Usina de Asfalto Inácio Neto à Local da obra = 74,30KM
A18: #VALUE!
A19: USINA DE ASFALTO BICAS I à local da obra = 83,00KM
A20: #VALUE!
A21: Betunel - Centro Oeste Asfaltos = 79,70KM
A22: CALCULO DO DMT DA USINA ATÉ A OBRA = (74,30KM+83,00KM+79,70KM)/3= 79,00KM
D26: HUILDYS ESTÁCIO DE OLIVEIRA
D27: ENGENHEIRO CIVIL
D28: CREA/MG Nº: 249.249/D
D32: ELIZÂNGELA CRISTINA LARA DINIZ
D33: PREFEITA MUNICIPAL

Sheet Planilha Orcamentária
A2: PLANILHA ORÇAMENTÁRIA DE CUSTOS
A3: PREFEITURA MUNICIPAL DE CRUCILÂNDIA | F3: FOLHA Nº: | H3: 04/05.
A4: OBRA: PAVIMENTAÇÃO ASFÃLTICA EM CBUQ | F4: DATA: | H4: =TODAY() -> 46155
A5: LOCAL: ESTRADA RURAL DE ACESSO DO MUNICÍPIO DE CRUCILÂNDIA AO POVOADO DE BURÁ (EM FRENTE A CAPELA)- ZONA RURAL, MUNICÍPIO DE CRUCILÂNDIA/MG. | F5: FORMA DE EXECUÇÃO:
A6: REGIÃO/MÊS DE REFERÊNCIA: SICOR/SEINFRA 01/2026 - NÃO DESONERADO - SINAPI/MG 02/2026 - NÃO DESONERADO - SICRO/DENIT/MG 10/2025 - NÃO DESONERADO - ATA DE REGISTRO DE PREÇOS 231/2024/DER/MG-01/2026- TABELA REFERENCIAL DE FRETE DE MATERIAL BETUMINOSO DER/MG -02/2026 | F6: ( ) | G6: DIRETA | H6: ( X ) | I6: INDIRETA
A7: COMPOSIÇÃO/DEMONSTRATIVO DE BDI - EM ANEXO | F7: % ISS MUNICIPAL: | G7: 0.05 | H7: BDI: | I7: 0.2449
G8: BDI DIFERENCIADO (MATERIAL): | I8: 0.1524
A10: ITEM | C10: CÓDIGO | D10: DESCRIÇÃO | E10: UNIDADE | F10: QUANTIDADE | G10: PREÇO UNITÁRIO S/ BDI | H10: PREÇO UNITÁRIO C/ BDI | I10: PREÇO TOTAL
A11: ='Memória de Cálculo'!A8 -> 1.0 | D11: ='Memória de Cálculo'!D8 -> SERVIÇOS PRELIMINARES | H11: =ROUND(G11+(G11*$I$7),2) -> 0 | I11: =SUM(I12:I12) -> 1502.25
A12: ='Memória de Cálculo'!A9 -> 1.1 | B12: ='Memória de Cálculo'!B9 -> SICOR/ SEINFRA | C12: ='Memória de Cálculo'!C9 -> ED-28427 | D12: ='Memória de Cálculo'!D9 -> FORNECIMENTO E COLOCAÇÃO DE PLACA DE OBRA EM CHAPA GALVANIZADA #26, ESP. 0,45MM, DIMENSÃO (3X1,5)M, PLOTADA COM ADESIVO VINÍLICO, AFIXADA COM REBITES 4,8X40MM, EM ESTRUTURA METÁLICA DE METALON 20X20MM, ESP. 1,25MM, INCLUSIVE SUPORTE EM EUCALIPTO AUTOCLAVADO PINTADO COM TINTA PVA DUAS (2) DEMÃOS | E12: ='Memória de Cálculo'!E9 -> U | F12: ='Memória de Cálculo'!F9 -> 1 | G12: 1206.72 | H12: =ROUND(G12+(G12*$I$7),2) -> 1502.25 | I12: =ROUND((F12*H12),2) -> 1502.25
B13: ='Memória de Cálculo'!B10 -> 0 | C13: ='Memória de Cálculo'!C10 -> 0 | D13: ='Memória de Cálculo'!D10 -> 0 | E13: ='Memória de Cálculo'!E10 -> 0 | H13: =ROUND(G13+(G13*$I$7),2) -> 0
A14: ='Memória de Cálculo'!A11 -> 2.0 | D14: ='Memória de Cálculo'!D11 -> MOBILIZAÇÃO E DESMOBILIZAÇÃO DE OBRA | H14: =ROUND(G14+(G14*$I$7),2) -> 0 | I14: =SUM(I15:I15) -> 171.64
A15: ='Memória de Cálculo'!A12 -> 2.1 | B15: ='Memória de Cálculo'!B15 -> SICRO/ DNIT | C15: ='Memória de Cálculo'!C12 -> ED-50392 | D15: ='Memória de Cálculo'!D12 -> MOBILIZAÇÃO E DESMOBILIZAÇÃO DE OBRA EM CENTRO URBANO OU REGIÃO LIMÍTROFE COM VALOR ATÉ 1.000.000,00 | E15: ='Memória de Cálculo'!E12 -> % | F15: ='Memória de Cálculo'!F12 -> 0.5 | G15: =I43 -> 68654.42 | H15: =(F15*G15)/100 -> 343.2721 | I15: =ROUND((F15*H15),2) -> 171.64
A17: ='Memória de Cálculo'!A14 -> 3.0 | B17: ='Memória de Cálculo'!B14 -> 0 | C17: ='Memória de Cálculo'!C14 -> 0 | D17: ='Memória de Cálculo'!D14 -> SERVIÇOS DE TERRAPLENAGEM | E17: ='Memória de Cálculo'!E14 -> 0 | H17: =ROUND(G17+(G17*$I$7),2) -> 0 | I17: =SUM(I18:I21) -> 4101.73
A18: ='Memória de Cálculo'!A15 -> 3.1 | B18: ='Memória de Cálculo'!B15 -> SICRO/ DNIT | C18: ='Memória de Cálculo'!C15 -> 4011209 | D18: ='Memória de Cálculo'!D15 -> REGULARIZAÇÃO DO SUBLEITO | E18: ='Memória de Cálculo'!E15 -> M² | F18: ='Memória de Cálculo'!F15 -> 591.73 | G18: 1.89 | H18: =ROUND(G18+(G18*$I$7),2) -> 2.35 | I18: =ROUND((F18*H18),2) -> 1390.57
A19: ='Memória de Cálculo'!A16 -> 3.2 | B19: ='Memória de Cálculo'!B16 -> SICRO/ DNIT | C19: ='Memória de Cálculo'!C16 -> 4011219 | D19: ='Memória de Cálculo'!D16 -> BASE DE SOLO ESTABILIZADO GRANULOMETRICAMENTE SEM MISTURA COM MATERIAL DE JAZIDA | E19: ='Memória de Cálculo'!E16 -> M³ | F19: ='Memória de Cálculo'!F16 -> 118.35 | G19: 17.21 | H19: =ROUND(G19+(G19*$I$7),2) -> 21.42 | I19: =ROUND((F19*H19),2) -> 2535.06
A20: ='Memória de Cálculo'!A17 -> 3.3 | B20: ='Memória de Cálculo'!B17 -> 0 | C20: ='Memória de Cálculo'!C17 -> 0 | D20: ='Memória de Cálculo'!D17 -> AQUISIÇÃO DE MATERIAL DE JAZIDA PARA BASE - CASCALHO | E20: ='Memória de Cálculo'!E17 -> M³ | F20: ='Memória de Cálculo'!F17 -> 118.35 | G20: A CARGO DO MUNICÍPIO
A21: ='Memória de Cálculo'!A18 -> 3.4 | B21: ='Memória de Cálculo'!B18 -> SICRO/ DNIT | C21: ='Memória de Cálculo'!C18 -> 5915320 | D21: ='Memória de Cálculo'!D18 -> TRANSPORTE COM CAMINHÃO BASCULANTE DE 14 M³ - RODOVIA EM REVESTIMENTO PRIMÁRIO | E21: ='Memória de Cálculo'!E18 -> TxKM | F21: ='Memória de Cálculo'!F18 -> 189.36 | G21: 0.75 | H21: =ROUND(G21+(G21*$I$7),2) -> 0.93 | I21: =ROUND((F21*H21),2) -> 176.1
A22: ='Memória de Cálculo'!A19 -> 0 | B22: ='Memória de Cálculo'!B19 -> 0 | C22: ='Memória de Cálculo'!C19 -> 0 | D22: ='Memória de Cálculo'!D19 -> 0 | E22: ='Memória de Cálculo'!E19 -> 0 | I22: =ROUND((F22*H22),2) -> 0
A23: ='Memória de Cálculo'!A20 -> 4.0 | B23: ='Memória de Cálculo'!B20 -> 0 | C23: ='Memória de Cálculo'!C20 -> 0 | D23: ='Memória de Cálculo'!D20 -> SERVIÇOS DE PAVIMENTAÇÃO | E23: ='Memória de Cálculo'!E20 -> 0 | H23: =ROUND(G23+(G23*$I$7),2) -> 0 | I23: =SUM(I24:I31) -> 43979.89
A24: ='Memória de Cálculo'!A21 -> 4.1 | B24: ='Memória de Cálculo'!B21 -> SICRO/ DNIT | C24: ='Memória de Cálculo'!C21 -> 4011352 | D24: ='Memória de Cálculo'!D21 -> IMPRIMAÇÃO COM EMULSÃO ASFÁLTICA (EAI) | E24: ='Memória de Cálculo'!E21 -> M² | F24: ='Memória de Cálculo'!F21 -> 546.38 | G24: 0.66 | H24: =ROUND(G24+(G24*$I$7),2) -> 0.82 | I24: =ROUND((F24*H24),2) -> 448.03
A25: ='Memória de Cálculo'!A22 -> 4.2 | B25: ='Memória de Cálculo'!B22 -> DER-MG | C25: ='Memória de Cálculo'!C22 -> ARP 231/2024 (Preço Unit. com ICMS) | D25: ='Memória de Cálculo'!D22 -> FORNECIMENTO DE MATERIAL BETUMINOSO EAI - EMULSÃO ASFÁLTICA PARA IMPRIMAÇÃO | E25: ='Memória de Cálculo'!E22 -> T | F25: ='Memória de Cálculo'!F22 -> 0.71 | G25: 2305.91 | H25: =ROUND(G25+(G25*$I$8),2) -> 2657.33 | I25: =ROUND((F25*H25),2) -> 1886.7
A26: ='Memória de Cálculo'!A23 -> 4.3 | B26: ='Memória de Cálculo'!B23 -> DER-MG | C26: ='Memória de Cálculo'!C23 -> TABELA DE FRETE 02 - (Pág. 01/04) | D26: ='Memória de Cálculo'!D23 -> FRETE DE MATERIAL BETUMINOSO - DER | E26: ='Memória de Cálculo'!E23 -> T | F26: ='Memória de Cálculo'!F23 -> 0.71 | G26: 126.96 | H26: =ROUND(G26+(G26*$I$8),2) -> 146.31 | I26: =ROUND((F26*H26),2) -> 103.88
A27: ='Memória de Cálculo'!A24 -> 4.4 | B27: ='Memória de Cálculo'!B24 -> SICRO/ DNIT | C27: ='Memória de Cálculo'!C24 -> 4011353 | D27: ='Memória de Cálculo'!D24 -> PINTURA DE LIGAÇÃO (RR-1C) | E27: ='Memória de Cálculo'!E24 -> M² | F27: ='Memória de Cálculo'!F24 -> 546.38 | G27: 0.46 | H27: =ROUND(G27+(G27*$I$7),2) -> 0.57 | I27: =ROUND((F27*H27),2) -> 311.44
A28: ='Memória de Cálculo'!A25 -> 4.5 | B28: ='Memória de Cálculo'!B25 -> DER-MG | C28: ='Memória de Cálculo'!C25 -> ARP 231/2024 (Preço Unit. com ICMS) | D28: ='Memória de Cálculo'!D25 -> FORNECIMENTO DE MATERIAL BETUMINOSO RR-1C | E28: ='Memória de Cálculo'!E25 -> T | F28: ='Memória de Cálculo'!F25 -> 0.27 | G28: 2926.57 | H28: =ROUND(G28+(G28*$I$8),2) -> 3372.58 | I28: =ROUND((F28*H28),2) -> 910.6
A29: ='Memória de Cálculo'!A26 -> 4.6 | B29: ='Memória de Cálculo'!B26 -> DER-MG | C29: ='Memória de Cálculo'!C26 -> TABELA DE FRETE 02 - (Pág. 01/04) | D29: ='Memória de Cálculo'!D26 -> FRETE DE MATERIAL BETUMINOSO - DER | E29: ='Memória de Cálculo'!E26 -> T | F29: ='Memória de Cálculo'!F26 -> 0.27 | G29: =G26 -> 126.96 | H29: =ROUND(G29+(G29*$I$8),2) -> 146.31 | I29: =ROUND((F29*H29),2) -> 39.5
A30: ='Memória de Cálculo'!A27 -> 4.7 | B30: ='Memória de Cálculo'!B27 -> SICOR/ SEINFRA | C30: ='Memória de Cálculo'!C27 -> ED-7623 | D30: ='Memória de Cálculo'!D27 -> EXECUÇÃO E APLICAÇÃO DE CONCRETO BETUMINOSO USINADO A QUENTE (CBUQ), MASSA COMERCIAL, INCLUINDO FORNECIMENTO E TRANSPORTE DOS AGREGADOS E ATERIAL BETUMINOSO, EXCLUSIVE TRANSPORTE DA MASSA ASFÁLTICA ATÉ A PISTA | E30: ='Memória de Cálculo'!E27 -> M³ | F30: ='Memória de Cálculo'!F27 -> 16.39 | G30: 1803.53 | H30: =ROUND(G30+(G30*$I$7),2) -> 2245.21 | I30: =ROUND((F30*H30),2) -> 36798.99
A31: ='Memória de Cálculo'!A28 -> 4.8 | B31: ='Memória de Cálculo'!B28 -> SICRO/ DNIT | C31: ='Memória de Cálculo'!C28 -> 5914612 | D31: ='Memória de Cálculo'!D28 -> TRANSPORTE DE MISTURA BETUMINOSA A QUENTE COM CAMINHÃO COM CAÇAMBA TÉRMICA DE 6 M³ - RODOVIA PAVIMENTADA | E31: ='Memória de Cálculo'!E28 -> TXKM | F31: ='Memória de Cálculo'!F28 -> 3107.81 | G31: 0.9 | H31: =ROUND(G31+(G31*$I$7),2) -> 1.12 | I31: =ROUND((F31*H31),2) -> 3480.75
A32: ='Memória de Cálculo'!A29 -> 0 | B32: ='Memória de Cálculo'!B29 -> 0 | C32: ='Memória de Cálculo'!C29 -> 0 | D32: ='Memória de Cálculo'!D29 -> 0 | E32: ='Memória de Cálculo'!E29 -> 0 | H32: =ROUND(G32+(G32*$I$7),2) -> 0
A33: ='Memória de Cálculo'!A30 -> 5.0 | B33: ='Memória de Cálculo'!B30 -> 0 | C33: ='Memória de Cálculo'!C30 -> 0 | D33: ='Memória de Cálculo'!D30 -> SERVIÇOS DE DRENAGEM | E33: ='Memória de Cálculo'!E30 -> 0 | I33: =SUM(I34:I35) -> 15756.93
A34: ='Memória de Cálculo'!A31 -> 5.1 | B34: ='Memória de Cálculo'!B31 -> SINAPI | C34: ='Memória de Cálculo'!C31 -> 94277 | D34: ='Memória de Cálculo'!D31 -> ASSENTAMENTO DE GUIA (MEIO-FIO) EM TRECHO RETO, CONFECCIONADA EM CONCRETO PRÉ-FABRICADO, DIMENSÕES 80X08X08X25 CM (COMPRIMENTO X BASE INFERIOR X BASE SUPERIOR X ALTURA). AF_01/2024 | E34: ='Memória de Cálculo'!E31 -> M | F34: ='Memória de Cálculo'!F31 -> 175 | G34: 54.49 | H34: =ROUND(G34+(G34*$I$7),2) -> 67.83 | I34: =ROUND((F34*H34),2) -> 11870.25
A35: ='Memória de Cálculo'!A32 -> 5.2 | B35: ='Memória de Cálculo'!B32 -> SINAPI | C35: ='Memória de Cálculo'!C32 -> 94287 | D35: ='Memória de Cálculo'!D32 -> EXECUÇÃO DE SARJETA DE CONCRETO USINADO, MOLDADA IN LOCO EM TRECHO RETO, 30 CM BASE X 10 CM ALTURA. AF_01/2024 | E35: ='Memória de Cálculo'!E32 -> M | F35: ='Memória de Cálculo'!F32 -> 84 | G35: 37.17 | H35: =ROUND(G35+(G35*$I$7),2) -> 46.27 | I35: =ROUND((F35*H35),2) -> 3886.68
A36: ='Memória de Cálculo'!A33 -> 0 | B36: ='Memória de Cálculo'!B33 -> 0 | C36: ='Memória de Cálculo'!C33 -> 0 | D36: ='Memória de Cálculo'!D33 -> 0 | E36: ='Memória de Cálculo'!E33 -> 0 | I36: =ROUND((F36*H36),2) -> 0
A37: ='Memória de Cálculo'!A34 -> 6.0 | B37: ='Memória de Cálculo'!B40 -> 0 | C37: ='Memória de Cálculo'!C40 -> 0 | D37: ='Memória de Cálculo'!D34 -> SINALIZAÇÃO VIÁRIA | E37: ='Memória de Cálculo'!E40 -> 0 | I37: =SUM(I38:I41) -> 3313.62
A38: ='Memória de Cálculo'!A35 -> 6.1 | B38: ='Memória de Cálculo'!B35 -> SICRO/ DNIT | C38: ='Memória de Cálculo'!C35 -> 5213570 | D38: ='Memória de Cálculo'!D35 -> PLACA EM AÇO - PELÍCULA I + I - FORNECIMENTO E IMPLANTAÇÃO | E38: ='Memória de Cálculo'!E35 -> M² | F38: ='Memória de Cálculo'!F35 -> 0.57 | G38: 458.05 | H38: =ROUND(G38+(G38*$I$7),2) -> 570.23 | I38: =ROUND((F38*H38),2) -> 325.03
A39: ='Memória de Cálculo'!A36 -> 6.2 | B39: ='Memória de Cálculo'!B36 -> SICRO/ DNIT | C39: ='Memória de Cálculo'!C36 -> 5213859 | D39: ='Memória de Cálculo'!D36 -> SUPORTE METÁLICO GALVANIZADO PARA PLACA DE REGULAMENTAÇÃO - R2 - LADO DE 0,60 M - FORNECIMENTO E IMPLANTAÇÃO | E39: ='Memória de Cálculo'!E36 -> UN | F39: ='Memória de Cálculo'!F36 -> 2 | G39: 469.96 | H39: =ROUND(G39+(G39*$I$7),2) -> 585.05 | I39: =ROUND((F39*H39),2) -> 1170.1
A40: ='Memória de Cálculo'!A37 -> 6.3 | B40: ='Memória de Cálculo'!B37 -> SICRO/ DNIT | C40: ='Memória de Cálculo'!C37 -> 5213401 | D40: ='Memória de Cálculo'!D37 -> PINTURA DE FAIXA COM TINTA ACRÍLICA - ESPESSURA DE 0,6 MM | E40: ='Memória de Cálculo'!E37 -> M² | F40: ='Memória de Cálculo'!F37 -> 17.5 | G40: 27.46 | H40: =ROUND(G40+(G40*$I$7),2) -> 34.18 | I40: =ROUND((F40*H40),2) -> 598.15
A41: ='Memória de Cálculo'!A38 -> 6.4 | B41: ='Memória de Cálculo'!B38 -> SICRO/ DNIT | C41: ='Memória de Cálculo'!C38 -> 5219619 | D41: ='Memória de Cálculo'!D38 -> TACHA REFLETIVA EM RESINA SINTÉTICA - BIDIRECIONAL TIPO I - COM UM PINO - FORNECIMENTO E COLOCAÇÃO | E41: ='Memória de Cálculo'!E38 -> UN | F41: ='Memória de Cálculo'!F38 -> 22 | G41: 44.56 | H41: =ROUND(G41+(G41*$I$7),2) -> 55.47 | I41: =ROUND((F41*H41),2) -> 1220.34
A42: ='Memória de Cálculo'!A43 -> 0 | B42: ='Memória de Cálculo'!B43 -> 0 | C42: ='Memória de Cálculo'!C43 -> 0 | E42: ='Memória de Cálculo'!E43 -> 0 | I42: =ROUND((F42*H42),2) -> 0
A43: TOTAL | D43: TOTAL | I43: =I11+I17+I23+I33+I37 -> 68654.42
...

Sheet Cronograma
A2: CRONOGRAMA FÍSICO-FINANCEIRO
A3: ='Planilha Orcamentária'!A3 -> PREFEITURA MUNICIPAL DE CRUCILÂNDIA | C3: VALOR DO CONVÊNIO: | D3: =D20 -> 68826.06 | E3: DATA: | G3: =TODAY() -> 46155 | H3: FOLHA Nº: 05/05
A4: ='Planilha Orcamentária'!A4 -> OBRA: PAVIMENTAÇÃO ASFÃLTICA EM CBUQ | E4: PREVISÃO DE EXECUÇÃO DAS OBRAS: 3 MESES
A5: ='Planilha Orcamentária'!A5 -> LOCAL: ESTRADA RURAL DE ACESSO DO MUNICÍPIO DE CRUCILÂNDIA AO POVOADO DE BURÁ (EM FRENTE A CAPELA)- ZONA RURAL, MUNICÍPIO DE CRUCILÂNDIA/MG.
A6: ITENS | B6: ETAPAS/DESCRIÇÃO | C6: FÍSICO/ FINANCEIRO | D6: TOTAL ETAPAS | E6: MÊS 1 | F6: MÊS 2 | G6: MÊS 3 | H6: MÊS 4
A7: ='Planilha Orcamentária'!A11 -> 1.0 | B7: ='Planilha Orcamentária'!D11 -> SERVIÇOS PRELIMINARES | C7: Físico % | D7: =D8/$D$20 -> 0.021826762 | E7: 1 | F7: 0 | G7: 0 | H7: 0
C8: Financeiro | D8: ='Planilha Orcamentária'!I11 -> 1502.25 | E8: =E7*$D$8 -> 1502.25 | F8: =F7*$D$8 -> 0 | G8: =G7*$D$8 -> 0 | H8: =H7*$D$8 -> 0
A9: ='Memória de Cálculo'!A11 -> 2.0 | B9: ='Memória de Cálculo'!D11 -> MOBILIZAÇÃO E DESMOBILIZAÇÃO DE OBRA | C9: Físico % | D9: =D10/$D$20 -> 0.0024938228 | E9: 1 | F9: 0 | G9: 0 | H9: 0
C10: Financeiro | D10: ='Planilha Orcamentária'!I14 -> 171.64 | E10: =E9*$D$8 -> 1502.25 | F10: =F9*$D$8 -> 0 | G10: =G9*$D$8 -> 0 | H10: =H9*$D$8 -> 0
A11: ='Planilha Orcamentária'!A17 -> 3.0 | B11: ='Planilha Orcamentária'!D17 -> SERVIÇOS DE TERRAPLENAGEM | C11: Físico % | D11: =D12/$D$20 -> 0.059595595 | E11: 1 | F11: 0 | G11: 0 | H11: 0
C12: Financeiro | D12: ='Planilha Orcamentária'!I17 -> 4101.73 | E12: =E11*$D$12 -> 4101.73 | F12: =F11*$D$12 -> 0 | G12: =G11*$D$12 -> 0 | H12: =H11*$D$12 -> 0
A13: ='Planilha Orcamentária'!A23 -> 4.0 | B13: ='Planilha Orcamentária'!D23 -> SERVIÇOS DE PAVIMENTAÇÃO | C13: Físico % | D13: =D14/$D$20 -> 0.63900055 | E13: 0.5 | F13: 0.5
C14: Financeiro | D14: ='Planilha Orcamentária'!I23 -> 43979.89 | E14: =E13*$D$14 -> 21989.945 | F14: =F13*$D$14 -> 21989.945 | G14: =G13*$D$14 -> 0 | H14: =H13*$D$14 -> 0
A15: ='Planilha Orcamentária'!A33 -> 5.0 | B15: ='Planilha Orcamentária'!D33 -> SERVIÇOS DE DRENAGEM | C15: Físico % | D15: =D16/$D$20 -> 0.22893843 | E15: 0 | F15: 0.5 | G15: 0.5
C16: Financeiro | D16: ='Planilha Orcamentária'!I33 -> 15756.93 | E16: =E15*$D$16 -> 0 | F16: =F15*$D$16 -> 7878.465 | G16: =G15*$D$16 -> 7878.465 | H16: =H15*$D$16 -> 0
A17: ='Planilha Orcamentária'!A37 -> 6.0 | B17: ='Planilha Orcamentária'!D37 -> SINALIZAÇÃO VIÁRIA | C17: Físico % | D17: =D18/$D$20 -> 0.048144845 | E17: 0 | F17: 0 | G17: 1
C18: Financeiro | D18: ='Planilha Orcamentária'!I37 -> 3313.62 | E18: =E17*$D$18 -> 0 | F18: =F17*$D$18 -> 0 | G18: =G17*$D$18 -> 3313.62 | H18: =H17*$D$18 -> 0
A19: TOTAL | C19: Físico % | D19: =D7+D11+D13+D15+D17+D9 -> 1 | E19: =E20/$D$20 -> 0.40092263 | F19: =F20/$D$20 -> 0.43396949 | G19: =G20/$D$20 -> 0.16261406 | H19: =H20/$D$20 -> 0
C20: Financeiro | D20: =D8+D12+D14+D16+D18+D10 -> 68826.06 | E20: =E8+E12+E14+E16+E18 -> 27593.925 | F20: =F8+F12+F14+F16+F18 -> 29868.41 | G20: =G8+G12+G14+G16+G18 -> 11192.085 | H20: =H8+H12+H14+H16+H18 -> 0
G21: Observações:
B23: ='Memória de Cálculo'!D43 -> HUILDYS ESTÁCIO DE OLIVEIRA
B24: ='Memória de Cálculo'!D44 -> ENGENHEIRO CIVIL
B25: ='Memória de Cálculo'!D45 -> CREA/MG Nº: 249.249/D
B28: {='Memória de Cálculo'!F43:G43} -> ELIZÂNGELA CRISTINA LARA DINIZ | C28: 0
B29: {='Memória de Cálculo'!F44:G44} -> PREFEITA MUNICIPAL | C29: 0
