Workbook

Sheet PLANILHA
B1: SECRETARIA DE ESTADO DE EDUCAÇÃO - SUPERINTENDÊNCIA DE INFRAESTRUTURA E LOGÍSTICA - DIRETORIA DE GESTÃO DE PARCERIAS E FISCALIZAÇÃO - PLANILHA DE SERVIÇOS - SEM DESONERAÇÃO
A2: ESCOLA MUNICIPAL: DARCY RIBEIRO | C2: COD ESCOLA: | F2: S.R.E.:
A3: MUNICÍPIO: CRUCILÂNDIA | C3: ISS | D3: 0.05 | E3: SERVIÇOS: | F3: REFORMA
A4: ITEM | B4: DESCRIÇÃO | C4: UN | D4: ANALISADO | G4: =G334 -> 1814420.1 | H4: LOCAL DE INTERVENÇÃO
D5: QUANT. | E5: P. UNIT. (S/BDI) | F5: P. UNIT. (C/BDI) | G5: P. TOTAL (C/BDI) | H5: MEMÓRIA DE CALCULO
A6: 010000 | B6: INSTALAÇÃO DOS SERVIÇOS DE ENGENHARIA
A7: 010001 | B7: Locação dos serviços de engenharia: execução de gabarito | C7: M | D7: 130.76 | E7: 48.53 | F7: =E7*(1+C$333) -> 60.385879 | G7: =D7*F7 -> 7896.0575 | H7: AO LONGO DE TODA OBRA DE REFORMA (34,23+0,5+0,5)*2+(29,15+0,5+0,5)*2= 130,76M
B8: Será medido pela área de obra locada, aferida entre os eixos de fundação e acrescentando-se 0,50 m, a partir do eixo, para o lado externo (m). O item remunera o fornecimento de pontaletes em Pinus ou Cedrinho de 3" x 3"; tábuas em Pinus de 1" x 12"; arame galvanizado; inclusive materiais acessórios e a mão-de-obra necessária para os serviços de locação completa em obras de edificação compreendendo: locação de estacas, eixos principais, paredes, etc.
A10: 010002 | B10: Locação para muros, cercas e alambrados | C10: M | D10: 76.97 | E10: 1.12 | F10: =E10*(1+C$333) -> 1.393616 | G10: =D10*F10 -> 107.26662 | H10: PARTE DO MURO LATERAL + MURO DA FRENTE MAS PARTE TODA LATERAL - 42,71+32,75+ 4,86-3,35=
B11: Será medido por comprimento de muros, cercas ou alambrados locados (m). O item remunera o fornecimento de veículo para locomoção, materiais, mão-de-obra qualificada e equipamentos necessários para execução de serviços de locação de muros, cercas ou alambrados.
A13: 010006 | B13: Barracão em madeira, piso cimentado e cobertura em telhas de fibrocimento ondulada | C13: M² | D13: 25 | E13: 565.51 | F13: =E13*(1+C$333) -> 703.66409 | G13: =D13*F13 -> 17591.602 | H13: 5,00*5,00=25,00M² INTALADO EM LOCAL DETERMINADO PELA FISCALIZAÇÃO
B14: Será medido pela área de projeção da cobertura de construção provisória executada, com croqui analisado e aprovado previamente pela fiscalização. (M²) O item remunera o fornecimento de materiais e mão-de-obra necessários para a execução de construção provisória em madeira destinada a escritório e/ou depósito de obra, constituída por: piso interno e calçada externa em concreto usinado, Fck 20 MPa; paredes, portas e janelas em chapa compensada plastificada de no mínimo 6 mm de espessura, e / ou compensado resinado com seladora impermeabilizante e aplicação de textura na pintura; janelas com vidro fantasia de 3 ou 4mm; porta com dobradiças de latão cromado e fechadura de embutir cromada e com miolo tipo Georges; estrutura, apoio para cobertura e contraventamentos em pontaletes e tábuas de Pinus ou Cedrinho e engradamento da cobertura de eucalipto imunizado, cobertura com telha em fibrocimento, perfil ondulado de no mínimo 5 mm de espessura; instalação elétrica e pintura acrílica, materiais acessórios para execução total da construção provisória, conforme norma regulamentadora. Devem obedecer a NR 18 (Áreas de vivência). Remunera também a manutenção durante todo o período da obra e a desmobilização completa deste barracão.
A16: 010008 | B16: Tapume em chapa compensado de 12mm e pontaletes h= 2,20m com portão. | C16: M² | D16: 76.97 | E16: 157.76 | F16: =E16*(1+C$333) -> 196.30077 | G16: =D16*F16 -> 15109.27 | H16: MUROS REFORMA(42,71+32,75+ 4,86-3,35) = 76,97M
B17: Será medido por área, aferida na projeção vertical de tapume executado, previamente aprovado pela fiscalização (M²). O item remunera o fornecimento de chapa compensada resinada de 12mm, pontalete de Pinus ou Cedrinho, de 3" x 3", materiais acessórios e a mão-de-obra necessária para a execução do tapume com portão completo com dobradiças, ferragens e cadeado. Remunera também a desmontagem completa do tapume de fechamento e remoção do material utilizado.
A19: 010009 | B19: Portão para tapume fixo de proteção com fechamento de obra em chapa de compensado, espessura de 12mm | C19: M² | D19: 7.37 | E19: 136.58 | F19: =E19*(1+C$333) -> 169.94649 | G19: =D19*F19 -> 1252.5057 | H19: PORTÃO MURO EXTERNO = 3,35*2,20=7,37M
B20: Será medido por área, aferida na projeção vertical de portão executado, em local previamente aprovado pela fiscalização (M²). O item remunera o fornecimento de chapa compensada resinada de 12mm, pontalete de Pinus ou Cedrinho, de 3" x 3", materiais acessórios e a mão-de-obra necessária para a construção do portão. Remunera também os acessórios necessários inclusive dobradiças e manutenção e posterior desmontagem completa e remoção do material utilizado.
C22: SUB-TOTAL = | G22: =SUM(G7:G21) -> 41956.702
A23: 030000 | B23: TRABALHOS EM TERRA
A24: 030001 | B24: Aterro Compactado manual, com soquete | C24: M3 | D24: 180.17 | E24: 69.95 | F24: =E24*(1+C$333) -> 87.038785 | G24: =D24*F24 -> 15681.778 | H24: 6,20*14,53*2,00 = 180,17M³
B25: Será medido pelo volume de aterro compactado (m³). O item remunera o fornecimento de equipamentos e mão-de-obra necessários para execução dos serviços de aterro interno, com material existente ou importado, incluindo o apiloamento em camadas, de 20 cm, com maço de 30 kg e a disposição das sobras.
A27: 030002 | B27: Escavação manual de vala em solo de 1ª e 2ª categoria, profundidade em até 2,00m | C27: M3 | D27: 4.22 | E27: 69.65 | F27: =E27*(1+C$333) -> 86.665495 | G27: =D27*F27 -> 365.72839 | H27: (14,53*2,00+6,20*2+6,09+5,54+5,59*2+6,09)*0,2*0,3=4,22M³
B28: Será medido pelo volume escavado, considerando-se um acréscimo para cada lado, no plano horizontal, em relação às dimensões de cada peça, de 20 cm (m³). O item remunera o fornecimento da mão-de-obra necessária para a escavação manual em solo de 1ª e 2ª categorias em valas ou cavas até 2,00 m de profundidade.
A30: 030004 | B30: Regularização de fundo de vala com apiloamento com maço de 30kg | C30: M2 | D30: 14.07 | E30: 23.48 | F30: =E30*(1+C$333) -> 29.216164 | G30: =D30*F30 -> 411.07143 | H30: (14,53*2,00+6,20*2+6,09+5,54+5,59*2+6,09)*0,2= 14,07M²
B31: Será medido pela área de fundo da vala (m²). O item remunera o fornecimento de equipamentos e mão-de-obra necessários para execução dos serviços de regularização do fundo de vala com maço de 30 kg.
C33: SUB-TOTAL = | G33: =SUM(G24:G32) -> 16458.578
A34: 040000 | B34: SONDAGEM, FUNDAÇÕES, MUROS E CONTENÇÕES
A35: ED-29821 SEINFRA | B35: MOBILIZAÇÃO E DESMOBILIZAÇÃO DE EQUIPAMENTO PARA ESTACA TIPO STRAUSS (CUSTO FIXO), INCLUSIVE CARGA E DESCARGA, EXCLUSIVE TRANSPORTE EM QUILÔMETRO RODADO (CUSTO VARIÁVEL) | C35: UN | D35: 1 | E35: 5182.46 | F35: =E35*(1+C$333) -> 6448.535 | G35: =D35*F35 -> 6448.535 | H35: MOBILIZÇÃO E DESMOBILIZAÇÃO COMO UMA ÚNICA UNIDADE
A37: ED-29822 SEINFRA | B37: MOBILIZAÇÃO E DESMOBILIZAÇÃO DE EQUIPAMENTO PARA ESTACA TIPO STRAUSS (CUSTO VARIÁVEL), EXCLUSIVE CUSTO FIXO DE TRANSPORTE | C37: KM | D37: 106 | E37: 11.07 | F37: =E37*(1+C$333) -> 13.774401 | G37: =D37*F37 -> 1460.0865 | H37: REFERÊNCIA DE BELO HORIZONTE A CRUCILÂNDIA
A39: ED-26523 SEINFRA | B39: EXECUÇÃO DE ESTACA TIPO STRAUSS, DIÂMETRO 32CM, EXCLUSIVE ARMAÇÃO E CONCRETO ESTRUTURAL | C39: M | D39: 480 | E39: 52.17 | F39: =E39*(1+C$333) -> 64.915131 | G39: =D39*F39 -> 31159.263 | H39: 10*18,00+30*10,00
A41: ED-26525 SEINFRA | B41: EXECUÇÃO DE ESTACA TIPO STRAUSS, DIÂMETRO 45CM, EXCLUSIVE ARMAÇÃO E CONCRETO ESTRUTURAL | C41: M | D41: 48 | E41: 56.04 | F41: =E41*(1+C$333) -> 69.730572 | G41: =D41*F41 -> 3347.0675 | H41: 1*18,00+3*10,00
A43: 040003 | B43: Concreto armado para fundação (incluindo fornecimento, transporte, lançamento, forma e desforma) | C43: M3 | D43: 88.33 | E43: 2038.38 | F43: =E43*(1+C$333) -> 2536.3562 | G43: =D43*F43 -> 224036.35 | H43: 27,93+50,853+9,55
B44: Será medido pelo volume calculado no projeto de formas, sendo que o volume da interseção dos diversos elementos estruturais deve ser computado uma só vez (m³). O item remunera o fornecimento de betoneira, pedra britada números 1 e 2, cimento, areia e a mão-de-obra necessária para o preparo do concreto, com resistência mínima à compressão de 20,0 MPa. Remunera também o transporte, lançamento e adensamento. Está também incluído e remunerado 70Kg por m³ de concreto de armadura considerando o fornecimento de aço CA-50 ( A ou B ) com fyk igual 500 MPa, dobramento, transporte e colocação de armaduras de qualquer bitola e qualquer comprimento; estão incluídos no item os serviços e materiais secundários como arame, espaçadores, perdas decorrentes de desbitolamento, cortes e pontas de traspasse para emendas e também 8m² de forma por m³ de concreto considerando o fornecimento dos materiais e a mão-de-obra para execução e instalação da forma, incluindo escoras, gravatas, desmoldante e desforma.
A46: 040005 | B46: Contrapiso não estrutural impermeabilizado, E=5 cm | C46: M2 | D46: 84.36 | E46: 61.51 | F46: =E46*(1+C$333) -> 76.536893 | G46: =D46*F46 -> 6456.6523 | H46: 7,03*6,00*2=84,36M²
B47: Será medido pela área onde será executado, na espessura mínima de 5cm (m²). O item remunera o fornecimento de cimento, areia, pedra britada nº 1, 2, e a mão-de-obra necessária para o apiloamento do terreno e execução do lastro.
A49: ED-29582 SEINFRA | B49: ARMADURA DE TELA DE AÇO CA-60, SOLDADA TIPO Q-138, DIÂMETRO Ø4,2MM, TRAMA COM DIMENSÃO (100X100)MM, INCLUSIVE ESPAÇADOR, EXCLUSIVE CONCRETO | C49: M² | D49: 84.36 | E49: 30.36 | F49: =E49*(1+C$333) -> 37.776948 | G49: =D49*F49 -> 3186.8633 | H49: 7,03*6,00*2=84,36M²
A51: 040007 | B51: Concreto magro de cimento Portland Fck >= 10,0 Mpa (execução, incluindo o fornecimento e transporte dos agregados) | C51: M³ | D51: 0.7 | E51: 561 | F51: =E51*(1+C$333) -> 698.0523 | G51: =D51*F51 -> 488.63661 | H51: (14,53*2,00+6,20*2+6,09+5,54+5,59*2+6,09)*0,2*0,05=0,70M³
B52: Será medido pelo volume calculado no local de aplicação (m³). O item remunera o fornecimento de betoneira, pedra britada número 1, cimento, areia e a mão-de-obra necessária para o preparo do concreto, com resistência mínima à compressão de 10,0 MPa. Remunera também o transporte, lançamento e adensamento.
A54: 040100 | B54: Muros.
A55: 040101 | B55: Muro divisório em bloco de concreto aparente espessura 15 cm, altura útil de 2,20m, assentado com argamassa mista de cimento, cal hidratada e areia sem peneira traço 1:0,5:8 inclusive sapata corrida em concreto armado com Fck mínimo de 20 MPA e chapéu de muro | C55: M | D55: 52.69 | E55: 508.76 | F55: =E55*(1+C$333) -> 633.05007 | G55: =D55*F55 -> 33355.408 | H55: 3,06+3,65+0,40+0,40+1,04+2,01+32,77+1,48+MURO FRENTE(((20,20*0,40+((0,17+0,51)/2)*7,21+0,40*2,13+0,40*2,32+1,04*3,12+((0,20+0,54)/2)*7,20)/2,20)=52,69M
B56: Será medido pelo comprimento executado, descontando-se todos os vãos (m). O item remunera o fornecimento de materiais e mão-de-obra necessários para a execução de sapata com dimensão mínima de 40 x 20 cm com escavação manual de 50 x 55cm, apiloamento de fundo de vala, reaterro, forma de fundação e concreto armado com Fck mínimo de 20MPA suas respectivas especificações, impermeabilização da sapata, alvenaria de vedação aparente, confeccionada em bloco vazado de concreto simples, com superfície isenta de trincas, lascas, ou pequenas imperfeições nas faces que ficarão expostas,, assentada com argamassa de cimento, cal hidratada e areia; dimensões padronizadas de 14 x 19 x 39 cm, e resistência mínima à compressão de acordo com a NBR 6136. Remunera também a construção de pilares armados a cada 2,50m com Fck mínimo de 20MPA com dimensões de 14 x 20 cm com a respectiva broca de 25 cm x 1,00 m concretada e o fornecimento e colocação de chapéu de muro.
A58: 040103 | B58: Chapéu de muro ou cimalha em concreto com pingadeira para muros em alvenaria em bloco de concreto ou tijolo cerâmico | C58: M | D58: 192.5 | E58: 19.28 | F58: =E58*(1+C$721) -> 19.28 | G58: =D58*F58 -> 3711.4 | H58: PLATIBANDA((18,00+13,32)*2+23,26+0,55+5,74+34,23+29,00+34,78)+ MUROS EXISTENTES(2,30)= 192,50M
B59: Será medido por metro linear de chapéu de muro ou cimalha em concreto executada (m). O item remunera o fornecimento dos materiais, equipamentos necessários e a mão-de-obra necessária para execução do chapéu de muro ou cimalha em concreto com pingadeira (20X5cm)
A61: 040200 | B61: Impermeabilizações de fundações e drenos
A62: 040201 | B62: Impermeabilizações de sapatas em concreto ou alvenaria de embasamento com aplicação de tinta betuminosa | C62: M² | D62: 33.17 | E62: 33.36 | F62: =E62*(1+C$333) -> 41.509848 | G62: =D62*F62 -> 1376.8817 | H62: (14,50*3,00+6,40*3+6,09+5,54+5,59*2+6,09+42,51+32,77+1,48+3,06)*0,2=33,17M²
B63: Será medido por área de superfície com aplicação de imprimação, nas dimensões da sapata ou alvenaria de embasamento (baldrame) (m²). O item remunera o fornecimento de materiais e mão-de-obra necessários para a execução de pintura com tinta betuminosa em duas demãos em todo baldrame (laterais e parte superior). Remunera também a limpeza necessária para aplicação da tinta.
C64: SUB-TOTAL = | G64: =SUM(G35:G63) -> 315027.14
A65: 050000 | B65: SUPERESTRUTURA
A66: 050005 | B66: Concreto armado (incluindo fornecimento, transporte, lançamento, forma e desforma) | C66: M3 | D66: 85.08 | E66: 2786.64 | F66: =E66*(1+C$333) -> 3467.4162 | G66: =D66*F66 -> 295007.77 | H66: CONFORME PROJETO
B67: Será medido pelo volume calculado no projeto de formas, sendo que o volume da interseção dos diversos elementos estruturais deve ser computado uma só vez (m³). O item remunera o fornecimento de betoneira, pedra britada números 1 e 2, cimento, areia e a mão-de-obra necessária para o preparo do concreto, com resistência mínima à compressão de 25,0 MPa. Remunera também o transporte, lançamento e adensamento. Está também incluído e remunerado 80Kg por m³ de concreto de armadura considerando o fornecimento de aço CA-50 ( A ou B ) com fyk igual 500 MPa, dobramento, transporte e colocação de armaduras de qualquer bitola e qualquer comprimento; estão incluídos no item os serviços e materiais secundários como arame, espaçadores, perdas decorrentes de desbitolamento, cortes e pontas de traspasse para emendas e também 15m² de forma de compensado plastificado por m³ de concreto considerando o fornecimento dos materiais e a mão-de-obra para execução e instalação da forma, incluindo escoras, gravatas, desmoldante e desforma.
A69: 050012 | B69: Vergas ou contravergas retas em concreto armado Fck 20 Mpa | C69: M³ | D69: 3.88 | E69: 3070.36 | F69: =E69*(1+C$333) -> 3820.4489 | G69: =D69*F69 -> 14823.342 | H69: (10(PORTAS)*0,90+16(JANELAS)2,60*2+04(JANELAS)2,25*2+13(JANELA)*2,40=172,60*0,15*0,15=3,88M³
B70: Será medido pelo volume real calculado no projeto de formas dos diversos elementos estruturais (m³). O item remunera o fornecimento de cimento, areia e pedra britada nº 2 para o concreto; aço CA-25 e arame cozido para armação; tábua de Pinus ou Cedrinho de 1" x 12" e acessórios para as formas e a mão-de-obra necessária para a execução das vergas ou contravergas.
C71: SUB-TOTAL = | G71: =SUM(G66:G70) -> 309831.11
A72: 060000 | B72: ALVENARIA
A73: 060100 | B73: Execução de:
A74: 060102 | B74: Alvenaria de vedação com tijolo cerâmico furado 14x19x39cm, espessura da parede 14cm, juntas de 10mm com argamassa mista de cimento cal hidratada e areia sem peneirar traço 1:2:8 | C74: M2 | D74: 117.27 | E74: 64.05 | F74: =E74*(1+C$333) -> 79.697415 | G74: =D74*F74 -> 9346.1159 | H74: (5,54+5,59*2+6,09+2,72+6,29)*3,35*1,10=117,27M²
B75: Será medido por área de superfície executada, descontando-se todos os vãos (m²). O item remunera o fornecimento de materiais e mão-de-obra necessários para a execução de alvenaria de vedação revestida, confeccionada em bloco vazado cerâmico simples, com superfície áspera para garantir a aderência do revestimento, assentada com argamassa de cimento, cal hidratada e areia; dimensões padronizadas de 140 x 190 x 390 mm, e resistência mínima à compressão de acordo com a NBR 15270-1.
A77: 060103 | B77: Alvenaria de vedação com tijolo cerâmico furado 19 x 19 x 39 cm, espessura da parede 19 cm, juntas de 10 mm, assentado com argamassa mista de cimento, cal hidratada e areia sem peneirar traço 1:2:8 | C77: M2 | D77: 180.05 | E77: 84.35 | F77: =E77*(1+C$333) -> 104.9567 | G77: =D77*F77 -> 18897.455 | H77: (6,00*3+15,43*2)*3,35*1,10=180,05M²
B78: Será medido por área de superfície executada, descontando-se todos os vãos (m²). O item remunera o fornecimento de materiais e mão-de-obra necessários para a execução de alvenaria de vedação revestida, confeccionada em bloco vazado cerâmico simples, com superfície áspera para garantir a aderência do revestimento, assentada com argamassa de cimento, cal hidratada e areia; dimensões padronizadas de 190 x 190 x 390 mm, e resistência mínima à compressão de acordo com a NBR 15270-1.
A80: 060108 | B80: Alvenaria estrutural com bloco de concreto, 19x19x39 cm, aparente espessura da parede 19 cm, juntas de 10mm com argamassa mista de cimento, cal hidratada e areia sem peneirar traço 1:0,25:3 | C80: M2 | D80: 12.54 | E80: 94.85 | F80: =E80*(1+C$717) -> 94.85 | G80: =D80*F80 -> 1189.419 | H80: (3,40+1,44+22,08+3,40+32,37)*0,20=12,54M²
B81: Será medido por área de superfície executada, descontando-se todos os vãos (m²). O item remunera o fornecimento de materiais e mão-de-obra necessários para a execução de alvenaria estrutural, confeccionada em bloco vazado de concreto estrutural, aparente, assentada com argamassa de cimento, cal hidratada e areia; dimensões padronizadas de 19 x 19 x 39 cm, e resistência mínima à compressão de acordo com a NBR 6136.
A83: 060109 | B83: Alvenaria estrutural com bloco de concreto 19x19x39cm cheios e armado. | C83: M² | D83: 131.27 | E83: 259.01 | F83: =E83*(1+C$333) -> 322.28614 | G83: =D83*F83 -> 42306.502 | H83: (5,54+5,59*2+6,09+2,72+6,29)*0,3+ (6,00*5+15,43*2)*2,00= 131,27M²
B84: Será medido por área de superfície executada, descontando-se todos os vãos (m²). O item remunera o fornecimento de materiais e mão-de-obra necessários para a execução de alvenaria estrutural, confeccionada em bloco vazado de concreto estrutural, assentado com argamassa de cimento, cal hidratada e areia; dimensões padronizadas de 19 x 19 x 39 cm com os furos com concreto Fck de 25MPA feito em obra e complementado com armação de aço CA 50, e resistência mínima à compressão de acordo com a NBR 6136.
C85: SUB-TOTAL = | G85: =SUM(G74:G84) -> 71739.492
A86: 070000 | B86: COBERTURA E FORRO
A87: 070100 | B87: Fornecimento, transporte e colocação de telhas, tipo:
A88: 070112 | B88: Telha metálica galvanizada trapezoidal, tipo dupla termoacústica com duas faces trapezoidais, esp. 0,43mm, preenchimento em poliestireno expandido/isopor com esp. 30mm, acabamento natural, inclusive acessórios para fixação, fornecimento e instalação | C88: M² | D88: 751.62 | E88: 267.65 | F88: =E88*(1+C$333) -> 333.03689 | G88: =D88*F88 -> 250317.19 | H88: (34,93*28,50)-(18,00*13,32+5,89*0,70)=751,62M²
B89: Será medido pela área de telhamento (m²), sendo: A) Quando plano, ou inclinado abaixo de 18%, pela área de cobertura em projeção horizontal, ou pela área de vedação lateral em projeção vertical; B) Quando inclinado a partir de 18%, pela área de cobertura em projeção horizontal, ou pela área de vedação lateral em projeção vertical, com os acréscimos: - 5% para coberturas de 18% a 27% de inclinação; - 8% para coberturas de 28% a 38% de inclinação; - 12% para coberturas de 39% a 50% de inclinação. O item remunera o fornecimento das telhas em chapa de aço galvanizado, perfil trapezoidal com no mínimo 0,43 mm de espessura, dupla ambas trapezoidais preenchida com poliestireno expandido /isopor, materiais acessórios para a fixação das telhas, em estrutura, de apoio, metálica, ou de madeira, costura, fechamento e vedação entre as telhas e a mão-de-obra necessária para o transporte interno à obra, içamento e a montagem completa das telhas.
A91: 070400 | B91: Instalação de Calhas e rufos:
B92: Será medido por comprimento instalado (m). Os itens remuneram o fornecimento e instalação de calhas ou rufos em chapa galvanizada nº 24, com desenvolvimento descrito no item, inclusive materiais acessórios para emendas, junção em outras peças, vedação e fixação.
A94: 070402 | B94: Calha de chapa galvanizada, nº 24 desenvolvimento 50 cm | C94: M | D94: 110 | E94: 69.08 | F94: =E94*(1+C$333) -> 85.956244 | G94: =D94*F94 -> 9455.1868 | H94: 33,93+5,34+22,46+34,63+13,62=110,00M
A96: 070406 | B96: Rufo de chapa de aço galvanizado nº 24, desenvolvimento 50cm | C96: M | D96: 111 | E96: 75.59 | F96: =E96*(1+C$333) -> 94.056637 | G96: =D96*F96 -> 10440.287 | H96: 8,40*2+18,00*2+13,32*2,00+7,93*2+7,34+8,19=110,83M
A98: 070500 | B98: Condutor de água pluvial e buzinotes
B99: Será medido por comprimento instalado (m). O item remunera o fornecimento de materiais e mão de obra para instalação de tubo na cor branca (condutores) verticais e executadas com PVC reforçado com as juntas com bolsa e anel de borracha, inclusive materiais acessórios para emendas, suportes, junção em outras peças, vedação e fixação.
A101: 070502 | B101: Condutor de água (tubo de PVC branco, com conexões, ponta bolsa e virola, diâmetro da seção 100mm) | C101: M | D101: 45 | E101: 84.45 | F101: =E101*(1+C$333) -> 105.08114 | G101: =D101*F101 -> 4728.6511 | H101: PERÍMETRO TELHADO = 126,76M/10= 13 SAÍDAS * 3,45= 44,85M
A103: 070612 | B103: Fornecimento, fabricação, transporte e montagem de estrutura metálica sobre lajes para telha ondulada de fibrocimento, metálica, plástica ou termoacústica | C103: M2 | D103: 751.62 | E103: 43.53 | F103: =E103*(1+C$333) -> 54.164379 | G103: =D103*F103 -> 40711.031 | H103: (34,93*28,50)-(18,00*13,32+5,89*0,70)=751,62M²
B104: Será medido pela projeção horizontal da cobertura (m²). O item remunera o fornecimento de estrutura metálica em aço laminado perfil "U" enrijecido E = 3,75 mm, H =200 mm e L = 75 mm, incluindo chapas de ligação, soldas, parafusos galvanizados, chumbadores, perdas e acessórios, beneficiamento e pré-montagem de partes da estrutura em fábrica ou canteiro, transporte e descarregamento, traslado interno à obra, montagem e instalação completa.
A106: 070700 | B106: Fornecimento, transporte e colocação de forro:
A107: 070705 | B107: Forro de gesso acartonado fixo monolítico, suspensos por pendurais de arame galvanizado nº 18 painel, e=12,5 mm | C107: M2 | D107: 648.23 | E107: 86.95 | F107: =E107*(1+C$333) -> 108.19188 | G107: =D107*F107 -> 70133.226 | H107: 23,26+18,00+24,96+41,60+41,77+44,58+43,14+43,14+44,60+44,73+44,73+17,08+17,08+10,71+4,08+6,42+5,44+5,44+7,09+39,63+120,75=648,23M²
B108: Será medido por área desenvolvida de forro executado (m²). O item remunera o fornecimento e instalação de forro monolítico em gesso para uso interno "drywall", retos ou curvos, horizontais ou inclinados constituído por: A) Estrutura em perfis leves de aço galvanizado com zincagem tipo B ( 260 g / m² ), compreendendo: perfis de aço com espessura de 0,50 mm, denominados canaletas longitudinais, ou perfil tabica, espaçados a cada 60 cm; união em aço para a fixação dos perfis longitudinais, entre si; presilhas de regulagem em aço, para a fixação dos perfis nos pendurais de sustentação do forro; suspensão com regulagem em aço galvanizado para a fixação dos montantes; pendurais em arame galvanizado nº 10 ( BWG ); parafusos auto perfurantes e atarrachantes, galvanizados para a fixação das chapas e perfil / perfil; B) Uma chapa, fixada na face externa da estrutura, industrializada a partir da gipsita natural e cartão duplex, tipo Standard ( ST ), com espessura de 12,5 mm; C) Fita de papel microperfurada, empregada nas juntas entre chapas; D) Fita de papel, com reforço metálico, para acabamento e proteção das chapas nos cantos salientes, quando houver; E) Massa especial para rejuntamento de pega rápida em pó, para o preparo da superfície a ser calafetada, e massa especial para a calafetação e colagem das chapas; F) Remunera também todo o material acessório, equipamentos e a mão-de-obra necessária para a execução de forros, de acordo com as recomendações e especificações dos fabricantes, inclusive a execução de recortes para luminárias, pilares ou vigas, não devendo ser descontados os vãos decorrentes. H) Após o rejuntamento, os forros em chapas de gesso deverão apresentar a superfície lisa, monolítica e sem junta aparente, para receber acabamento final em pintura;
A110: 070802 | B110: Impermeabilização com manta asfáltica pré-fabricada com espessura mínima de 4mm | C110: M² | D110: 10.25 | E110: 73.31 | F110: =E110*(1+C$333) -> 91.219633 | G110: =D110*F110 -> 935.00124 | H110: 6,83*1,50=10,25M²
B111: Será medido por área de superfície impermeabilizada (m²). O item remunera o fornecimento de impermeabilização flexível com manta asfáltica pré-fabricada, compreendendo: A) Manta asfáltica pré-fabricada, com as características técnicas impressas na manta: Classificação, conforme NBR 9952, tipo III; Espessura mínima de 4 mm; Armadura interna com filme de poliéster ( não tecido de poliéster ), destinada a absorver esforços conferindo resistência mecânica à manta; Carga máxima de resistência à tração nos sentidos longitudinal e transversal > 400 N; Alongamento mínimo nos sentidos longitudinal e transversal > 30%; Absorção de água < 1%; Flexibilidade a baixa temperatura < (-)5ºC; Resistência ao impacto, à temperatura de 0ºC > 4,9 J; Escorrimento mínimo > 95ºC; Estabilidade dimensional < 1%; Flexibilidade após envelhecimento acelerado < 5ºC; Acabamento em polietileno em ambas as faces, ou uma das faces em areia e outra em polietileno; B) Solução asfáltica composta por asfalto modificado e solventes orgânicos, para a imprimação da superfície onde será aplicada a manta, com as características técnicas: Densidade > 0,90 g/cm³, conforme NBR 5829; Secagem ao toque < 2h40min, conforme NBR 9558; C) Materiais acessórios e a mão-de-obra necessária para a execução dos serviços
C113: SUB-TOTAL = | G113: =SUM(G88:G112) -> 386720.57
A114: 080000 | B114: INSTALAÇÕES HIDRÁULICAS
A115: 080100 | B115: Fornecimento e instalação de:
A116: 080101 | B116: Torneira de pressão para uso geral, amarela, p/ jardim | C116: UN | D116: 1 | E116: 53.21 | F116: =E116*(1+C$333) -> 66.209203 | G116: =D116*F116 -> 66.209203 | H116: INSTALADA NA HORTA
B117: Será medido por unidade de torneira instalada (un). O item remunera o fornecimento e instalação de torneira curta com rosca, para uso geral, em latão fundido sem acabamento de 1/2" ou 3/4"; inclusive materiais acessórios necessários à instalação e ligação à rede de água.
A119: 080102 | B119: Torneira de pressão metálica com arejador, cromada, para uso em tanques. | C119: UN | D119: 2 | E119: 66.21 | F119: =E119*(1+C$333) -> 82.385103 | G119: =D119*F119 -> 164.77021 | H119: Torneira de Tanque de Lavar
B120: Será medido por unidade de torneira instalada (un). O item remunera o fornecimento e instalação de torneira curta com rosca, para uso geral, em latão fundido cromado de 1/2" ou 3/4"; inclusive materiais acessórios necessários à instalação e ligação à rede de água.
A122: 080103 | B122: Torneira de pressão metálica para pia de cozinha e laboratórios, bica móvel, de mesa / parede | C122: UN | D122: 8 | E122: 162.36 | F122: =E122*(1+C$333) -> 202.02455 | G122: =D122*F122 -> 1616.1964 | H122: Torneira de Pia de Cozinha
B123: Será medido por unidade de torneira instalada (un). O item remunera o fornecimento e instalação de torneira para pia com bica móvel e arejador, para instalação em parede ou mesa, em latão fundido cromado de 3/4" ou 1/2"; inclusive materiais acessórios necessários à instalação e ligação à rede de água.
A125: 080104 | B125: Torneira de pressão metálica cromada e com arejador para lavatório de mesa / parede | C125: UN | D125: 7 | E125: 70.97 | F125: =E125*(1+C$333) -> 88.307971 | G125: =D125*F125 -> 618.1558 | H125: Torneira de lavatório
B126: Será medido por unidade de torneira instalada (un). O item remunera o fornecimento e instalação de torneira de mesa, modelo compacto para lavatórios ou cubas pequenas, com acionamento por meio de válvula de sistema hidromecânico, acabamento cromado, diâmetro nominal de 1/2" ou 3/4", inclusive materiais acessórios necessários à instalação e ligação à rede de água.
A128: 080200 | B128: Fornecimento e instalação de:
A129: 080201 | B129: Válvula de descarga metálica com registro interno e canopla, D: 32mm (1 1/4") ou 40mm (1 1/2) | C129: UN | D129: 6 | E129: 389.82 | F129: =E129*(1+C$333) -> 485.05303 | G129: =D129*F129 -> 2910.3182 | H129: SANITÁRIO MASCULINO 2 + SANITÁRIO FEMININO 4
B130: Será medido por unidade de válvula de descarga instalada (un). O item remunera o fornecimento e instalação da válvula de descarga, com registro próprio, em latão ou bronze, com acabamento cromado liso, diâmetro nominal de 1 1/4" ou 1 1/2", inclusive materiais acessórios de vedação e o tubo de descida.
A132: 080208 | B132: Chuveiro Elétrico automático,220v-5400w | C132: UN | D132: 2 | E132: 269.96 | F132: =E132*(1+C$333) -> 335.91123 | G132: =D132*F132 -> 671.82246 | H132: BANHEIRO FEMININO E BANHEIRO MASCULINO
B133: Será medido por unidade de chuveiro instalado (un). O item remunera o fornecimento e instalação do chuveiro elétrico com potência de 5.400 W para 220 V, com resistência blindada, inclusive materiais acessórios necessários à instalação e ligação às redes elétrica e de água.
A135: 080210 | B135: Vaso sanitário convencional branca. | C135: UN | D135: 4 | E135: 426.3 | F135: =E135*(1+C$333) -> 530.44509 | G135: =D135*F135 -> 2121.7804 | H135: 1 BANHEIRO MASCULINO + 3 NO BANHEIRO FEMININO
B136: Será medido por unidade instalada (un). O item remunera o fornecimento da bacia sifonada de louça conforme as normas vigentes NBR 15097 e NBR 15099. Remunera também: bolsa de borracha; anel de borracha de expansão de 4"; tubo de ligação com canopla, parafusos niquelados; massa para fixação e assentamento da base; materiais acessórios e a mão-de-obra necessária para a instalação e ligação às redes de água e esgoto.
A138: 080211 | B138: Válvula para mictório com fechamento automático d = 1/2" | C138: UN | D138: 2 | E138: 248.38 | F138: =E138*(1+C$333) -> 309.05923 | G138: =D138*F138 -> 618.11847 | H138: SANITÁRIO MASCULINO
...

Sheet Planilha1
A1: =((18+13.32)*2+23.26+0.55+5.74+34.23+29+34.78)+2.3 -> 192.5
A2: =(5.54+5.59*2+6.09+2.72+6.29)*0.3+ (6*5+15.43*2)*2 -> 131.266
A3: =(3.4+1.44+22.08+3.4+32.37)*0.2 -> 12.538
A4: =2.15*3.95+(3*2)*2 -> 20.4925
A5: =(14.53*2*3.35)+(6.34*2*3.35)+(34.23*1*2)+(28.85*1*2)+(34.93*1*2)+(23.31*1*2)+(0.55*1*2)+(5.74*1*2)+(18*1.5*4)+(13.32*1.5*4)+((3.06+3.65+0.4+0.4+1.04+2.01+32.77+1.48+(((20.2*0.4+((0.17+0.51)/2)*7.21+0.4*2.13+0.4*2.32+1.04*3.12+((0.2+0.54)/2)*7.2)/2.2))*2)*2) -> 705.71664
A6: =(7.09+5.59)*3.35+(3.85*1.1*2) -> 50.948
A7: =(8.01+5.59)*2*2+(6.09+2.8)*4*1.8 -> 118.408
A8: =1.6+1.55+1.6+0.34+5.99*2+6.14*2+0.7*2 -> 30.75
A9: =32.37*3+((1.73+1.48)/2)*6.59+((1.03+2.01)/2)*22.56+2*22.08+3.44*5.15+2*3.06+2.3*14+8.76*2.3 -> 262.32215
A10: =(4.2*5.54)*2*2.35+(5.54+3.2)*2*3.15+5.59*2*1.35+(5.59+1.27)*2*3.15+(2.72+2)*2*3.15+(1.5+2.72)*2*3.15+(2.29+2.72)*2*1.35+(2+2.4)*2*1.35+(3.94+2.4)*2*1.35+(2.8+6.09)*4*1.35+(6.39+7)*4*2.35+(6.39+6.98)*2*2.35+(6+7.04)*4*2.35+(7.43+6)*2*2.35+(5.54+7.54)*4*2.35 -> 866.9396
A11: =(4.2+5.54)*2*0.8+(6.39+7)*4*0.8+(6.39+6.98)*2*0.8+(7.04+6)*4*0.8+(6+7.43)*2*0.8+(7.54+5.54)*4*0.8+6.14*2*3.35+(29.15+33.53+22.56+34.23+0.5+6.59)*3.45+(21.84+16.72)*2*3.45+(13.32+18)*2*1.5+34.23*2*1+28.82*2*1+34.93*2*1+23.11*2*1+0.7*2*1+5.89*2*1 -> 1278.05
A12: =5.1*0.2*13+0.9*2.1*2*13 -> 62.4
A13: =5*0.2*4+0.8*2.1*2*4+0.9*1.6*2*2+0.7*1.6*2*4+12*2.6*1.8+4*2.25*0.7+4*2.6*0.7+13*2.4*0.7+2*1*0.7+3*1.6*0.7+3*1.6*1+2*1.5*1.3 -> 137.2
A14: =4.2*5.54*2*2.35+(5.54+3.2)*2*3.15+5.59*2*1.35+(5.59+1.27)*2*3.15+(2.72+2)*2*3.15+(1.5+2.72)*2*3.15+(2.29+2.72)*2*1.35+(2+2.4)*2*1.35+(3.94+2.4)*2*1.35+(2.8+6.09)*4*1.35+(6.39+7)*4*2.35+(6.39+6.98)*2*2.35+(6+7.04)*4*2.35+(7.43+6)*2*2.35+(5.54+7.54)*4*2.35 -> 866.9396
A15: =(2.8*2+3.03+1.32*5+0.98+0.8)*1.8 -> 30.618

Sheet CRONOGRAMA
A1: CRONOGRAMA FÍSICO-FINANCEIRO
B2: ESCOLA MUNICIPAL: DARCY RIBEIRO | U2: SRE:
B3: MUNICÍPIO: CRUCILÂNDIA | U3: ENDEREÇO: RUA CESÁRIO PARREIRAS, Nº 50, CENTRO
B4: SERVIÇOS: REFORMA
A5: ITEM | B5: DESCRIÇÃO | C5: TOTAL GERAL (C/ BDI) | D5: % INC. | E5: 1º MÊS | G5: 2º MÊS | I5: 3º MÊS | K5: 4º MÊS | M5: 5º MÊS | O5: 6º MÊS | Q5: 7º MÊS | S5: 8º MÊS | U5: 9º MÊS | W5: 10º MÊS | Y5: 11º MÊS | AA5: 12º MÊS | AC5: TOTAL
E6: % | F6: VALOR | G6: % | H6: VALOR | I6: % | J6: VALOR | K6: % | L6: VALOR | M6: % | N6: VALOR | O6: % | P6: VALOR | Q6: % | R6: VALOR | S6: % | T6: VALOR | U6: % | V6: VALOR | W6: % | X6: VALOR | Y6: % | Z6: VALOR | AA6: % | AB6: VALOR
A7: 1 | B7: =[1]PLANILHA!B6 -> INSTALAÇÃO DOS SERVIÇOS DE ENGENHARIA | C7: =PLANILHA!G22 -> 41956.702 | D7: =C7/$C$23 -> 0.023124029 | E7: 1 | F7: =C7*E7 -> 41956.702 | H7: =C7*G7 -> 0 | J7: =C7*I7 -> 0 | L7: =C7*K7 -> 0 | N7: =C7*M7 -> 0 | P7: =C7*O7 -> 0 | R7: =C7*Q7 -> 0 | T7: =C7*S7 -> 0 | V7: =C7*U7 -> 0 | X7: =C7*W7 -> 0 | Z7: =C7*Y7 -> 0 | AB7: =C7*AA7 -> 0 | AC7: =R7+T7+V7+X7+Z7+AB7+P7+N7+L7+J7+H7+F7 -> 41956.702
A8: 2 | B8: =[1]PLANILHA!B22 -> TRABALHOS EM TERRA | C8: =PLANILHA!G33 -> 16458.578 | D8: =C8/$C$23 -> 0.0090709853 | E8: 1 | F8: =C8*E8 -> 16458.578 | H8: =C8*G8 -> 0 | J8: =C8*I8 -> 0 | L8: =C8*K8 -> 0 | N8: =C8*M8 -> 0 | P8: =C8*O8 -> 0 | R8: =C8*Q8 -> 0 | T8: =C8*S8 -> 0 | V8: =C8*U8 -> 0 | X8: =C8*W8 -> 0 | Z8: =C8*Y8 -> 0 | AB8: =C8*AA8 -> 0 | AC8: =R8+T8+V8+X8+Z8+AB8+P8+N8+L8+J8+H8+F8 -> 16458.578
A9: 3 | B9: =[1]PLANILHA!B33 -> SONDAGEM, FUNDAÇÕES, MUROS E CONTENÇÕES | C9: =PLANILHA!G64 -> 315027.14 | D9: =C9/$C$23 -> 0.17362415 | E9: 0.5 | F9: =C9*E9 -> 157513.57 | G9: 0.5 | H9: =C9*G9 -> 157513.57 | J9: =C9*I9 -> 0 | L9: =C9*K9 -> 0 | N9: =C9*M9 -> 0 | P9: =C9*O9 -> 0 | R9: =C9*Q9 -> 0 | T9: =C9*S9 -> 0 | V9: =C9*U9 -> 0 | X9: =C9*W9 -> 0 | Z9: =C9*Y9 -> 0 | AB9: =C9*AA9 -> 0 | AC9: =R9+T9+V9+X9+Z9+AB9+P9+N9+L9+J9+H9+F9 -> 315027.14
A10: 4 | B10: =[1]PLANILHA!B61 -> SUPERESTRUTURA | C10: =PLANILHA!G71 -> 309831.11 | D10: =C10/$C$23 -> 0.17076041 | E10: 0.25 | F10: =C10*E10 -> 77457.777 | G10: 0.25 | H10: =C10*G10 -> 77457.777 | I10: 0.15 | J10: =C10*I10 -> 46474.666 | K10: 0.15 | L10: =C10*K10 -> 46474.666 | M10: 0.1 | N10: =C10*M10 -> 30983.111 | O10: 0.1 | P10: =C10*O10 -> 30983.111 | R10: =C10*Q10 -> 0 | T10: =C10*S10 -> 0 | V10: =C10*U10 -> 0 | X10: =C10*W10 -> 0 | Z10: =C10*Y10 -> 0 | AB10: =C10*AA10 -> 0 | AC10: =R10+T10+V10+X10+Z10+AB10+P10+N10+L10+J10+H10+F10 -> 309831.11
A11: 5 | B11: =[1]PLANILHA!B76 -> ALVENARIA | C11: =PLANILHA!G85 -> 71739.492 | D11: =C11/$C$23 -> 0.039538524 | F11: =C11*E11 -> 0 | G11: 0.2 | H11: =C11*G11 -> 14347.898 | I11: 0.2 | J11: =C11*I11 -> 14347.898 | K11: 0.2 | L11: =C11*K11 -> 14347.898 | M11: 0.2 | N11: =C11*M11 -> 14347.898 | O11: 0.1 | P11: =C11*O11 -> 7173.9492 | Q11: 0.1 | R11: =C11*Q11 -> 7173.9492 | T11: =C11*S11 -> 0 | V11: =C11*U11 -> 0 | X11: =C11*W11 -> 0 | Z11: =C11*Y11 -> 0 | AB11: =C11*AA11 -> 0 | AC11: =R11+T11+V11+X11+Z11+AB11+P11+N11+L11+J11+H11+F11 -> 71739.492
A12: 6 | B12: =[1]PLANILHA!B82 -> COBERTURA E FORRO | C12: =PLANILHA!G113 -> 386720.57 | D12: =C12/$C$23 -> 0.21313729 | F12: =C12*E12 -> 0 | H12: =C12*G12 -> 0 | J12: =C12*I12 -> 0 | L12: =C12*K12 -> 0 | M12: 0.25 | N12: =C12*M12 -> 96680.143 | O12: 0.25 | P12: =C12*O12 -> 96680.143 | Q12: 0.25 | R12: =C12*Q12 -> 96680.143 | S12: 0.25 | T12: =C12*S12 -> 96680.143 | V12: =C12*U12 -> 0 | X12: =C12*W12 -> 0 | Z12: =C12*Y12 -> 0 | AB12: =C12*AA12 -> 0 | AC12: =R12+T12+V12+X12+Z12+AB12+P12+N12+L12+J12+H12+F12 -> 386720.57
A13: 7 | B13: =[1]PLANILHA!B119 -> INSTALAÇÕES HIDRÁULICAS | C13: =PLANILHA!G192 -> 66851.063 | D13: =C13/$C$23 -> 0.036844314 | E13: 0.5 | F13: =C13*E13 -> 33425.531 | G13: 0.25 | H13: =C13*G13 -> 16712.766 | I13: 0.25 | J13: =C13*I13 -> 16712.766 | L13: =C13*K13 -> 0 | N13: =C13*M13 -> 0 | P13: =C13*O13 -> 0 | R13: =C13*Q13 -> 0 | T13: =C13*S13 -> 0 | V13: =C13*U13 -> 0 | X13: =C13*W13 -> 0 | Z13: =C13*Y13 -> 0 | AB13: =C13*AA13 -> 0 | AC13: =R13+T13+V13+X13+Z13+AB13+P13+N13+L13+J13+H13+F13 -> 66851.063
A14: 8 | B14: =[1]PLANILHA!B198 -> INSTALAÇÕES SANITÁRIAS | C14: =PLANILHA!G213 -> 3195.885 | D14: =C14/$C$23 -> 0.001761381 | E14: 0.5 | F14: =C14*E14 -> 1597.9425 | G14: 0.25 | H14: =C14*G14 -> 798.97125 | I14: 0.25 | J14: =C14*I14 -> 798.97125 | L14: =C14*K14 -> 0 | N14: =C14*M14 -> 0 | P14: =C14*O14 -> 0 | R14: =C14*Q14 -> 0 | T14: =C14*S14 -> 0 | V14: =C14*U14 -> 0 | X14: =C14*W14 -> 0 | Z14: =C14*Y14 -> 0 | AB14: =C14*AA14 -> 0 | AC14: =R14+T14+V14+X14+Z14+AB14+P14+N14+L14+J14+H14+F14 -> 3195.885
A15: 10 | B15: =[1]PLANILHA!B340 -> ESQUADRIAS DE MADEIRA | C15: =PLANILHA!G231 -> 34607.832 | D15: =C15/$C$23 -> 0.019073771 | F15: =C15*E15 -> 0 | H15: =C15*G15 -> 0 | J15: =C15*I15 -> 0 | K15: 0.2 | L15: =C15*K15 -> 6921.5665 | M15: 0.2 | N15: =C15*M15 -> 6921.5665 | O15: 0.2 | P15: =C15*O15 -> 6921.5665 | Q15: 0.2 | R15: =C15*Q15 -> 6921.5665 | S15: 0.2 | T15: =C15*S15 -> 6921.5665 | V15: =C15*U15 -> 0 | X15: =C15*W15 -> 0 | Z15: =C15*Y15 -> 0 | AB15: =C15*AA15 -> 0 | AC15: =R15+T15+V15+X15+Z15+AB15+P15+N15+L15+J15+H15+F15 -> 34607.832
A16: 11 | B16: =[1]PLANILHA!B359 -> ESQUADRIAS METÁLICAS | C16: =PLANILHA!G245 -> 123427.74 | D16: =C16/$C$23 -> 0.068026001 | F16: =C16*E16 -> 0 | H16: =C16*G16 -> 0 | J16: =C16*I16 -> 0 | L16: =C16*K16 -> 0 | M16: 0.2 | N16: =C16*M16 -> 24685.548 | O16: 0.2 | P16: =C16*O16 -> 24685.548 | Q16: 0.2 | R16: =C16*Q16 -> 24685.548 | S16: 0.2 | T16: =C16*S16 -> 24685.548 | U16: 0.2 | V16: =C16*U16 -> 24685.548 | X16: =C16*W16 -> 0 | Z16: =C16*Y16 -> 0 | AB16: =C16*AA16 -> 0 | AC16: =R16+T16+V16+X16+Z16+AB16+P16+N16+L16+J16+H16+F16 -> 123427.74
A17: 12 | B17: =[1]PLANILHA!B371 -> FERRAGENS | C17: =PLANILHA!G261 -> 2240.7073 | D17: =C17/$C$23 -> 0.0012349441 | F17: =C17*E17 -> 0 | H17: =C17*G17 -> 0 | I17: 0.25 | J17: =C17*I17 -> 560.17682 | L17: =C17*K17 -> 0 | N17: =C17*M17 -> 0 | P17: =C17*O17 -> 0 | R17: =C17*Q17 -> 0 | S17: 0.25 | T17: =C17*S17 -> 560.17682 | U17: 0.25 | V17: =C17*U17 -> 560.17682 | W17: 0.25 | X17: =C17*W17 -> 560.17682 | Z17: =C17*Y17 -> 0 | AB17: =C17*AA17 -> 0 | AC17: =R17+T17+V17+X17+Z17+AB17+P17+N17+L17+J17+H17+F17 -> 2240.7073
A18: 13 | B18: =[1]PLANILHA!B399 -> REVESTIMENTO | C18: =PLANILHA!G290 -> 130301.31 | D18: =C18/$C$23 -> 0.071814305 | F18: =C18*E18 -> 0 | H18: =C18*G18 -> 0 | J18: =C18*I18 -> 0 | K18: 0.2 | L18: =C18*K18 -> 26060.263 | M18: 0.2 | N18: =C18*M18 -> 26060.263 | O18: 0.2 | P18: =C18*O18 -> 26060.263 | Q18: 0.2 | R18: =C18*Q18 -> 26060.263 | S18: 0.1 | T18: =C18*S18 -> 13030.131 | U18: 0.05 | V18: =C18*U18 -> 6515.0657 | W18: 0.05 | X18: =C18*W18 -> 6515.0657 | Z18: =C18*Y18 -> 0 | AB18: =C18*AA18 -> 0 | AC18: =R18+T18+V18+X18+Z18+AB18+P18+N18+L18+J18+H18+F18 -> 130301.31
A19: 14 | B19: =[1]PLANILHA!B419 -> PISOS E RODAPÉS | C19: =PLANILHA!G307 -> 174034.25 | D19: =C19/$C$23 -> 0.095917286 | F19: =C19*E19 -> 0 | H19: =C19*G19 -> 0 | J19: =C19*I19 -> 0 | K19: 0.2 | L19: =C19*K19 -> 34806.849 | M19: 0.2 | N19: =C19*M19 -> 34806.849 | O19: 0.2 | P19: =C19*O19 -> 34806.849 | Q19: 0.2 | R19: =C19*Q19 -> 34806.849 | S19: 0.1 | T19: =C19*S19 -> 17403.425 | U19: 0.05 | V19: =C19*U19 -> 8701.7124 | W19: 0.05 | X19: =C19*W19 -> 8701.7124 | Z19: =C19*Y19 -> 0 | AB19: =C19*AA19 -> 0 | AC19: =R19+T19+V19+X19+Z19+AB19+P19+N19+L19+J19+H19+F19 -> 174034.25
A20: 15 | B20: =[1]PLANILHA!B449 -> VIDROS | C20: =PLANILHA!G315 -> 15646.933 | D20: =C20/$C$23 -> 0.008623655 | F20: =C20*E20 -> 0 | H20: =C20*G20 -> 0 | J20: =C20*I20 -> 0 | L20: =C20*K20 -> 0 | N20: =C20*M20 -> 0 | P20: =C20*O20 -> 0 | R20: =C20*Q20 -> 0 | T20: =C20*S20 -> 0 | V20: =C20*U20 -> 0 | X20: =C20*W20 -> 0 | Z20: =C20*Y20 -> 0 | AA20: 1 | AB20: =C20*AA20 -> 15646.933 | AC20: =R20+T20+V20+X20+Z20+AB20+P20+N20+L20+J20+H20+F20 -> 15646.933
A21: 16 | B21: =[1]PLANILHA!B454 -> PINTURA | C21: =PLANILHA!G330 -> 122380.74 | D21: =C21/$C$23 -> 0.067448958 | F21: =C21*E21 -> 0 | H21: =C21*G21 -> 0 | J21: =C21*I21 -> 0 | L21: =C21*K21 -> 0 | N21: =C21*M21 -> 0 | P21: =C21*O21 -> 0 | R21: =C21*Q21 -> 0 | S21: 0.3 | T21: =C21*S21 -> 36714.223 | U21: 0.25 | V21: =C21*U21 -> 30595.186 | W21: 0.25 | X21: =C21*W21 -> 30595.186 | Y21: 0.1 | Z21: =C21*Y21 -> 12238.074 | AA21: 0.1 | AB21: =C21*AA21 -> 12238.074 | AC21: =R21+T21+V21+X21+Z21+AB21+P21+N21+L21+J21+H21+F21 -> 122380.74
A22: TOTAL MENSAL | E22: =F22/C23 -> 0.18100004 | F22: =SUM(F7:F21) -> 328410.1 | G22: =H22/C23 -> 0.14706131 | H22: =SUM(H7:H21) -> 266830.98 | I22: =J22/C23 -> 0.043481926 | J22: =SUM(J7:J21) -> 78894.478 | K22: =L22/C23 -> 0.070882838 | L22: =SUM(L7:L21) -> 128611.24 | M22: =N22/C23 -> 0.12923434 | N22: =SUM(N7:N21) -> 234485.38 | O22: =P22/C23 -> 0.12528049 | P22: =SUM(P7:P21) -> 227311.43 | Q22: =R22/C23 -> 0.10820445 | R22: =SUM(R7:R21) -> 196328.32 | S22: =T22/C23 -> 0.10802086 | T22: =SUM(T7:T21) -> 195995.21 | U22: =V22/C23 -> 0.039162755 | V22: =SUM(V7:V21) -> 71057.689 | W22: =X22/C23 -> 0.025557555 | X22: =SUM(X7:X21) -> 46372.141 | Y22: =Z22/C23 -> 0.0067448958 | Z22: =SUM(Z7:Z21) -> 12238.074 | AA22: =AB22/C23 -> 0.015368551 | AB22: =SUM(AB7:AB21) -> 27885.007 | AC22: =R22+T22+V22+X22+Z22+AB22+P22+N22+L22+J22+H22+F22 -> 1814420.1
A23: TOTAL ACUMULADO | C23: =SUM(C7:C21) -> 1814420.1 | D23: =SUM(D7:D22) -> 1 | E23: =F23/C23 -> 0.18100004 | F23: =F22 -> 328410.1 | G23: =H23/C23 -> 0.32806134 | H23: =F23+H22 -> 595241.08 | I23: =J23/C23 -> 0.37154327 | J23: =H23+J22 -> 674135.56 | K23: =L23/C23 -> 0.44242611 | L23: =J23+L22 -> 802746.8 | M23: =N23/C23 -> 0.57166045 | N23: =L23+N22 -> 1037232.2 | O23: =P23/C23 -> 0.69694094 | P23: =N23+P22 -> 1264543.6 | Q23: =R23/C23 -> 0.80514538 | R23: =P23+R22 -> 1460871.9 | S23: =T23/C23 -> 0.91316624 | T23: =R23+T22 -> 1656867.1 | U23: =V23/C23 -> 0.952329 | V23: =T23+V22 -> 1727924.8 | W23: =X23/C23 -> 0.97788655 | X23: =V23+X22 -> 1774297 | Y23: =Z23/C23 -> 0.98463145 | Z23: =X23+Z22 -> 1786535.1 | AA23: =AB23/C23 -> 1 | AB23: =Z23+AB22 -> 1814420.1
A24: LOCAL / DATA: CRUCILÂNDIA, 14 DE ABRIL DE 2026
A25: RESPONSÁVEL TÉCNICO: HUILDYS ESTÁCIO DE OLIVEIRA
A26: REPRESENTANTE LEGAL: ELIZÂNGELA CRISTINA LARA DINIZ
