Workbook

Sheet PLANILHA
B1: SECRETARIA DE ESTADO DE EDUCAÇÃO - SUPERINTENDÊNCIA DE INFRAESTRUTURA E LOGÍSTICA - DIRETORIA DE GESTÃO DE PARCERIAS E FISCALIZAÇÃO - PLANILHA DE SERVIÇOS - SEM DESONERAÇÃO
A2: ESCOLA MUNICIPAL: DARCY RIBEIRO | C2: COD ESCOLA: | F2: S.R.E.:
A3: MUNICÍPIO: CRUCILÂNDIA | C3: ISS | D3: 0.05 | E3: SERVIÇOS: | F3: REFORMA
A4: ITEM | B4: DESCRIÇÃO | C4: UN | D4: ANALISADO | G4: =G334 -> 1814420.1 | H4: LOCAL DE INTERVENÇÃO
D5: QUANT. | E5: P. UNIT. (S/BDI) | F5: P. UNIT. (C/BDI) | G5: P. TOTAL (C/BDI) | H5: MEMÓRIA DE CALCULO
A6: 010000 | B6: INSTALAÇÃO DOS SERVIÇOS DE ENGENHARIA
A7: 010001 | B7: Locação dos serviços de engenharia: execução de gabarito | C7: M | D7: 130.76 | E7: 48.53 | F7: =E7*(1+C$333) -> 60.385879 | G7: =D7*F7 -> 7896.0575 | H7: AO LONGO DE TODA OBRA DE REFORMA (34,23+0,5+0,5)*2+(29,15+0,5+0,5)*2= 130,76M
B8: Será medido pela área de obra locada, aferida entre os eixos de fundação e acrescentando-se 0,50 m, a partir do eixo, para o lado externo (m). O item remunera o fornecimento de pontaletes em Pinus ou Cedrinho de 3" x 3"; tábuas em Pinus de 1" x 12"; arame galvanizado; inclusive materiais acessórios e a mão-de-obra necessária para os serviços de locação completa em obras de edificação compreendendo: locação de estacas, eixos principais, paredes, etc.
A10: 010002 | B10: Locação para muros, cercas e alambrados | C10: M | D10: 76.97 | E10: 1.12 | F10: =E10*(1+C$333) -> 1.393616 | G10: =D10*F10 -> 107.26662 | H10: PARTE DO MURO LATERAL + MURO DA FRENTE MAS PARTE TODA LATERAL - 42,71+32,75+ 4,86-3,35=
B11: Será medido por comprimento de muros, cercas ou alambrados locados (m). O item remunera o fornecimento de veículo para locomoção, materiais, mão-de-obra qualificada e equipamentos necessários para execução de serviços de locação de muros, cercas ou alambrados.
A13: 010006 | B13: Barracão em madeira, piso cimentado e cobertura em telhas de fibrocimento ondulada | C13: M² | D13: 25 | E13: 565.51 | F13: =E13*(1+C$333) -> 703.66409 | G13: =D13*F13 -> 17591.602 | H13: 5,00*5,00=25,00M² INTALADO EM LOCAL DETERMINADO PELA FISCALIZAÇÃO
B14: Será medido pela área de projeção da cobertura de construção provisória executada, com croqui analisado e aprovado previamente pela fiscalização. (M²) O item remunera o fornecimento de materiais e mão-de-obra necessários para a execução de construção provisória em madeira destinada a escritório e/ou depósito de obra, constituída por: piso interno e calçada externa em concreto usinado, Fck 20 MPa; paredes, portas e janelas em chapa compensada plastificada de no mínimo 6 mm de espessura, e / ou compensado resinado com seladora impermeabilizante e aplicação de textura na pintura; janelas com vidro fantasia de 3 ou 4mm; porta com dobradiças de latão cromado e fechadura de embutir cromada e com miolo tipo Georges; estrutura, apoio para cobertura e contraventamentos em pontaletes e tábuas de Pinus ou Cedrinho e engradamento da cobertura de eucalipto imunizado, cobertura com telha em fibrocimento, perfil ondulado de no mínimo 5 mm de espessura; instalação elétrica e pintura acrílica, materiais acessórios para execução total da construção provisória, conforme norma regulamentadora. Devem obedecer a NR 18 (Áreas de vivência). Remunera também a manutenção durante todo o período da obra e a desmobilização completa deste barracão.
A16: 010008 | B16: Tapume em chapa compensado de 12mm e pontaletes h= 2,20m com portão. | C16: M² | D16: 76.97 | E16: 157.76 | F16: =E16*(1+C$333) -> 196.30077 | G16: =D16*F16 -> 15109.27 | H16: MUROS REFORMA(42,71+32,75+ 4,86-3,35) = 76,97M
B17: Será medido por área, aferida na projeção vertical de tapume executado, previamente aprovado pela fiscalização (M²). O item remunera o fornecimento de chapa compensada resinada de 12mm, pontalete de Pinus ou Cedrinho, de 3" x 3", materiais acessórios e a mão-de-obra necessária para a execução do tapume com portão completo com dobradiças, ferragens e cadeado. Remunera também a desmontagem completa do tapume de fechamento e remoção do material utilizado.
A19: 010009 | B19: Portão para tapume fixo de proteção com fechamento de obra em chapa de compensado, espessura de 12mm | C19: M² | D19: 7.37 | E19: 136.58 | F19: =E19*(1+C$333) -> 169.94649 | G19: =D19*F19 -> 1252.5057 | H19: PORTÃO MURO EXTERNO = 3,35*2,20=7,37M
B20: Será medido por área, aferida na projeção vertical de portão executado, em local previamente aprovado pela fiscalização (M²). O item remunera o fornecimento de chapa compensada resinada de 12mm, pontalete de Pinus ou Cedrinho, de 3" x 3", materiais acessórios e a mão-de-obra necessária para a construção do portão. Remunera também os acessórios necessários inclusive dobradiças e manutenção e posterior desmontagem completa e remoção do material utilizado.
C22: SUB-TOTAL = | G22: =SUM(G7:G21) -> 41956.702
A23: 030000 | B23: TRABALHOS EM TERRA
A24: 030001 | B24: Aterro Compactado manual, com soquete | C24: M3 | D24: 180.17 | E24: 69.95 | F24: =E24*(1+C$333) -> 87.038785 | G24: =D24*F24 -> 15681.778 | H24: 6,20*14,53*2,00 = 180,17M³
B25: Será medido pelo volume de aterro compactado (m³). O item remunera o fornecimento de equipamentos e mão-de-obra necessários para execução dos serviços de aterro interno, com material existente ou importado, incluindo o apiloamento em camadas, de 20 cm, com maço de 30 kg e a disposição das sobras.
A27: 030002 | B27: Escavação manual de vala em solo de 1ª e 2ª categoria, profundidade em até 2,00m | C27: M3 | D27: 4.22 | E27: 69.65 | F27: =E27*(1+C$333) -> 86.665495 | G27: =D27*F27 -> 365.72839 | H27: (14,53*2,00+6,20*2+6,09+5,54+5,59*2+6,09)*0,2*0,3=4,22M³
B28: Será medido pelo volume escavado, considerando-se um acréscimo para cada lado, no plano horizontal, em relação às dimensões de cada peça, de 20 cm (m³). O item remunera o fornecimento da mão-de-obra necessária para a escavação manual em solo de 1ª e 2ª categorias em valas ou cavas até 2,00 m de profundidade.
A30: 030004 | B30: Regularização de fundo de vala com apiloamento com maço de 30kg | C30: M2 | D30: 14.07 | E30: 23.48 | F30: =E30*(1+C$333) -> 29.216164 | G30: =D30*F30 -> 411.07143 | H30: (14,53*2,00+6,20*2+6,09+5,54+5,59*2+6,09)*0,2= 14,07M²
B31: Será medido pela área de fundo da vala (m²). O item remunera o fornecimento de equipamentos e mão-de-obra necessários para execução dos serviços de regularização do fundo de vala com maço de 30 kg.
C33: SUB-TOTAL = | G33: =SUM(G24:G32) -> 16458.578
A34: 040000 | B34: SONDAGEM, FUNDAÇÕES, MUROS E CONTENÇÕES
A35: ED-29821 SEINFRA | B35: MOBILIZAÇÃO E DESMOBILIZAÇÃO DE EQUIPAMENTO PARA ESTACA TIPO STRAUSS (CUSTO FIXO), INCLUSIVE CARGA E DESCARGA, EXCLUSIVE TRANSPORTE EM QUILÔMETRO RODADO (CUSTO VARIÁVEL) | C35: UN | D35: 1 | E35: 5182.46 | F35: =E35*(1+C$333) -> 6448.535 | G35: =D35*F35 -> 6448.535 | H35: MOBILIZÇÃO E DESMOBILIZAÇÃO COMO UMA ÚNICA UNIDADE
A37: ED-29822 SEINFRA | B37: MOBILIZAÇÃO E DESMOBILIZAÇÃO DE EQUIPAMENTO PARA ESTACA TIPO STRAUSS (CUSTO VARIÁVEL), EXCLUSIVE CUSTO FIXO DE TRANSPORTE | C37: KM | D37: 106 | E37: 11.07 | F37: =E37*(1+C$333) -> 13.774401 | G37: =D37*F37 -> 1460.0865 | H37: REFERÊNCIA DE BELO HORIZONTE A CRUCILÂNDIA
A39: ED-26523 SEINFRA | B39: EXECUÇÃO DE ESTACA TIPO STRAUSS, DIÂMETRO 32CM, EXCLUSIVE ARMAÇÃO E CONCRETO ESTRUTURAL | C39: M | D39: 480 | E39: 52.17 | F39: =E39*(1+C$333) -> 64.915131 | G39: =D39*F39 -> 31159.263 | H39: 10*18,00+30*10,00
A41: ED-26525 SEINFRA | B41: EXECUÇÃO DE ESTACA TIPO STRAUSS, DIÂMETRO 45CM, EXCLUSIVE ARMAÇÃO E CONCRETO ESTRUTURAL | C41: M | D41: 48 | E41: 56.04 | F41: =E41*(1+C$333) -> 69.730572 | G41: =D41*F41 -> 3347.0675 | H41: 1*18,00+3*10,00
A43: 040003 | B43: Concreto armado para fundação (incluindo fornecimento, transporte, lançamento, forma e desforma) | C43: M3 | D43: 88.33 | E43: 2038.38 | F43: =E43*(1+C$333) -> 2536.3562 | G43: =D43*F43 -> 224036.35 | H43: 27,93+50,853+9,55
B44: Será medido pelo volume calculado no projeto de formas, sendo que o volume da interseção dos diversos elementos estruturais deve ser computado uma só vez (m³). O item remunera o fornecimento de betoneira, pedra britada números 1 e 2, cimento, areia e a mão-de-obra necessária para o preparo do concreto, com resistência mínima à compressão de 20,0 MPa. Remunera também o transporte, lançamento e adensamento. Está também incluído e remunerado 70Kg por m³ de concreto de armadura considerando o fornecimento de aço CA-50 ( A ou B ) com fyk igual 500 MPa, dobramento, transporte e colocação de armaduras de qualquer bitola e qualquer comprimento; estão incluídos no item os serviços e materiais secundários como arame, espaçadores, perdas decorrentes de desbitolamento, cortes e pontas de traspasse para emendas e também 8m² de forma por m³ de concreto considerando o fornecimento dos materiais e a mão-de-obra para execução e instalação da forma, incluindo escoras, gravatas, desmoldante e desforma.
A46: 040005 | B46: Contrapiso não estrutural impermeabilizado, E=5 cm | C46: M2 | D46: 84.36 | E46: 61.51 | F46: =E46*(1+C$333) -> 76.536893 | G46: =D46*F46 -> 6456.6523 | H46: 7,03*6,00*2=84,36M²
B47: Será medido pela área onde será executado, na espessura mínima de 5cm (m²). O item remunera o fornecimento de cimento, areia, pedra britada nº 1, 2, e a mão-de-obra necessária para o apiloamento do terreno e execução do lastro.
A49: ED-29582 SEINFRA | B49: ARMADURA DE TELA DE AÇO CA-60, SOLDADA TIPO Q-138, DIÂMETRO Ø4,2MM, TRAMA COM DIMENSÃO (100X100)MM, INCLUSIVE ESPAÇADOR, EXCLUSIVE CONCRETO | C49: M² | D49: 84.36 | E49: 30.36 | F49: =E49*(1+C$333) -> 37.776948 | G49: =D49*F49 -> 3186.8633 | H49: 7,03*6,00*2=84,36M²
A51: 040007 | B51: Concreto magro de cimento Portland Fck >= 10,0 Mpa (execução, incluindo o fornecimento e transporte dos agregados) | C51: M³ | D51: 0.7 | E51: 561 | F51: =E51*(1+C$333) -> 698.0523 | G51: =D51*F51 -> 488.63661 | H51: (14,53*2,00+6,20*2+6,09+5,54+5,59*2+6,09)*0,2*0,05=0,70M³
B52: Será medido pelo volume calculado no local de aplicação (m³). O item remunera o fornecimento de betoneira, pedra britada número 1, cimento, areia e a mão-de-obra necessária para o preparo do concreto, com resistência mínima à compressão de 10,0 MPa. Remunera também o transporte, lançamento e adensamento.
A54: 040100 | B54: Muros.
A55: 040101 | B55: Muro divisório em bloco de concreto aparente espessura 15 cm, altura útil de 2,20m, assentado com argamassa mista de cimento, cal hidratada e areia sem peneira traço 1:0,5:8 inclusive sapata corrida em concreto armado com Fck mínimo de 20 MPA e chapéu de muro | C55: M | D55: 52.69 | E55: 508.76 | F55: =E55*(1+C$333) -> 633.05007 | G55: =D55*F55 -> 33355.408 | H55: 3,06+3,65+0,40+0,40+1,04+2,01+32,77+1,48+MURO FRENTE(((20,20*0,40+((0,17+0,51)/2)*7,21+0,40*2,13+0,40*2,32+1,04*3,12+((0,20+0,54)/2)*7,20)/2,20)=52,69M
B56: Será medido pelo comprimento executado, descontando-se todos os vãos (m). O item remunera o fornecimento de materiais e mão-de-obra necessários para a execução de sapata com dimensão mínima de 40 x 20 cm com escavação manual de 50 x 55cm, apiloamento de fundo de vala, reaterro, forma de fundação e concreto armado com Fck mínimo de 20MPA suas respectivas especificações, impermeabilização da sapata, alvenaria de vedação aparente, confeccionada em bloco vazado de concreto simples, com superfície isenta de trincas, lascas, ou pequenas imperfeições nas faces que ficarão expostas,, assentada com argamassa de cimento, cal hidratada e areia; dimensões padronizadas de 14 x 19 x 39 cm, e resistência mínima à compressão de acordo com a NBR 6136. Remunera também a construção de pilares armados a cada 2,50m com Fck mínimo de 20MPA com dimensões de 14 x 20 cm com a respectiva broca de 25 cm x 1,00 m concretada e o fornecimento e colocação de chapéu de muro.
...

Sheet Planilha1
A1: =((18+13.32)*2+23.26+0.55+5.74+34.23+29+34.78)+2.3 -> 192.5
A2: =(5.54+5.59*2+6.09+2.72+6.29)*0.3+ (6*5+15.43*2)*2 -> 131.266
A3: =(3.4+1.44+22.08+3.4+32.37)*0.2 -> 12.538
A4: =2.15*3.95+(3*2)*2 -> 20.4925
A5: =(14.53*2*3.35)+(6.34*2*3.35)+(34.23*1*2)+(28.85*1*2)+(34.93*1*2)+(23.31*1*2)+(0.55*1*2)+(5.74*1*2)+(18*1.5*4)+(13.32*1.5*4)+((3.06+3.65+0.4+0.4+1.04+2.01+32.77+1.48+(((20.2*0.4+((0.17+0.51)/2)*7.21+0.4*2.13+0.4*2.32+1.04*3.12+((0.2+0.54)/2)*7.2)/2.2))*2)*2) -> 705.71664
A6: =(7.09+5.59)*3.35+(3.85*1.1*2) -> 50.948
A7: =(8.01+5.59)*2*2+(6.09+2.8)*4*1.8 -> 118.408
A8: =1.6+1.55+1.6+0.34+5.99*2+6.14*2+0.7*2 -> 30.75
A9: =32.37*3+((1.73+1.48)/2)*6.59+((1.03+2.01)/2)*22.56+2*22.08+3.44*5.15+2*3.06+2.3*14+8.76*2.3 -> 262.32215
A10: =(4.2*5.54)*2*2.35+(5.54+3.2)*2*3.15+5.59*2*1.35+(5.59+1.27)*2*3.15+(2.72+2)*2*3.15+(1.5+2.72)*2*3.15+(2.29+2.72)*2*1.35+(2+2.4)*2*1.35+(3.94+2.4)*2*1.35+(2.8+6.09)*4*1.35+(6.39+7)*4*2.35+(6.39+6.98)*2*2.35+(6+7.04)*4*2.35+(7.43+6)*2*2.35+(5.54+7.54)*4*2.35 -> 866.9396
A11: =(4.2+5.54)*2*0.8+(6.39+7)*4*0.8+(6.39+6.98)*2*0.8+(7.04+6)*4*0.8+(6+7.43)*2*0.8+(7.54+5.54)*4*0.8+6.14*2*3.35+(29.15+33.53+22.56+34.23+0.5+6.59)*3.45+(21.84+16.72)*2*3.45+(13.32+18)*2*1.5+34.23*2*1+28.82*2*1+34.93*2*1+23.11*2*1+0.7*2*1+5.89*2*1 -> 1278.05
A12: =5.1*0.2*13+0.9*2.1*2*13 -> 62.4
A13: =5*0.2*4+0.8*2.1*2*4+0.9*1.6*2*2+0.7*1.6*2*4+12*2.6*1.8+4*2.25*0.7+4*2.6*0.7+13*2.4*0.7+2*1*0.7+3*1.6*0.7+3*1.6*1+2*1.5*1.3 -> 137.2
A14: =4.2*5.54*2*2.35+(5.54+3.2)*2*3.15+5.59*2*1.35+(5.59+1.27)*2*3.15+(2.72+2)*2*3.15+(1.5+2.72)*2*3.15+(2.29+2.72)*2*1.35+(2+2.4)*2*1.35+(3.94+2.4)*2*1.35+(2.8+6.09)*4*1.35+(6.39+7)*4*2.35+(6.39+6.98)*2*2.35+(6+7.04)*4*2.35+(7.43+6)*2*2.35+(5.54+7.54)*4*2.35 -> 866.9396
A15: =(2.8*2+3.03+1.32*5+0.98+0.8)*1.8 -> 30.618

Sheet CRONOGRAMA
A1: CRONOGRAMA FÍSICO-FINANCEIRO
B2: ESCOLA MUNICIPAL: DARCY RIBEIRO | U2: SRE:
B3: MUNICÍPIO: CRUCILÂNDIA | U3: ENDEREÇO: RUA CESÁRIO PARREIRAS, Nº 50, CENTRO
B4: SERVIÇOS: REFORMA
A5: ITEM | B5: DESCRIÇÃO | C5: TOTAL GERAL (C/ BDI) | D5: % INC. | E5: 1º MÊS | G5: 2º MÊS | I5: 3º MÊS | K5: 4º MÊS | M5: 5º MÊS | O5: 6º MÊS | Q5: 7º MÊS | S5: 8º MÊS | U5: 9º MÊS | W5: 10º MÊS | Y5: 11º MÊS | AA5: 12º MÊS | AC5: TOTAL
E6: % | F6: VALOR | G6: % | H6: VALOR | I6: % | J6: VALOR | K6: % | L6: VALOR | M6: % | N6: VALOR | O6: % | P6: VALOR | Q6: % | R6: VALOR | S6: % | T6: VALOR | U6: % | V6: VALOR | W6: % | X6: VALOR | Y6: % | Z6: VALOR | AA6: % | AB6: VALOR
A7: 1 | B7: =[1]PLANILHA!B6 -> INSTALAÇÃO DOS SERVIÇOS DE ENGENHARIA | C7: =PLANILHA!G22 -> 41956.702 | D7: =C7/$C$23 -> 0.023124029 | E7: 1 | F7: =C7*E7 -> 41956.702 | H7: =C7*G7 -> 0 | J7: =C7*I7 -> 0 | L7: =C7*K7 -> 0 | N7: =C7*M7 -> 0 | P7: =C7*O7 -> 0 | R7: =C7*Q7 -> 0 | T7: =C7*S7 -> 0 | V7: =C7*U7 -> 0 | X7: =C7*W7 -> 0 | Z7: =C7*Y7 -> 0 | AB7: =C7*AA7 -> 0 | AC7: =R7+T7+V7+X7+Z7+AB7+P7+N7+L7+J7+H7+F7 -> 41956.702
A8: 2 | B8: =[1]PLANILHA!B22 -> TRABALHOS EM TERRA | C8: =PLANILHA!G33 -> 16458.578 | D8: =C8/$C$23 -> 0.0090709853 | E8: 1 | F8: =C8*E8 -> 16458.578 | H8: =C8*G8 -> 0 | J8: =C8*I8 -> 0 | L8: =C8*K8 -> 0 | N8: =C8*M8 -> 0 | P8: =C8*O8 -> 0 | R8: =C8*Q8 -> 0 | T8: =C8*S8 -> 0 | V8: =C8*U8 -> 0 | X8: =C8*W8 -> 0 | Z8: =C8*Y8 -> 0 | AB8: =C8*AA8 -> 0 | AC8: =R8+T8+V8+X8+Z8+AB8+P8+N8+L8+J8+H8+F8 -> 16458.578
A9: 3 | B9: =[1]PLANILHA!B33 -> SONDAGEM, FUNDAÇÕES, MUROS E CONTENÇÕES | C9: =PLANILHA!G64 -> 315027.14 | D9: =C9/$C$23 -> 0.17362415 | E9: 0.5 | F9: =C9*E9 -> 157513.57 | G9: 0.5 | H9: =C9*G9 -> 157513.57 | J9: =C9*I9 -> 0 | L9: =C9*K9 -> 0 | N9: =C9*M9 -> 0 | P9: =C9*O9 -> 0 | R9: =C9*Q9 -> 0 | T9: =C9*S9 -> 0 | V9: =C9*U9 -> 0 | X9: =C9*W9 -> 0 | Z9: =C9*Y9 -> 0 | AB9: =C9*AA9 -> 0 | AC9: =R9+T9+V9+X9+Z9+AB9+P9+N9+L9+J9+H9+F9 -> 315027.14
A10: 4 | B10: =[1]PLANILHA!B61 -> SUPERESTRUTURA | C10: =PLANILHA!G71 -> 309831.11 | D10: =C10/$C$23 -> 0.17076041 | E10: 0.25 | F10: =C10*E10 -> 77457.777 | G10: 0.25 | H10: =C10*G10 -> 77457.777 | I10: 0.15 | J10: =C10*I10 -> 46474.666 | K10: 0.15 | L10: =C10*K10 -> 46474.666 | M10: 0.1 | N10: =C10*M10 -> 30983.111 | O10: 0.1 | P10: =C10*O10 -> 30983.111 | R10: =C10*Q10 -> 0 | T10: =C10*S10 -> 0 | V10: =C10*U10 -> 0 | X10: =C10*W10 -> 0 | Z10: =C10*Y10 -> 0 | AB10: =C10*AA10 -> 0 | AC10: =R10+T10+V10+X10+Z10+AB10+P10+N10+L10+J10+H10+F10 -> 309831.11
A11: 5 | B11: =[1]PLANILHA!B76 -> ALVENARIA | C11: =PLANILHA!G85 -> 71739.492 | D11: =C11/$C$23 -> 0.039538524 | F11: =C11*E11 -> 0 | G11: 0.2 | H11: =C11*G11 -> 14347.898 | I11: 0.2 | J11: =C11*I11 -> 14347.898 | K11: 0.2 | L11: =C11*K11 -> 14347.898 | M11: 0.2 | N11: =C11*M11 -> 14347.898 | O11: 0.1 | P11: =C11*O11 -> 7173.9492 | Q11: 0.1 | R11: =C11*Q11 -> 7173.9492 | T11: =C11*S11 -> 0 | V11: =C11*U11 -> 0 | X11: =C11*W11 -> 0 | Z11: =C11*Y11 -> 0 | AB11: =C11*AA11 -> 0 | AC11: =R11+T11+V11+X11+Z11+AB11+P11+N11+L11+J11+H11+F11 -> 71739.492
A12: 6 | B12: =[1]PLANILHA!B82 -> COBERTURA E FORRO | C12: =PLANILHA!G113 -> 386720.57 | D12: =C12/$C$23 -> 0.21313729 | F12: =C12*E12 -> 0 | H12: =C12*G12 -> 0 | J12: =C12*I12 -> 0 | L12: =C12*K12 -> 0 | M12: 0.25 | N12: =C12*M12 -> 96680.143 | O12: 0.25 | P12: =C12*O12 -> 96680.143 | Q12: 0.25 | R12: =C12*Q12 -> 96680.143 | S12: 0.25 | T12: =C12*S12 -> 96680.143 | V12: =C12*U12 -> 0 | X12: =C12*W12 -> 0 | Z12: =C12*Y12 -> 0 | AB12: =C12*AA12 -> 0 | AC12: =R12+T12+V12+X12+Z12+AB12+P12+N12+L12+J12+H12+F12 -> 386720.57
A13: 7 | B13: =[1]PLANILHA!B119 -> INSTALAÇÕES HIDRÁULICAS | C13: =PLANILHA!G192 -> 66851.063 | D13: =C13/$C$23 -> 0.036844314 | E13: 0.5 | F13: =C13*E13 -> 33425.531 | G13: 0.25 | H13: =C13*G13 -> 16712.766 | I13: 0.25 | J13: =C13*I13 -> 16712.766 | L13: =C13*K13 -> 0 | N13: =C13*M13 -> 0 | P13: =C13*O13 -> 0 | R13: =C13*Q13 -> 0 | T13: =C13*S13 -> 0 | V13: =C13*U13 -> 0 | X13: =C13*W13 -> 0 | Z13: =C13*Y13 -> 0 | AB13: =C13*AA13 -> 0 | AC13: =R13+T13+V13+X13+Z13+AB13+P13+N13+L13+J13+H13+F13 -> 66851.063
A14: 8 | B14: =[1]PLANILHA!B198 -> INSTALAÇÕES SANITÁRIAS | C14: =PLANILHA!G213 -> 3195.885 | D14: =C14/$C$23 -> 0.001761381 | E14: 0.5 | F14: =C14*E14 -> 1597.9425 | G14: 0.25 | H14: =C14*G14 -> 798.97125 | I14: 0.25 | J14: =C14*I14 -> 798.97125 | L14: =C14*K14 -> 0 | N14: =C14*M14 -> 0 | P14: =C14*O14 -> 0 | R14: =C14*Q14 -> 0 | T14: =C14*S14 -> 0 | V14: =C14*U14 -> 0 | X14: =C14*W14 -> 0 | Z14: =C14*Y14 -> 0 | AB14: =C14*AA14 -> 0 | AC14: =R14+T14+V14+X14+Z14+AB14+P14+N14+L14+J14+H14+F14 -> 3195.885
A15: 10 | B15: =[1]PLANILHA!B340 -> ESQUADRIAS DE MADEIRA | C15: =PLANILHA!G231 -> 34607.832 | D15: =C15/$C$23 -> 0.019073771 | F15: =C15*E15 -> 0 | H15: =C15*G15 -> 0 | J15: =C15*I15 -> 0 | K15: 0.2 | L15: =C15*K15 -> 6921.5665 | M15: 0.2 | N15: =C15*M15 -> 6921.5665 | O15: 0.2 | P15: =C15*O15 -> 6921.5665 | Q15: 0.2 | R15: =C15*Q15 -> 6921.5665 | S15: 0.2 | T15: =C15*S15 -> 6921.5665 | V15: =C15*U15 -> 0 | X15: =C15*W15 -> 0 | Z15: =C15*Y15 -> 0 | AB15: =C15*AA15 -> 0 | AC15: =R15+T15+V15+X15+Z15+AB15+P15+N15+L15+J15+H15+F15 -> 34607.832
A16: 11 | B16: =[1]PLANILHA!B359 -> ESQUADRIAS METÁLICAS | C16: =PLANILHA!G245 -> 123427.74 | D16: =C16/$C$23 -> 0.068026001 | F16: =C16*E16 -> 0 | H16: =C16*G16 -> 0 | J16: =C16*I16 -> 0 | L16: =C16*K16 -> 0 | M16: 0.2 | N16: =C16*M16 -> 24685.548 | O16: 0.2 | P16: =C16*O16 -> 24685.548 | Q16: 0.2 | R16: =C16*Q16 -> 24685.548 | S16: 0.2 | T16: =C16*S16 -> 24685.548 | U16: 0.2 | V16: =C16*U16 -> 24685.548 | X16: =C16*W16 -> 0 | Z16: =C16*Y16 -> 0 | AB16: =C16*AA16 -> 0 | AC16: =R16+T16+V16+X16+Z16+AB16+P16+N16+L16+J16+H16+F16 -> 123427.74
A17: 12 | B17: =[1]PLANILHA!B371 -> FERRAGENS | C17: =PLANILHA!G261 -> 2240.7073 | D17: =C17/$C$23 -> 0.0012349441 | F17: =C17*E17 -> 0 | H17: =C17*G17 -> 0 | I17: 0.25 | J17: =C17*I17 -> 560.17682 | L17: =C17*K17 -> 0 | N17: =C17*M17 -> 0 | P17: =C17*O17 -> 0 | R17: =C17*Q17 -> 0 | S17: 0.25 | T17: =C17*S17 -> 560.17682 | U17: 0.25 | V17: =C17*U17 -> 560.17682 | W17: 0.25 | X17: =C17*W17 -> 560.17682 | Z17: =C17*Y17 -> 0 | AB17: =C17*AA17 -> 0 | AC17: =R17+T17+V17+X17+Z17+AB17+P17+N17+L17+J17+H17+F17 -> 2240.7073
A18: 13 | B18: =[1]PLANILHA!B399 -> REVESTIMENTO | C18: =PLANILHA!G290 -> 130301.31 | D18: =C18/$C$23 -> 0.071814305 | F18: =C18*E18 -> 0 | H18: =C18*G18 -> 0 | J18: =C18*I18 -> 0 | K18: 0.2 | L18: =C18*K18 -> 26060.263 | M18: 0.2 | N18: =C18*M18 -> 26060.263 | O18: 0.2 | P18: =C18*O18 -> 26060.263 | Q18: 0.2 | R18: =C18*Q18 -> 26060.263 | S18: 0.1 | T18: =C18*S18 -> 13030.131 | U18: 0.05 | V18: =C18*U18 -> 6515.0657 | W18: 0.05 | X18: =C18*W18 -> 6515.0657 | Z18: =C18*Y18 -> 0 | AB18: =C18*AA18 -> 0 | AC18: =R18+T18+V18+X18+Z18+AB18+P18+N18+L18+J18+H18+F18 -> 130301.31
A19: 14 | B19: =[1]PLANILHA!B419 -> PISOS E RODAPÉS | C19: =PLANILHA!G307 -> 174034.25 | D19: =C19/$C$23 -> 0.095917286 | F19: =C19*E19 -> 0 | H19: =C19*G19 -> 0 | J19: =C19*I19 -> 0 | K19: 0.2 | L19: =C19*K19 -> 34806.849 | M19: 0.2 | N19: =C19*M19 -> 34806.849 | O19: 0.2 | P19: =C19*O19 -> 34806.849 | Q19: 0.2 | R19: =C19*Q19 -> 34806.849 | S19: 0.1 | T19: =C19*S19 -> 17403.425 | U19: 0.05 | V19: =C19*U19 -> 8701.7124 | W19: 0.05 | X19: =C19*W19 -> 8701.7124 | Z19: =C19*Y19 -> 0 | AB19: =C19*AA19 -> 0 | AC19: =R19+T19+V19+X19+Z19+AB19+P19+N19+L19+J19+H19+F19 -> 174034.25
A20: 15 | B20: =[1]PLANILHA!B449 -> VIDROS | C20: =PLANILHA!G315 -> 15646.933 | D20: =C20/$C$23 -> 0.008623655 | F20: =C20*E20 -> 0 | H20: =C20*G20 -> 0 | J20: =C20*I20 -> 0 | L20: =C20*K20 -> 0 | N20: =C20*M20 -> 0 | P20: =C20*O20 -> 0 | R20: =C20*Q20 -> 0 | T20: =C20*S20 -> 0 | V20: =C20*U20 -> 0 | X20: =C20*W20 -> 0 | Z20: =C20*Y20 -> 0 | AA20: 1 | AB20: =C20*AA20 -> 15646.933 | AC20: =R20+T20+V20+X20+Z20+AB20+P20+N20+L20+J20+H20+F20 -> 15646.933
A21: 16 | B21: =[1]PLANILHA!B454 -> PINTURA | C21: =PLANILHA!G330 -> 122380.74 | D21: =C21/$C$23 -> 0.067448958 | F21: =C21*E21 -> 0 | H21: =C21*G21 -> 0 | J21: =C21*I21 -> 0 | L21: =C21*K21 -> 0 | N21: =C21*M21 -> 0 | P21: =C21*O21 -> 0 | R21: =C21*Q21 -> 0 | S21: 0.3 | T21: =C21*S21 -> 36714.223 | U21: 0.25 | V21: =C21*U21 -> 30595.186 | W21: 0.25 | X21: =C21*W21 -> 30595.186 | Y21: 0.1 | Z21: =C21*Y21 -> 12238.074 | AA21: 0.1 | AB21: =C21*AA21 -> 12238.074 | AC21: =R21+T21+V21+X21+Z21+AB21+P21+N21+L21+J21+H21+F21 -> 122380.74
A22: TOTAL MENSAL | E22: =F22/C23 -> 0.18100004 | F22: =SUM(F7:F21) -> 328410.1 | G22: =H22/C23 -> 0.14706131 | H22: =SUM(H7:H21) -> 266830.98 | I22: =J22/C23 -> 0.043481926 | J22: =SUM(J7:J21) -> 78894.478 | K22: =L22/C23 -> 0.070882838 | L22: =SUM(L7:L21) -> 128611.24 | M22: =N22/C23 -> 0.12923434 | N22: =SUM(N7:N21) -> 234485.38 | O22: =P22/C23 -> 0.12528049 | P22: =SUM(P7:P21) -> 227311.43 | Q22: =R22/C23 -> 0.10820445 | R22: =SUM(R7:R21) -> 196328.32 | S22: =T22/C23 -> 0.10802086 | T22: =SUM(T7:T21) -> 195995.21 | U22: =V22/C23 -> 0.039162755 | V22: =SUM(V7:V21) -> 71057.689 | W22: =X22/C23 -> 0.025557555 | X22: =SUM(X7:X21) -> 46372.141 | Y22: =Z22/C23 -> 0.0067448958 | Z22: =SUM(Z7:Z21) -> 12238.074 | AA22: =AB22/C23 -> 0.015368551 | AB22: =SUM(AB7:AB21) -> 27885.007 | AC22: =R22+T22+V22+X22+Z22+AB22+P22+N22+L22+J22+H22+F22 -> 1814420.1
A23: TOTAL ACUMULADO | C23: =SUM(C7:C21) -> 1814420.1 | D23: =SUM(D7:D22) -> 1 | E23: =F23/C23 -> 0.18100004 | F23: =F22 -> 328410.1 | G23: =H23/C23 -> 0.32806134 | H23: =F23+H22 -> 595241.08 | I23: =J23/C23 -> 0.37154327 | J23: =H23+J22 -> 674135.56 | K23: =L23/C23 -> 0.44242611 | L23: =J23+L22 -> 802746.8 | M23: =N23/C23 -> 0.57166045 | N23: =L23+N22 -> 1037232.2 | O23: =P23/C23 -> 0.69694094 | P23: =N23+P22 -> 1264543.6 | Q23: =R23/C23 -> 0.80514538 | R23: =P23+R22 -> 1460871.9 | S23: =T23/C23 -> 0.91316624 | T23: =R23+T22 -> 1656867.1 | U23: =V23/C23 -> 0.952329 | V23: =T23+V22 -> 1727924.8 | W23: =X23/C23 -> 0.97788655 | X23: =V23+X22 -> 1774297 | Y23: =Z23/C23 -> 0.98463145 | Z23: =X23+Z22 -> 1786535.1 | AA23: =AB23/C23 -> 1 | AB23: =Z23+AB22 -> 1814420.1
A24: LOCAL / DATA: CRUCILÂNDIA, 14 DE ABRIL DE 2026
A25: RESPONSÁVEL TÉCNICO: HUILDYS ESTÁCIO DE OLIVEIRA
A26: REPRESENTANTE LEGAL: ELIZÂNGELA CRISTINA LARA DINIZ
