Workbook
Name ÉServiço: [3]BM!$E1<>""
Name Excel_BuiltIn_Database: #REF!
Name Excel_BuiltIn_Print_Area_1_1: #REF!
Name Excel_BuiltIn_Print_Area_1_1_1: #REF!
Name Excel_BuiltIn_Print_Area_1_1_1_1: #REF!
Name Excel_BuiltIn_Print_Area_1_1_1_1_1: #REF!
Name Excel_BuiltIn_Print_Area_1_9: #REF!
Name Excel_BuiltIn_Print_Area_2_1: #REF!
Name Excel_BuiltIn_Print_Area_8_1_1_1: #REF!
Name Excel_BuiltIn_Print_Area_9: #REF!
Name Excel_BuiltIn_Print_Area_9_1: #REF!
Name Excel_BuiltIn_Print_Titles_1_1: #REF!
Name Excel_BuiltIn_Print_Titles_2: #REF!
Name Excel_BuiltIn_Print_Titles_9: #REF!
Name RegimeExecucao: IF(OR([3]DADOS!$A$33="Empreitada Preço Global",[3]DADOS!$A$33="Empreitada Integral"),"Global","Unitário")

Sheet PLANILHA ORÇAMENTÁRIA
A1: MUNICíPIO DE IGARATINGA
A2: PLANILHA ORÇAMENTÁRIA DE CUSTOS
A3: PREFEITURA MUNICIPAL DE IGARATINGA | F3: DATA: 10/11/2025 | H3: FOLHAS: 03
A4: OBRA: Construção do Centro de Apoio a Zoonoses
A5: LOCAL: Parque de exposições, zona rural do Município de Igaratinga-MG. | F5: FORMA DE EXECUÇÃO: | H5: BDI | I5: 0.2431
A6: REFERÊNCIA: Seinfra 07/2025; Sudecap 07/2025 - Sem Desoneração | F6: DIRETA | G6: ( )
A7: PRAZO DE EXECUÇÃO: 4 meses | F7: INDIRETA | G7: ( X )
A8: ITEM | B8: FONTE | C8: CÓDIGO | D8: DESCRIÇÃO | E8: UNID. | F8: QUANT. | G8: PREÇO UNITÁRIO S/ BDI | H8: CUSTO UNITÁRIO C/ BDI | I8: CUSTO TOTAL
A9: SERVIÇOS PRELIMINARES | G9: SUBTOTAL: | I9: =SUM(I10:I11) -> 5497.44
A10: 1 | B10: SEINFRA | C10: ED-16660 | D10: FORNECIMENTO E COLOCAÇÃO DE PLACA DE OBRA EM CHAPA GALVANIZADA #26, ESP. 0,45 MM, PLOTADA COM ADESIVO VINÍLICO, AFIXADA COM REBITES 4,8X40 MM, EM ESTRUTURA METÁLICA DE METALON 20X20 MM, ESP. 1,25 MM, INCLUSIVE SUPORTE EM EUCALIPTO AUTOCLAVADO PINTADO COM TINTA PVA DUAS (2) DEMÃOS | E10: m² | F10: 2.88 | G10: 257.01 | H10: =ROUND((G10)+(G10*$I$5),2) -> 319.49 | I10: =ROUND(F10*H10,2) -> 920.13
A11: 2 | B11: SEINFRA | C11: ED-17989 | D11: LOCAÇÃO DE OBRA COM GABARITO DE TÁBUAS CORRIDAS PONTALETADAS A CADA 2,00M, REAPROVEITAMENTO (2X), INCLUSIVE ACOMPANHAMENTO DE EQUIPE TOPOGRÁFICA PARA MARCAÇÃO DE PONTO TOPOGRÁFICO | E11: m | F11: 58.28 | G11: 63.18 | H11: =ROUND((G11)+(G11*$I$5),2) -> 78.54 | I11: =ROUND(F11*H11,2) -> 4577.31
A12: FUNDAÇÃO | G12: SUBTOTAL: | I12: =SUM(I13:I20) -> 9128.94
A13: 3 | B13: SEINFRA | C13: ED-29801 | D13: PERFURAÇÃO MANUAL DE ESTACA TIPO BROCA A TRADO, INCLUSIVE AFASTAMENTO, EXCLUSIVE ARMAÇÃO, CONCRETO ESTRUTURAL, TRANSPORTE E RETIRADA DO MATERIAL ESCAVADO | E13: m³ | F13: 1.27 | G13: 251.88 | H13: =ROUND((G13)+(G13*$I$5),2) -> 313.11 | I13: =ROUND(F13*H13,2) -> 397.65
A14: 4 | B14: SEINFRA | C14: ED-29551 | D14: CORTE, DOBRA E MONTAGEM DE AÇO CA-50, DIÂMETRO 10MM, INCLUSIVE ESPAÇADOR | E14: kg | F14: 44.42 | G14: 14.31 | H14: =ROUND((G14)+(G14*$I$5),2) -> 17.79 | I14: =ROUND(F14*H14,2) -> 790.23
A15: 5 | B15: SEINFRA | C15: ED-29548 | D15: CORTE, DOBRA E MONTAGEM DE AÇO CA-60, DIÂMETRO 5MM, INCLUSIVE ESPAÇADOR | E15: kg | F15: 9.15 | G15: 13.97 | H15: =ROUND((G15)+(G15*$I$5),2) -> 17.37 | I15: =ROUND(F15*H15,2) -> 158.94
A16: 6 | B16: SEINFRA | C16: ED-49786 | D16: FORNECIMENTO DE CONCRETO ESTRUTURAL, PREPARADO EM OBRA COM BETONEIRA, COM FCK 20MPA, INCLUSIVE LANÇAMENTO, ADENSAMENTO E ACABAMENTO (FUNDAÇÃO) | E16: m³ | F16: 1.27 | G16: 732.21 | H16: =ROUND((G16)+(G16*$I$5),2) -> 910.21 | I16: =ROUND(F16*H16,2) -> 1155.97
A17: 7 | B17: SEINFRA | C17: ED-51107 | D17: ESCAVAÇÃO MANUAL DE VALA COM PROFUNDIDADE MENOR OU IGUAL A 1,5M, INCLUSIVE DESCARGA LATERAL | E17: m³ | F17: 2.85 | G17: 77.29 | H17: =ROUND((G17)+(G17*$I$5),2) -> 96.08 | I17: =ROUND(F17*H17,2) -> 273.83
A18: 8 | B18: SEINFRA | C18: ED-29551 | D18: CORTE, DOBRA E MONTAGEM DE AÇO CA-50, DIÂMETRO 10MM, INCLUSIVE ESPAÇADOR | E18: kg | F18: 175.89 | G18: 14.31 | H18: =ROUND((G18)+(G18*$I$5),2) -> 17.79 | I18: =ROUND(F18*H18,2) -> 3129.08
A19: 9 | B19: SEINFRA | C19: ED-29548 | D19: CORTE, DOBRA E MONTAGEM DE AÇO CA-60, DIÂMETRO 5MM, INCLUSIVE ESPAÇADOR | E19: kg | F19: 36.22 | G19: 13.97 | H19: =ROUND((G19)+(G19*$I$5),2) -> 17.37 | I19: =ROUND(F19*H19,2) -> 629.14
A20: 10 | B20: SEINFRA | C20: ED-49786 | D20: FORNECIMENTO DE CONCRETO ESTRUTURAL, PREPARADO EM OBRA COM BETONEIRA, COM FCK 20MPA, INCLUSIVE LANÇAMENTO, ADENSAMENTO E ACABAMENTO (FUNDAÇÃO) | E20: m³ | F20: 2.85 | G20: 732.21 | H20: =ROUND((G20)+(G20*$I$5),2) -> 910.21 | I20: =ROUND(F20*H20,2) -> 2594.1
A21: ESTRUTURA | G21: SUBTOTAL: | I21: =SUM(I22:I25) -> 4118.42
A22: 11 | B22: SEINFRA | C22: ED-31567 | D22: FÔRMA E DESFORMA PARA PILAR DE MADEIRA COM TÁBUA E SARRAFO, REAPROVEITAMENTO (3X), EXCLUSIVE ESCORAMENTO | E22: m² | F22: 11.31 | G22: 96.5 | H22: =ROUND((G22)+(G22*$I$5),2) -> 119.96 | I22: =ROUND(F22*H22,2) -> 1356.75
A23: 12 | B23: SEINFRA | C23: ED-29551 | D23: CORTE, DOBRA E MONTAGEM DE AÇO CA-50, DIÂMETRO 10MM, INCLUSIVE ESPAÇADOR | E23: kg | F23: 93.04 | G23: 14.31 | H23: =ROUND((G23)+(G23*$I$5),2) -> 17.79 | I23: =ROUND(F23*H23,2) -> 1655.18
A24: 13 | B24: SEINFRA | C24: ED-29548 | D24: CORTE, DOBRA E MONTAGEM DE AÇO CA-60, DIÂMETRO 5MM, INCLUSIVE ESPAÇADOR | E24: kg | F24: 19.16 | G24: 13.97 | H24: =ROUND((G24)+(G24*$I$5),2) -> 17.37 | I24: =ROUND(F24*H24,2) -> 332.81
A25: 14 | B25: SEINFRA | C25: ED-49786 | D25: FORNECIMENTO DE CONCRETO ESTRUTURAL, PREPARADO EM OBRA COM BETONEIRA, COM FCK 20MPA, INCLUSIVE LANÇAMENTO, ADENSAMENTO E ACABAMENTO (FUNDAÇÃO) | E25: m³ | F25: 0.85 | G25: 732.21 | H25: =ROUND((G25)+(G25*$I$5),2) -> 910.21 | I25: =ROUND(F25*H25,2) -> 773.68
A26: PISOS E CONTRAPISOS | G26: SUBTOTAL: | I26: =SUM(I27:I30) -> 34997.73
A27: 15 | B27: SEINFRA | C27: ED-49812 | D27: LASTRO DE CONCRETO MAGRO, INCLUSIVE TRANSPORTE, LANÇAMENTO E ADENSAMENTO | E27: m³ | F27: 0.5 | G27: 574.62 | H27: =ROUND((G27)+(G27*$I$5),2) -> 714.31 | I27: =ROUND(F27*H27,2) -> 357.16
A28: 16 | B28: SEINFRA | C28: ED-50569 | D28: CONTRAPISO DESEMPENADO COM ARGAMASSA, TRAÇO 1:3 (CIMENTO E AREIA), ESP. 50MM, INCLUSIVE ARGAMASSA COM PREPARO MECANIZADO | E28: m² | F28: 411.3 | G28: 63.65 | H28: =ROUND((G28)+(G28*$I$5),2) -> 79.12 | I28: =ROUND(F28*H28,2) -> 32542.06
A29: 17 | B29: SEINFRA | C29: ED-50542 | D29: REVESTIMENTO COM CERÂMICA APLICADO EM PISO, ACABAMENTO ESMALTADO, AMBIENTE INTERNO, PADRÃO EXTRA, DIMENSÃO DA PEÇA ATÉ 2025 CM2, PEI V, ASSENTAMENTO COM ARGAMASSA INDUSTRIALIZADA, INCLUSIVE REJUNTAMENTO | E29: m² | F29: 16.66 | G29: 83.49 | H29: =ROUND((G29)+(G29*$I$5),2) -> 103.79 | I29: =ROUND(F29*H29,2) -> 1729.14
A30: 18 | B30: SEINFRA | C30: ED-50771 | D30: RODAPÉ COM REVESTIMENTO EM CERÂMICA ESMALTADA COMERCIAL, ALTURA 10CM, PEI IV, ASSENTAMENTO COM ARGAMASSA INDUSTRIALIZADA, INCLUSIVE REJUNTAMENTO | E30: m | F30: 23.1 | G30: 12.86 | H30: =ROUND((G30)+(G30*$I$5),2) -> 15.99 | I30: =ROUND(F30*H30,2) -> 369.37
A31: VEDAÇÕES E REVESTIMENTOS | G31: SUBTOTAL: | I31: =SUM(I32:I38) -> 47917.19
A32: 19 | B32: SEINFRA | C32: ED-48231 | D32: ALVENARIA DE VEDAÇÃO COM TIJOLO CERÂMICO FURADO, ESP. 9CM, PARA REVESTIMENTO, INCLUSIVE ARGAMASSA PARA ASSENTAMENTO | E32: m² | F32: 60.11 | G32: 58.69 | H32: =ROUND((G32)+(G32*$I$5),2) -> 72.96 | I32: =ROUND(F32*H32,2) -> 4385.63
A33: 20 | B33: SEINFRA | C33: ED-50727 | D33: CHAPISCO COM ARGAMASSA, TRAÇO 1:3 (CIMENTO E AREIA), ESP. 5MM, APLICADO EM ALVENARIA/ESTRUTURA DE CONCRETO COM COLHER, INCLUSIVE ARGAMASSA COM PREPARO MECANIZADO | E33: m² | F33: 101.92 | G33: 10.01 | H33: =ROUND((G33)+(G33*$I$5),2) -> 12.44 | I33: =ROUND(F33*H33,2) -> 1267.88
A34: 21 | B34: SEINFRA | C34: ED-50761 | D34: REBOCO COM ARGAMASSA, TRAÇO 1:2:8 (CIMENTO, CAL E AREIA), ESP. 20MM, APLICAÇÃO MANUAL, INCLUSIVE ARGAMASSA COM PREPARO MECANIZADO, EXCLUSIVE CHAPISCO | E34: m² | F34: 101.92 | G34: 38.66 | H34: =ROUND((G34)+(G34*$I$5),2) -> 48.06 | I34: =ROUND(F34*H34,2) -> 4898.28
A35: 22 | B35: SEINFRA | C35: ED-50514 | D35: PREPARAÇÃO PARA EMASSAMENTO OU PINTURA (LÁTEX/ACRÍLICA) EM PAREDE, INCLUSIVE UMA (1) DEMÃO DE SELADOR ACRÍLICO | E35: m² | F35: 101.92 | G35: 7.62 | H35: =ROUND((G35)+(G35*$I$5),2) -> 9.47 | I35: =ROUND(F35*H35,2) -> 965.18
A36: 23 | B36: SEINFRA | C36: ED-50451 | D36: PINTURA ACRÍLICA EM PAREDE, DUAS (2) DEMÃOS, COM APLICAÇÃO MANUAL, EXCLUSIVE SELADOR ACRÍLICO E MASSA ACRÍLICA/CORRIDA (PVA) | E36: m² | F36: 101.92 | G36: 16.34 | H36: =ROUND((G36)+(G36*$I$5),2) -> 20.31 | I36: =ROUND(F36*H36,2) -> 2070
A37: 24 | B37: - | C37: COMP-001 | D37: MURO EM PLACA DE CONCRETO PRÉ-MOLDADA, COM H=1,80 (4 PLACAS), INCLUINDO POSTES DE FIXAÇÃO, TRANSPORTE E INSTALAÇÃO | E37: m | F37: 89.14 | G37: 140.27 | H37: =ROUND((G37)+(G37*$I$5),2) -> 174.37 | I37: =ROUND(F37*H37,2) -> 15543.34
A38: 25 | B38: SEINFRA | C38: ED-48386 | D38: CERCA DE MOURÃO H = 2,80 M - MOURÃO PRÉ-FABRICADO DE CONCRETO PONTA VIRADA A CADA 2,50 M, 3 FIOS DE ARAME FARPADO E TELA GALVANIZADA # 2" FIO 12, INCLUSIVE FUNDAÇÃO | E38: m | F38: 47.45 | G38: 318.5 | H38: =ROUND((G38)+(G38*$I$5),2) -> 395.93 | I38: =ROUND(F38*H38,2) -> 18786.88
A39: COBERTURA | G39: SUBTOTAL: | I39: =SUM(I40:I44) -> 61220.48
A40: 26 | B40: SEINFRA | C40: ED-20603 | D40: FORNECIMENTO DE ESTRUTURA METÁLICA E ENGRADAMENTO METÁLICO, EM AÇO, PARA TELHADO, EXCLUSIVE TELHA, INCLUSIVE FABRICAÇÃO, TRANSPORTE, MONTAGEM E APLICAÇÃO DE FUNDO PREPARADOR ANTICORROSIVO EM SUPERFÍCIE METÁLICA, UMA (1) DEMÃO | E40: kg | F40: 927.39 | G40: 23.7 | H40: =ROUND((G40)+(G40*$I$5),2) -> 29.46 | I40: =ROUND(F40*H40,2) -> 27320.91
...

Sheet CRONOGRAMA FF
A1: MUNICÍPIO DE IGARATINGA
A2: CRONOGRAMA FÍSICO-FINANCEIRO
A3: ='PLANILHA ORÇAMENTÁRIA'!A3:E3 -> PREFEITURA MUNICIPAL DE IGARATINGA | E3: DATA: 13/11/2025 | G3: FOLHA Nº: 01/01
A4: OBRA: Construção do Centro de Apoio a Zoonoses
A5: LOCAL: Parque de exposições, zona rural do Município de Igaratinga-MG. | E5: PREVISÃO DE EXECUÇÃO DAS OBRAS: 4 MESES
A6: ETAPAS/DESCRIÇÃO | C6: FÍSICO/ FINANCEIRO | D6: TOTAL ETAPAS | E6: MÊS 1 | F6: MÊS 2 | G6: MÊS 3 | H6: MÊS 4
A7: ='PLANILHA ORÇAMENTÁRIA'!A9 -> SERVIÇOS PRELIMINARES | C7: Físico % | D7: =D8/$D$28 -> 0.024628295 | E7: 1
C8: Financeiro | D8: ='PLANILHA ORÇAMENTÁRIA'!I9 -> 5497.44 | E8: =E7*$D$8 -> 5497.44
A9: ='PLANILHA ORÇAMENTÁRIA'!A12 -> FUNDAÇÃO | C9: Físico % | D9: =D10/$D$28 -> 0.040897258 | E9: 1
C10: Financeiro | D10: ='PLANILHA ORÇAMENTÁRIA'!I12 -> 9128.94 | E10: =E9*$D$10 -> 9128.94
A11: ='PLANILHA ORÇAMENTÁRIA'!A21 -> ESTRUTURA | C11: Físico % | D11: =D12/$D$28 -> 0.018450344 | E11: 0.5 | F11: 0.5
C12: Financeiro | D12: ='PLANILHA ORÇAMENTÁRIA'!I21 -> 4118.42 | E12: =E11*$D$12 -> 2059.21 | F12: =F11*$D$12 -> 2059.21
A13: ='PLANILHA ORÇAMENTÁRIA'!A26 -> PISOS E CONTRAPISOS | C13: Físico % | D13: =D14/$D$28 -> 0.15678832 | F13: 0.5 | G13: 0.5
C14: Financeiro | D14: ='PLANILHA ORÇAMENTÁRIA'!I26 -> 34997.73 | F14: =F13*$D$14 -> 17498.865 | G14: =G13*$D$14 -> 17498.865
A15: ='PLANILHA ORÇAMENTÁRIA'!A31 -> VEDAÇÕES E REVESTIMENTOS | C15: Físico % | D15: =D16/$D$28 -> 0.21466695 | F15: 0.4 | G15: 0.4 | H15: 0.2
C16: Financeiro | D16: ='PLANILHA ORÇAMENTÁRIA'!I31 -> 47917.19 | F16: =F15*$D$16 -> 19166.876 | G16: =G15*$D$16 -> 19166.876 | H16: =H15*$D$16 -> 9583.438
A17: ='PLANILHA ORÇAMENTÁRIA'!A39 -> COBERTURA | C17: Físico % | D17: =D18/$D$28 -> 0.27426512 | E17: 0.25 | F17: 0.25 | G17: 0.25 | H17: 0.25
C18: Financeiro | D18: ='PLANILHA ORÇAMENTÁRIA'!I39 -> 61220.48 | E18: =E17*$D$18 -> 15305.12 | F18: =F17*$D$18 -> 15305.12 | G18: =G17*$D$18 -> 15305.12 | H18: =H17*$D$18 -> 15305.12
A19: ='PLANILHA ORÇAMENTÁRIA'!A45 -> HIDROSSANITÁRIO | C19: Físico % | D19: =D20/$D$28 -> 0.080206686 | E19: 0.5 | F19: 0.2 | G19: 0.2 | H19: 0.1
C20: Financeiro | D20: ='PLANILHA ORÇAMENTÁRIA'!I45 -> 17903.45 | E20: =E19*$D$20 -> 8951.725 | F20: =F19*$D$20 -> 3580.69 | G20: =G19*$D$20 -> 3580.69 | H20: =H19*$D$20 -> 1790.345
A21: ='PLANILHA ORÇAMENTÁRIA'!A55 -> ELÉTRICO | C21: Físico % | D21: =D22/$D$28 -> 0.1027389 | E21: 0.5 | F21: 0.2 | G21: 0.2 | H21: 0.1
C22: Financeiro | D22: ='PLANILHA ORÇAMENTÁRIA'!I55 -> 22933.01 | E22: =E21*$D$22 -> 11466.505 | F22: =F21*$D$22 -> 4586.602 | G22: =G21*$D$22 -> 4586.602 | H22: =H21*$D$22 -> 2293.301
A23: ='PLANILHA ORÇAMENTÁRIA'!A66 -> ESQUADRIAS | C23: Físico % | D23: =D24/$D$28 -> 0.067965113 | G23: 0.2 | H23: 0.8
C24: Financeiro | D24: ='PLANILHA ORÇAMENTÁRIA'!I66 -> 15170.93 | G24: =G23*$D$24 -> 3034.186 | H24: =H23*$D$24 -> 12136.744
A25: ='PLANILHA ORÇAMENTÁRIA'!A74 -> FINAIS | C25: Físico % | D25: =D26/$D$28 -> 0.019393017 | H25: 1
C26: Financeiro | D26: ='PLANILHA ORÇAMENTÁRIA'!I74 -> 4328.84 | H26: =H25*$D$26 -> 4328.84
A27: TOTAL | C27: Físico % | D27: =D7+D9+D11+D13+D15+D17+D19+D21+D23+D25 -> 1 | E27: =E28/$D$28 -> 0.2347898 | F27: =F28/$D$28 -> 0.27864151 | G27: =G28/$D$28 -> 0.28300936 | H27: =H28/$D$28 -> 0.20355933
C28: Financeiro | D28: =D8+D10+D12+D14+D16+D18+D20+D22+D24+D26 -> 223216.43 | E28: =E8+E10+E12+E14+E16+E18+E20+E22+E24+E26 -> 52408.94 | F28: =F8+F10+F12+F14+F16+F18+F20+F22+F24+F26 -> 62197.363 | G28: =G8+G10+G12+G14+G16+G18+G20+G22+G24+G26 -> 63172.339 | H28: =H8+H10+H12+H14+H16+H18+H20+H22+H24+H26 -> 45437.788
A29: Flávio Lucas Greco Santos CREA-MG: 64.880/D

Sheet COMPOSIÇÃO BDI
A1: MUNICÍPIO DE IGARATINGA
A2: COMPOSIÇÃO DO BDI
A3: PREFEITURA MUNICIPAL DE IGARATINGA | H3: DATA: 13/11/2025
A4: OBRA: Construção do Centro de Apoio a Zoonoses | H4: FOLHAS: 01
A6: Conforme legislação tributária, definir estimativa de percentual da base de cálculo para o ISS: | J6: 0.5
A7: Sobre a base de cálculo, definir a respectiva alíquota do ISS (entre 2% e 5%): | J7: 0.05
A8: Itens | I8: Siglas | J8: % Adotado
A9: Administração Central | I9: AC | J9: 0.0467
A10: Lucro | I10: L | J10: 0.0753
A11: Despesas Financeiras | I11: DF | J11: 0.0153
A12: Seguros, Garantia e Risco | I12: S+R+G | J12: =SUM(J13+J14) -> 0.0219
A13: Seguros e Garantia | I13: SG | J13: 0.0094
A14: Riscos | I14: R | J14: 0.0125
A15: Tributos | I15: I | J15: =SUM(J16+J17+J18) -> 0.0615
A16: ISS | I16: ISS | J16: 0.025
A17: PIS | I17: PIS | J17: 0.0065
A18: COFINS | I18: COF. | J18: 0.03
A19: CPRB (0 OU 4,5% - DESONERAÇÃO) | I19: CRPB | J19: 0
A20: BDI sem desoneração | I20: BDI | J20: =(1+(J9+J12))*(1+J11)*(1+J10)/(1-(J15+J19))-1 -> 0.24309673
A22: BDI = | B22: Os valores de BDI foram calculados com o emprego da fórmula:
C23: (1 + AC + S+ R + G)*(1 + DF)*(1 + L) | H23: - 1
C24: (1-CP-ISS-CRPB)
A26: =CONCATENATE("Declaro para os devidos fins que, conforme legislação tributária municipal, a base de cálculo deste tipo de obra corresponde à ",$J$6*100,"%, com a respectiva alíquota de ",$J$7*100,"%.") -> Declaro para os devidos fins que, conforme legislação tributária municipal, a base de cálculo deste tipo de obra corresponde à 50%, com a respectiva alíquota de 5%.
A27: Flávio Lucas Greco Santos CREA-MG: 64.880/D

Sheet MEMÓRIA DE CÁLCULO
A1: MEMÓRIA DE CÁLCULO
A2: ITEM | B2: DESCRIÇÃO | C2: UND. | D2: QNT. | E2: Nº | F2: PESO ESPECÍFICO | G2: DIÂMETRO | H2: COMP. | I2: LARGURA | J2: PROFUN. | K2: ALTURA | L2: DESCONTOS | M2: RAIO | N2: PESO (KG) | O2: ÁREA (M²) | P2: VOLUME (M³) | Q2: LOCAIS E DETALHES
A3: SERVIÇOS PRELIMINARES
A4: 1 | B4: ='PLANILHA ORÇAMENTÁRIA'!$D$10 -> FORNECIMENTO E COLOCAÇÃO DE PLACA DE OBRA EM CHAPA GALVANIZADA #26, ESP. 0,45 MM, PLOTADA COM ADESIVO VINÍLICO, AFIXADA COM REBITES 4,8X40 MM, EM ESTRUTURA METÁLICA DE METALON 20X20 MM, ESP. 1,25 MM, INCLUSIVE SUPORTE EM EUCALIPTO AUTOCLAVADO PINTADO COM TINTA PVA DUAS (2) DEMÃOS | C4: ='PLANILHA ORÇAMENTÁRIA'!$E$10 -> m² | D4: =O4 -> 2.88 | H4: 2.4 | K4: 1.2 | O4: =H4*K4 -> 2.88
A5: 2 | B5: ='PLANILHA ORÇAMENTÁRIA'!$D$11 -> LOCAÇÃO DE OBRA COM GABARITO DE TÁBUAS CORRIDAS PONTALETADAS A CADA 2,00M, REAPROVEITAMENTO (2X), INCLUSIVE ACOMPANHAMENTO DE EQUIPE TOPOGRÁFICA PARA MARCAÇÃO DE PONTO TOPOGRÁFICO | C5: ='PLANILHA ORÇAMENTÁRIA'!$E$11 -> m | D5: =H5+I5 -> 58.28 | H5: 49.89 | I5: 8.39 | Q5: Frontal e lateral
A6: FUNDAÇÃO
A7: 3 | B7: ='PLANILHA ORÇAMENTÁRIA'!$D$13 -> PERFURAÇÃO MANUAL DE ESTACA TIPO BROCA A TRADO, INCLUSIVE AFASTAMENTO, EXCLUSIVE ARMAÇÃO, CONCRETO ESTRUTURAL, TRANSPORTE E RETIRADA DO MATERIAL ESCAVADO | C7: ='PLANILHA ORÇAMENTÁRIA'!E13 -> m³ | D7: =P7 -> 1.2723439 | E7: 6 | J7: 3 | M7: 0.15 | P7: =(3.14159*M7*M7*J7*E7) -> 1.2723439 | Q7: 6 estacas, DN 30cm, 3,00m profundidade
A8: 4 | B8: ='PLANILHA ORÇAMENTÁRIA'!$D$14 -> CORTE, DOBRA E MONTAGEM DE AÇO CA-50, DIÂMETRO 10MM, INCLUSIVE ESPAÇADOR | C8: ='PLANILHA ORÇAMENTÁRIA'!E14 -> kg | D8: =N8 -> 44.424 | E8: 4 | F8: 0.617 | J8: 3 | N8: =E8*F8*J8*E7 -> 44.424 | Q8: 6 estacas, DN 30cm, 3,00m profundidade
A9: 5 | B9: ='PLANILHA ORÇAMENTÁRIA'!$D$15 -> CORTE, DOBRA E MONTAGEM DE AÇO CA-60, DIÂMETRO 5MM, INCLUSIVE ESPAÇADOR | C9: ='PLANILHA ORÇAMENTÁRIA'!E15 -> kg | D9: =N9 -> 9.1476 | E9: 15 | F9: 0.154 | J9: 0.66 | N9: =J9*F9*E9*E7 -> 9.1476 | Q9: 6 estacas, DN 30cm, 3,00m profundidade
A10: 6 | B10: ='PLANILHA ORÇAMENTÁRIA'!$D$16 -> FORNECIMENTO DE CONCRETO ESTRUTURAL, PREPARADO EM OBRA COM BETONEIRA, COM FCK 20MPA, INCLUSIVE LANÇAMENTO, ADENSAMENTO E ACABAMENTO (FUNDAÇÃO) | C10: ='PLANILHA ORÇAMENTÁRIA'!E16 -> m³ | D10: =P10 -> 1.2723439 | E10: 6 | J10: 3 | M10: 0.15 | P10: =(3.14159*M10*M10*J10*E10) -> 1.2723439 | Q10: 6 estacas, DN 30cm, 3,00m profundidade
A11: 7 | B11: ='PLANILHA ORÇAMENTÁRIA'!$D$17 -> ESCAVAÇÃO MANUAL DE VALA COM PROFUNDIDADE MENOR OU IGUAL A 1,5M, INCLUSIVE DESCARGA LATERAL | C11: ='PLANILHA ORÇAMENTÁRIA'!E17 -> m³ | D11: =SUM(P11:P14) -> 2.8508 | E11: 2 | H11: 6.4 | I11: 0.2 | J11: 0.2 | P11: =H11*I11*J11*E11 -> 0.512 | Q11: Baldrame horizontal
E12: 1 | H12: 44.85 | I12: 0.2 | J12: 0.2 | P12: =H12*I12*J12*E12 -> 1.794
E13: 2 | H13: 2.16 | I13: 0.2 | J13: 0.2 | P13: =H13*I13*J13*E13 -> 0.1728 | Q13: Baldrame vertical
E14: 3 | H14: 3.1 | I14: 0.2 | J14: 0.2 | P14: =H14*I14*J14*E14 -> 0.372
A15: 8 | B15: ='PLANILHA ORÇAMENTÁRIA'!$D$18 -> CORTE, DOBRA E MONTAGEM DE AÇO CA-50, DIÂMETRO 10MM, INCLUSIVE ESPAÇADOR | C15: ='PLANILHA ORÇAMENTÁRIA'!E18 -> kg | D15: =N15 -> 175.89436 | E15: 4 | F15: 0.617 | H15: =(H11*E11)+(H12*E12)+(H13*E13)+(H14*E14) -> 71.27 | N15: =H15*E15*F15 -> 175.89436 | Q15: 4 barras por viga
A16: 9 | B16: ='PLANILHA ORÇAMENTÁRIA'!$D$19 -> CORTE, DOBRA E MONTAGEM DE AÇO CA-60, DIÂMETRO 5MM, INCLUSIVE ESPAÇADOR | C16: ='PLANILHA ORÇAMENTÁRIA'!E19 -> kg | D16: =N16 -> 36.219414 | E16: =H15/0.2 -> 356.35 | F16: 0.154 | H16: 0.66 | N16: =H16*E16*F16 -> 36.219414 | Q16: Estribo c/20cm
A17: 10 | B17: ='PLANILHA ORÇAMENTÁRIA'!$D$20 -> FORNECIMENTO DE CONCRETO ESTRUTURAL, PREPARADO EM OBRA COM BETONEIRA, COM FCK 20MPA, INCLUSIVE LANÇAMENTO, ADENSAMENTO E ACABAMENTO (FUNDAÇÃO) | C17: ='PLANILHA ORÇAMENTÁRIA'!E20 -> m³ | D17: =D11 -> 2.8508 | Q17: Baldrames
A18: ESTRUTURA
A19: 11 | B19: ='PLANILHA ORÇAMENTÁRIA'!D22 -> FÔRMA E DESFORMA PARA PILAR DE MADEIRA COM TÁBUA E SARRAFO, REAPROVEITAMENTO (3X), EXCLUSIVE ESCORAMENTO | C19: ='PLANILHA ORÇAMENTÁRIA'!E22 -> m² | D19: =SUM(O19:O21) -> 11.31 | E19: =6*2 -> 12 | I19: 0.15 | K19: =(2.75+2.45)/2 -> 2.6 | O19: =K19*I19*E19 -> 4.68 | Q19: 6 Pilares, 2 Faces
E20: =3*2 -> 6 | H20: 3.1 | I20: 0.15 | O20: =I20*H20*E20 -> 2.79 | Q20: 3 Vigas, 2 Faces
E21: =2*2 -> 4 | H21: 6.4 | I21: 0.15 | O21: =I21*H21*E21 -> 3.84 | Q21: 2 Vigas, 2 Faces
A22: 12 | B22: ='PLANILHA ORÇAMENTÁRIA'!D23 -> CORTE, DOBRA E MONTAGEM DE AÇO CA-50, DIÂMETRO 10MM, INCLUSIVE ESPAÇADOR | C22: ='PLANILHA ORÇAMENTÁRIA'!E23 -> kg | D22: =SUM(N22:N24) -> 93.0436 | E22: =6*4 -> 24 | F22: 0.617 | K22: =(2.75+2.45)/2 -> 2.6 | N22: =K22*F22*E22 -> 38.5008 | Q22: 6 Pilares, 4 Barras
E23: =3*4 -> 12 | H23: 3.1 | N23: =H23*F22*E23 -> 22.9524 | Q23: 3 Vigas, 4 Barras
E24: =2*4 -> 8 | H24: 6.4 | N24: =H24*F22*E24 -> 31.5904 | Q24: 2 Vigas, 4 Barras
A25: 13 | B25: ='PLANILHA ORÇAMENTÁRIA'!D24 -> CORTE, DOBRA E MONTAGEM DE AÇO CA-60, DIÂMETRO 5MM, INCLUSIVE ESPAÇADOR | C25: ='PLANILHA ORÇAMENTÁRIA'!E24 -> kg | D25: =SUM(N25:N27) -> 19.15914 | E25: =(K25*6)/0.2 -> 78 | F25: 0.154 | H25: 0.66 | K25: 2.6 | N25: =H25*F25*E25 -> 7.92792 | Q25: 6 Pilares
E26: =(K26*3)/0.2 -> 46.5 | K26: 3.1 | N26: =H25*F25*E26 -> 4.72626 | Q26: 3 Vigas
E27: =(K27*2)/0.2 -> 64 | K27: 6.4 | N27: =H25*F25*E27 -> 6.50496 | Q27: 2 Vigas
A28: 14 | B28: ='PLANILHA ORÇAMENTÁRIA'!D25 -> FORNECIMENTO DE CONCRETO ESTRUTURAL, PREPARADO EM OBRA COM BETONEIRA, COM FCK 20MPA, INCLUSIVE LANÇAMENTO, ADENSAMENTO E ACABAMENTO (FUNDAÇÃO) | C28: ='PLANILHA ORÇAMENTÁRIA'!E25 -> m³ | D28: =SUM(P28:P30) -> 0.84825 | E28: 6 | H28: 0.15 | I28: 0.15 | K28: 2.6 | P28: =E28*H28*I28*K28 -> 0.351 | Q28: 6 Pilares
E29: 3 | H29: 3.1 | I29: 0.15 | K29: 0.15 | P29: =E29*H29*I29*K29 -> 0.20925 | Q29: 3 Vigas
E30: 2 | H30: 6.4 | I30: 0.15 | K30: 0.15 | P30: =E30*H30*I30*K30 -> 0.288 | Q30: 2 Vigas
A31: PISOS E CONTRAPISOS
A32: 15 | B32: ='PLANILHA ORÇAMENTÁRIA'!D27 -> LASTRO DE CONCRETO MAGRO, INCLUSIVE TRANSPORTE, LANÇAMENTO E ADENSAMENTO | C32: ='PLANILHA ORÇAMENTÁRIA'!E27 -> m³ | D32: =P32 -> 0.4998 | K32: 0.03 | O32: =11.06+5.6 -> 16.66 | P32: =O32*K32 -> 0.4998 | Q32: Sala de apoio e depósito
A33: 16 | B33: ='PLANILHA ORÇAMENTÁRIA'!D28 -> CONTRAPISO DESEMPENADO COM ARGAMASSA, TRAÇO 1:3 (CIMENTO E AREIA), ESP. 50MM, INCLUSIVE ARGAMASSA COM PREPARO MECANIZADO | C33: ='PLANILHA ORÇAMENTÁRIA'!E28 -> m² | D33: =SUM(O33:O36) -> 411.3 | O33: =11.06+5.6 -> 16.66 | Q33: Sala de apoio e depósito
O34: =10*18.66 -> 186.6 | Q34: Baias cobertas
O35: 107.33 | Q35: Baia descoberta
O36: 100.71 | Q36: Circulação
A37: 17 | B37: ='PLANILHA ORÇAMENTÁRIA'!D29 -> REVESTIMENTO COM CERÂMICA APLICADO EM PISO, ACABAMENTO ESMALTADO, AMBIENTE INTERNO, PADRÃO EXTRA, DIMENSÃO DA PEÇA ATÉ 2025 CM2, PEI V, ASSENTAMENTO COM ARGAMASSA INDUSTRIALIZADA, INCLUSIVE REJUNTAMENTO | C37: ='PLANILHA ORÇAMENTÁRIA'!E29 -> m² | D37: =$O$37 -> 16.66 | O37: =11.06+5.6 -> 16.66 | Q37: Sala de apoio e depósito
A38: 18 | B38: ='PLANILHA ORÇAMENTÁRIA'!D30 -> RODAPÉ COM REVESTIMENTO EM CERÂMICA ESMALTADA COMERCIAL, ALTURA 10CM, PEI IV, ASSENTAMENTO COM ARGAMASSA INDUSTRIALIZADA, INCLUSIVE REJUNTAMENTO | C38: ='PLANILHA ORÇAMENTÁRIA'!E30 -> m | D38: =$O$38 -> 23.1 | O38: =13.5+9.6 -> 23.1 | Q38: Sala de apoio e depósito
A39: VEDAÇÕES
A40: 19 | B40: ='PLANILHA ORÇAMENTÁRIA'!D32 -> ALVENARIA DE VEDAÇÃO COM TIJOLO CERÂMICO FURADO, ESP. 9CM, PARA REVESTIMENTO, INCLUSIVE ARGAMASSA PARA ASSENTAMENTO | C40: ='PLANILHA ORÇAMENTÁRIA'!E32 -> m² | D40: =SUM(O40:O41) -> 60.11 | H40: =19+2.8 -> 21.8 | K40: =(2.75+2.45)/2 -> 2.6 | L40: =(2*2.1*0.7)+(2*1) -> 4.94 | O40: =H40*K40-L40 -> 51.74 | Q40: Sala de apoio e depósito
...

Sheet COMPOSIÇÃO 01
B1: Município de Igaratinga | L1: COTAÇÃO
B2: Estado de Minas Gerais | L2: FORNECEDOR | M2: CIDADE | N2: TELEFONE | O2: CNJP | P2: PREÇO
B3: CNPJ: 18.313.825/0001-21
L4: Cerâmica e Lajes Santo Antônio | M4: Igaratinga - MG | N4: (37) 99971-1520 | O4: 20.666.145/0001-33 | P4: 100
L5: Soufer Materiais de Construção Ltda | M5: Pará de Minas - MG | N5: (37) 3231-4040 | O5: 29.825.436/0001-00 | P5: 140
A6: COMPOSIÇÃO Nº. 001 | L6: Pré-moldados Nova Serrana | M6: Nova Serrana - MG | N6: (37) 3226-3879 | O6: 12.594.573/0001-70 | P6: 100
L7: Valor mediano | P7: =SUM(P4:P6)/3 -> 113.33333
A9: MURO EM PLACA DE CONCRETO PRÉ-MOLDADA, COM H=1,80 (4 PLACAS), INCLUINDO POSTES DE FIXAÇÃO, TRANSPORTE E INSTALAÇÃO
A11: UNIDADE: m | E11: DATA: 10/11/2025
A13: (A) Equipamento | B13: Código | C13: Ut. Pr. | D13: Ut. Impr | E13: Vl. Hr. Prod | F13: Vl. Hr Imp. | G13: Consumo | H13: Custo Horário
F14: (A) Total: | G14: 0
A16: (B) Mão-de-obra | C16: Código | D16: Eq. Salarial | E16: Sal/Hora | F16: Encargos (%) | G16: Consumo | H16: Custo Horário
A17: SERVENTE COM ENCARGOS COMPLEMENTARES | C17: ED-50367 | E17: 22.66 | G17: 0.5 | H17: =ROUND(E17*G17,2) -> 11.33
A18: PEDREIRO COM ENCARGOS COMPLEMENTARES | C18: ED-50381 | E18: 31.22 | G18: 0.5 | H18: =ROUND(E18*G18,2) -> 15.61
F19: (B) Total: | G19: =SUM(H17:H18) -> 26.94
A21: (C) Itens de Incidência | C21: Código | D21: % | E21: M.O. | F21: Equip. | G21: Mat. | H21: Custo
F22: (C) Total: | G22: 0
A24: Custo Horário da Execução (A) + (B) + (C) | G24: =G14+G19+G22 -> 26.94
A25: (D) Produção da Equipe | G25: 1
A26: (E) Custo Unitário da Execução [(A) + (B) + (C)] / (D) | G26: =G24/G25 -> 26.94
A28: (F) Materiais | C28: Código | D28: Unid. | E28: Consumo | F28: Custo Unitário | H28: Custo Geral
A29: PLACAS DE CONCRETO PRÉ-MOLDADA, H=1,80 INCLUINDO POSTES DE FIXAÇÃO E TRANSPORTE | C29: Cotação | D29: M | E29: 1 | F29: =P7 -> 113.33333 | H29: =ROUND((E29*F29),2) -> 113.33
F30: (F) Total: | G30: =SUM(H29:H29) -> 113.33
A32: (G) Serviços | C32: Código | D32: Unid. | E32: Consumo | F32: Custo Unitário | H32: Custo Geral
F33: (G) Total: | G33: 0
A35: (H) Itens de Transporte | B35: Código | C35: Unid. | D35: Fórmula | E35: X1 X2 X3 | F35: Consumo | G35: Custo | H35: Custo Geral
F36: (H) Total: | G36: 0
A38: Custo Direto Total (E) + (F) + (G) + (H): | G38: =SUM(G26+G30+G33+G36) -> 140.27
A40: Flávio L. Greco S.
A41: Eng.º Civil - CREA-MG 64.880/D

Sheet COMPOSIÇÃO 02
B1: Município de Igaratinga
B2: Estado de Minas Gerais
B3: CNPJ: 18.313.825/0001-21
A6: COMPOSIÇÃO Nº. 002
A9: CHUMBAMENTO EM PISO PARA TUBO DE AÇO COM SEÇÃO REDONDA OU QUADRADA, DIMENSÃO DA SEÇÃO TRANSVERSAL DE ATÉ 4" (100MM), EM CONCRETO NÃO ESTRUTURAL, PREPARADO EM OBRA COM BETONEIRA, COM FCK 15MPA, INCLUSIVE ESCAVAÇÃO E TRANSPORTE COM RETIRADA DO MATERIAL ESCAVADO (EM CAÇAMBA)
A11: UNIDADE: M (Metro linear) | E11: DATA: 10/11/2025
A13: (A) Equipamento | B13: Código | C13: Ut. Pr. | D13: Ut. Impr | E13: Vl. Hr. Prod | F13: Vl. Hr Imp. | G13: Consumo | H13: Custo Horário
F14: (A) Total: | G14: 0
A16: (B) Mão-de-obra | C16: Código | D16: Eq. Salarial | E16: Sal/Hora | F16: Encargos (%) | G16: Consumo | H16: Custo Horário
F17: (B) Total: | G17: 0
A19: (C) Itens de Incidência | C19: Código | D19: % | E19: M.O. | F19: Equip. | G19: Mat. | H19: Custo
F20: (C) Total: | G20: 0
A22: Custo Horário da Execução (A) + (B) + (C) | G22: =SUM(G17+G20) -> 0
A23: (D) Produção da Equipe | G23: 1
A24: (E) Custo Unitário da Execução [(A) + (B) + (C)] / (D) | G24: =G22 -> 0
A26: (F) Materiais | C26: Código | D26: Unid. | E26: Consumo | F26: Custo Unitário | H26: Custo Geral
F27: (F) Total: | G27: =G25 -> 0
A29: (G) Serviços | C29: Código | D29: Unid. | E29: Consumo | F29: Custo Unitário | H29: Custo Geral
A30: ESCAVAÇÃO MANUAL DE TERRA (DESATERRO MANUAL), INCLUSIVE DESCARGA LATERAL, EXCLUSIVE RETIRADA E TRANSPORTE DO MATERIAL ESCAVADO | C30: ED-51110 SEINFRA | D30: M³ | E30: =ROUND(0.3*0.3*1,2) -> 0.09 | F30: 45.28 | H30: =ROUND((E30*F30),2) -> 4.08
A31: TRANSPORTE DE MATERIAL DEMOLIDO EM CAÇAMBA, EXCLUSIVE CARGA MANUAL OU MECÂNICA | C31: ED-51125 SEINFRA | D31: M³ | E31: =E30 -> 0.09 | F31: 83 | H31: =ROUND((E31*F31),2) -> 7.47
A32: FORNECIMENTO DE CONCRETO NÃO ESTRUTURAL, PREPARADO EM OBRA COM BETONEIRA, COM FCK 15MPA, INCLUSIVE LANÇAMENTO, ADENSAMENTO E ACABAMENTO | C32: ED-49616 SEINFRA | D32: M³ | E32: =E30 -> 0.09 | F32: 744.52 | H32: =ROUND((E32*F32),2) -> 67.01
F33: (G) Total: | G33: =SUM(H30:H32) -> 78.56
A35: (H) Itens de Transporte | B35: Código | C35: Unid. | D35: Fórmula | E35: X1 X2 X3 | F35: Consumo | G35: Custo | H35: Custo Geral
F36: (H) Total: | G36: =SUM(H34:H35) -> 0
A38: Custo Direto Total (E) + (F) + (G) + (H): | G38: =SUM(G24+G27+G33+G36) -> 78.56
A40: Flávio L. Greco S.
A41: Eng.º Civil - CREA-MG 64.880/D
