Workbook
Name ÉServiço: [3]BM!$E1<>""
Name Excel_BuiltIn_Database: #REF!
Name Excel_BuiltIn_Print_Area_1_1: #REF!
Name Excel_BuiltIn_Print_Area_1_1_1: #REF!
Name Excel_BuiltIn_Print_Area_1_1_1_1: #REF!
Name Excel_BuiltIn_Print_Area_1_1_1_1_1: #REF!
Name Excel_BuiltIn_Print_Area_1_9: #REF!
Name Excel_BuiltIn_Print_Area_2_1: #REF!
Name Excel_BuiltIn_Print_Area_8_1_1_1: #REF!
Name Excel_BuiltIn_Print_Area_9: #REF!
Name Excel_BuiltIn_Print_Area_9_1: #REF!
Name Excel_BuiltIn_Print_Titles_1_1: #REF!
Name Excel_BuiltIn_Print_Titles_2: #REF!
Name Excel_BuiltIn_Print_Titles_9: #REF!
Name RegimeExecucao: IF(OR([3]DADOS!$A$33="Empreitada Preço Global",[3]DADOS!$A$33="Empreitada Integral"),"Global","Unitário")

Sheet PLANILHA ORÇAMENTÁRIA
A1: MUNICÍPIO DE MARAVILHAS
A2: PLANILHA ORÇAMENTÁRIA DE CUSTOS
A3: PREFEITURA MUNICIPAL DE MARAVILHAS | F3: Nº DE FOLHAS: | H3: 06
A4: OBRA: Reforma da Praça 21 de Abril e Praça 13 de Maio | F4: DATA: | H4: 46295
A5: LOCAL: Praça 21 de Abril e Praça 13 de Maio, bairro Centro, Município de Maravilhas-MG. | F5: FORMA DE EXECUÇÃO:
A6: REGIÃO/MÊS DE REFERÊNCIA: SEINFRA/Região Central - Abril/2026 - Sem Desoneração; SINAPI-MG - Agosto/2026 - Não Desonerada | F6: ( ) | G6: DIRETA | H6: ( X ) | I6: INDIRETA
A7: COMPOSIÇÃO/DEMONSTRATIVO DE BDI - EM ANEXO | F7: % ISS MUNICIPAL: | G7: 0.03 | H7: BDI: | I7: 0.2375
A9: ITEM | B9: FONTE | C9: CÓDIGO | D9: DESCRIÇÃO | E9: UNID. | F9: QUANT. | G9: PREÇO UNITÁRIO S/ BDI | H9: CUSTO UNITÁRIO C/ BDI | I9: CUSTO TOTAL
A11: ITEM A - PRAÇA 21 DE ABRIL | G11: TOTAL ITEM A: | I11: =SUM(I13+I16+I22+I25+I32+I37+I43+I47+I52) -> 0
A13: SERVIÇOS PRELIMINARES | G13: SUBTOTAL: | I13: =SUM(I14:I15) -> 0
A14: 1 | B14: SEINFRA | C14: ED-16660 | D14: FORNECIMENTO E COLOCAÇÃO DE PLACA DE OBRA EM CHAPA GALVANIZADA #26, ESP. 0,45 MM, PLOTADA COM ADESIVO VINÍLICO, AFIXADA COM REBITES 4,8X40 MM, EM ESTRUTURA METÁLICA DE METALON 20X20 MM, ESP. 1,25 MM, INCLUSIVE SUPORTE EM EUCALIPTO AUTOCLAVADO PINTADO COM TINTA PVA DUAS (2) DEMÃOS | E14: m² | F14: ='MEM. CÁLCULO'!D5 -> 2.88 | H14: =TRUNC((G14)+(G14*$I$7),2) -> 0 | I14: =TRUNC(F14*H14,2) -> 0
A15: 2 | B15: SEINFRA | C15: ED-17989 | D15: LOCAÇÃO DE OBRA COM GABARITO DE TÁBUAS CORRIDAS PONTALETADAS A CADA 2,00M, REAPROVEITAMENTO (2X), INCLUSIVE ACOMPANHAMENTO DE EQUIPE TOPOGRÁFICA PARA MARCAÇÃO DE PONTO TOPOGRÁFICO | E15: m | F15: ='MEM. CÁLCULO'!D6 -> 62.96 | H15: =TRUNC((G15)+(G15*$I$7),2) -> 0 | I15: =TRUNC(F15*H15,2) -> 0
A16: DEMOLIÇÃO / REMOÇÃO | G16: SUBTOTAL: | I16: =SUM(I17:I21) -> 0
A17: 3 | B17: SEINFRA | C17: ED-48479 | D17: DEMOLIÇÃO MANUAL DE PISO CIMENTADO OU CONTRAPISO DE ARGAMASSA, COM ESPESSURA MÁXIMA DE 10CM, INCLUSIVE AFASTAMENTO E EMPILHAMENTO, EXCLUSIVE TRANSPORTE E RETIRADA DO MATERIAL DEMOLIDO | E17: m² | F17: ='MEM. CÁLCULO'!D11 -> 405.59 | H17: =TRUNC((G17)+(G17*$I$7),2) -> 0 | I17: =TRUNC(F17*H17,2) -> 0
A18: 4 | B18: SEINFRA | C18: ED-48435 | D18: DEMOLIÇÃO MANUAL DE ALVENARIA DE TIJOLO CERÂMICO OU BLOCO DE CONCRETO, INCLUSIVE AFASTAMENTO E EMPILHAMENTO, EXCLUSIVE TRANSPORTE E RETIRADA DO MATERIAL DEMOLIDO | E18: m³ | F18: ='MEM. CÁLCULO'!D17 -> 1.94 | H18: =TRUNC((G18)+(G18*$I$7),2) -> 0 | I18: =TRUNC(F18*H18,2) -> 0
A19: 5 | B19: SEINFRA | C19: ED-48472 | D19: REMOÇÃO MANUAL DE GUIA DE MEIO-FIO PRÉ-MOLDADA EM CONCRETO, COM REAPROVEITAMENTO, INCLUSIVE AFASTAMENTO E EMPILHAMENTO, EXCLUSIVE TRANSPORTE E RETIRADA DO MATERIAL REMOVIDO NÃO REAPROVEITÁVEL | E19: m | F19: ='MEM. CÁLCULO'!D18 -> 98.01 | H19: =TRUNC((G19)+(G19*$I$7),2) -> 0 | I19: =TRUNC(F19*H19,2) -> 0
A20: 6 | B20: SEINFRA | C20: ED-50699 | D20: CORTE DE ÁRVORE COM MOTOSSERRA, DIÂMETRO DO TRONCO ACIMA DE TRINTA (30) CENTÍMETROS ATÉ CINQUENTA (50) CENTÍMETROS, EXCLUSIVE DESTOCAMENTO E AFASTAMENTO | E20: Unid. | F20: ='MEM. CÁLCULO'!D23 -> 1 | H20: =TRUNC((G20)+(G20*$I$7),2) -> 0 | I20: =TRUNC(F20*H20,2) -> 0
A21: 7 | B21: SEINFRA | C21: ED-50702 | D21: DESMATAMENTO, DESTOCAMENTO E LIMPEZA, INCLUSIVE TRANSPORTE ATÉ CINQUENTA (50) METROS | E21: m² | F21: ='MEM. CÁLCULO'!D24 -> 189.07 | H21: =TRUNC((G21)+(G21*$I$7),2) -> 0 | I21: =TRUNC(F21*H21,2) -> 0
A22: MOVIMENTAÇÃO DE TERRA | G22: SUBTOTAL: | I22: =SUM(I23:I24) -> 0
A23: 8 | B23: SEINFRA | C23: ED-51110 | D23: ESCAVAÇÃO MANUAL DE TERRA (DESATERRO MANUAL), INCLUSIVE DESCARGA LATERAL, EXCLUSIVE RETIRADA E TRANSPORTE DO MATERIAL ESCAVADO | E23: m³ | F23: ='MEM. CÁLCULO'!D33 -> 1.81 | H23: =TRUNC((G23)+(G23*$I$7),2) -> 0 | I23: =TRUNC(F23*H23,2) -> 0
A24: 9 | B24: SEINFRA | C24: ED-51121 | D24: REATERRO MANUAL DE VALA, INCLUSIVE ESPALHAMENTO E COMPACTAÇÃO MECANIZADA COM PLACA VIBRATÓRIA | E24: m³ | F24: ='MEM. CÁLCULO'!D34 -> 154.86 | H24: =TRUNC((G24)+(G24*$I$7),2) -> 0 | I24: =TRUNC(F24*H24,2) -> 0
A25: MURO DE ARRIMO | G25: SUBTOTAL: | I25: =SUM(I26:I31) -> 0
A26: 10 | B26: SEINFRA | C26: ED-51107 | D26: ESCAVAÇÃO MANUAL DE VALA COM PROFUNDIDADE MENOR OU IGUAL A 1,5M, INCLUSIVE DESCARGA LATERAL | E26: m³ | F26: ='MEM. CÁLCULO'!D36 -> 2.68 | H26: =TRUNC((G26)+(G26*$I$7),2) -> 0 | I26: =TRUNC(F26*H26,2) -> 0
A27: 11 | B27: SEINFRA | C27: ED-51093 | D27: APILOAMENTO MANUAL EM FUNDO DE VALA COM SOQUETE, EXCLUSIVE ESCAVAÇÃO | E27: m² | F27: ='MEM. CÁLCULO'!D40 -> 13.39 | H27: =TRUNC((G27)+(G27*$I$7),2) -> 0 | I27: =TRUNC(F27*H27,2) -> 0
A28: 12 | B28: SEINFRA | C28: ED-48295 | D28: CORTE, DOBRA E MONTAGEM DE AÇO CA-50, DIÂMETRO (6,3MM A 12,5MM), INCLUSIVE ESPAÇADOR | E28: Kg | F28: ='MEM. CÁLCULO'!D44 -> 171.91 | H28: =TRUNC((G28)+(G28*$I$7),2) -> 0 | I28: =TRUNC(F28*H28,2) -> 0
A29: 13 | B29: SEINFRA | C29: ED-48297 | D29: CORTE, DOBRA E MONTAGEM DE AÇO CA-60, DIÂMETRO (4,2MM A 5,0MM), INCLUSIVE ESPAÇADOR | E29: Kg | F29: ='MEM. CÁLCULO'!D56 -> 29.57 | H29: =TRUNC((G29)+(G29*$I$7),2) -> 0 | I29: =TRUNC(F29*H29,2) -> 0
A30: 14 | B30: SEINFRA | C30: ED-49786 | D30: FORNECIMENTO DE CONCRETO ESTRUTURAL, PREPARADO EM OBRA COM BETONEIRA, COM FCK 20MPA, INCLUSIVE LANÇAMENTO, ADENSAMENTO E ACABAMENTO (FUNDAÇÃO) | E30: m³ | F30: ='MEM. CÁLCULO'!D60 -> 2.68 | H30: =TRUNC((G30)+(G30*$I$7),2) -> 0 | I30: =TRUNC(F30*H30,2) -> 0
A31: 15 | B31: SEINFRA | C31: ED-48220 | D31: ALVENARIA DE BLOCO DE CONCRETO CHEIO SEM ARMAÇÃO, EM CONCRETO COM FCK DE 20MPA , ESP. 19CM, PARA REVESTIMENTO, INCLUSIVE ARGAMASSA PARA ASSENTAMENTO (DETALHE D - CADERNO SEDS) | E31: m² | F31: ='MEM. CÁLCULO'!D64 -> 34.76 | H31: =TRUNC((G31)+(G31*$I$7),2) -> 0 | I31: =TRUNC(F31*H31,2) -> 0
A32: PISOS | G32: SUBTOTAL: | I32: =SUM(I33:I36) -> 0
A33: 16 | B33: SINAPI | C33: 94273 | D33: ASSENTAMENTO DE GUIA (MEIO-FIO) EM TRECHO RETO, CONFECCIONADA EM CONCRETO PRÉ-FABRICADO, DIMENSÕES 100X15X13X30 CM (COMPRIMENTO X BASE INFERIOR X BASE SUPERIOR X ALTURA). AF_01/2024 | E33: m | F33: ='MEM. CÁLCULO'!D69 -> 73.08 | H33: =TRUNC((G33)+(G33*$I$7),2) -> 0 | I33: =TRUNC(F33*H33,2) -> 0
A34: 17 | B34: SEINFRA | C34: ED-8915 | D34: EXECUÇÃO DE PAVIMENTO COM PISO INTERTRAVADO, TIPO RETANGULAR, ESP. 6CM, COM FCK DE 35MPA, INCLUSIVE COLCHÃO DE AREIA, ESP. 6CM, PARA ASSENTAMENTO, COMPACTAÇÃO MECANIZADA, CARGA E DESCARGA MECÂNICA EM CAMINHÃO, EXCLUSIVE TRANSPORTE DE PISO INTERTRAVADO | E34: m² | F34: ='MEM. CÁLCULO'!D74 -> 360.04 | H34: =TRUNC((G34)+(G34*$I$7),2) -> 0 | I34: =TRUNC(F34*H34,2) -> 0
A35: 18 | B35: SEINFRA | C35: ED-50846 | D35: ESCADA DE CONCRETO 20 MPa, APARENTE, ESPELHO = 15 A 18 CM, ARMAÇÃO, FÔRMA PLASTIFICADA, ESCORAMENTO E DESFORMA | E35: m³ | F35: ='MEM. CÁLCULO'!D78 -> 2.6 | H35: =TRUNC((G35)+(G35*$I$7),2) -> 0 | I35: =TRUNC(F35*H35,2) -> 0
A36: 19 | B36: COMPOSIÇÃO | C36: CPU-01 | D36: REVESTIMENTO DE PISO COM PEDRA MIRACEMA NA COR CINZA, PEÇAS COM 11,5X23CM, ESP. 1CM, ACABAMENTO NATURAL, INCLUSIVE FORNECIMENTO DO MATERIAL DE REVESTIMENTO, ASSENTAMENTO COM ARGAMASSA INDUSTRIALIZADA E REJUNTAMENTO | E36: m² | F36: ='MEM. CÁLCULO'!D80 -> 21 | H36: =TRUNC((G36)+(G36*$I$7),2) -> 0 | I36: =TRUNC(F36*H36,2) -> 0
A37: REVESTIMENTOS E PINTURA | G37: SUBTOTAL: | I37: =SUM(I38:I42) -> 0
A38: 20 | B38: SEINFRA | C38: ED-50727 | D38: CHAPISCO COM ARGAMASSA, TRAÇO 1:3 (CIMENTO E AREIA), ESP. 5MM, APLICADO EM ALVENARIA/ESTRUTURA DE CONCRETO COM COLHER, INCLUSIVE ARGAMASSA COM PREPARO MECANIZADO | E38: m² | F38: ='MEM. CÁLCULO'!D86 -> 25.86 | H38: =TRUNC((G38)+(G38*$I$7),2) -> 0 | I38: =TRUNC(F38*H38,2) -> 0
A39: 21 | B39: SEINFRA | C39: ED-6282 | D39: REBOCO COM ARGAMASSA, TRAÇO 1:2:8 (CIMENTO, CAL E AREIA), ESP. 25MM, APLICAÇÃO MANUAL, INCLUSIVE ARGAMASSA COM PREPARO MECANIZADO | E39: m² | F39: ='MEM. CÁLCULO'!D92 -> 25.86 | H39: =TRUNC((G39)+(G39*$I$7),2) -> 0 | I39: =TRUNC(F39*H39,2) -> 0
A40: 22 | B40: SEINFRA | C40: ED-50514 | D40: PREPARAÇÃO PARA EMASSAMENTO OU PINTURA (LÁTEX/ACRÍLICA) EM PAREDE, INCLUSIVE UMA (1) DEMÃO DE SELADOR ACRÍLICO | E40: m² | F40: ='MEM. CÁLCULO'!D93 -> 25.86 | H40: =TRUNC((G40)+(G40*$I$7),2) -> 0 | I40: =TRUNC(F40*H40,2) -> 0
A41: 23 | B41: SEINFRA | C41: ED-50451 | D41: PINTURA ACRÍLICA EM PAREDE, DUAS (2) DEMÃOS, COM APLICAÇÃO MANUAL, EXCLUSIVE SELADOR ACRÍLICO E MASSA ACRÍLICA/CORRIDA (PVA) | E41: m² | F41: ='MEM. CÁLCULO'!D94 -> 25.86 | H41: =TRUNC((G41)+(G41*$I$7),2) -> 0 | I41: =TRUNC(F41*H41,2) -> 0
A42: 24 | B42: SEINFRA | C42: RO-13906 | D42: CAIAÇÃO MANUAL, TRÊS DEMÃOS (EXECUÇÃO, INCLUI FORNECIMENTO E APLICAÇÃO DA CAL HIDRATADA PARA CAIAÇÃO) | E42: m² | F42: ='MEM. CÁLCULO'!D95 -> 54.13 | H42: =TRUNC((G42)+(G42*$I$7),2) -> 0 | I42: =TRUNC(F42*H42,2) -> 0
A43: PAISAGISMO | G43: SUBTOTAL: | I43: =SUM(I44:I46) -> 0
...

Sheet MEM. CÁLCULO
A1: MEMÓRIA DE CÁLCULO
A2: ITEM | B2: DESCRIÇÃO | C2: UND. | D2: QNT. | E2: Nº GERAL | F2: Nº FACES/PEÇAS | G2: PESO NOMINAL (KG/M) | H2: PERÍMETRO | I2: COMP. | J2: LARGURA | K2: ALTURA | L2: DESCONTOS | M2: RAIO | N2: PESO TOTAL (KG) | O2: ÁREA (M²) | P2: ÁREA (M²) POLYLINES | Q2: VOLUME (M³) | R2: LOCAIS E DETALHES
A3: ='PLANILHA ORÇAMENTÁRIA'!A11 -> ITEM A - PRAÇA 21 DE ABRIL
A4: ='PLANILHA ORÇAMENTÁRIA'!A13 -> SERVIÇOS PRELIMINARES
A5: ='PLANILHA ORÇAMENTÁRIA'!A14 -> 1 | B5: ='PLANILHA ORÇAMENTÁRIA'!D14 -> FORNECIMENTO E COLOCAÇÃO DE PLACA DE OBRA EM CHAPA GALVANIZADA #26, ESP. 0,45 MM, PLOTADA COM ADESIVO VINÍLICO, AFIXADA COM REBITES 4,8X40 MM, EM ESTRUTURA METÁLICA DE METALON 20X20 MM, ESP. 1,25 MM, INCLUSIVE SUPORTE EM EUCALIPTO AUTOCLAVADO PINTADO COM TINTA PVA DUAS (2) DEMÃOS | C5: ='PLANILHA ORÇAMENTÁRIA'!E14 -> m² | D5: =O5 -> 2.88 | J5: 2.4 | K5: 1.2 | O5: =ROUND(J5*K5,2) -> 2.88 | R5: PLACA DE 2,40X1,20, PADRÃO DO MUNICÍPIO
A6: ='PLANILHA ORÇAMENTÁRIA'!A15 -> 2 | B6: ='PLANILHA ORÇAMENTÁRIA'!D15 -> LOCAÇÃO DE OBRA COM GABARITO DE TÁBUAS CORRIDAS PONTALETADAS A CADA 2,00M, REAPROVEITAMENTO (2X), INCLUSIVE ACOMPANHAMENTO DE EQUIPE TOPOGRÁFICA PARA MARCAÇÃO DE PONTO TOPOGRÁFICO | C6: ='PLANILHA ORÇAMENTÁRIA'!E15 -> m | D6: =SUM(H6:H9) -> 62.96 | H6: 19.69 | R6: PERÍMETRO DO JARDIM 04, CONFORME PROJETO
H7: 16.15 | R7: PERÍMETRO DO JARDIM 05, CONFORME PROJETO
H8: =1.2+3.04 -> 4.24 | R8: PERÍMETRO DO JARDIM 06, DESCONTANDO O MEIO FIO EXISTENTE E MURO AOS FUNDOS
H9: =3.04+17.07+2.77 -> 22.88 | R9: PERÍMETRO DO JARDIM 07, DESCONTANDO O MEIO FIO EXISTENTE
A10: ='PLANILHA ORÇAMENTÁRIA'!A16 -> DEMOLIÇÃO / REMOÇÃO
A11: ='PLANILHA ORÇAMENTÁRIA'!A17 -> 3 | B11: ='PLANILHA ORÇAMENTÁRIA'!D17 -> DEMOLIÇÃO MANUAL DE PISO CIMENTADO OU CONTRAPISO DE ARGAMASSA, COM ESPESSURA MÁXIMA DE 10CM, INCLUSIVE AFASTAMENTO E EMPILHAMENTO, EXCLUSIVE TRANSPORTE E RETIRADA DO MATERIAL DEMOLIDO | C11: ='PLANILHA ORÇAMENTÁRIA'!E17 -> m² | D11: =SUM(P11:P16) -> 405.59 | P11: 220.19 | R11: PISO EXISTENTE NA PRAÇA
P12: =ROUND(1.95*1.96,2) -> 3.82 | R12: ESCADA EXISTENTE, CANTO SUPERIOR ESQUERDO DO PROJETO
P13: =ROUND(1.97*2.58,2) -> 5.08 | R13: ESCADA EXISTENTE, CANTO INFERIOR ESQUERDO DO PROJETO
P14: =ROUND(1.98*1.97,2) -> 3.9 | R14: ESCADA EXISTENTE, CANTO SUPERIOR DIREITO DO PROJETO
P15: =ROUND(1.91*2.06,2) -> 3.93 | R15: ESCADA EXISTENTE, CANTO INFERIOR DIREITO DO PROJETO
P16: 168.67 | R16: CALÇADA PÚBLICA CONTÍGUA AO TERRENO
A17: ='PLANILHA ORÇAMENTÁRIA'!A18 -> 4 | B17: ='PLANILHA ORÇAMENTÁRIA'!D18 -> DEMOLIÇÃO MANUAL DE ALVENARIA DE TIJOLO CERÂMICO OU BLOCO DE CONCRETO, INCLUSIVE AFASTAMENTO E EMPILHAMENTO, EXCLUSIVE TRANSPORTE E RETIRADA DO MATERIAL DEMOLIDO | C17: ='PLANILHA ORÇAMENTÁRIA'!E18 -> m³ | D17: =SUM(Q17:Q17) -> 1.94 | H17: 15.55 | J17: 0.25 | K17: 0.5 | Q17: =ROUND(H17*J17*K17,2) -> 1.94 | R17: MURETA CONTÍGUA AO JARDIM 05 EXISTENTE
A18: ='PLANILHA ORÇAMENTÁRIA'!A19 -> 5 | B18: ='PLANILHA ORÇAMENTÁRIA'!D19 -> REMOÇÃO MANUAL DE GUIA DE MEIO-FIO PRÉ-MOLDADA EM CONCRETO, COM REAPROVEITAMENTO, INCLUSIVE AFASTAMENTO E EMPILHAMENTO, EXCLUSIVE TRANSPORTE E RETIRADA DO MATERIAL REMOVIDO NÃO REAPROVEITÁVEL | C18: ='PLANILHA ORÇAMENTÁRIA'!E19 -> m | D18: =SUM(I18:I22) -> 98.01 | I18: 18.83 | R18: GUIAS EXISTENTES CONTÍGUAS AO JARDIM 01
I19: 21.28 | R19: GUIAS EXISTENTES CONTÍGUAS AO JARDIM 04
I20: 17.3 | R20: GUIAS EXISTENTES CONTÍGUAS AO JARDIM 06
I21: 15.78 | R21: GUIAS EXISTENTES CONTÍGUAS AO JARDIM 07
I22: 24.82 | R22: GUIAS EXISTENTES CONTÍGUAS AO JARDIM 08
A23: ='PLANILHA ORÇAMENTÁRIA'!A20 -> 6 | B23: ='PLANILHA ORÇAMENTÁRIA'!D20 -> CORTE DE ÁRVORE COM MOTOSSERRA, DIÂMETRO DO TRONCO ACIMA DE TRINTA (30) CENTÍMETROS ATÉ CINQUENTA (50) CENTÍMETROS, EXCLUSIVE DESTOCAMENTO E AFASTAMENTO | C23: ='PLANILHA ORÇAMENTÁRIA'!E20 -> Unid. | D23: =E23 -> 1 | E23: 1 | R23: 01 ÁRVORE A SER SUPRIMIDA, CONFORME PROJETO
A24: ='PLANILHA ORÇAMENTÁRIA'!A21 -> 7 | B24: ='PLANILHA ORÇAMENTÁRIA'!D21 -> DESMATAMENTO, DESTOCAMENTO E LIMPEZA, INCLUSIVE TRANSPORTE ATÉ CINQUENTA (50) METROS | C24: ='PLANILHA ORÇAMENTÁRIA'!E21 -> m² | D24: =SUM(P24:P31) -> 189.07 | P24: 24.51 | R24: JARDIM 01
P25: 7.35 | R25: JARDIM 02
P26: 7.47 | R26: JARDIM 03
P27: 31.18 | R27: JARDIM 04
P28: 17.35 | R28: JARDIM 05
P29: 33.81 | R29: JARDIM 06
P30: 4.51 | R30: JARDIM 07
P31: 62.89 | R31: JARDIM 08
A32: ='PLANILHA ORÇAMENTÁRIA'!A22 -> MOVIMENTAÇÃO DE TERRA
A33: ='PLANILHA ORÇAMENTÁRIA'!A23 -> 8 | B33: ='PLANILHA ORÇAMENTÁRIA'!D23 -> ESCAVAÇÃO MANUAL DE TERRA (DESATERRO MANUAL), INCLUSIVE DESCARGA LATERAL, EXCLUSIVE RETIRADA E TRANSPORTE DO MATERIAL ESCAVADO | C33: ='PLANILHA ORÇAMENTÁRIA'!E23 -> m³ | D33: =Q33 -> 1.81 | Q33: 1.81 | R33: VOLUME DE ESCAVAÇÃO CONFORME TABELA CORTE/ATERRO REVIT
A34: ='PLANILHA ORÇAMENTÁRIA'!A24 -> 9 | B34: ='PLANILHA ORÇAMENTÁRIA'!D24 -> REATERRO MANUAL DE VALA, INCLUSIVE ESPALHAMENTO E COMPACTAÇÃO MECANIZADA COM PLACA VIBRATÓRIA | C34: ='PLANILHA ORÇAMENTÁRIA'!E24 -> m³ | D34: =SUM(Q34:Q34) -> 154.86 | Q34: 154.86 | R34: VOLUME DE ATERRO CONFORME TABELA CORTE/ATERRO REVIT
A35: ='PLANILHA ORÇAMENTÁRIA'!A25 -> MURO DE ARRIMO
A36: ='PLANILHA ORÇAMENTÁRIA'!A26 -> 10 | B36: ='PLANILHA ORÇAMENTÁRIA'!D26 -> ESCAVAÇÃO MANUAL DE VALA COM PROFUNDIDADE MENOR OU IGUAL A 1,5M, INCLUSIVE DESCARGA LATERAL | C36: ='PLANILHA ORÇAMENTÁRIA'!E26 -> m³ | D36: =SUM(Q36:Q39) -> 2.68 | I36: =0.73+3.6+2.6+3.6+2.6+3.6+2.65+3.6+3.97 -> 26.95 | J36: 0.2 | K36: 0.2 | Q36: =ROUND(I36*J36*K36,2) -> 1.08 | R36: TRECHO 01 - ARRIMO / BALDRAME SEÇÃO DE 20x20cm
I37: =1.37+3.16 -> 4.53 | J37: 0.2 | K37: 0.2 | Q37: =ROUND(I37*J37*K37,2) -> 0.18 | R37: TRECHO 02 - ARRIMO / BALDRAME SEÇÃO DE 20x20cm
I38: =3.16+17.46+2.9 -> 23.52 | J38: 0.2 | K38: 0.2 | Q38: =ROUND(I38*J38*K38,2) -> 0.94 | R38: TRECHO 03 - ARRIMO / BALDRAME SEÇÃO DE 20x20cm
I39: =2.85+9.12 -> 11.97 | J39: 0.2 | K39: 0.2 | Q39: =ROUND(I39*J39*K39,2) -> 0.48 | R39: TRECHO 04 - ARRIMO / BALDRAME SEÇÃO DE 20x20cm
A40: ='PLANILHA ORÇAMENTÁRIA'!A27 -> 11 | B40: ='PLANILHA ORÇAMENTÁRIA'!D27 -> APILOAMENTO MANUAL EM FUNDO DE VALA COM SOQUETE, EXCLUSIVE ESCAVAÇÃO | C40: ='PLANILHA ORÇAMENTÁRIA'!E27 -> m² | D40: =SUM(O40:O43) -> 13.39 | I40: =0.73+3.6+2.6+3.6+2.6+3.6+2.65+3.6+3.97 -> 26.95 | J40: 0.2 | O40: =ROUND(I40*J40,2) -> 5.39 | R40: TRECHO 01 - ARRIMO / BALDRAME SEÇÃO DE 20x20cm
...

Sheet CRONOGRAMA FF
A1: MUNICÍPIO DE MARAVILHAS
A2: CRONOGRAMA FÍSICO-FINANCEIRO
A3: ='PLANILHA ORÇAMENTÁRIA'!A3:E3 -> PREFEITURA MUNICIPAL DE MARAVILHAS | C3: VALOR DA OBRA: | D3: =D12 -> 0 | E3: DATA: 30/09/2026 | G3: FOLHA Nº: 01/01
A4: ='PLANILHA ORÇAMENTÁRIA'!A4:E4 -> OBRA: Reforma da Praça 21 de Abril e Praça 13 de Maio
A5: ='PLANILHA ORÇAMENTÁRIA'!A5:E5 -> LOCAL: Praça 21 de Abril e Praça 13 de Maio, bairro Centro, Município de Maravilhas-MG. | E5: PREVISÃO DE EXECUÇÃO DAS OBRAS: 03 MESES
A6: ETAPAS/DESCRIÇÃO | C6: FÍSICO/ FINANCEIRO | D6: TOTAL ETAPAS | E6: MÊS 1 | F6: MÊS 2 | G6: MÊS 3 | H6: MÊS 4
A7: ='PLANILHA ORÇAMENTÁRIA'!A11 -> ITEM A - PRAÇA 21 DE ABRIL | C7: Físico % | D7: =D8/$D$12 -> #DIV/0! | E7: 0.6667 | F7: 0.3333
C8: Financeiro | D8: ='PLANILHA ORÇAMENTÁRIA'!I11 -> 0 | E8: =E7*$D$8 -> 0 | F8: =F7*$D$8 -> 0
A9: ='PLANILHA ORÇAMENTÁRIA'!A56 -> ITEM B - PRAÇA 13 DE MAIO | C9: Físico % | D9: =D10/$D$12 -> #DIV/0! | F9: 0.3333 | G9: 0.6667
C10: Financeiro | D10: ='PLANILHA ORÇAMENTÁRIA'!I56 -> 0 | F10: =F9*$D$10 -> 0 | G10: =G9*$D$10 -> 0
A11: TOTAL | C11: Físico % | D11: =SUM(D7+D9) -> #DIV/0! | E11: =E12/$D$12 -> #DIV/0! | F11: =F12/$D$12 -> #DIV/0! | G11: =G12/$D$12 -> #DIV/0!
C12: Financeiro | D12: =SUM(D8+D10) -> 0 | E12: =SUM(E8+E10) -> 0 | F12: =SUM(F8+F10) -> 0 | G12: =SUM(G8+G10) -> 0
G13: Observações:

Sheet COMPOSIÇÃO BDI
A1: MUNICÍPIO DE MARAVILHAS
A2: COMPOSIÇÃO DO BDI
A4: REFORMA DA PRAÇA 21 DE ABRIL E DA PRAÇA 13, NO BAIRRO CENTRO, MUNICÍPIO DE MARAVILHAS-MG
A7: Conforme legislação tributária municipal, definir estimativa de percentual da base de cálculo para o ISS: | I7: 1
A8: Sobre a base de cálculo, definir a respectiva alíquota do ISS (entre 2% e 5%): | I8: 0.03
A10: TIPO DE OBRA
A11: Obra de paisagismo
A12: Itens | I12: Siglas | J12: % Adotado | L12: Situação | O12: 1º Quartil | P12: Médio | Q12: 3º Quartil
A14: Administração Central | I14: AC | J14: 0.045 | L14: - | O14: =VLOOKUP(CONCATENATE(A11,"-",I14),#REF!,3,FALSE) -> #REF! | P14: =VLOOKUP(CONCATENATE(A11,"-",I14),#REF!,4,FALSE) -> #REF! | Q14: =VLOOKUP(CONCATENATE(A11,"-",I14),#REF!,5,FALSE) -> #REF!
A15: Lucro | I15: L | J15: 0.07 | L15: - | O15: =VLOOKUP(CONCATENATE(A11,"-",I15),#REF!,3,FALSE) -> #REF! | P15: =VLOOKUP(CONCATENATE(A11,"-",I15),#REF!,4,FALSE) -> #REF! | Q15: =VLOOKUP(CONCATENATE(A11,"-",I15),#REF!,5,FALSE) -> #REF!
A16: Despesas Financeiras | I16: DF | J16: 0.0133 | L16: - | O16: =VLOOKUP(CONCATENATE(A11,"-",I16),#REF!,3,FALSE) -> #REF! | P16: =VLOOKUP(CONCATENATE(A11,"-",I16),#REF!,4,FALSE) -> #REF! | Q16: =VLOOKUP(CONCATENATE(A11,"-",I16),#REF!,5,FALSE) -> #REF!
A17: Seguros, Garantia e Risco | I17: S+R+G | J17: =SUM(J18+J19) -> 0.0205 | L17: - | O17: =VLOOKUP(CONCATENATE(A11,"-",I17),#REF!,3,FALSE) -> #REF! | P17: =VLOOKUP(CONCATENATE(A11,"-",I17),#REF!,4,FALSE) -> #REF! | Q17: =VLOOKUP(CONCATENATE(A11,"-",I17),#REF!,5,FALSE) -> #REF!
A18: Seguros e Garantia | I18: SG | J18: 0.008 | L18: - | O18: =VLOOKUP(CONCATENATE(A11,"-",I18),#REF!,3,FALSE) -> #REF! | P18: =VLOOKUP(CONCATENATE(A11,"-",I18),#REF!,4,FALSE) -> #REF! | Q18: =VLOOKUP(CONCATENATE(A11,"-",I18),#REF!,5,FALSE) -> #REF!
A19: Riscos | I19: R | J19: 0.0125 | L19: - | O19: 0.0365 | P19: 0.0365 | Q19: 0.0365
A20: Tributos | I20: I | J20: =SUM(J21+J22+J23) -> 0.0665 | L20: - | O20: 0 | P20: 0.025 | Q20: 0.05
A21: ISS | I21: ISS | J21: 0.03 | L21: - | O21: 0 | P21: 0.045 | Q21: 0.045
A22: PIS | I22: PIS | J22: 0.0065 | L22: - | O22: 0 | P22: 0.025 | Q22: 0.05
A23: COFINS | I23: COF. | J23: 0.03 | L23: - | O23: 0 | P23: 0.025 | Q23: 0.05
A24: CPRB (0 OU 4,5% - DESONERAÇÃO) | I24: CRPB | J24: 0 | L24: - | O24: 0 | P24: 0.025 | Q24: 0.05
A25: BDI sem desoneração | I25: BDI | J25: =(1+(J14+J17))*(1+J16)*(1+J15)/(1-(J20+J24))-1 -> 0.23754486
A27: Os valores de BDI foram calculados com o emprego da fórmula:
A28: BDI = | C28: (1 + AC + S+ R + G)*(1 + DF)*(1 + L) | H28: - 1
C29: (1-CP-ISS-CRPB)
A31: =CONCATENATE("Declaro para os devidos fins que, conforme legislação tributária municipal, a base de cálculo deste tipo de obra corresponde à ",$I$7*100,"%, com a respectiva alíquota de ",$I$8*100,"%.") -> Declaro para os devidos fins que, conforme legislação tributária municipal, a base de cálculo deste tipo de obra corresponde à 100%, com a respectiva alíquota de 3%.
A33: MARAVILHAS-MG
A34: Local | G34: Data
A37: Responsável Técnico
A38: Nome:
A39: CREA-MG:

Sheet CPU-01
B1: Município de Maravilhas
B2: Estado de Minas Gerais
B3: CNPJ: 18.313.841/0001-14
A6: COMPOSIÇÃO Nº. 01
A7: REFORMA DA PRAÇA 21 DE ABRIL E DA PRAÇA 13 DE MAIO
A9: REVESTIMENTO DE PISO COM PEDRA MIRACEMA NA COR CINZA, PEÇAS COM 11,5X23CM, ESP. 1CM, ACABAMENTO NATURAL, INCLUSIVE FORNECIMENTO DO MATERIAL DE REVESTIMENTO, ASSENTAMENTO COM ARGAMASSA INDUSTRIALIZADA E REJUNTAMENTO
A11: UNIDADE: m² (Metro quadrado) | E11: DATA: 30/09/2026
A13: (A) Equipamento | B13: Código | C13: Ut. Pr. | D13: Ut. Impr | E13: Vl. Hr. Prod | F13: Vl. Hr Imp. | G13: Consumo | H13: Custo Horário
F14: (A) Total: | G14: 0
A16: (B) Mão-de-obra | C16: Código | D16: Eq. Salarial | E16: Sal/Hora | F16: Encargos (%) | G16: Consumo | H16: Custo Horário
F17: (B) Total: | G17: 0
A19: (C) Itens de Incidência | C19: Código | D19: % | E19: M.O. | F19: Equip. | G19: Mat. | H19: Custo
F20: (C) Total: | G20: 0
A22: Custo Horário da Execução (A) + (B) + (C) | G22: =G14+G17+G20 -> 0
A23: (D) Produção da Equipe | G23: 1
A24: (E) Custo Unitário da Execução [(A) + (B) + (C)] / (D) | G24: =ROUND(G22/G23,2) -> 0
A26: (F) Materiais | C26: Código | D26: Unid. | E26: Consumo | F26: Custo Unitário | H26: Custo Geral
A27: ARGAMASSA COLANTE (TIPO: AC-III|UTILIZAÇÃO: AMBIENTES INTERNOS E EXTERNOS) | C27: MATED-12352 SEINFRA | D27: Kg | E27: 4.725 | F27: 1.7 | H27: =ROUND((E27*F27),2) -> 8.03
A28: PEDRA MIRACEMA PARA REVESTIMENTO EM PISO, COR: CINZA | COMPRIMENTO: 23CM | LARGURA 11,5CM | ESPESSURA: 1CM | C28: COTAÇÃO | D28: m² | E28: 1.05 | F28: 59.31 | H28: =ROUND((E28*F28),2) -> 62.28
F29: (F) Total: | G29: =SUM(H27:H28) -> 70.31
A31: (G) Serviços | C31: Código | D31: Unid. | E31: Consumo | F31: Custo Unitário | H31: Custo Geral
A32: SERVENTE COM ENCARGOS COMPLEMENTARES | C32: ED-50367 SEINFRA | D32: H | E32: 0.244 | F32: 24.89 | H32: =ROUND((E32*F32),2) -> 6.07
A33: PEDREIRO COM ENCARGOS COMPLEMENTARES | C33: ED-50381 SEINFRA | D33: H | E33: 0.489 | F33: 33.63 | H33: =ROUND((E33*F33),2) -> 16.45
A34: APLICAÇÃO DE REJUNTE CIMENTÍCIO COLORIDO INDUSTRIALIZADO PARA REVESTIMENTOS DE PAREDE/PISO COM JUNTAS DE ATÉ 3MM DE ESPESSURA | C34: ED-50718 SEINFRA | D34: m² | E34: 1 | F34: 8.07 | H34: =ROUND((E34*F34),2) -> 8.07
F35: (G) Total: | G35: =SUM(H32:H34) -> 30.59
A37: (H) Itens de Transporte | B37: Código | C37: Unid. | D37: Fórmula | E37: X1 X2 X3 | F37: Consumo | G37: Custo | H37: Custo Geral
F38: (H) Total: | G38: =SUM(H36:H37) -> 0
A40: Custo Direto Total (E) + (F) + (G) + (H): | G40: =G24+G29+G35+G38 -> 100.9
A42: Flávio L. Greco S.
A43: Eng.º Civil - CREA-MG 64.880/D

Sheet CPU-02
B1: Município de Maravilhas
B2: Estado de Minas Gerais
B3: CNPJ: 18.313.841/0001-14
A6: COMPOSIÇÃO Nº. 02
A7: REFORMA DA PRAÇA 21 DE ABRIL E DA PRAÇA 13 DE MAIO
A9: REMOÇÃO MANUAL DE EQUIPAMENTOS DE ACADEMIA AO AR LIVRE COM REAPROVEITAMENTO, INCLUSIVE AFASTAMENTO ATÉ 50M E EMPILHAMENTO DO MATERIAL DEMOLIDO
A11: UNIDADE: Unid. | E11: DATA: 30/09/2026
A13: (A) Equipamento | B13: Código | C13: Ut. Pr. | D13: Ut. Impr | E13: Vl. Hr. Prod | F13: Vl. Hr Imp. | G13: Consumo | H13: Custo Horário
F14: (A) Total: | G14: 0
A16: (B) Mão-de-obra | C16: Código | D16: Eq. Salarial | E16: Sal/Hora | F16: Encargos (%) | G16: Consumo | H16: Custo Horário
F17: (B) Total: | G17: 0
A19: (C) Itens de Incidência | C19: Código | D19: % | E19: M.O. | F19: Equip. | G19: Mat. | H19: Custo
F20: (C) Total: | G20: 0
A22: Custo Horário da Execução (A) + (B) + (C) | G22: =G14+G17+G20 -> 0
A23: (D) Produção da Equipe | G23: 1
A24: (E) Custo Unitário da Execução [(A) + (B) + (C)] / (D) | G24: =ROUND(G22/G23,2) -> 0
A26: (F) Materiais | C26: Código | D26: Unid. | E26: Consumo | F26: Custo Unitário | H26: Custo Geral
F27: (F) Total: | G27: 0
A29: (G) Serviços | C29: Código | D29: Unid. | E29: Consumo | F29: Custo Unitário | H29: Custo Geral
A30: SERVENTE COM ENCARGOS COMPLEMENTARES | C30: ED-50367 SEINFRA | D30: H | E30: 0.25 | F30: 24.89 | H30: =ROUND((E30*F30),2) -> 6.22
A31: PEDREIRO COM ENCARGOS COMPLEMENTARES | C31: ED-50381 SEINFRA | D31: H | E31: 0.5 | F31: 33.63 | H31: =ROUND((E31*F31),2) -> 16.82
A32: DEMOLIÇÃO MANUAL DE CONCRETO, SEM ARMAÇÃO, INCLUSIVE AFASTAMENTO E EMPILHAMENTO, EXCLUSIVE TRANSPORTE E RETIRADA DO MATERIAL DEMOLIDO | C32: ED-48440 SEINFRA | D32: m³ | E32: 0.08 | F32: 358.77 | H32: =ROUND((E32*F32),2) -> 28.7
F33: (G) Total: | G33: =SUM(H30:H32) -> 51.74
A35: (H) Itens de Transporte | B35: Código | C35: Unid. | D35: Fórmula | E35: X1 X2 X3 | F35: Consumo | G35: Custo | H35: Custo Geral
F36: (H) Total: | G36: =SUM(H34:H35) -> 0
A38: Custo Direto Total (E) + (F) + (G) + (H): | G38: =G24+G27+G33+G36 -> 51.74
A40: Flávio L. Greco S.
A41: Eng.º Civil - CREA-MG 64.880/D

Sheet CPU-03
B1: Município de Maravilhas
B2: Estado de Minas Gerais
B3: CNPJ: 18.313.841/0001-14
A6: COMPOSIÇÃO Nº. 03
A7: REFORMA DA PRAÇA 21 DE ABRIL E DA PRAÇA 13 DE MAIO
A9: BANCO EM ALVENARIA, SEM ENCOSTO, COM DIÂMETRO EXTERNO DE 2,30M, PROFUNDIDADE DE 40CM, ALTURA DE 45CM, INCLUSIVE FIXAÇÃO NO PISO COM CONCRETO NÃO ESTRUTURAL PREPARADO EM OBRA COM BETONEIRA (FCK=15MPA), INCLUSIVE APLICAÇÃO DE CHAPISCO (TRAÇO 1:3, ESP. 5MM), REBOCO (TRAÇO 1:2:8, ESP. 25MM), UMA DEMÃO DE SELADOR ACRÍLICO E DUAS DEMÃOS DE PINTURA ACRÍLICA, INCLUSIVE TAMPO PARA ASSENTO COM CONCRETO DESEMPENADO, ESP. 20MM E REATERRO DO VÃO ENTRE AS ALVENARIAS
A11: UNIDADE: Unid. | E11: DATA: 30/09/2026
A13: (A) Equipamento | B13: Código | C13: Ut. Pr. | D13: Ut. Impr | E13: Vl. Hr. Prod | F13: Vl. Hr Imp. | G13: Consumo | H13: Custo Horário
F14: (A) Total: | G14: 0
A16: (B) Mão-de-obra | C16: Código | D16: Eq. Salarial | E16: Sal/Hora | F16: Encargos (%) | G16: Consumo | H16: Custo Horário
F17: (B) Total: | G17: 0
A19: (C) Itens de Incidência | C19: Código | D19: % | E19: M.O. | F19: Equip. | G19: Mat. | H19: Custo
F20: (C) Total: | G20: 0
A22: Custo Horário da Execução (A) + (B) + (C) | G22: =G14+G17+G20 -> 0
A23: (D) Produção da Equipe | G23: 1
A24: (E) Custo Unitário da Execução [(A) + (B) + (C)] / (D) | G24: =ROUND(G22/G23,2) -> 0
A26: (F) Materiais | C26: Código | D26: Unid. | E26: Consumo | F26: Custo Unitário | H26: Custo Geral
F27: (F) Total: | G27: 0
A29: (G) Serviços | C29: Código | D29: Unid. | E29: Consumo | F29: Custo Unitário | H29: Custo Geral
A30: ALVENARIA DE VEDAÇÃO COM TIJOLO CERÂMICO FURADO, ESP. 9CM, PARA REVESTIMENTO, INCLUSIVE ARGAMASSA PARA ASSENTAMENTO | C30: ED-48231 SEINFRA | D30: m² | E30: =ROUND((2*3.14*1.15*0.43)+(2*3.14*0.75*0.43),2) -> 5.13 | F30: 67.02 | H30: =ROUND((E30*F30),2) -> 343.81
A31: REATERRO MANUAL DE VALA, INCLUSIVE ESPALHAMENTO E COMPACTAÇÃO MANUAL COM SOQUETE | C31: ED-51120 SEINFRA | D31: m³ | E31: =ROUND(((3.14*1.05*1.05)-(3.14*0.85*0.85))*0.43,2) -> 0.51 | F31: 84.9 | H31: =ROUND((E31*F31),2) -> 43.3
A32: CHAPISCO COM ARGAMASSA, TRAÇO 1:3 (CIMENTO E AREIA), ESP. 5MM, APLICADO EM ALVENARIA/ESTRUTURA DE CONCRETO COM COLHER, INCLUSIVE ARGAMASSA COM PREPARO MECANIZADO | C32: ED-50727 SEINFRA | D32: m² | E32: =E30 -> 5.13 | F32: 11.02 | H32: =ROUND((E32*F32),2) -> 56.53
A33: REBOCO COM ARGAMASSA, TRAÇO 1:2:8 (CIMENTO, CAL E AREIA), ESP. 25MM, APLICAÇÃO MANUAL, INCLUSIVE ARGAMASSA COM PREPARO MECANIZADO | C33: ED-6282 SEINFRA | D33: m² | E33: =E32 -> 5.13 | F33: 49.55 | H33: =ROUND((E33*F33),2) -> 254.19
A34: PREPARAÇÃO PARA EMASSAMENTO OU PINTURA (LÁTEX/ACRÍLICA) EM PAREDE, INCLUSIVE UMA (1) DEMÃO DE SELADOR ACRÍLICO | C34: ED-50514 SEINFRA | D34: m² | E34: =E33 -> 5.13 | F34: 8.3 | H34: =ROUND((E34*F34),2) -> 42.58
A35: PINTURA ACRÍLICA EM PAREDE, DUAS (2) DEMÃOS, COM APLICAÇÃO MANUAL, EXCLUSIVE SELADOR ACRÍLICO E MASSA ACRÍLICA/CORRIDA (PVA) | C35: ED-50451 SEINFRA | D35: m² | E35: =E34 -> 5.13 | F35: 17.77 | H35: =ROUND((E35*F35),2) -> 91.16
A36: CONTRAPISO DESEMPENADO COM ARGAMASSA, TRAÇO 1:3 (CIMENTO E AREIA), ESP. 20MM, INCLUSIVE ARGAMASSA COM PREPARO MECANIZADO | C36: ED-50566 SEINFRA | D36: m² | E36: =ROUND((3.14*1.15*1.15)-(3.14*0.75*0.75),2) -> 2.39 | F36: 42.92 | H36: =ROUND((E36*F36),2) -> 102.58
A37: FORNECIMENTO DE CONCRETO NÃO ESTRUTURAL, PREPARADO EM OBRA COM BETONEIRA, COM FCK 15MPA, INCLUSIVE LANÇAMENTO, ADENSAMENTO E ACABAMENTO (FUNDAÇÃO) | C37: ED-49784 SEINFRA | D37: m³ | E37: =E36*0.05 -> 0.1195 | F37: 784.21 | H37: =ROUND((E37*F37),2) -> 93.71
F38: (G) Total: | G38: =SUM(H30:H37) -> 1027.86
A40: (H) Itens de Transporte | B40: Código | C40: Unid. | D40: Fórmula | E40: X1 X2 X3 | F40: Consumo | G40: Custo | H40: Custo Geral
F41: (H) Total: | G41: =SUM(H39:H40) -> 0
A43: Custo Direto Total (E) + (F) + (G) + (H): | G43: =G24+G27+G38+G41 -> 1027.86
A45: Flávio L. Greco S.
A46: Eng.º Civil - CREA-MG 64.880/D

Sheet CPU-04
B1: Município de Maravilhas
B2: Estado de Minas Gerais
B3: CNPJ: 18.313.841/0001-14
A6: COMPOSIÇÃO Nº. 04
A7: REFORMA DA PRAÇA 21 DE ABRIL E DA PRAÇA 13 DE MAIO
A9: INSTALAÇÃO DE EQUIPAMENTOS DE ACADEMIA AO AR LIVRE, FIXADOS COM CONCRETO NÃO ESTRUTURAL, PREPARADO EM OBRA COM BETONEIRA, COM FCK DE 15MPA, INCLUSIVE ESCAVAÇÃO E TRANSPORTE COM RETIRADA DO MATERIAL ESCAVADO (EM CAÇAMBA)
A11: UNIDADE: Unid. | E11: DATA: 30/09/2026
A13: (A) Equipamento | B13: Código | C13: Ut. Pr. | D13: Ut. Impr | E13: Vl. Hr. Prod | F13: Vl. Hr Imp. | G13: Consumo | H13: Custo Horário
F14: (A) Total: | G14: 0
A16: (B) Mão-de-obra | C16: Código | D16: Eq. Salarial | E16: Sal/Hora | F16: Encargos (%) | G16: Consumo | H16: Custo Horário
F17: (B) Total: | G17: 0
A19: (C) Itens de Incidência | C19: Código | D19: % | E19: M.O. | F19: Equip. | G19: Mat. | H19: Custo
F20: (C) Total: | G20: 0
A22: Custo Horário da Execução (A) + (B) + (C) | G22: =G14+G17+G20 -> 0
A23: (D) Produção da Equipe | G23: 1
A24: (E) Custo Unitário da Execução [(A) + (B) + (C)] / (D) | G24: =ROUND(G22/G23,2) -> 0
A26: (F) Materiais | C26: Código | D26: Unid. | E26: Consumo | F26: Custo Unitário | H26: Custo Geral
F27: (F) Total: | G27: 0
A29: (G) Serviços | C29: Código | D29: Unid. | E29: Consumo | F29: Custo Unitário | H29: Custo Geral
A30: SERVENTE COM ENCARGOS COMPLEMENTARES | C30: ED-50367 SEINFRA | D30: H | E30: 0.9 | F30: 24.89 | H30: =ROUND((E30*F30),2) -> 22.4
A31: PEDREIRO COM ENCARGOS COMPLEMENTARES | C31: ED-50381 SEINFRA | D31: H | E31: 0.9 | F31: 33.63 | H31: =ROUND((E31*F31),2) -> 30.27
A32: FORNECIMENTO DE CONCRETO NÃO ESTRUTURAL, PREPARADO EM OBRA COM BETONEIRA, COM FCK 15MPA, INCLUSIVE LANÇAMENTO, ADENSAMENTO E ACABAMENTO (FUNDAÇÃO) | C32: ED-49784 SEINFRA | D32: m³ | E32: 0.08 | F32: 784.21 | H32: =ROUND((E32*F32),2) -> 62.74
A33: ESCAVAÇÃO MANUAL DE VALA COM PROFUNDIDADE MENOR OU IGUAL A 1,5M, INCLUSIVE DESCARGA LATERAL | C33: ED-51107 SEINFRA | D33: m³ | E33: 0.08 | F33: 84.9 | H33: =ROUND((E33*F33),2) -> 6.79
A34: TRANSPORTE DE MATERIAL DEMOLIDO EM CAÇAMBA, EXCLUSIVE CARGA MANUAL OU MECÂNICA | C34: ED-51125 SEINFRA | D34: m³ | E34: 0.08 | F34: 60 | H34: =ROUND((E34*F34),2) -> 4.8
A35: TRANSPORTE DE MATERIAL DE QUALQUER NATUREZA COM CARRINHO DE MÃO, COM DISTÂNCIAS MENORES OU IGUAIS A 50M, INCLUSIVE CARGA/DESCARGA | C35: ED-51133 SEINFRA | D35: m³ | E35: 0.08 | F35: 29.44 | H35: =ROUND((E35*F35),2) -> 2.36
F36: (G) Total: | G36: =SUM(H30:H35) -> 129.36
A38: (H) Itens de Transporte | B38: Código | C38: Unid. | D38: Fórmula | E38: X1 X2 X3 | F38: Consumo | G38: Custo | H38: Custo Geral
F39: (H) Total: | G39: =SUM(H37:H38) -> 0
A41: Custo Direto Total (E) + (F) + (G) + (H): | G41: =G24+G27+G36+G39 -> 129.36
A43: Flávio L. Greco S.
A44: Eng.º Civil - CREA-MG 64.880/D
