Workbook
Name ___xlnm.Print_Area_5: #REF!
Name ___xlnm.Print_Titles_4: ([1]Cronograma!$A:$D,[1]Cronograma!$1:$8)
Name __xlnm.Print_Area_5: #REF!
Name __xlnm.Print_Titles_4: ([1]Cronograma!$A$1:$D$65536,[1]Cronograma!$A$1:$IV$8)
Name ÉServiço: [2]BM!$E1<>""
Name Excel_BuiltIn_Database: #REF!
Name Excel_BuiltIn_Print_Area_1_1: #REF!
Name Excel_BuiltIn_Print_Area_1_1_1: #REF!
Name Excel_BuiltIn_Print_Area_1_1_1_1: #REF!
Name Excel_BuiltIn_Print_Area_1_1_1_1_1: #REF!
Name Excel_BuiltIn_Print_Area_1_9: #REF!
Name Excel_BuiltIn_Print_Area_2_1: #REF!
Name Excel_BuiltIn_Print_Area_8_1_1_1: #REF!
Name Excel_BuiltIn_Print_Area_9: #REF!
Name Excel_BuiltIn_Print_Area_9_1: #REF!
Name Excel_BuiltIn_Print_Titles_1_1: #REF!
Name Excel_BuiltIn_Print_Titles_2: #REF!
Name Excel_BuiltIn_Print_Titles_9: #REF!
Name RegimeExecucao: IF(OR([2]DADOS!$A$33="Empreitada Preço Global",[2]DADOS!$A$33="Empreitada Integral"),"Global","Unitário")

Sheet Orçamento
A1: PREFEITURA MUNICIPAL DE SÃO JOSÉ DA VARGINHA
A3: PLANILHA ORÇAMENTÁRIA DE CUSTOS
A5: OBRA: CONSTRUÇÃO DO CENTRO DE REFERÊNCIA EM ASSISTÊNCIA SOCIAL (CRAS) - SÃO JOSÉ DA VARGINHA - CONFORME FDI OBR21 VALE
A6: LOCAL: RUA JACINTA BRAGA, S/N - CENTRO, SÃO JOSÉ DA VARGINHA-MG
A7: REGIÃO / MÊS DE REFERÊNCIA: COM DESONERAÇÃO: SICOR MG CENTRAL - OUTUBRO/2025, SINAPI JANEIRO/2026, ORSE DEZEMBRO/2025, IOPES DEZEMBRO/2025, SBC FEVEREIRO/2026, AGETOP CIVIL OUTUBRO/2025, CPOS JANEIRO/2026, SUDECAP OUTUBRO/2025
A8: BDI ADOTADO: | C8: 0.2583 | D8: DATA: | E8: 46087
A10: ITEM | B10: CÓDIGO | C10: BANCO | D10: DESCRIÇÃO | E10: UNIDADE | F10: QUANTIDADE | G10: PREÇO UNITÁRIO S/ BDI | H10: PREÇO UNITÁRIO C/ BDI | I10: TOTAL PREVISTO C/ BDI | J10: PESO
I11: =I16+I31+I74+I83+I92+I96+I164+I200+I215+I225+I235+I258+I275+I334+I343+I352+I12 -> 2211597.5 | J11: =J16+J31+J74+J83+J92+J96+J164+J200+J215+J225+J235+J258+J275+J334+J343+J352+J12 -> 1
A12: 1. | D12: ADMINISTRAÇÃO LOCAL | I12: =SUM(I13:I15) -> 91845.06 | J12: =SUM(J13:J15) -> 0.041528832
A13: 1.1 | B13: 90777 | C13: SINAPI | D13: =VLOOKUP(B13,Relatório!A:E,2,FALSE) -> ENGENHEIRO CIVIL DE OBRA JUNIOR COM ENCARGOS COMPLEMENTARES | E13: h | F13: 140 | G13: 132.32 | H13: =ROUND(G13+G13*$C$8,2) -> 166.5 | I13: =ROUND(H13*F13,2) -> 23310 | J13: =I13/$I$11 -> 0.010539893
A14: 1.2 | B14: 90776 | C14: SINAPI | D14: =VLOOKUP(B14,Relatório!A:E,2,FALSE) -> ENCARREGADO GERAL COM ENCARGOS COMPLEMENTARES | E14: h | F14: =Memória!H10 -> 370 | G14: 62.3 | H14: =ROUND(G14+G14*$C$8,2) -> 78.39 | I14: =ROUND(H14*F14,2) -> 29004.3 | J14: =I14/$I$11 -> 0.013114638
A15: 1.3 | B15: ED-21780 | C15: SICOR | D15: =VLOOKUP(B15,Relatório!A:E,2,FALSE) -> VIGIA NOTURNO COM ENCARGOS COMPLEMENTARES | E15: =VLOOKUP(B15,Relatório!A:E,3,FALSE) -> mês | F15: =Memória!H11 -> 6 | G15: 5236 | H15: =ROUND(G15+G15*$C$8,2) -> 6588.46 | I15: =ROUND(H15*F15,2) -> 39530.76 | J15: =I15/$I$11 -> 0.017874302
A16: 2. | D16: SERVIÇOS PRELIMINARES | I16: =I17+I19+I29 -> 83221.85 | J16: =J17+J19+J29 -> 0.037629746
A17: 2.1 | D17: MOBILIZAÇÃO DA OBRA | I17: =SUM(I18:I18) -> 6423.34 | J17: =SUM(J18:J18) -> 0.0029043893
A18: 2.1.1 | B18: 12689 | C18: SBC | D18: MOBILIZACAO E DESMOBILIZACAO DE CANTEIRO | E18: un | F18: =Memória!H14 -> 1 | G18: 5104.78 | H18: =ROUND(G18+G18*$C$8,2) -> 6423.34 | I18: =ROUND(H18*F18,2) -> 6423.34 | J18: =I18/$I$11 -> 0.0029043893
A19: 2.2 | D19: INSTALAÇÕES PROVISÓRIAS | I19: =SUM(I20:I28) -> 70172.03 | J19: =SUM(J20:J28) -> 0.031729115
A20: 2.2.1 | B20: ED-28427 | C20: SICOR | D20: =VLOOKUP(B20,Relatório!A:E,2,FALSE) -> FORNECIMENTO E COLOCAÇÃO DE PLACA DE OBRA EM CHAPA GALVANIZADA #26, ESP. 0,45MM, DIMENSÃO (3X1,5)M, PLOTADA COM ADESIVO VINÍLICO, AFIXADA COM REBITES 4,8X40MM, EM ESTRUTURA METÁLICA DE METALON 20X20MM, ESP. 1,25MM, INCLUSIVE SUPORTE EM EUCALIPTO AUTOCLAVADO PINTADO COM TINTA PVA DUAS (2) DEMÃOS | E20: =VLOOKUP(B20,Relatório!A:E,3,FALSE) -> un | F20: =Memória!H16 -> 1 | G20: 1153.26 | H20: =ROUND(G20+G20*$C$8,2) -> 1451.15 | I20: =ROUND(H20*F20,2) -> 1451.15 | J20: =I20/$I$11 -> 0.00065615467
A21: 2.2.2 | B21: ED-29823 | C21: SICOR | D21: =VLOOKUP(B21,Relatório!A:E,2,FALSE) -> TAPUME FIXO DE PROTEÇÃO PARA FECHAMENTO DE OBRA EM TELHA METÁLICA GALVANIZADA, TIPO TRAPEZOIDAL, ESP. 0,5MM, COM MÓDULO NA DIMENSÃO DE (300X220)CM, COM REAPROVEITAMENTO, EXCLUSIVE PINTURA ESMALTE, INCLUSIVE PONTALETE E FIXAÇÃO | E21: =VLOOKUP(B21,Relatório!A:E,3,FALSE) -> m2 | F21: =Memória!H17 -> 292.42 | G21: 65.23 | H21: =ROUND(G21+G21*$C$8,2) -> 82.08 | I21: =ROUND(H21*F21,2) -> 24001.83 | J21: =I21/$I$11 -> 0.010852712
A22: 2.2.3 | B22: ED-50137 | C22: SICOR | D22: =VLOOKUP(B22,Relatório!A:E,2,FALSE) -> MOBILIZAÇÃO E DESMOBILIZAÇÃO DE CONTAINER, INCLUSIVE CARGA, DESCARGA E TRANSPORTE EM CAMINHÃO CARROCERIA COM GUINDAUTO (MUNCK), EXCLUSIVE LOCAÇÃO DO CONTAINER | E22: =VLOOKUP(B22,Relatório!A:E,3,FALSE) -> un | F22: =Memória!H19 -> 2 | G22: 1631.22 | H22: =ROUND(G22+G22*$C$8,2) -> 2052.56 | I22: =ROUND(H22*F22,2) -> 4105.12 | J22: =I22/$I$11 -> 0.0018561787
A23: 2.2.4 | B23: ED-16349 | C23: SICOR | D23: =VLOOKUP(B23,Relatório!A:E,2,FALSE) -> LOCAÇÃO DE CONTAINER COM ISOLAMENTO TÉRMICO, TIPO 2, PARA ESCRITÓRIO DE OBRA COM SANITÁRIO CONTENDO UM (1) VASO SANITÁRIO E UM (1) LAVATÓRIO, COM MEDIDAS REFERENCIAIS DE (6) METROS COMPRIMENTO, (2,3) METROS LARGURA E (2,5) METROS ALTURA ÚTIL INTERNA, INCLUSIVE AR CONDICIONADO E LIGAÇÕES ELÉTRICAS E HIDROSSANITÁRIAS INTERNAS, EXCLUSIVE MOBILIZAÇÃO/DESMOBILIZAÇÃO E LIGAÇÕES PROVISÓRIAS EXTERNAS | E23: =VLOOKUP(B23,Relatório!A:E,3,FALSE) -> mês | F23: =Memória!H20 -> 12 | G23: 1633.81 | H23: =ROUND(G23+G23*$C$8,2) -> 2055.82 | I23: =ROUND(H23*F23,2) -> 24669.84 | J23: =I23/$I$11 -> 0.011154761
A24: 2.2.5 | B24: ED-16350 | C24: SICOR | D24: =VLOOKUP(B24,Relatório!A:E,2,FALSE) -> LOCAÇÃO DE CONTAINER COM ISOLAMENTO TÉRMICO, TIPO 3, PARA DEPÓSITO/FERRAMENTARIA DE OBRA, COM MEDIDAS REFERENCIAIS DE (6) METROS COMPRIMENTO, (2,3) METROS LARGURA E (2,5) METROS ALTURA ÚTIL INTERNA, INCLUSIVE LIGAÇÕES ELÉTRICAS INTERNAS, EXCLUSIVE MOBILIZAÇÃO/DESMOBILIZAÇÃO E LIGAÇÕES PROVISÓRIAS EXTERNAS | E24: =VLOOKUP(B24,Relatório!A:E,3,FALSE) -> mês | F24: =Memória!H21 -> 12 | G24: 858.68 | H24: =ROUND(G24+G24*$C$8,2) -> 1080.48 | I24: =ROUND(H24*F24,2) -> 12965.76 | J24: =I24/$I$11 -> 0.0058626221
A25: 2.2.6 | B25: ED-16357 | C25: SICOR | D25: =VLOOKUP(B25,Relatório!A:E,2,FALSE) -> LIGAÇÕES PROVISÓRIAS PARA CONTAINER TIPO 2 (CORRESPONDENTE AO CÓDIGO ED-16349) | E25: =VLOOKUP(B25,Relatório!A:E,3,FALSE) -> un | F25: =Memória!H22 -> 1 | G25: 656.27 | H25: =ROUND(G25+G25*$C$8,2) -> 825.78 | I25: =ROUND(H25*F25,2) -> 825.78 | J25: =I25/$I$11 -> 0.00037338621
A26: 2.2.7 | B26: ED-16358 | C26: SICOR | D26: =VLOOKUP(B26,Relatório!A:E,2,FALSE) -> LIGAÇÕES PROVISÓRIAS PARA CONTAINER TIPO 3 (CORRESPONDENTE AO CÓDIGO ED-16350) | E26: =VLOOKUP(B26,Relatório!A:E,3,FALSE) -> un | F26: =Memória!H23 -> 1 | G26: 334.67 | H26: =ROUND(G26+G26*$C$8,2) -> 421.12 | I26: =ROUND(H26*F26,2) -> 421.12 | J26: =I26/$I$11 -> 0.0001904144
A27: 2.2.8 | B27: ED-50150 | C27: SICOR | D27: =VLOOKUP(B27,Relatório!A:E,2,FALSE) -> LIGAÇÃO DE ÁGUA PROVISÓRIA PARA CANTEIRO, INCLUSIVE HIDRÔMETRO E CAVALETE PARA MEDIÇÃO DE ÁGUA - ENTRADA PRINCIPAL, EM AÇO GALVANIZADO DN 20MM (1/2") - PADRÃO CONCESSIONÁRIA | E27: =VLOOKUP(B27,Relatório!A:E,3,FALSE) -> un | F27: =Memória!H24 -> 1 | G27: 572.33 | H27: =ROUND(G27+G27*$C$8,2) -> 720.16 | I27: =ROUND(H27*F27,2) -> 720.16 | J27: =I27/$I$11 -> 0.00032562888
A28: 2.2.9 | B28: ED-50151 | C28: SICOR | D28: =VLOOKUP(B28,Relatório!A:E,2,FALSE) -> LIGAÇÃO PROVISÓRIA COM ENTRADA DE ENERGIA AÉREA, PADRÃO CEMIG, CARGA INSTALADA DE 15,1KVA ATÉ 30KVA, TRIFÁSICO, COM SAÍDA SUBTERRÂNEA, INCLUSIVE POSTE, CAIXA PARA MEDIDOR, DISJUNTOR, BARRAMENTO, ATERRAMENTO E ACESSÓRIOS | E28: =VLOOKUP(B28,Relatório!A:E,3,FALSE) -> un | F28: =Memória!H25 -> 1 | G28: 803.68 | H28: =ROUND(G28+G28*$C$8,2) -> 1011.27 | I28: =ROUND(H28*F28,2) -> 1011.27 | J28: =I28/$I$11 -> 0.00045725772 | L28: =I28+I27+I26+I25+I24+I23+I20+I21+2063.82 -> 68130.73
A29: 2.3 | D29: LOCAÇÃO DE OBRA - GABARITO | I29: =SUM(I30) -> 6626.48 | J29: =SUM(J30) -> 0.0029962415
A30: 2.3.1 | B30: 10501 | C30: IOPES | D30: LOCAÇÃO DE OBRA COM GABARITO DE MADEIRA | E30: m2 | F30: =Memória!H27 -> 433.67 | G30: 12.14 | H30: =ROUND(G30+G30*$C$8,2) -> 15.28 | I30: =ROUND(H30*F30,2) -> 6626.48 | J30: =I30/$I$11 -> 0.0029962415
A31: 3. | D31: MOVIMENTAÇÃO DE TERRA, FUNDAÇÕES E SUPERESTRUTURA | I31: =I32+I37+I50+I54+I60 -> 236744.28 | J31: =J32+J37+J50+J54+J60 -> 0.10704673
A32: 3.1 | D32: MOVIMENTAÇÃO DE TERRA | I32: =SUM(I33:I36) -> 51494.33 | J32: =SUM(J33:J36) -> 0.023283772
A33: 3.1.1 | B33: ED-51105 | C33: SICOR | D33: =VLOOKUP(B33,Relatório!A:E,2,FALSE) -> ESCAVAÇÃO MECÂNICA EM MATERIAL DE 1ª CATEGORIA, INCLUSIVE CARGA EM CAMINHÃO, EXCLUSIVE TRANSPORTE E DESCARGA | E33: =VLOOKUP(B33,Relatório!A:E,3,FALSE) -> m3 | F33: =Memória!H30 -> 952.29 | G33: 7.28 | H33: =ROUND(G33+G33*$C$8,2) -> 9.16 | I33: =ROUND(H33*F33,2) -> 8722.98 | J33: =I33/$I$11 -> 0.0039441988
A34: 3.1.2 | B34: ED-29232 | C34: SICOR | D34: =VLOOKUP(B34,Relatório!A:E,2,FALSE) -> TRANSPORTE DE MATERIAL DE QUALQUER NATUREZA EM CAMINHÃO, DISTÂNCIA MAIOR QUE 5KM E MENOR OU IGUAL A 10KM, DENTRO DO PERÍMETRO URBANO, EXCLUSIVE CARGA, INCLUSIVE DESCARGA | E34: m3xkm | F34: =Memória!H32 -> 12379.77 | G34: 1.99 | H34: =ROUND(G34+G34*$C$8,2) -> 2.5 | I34: =ROUND(H34*F34,2) -> 30949.43 | J34: =I34/$I$11 -> 0.013994152
A35: 3.1.3 | B35: ED-51098 | C35: SICOR | D35: =VLOOKUP(B35,Relatório!A:E,2,FALSE) -> COMPACTAÇÃO MECÂNICA DE ATERRO COM ROLO VIBRATÓRIO A 95% DO PROCTOR NORMAL, INCLUSIVE ESPALHAMENTO | E35: =VLOOKUP(B35,Relatório!A:E,3,FALSE) -> m3 | F35: =Memória!H34 -> 142.31 | G35: 4.47 | H35: =ROUND(G35+G35*$C$8,2) -> 5.62 | I35: =ROUND(H35*F35,2) -> 799.78 | J35: =I35/$I$11 -> 0.00036163001
A36: 3.1.4 | B36: ED-51124 | C36: SICOR | D36: =VLOOKUP(B36,Relatório!A:E,2,FALSE) -> REGULARIZAÇÃO E COMPACTAÇÃO MECÂNICA DE TERRENO COM ROLO VIBRATÓRIO, EXCLUSIVE DESMATAMENTO, DESTOCAMENTO, LIMPEZA/ROÇADA DO TERRENO | E36: =VLOOKUP(B36,Relatório!A:E,3,FALSE) -> m2 | F36: =Memória!H36 -> 3185.59 | G36: 2.75 | H36: =ROUND(G36+G36*$C$8,2) -> 3.46 | I36: =ROUND(H36*F36,2) -> 11022.14 | J36: =I36/$I$11 -> 0.0049837912
A37: 3.2 | D37: FUNDAÇÃO - SAPATA E BALDRAMES | I37: =SUM(I38:I49) -> 87667.79 | J37: =SUM(J38:J49) -> 0.03964003
A38: 3.2.1 | B38: 96521 | C38: SINAPI | D38: =VLOOKUP(B38,Relatório!A:E,2,FALSE) -> ESCAVAÇÃO MECANIZADA PARA BLOCO DE COROAMENTO OU SAPATA COM RETROESCAVADEIRA (INCLUINDO ESCAVAÇÃO PARA COLOCAÇÃO DE FÔRMAS). AF_01/2024 | E38: m3 | F38: =Memória!H39 -> 11.88 | G38: 45.1 | H38: =ROUND(G38+G38*$C$8,2) -> 56.75 | I38: =ROUND(H38*F38,2) -> 674.19 | J38: =I38/$I$11 -> 0.000304843
A39: 3.2.2 | B39: ED-51107 | C39: SICOR | D39: =VLOOKUP(B39,Relatório!A:E,2,FALSE) -> ESCAVAÇÃO MANUAL DE VALA COM PROFUNDIDADE MENOR OU IGUAL A 1,5M, INCLUSIVE DESCARGA LATERAL | E39: =VLOOKUP(B39,Relatório!A:E,3,FALSE) -> m3 | F39: =Memória!H50 -> 13.73 | G39: 71.42 | H39: =ROUND(G39+G39*$C$8,2) -> 89.87 | I39: =ROUND(H39*F39,2) -> 1233.92 | J39: =I39/$I$11 -> 0.00055793155
A40: 3.2.3 | B40: ED-51093 | C40: SICOR | D40: =VLOOKUP(B40,Relatório!A:E,2,FALSE) -> APILOAMENTO MANUAL EM FUNDO DE VALA COM SOQUETE, EXCLUSIVE ESCAVAÇÃO | E40: =VLOOKUP(B40,Relatório!A:E,3,FALSE) -> m2 | F40: =Memória!H52 -> 67.73 | G40: 24.08 | H40: =ROUND(G40+G40*$C$8,2) -> 30.3 | I40: =ROUND(H40*F40,2) -> 2052.22 | J40: =I40/$I$11 -> 0.0009279356
A41: 3.2.4 | B41: ED-49812 | C41: SICOR | D41: =VLOOKUP(B41,Relatório!A:E,2,FALSE) -> LASTRO DE CONCRETO MAGRO, INCLUSIVE TRANSPORTE, LANÇAMENTO E ADENSAMENTO | E41: =VLOOKUP(B41,Relatório!A:E,3,FALSE) -> m3 | F41: =Memória!H64 -> 1.69 | G41: 593.82 | H41: =ROUND(G41+G41*$C$8,2) -> 747.2 | I41: =ROUND(H41*F41,2) -> 1262.77 | J41: =I41/$I$11 -> 0.00057097642
A42: 3.2.5 | B42: ED-49810 | C42: SICOR | D42: =VLOOKUP(B42,Relatório!A:E,2,FALSE) -> FÔRMA E DESFORMA PARA VIGA-CINTA/BLOCO COM TÁBUA E SARRAFO, REAPROVEITAMENTO (3X) (FUNDAÇÃO) | E42: =VLOOKUP(B42,Relatório!A:E,3,FALSE) -> m2 | F42: =Memória!H76 -> 246.87 | G42: 76.62 | H42: =ROUND(G42+G42*$C$8,2) -> 96.41 | I42: =ROUND(H42*F42,2) -> 23800.74 | J42: =I42/$I$11 -> 0.010761787
A43: 3.2.6 | B43: ED-48295 | C43: SICOR | D43: CORTE, DOBRA E MONTAGEM DE AÇO CA-50, DIÂMETRO (6,3MM A 12,5MM), INCLUSIVE ESPAÇADOR - SAPATA E BALDRAME | E43: =VLOOKUP(B43,Relatório!A:E,3,FALSE) -> Kg | F43: =Memória!H79 -> 1041.47 | G43: 13.2 | H43: =ROUND(G43+G43*$C$8,2) -> 16.61 | I43: =ROUND(H43*F43,2) -> 17298.82 | J43: =I43/$I$11 -> 0.0078218665
...

Sheet Memória
A1: MEMÓRIA DE CÁLCULO
A3: CONTRATANTE: PREFEITURA MUNICIPAL DE SÃO JOSÉ DA VARGINHA
A4: =Orçamento!A5 -> OBRA: CONSTRUÇÃO DO CENTRO DE REFERÊNCIA EM ASSISTÊNCIA SOCIAL (CRAS) - SÃO JOSÉ DA VARGINHA - CONFORME FDI OBR21 VALE
A5: DATA : 06/03/2026
A6: ITEM | B6: DISCRIMINAÇÃO | C6: X | D6: DIMENSÕES | G6: QUANTIDADES | I6: UN.
D7: COMP. | E7: LARG. | F7: ALTURA | G7: AUXILIAR | H7: DEFINITIVA
A8: =Orçamento!A12 -> 1. | B8: =Orçamento!D12 -> ADMINISTRAÇÃO LOCAL
A9: =Orçamento!A13 -> 1.1 | B9: =Orçamento!D13 -> ENGENHEIRO CIVIL DE OBRA JUNIOR COM ENCARGOS COMPLEMENTARES | H9: 140 | I9: =Orçamento!E13 -> h
A10: =Orçamento!A14 -> 1.2 | B10: =Orçamento!D14 -> ENCARREGADO GERAL COM ENCARGOS COMPLEMENTARES | H10: 370 | I10: =Orçamento!E14 -> h
A11: =Orçamento!A15 -> 1.3 | B11: =Orçamento!D15 -> VIGIA NOTURNO COM ENCARGOS COMPLEMENTARES | H11: 6 | I11: =Orçamento!E15 -> mês
A12: =Orçamento!A16 -> 2. | B12: =Orçamento!D16 -> SERVIÇOS PRELIMINARES
A13: =Orçamento!A17 -> 2.1 | B13: =Orçamento!D17 -> MOBILIZAÇÃO DA OBRA
A14: =Orçamento!A18 -> 2.1.1 | B14: =Orçamento!D18 -> MOBILIZACAO E DESMOBILIZACAO DE CANTEIRO | H14: 1 | I14: =Orçamento!E18 -> un
A15: =Orçamento!A19 -> 2.2 | B15: =Orçamento!D19 -> INSTALAÇÕES PROVISÓRIAS
A16: =Orçamento!A20 -> 2.2.1 | B16: =Orçamento!D20 -> FORNECIMENTO E COLOCAÇÃO DE PLACA DE OBRA EM CHAPA GALVANIZADA #26, ESP. 0,45MM, DIMENSÃO (3X1,5)M, PLOTADA COM ADESIVO VINÍLICO, AFIXADA COM REBITES 4,8X40MM, EM ESTRUTURA METÁLICA DE METALON 20X20MM, ESP. 1,25MM, INCLUSIVE SUPORTE EM EUCALIPTO AUTOCLAVADO PINTADO COM TINTA PVA DUAS (2) DEMÃOS | H16: 1 | I16: =Orçamento!E20 -> un
A17: =Orçamento!A21 -> 2.2.2 | B17: =Orçamento!D21 -> TAPUME FIXO DE PROTEÇÃO PARA FECHAMENTO DE OBRA EM TELHA METÁLICA GALVANIZADA, TIPO TRAPEZOIDAL, ESP. 0,5MM, COM MÓDULO NA DIMENSÃO DE (300X220)CM, COM REAPROVEITAMENTO, EXCLUSIVE PINTURA ESMALTE, INCLUSIVE PONTALETE E FIXAÇÃO | H17: =G18 -> 292.42 | I17: =Orçamento!E21 -> m2
B18: Referente ao fechamento da obra | D18: =40.71+2.76+37.9+24.6+26.95 -> 132.92 | E18: 2.2 | G18: =ROUND(PRODUCT(C18:F18),2) -> 292.42
A19: =Orçamento!A22 -> 2.2.3 | B19: =Orçamento!D22 -> MOBILIZAÇÃO E DESMOBILIZAÇÃO DE CONTAINER, INCLUSIVE CARGA, DESCARGA E TRANSPORTE EM CAMINHÃO CARROCERIA COM GUINDAUTO (MUNCK), EXCLUSIVE LOCAÇÃO DO CONTAINER | H19: 2 | I19: =Orçamento!E22 -> un
A20: =Orçamento!A23 -> 2.2.4 | B20: =Orçamento!D23 -> LOCAÇÃO DE CONTAINER COM ISOLAMENTO TÉRMICO, TIPO 2, PARA ESCRITÓRIO DE OBRA COM SANITÁRIO CONTENDO UM (1) VASO SANITÁRIO E UM (1) LAVATÓRIO, COM MEDIDAS REFERENCIAIS DE (6) METROS COMPRIMENTO, (2,3) METROS LARGURA E (2,5) METROS ALTURA ÚTIL INTERNA, INCLUSIVE AR CONDICIONADO E LIGAÇÕES ELÉTRICAS E HIDROSSANITÁRIAS INTERNAS, EXCLUSIVE MOBILIZAÇÃO/DESMOBILIZAÇÃO E LIGAÇÕES PROVISÓRIAS EXTERNAS | H20: 12 | I20: =Orçamento!E23 -> mês
A21: =Orçamento!A24 -> 2.2.5 | B21: =Orçamento!D24 -> LOCAÇÃO DE CONTAINER COM ISOLAMENTO TÉRMICO, TIPO 3, PARA DEPÓSITO/FERRAMENTARIA DE OBRA, COM MEDIDAS REFERENCIAIS DE (6) METROS COMPRIMENTO, (2,3) METROS LARGURA E (2,5) METROS ALTURA ÚTIL INTERNA, INCLUSIVE LIGAÇÕES ELÉTRICAS INTERNAS, EXCLUSIVE MOBILIZAÇÃO/DESMOBILIZAÇÃO E LIGAÇÕES PROVISÓRIAS EXTERNAS | H21: 12 | I21: =Orçamento!E24 -> mês
A22: =Orçamento!A25 -> 2.2.6 | B22: =Orçamento!D25 -> LIGAÇÕES PROVISÓRIAS PARA CONTAINER TIPO 2 (CORRESPONDENTE AO CÓDIGO ED-16349) | H22: 1 | I22: =Orçamento!E25 -> un
A23: =Orçamento!A26 -> 2.2.7 | B23: =Orçamento!D26 -> LIGAÇÕES PROVISÓRIAS PARA CONTAINER TIPO 3 (CORRESPONDENTE AO CÓDIGO ED-16350) | H23: 1 | I23: =Orçamento!E26 -> un
A24: =Orçamento!A27 -> 2.2.8 | B24: =Orçamento!D27 -> LIGAÇÃO DE ÁGUA PROVISÓRIA PARA CANTEIRO, INCLUSIVE HIDRÔMETRO E CAVALETE PARA MEDIÇÃO DE ÁGUA - ENTRADA PRINCIPAL, EM AÇO GALVANIZADO DN 20MM (1/2") - PADRÃO CONCESSIONÁRIA | H24: 1 | I24: =Orçamento!E27 -> un
A25: =Orçamento!A28 -> 2.2.9 | B25: =Orçamento!D28 -> LIGAÇÃO PROVISÓRIA COM ENTRADA DE ENERGIA AÉREA, PADRÃO CEMIG, CARGA INSTALADA DE 15,1KVA ATÉ 30KVA, TRIFÁSICO, COM SAÍDA SUBTERRÂNEA, INCLUSIVE POSTE, CAIXA PARA MEDIDOR, DISJUNTOR, BARRAMENTO, ATERRAMENTO E ACESSÓRIOS | H25: 1 | I25: =Orçamento!E28 -> un
A26: =Orçamento!A29 -> 2.3 | B26: =Orçamento!D29 -> LOCAÇÃO DE OBRA - GABARITO
A27: =Orçamento!A30 -> 2.3.1 | B27: =Orçamento!D30 -> LOCAÇÃO DE OBRA COM GABARITO DE MADEIRA | H27: 433.67 | I27: =Orçamento!E30 -> m2
A28: =Orçamento!A31 -> 3. | B28: =Orçamento!D31 -> MOVIMENTAÇÃO DE TERRA, FUNDAÇÕES E SUPERESTRUTURA
A29: =Orçamento!A32 -> 3.1 | B29: =Orçamento!D32 -> MOVIMENTAÇÃO DE TERRA
A30: =Orçamento!A33 -> 3.1.1 | B30: =Orçamento!D33 -> ESCAVAÇÃO MECÂNICA EM MATERIAL DE 1ª CATEGORIA, INCLUSIVE CARGA EM CAMINHÃO, EXCLUSIVE TRANSPORTE E DESCARGA | H30: =SUM(G31:G31) -> 952.29 | I30: =Orçamento!E33 -> m3
B31: Conforme levamtamento planialtimétrico | G31: 952.29
A32: =Orçamento!A34 -> 3.1.2 | B32: =Orçamento!D34 -> TRANSPORTE DE MATERIAL DE QUALQUER NATUREZA EM CAMINHÃO, DISTÂNCIA MAIOR QUE 5KM E MENOR OU IGUAL A 10KM, DENTRO DO PERÍMETRO URBANO, EXCLUSIVE CARGA, INCLUSIVE DESCARGA | H32: =G33 -> 12379.77 | I32: =Orçamento!E34 -> m3xkm
B33: Dmt = 10km EMPOLAMENTO = 30% | C33: 10 | D33: =H30 -> 952.29 | E33: 1.3 | G33: =ROUND(PRODUCT(C33:F33),2) -> 12379.77
A34: =Orçamento!A35 -> 3.1.3 | B34: =Orçamento!D35 -> COMPACTAÇÃO MECÂNICA DE ATERRO COM ROLO VIBRATÓRIO A 95% DO PROCTOR NORMAL, INCLUSIVE ESPALHAMENTO | H34: =G35 -> 142.31 | I34: =Orçamento!E35 -> m3
B35: Conforme levamtamento planialtimétrico EMPOLAMENTO = 30% | C35: 1.3 | D35: 109.47 | G35: =ROUND(PRODUCT(C35:F35),2) -> 142.31
A36: =Orçamento!A36 -> 3.1.4 | B36: =Orçamento!D36 -> REGULARIZAÇÃO E COMPACTAÇÃO MECÂNICA DE TERRENO COM ROLO VIBRATÓRIO, EXCLUSIVE DESMATAMENTO, DESTOCAMENTO, LIMPEZA/ROÇADA DO TERRENO | H36: =SUM(G37:G37) -> 3185.59 | I36: =Orçamento!E36 -> m2
B37: Conforme levamtamento planialtimétrico | G37: 3185.59
A38: =Orçamento!A37 -> 3.2 | B38: =Orçamento!D37 -> FUNDAÇÃO - SAPATA E BALDRAMES
A39: =Orçamento!A38 -> 3.2.1 | B39: =Orçamento!D38 -> ESCAVAÇÃO MECANIZADA PARA BLOCO DE COROAMENTO OU SAPATA COM RETROESCAVADEIRA (INCLUINDO ESCAVAÇÃO PARA COLOCAÇÃO DE FÔRMAS). AF_01/2024 | H39: =SUM(G40:G49) -> 11.88 | I39: =Orçamento!E38 -> m3
B40: P1, P7 e P33 | C40: 3 | D40: 0.95 | E40: 1.15 | F40: 0.35 | G40: =ROUND(PRODUCT(C40:F40),2) -> 1.15
B41: P2, P3, P4, P5, P9, P11, P15, P28, P34, P35, P38 e P39 | C41: 12 | D41: 0.85 | E41: 1.05 | F41: 0.35 | G41: =ROUND(PRODUCT(C41:F41),2) -> 3.75
...

Sheet Cronograma
A1: PREFEITURA MUNICIPAL DE SÃO JOSÉ DA VARGINHA
A4: CRONOGRAMA FÍSICO-FINANCEIRO
A7: CONTRATANTE: PREFEITURA MUNICIPAL DE SÃO JOSÉ DA VARGINHA | I7: VALOR DO CONTRATO: | M7: =E46 -> 2211597.5 | O7: DATA: 06/03/2026
A8: OBRA: CONSTRUÇÃO DO CENTRO DE REFERÊNCIA EM ASSISTÊNCIA SOCIAL (CRAS) - SÃO JOSÉ DA VARGINHA - CONFORME FDI OBR21 VALE | I8: LOCAL: RUA JACINTA BRAGA, S/N - CENTRO, SÃO JOSÉ DA VARGINHA-MG | O8: PRAZO DA OBRA: 12 meses
A10: ITEM | B10: CÓDIGO | C10: ETAPAS/DESCRIÇÃO | D10: FÍSICO/ FINANCEIRO | E10: TOTAL ETAPAS | F10: MÊS 1 | G10: MÊS 2 | H10: MÊS 3 | I10: MÊS 4 | J10: MÊS 5 | K10: MÊS 6 | L10: MÊS 7 | M10: MÊS 8 | N10: MÊS 9 | O10: MÊS 10 | P10: MÊS 11 | Q10: MÊS 12
A11: =Orçamento!A12 -> 1. | C11: =VLOOKUP(A11,Orçamento!A:J,4,FALSE) -> ADMINISTRAÇÃO LOCAL | D11: Físico % | E11: =E12/$E$46 -> 0.041528832 | F11: =F12/E12 -> 0.083333333 | G11: =G12/E12 -> 0.083333333 | H11: =H12/E12 -> 0.083333333 | I11: =I12/E12 -> 0.083333333 | J11: =J12/E12 -> 0.083333333 | K11: =K12/E12 -> 0.083333333 | L11: =L12/E12 -> 0.083333333 | M11: =M12/E12 -> 0.083333333 | N11: =N12/E12 -> 0.083333333 | O11: =O12/E12 -> 0.083333333 | P11: =P12/E12 -> 0.083333333 | Q11: =Q12/E12 -> 0.083333333
D12: Financeiro | E12: =VLOOKUP(A11,Orçamento!A:J,9,FALSE) -> 91845.06 | F12: =$E$12/12 -> 7653.755 | G12: =$E$12/12 -> 7653.755 | H12: =$E$12/12 -> 7653.755 | I12: =$E$12/12 -> 7653.755 | J12: =$E$12/12 -> 7653.755 | K12: =$E$12/12 -> 7653.755 | L12: =$E$12/12 -> 7653.755 | M12: =$E$12/12 -> 7653.755 | ... Q12: =$E$12/12 -> 7653.755
A13: =Orçamento!A16 -> 2. | C13: =VLOOKUP(A13,Orçamento!A:J,4,FALSE) -> SERVIÇOS PRELIMINARES | D13: Físico % | E13: =E14/$E$46 -> 0.037629746 | F13: 0.65 | G13: 0.03 | H13: 0.03 | I13: 0.03 | J13: 0.03 | K13: 0.03 | L13: 0.03 | M13: 0.03 | N13: 0.03 | O13: 0.03 | P13: 0.03 | Q13: 0.05
D14: Financeiro | E14: =VLOOKUP(A13,Orçamento!A:J,9,FALSE) -> 83221.85 | F14: =F13*$E$14 -> 54094.202 | G14: =G13*$E$14 -> 2496.6555 | H14: =H13*$E$14 -> 2496.6555 | I14: =I13*$E$14 -> 2496.6555 | J14: =J13*$E$14 -> 2496.6555 | K14: =K13*$E$14 -> 2496.6555 | L14: =L13*$E$14 -> 2496.6555 | M14: =M13*$E$14 -> 2496.6555 | ... Q14: =Q13*$E$14 -> 4161.0925
A15: =Orçamento!A31 -> 3. | C15: =VLOOKUP(A15,Orçamento!A:J,4,FALSE) -> MOVIMENTAÇÃO DE TERRA, FUNDAÇÕES E SUPERESTRUTURA | D15: Físico % | E15: =E16/$E$46 -> 0.10704673 | F15: 0.2 | G15: 0.3 | H15: 0.3 | I15: 0.1 | J15: 0.1
D16: Financeiro | E16: =VLOOKUP(A15,Orçamento!A:J,9,FALSE) -> 236744.28 | F16: =F15*$E$16 -> 47348.856 | G16: =G15*$E$16 -> 71023.284 | H16: =H15*$E$16 -> 71023.284 | I16: =I15*$E$16 -> 23674.428 | J16: =J15*$E$16 -> 23674.428 | K16: =K15*$E$16 -> 0 | L16: =L15*$E$16 -> 0 | M16: =M15*$E$16 -> 0 | ... Q16: =Q15*$E$16 -> 0
A17: =Orçamento!A74 -> 4. | C17: =VLOOKUP(A17,Orçamento!A:J,4,FALSE) -> ALVENARIAS, VERGAS E CONTRAVERGAS | D17: Físico % | E17: =E18/$E$46 -> 0.038594175 | G17: 0.2 | H17: 0.3 | I17: 0.3 | J17: 0.2
D18: Financeiro | E18: =VLOOKUP(A17,Orçamento!A:J,9,FALSE) -> 85354.78 | F18: =F17*$E$18 -> 0 | G18: =G17*$E$18 -> 17070.956 | H18: =H17*$E$18 -> 25606.434 | I18: =I17*$E$18 -> 25606.434 | J18: =J17*$E$18 -> 17070.956 | K18: =K17*$E$18 -> 0 | L18: =L17*$E$18 -> 0 | M18: =M17*$E$18 -> 0 | ... Q18: =Q17*$E$18 -> 0
A19: =Orçamento!A83 -> 5. | C19: =VLOOKUP(A19,Orçamento!A:J,4,FALSE) -> LAJES | D19: Físico % | E19: =E20/$E$46 -> 0.079582358 | G19: 0.3 | H19: 0.3 | I19: 0.4
D20: Financeiro | E20: =VLOOKUP(A19,Orçamento!A:J,9,FALSE) -> 176004.14 | F20: =F19*$E$20 -> 0 | G20: =G19*$E$20 -> 52801.242 | H20: =H19*$E$20 -> 52801.242 | I20: =I19*$E$20 -> 70401.656 | J20: =J19*$E$20 -> 0 | K20: =K19*$E$20 -> 0 | L20: =L19*$E$20 -> 0 | M20: =M19*$E$20 -> 0 | ... Q20: =Q19*$E$20 -> 0
A21: =Orçamento!A92 -> 6. | C21: =VLOOKUP(A21,Orçamento!A:J,4,FALSE) -> REVESTIMENTO ARGAMASSADO | D21: Físico % | E21: =E22/$E$46 -> 0.038960002 | H21: 0.3 | I21: 0.4 | J21: 0.3
D22: Financeiro | E22: =VLOOKUP(A21,Orçamento!A:J,9,FALSE) -> 86163.84 | F22: =F21*$E$20 -> 0 | G22: =G21*$E$20 -> 0 | H22: =H21*E22 -> 25849.152 | I22: =I21*E22 -> 34465.536 | J22: =J21*$E$22 -> 25849.152 | K22: =K21*$E$22 -> 0 | L22: =L21*$E$22 -> 0 | M22: =M21*$E$20 -> 0 | N22: =N21*$E$20 -> 0 | O22: =O21*$E$20 -> 0 | P22: =P21*$E$20 -> 0 | Q22: =Q21*$E$20 -> 0
A23: =Orçamento!A96 -> 7. | C23: =VLOOKUP(A23,Orçamento!A:J,4,FALSE) -> INSTALAÇÕS HIDROSSANITÁRIAS | D23: Físico % | E23: =E24/$E$46 -> 0.054419782 | H23: 0.1 | I23: 0.1 | J23: 0.1 | K23: 0.1 | L23: 0.1 | M23: 0.1 | P23: 0.1 | Q23: 0.3
D24: Financeiro | E24: =VLOOKUP(A23,Orçamento!A:J,9,FALSE) -> 120354.65 | F24: =F23*$E$20 -> 0 | G24: =G23*$E$20 -> 0 | H24: =H23*$E$24 -> 12035.465 | I24: =I23*$E$24 -> 12035.465 | J24: =J23*$E$24 -> 12035.465 | K24: =K23*$E$24 -> 12035.465 | L24: =L23*$E$24 -> 12035.465 | M24: =M23*$E$24 -> 12035.465 | N24: =N23*$E$24 -> 0 | O24: =O23*$E$24 -> 0 | ... Q24: =Q23*$E$24 -> 36106.395
A25: =Orçamento!A164 -> 8. | C25: =VLOOKUP(A25,Orçamento!A:J,4,FALSE) -> INSTALAÇÕES ELÉTRICAS | D25: Físico % | E25: =E26/$E$46 -> 0.052112838 | H25: 0.1 | I25: 0.1 | J25: 0.1 | K25: 0.1 | L25: 0.1 | M25: 0.1 | N25: 0.1 | P25: 0.1 | Q25: 0.2
D26: Financeiro | E26: =VLOOKUP(A25,Orçamento!A:J,9,FALSE) -> 115252.62 | F26: =F25*$E$20 -> 0 | G26: =G25*$E$20 -> 0 | H26: =H25*$E$26 -> 11525.262 | I26: =I25*$E$26 -> 11525.262 | J26: =J25*$E$26 -> 11525.262 | K26: =K25*$E$26 -> 11525.262 | L26: =L25*$E$26 -> 11525.262 | M26: =M25*$E$26 -> 11525.262 | N26: =N25*$E$26 -> 11525.262 | O26: =O25*$E$26 -> 0 | ... Q26: =Q25*$E$26 -> 23050.524
A27: =Orçamento!A200 -> 9. | C27: =VLOOKUP(A27,Orçamento!A:J,4,FALSE) -> INSTALAÇÕES ESPECIAIS | D27: Físico % | E27: =E28/$E$46 -> 0.0068229777 | M27: 0.3 | O27: 0.7
D28: Financeiro | E28: =VLOOKUP(A27,Orçamento!A:J,9,FALSE) -> 15089.68 | F28: =F27*$E$20 -> 0 | G28: =G27*$E$20 -> 0 | H28: =H27*$E$20 -> 0 | I28: =I27*$E$20 -> 0 | J28: =J27*$E$28 -> 0 | K28: =K27*$E$28 -> 0 | L28: =L27*$E$28 -> 0 | M28: =M27*$E$28 -> 4526.904 | N28: =N27*$E$28 -> 0 | O28: =O27*$E$28 -> 10562.776 | P28: =P27*$E$28 -> 0 | Q28: =Q27*I28 -> 0
A29: =Orçamento!A215 -> 10. | C29: =VLOOKUP(A29,Orçamento!A:J,4,FALSE) -> CABEAMENTO ESTRUTURADO / DADOS | D29: Físico % | E29: =E30/$E$46 -> 0.0094284066 | P29: 1
D30: Financeiro | E30: =VLOOKUP(A29,Orçamento!A:J,9,FALSE) -> 20851.84 | F30: =F29*$E$20 -> 0 | G30: =G29*$E$20 -> 0 | H30: =H29*$E$20 -> 0 | I30: =I29*$E$20 -> 0 | J30: =J29*$E$20 -> 0 | K30: =K29*$E$20 -> 0 | L30: =L29*$E$20 -> 0 | M30: =M29*$E$30 -> 0 | N30: =N29*$E$30 -> 0 | O30: =O29*$E$30 -> 0 | P30: =P29*$E$30 -> 20851.84 | Q30: =Q29*$E$30 -> 0
A31: =Orçamento!A225 -> 11. | C31: =VLOOKUP(A31,Orçamento!A:J,4,FALSE) -> COBERTURA | D31: Físico % | E31: =E32/$E$46 -> 0.10153082 | J31: 0.4 | K31: 0.3 | L31: 0.3
D32: Financeiro | E32: =VLOOKUP(A31,Orçamento!A:J,9,FALSE) -> 224545.31 | F32: =F31*$E$20 -> 0 | G32: =G31*$E$20 -> 0 | H32: =H31*$E$20 -> 0 | J32: =J31*$E$32 -> 89818.124 | K32: =K31*$E$32 -> 67363.593 | L32: =L31*$E$32 -> 67363.593 | M32: =M31*$E$32 -> 0 | N32: =N31*$E$32 -> 0 | O32: =O31*$E$32 -> 0 | P32: =P31*$E$32 -> 0 | Q32: =Q31*$E$32 -> 0
A33: =Orçamento!A235 -> 12. | C33: =VLOOKUP(A33,Orçamento!A:J,4,FALSE) -> ACABAMENTOS PREDIAIS | D33: Físico % | E33: =E34/$E$46 -> 0.09392174 | G33: 0.3 | I33: 0.1 | J33: 0.1 | K33: 0.15 | L33: 0.15 | M33: 0.2
D34: Financeiro | E34: =VLOOKUP(A33,Orçamento!A:J,9,FALSE) -> 207717.08 | F34: =F33*$E$20 -> 0 | G34: =G33*$E$34 -> 62315.124 | H34: =H33*$E$34 -> 0 | I34: =I33*$E$34 -> 20771.708 | J34: =J33*$E$34 -> 20771.708 | K34: =K33*$E$34 -> 31157.562 | L34: =L33*$E$34 -> 31157.562 | M34: =M33*$E$34 -> 41543.416 | N34: =N33*$E$20 -> 0 | O34: =O33*$E$20 -> 0 | P34: =P33*$E$20 -> 0 | Q34: =Q33*$E$20 -> 0
A35: =Orçamento!A258 -> 13. | C35: =VLOOKUP(A35,Orçamento!A:J,4,FALSE) -> ESQUADRIAS | D35: Físico % | E35: =E36/$E$46 -> 0.049779733 | K35: 0.6 | L35: 0.4
D36: Financeiro | E36: =VLOOKUP(A35,Orçamento!A:J,9,FALSE) -> 110092.73 | F36: =F35*$E$20 -> 0 | G36: =G35*$E$20 -> 0 | H36: =H35*$E$20 -> 0 | I36: =I35*$E$20 -> 0 | J36: =J35*$E$20 -> 0 | K36: =K35*E36 -> 66055.638 | L36: =L35*E36 -> 44037.092 | M36: =M35*$E$20 -> 0 | N36: =N35*$E$20 -> 0 | O36: =O35*$E$20 -> 0 | P36: =P35*$E$20 -> 0 | Q36: =Q35*$E$20 -> 0
A37: =Orçamento!A275 -> 14. | C37: =VLOOKUP(A37,Orçamento!A:J,4,FALSE) -> URBANISMO, PAISAGISMO E OBRAS COMPLEMENTARES | D37: Físico % | E37: =E38/$E$46 -> 0.25478476 | F37: 0.2 | M37: 0.2 | N37: 0.3 | O37: 0.2 | P37: 0.1
D38: Financeiro | E38: =VLOOKUP(A37,Orçamento!A:J,9,FALSE) -> 563481.33 | F38: =F37*$E$38 -> 112696.27 | G38: =G37*$E$38 -> 0 | H38: =H37*$E$38 -> 0 | I38: =I37*$E$38 -> 0 | J38: =J37*$E$38 -> 0 | K38: =K37*$E$38 -> 0 | L38: =L37*$E$38 -> 0 | M38: =M37*$E$38 -> 112696.27 | ... O38: =O37*$E$38 -> 112696.27 | P38: =P37*E38 -> 56348.133 | Q38: =Q37*$E$20 -> 0
A39: =Orçamento!A334 -> 15. | C39: =VLOOKUP(A39,Orçamento!A:J,4,FALSE) -> PINTURAS | D39: Físico % | E39: =E40/$E$46 -> 0.030529005 | O39: 0.3 | P39: 0.3 | Q39: 0.4
D40: Financeiro | E40: =VLOOKUP(A39,Orçamento!A:J,9,FALSE) -> 67517.87 | F40: =F39*$E$20 -> 0 | G40: =G39*$E$20 -> 0 | H40: =H39*$E$20 -> 0 | I40: =I39*$E$20 -> 0 | J40: =J39*$E$20 -> 0 | K40: =K39*$E$20 -> 0 | O40: =O39*$E$40 -> 20255.361 | P40: =P39*$E$40 -> 20255.361 | Q40: =Q39*$E$40 -> 27007.148
A41: =Orçamento!A343 -> 16. | C41: =VLOOKUP(A41,Orçamento!A:J,4,FALSE) -> PREVENÇÃO E COMBATE AO INCÊNDIO | D41: Físico % | E41: =E42/$E$46 -> 0.0015038135 | Q41: 1
D42: Financeiro | E42: =VLOOKUP(A41,Orçamento!A:J,9,FALSE) -> 3325.83 | F42: =F41*$E$20 -> 0 | G42: =G41*$E$20 -> 0 | H42: =H41*$E$20 -> 0 | I42: =I41*$E$20 -> 0 | J42: =J41*$E$20 -> 0 | K42: =K41*$E$20 -> 0 | L42: =L41*E42 -> 0 | M42: =M41*E42 -> 0 | N42: =N41*F42 -> 0 | O42: =O41*G42 -> 0 | P42: =P41*H42 -> 0 | Q42: =Q41*E42 -> 3325.83
A43: =Orçamento!352:352 -> 17. | C43: =VLOOKUP(A43,Orçamento!A:J,4,FALSE) -> SERVIÇOS FINAIS | D43: Físico % | E43: =E44/$E$46 -> 0.0018242741 | Q43: 1
D44: Financeiro | E44: =VLOOKUP(A43,Orçamento!A:J,9,FALSE) -> 4034.56 | F44: =F43*$E$20 -> 0 | G44: =G43*$E$20 -> 0 | H44: =H43*$E$20 -> 0 | I44: =I43*$E$20 -> 0 | J44: =J43*$E$20 -> 0 | K44: =K43*$E$20 -> 0 | L44: =L43*$E$20 -> 0 | M44: =M43*E44 -> 0 | N44: =N43*F44 -> 0 | O44: =O43*G44 -> 0 | P44: =P43*H44 -> 0 | Q44: =E44 -> 4034.56
A45: TOTAL | D45: Físico % | E45: =E11+E13+E15+E17+E19+E21+E23+E25+E27+E29+E31+E33+E35+E37+E39+E41+E43 -> 1 | F45: =F46/$E$46 -> 0.10028637 | G45: =G46/$E$46 -> 0.096473712 | H45: =H46/$E$46 -> 0.094497871 | I45: =I46/$E$46 -> 0.094334934 | J45: =J46/$E$46 -> 0.095358902 | K45: =K46/$E$46 -> 0.089658238 | L45: =L46/$E$46 -> 0.079702291 | M45: =M46/$E$46 -> 0.087031084 | ... Q45: =Q46/$E$46 -> 0.047630415
...

Sheet Relatório
A22: TABELA REFERENCIAL DE PREÇOS UNITÁRIOS PARA OBRAS DE EDIFICAÇÃO
A24: TABELA REFERENCIAL DE PREÇOS UNITÁRIOS PARA OBRAS DE EDIFICAÇÃO
A25: Região Central - C/ Desoneração
A26: JANEIRO/2024
A29: CÓDIGO | B29: DESCRIÇÃO DO SERVIÇO | C29: UNIDADE | D29: CUSTO UNITÁRIO
A30: 8662 | B30: MOBILIZAÇÃO E DESMOBILIZAÇÃO DE OBRA
A31: 8700 | B31: OBRAS EM CENTRO URBANO OU REGIÃO LIMÍTROFE
A32: ED-50394 | B32: MOBILIZAÇÃO E DESMOBILIZAÇÃO DE OBRA EM CENTRO URBANO OU REGIÃO LIMÍTROFE COM VALOR ACIMA DE 3.000.000,01 | C32: % | D32: 0.2
A33: ED-50392 | B33: MOBILIZAÇÃO E DESMOBILIZAÇÃO DE OBRA EM CENTRO URBANO OU REGIÃO LIMÍTROFE COM VALOR ATÉ O VALOR DE 1.000.000,00 | C33: % | D33: 0.5
A34: ED-50393 | B34: MOBILIZAÇÃO E DESMOBILIZAÇÃO DE OBRA EM CENTRO URBANO OU REGIÃO LIMÍTROFE COM VALOR ENTRE 1.000.000,01 E 3.000.000,00 | C34: % | D34: 0.3
A35: 8701 | B35: OBRA DISTANTE DE CENTRO URBANO
A36: ED-50391 | B36: MOBILIZAÇÃO E DESMOBILIZAÇÃO OBRA DISTANTE DE CENTRO URBANO COM ACIMA DE 3.000.000,01 | C36: % | D36: 1
A37: ED-50390 | B37: MOBILIZAÇÃO E DESMOBILIZAÇÃO OBRA DISTANTE DE CENTRO URBANO COM ENTRE 1.000.000,01 E 3.000.000,00 | C37: % | D37: 1.5
A38: ED-50389 | B38: MOBILIZAÇÃO E DESMOBILIZAÇÃO OBRA DISTANTE DE CENTRO URBANO COM VALOR ATÉ O VALOR DE 1.000.000,00 | C38: % | D38: 2
A39: 8663 | B39: SERVIÇOS PRELIMINARES
A40: 8702 | B40: LIMPEZA DO TERRENO
A41: ED-50701 | B41: CAPINA MANUAL DO TERRENO, EXCLUSIVE RASTELAMENTO E QUEIMA | C41: m2 | D41: 1.21
A42: ED-28163 | B42: DESTOCAMENTO E AFASTAMENTO DE REMANESCENTE ARBÓREO, INCLUSIVE TRANSPORTE E RETIRADA DO MATERIAL ESCAVADO (EM CAÇAMBA) | C42: un | D42: 427.31
A43: ED-50703 | B43: LIMPEZA DE TERRENO, INCLUSIVE CAPINA, RASTELAMENTO COM AFASTAMENTO ATÉ VINTE (20) METROS E QUEIMA CONTROLADA | C43: m2 | D43: 2.15
A44: ED-8143 | B44: RASTELAMENTO DE ÁREA COM AFASTAMENTO DE ATÉ VINTE (20) METROS, EXCLUSIVE CAPINA OU ROÇADA MANUAL | C44: m2 | D44: 0.81
A45: ED-28162 | B45: ROÇADA MANUAL DE TERRENO COM ROÇADEIRA COSTAL, EXCLUSIVE RASTELAMENTO E QUEIMA | C45: m2 | D45: 0.25
A46: 8703 | B46: DESMATAMENTO E DESTOCAMENTO
A47: ED-50702 | B47: DESMATAMENTO, DESTOCAMENTO E LIMPEZA, INCLUSIVE TRANSPORTE ATÉ CINQUENTA (50) METROS | C47: m2 | D47: 0.49
A48: 8704 | B48: SUPRESSÃO DE ÁRVORE
A49: ED-50699 | B49: CORTE DE ÁRVORE COM MOTOSSERRA, DIÂMETRO DO TRONCO ACIMA DE TRINTA (30) CENTÍMETROS ATÉ CINQUENTA (50) CENTÍMETROS, EXCLUSIVE DESTOCAMENTO E AFASTAMENTO | C49: un | D49: 85.19
A50: ED-50697 | B50: CORTE DE ÁRVORE COM MOTOSSERRA, DIÂMETRO DO TRONCO DE QUINZE (15) CENTÍMETROS ATÉ TRINTA (30) CENTÍMETROS, EXCLUSIVE DESTOCAMENTO E AFASTAMENTO | C50: un | D50: 51.12
A51: 8706 | B51: REMOÇÃO DE TELHADO
A52: ED-48438 | B52: REMOÇÃO DE CALHA EM CHAPA GALVANIZADA OU EM PVC, COM REAPROVEITAMENTO, INCLUSIVE AFASTAMENTO E EMPILHAMENTO, EXCLUSIVE TRANSPORTE E RETIRADA DO MATERIAL REMOVIDO NÃO REAPROVEITÁVEL | C52: m | D52: 4.19
A53: ED-48446 | B53: REMOÇÃO MANUAL DE CONDUTOR EM PVC OU METÁLICO, COM REAPROVEITAMENTO, INCLUSIVE AFASTAMENTO E EMPILHAMENTO, EXCLUSIVE TRANSPORTE E RETIRADA DO MATERIAL REMOVIDO NÃO REAPROVEITÁVEL | C53: m | D53: 5.03
A54: ED-48455 | B54: REMOÇÃO MANUAL DE ENGRADAMENTO PARA TELHA TIPO CALHA ESTRUTURAL EM FIBROCIMENTO, COM REAPROVEITAMENTO, INCLUSIVE AFASTAMENTO E EMPILHAMENTO, EXCLUSIVE TRANSPORTE E RETIRADA DO MATERIAL REMOVIDO NÃO REAPROVEITÁVEL | C54: m2 | D54: 10.01
A55: ED-48457 | B55: REMOÇÃO MANUAL DE ENGRADAMENTO PARA TELHA TIPO CERÂMICA OU CONCRETO, INCLUSIVE AFASTAMENTO E EMPILHAMENTO, EXCLUSIVE TRANSPORTE E RETIRADA DO MATERIAL REMOVIDO NÃO REAPROVEITÁVEL | C55: m2 | D55: 20.02
A56: ED-48454 | B56: REMOÇÃO MANUAL DE ENGRADAMENTO PARA TELHA TIPO METÁLICA, PVC OU FIBROCIMENTO, COM REAPROVEITAMENTO, INCLUSIVE AFASTAMENTO E EMPILHAMENTO, EXCLUSIVE TRANSPORTE E RETIRADA DO MATERIAL REMOVIDO NÃO REAPROVEITÁVEL | C56: m2 | D56: 13.35
A57: ED-48506 | B57: REMOÇÃO MANUAL DE RUFO METÁLICO, COM REAPROVEITAMENTO, INCLUSIVE AFASTAMENTO E EMPILHAMENTO, EXCLUSIVE TRANSPORTE E RETIRADA DO MATERIAL REMOVIDO NÃO REAPROVEITÁVEL | C57: m | D57: 6.16
A58: ED-48512 | B58: REMOÇÃO MANUAL DE TELHA EM FIBROCIMENTO, TIPO ONDULADA, COM REAPROVEITAMENTO, INCLUSIVE AFASTAMENTO E EMPILHAMENTO, EXCLUSIVE TRANSPORTE E RETIRADA DO MATERIAL REMOVIDO NÃO REAPROVEITÁVEL | C58: m2 | D58: 11.44
A59: ED-48514 | B59: REMOÇÃO MANUAL DE TELHA CERÂMICA, COM REAPROVEITAMENTO, INCLUSIVE AFASTAMENTO E EMPILHAMENTO, EXCLUSIVE TRANSPORTE E RETIRADA DO MATERIAL REMOVIDO NÃO REAPROVEITÁVEL | C59: m2 | D59: 21.75
A60: ED-48510 | B60: REMOÇÃO MANUAL DE TELHA EM FIBROCIMENTO, TIPO CALHA ESTRUTURAL, COM REAPROVEITAMENTO, INCLUSIVE IÇAMENTO, AFASTAMENTO E EMPILHAMENTO, EXCLUSIVE TRANSPORTE E RETIRADA DO MATERIAL REMOVIDO NÃO REAPROVEITÁVEL | C60: m2 | D60: 22.75
A61: ED-48509 | B61: REMOÇÃO MANUAL DE TELHA METÁLICA OU PVC, COM REAPROVEITAMENTO, INCLUSIVE AFASTAMENTO E EMPILHAMENTO, EXCLUSIVE TRANSPORTE E RETIRADA DO MATERIAL REMOVIDO NÃO REAPROVEITÁVEL | C61: m2 | D61: 8.01
A62: 8707 | B62: DEMOLIÇÃO E REMOÇÃO DE INSTALAÇÃO
A63: ED-48500 | B63: DEMOLIÇÃO MANUAL DE TUBULAÇÕES EMBUTIDAS DE REDE (ÁGUA, ELÉTRICA, GASES, ETC.), INCLUSIVE RASGO EM ALVENARIA, REMOÇÃO DE ACESSÓRIOS DE FIXAÇÃO, AFASTAMENTO E EMPILHAMENTO, EXCLUSIVE TRANSPORTE E RETIRADA DO MATERIAL DEMOLIDO | C63: m | D63: 7.54
A64: ED-48466 | B64: REMOÇÃO MANUAL DE INTERFONE, COM REAPROVEITAMENTO, INCLUSIVE AFASTAMENTO E EMPILHAMENTO, EXCLUSIVE TRANSPORTE E RETIRADA DO MATERIAL REMOVIDO NÃO REAPROVEITÁVEL | C64: un | D64: 39.24
...
