Workbook
Name _AA100000: #REF!
Name _AA100000: #REF!
Name _Fill: #REF!
Name _Fill: #REF!
Name _LOC10: #REF!
Name _LOC10: #REF!
Name _LOC11: #REF!
Name _LOC11: #REF!
Name _LOC12: #REF!
Name _LOC12: #REF!
Name _LOC13: #REF!
Name _LOC14: #REF!
Name _LOC15: #REF!
Name _LOC16: #REF!
Name _LOC17: #REF!
Name _LOC18: #REF!
Name _LOC19: #REF!
Name _LOC2: #REF!
Name _LOC20: #REF!
Name _LOC21: #REF!
Name _LOC22: #REF!
Name _LOC23: #REF!
Name _LOC24: #REF!
Name _LOC25: #REF!
Name _LOC26: #REF!
Name _LOC27: #REF!
Name _LOC28: #REF!
Name _LOC29: #REF!
Name _LOC3: #REF!
Name _LOC30: #REF!
Name _LOC31: #REF!
Name _LOC32: #REF!
Name _LOC33: #REF!
Name _LOC34: #REF!
Name _LOC35: #REF!
Name _LOC36: #REF!
Name _LOC37: #REF!
Name _LOC38: #REF!
Name _LOC39: #REF!
Name _LOC4: #REF!
Name _LOC40: #REF!
Name _LOC41: #REF!
Name _LOC42: #REF!
Name _LOC5: #REF!
Name _LOC6: #REF!
Name _LOC7: #REF!
Name _LOC8: #REF!
Name _LOC9: #REF!
Name _R: #REF!
Name AAA: #REF!
Name AC: #REF!
Name AL: #REF!
Name Área_impressão_IM: #REF!
Name Área_impressão_IM: #REF!
Name B.01.05.10.10: #REF!
Name B.01.05.10.10: #REF!
Name CD: #REF!
Name CD: #REF!
Name CP: #REF!
Name CS: #REF!

Sheet ORC. A LICITAR
B1: 9
A2: PLANILHA DE ORÇAMENTO SINTÉTICO
I3: BDI | J3: ='DADOS GERAIS'!$B$22 -> Data:
A4: OBRA: | B4: Unidade Básica de Saúde - Porte 1 - UBS Leandro Ferreira | I4: ='BDI DESONERADO'!E35 -> 0.24518701 | J4: 45709
A6: ENDEREÇO: Rua Valentin Alves de Gois, S/N, Altino Quirino, Leandro Ferreira
A8: BANCOS: | B8: SBC (05/24), SBC (02/25), SBC (12/24), ORSE (12/24), SINAPI (01/25), SETOP (10/24), SICRO (10/24), IOPES (11/24), CPOS (11/24)
A10: ITEM | B10: CÓDIGO | C10: BANCO | D10: DESCRIÇÃO | E10: UND | F10: QUANT. | G10: VALOR UNIT | H10: VALOR UNIT C/BDI | I10: VALOR TOTAL | J10: Peso (%) | L10: BDI | M10: BDI TOTAL | N10: TOTAL SEM BDI
A12: 1 | D12: SERVIÇOS PRELIMINARES E INDIRETOS | I12: =SUM(I14:I18) -> 32741.83 | J12: =I12/$I$447 -> 0.016266761 | K12: =SUM(I12:I442) -> 4025611.4
A13: 1.1 | D13: CANTEIRO DE OBRAS | K13: =K12-I12-I19-I36-I66-I81-I91-I94-I125-I132-I140-I143-I149-I161-I163-I189-I304-I397-I411-I420-I432-I441 -> 2012805.7 | O13: =SUM(O14:O18) -> 32741.83
A14: 1.1.1 | B14: 95648 | C14: SINAPI | D14: KIT CAVALETE PARA MEDIÇÃO DE ÁGUA - ENTRADA INDIVIDUALIZADA, EM CPVC DN 28 MM (1"), PARA 1 MEDIDOR - FORNECIMENTO E INSTALAÇÃO (EXCLUSIVE HIDRÔMETRO). AF_03/2024 | E14: UN | F14: 1 | G14: 613.37 | H14: =TRUNC(G14+(G14*$I$4),2) -> 763.76 | I14: =TRUNC(H14*F14,2) -> 763.76 | J14: =I14/$I$447 -> 0.00037945044 | L14: =TRUNC(G14*$I$4,2) -> 150.39 | M14: =F14*L14 -> 150.39 | N14: =F14*G14 -> 613.37 | O14: =TRUNC(N14+M14,2) -> 763.76 | P14: =I14-O14 -> 0 | S14: =F14*G14 -> 613.37
A15: 1.1.2 | B15: 101509 | C15: SINAPI | D15: ENTRADA DE ENERGIA ELÉTRICA, AÉREA, TRIFÁSICA, COM CAIXA DE EMBUTIR, CABO DE 10 MM2 E DISJUNTOR DIN 50A (NÃO INCLUSO O POSTE DE CONCRETO). AF_07/2020_PS | E15: UN | F15: 1 | G15: 1967.73 | H15: =TRUNC(G15+(G15*$I$4),2) -> 2450.19 | I15: =TRUNC(H15*F15,2) -> 2450.19 | J15: =I15/$I$447 -> 0.0012173008 | L15: =TRUNC(G15*$I$4,2) -> 482.46 | M15: =F15*L15 -> 482.46 | N15: =F15*G15 -> 1967.73 | O15: =TRUNC(N15+M15,2) -> 2450.19 | P15: =I15-O15 -> 0 | S15: =F15*G15 -> 1967.73
A16: 1.1.3 | B16: 103689 | C16: SINAPI | D16: FORNECIMENTO E INSTALAÇÃO DE PLACA DE OBRA COM CHAPA GALVANIZADA E ESTRUTURA DE MADEIRA. AF_03/2022_PS | E16: M² | F16: 6 | G16: 498.89 | H16: =TRUNC(G16+(G16*$I$4),2) -> 621.21 | I16: =TRUNC(H16*F16,2) -> 3727.26 | J16: =I16/$I$447 -> 0.0018517734 | L16: =TRUNC(G16*$I$4,2) -> 122.32 | M16: =F16*L16 -> 733.92 | N16: =F16*G16 -> 2993.34 | O16: =TRUNC(N16+M16,2) -> 3727.26 | P16: =I16-O16 -> 0 | S16: =F16*G16 -> 2993.34
A17: 1.2 | D17: ADMINISTRAÇÃO LOCAL DA OBRA | L17: =TRUNC(G17*$I$4,2) -> 0 | M17: =F17*L17 -> 0 | N17: =F17*G17 -> 0 | O17: =TRUNC(N17+M17,2) -> 0 | P17: =I17-O17 -> 0 | S17: =F17*G17 -> 0
A18: 1.2.1 | B18: 93565 | C18: SINAPI | D18: ENGENHEIRO CIVIL DE OBRA JUNIOR COM ENCARGOS COMPLEMENTARES | E18: UN | F18: 1 | G18: 20720.28 | H18: =TRUNC(G18+(G18*$I$4),2) -> 25800.62 | I18: =TRUNC(H18*F18,2) -> 25800.62 | J18: =I18/$I$447 -> 0.012818237 | L18: =TRUNC(G18*$I$4,2) -> 5080.34 | M18: =F18*L18 -> 5080.34 | N18: =F18*G18 -> 20720.28 | O18: =TRUNC(N18+M18,2) -> 25800.62 | P18: =I18-O18 -> 0 | S18: =F18*G18 -> 20720.28
A19: 2 | D19: FUNDAÇÃO | I19: =SUM(I20:I35) -> 218124.07 | J19: =I19/$I$447 -> 0.10836817 | L19: =TRUNC(G19*$I$4,2) -> 0 | M19: =F19*L19 -> 0 | N19: =F19*G19 -> 0 | O19: =SUM(O20:O35) -> 218124.07 | P19: =I19-O19 -> 0 | S19: =F19*G19 -> 0
A20: 2.1 | B20: 99059 | C20: SINAPI | D20: LOCAÇÃO CONVENCIONAL DE OBRA, UTILIZANDO GABARITO DE TÁBUAS CORRIDAS PONTALETADAS A CADA 2,00M - 2 UTILIZAÇÕES. AF_03/2024 | E20: M | F20: 125 | G20: 69.89 | H20: =TRUNC(G20+(G20*$I$4),2) -> 87.02 | I20: =TRUNC(H20*F20,2) -> 10877.5 | J20: =I20/$I$447 -> 0.0054041481 | L20: =TRUNC(G20*$I$4,2) -> 17.13 | M20: =F20*L20 -> 2141.25 | N20: =F20*G20 -> 8736.25 | O20: =TRUNC(N20+M20,2) -> 10877.5 | P20: =I20-O20 -> 0 | S20: =F20*G20 -> 8736.25
A21: 2.2 | B21: 90100 | C21: SINAPI | D21: ESCAVAÇÃO MECANIZADA DE VALA COM PROF. ATÉ 1,5 M (MÉDIA MONTANTE E JUSANTE/UMA COMPOSIÇÃO POR TRECHO), RETROESCAV. (0,26 M3), LARG. DE 0,8 M A 1,5 M, EM SOLO DE 1A CATEGORIA, EM LOCAIS COM ALTO NÍVEL DE INTERFERÊNCIA. AF_02/2021 | E21: M³ | F21: 203.88 | G21: 13.56 | H21: =TRUNC(G21+(G21*$I$4),2) -> 16.88 | I21: =TRUNC(H21*F21,2) -> 3441.49 | J21: =I21/$I$447 -> 0.0017097974 | L21: =TRUNC(G21*$I$4,2) -> 3.32 | M21: =F21*L21 -> 676.8816 | N21: =F21*G21 -> 2764.6128 | O21: =TRUNC(N21+M21,2) -> 3441.49 | P21: =I21-O21 -> 0 | S21: =F21*G21 -> 2764.6128
A22: 2.3 | B22: 93358 | C22: SINAPI | D22: ESCAVAÇÃO MANUAL DE VALA COM PROFUNDIDADE MENOR OU IGUAL A 1,30 M. AF_02/2021 | E22: M³ | F22: 23.342 | G22: 82.75 | H22: =TRUNC(G22+(G22*$I$4),2) -> 103.03 | I22: =TRUNC(H22*F22,2) -> 2404.92 | J22: =I22/$I$447 -> 0.0011948098 | L22: =TRUNC(G22*$I$4,2) -> 20.28 | M22: =F22*L22 -> 473.37576 | N22: =F22*G22 -> 1931.5505 | O22: =TRUNC(N22+M22,2) -> 2404.92 | P22: =I22-O22 -> 0 | S22: =F22*G22 -> 1931.5505
A23: 2.4 | B23: 100324 | C23: SINAPI | D23: LASTRO COM MATERIAL GRANULAR (PEDRA BRITADA N.1 E PEDRA BRITADA N.2), APLICADO EM PISOS OU LAJES SOBRE SOLO, ESPESSURA DE *10 CM*. AF_01/2024 | E23: M³ | F23: 36.186 | G23: 212.93 | H23: =TRUNC(G23+(G23*$I$4),2) -> 265.13 | I23: =TRUNC(H23*F23,2) -> 9593.99 | J23: =I23/$I$447 -> 0.004766476 | L23: =TRUNC(G23*$I$4,2) -> 52.2 | M23: =F23*L23 -> 1888.9092 | N23: =F23*G23 -> 7705.085 | O23: =TRUNC(N23+M23,2) -> 9593.99 | P23: =I23-O23 -> 0 | S23: =F23*G23 -> 7705.085
A24: 2.5 | B24: 96534 | C24: SINAPI | D24: FABRICAÇÃO, MONTAGEM E DESMONTAGEM DE FÔRMA PARA BLOCO DE COROAMENTO, EM MADEIRA SERRADA, E=25 MM, 4 UTILIZAÇÕES. AF_01/2024 | E24: M² | F24: 392.1 | G24: 78.18 | H24: =TRUNC(G24+(G24*$I$4),2) -> 97.34 | I24: =TRUNC(H24*F24,2) -> 38167.01 | J24: =I24/$I$447 -> 0.018962094 | L24: =TRUNC(G24*$I$4,2) -> 19.16 | M24: =F24*L24 -> 7512.636 | N24: =F24*G24 -> 30654.378 | O24: =TRUNC(N24+M24,2) -> 38167.01 | P24: =I24-O24 -> 0 | S24: =F24*G24 -> 30654.378
A25: 2.6 | B25: 96543 | C25: SINAPI | D25: ARMAÇÃO DE BLOCO UTILIZANDO AÇO CA-60 DE 5 MM - MONTAGEM. AF_01/2024 | E25: KG | F25: 440.3 | G25: 19.93 | H25: =TRUNC(G25+(G25*$I$4),2) -> 24.81 | I25: =TRUNC(H25*F25,2) -> 10923.84 | J25: =I25/$I$447 -> 0.0054271706 | L25: =TRUNC(G25*$I$4,2) -> 4.88 | M25: =F25*L25 -> 2148.664 | N25: =F25*G25 -> 8775.179 | O25: =TRUNC(N25+M25,2) -> 10923.84 | P25: =I25-O25 -> 0 | S25: =F25*G25 -> 8775.179
A26: 2.7 | B26: 96544 | C26: SINAPI | D26: ARMAÇÃO DE BLOCO UTILIZANDO AÇO CA-50 DE 6,3 MM - MONTAGEM. AF_01/2024 | E26: KG | F26: 139.1 | G26: 17.81 | H26: =TRUNC(G26+(G26*$I$4),2) -> 22.17 | I26: =TRUNC(H26*F26,2) -> 3083.84 | J26: =I26/$I$447 -> 0.0015321101 | L26: =TRUNC(G26*$I$4,2) -> 4.36 | M26: =F26*L26 -> 606.476 | N26: =F26*G26 -> 2477.371 | O26: =TRUNC(N26+M26,2) -> 3083.84 | P26: =I26-O26 -> 0 | S26: =F26*G26 -> 2477.371
A27: 2.8 | B27: 96545 | C27: SINAPI | D27: ARMAÇÃO DE BLOCO UTILIZANDO AÇO CA-50 DE 8 MM - MONTAGEM. AF_01/2024 | E27: KG | F27: 1010.5 | G27: 15.93 | H27: =TRUNC(G27+(G27*$I$4),2) -> 19.83 | I27: =TRUNC(H27*F27,2) -> 20038.21 | J27: =I27/$I$447 -> 0.0099553623 | L27: =TRUNC(G27*$I$4,2) -> 3.9 | M27: =F27*L27 -> 3940.95 | N27: =F27*G27 -> 16097.265 | O27: =TRUNC(N27+M27,2) -> 20038.21 | P27: =I27-O27 -> 0 | S27: =F27*G27 -> 16097.265
A28: 2.9 | B28: 96546 | C28: SINAPI | D28: ARMAÇÃO DE BLOCO UTILIZANDO AÇO CA-50 DE 10 MM - MONTAGEM. AF_01/2024 | E28: KG | F28: 650 | G28: 13.89 | H28: =TRUNC(G28+(G28*$I$4),2) -> 17.29 | I28: =TRUNC(H28*F28,2) -> 11238.5 | J28: =I28/$I$447 -> 0.0055834997 | L28: =TRUNC(G28*$I$4,2) -> 3.4 | M28: =F28*L28 -> 2210 | N28: =F28*G28 -> 9028.5 | O28: =TRUNC(N28+M28,2) -> 11238.5 | P28: =I28-O28 -> 0 | S28: =F28*G28 -> 9028.5
A29: 2.10 | B29: 104920 | C29: SINAPI | D29: ARMAÇÃO DE BLOCO, SAPATA ISOLADA, VIGA BALDRAME E SAPATA CORRIDA UTILIZANDO AÇO CA-50 DE 12,5 MM - MONTAGEM. AF_01/2024 | E29: KG | F29: 724.4 | G29: 10.63 | H29: =TRUNC(G29+(G29*$I$4),2) -> 13.23 | I29: =TRUNC(H29*F29,2) -> 9583.81 | J29: =I29/$I$447 -> 0.0047614184 | L29: =TRUNC(G29*$I$4,2) -> 2.6 | M29: =F29*L29 -> 1883.44 | N29: =F29*G29 -> 7700.372 | O29: =TRUNC(N29+M29,2) -> 9583.81 | P29: =I29-O29 -> 0 | S29: =F29*G29 -> 7700.372
A30: 2.11 | B30: 104921 | C30: SINAPI | D30: ARMAÇÃO DE BLOCO, SAPATA ISOLADA, VIGA BALDRAME E SAPATA CORRIDA UTILIZANDO AÇO CA-50 DE 16 MM - MONTAGEM. AF_01/2024 | E30: KG | F30: 655.8 | G30: 9.99 | H30: =TRUNC(G30+(G30*$I$4),2) -> 12.43 | I30: =TRUNC(H30*F30,2) -> 8151.59 | J30: =I30/$I$447 -> 0.0040498643 | L30: =TRUNC(G30*$I$4,2) -> 2.44 | M30: =F30*L30 -> 1600.152 | N30: =F30*G30 -> 6551.442 | O30: =TRUNC(N30+M30,2) -> 8151.59 | P30: =I30-O30 -> 0 | S30: =F30*G30 -> 6551.442
A31: 2.12 | B31: 96557 | C31: SINAPI | D31: CONCRETAGEM DE BLOCO DE COROAMENTO OU VIGA BALDRAME, FCK 30 MPA, COM USO DE BOMBA - LANÇAMENTO, ADENSAMENTO E ACABAMENTO. AF_01/2024 | E31: M³ | F31: 56.9 | G31: 796.88 | H31: =TRUNC(G31+(G31*$I$4),2) -> 992.26 | I31: =TRUNC(H31*F31,2) -> 56459.59 | J31: =I31/$I$447 -> 0.028050194 | L31: =TRUNC(G31*$I$4,2) -> 195.38 | M31: =F31*L31 -> 11117.122 | N31: =F31*G31 -> 45342.472 | O31: =TRUNC(N31+M31,2) -> 56459.59 | P31: =I31-O31 -> 0 | S31: =F31*G31 -> 45342.472
... A35: 2.16 | B35: 000128 | C35: SBC | D35: CONTROLE TECNOLOGICO DE CONCRETOS | E35: M³ | F35: 56.9 | G35: 92.3 | H35: =TRUNC(G35+(G35*$I$4),2) -> 114.93 | I35: =TRUNC(H35*F35,2) -> 6539.51 | J35: =I35/$I$447 -> 0.0032489524 | L35: =TRUNC(G35*$I$4,2) -> 22.63 | M35: =F35*L35 -> 1287.647 | N35: =F35*G35 -> 5251.87 | O35: =TRUNC(N35+M35,2) -> 6539.51 | P35: =I35-O35 -> 0 | S35: =F35*G35 -> 5251.87
A36: 3 | D36: ESTRUTURA | I36: =SUM(I38:I65) -> 289726.94 | J36: =I36/$I$447 -> 0.14394183 | L36: =TRUNC(G36*$I$4,2) -> 0 | M36: =F36*L36 -> 0 | N36: =F36*G36 -> 0 | O36: =TRUNC(N36+M36,2) -> 0 | P36: =I36-O36 -> 289726.94 | S36: =F36*G36 -> 0
A37: 3.1 | D37: PILARES | L37: =TRUNC(G37*$I$4,2) -> 0 | M37: =F37*L37 -> 0 | N37: =F37*G37 -> 0 | O37: =TRUNC(N37+M37,2) -> 0 | P37: =I37-O37 -> 0 | S37: =F37*G37 -> 0
A38: 3.1.1 | B38: 92423 | C38: SINAPI | D38: MONTAGEM E DESMONTAGEM DE FÔRMA DE PILARES RETANGULARES E ESTRUTURAS SIMILARES, PÉ-DIREITO SIMPLES, EM CHAPA DE MADEIRA COMPENSADA RESINADA, 6 UTILIZAÇÕES. AF_09/2020 | E38: M² | F38: 283 | G38: 71.95 | H38: =TRUNC(G38+(G38*$I$4),2) -> 89.59 | I38: =TRUNC(H38*F38,2) -> 25353.97 | J38: =I38/$I$447 -> 0.012596333 | L38: =TRUNC(G38*$I$4,2) -> 17.64 | M38: =F38*L38 -> 4992.12 | N38: =F38*G38 -> 20361.85 | O38: =TRUNC(N38+M38,2) -> 25353.97 | P38: =I38-O38 -> 0 | S38: =F38*G38 -> 20361.85
A39: 3.1.2 | B39: 92762 | C39: SINAPI | D39: ARMAÇÃO DE PILAR OU VIGA DE ESTRUTURA CONVENCIONAL DE CONCRETO ARMADO UTILIZANDO AÇO CA-50 DE 10,0 MM - MONTAGEM. AF_06/2022 | E39: KG | F39: 680.7 | G39: 10.85 | H39: =TRUNC(G39+(G39*$I$4),2) -> 13.51 | I39: =TRUNC(H39*F39,2) -> 9196.25 | J39: =I39/$I$447 -> 0.0045688712 | L39: =TRUNC(G39*$I$4,2) -> 2.66 | M39: =F39*L39 -> 1810.662 | N39: =F39*G39 -> 7385.595 | O39: =TRUNC(N39+M39,2) -> 9196.25 | P39: =I39-O39 -> 0 | S39: =F39*G39 -> 7385.595
A40: 3.1.3 | B40: 92763 | C40: SINAPI | D40: ARMAÇÃO DE PILAR OU VIGA DE ESTRUTURA CONVENCIONAL DE CONCRETO ARMADO UTILIZANDO AÇO CA-50 DE 12,5 MM - MONTAGEM. AF_06/2022 | E40: KG | F40: 214.4 | G40: 9.08 | H40: =TRUNC(G40+(G40*$I$4),2) -> 11.3 | I40: =TRUNC(H40*F40,2) -> 2422.72 | J40: =I40/$I$447 -> 0.0012036532 | L40: =TRUNC(G40*$I$4,2) -> 2.22 | M40: =F40*L40 -> 475.968 | N40: =F40*G40 -> 1946.752 | O40: =TRUNC(N40+M40,2) -> 2422.72 | P40: =I40-O40 -> 0 | S40: =F40*G40 -> 1946.752
A41: 3.1.4 | B41: 92764 | C41: SINAPI | D41: ARMAÇÃO DE PILAR OU VIGA DE ESTRUTURA CONVENCIONAL DE CONCRETO ARMADO UTILIZANDO AÇO CA-50 DE 16,0 MM - MONTAGEM. AF_06/2022 | E41: KG | F41: 145 | G41: 8.78 | H41: =TRUNC(G41+(G41*$I$4),2) -> 10.93 | I41: =TRUNC(H41*F41,2) -> 1584.85 | J41: =I41/$I$447 -> 0.0007873835 | L41: =TRUNC(G41*$I$4,2) -> 2.15 | M41: =F41*L41 -> 311.75 | N41: =F41*G41 -> 1273.1 | O41: =TRUNC(N41+M41,2) -> 1584.85 | P41: =I41-O41 -> 0 | S41: =F41*G41 -> 1273.1
A42: 3.1.5 | B42: 92759 | C42: SINAPI | D42: ARMAÇÃO DE PILAR OU VIGA DE ESTRUTURA CONVENCIONAL DE CONCRETO ARMADO UTILIZANDO AÇO CA-60 DE 5,0 MM - MONTAGEM. AF_06/2022 | E42: KG | F42: 403.7 | G42: 13.99 | H42: =TRUNC(G42+(G42*$I$4),2) -> 17.42 | I42: =TRUNC(H42*F42,2) -> 7032.45 | J42: =I42/$I$447 -> 0.0034938544 | L42: =TRUNC(G42*$I$4,2) -> 3.43 | M42: =F42*L42 -> 1384.691 | N42: =F42*G42 -> 5647.763 | O42: =TRUNC(N42+M42,2) -> 7032.45 | P42: =I42-O42 -> 0 | S42: =F42*G42 -> 5647.763
A43: 3.1.6 | B43: CPU2284 | C43: Próprio | D43: CONCRETAGEM DE PILARES, FCK = 30 MPA, COM USO DE BOMBA - LANÇAMENTO, ADENSAMENTO E ACABAMENTO. AF_02/2022_PS | E43: M³ | F43: 18.6 | G43: =COMPOSIÇÃO!L17 -> 737.56 | H43: =TRUNC(G43+(G43*$I$4),2) -> 918.4 | I43: =TRUNC(H43*F43,2) -> 17082.24 | J43: =I43/$I$447 -> 0.0084867804 | L43: =TRUNC(G43*$I$4,2) -> 180.84 | M43: =F43*L43 -> 3363.624 | N43: =F43*G43 -> 13718.616 | O43: =TRUNC(N43+M43,2) -> 17082.24 | P43: =I43-O43 -> 0 | S43: =F43*G43 -> 13718.616
A44: 3.1.7 | B44: 000128 | C44: SBC | D44: CONTROLE TECNOLOGICO DE CONCRETOS | E44: M³ | F44: 18.6 | G44: 92.3 | H44: =TRUNC(G44+(G44*$I$4),2) -> 114.93 | I44: =TRUNC(H44*F44,2) -> 2137.69 | J44: =I44/$I$447 -> 0.0010620449 | L44: =TRUNC(G44*$I$4,2) -> 22.63 | M44: =F44*L44 -> 420.918 | N44: =F44*G44 -> 1716.78 | O44: =TRUNC(N44+M44,2) -> 2137.69 | P44: =I44-O44 -> 0 | S44: =F44*G44 -> 1716.78
A45: 3.2 | D45: VIGAS | L45: =TRUNC(G45*$I$4,2) -> 0 | M45: =F45*L45 -> 0 | N45: =F45*G45 -> 0 | O45: =TRUNC(N45+M45,2) -> 0 | P45: =I45-O45 -> 0 | S45: =F45*G45 -> 0
A46: 3.2.1 | B46: 92460 | C46: SINAPI | D46: MONTAGEM E DESMONTAGEM DE FÔRMA DE VIGA, ESCORAMENTO METÁLICO, PÉ-DIREITO SIMPLES, EM CHAPA DE MADEIRA RESINADA, 6 UTILIZAÇÕES. AF_09/2020 | E46: M² | F46: 292 | G46: 124.5 | H46: =TRUNC(G46+(G46*$I$4),2) -> 155.02 | I46: =TRUNC(H46*F46,2) -> 45265.84 | J46: =I46/$I$447 -> 0.022488927 | L46: =TRUNC(G46*$I$4,2) -> 30.52 | M46: =F46*L46 -> 8911.84 | N46: =F46*G46 -> 36354 | O46: =TRUNC(N46+M46,2) -> 45265.84 | P46: =I46-O46 -> 0 | S46: =F46*G46 -> 36354
A47: 3.2.2 | B47: 92760 | C47: SINAPI | D47: ARMAÇÃO DE PILAR OU VIGA DE ESTRUTURA CONVENCIONAL DE CONCRETO ARMADO UTILIZANDO AÇO CA-50 DE 6,3 MM - MONTAGEM. AF_06/2022 | E47: KG | F47: 403.8 | G47: 13.09 | H47: =TRUNC(G47+(G47*$I$4),2) -> 16.29 | I47: =TRUNC(H47*F47,2) -> 6577.9 | J47: =I47/$I$447 -> 0.0032680253 | L47: =TRUNC(G47*$I$4,2) -> 3.2 | M47: =F47*L47 -> 1292.16 | N47: =F47*G47 -> 5285.742 | O47: =TRUNC(N47+M47,2) -> 6577.9 | P47: =I47-O47 -> 0 | S47: =F47*G47 -> 5285.742
...

Sheet DADOS GERAIS
B2: DADOS GERAIS
B8: Secretaria de Atenção Especializada à Saúde
B9: =C15 -> Unidade Básica de Saúde Porte 1 - Área Construída: 389,78m²
B11: Bancos:
B12: SINAPI (03/2024) - CPOS/CDHU (03/2024) - SBC (03/2024) - ORSE (03/2024) - IOPES (03/2024) - EMOP (03/2024)
B15: Obra: | C15: Unidade Básica de Saúde Porte 1 - Área Construída: 389,78m²
B16: Local: | C16: Ministério da Saúde - Departamento de Estratégias e Políticas de Saúde Comunitária
B17: Região: | C17: SP
B18: Data Base: | C18: 45352
B19: BDI Geral (%): | C19: ='BDI DESONERADO'!E35 -> 0.24518701
B20: BDI Equipamentos (%): | C20: ='BDI DESONERADO'!F35 -> 0.16857591
B21: Área construída (m²): | C21: 389.78
B22: Data: | C22: 30/08/2024
B23: Revisão: | C23: 03
B24: Responsável Técnico pelo Orçamento: | C24: Thaís Ferreira Pellaquim
B25: Cargo Responsável Técnico: | C25: Engenheira Civil - CREA MG 247749/D
B31: ________________________________________________________________________________
B32: =C24 -> Thaís Ferreira Pellaquim
B33: =C25 -> Engenheira Civil - CREA MG 247749/D

Sheet CRONOGRAMA
A2: CRONOGRAMA FÍSICO/FINANCEIRO
A3: OBRA: | B3: Unidade Básica de Saúde - Porte 1 - UBS Leandro Ferreira
A4: ENDEREÇO: Rua Valentin Alves de Gois, S/N, Altino Quirino, Leandro Ferreira
A5: ITEM | B5: DESCRIÇÃO | C5: % | D5: 1º MÊS | E5: 2º MÊS | F5: 3º MÊS | G5: 4º MÊS | H5: 5º MÊS | I5: 6º MÊS | J5: 7º MÊS | K5: 8º MÊS | L5: 9º MÊS | M5: 10º MÊS | N5: 11º MÊS | O5: 12º MÊS | P5: TOTAL
A6: 1 | B6: ='ORC. A LICITAR'!D12 -> SERVIÇOS PRELIMINARES E INDIRETOS | C6: ='ORC. A LICITAR'!J12 -> 0.016266761 | D6: =D7/C7 -> 0.27766504 | E6: =E7/C7 -> 0.065666814 | F6: =E6 -> 0.065666814 | G6: =F6 -> 0.065666814 | H6: =G6 -> 0.065666814 | I6: =H6 -> 0.065666814 | J6: =I6 -> 0.065666814 | K6: =J6 -> 0.065666814 | L6: =K6 -> 0.065666814 | M6: =L6 -> 0.065666814 | ... O6: =N6 -> 0.065666814 | P6: =SUM(D6:O6) -> 1
C7: ='ORC. A LICITAR'!I12 -> 32741.83 | D7: =('ORC. A LICITAR'!I16+'ORC. A LICITAR'!I15+'ORC. A LICITAR'!I14)+('ORC. A LICITAR'!I18/12) -> 9091.2617 | E7: ='ORC. A LICITAR'!I18/12 -> 2150.0517 | F7: =E7 -> 2150.0517 | G7: =F7 -> 2150.0517 | H7: =G7 -> 2150.0517 | I7: =H7 -> 2150.0517 | J7: =I7 -> 2150.0517 | K7: =J7 -> 2150.0517 | L7: =K7 -> 2150.0517 | M7: =L7 -> 2150.0517 | ... O7: =N7 -> 2150.0517 | P7: =SUM(D7:O7) -> 32741.83
A8: 2 | B8: ='ORC. A LICITAR'!D19 -> FUNDAÇÃO | C8: ='ORC. A LICITAR'!J19 -> 0.10836817 | D8: 0.9 | E8: 0.1 | P8: =SUM(D8:O8) -> 1
C9: ='ORC. A LICITAR'!I19 -> 218124.07 | D9: =D8*C9 -> 196311.66 | E9: =E8*C9 -> 21812.407 | P9: =SUM(D9:O9) -> 218124.07
A10: 3 | B10: ='ORC. A LICITAR'!D36 -> ESTRUTURA | C10: ='ORC. A LICITAR'!J36 -> 0.14394183 | D10: 0.05 | E10: 0.1 | F10: 0.25 | G10: 0.25 | H10: 0.35 | P10: =SUM(D10:O10) -> 1
C11: ='ORC. A LICITAR'!I36 -> 289726.94 | D11: =D10*C11 -> 14486.347 | E11: =E10*C11 -> 28972.694 | F11: =F10*C11 -> 72431.735 | G11: =G10*C11 -> 72431.735 | H11: =H10*C11 -> 101404.43 | P11: =SUM(D11:O11) -> 289726.94
A12: 4 | B12: ='ORC. A LICITAR'!D66 -> ALVENARIA, VEDAÇÕES E DIVISÓRIAS | C12: ='ORC. A LICITAR'!J66 -> 0.091326262 | E12: 0.05 | F12: 0.2 | G12: 0.3 | H12: 0.15 | I12: 0.1 | K12: 0.1 | L12: 0.1 | P12: =SUM(D12:O12) -> 1
C13: ='ORC. A LICITAR'!I66 -> 183822.02 | E13: =E12*C13 -> 9191.101 | F13: =F12*C13 -> 36764.404 | G13: =G12*C13 -> 55146.606 | H13: =H12*C13 -> 27573.303 | I13: =I12*C13 -> 18382.202 | K13: =K12*C13 -> 18382.202 | L13: =L12*C13 -> 18382.202 | P13: =SUM(D13:O13) -> 183822.02
A14: 5 | B14: ='ORC. A LICITAR'!D81 -> COBERTURA | C14: ='ORC. A LICITAR'!J81 -> 0.054347581 | I14: 0.5 | J14: 0.5 | P14: =SUM(D14:O14) -> 1
C15: ='ORC. A LICITAR'!I81 -> 109391.12 | I15: =I14*C15 -> 54695.56 | J15: =J14*C15 -> 54695.56 | P15: =SUM(D15:O15) -> 109391.12
A16: 6 | B16: ='ORC. A LICITAR'!D91 -> IMPERMEABILIZAÇÃO | C16: ='ORC. A LICITAR'!J91 -> 0.0067998019 | J16: 1 | P16: =SUM(D16:O16) -> 1
C17: ='ORC. A LICITAR'!I91 -> 13686.68 | J17: =J16*C17 -> 13686.68 | P17: =SUM(D17:O17) -> 13686.68
A18: 7 | B18: ='ORC. A LICITAR'!D94 -> ESQUADRIAS | C18: ='ORC. A LICITAR'!J94 -> 0.10792924 | K18: 0.2 | L18: 0.2 | M18: 0.2 | N18: 0.2 | O18: 0.2 | P18: =SUM(D18:O18) -> 1
C19: ='ORC. A LICITAR'!I94 -> 217240.59 | K19: =K18*C19 -> 43448.118 | L19: =L18*C19 -> 43448.118 | M19: =M18*C19 -> 43448.118 | N19: =N18*C19 -> 43448.118 | O19: =O18*C19 -> 43448.118 | P19: =SUM(D19:O19) -> 217240.59
A20: 8 | B20: ='ORC. A LICITAR'!D125 -> REVESTIMENTO DE PAREDE | C20: ='ORC. A LICITAR'!J125 -> 0.034378947 | I20: 0.3 | J20: 0.7 | P20: =SUM(D20:O20) -> 1
C21: ='ORC. A LICITAR'!I125 -> 69198.14 | I21: =I20*C21 -> 20759.442 | J21: =J20*C21 -> 48438.698 | P21: =SUM(D21:O21) -> 69198.14
A22: 9 | B22: ='ORC. A LICITAR'!D132 -> REVESTIMENTO DE PISO INTERNO | C22: ='ORC. A LICITAR'!J132 -> 0.052869023 | E22: 0.8 | F22: 0.2 | P22: =SUM(D22:O22) -> 1
C23: ='ORC. A LICITAR'!I132 -> 106415.07 | E23: =E22*C23 -> 85132.056 | F23: =F22*C23 -> 21283.014 | P23: =SUM(D23:O23) -> 106415.07
A24: 10 | B24: ='ORC. A LICITAR'!D140 -> REVESTIMENTO DE PISO EXTERNO | C24: ='ORC. A LICITAR'!J140 -> 0.010128345 | L24: 1 | P24: =SUM(D24:O24) -> 1
C25: ='ORC. A LICITAR'!I140 -> 20386.39 | L25: =L24*C25 -> 20386.39 | P25: =SUM(D25:O25) -> 20386.39
A26: 11 | B26: ='ORC. A LICITAR'!D143 -> REVESTIMENTO DE TETO | C26: ='ORC. A LICITAR'!J143 -> 0.01560079 | K26: 1 | P26: =SUM(D26:O26) -> 1
C27: ='ORC. A LICITAR'!I143 -> 31401.36 | K27: =K26*C27 -> 31401.36 | P27: =SUM(D27:O27) -> 31401.36
A28: 12 | B28: ='ORC. A LICITAR'!D149 -> PINTURA | C28: ='ORC. A LICITAR'!J149 -> 0.038490839 | L28: 0.1 | M28: 0.5 | N28: 0.4 | P28: =SUM(D28:O28) -> 1
C29: ='ORC. A LICITAR'!I149 -> 77474.58 | L29: =L28*C29 -> 7747.458 | M29: =M28*C29 -> 38737.29 | N29: =N28*C29 -> 30989.832 | P29: =SUM(D29:O29) -> 77474.58
A30: 13 | B30: ='ORC. A LICITAR'!D161 -> MARMORARIA | C30: ='ORC. A LICITAR'!J161 -> 0.0055160615 | N30: 1 | P30: =SUM(D30:O30) -> 1
C31: ='ORC. A LICITAR'!I161 -> 11102.76 | N31: =N30*C31 -> 11102.76 | P31: =SUM(D31:O31) -> 11102.76
A32: 14 | B32: ='ORC. A LICITAR'!D163 -> LOUÇAS, METAIS E ACESSÓRIOS | C32: ='ORC. A LICITAR'!J163 -> 0.030289163 | M32: 0.5 | N32: 0.5 | P32: =SUM(D32:O32) -> 1
C33: ='ORC. A LICITAR'!I163 -> 60966.2 | M33: =M32*C33 -> 30483.1 | N33: =N32*C33 -> 30483.1 | P33: =SUM(D33:O33) -> 60966.2
A34: 15 | B34: ='ORC. A LICITAR'!D189 -> INSTALAÇÕES HIDROSSANITÁRIAS | C34: ='ORC. A LICITAR'!J189 -> 0.067813004 | E34: 0.05 | F34: 0.05 | G34: 0.1 | H34: 0.1 | I34: 0.1 | J34: 0.1 | K34: 0.1 | L34: 0.2 | M34: 0.2 | P34: =SUM(D34:O34) -> 1
C35: ='ORC. A LICITAR'!I189 -> 136494.4 | E35: =E34*C35 -> 6824.72 | F35: =F34*C35 -> 6824.72 | G35: =G34*C35 -> 13649.44 | H35: =H34*C35 -> 13649.44 | I35: =I34*C35 -> 13649.44 | J35: =J34*C35 -> 13649.44 | K35: =K34*C35 -> 13649.44 | L35: =L34*C35 -> 27298.88 | M35: =M34*C35 -> 27298.88 | P35: =SUM(D35:O35) -> 136494.4
A36: 16 | B36: ='ORC. A LICITAR'!D304 -> INSTALAÇÕES ELÉTRICAS | C36: ='ORC. A LICITAR'!J304 -> 0.11159859 | G36: 0.1 | H36: 0.1 | I36: 0.1 | J36: 0.1 | M36: 0.3 | N36: 0.3 | P36: =SUM(D36:O36) -> 1
C37: ='ORC. A LICITAR'!I304 -> 224626.28 | G37: =G36*C37 -> 22462.628 | H37: =H36*C37 -> 22462.628 | I37: =I36*C37 -> 22462.628 | J37: =J36*C37 -> 22462.628 | M37: =M36*C37 -> 67387.884 | N37: =N36*C37 -> 67387.884 | P37: =SUM(D37:O37) -> 224626.28
A38: 17 | B38: ='ORC. A LICITAR'!D397 -> CLIMATIZAÇÃO | C38: ='ORC. A LICITAR'!J397 -> 0.042171428 | K38: 0.3 | L38: 0.3 | M38: 0.4 | P38: =SUM(D38:O38) -> 1
C39: ='ORC. A LICITAR'!I397 -> 84882.89 | K39: =K38*C39 -> 25464.867 | L39: =L38*C39 -> 25464.867 | M39: =M38*C39 -> 33953.156 | P39: =SUM(D39:O39) -> 84882.89
A40: 18 | B40: ='ORC. A LICITAR'!D411 -> DADOS E VOZ | C40: ='ORC. A LICITAR'!J411 -> 0.0042903545 | N40: 0.6 | O40: 0.4 | P40: =SUM(D40:O40) -> 1
C41: ='ORC. A LICITAR'!I411 -> 8635.65 | N41: =N40*C41 -> 5181.39 | O41: =O40*C41 -> 3454.26 | P41: =SUM(D41:O41) -> 8635.65
...

Sheet RESUMO
B2: PLANILHA RESUMO
B8: ='DADOS GERAIS'!B8 -> Secretaria de Atenção Especializada à Saúde | E8: ='DADOS GERAIS'!$B$22 -> Data:
B9: ='DADOS GERAIS'!B9 -> Unidade Básica de Saúde Porte 1 - Área Construída: 389,78m² | D9: ='ORC. SINTÉTICO'!I4 -> 0.24518701 | E9: 21/02/2025
B11: ='DADOS GERAIS'!B11 -> Bancos:
B12: ='ORC. SINTÉTICO'!B8:H8 -> SBC (05/24), SBC (02/25), SBC (12/24), ORSE (12/24), SINAPI (01/25), SETOP (10/24), SICRO (10/24), IOPES (11/24), CPOS (11/24)
B15: ITEM | C15: DESCRIÇÃO | D15: PREÇO | E15: %
B17: 1 | C17: =INDEX('ORC. SINTÉTICO'!$D:$D,MATCH($B17,'ORC. SINTÉTICO'!$A:$A,0)) -> SERVIÇOS PRELIMINARES E INDIRETOS | D17: ='ORC. A LICITAR'!I12 -> 32741.83 | E17: =IFERROR(D17/$D$39,"-") -> 0.016266761
B18: 2 | C18: =INDEX('ORC. SINTÉTICO'!$D:$D,MATCH($B18,'ORC. SINTÉTICO'!$A:$A,0)) -> FUNDAÇÃO | D18: ='ORC. A LICITAR'!I19 -> 218124.07 | E18: =IFERROR(D18/$D$39,"-") -> 0.10836817
B19: 3 | C19: =INDEX('ORC. SINTÉTICO'!$D:$D,MATCH($B19,'ORC. SINTÉTICO'!$A:$A,0)) -> ESTRUTURA | D19: ='ORC. A LICITAR'!I36 -> 289726.94 | E19: =IFERROR(D19/$D$39,"-") -> 0.14394183
B20: 4 | C20: =INDEX('ORC. SINTÉTICO'!$D:$D,MATCH($B20,'ORC. SINTÉTICO'!$A:$A,0)) -> ALVENARIA, VEDAÇÕES E DIVISÓRIAS | D20: ='ORC. A LICITAR'!I66 -> 183822.02 | E20: =IFERROR(D20/$D$39,"-") -> 0.091326262
B21: 5 | C21: =INDEX('ORC. SINTÉTICO'!$D:$D,MATCH($B21,'ORC. SINTÉTICO'!$A:$A,0)) -> COBERTURA | D21: ='ORC. A LICITAR'!I81 -> 109391.12 | E21: =IFERROR(D21/$D$39,"-") -> 0.054347581
B22: 6 | C22: =INDEX('ORC. SINTÉTICO'!$D:$D,MATCH($B22,'ORC. SINTÉTICO'!$A:$A,0)) -> IMPERMEABILIZAÇÃO | D22: ='ORC. A LICITAR'!I91 -> 13686.68 | E22: =IFERROR(D22/$D$39,"-") -> 0.0067998019
B23: 7 | C23: =INDEX('ORC. SINTÉTICO'!$D:$D,MATCH($B23,'ORC. SINTÉTICO'!$A:$A,0)) -> ESQUADRIAS | D23: ='ORC. A LICITAR'!I94 -> 217240.59 | E23: =IFERROR(D23/$D$39,"-") -> 0.10792924
B24: 8 | C24: =INDEX('ORC. SINTÉTICO'!$D:$D,MATCH($B24,'ORC. SINTÉTICO'!$A:$A,0)) -> REVESTIMENTO DE PAREDE | D24: ='ORC. A LICITAR'!I125 -> 69198.14 | E24: =IFERROR(D24/$D$39,"-") -> 0.034378947
B25: 9 | C25: =INDEX('ORC. SINTÉTICO'!$D:$D,MATCH($B25,'ORC. SINTÉTICO'!$A:$A,0)) -> REVESTIMENTO DE PISO INTERNO | D25: ='ORC. A LICITAR'!I132 -> 106415.07 | E25: =IFERROR(D25/$D$39,"-") -> 0.052869023
B26: 10 | C26: =INDEX('ORC. SINTÉTICO'!$D:$D,MATCH($B26,'ORC. SINTÉTICO'!$A:$A,0)) -> REVESTIMENTO DE PISO EXTERNO | D26: ='ORC. A LICITAR'!I140 -> 20386.39 | E26: =IFERROR(D26/$D$39,"-") -> 0.010128345
B27: 11 | C27: =INDEX('ORC. SINTÉTICO'!$D:$D,MATCH($B27,'ORC. SINTÉTICO'!$A:$A,0)) -> REVESTIMENTO DE TETO | D27: ='ORC. A LICITAR'!I143 -> 31401.36 | E27: =IFERROR(D27/$D$39,"-") -> 0.01560079
B28: 12 | C28: =INDEX('ORC. SINTÉTICO'!$D:$D,MATCH($B28,'ORC. SINTÉTICO'!$A:$A,0)) -> PINTURA | D28: ='ORC. A LICITAR'!I149 -> 77474.58 | E28: =IFERROR(D28/$D$39,"-") -> 0.038490839
B29: 13 | C29: =INDEX('ORC. SINTÉTICO'!$D:$D,MATCH($B29,'ORC. SINTÉTICO'!$A:$A,0)) -> MARMORARIA | D29: ='ORC. A LICITAR'!I161 -> 11102.76 | E29: =IFERROR(D29/$D$39,"-") -> 0.0055160615
B30: 14 | C30: =INDEX('ORC. SINTÉTICO'!$D:$D,MATCH($B30,'ORC. SINTÉTICO'!$A:$A,0)) -> LOUÇAS, METAIS E ACESSÓRIOS | D30: ='ORC. A LICITAR'!I163 -> 60966.2 | E30: =IFERROR(D30/$D$39,"-") -> 0.030289163
B31: 15 | C31: =INDEX('ORC. SINTÉTICO'!$D:$D,MATCH($B31,'ORC. SINTÉTICO'!$A:$A,0)) -> INSTALAÇÕES HIDROSSANITÁRIAS | D31: ='ORC. A LICITAR'!I189 -> 136494.4 | E31: =IFERROR(D31/$D$39,"-") -> 0.067813004
B32: 16 | C32: =INDEX('ORC. SINTÉTICO'!$D:$D,MATCH($B32,'ORC. SINTÉTICO'!$A:$A,0)) -> INSTALAÇÕES ELÉTRICAS | D32: ='ORC. A LICITAR'!I304 -> 224626.28 | E32: =IFERROR(D32/$D$39,"-") -> 0.11159859
B33: 17 | C33: =INDEX('ORC. SINTÉTICO'!$D:$D,MATCH($B33,'ORC. SINTÉTICO'!$A:$A,0)) -> CLIMATIZAÇÃO | D33: ='ORC. A LICITAR'!I397 -> 84882.89 | E33: =IFERROR(D33/$D$39,"-") -> 0.042171428
B34: 18 | C34: =INDEX('ORC. SINTÉTICO'!$D:$D,MATCH($B34,'ORC. SINTÉTICO'!$A:$A,0)) -> DADOS E VOZ | D34: ='ORC. A LICITAR'!I411 -> 8635.65 | E34: =IFERROR(D34/$D$39,"-") -> 0.0042903545
B35: 19 | C35: =INDEX('ORC. SINTÉTICO'!$D:$D,MATCH($B35,'ORC. SINTÉTICO'!$A:$A,0)) -> GASES MEDICINAIS | D35: ='ORC. A LICITAR'!I420 -> 14902.45 | E35: =IFERROR(D35/$D$39,"-") -> 0.0074038195
B36: 20 | C36: =INDEX('ORC. SINTÉTICO'!$D:$D,MATCH($B36,'ORC. SINTÉTICO'!$A:$A,0)) -> URBANIZAÇÃO | D36: ='ORC. A LICITAR'!I432 -> 98195.2 | E36: =IFERROR(D36/$D$39,"-") -> 0.048785235
B37: 21 | C37: =INDEX('ORC. SINTÉTICO'!$D:$D,MATCH($B37,'ORC. SINTÉTICO'!$A:$A,0)) -> SERVIÇOS COMPLEMENTARES | D37: ='ORC. A LICITAR'!I441 -> 3391.08 | E37: =IFERROR(D37/$D$39,"-") -> 0.0016847528
B39: TOTAL | D39: =SUBTOTAL(9,D17:D37) -> 2012805.7 | E39: =SUBTOTAL(9,E17:E37) -> 1
B41: Notas:
B42: Estão exclusos do escopo: movimentação de terra, mobiliário e equipamentos, bate-macas, chapas metálicas das portas, instalações de automação, CFTV, energia fotovoltaica, controle de acesso, CATV, sonorização, luminárias externas, compressor odontológico e bomba de vacuo odontológico portatéis e equipamentos de ar condicionado.
B49: ________________________________________________________________________________
B50: EDSON TADEU DE SOUZA
B51: CREA/MG: 82.447/D

Sheet CPUS
B2: COMPOSIÇÕES ANALÍTICAS DE PREÇOS UNITÁRIOS
B8: ='DADOS GERAIS'!$B$8 -> Secretaria de Atenção Especializada à Saúde | G8: =#REF! -> #REF! | I8: =RESUMO!D8 -> 0 | L8: ='DADOS GERAIS'!$B$22 -> Data:
B9: ='DADOS GERAIS'!$B$9 -> Unidade Básica de Saúde Porte 1 - Área Construída: 389,78m² | G9: =#REF! -> #REF! | I9: =RESUMO!D9 -> 0.24518701 | L9: ='DADOS GERAIS'!$C$22 -> 30/08/2024
B11: =RESUMO!B11 -> Bancos: | G11: =#REF! -> #REF! | I11: =RESUMO!D11 -> 0 | L11: ='DADOS GERAIS'!$B$23 -> Revisão:
B12: ='DADOS GERAIS'!$B$12 -> SINAPI (03/2024) - CPOS/CDHU (03/2024) - SBC (03/2024) - ORSE (03/2024) - IOPES (03/2024) - EMOP (03/2024) | G12: =#REF! -> #REF! | I12: =RESUMO!D12 -> 0 | L12: ='DADOS GERAIS'!$C$23 -> 03
B15: Item | C15: Código | D15: Banco | E15: Descrição | G15: Und | H15: Und | I15: Quant. | L15: Total
B17: Composições Principais
B18: 1.3.1 | C18: Código | D18: Banco | E18: Descrição | F18: Tipo | H18: Und | I18: Quant. | J18: Porcent. | K18: Valor Unit | L18: Total
B19: Composição | C19: CPU2287 | D19: Próprio | E19: MOBILIZAÇÃO E DESMOBILIZAÇÃO DE OBRA EM CENTRO URBANO OU REGIÃO LIMÍTROFE COM VALOR ENTRE 1.000.000,01 E 3.000.000,00 (0,30%) | F19: SERP - SERVIÇOS PRELIMINARES | H19: UN | I19: 1
B20: Insumo | C20: 6702001 | D20: Próprio | E20: MOBILIZAÇÃO E DESMOBILIZAÇÃO DE OBRA EM CENTRO URBANO OU REGIÃO LIMÍTROFE COM VALOR ENTRE 1.000.000,01 E 3.000.000,00 (0,30%) | F20: Serviços | H20: UN | I20: 1 | J20: 0
G21: MO sem LS => | I21: LS => | J21: 0 | K21: MO com LS =>
G22: Valor do BDI => | J22: Valor com BDI =>
B24: 1.4.1 | C24: Código | D24: Banco | E24: Descrição | F24: Tipo | H24: Und | I24: Quant. | J24: Porcent. | K24: Valor Unit | L24: Total
B25: Composição | C25: CPU1926 | D25: Próprio | E25: LOCACAO DE ANDAIME METALICO TIPO FACHADEIRO, PECAS COM APROXIMADAMENTE 1,20 M DE LARGURA E 2,0 M DE ALTURA, INCLUINDO DIAGONAIS EM X, BARRAS DE LIGACAO, SAPATAS E DEMAIS ITENS NECESSARIOS A MONTAGEM, INCLUSIVE MONTAGEM E DESMONTAGEM | F25: ASTU - ASSENTAMENTO DE TUBOS E PECAS | H25: M2XMÊS | I25: 1
B26: Composição Auxiliar | C26: 97063 | D26: SINAPI | E26: MONTAGEM E DESMONTAGEM DE ANDAIME MODULAR FACHADEIRO, COM PISO METÁLICO, PARA EDIFÍCIOS COM MULTIPLOS PAVIMENTOS (EXCLUSIVE ANDAIME E LIMPEZA). AF_03/2024 | F26: SEDI - SERVIÇOS DIVERSOS | H26: m² | I26: 0.416 | J26: 0
B27: Insumo | C27: 00020193 | D27: SINAPI | E27: LOCACAO DE ANDAIME METALICO TIPO FACHADEIRO, PECAS COM APROXIMADAMENTE 1,20 M DE LARGURA E 2,0 M DE ALTURA, INCLUINDO DIAGONAIS EM X, BARRAS DE LIGACAO, SAPATAS E DEMAIS ITENS NECESSARIOS A MONTAGEM (NAO INCLUI INSTALACAO) | F27: Equipamento | H27: M2/MES | I27: 1 | J27: 0
G28: MO sem LS => | I28: LS => | J28: 0 | K28: MO com LS =>
G29: Valor do BDI => | J29: Valor com BDI =>
B31: 3.1.6 | C31: Código | D31: Banco | E31: Descrição | F31: Tipo | H31: Und | I31: Quant. | J31: Porcent. | K31: Valor Unit | L31: Total
B32: Composição | C32: CPU2284 | D32: Próprio | E32: CONCRETAGEM DE PILARES, FCK = 30 MPA, COM USO DE BOMBA - LANÇAMENTO, ADENSAMENTO E ACABAMENTO. AF_02/2022_PS | F32: FUES - FUNDAÇÕES E ESTRUTURAS | H32: m³ | I32: 1
B33: Composição Auxiliar | C33: 88316 | D33: SINAPI | E33: SERVENTE COM ENCARGOS COMPLEMENTARES | F33: SEDI - SERVIÇOS DIVERSOS | H33: H | I33: 1.345 | J33: 0
B34: Composição Auxiliar | C34: 88309 | D34: SINAPI | E34: PEDREIRO COM ENCARGOS COMPLEMENTARES | F34: SEDI - SERVIÇOS DIVERSOS | H34: H | I34: 0.224 | J34: 0
B35: Composição Auxiliar | C35: 90587 | D35: SINAPI | E35: VIBRADOR DE IMERSÃO, DIÂMETRO DE PONTEIRA 45MM, MOTOR ELÉTRICO TRIFÁSICO POTÊNCIA DE 2 CV - CHI DIURNO. AF_06/2015 | F35: CHOR - CUSTOS HORÁRIOS DE MÁQUINAS E EQUIPAMENTOS | H35: CHI | I35: 0.13 | J35: 0
B36: Composição Auxiliar | C36: 88262 | D36: SINAPI | E36: CARPINTEIRO DE FORMAS COM ENCARGOS COMPLEMENTARES | F36: SEDI - SERVIÇOS DIVERSOS | H36: H | I36: 0.224 | J36: 0
B37: Composição Auxiliar | C37: 90586 | D37: SINAPI | E37: VIBRADOR DE IMERSÃO, DIÂMETRO DE PONTEIRA 45MM, MOTOR ELÉTRICO TRIFÁSICO POTÊNCIA DE 2 CV - CHP DIURNO. AF_06/2015 | F37: CHOR - CUSTOS HORÁRIOS DE MÁQUINAS E EQUIPAMENTOS | H37: CHP | I37: 0.094 | J37: 0
B38: Insumo | C38: 00001525 | D38: SINAPI | E38: CONCRETO USINADO BOMBEAVEL, CLASSE DE RESISTENCIA C30, BRITA 0 E 1, SLUMP = 100 +/- 20 MM, COM BOMBEAMENTO (DISPONIBILIZACAO DE BOMBA), SEM O LANCAMENTO (NBR 8953) | F38: Material | H38: M³ | I38: 1.103 | J38: 0
G39: MO sem LS => | I39: LS => | J39: 0 | K39: MO com LS =>
G40: Valor do BDI => | J40: Valor com BDI =>
B42: 3.2.8 | C42: Código | D42: Banco | E42: Descrição | F42: Tipo | H42: Und | I42: Quant. | J42: Porcent. | K42: Valor Unit | L42: Total
B43: Composição | C43: CPU2283 | D43: Próprio | E43: CONCRETAGEM DE VIGAS E LAJES, FCK=30 MPA, PARA LAJES MACIÇAS OU NERVURADAS COM USO DE BOMBA - LANÇAMENTO, ADENSAMENTO E ACABAMENTO. | F43: FUES - FUNDAÇÕES E ESTRUTURAS | H43: m³ | I43: 1
B44: Composição Auxiliar | C44: 90587 | D44: SINAPI | E44: VIBRADOR DE IMERSÃO, DIÂMETRO DE PONTEIRA 45MM, MOTOR ELÉTRICO TRIFÁSICO POTÊNCIA DE 2 CV - CHI DIURNO. AF_06/2015 | F44: CHOR - CUSTOS HORÁRIOS DE MÁQUINAS E EQUIPAMENTOS | H44: CHI | I44: 0.131 | J44: 0
B45: Composição Auxiliar | C45: 88316 | D45: SINAPI | E45: SERVENTE COM ENCARGOS COMPLEMENTARES | F45: SEDI - SERVIÇOS DIVERSOS | H45: H | I45: 0.826 | J45: 0
B46: Composição Auxiliar | C46: 88309 | D46: SINAPI | E46: PEDREIRO COM ENCARGOS COMPLEMENTARES | F46: SEDI - SERVIÇOS DIVERSOS | H46: H | I46: 0.753 | J46: 0
B47: Composição Auxiliar | C47: 90586 | D47: SINAPI | E47: VIBRADOR DE IMERSÃO, DIÂMETRO DE PONTEIRA 45MM, MOTOR ELÉTRICO TRIFÁSICO POTÊNCIA DE 2 CV - CHP DIURNO. AF_06/2015 | F47: CHOR - CUSTOS HORÁRIOS DE MÁQUINAS E EQUIPAMENTOS | H47: CHP | I47: 0.12 | J47: 0
B48: Composição Auxiliar | C48: 88262 | D48: SINAPI | E48: CARPINTEIRO DE FORMAS COM ENCARGOS COMPLEMENTARES | F48: SEDI - SERVIÇOS DIVERSOS | H48: H | I48: 0.125 | J48: 0
B49: Insumo | C49: 00001525 | D49: SINAPI | E49: CONCRETO USINADO BOMBEAVEL, CLASSE DE RESISTENCIA C30, BRITA 0 E 1, SLUMP = 100 +/- 20 MM, COM BOMBEAMENTO (DISPONIBILIZACAO DE BOMBA), SEM O LANCAMENTO (NBR 8953) | F49: Material | H49: M³ | I49: 1.103 | J49: 0
G50: MO sem LS => | I50: LS => | J50: 0 | K50: MO com LS =>
G51: Valor do BDI => | J51: Valor com BDI =>
B53: 3.3.8 | C53: Código | D53: Banco | E53: Descrição | F53: Tipo | H53: Und | I53: Quant. | J53: Porcent. | K53: Valor Unit | L53: Total
B54: Composição | C54: CPU2101 | D54: Próprio | E54: Laje pré-fabricada unidirecional em viga treliçada/lajota em EPS LT 12 (8 + 4), exceto capa de concreto | F54: 13.01 | H54: m² | I54: 1
...

Sheet BDI DESONERADO
B2: BONIFICAÇÕES E DESPESAS INDIRETAS
B8: ='DADOS GERAIS'!B8 -> Secretaria de Atenção Especializada à Saúde | D8: BDI Geral: | F8: ='DADOS GERAIS'!$B$22 -> Data:
B9: ='DADOS GERAIS'!B9 -> Unidade Básica de Saúde Porte 1 - Área Construída: 389,78m² | D9: ='DADOS GERAIS'!C19 -> 0.24518701 | F9: ='DADOS GERAIS'!$C$22 -> 30/08/2024
B11: ='DADOS GERAIS'!B11 -> Bancos:
B12: ='DADOS GERAIS'!B12 -> SINAPI (03/2024) - CPOS/CDHU (03/2024) - SBC (03/2024) - ORSE (03/2024) - IOPES (03/2024) - EMOP (03/2024)
B15: Fórmula (Bonificações e Despesas Indiretas):
B22: ITEM | C22: DESCRIÇÃO | D22: CÓD | E22: GERAL VALORES PROPOSTOS (%) | F22: EQUIPAMENTOS VALORES PROPOSTOS (%)
B24: 1 | C24: Administração Central | D24: AC | E24: 0.03 | F24: 0.015
B25: 2 | C25: Riscos | D25: R | E25: 0.0097 | F25: 0.0085
B26: 3 | C26: Seguros e Garantias | D26: SG | E26: 0.008 | F26: 0.0048
B27: 4 | C27: Despesas Financeiras | D27: DF | E27: 0.0059 | F27: 0.0085
B28: 5 | C28: Lucro | D28: L | E28: 0.0616 | F28: 0.035
B29: 6 | C29: Impostos | D29: I | E29: =SUM(E30:E33) -> 0.1015 | F29: =SUM(F30:F33) -> 0.0815
B30: 6.1 | C30: PIS | E30: 0.0065 | F30: 0.0065
B31: 6.2 | C31: COFINS | E31: 0.03 | F31: 0.03
B32: 6.3 | C32: ISSQN | E32: 0.02 | F32: 0
B33: 6.4 | C33: CPRB | E33: 0.045 | F33: 0.045
B35: BDI | E35: =((1+E24+E25+E26)*(1+E27)*(1+E28)/(1-E29))-1 -> 0.24518701 | F35: =((1+F24+F25+F26)*(1+F27)*(1+F28)/(1-F29))-1 -> 0.16857591
B38: FONTE:
B39: 1. | C39: Tribunal de Contas da União - TC 036.076/2011-2 - Acórdão Nº 2622/2013
B40: 2. | C40: ISS conforme a Lei Complementar 116/2003 e a Lei 11.438/1997 da Prefeitura Municipal de São Paulo.
B41: 3. | C41: O valor do CPRB foi considerado baseado na Instrução Normativa nº 2053, de 6 de Dezembro de 2021, onde desde Dezembro de 2015 o percentual passa a ser 4,5% e não mais 2,0%. Essa recomendação aplica-se para orçamentos de Construção Civil para os enquadrados nos grupos 412, 432, 433 e 439 da CNAE 2.0. A edificação objeto desta composição se enquadra no grupo 412:4120-4/00 - CLINICAS, HOSPITAIS, CONSTRUÇÃO OU REFORMA.
B43: NOTAS:
B44: 1. | C44: Deverão ser obedecidas as legislações trabalhistas e tributária vigentes, inclusive acordos de classes, sob pena de desclassificação da Proposta de Preços;
B45: 2. | C45: É de responsabilidade da proponente a adequação de todas as fórmulas utilizadas na planilha orçamentária.
B47: ________________________________________________________________________________
B51: EDSON TADEU DE SOUZA
B52: CREA/MG: 82.447/D

Sheet ENCARGOS SOCIAIS
B2: COMPOSIÇÃO ANALÍTICA DAS TAXAS DE ENCARGOS SOCIAIS
B8: ='DADOS GERAIS'!B8 -> Secretaria de Atenção Especializada à Saúde | D8: BDI Geral: | E8: Encargo Social Mensalista: | F8: ='DADOS GERAIS'!$B$22 -> Data:
B9: ='DADOS GERAIS'!B9 -> Unidade Básica de Saúde Porte 1 - Área Construída: 389,78m² | D9: ='DADOS GERAIS'!C19 -> 0.24518701 | E9: ='ENCARGOS SOCIAIS'!F56 -> 0.4774 | F9: ='DADOS GERAIS'!$C$22 -> 30/08/2024
B11: ='DADOS GERAIS'!B11 -> Bancos: | D11: BDI Equipamentos: | E11: Encargo Social Horista: | F11: ='DADOS GERAIS'!$B$23 -> Revisão:
B12: ='DADOS GERAIS'!B12 -> SINAPI (03/2024) - CPOS/CDHU (03/2024) - SBC (03/2024) - ORSE (03/2024) - IOPES (03/2024) - EMOP (03/2024) | D12: ='DADOS GERAIS'!C20 -> 0.16857591 | E12: ='ENCARGOS SOCIAIS'!E56 -> 0.8579598 | F12: ='DADOS GERAIS'!$C$23 -> 03
B15: ENCARGOS SOCIAIS SOBRE A MÃO DE OBRA
B16: CÓDIGO | C16: DESCRIÇÃO | E16: COM DESONERAÇÃO
E17: HORISTA (%) | F17: MENSALISTA (%)
B19: GRUPO A
B20: A1 | C20: INSS | E20: 0 | F20: 0
B21: A2 | C21: SESI | E21: 0.015 | F21: 0.015
B22: A3 | C22: SENAI | E22: 0.01 | F22: 0.01
B23: A4 | C23: INCRA | E23: 0.002 | F23: 0.002
B24: A5 | C24: SEBRAE | E24: 0.006 | F24: 0.006
B25: A6 | C25: Salário Educação | E25: 0.025 | F25: 0.025
B26: A7 | C26: Seguro Contra Acidentes de Trabalho | E26: 0.03 | F26: 0.03
B27: A8 | C27: FGTS | E27: 0.08 | F27: 0.08
B28: A9 | C28: SECONCI | E28: 0.01 | F28: 0.01
B29: A | C29: Total | E29: =SUBTOTAL(9,E20:E28) -> 0.178 | F29: =SUBTOTAL(9,F20:F28) -> 0.178
B31: GRUPO B
B32: B1 | C32: Repouso Semanal Remunerado | E32: 0.1797 | F32: Não incide
B33: B2 | C33: Feriados | E33: 0.0469 | F33: Não incide
B34: B3 | C34: Auxílio-Enfermidade | E34: 0.0085 | F34: 0.0064
B35: B4 | C35: 13º Salário | E35: 0.1106 | F35: 0.0833
B36: B5 | C36: Licença Paternidade | E36: 0.0006 | F36: 0.0004
B37: B6 | C37: Faltas Justificadas | E37: 0.0074 | F37: 0.0056
B38: B7 | C38: Dias de Chuva | E38: 0.0135 | F38: Não incide
B39: B8 | C39: Auxílo Acidente de Trabalho | E39: 0.001 | F39: 0.0008
B40: B9 | C40: Férias Gozadas | E40: 0.1174 | F40: 0.0885
B41: B10 | C41: Salário Maternidade | E41: 0.0004 | F41: 0.0003
B42: B | C42: Total | E42: =SUBTOTAL(9,E32:E41) -> 0.486 | F42: =SUBTOTAL(9,F32:F41) -> 0.1853
B44: GRUPO C
B45: C1 | C45: Aviso Prévio Indenizado | E45: 0.0483 | F45: 0.0364
B46: C2 | C46: Aviso Prévio Trabalhado | E46: 0.0011 | F46: 0.0009
B47: C3 | C47: Férias Indenizadas | E47: 0.0234 | F47: 0.0176
B48: C4 | C48: Depósito Recisão sem justa causa | E48: 0.0265 | F48: 0.02
B49: C5 | C49: Indenização Adicional | E49: 0.0041 | F49: 0.0031
B50: C | C50: Total | E50: =SUBTOTAL(9,E45:E49) -> 0.1034 | F50: =SUBTOTAL(9,F45:F49) -> 0.078
B52: GRUPO D
B53: D1 | C53: Reincidência de Grupo A sobre Grupo B | E53: =ROUND(E42*E29,4) -> 0.0865 | F53: =ROUND(F42*F29,4) -> 0.033
...

Sheet JUSTIFICATIVAS CPUS
B2: JUSTIFICATIVAS DE COMPOSIÇÕES DE PREÇO UNITÁRIO
B8: ='DADOS GERAIS'!B8 -> Secretaria de Atenção Especializada à Saúde | G8: =#REF! -> #REF! | H8: Encargo Social Mensalista: | I8: Data:
B9: ='DADOS GERAIS'!B9 -> Unidade Básica de Saúde Porte 1 - Área Construída: 389,78m² | G9: =#REF! -> #REF! | H9: ='ENCARGOS SOCIAIS'!F56 -> 0.4774 | I9: ='DADOS GERAIS'!C22 -> 30/08/2024
B11: ='DADOS GERAIS'!B11 -> Bancos: | G11: =#REF! -> #REF! | H11: Encargo Social Horista: | I11: Revisão:
B12: ='DADOS GERAIS'!B12 -> SINAPI (03/2024) - CPOS/CDHU (03/2024) - SBC (03/2024) - ORSE (03/2024) - IOPES (03/2024) - EMOP (03/2024) | G12: =#REF! -> #REF! | H12: ='ENCARGOS SOCIAIS'!E56 -> 0.8579598 | I12: ='DADOS GERAIS'!C23 -> 03
B15: ITEM | C15: COMPOSIÇÃO | D15: COMPOSIÇÃO DE REFERÊNCIA | E15: JUSTIFICATIVA
B16: 1 | C16: 02.02.150 | D16: CPOS/CDHU 02.02.150 | E16: Utilizada composição do CPOS para São Paulo visto que o SINAPI não possui composição adequada para contemplar tal serviço.
B17: 2 | C17: 11703 | D17: ORSE 11703 | E17: Utilizada composição do ORSE visto que o SINAPI não possui composição adequada referente a esse serviço. Os preços praticados para esse serviço no estado de Sergipe são referenciais e exequíveis para o orçamento em São Paulo. Os insumos da composição ORSE que são SINAPI estão atualizados para o estado de São Paulo, portanto, somente insumos do ORSE que mantem preço na região de Sergipe.
B18: 3 | C18: 4656 | D18: ORSE 4656 | E18: Utilizada composição do ORSE visto que o SINAPI não possui composição adequada referente a esse serviço. Os preços praticados para esse serviço no estado de Sergipe são referenciais e exequíveis para o orçamento em São Paulo. Os insumos da composição ORSE que são SINAPI estão atualizados para o estado de São Paulo, portanto, somente insumos do ORSE que mantem preço na região de Sergipe.
B19: 4 | C19: 012208 | D19: SBC 012208 | E19: Utilizada composição do SBC para São Paulo visto que o SINAPI não possui composição adequada para contemplar tal serviço.
B20: 5 | C20: 052032 | D20: SBC 052032 | E20: Utilizada composição do SBC para São Paulo visto que o SINAPI não possui composição adequada para contemplar tal serviço.
B21: 6 | C21: 05.07.040 | D21: CPOS/CDHU 05.07.040 | E21: Utilizada composição do CPOS para São Paulo visto que o SINAPI não possui composição adequada para contemplar tal serviço.
B22: 7 | C22: CPU2287 | D22: SETOP ED-50393 | E22: Utilizada composição SETOP para referência de mobilização e desmobilização.
B23: 8 | C23: CPU1926 | D23: SINAPI 97063 + INSUMO SINAPI 20193 | E23: Junção do insumo de locação de andaime m2xmês com a montagem e desmontagem do andaime em m2, sendo coeficiente de 0,416 que corresponde à 1m2 em proporção à área do andaime informado no insumo.
B24: 9 | C24: CPU2288 | D24: SINAPI 96557 | E24: Utilizada composição de referência SINAPI e subsituído o insumo 1525 por 34493 para adequação da resistencia necessaria.
B25: 10 | C25: 000128 | D25: SBC 000128 | E25: Utilizada composição do SBC para São Paulo visto que o SINAPI não possui composição adequada para contemplar tal serviço.
B26: 11 | C26: CPU2284 | D26: SINAPI 103672 | E26: Utilizada composição de referência SINAPI e alterado o insumo 1527 para 1525 conforme especificação do projeto.
B27: 12 | C27: CPU2283 | D27: SINAPI 103675 | E27: Utilizada composição de referência SINAPI e alterado o insumo 1527 para 1525 conforme especificação do projeto.
... B151: 136 | C151: CPU2425 | D151: SBC 110271 | E151: Utilziada composição de referência SBC para São Paulo com o coeficiente proporcional ao tamanho da porta.

Sheet COMPOSIÇÃO
B1: COMPOSIÇÕES ANALÍTICAS DE PREÇOS UNITÁRIOS
B2: Secretaria de Atenção Especializada à Saúde | G2: BDI Geral: | L2: Data:
B3: Unidade Básica de Saúde Porte 1 - Área Construída: 389,78m² | G3: ='BDI DESONERADO'!E35 -> 0.24518701 | L3: 21/02/2025
B4: Bancos:
B5: SBC (05/24), SBC (02/25), SBC (12/24), ORSE (12/24), SINAPI (01/25), SETOP (10/24), SICRO (10/24), IOPES (11/24), CPOS (11/24)
B6: Item | C6: Código | D6: Banco | E6: Descrição | G6: Und | H6: Und | I6: Quant. | L6: Total
B7: Composições Principais
B9: 3.1.6 | C9: Código | D9: Banco | E9: Descrição | F9: Tipo | H9: Und | I9: Quant. | J9: Porcent. | K9: Valor Unit | L9: Total
B10: Composição | C10: CPU2284 | D10: Próprio | E10: CONCRETAGEM DE PILARES, FCK = 30 MPA, COM USO DE BOMBA - LANÇAMENTO, ADENSAMENTO E ACABAMENTO. AF_02/2022_PS | F10: FUES - FUNDAÇÕES E ESTRUTURAS | H10: m³ | I10: 1
B11: Composição Auxiliar | C11: 88316 | D11: SINAPI | E11: SERVENTE COM ENCARGOS COMPLEMENTARES | F11: SEDI - SERVIÇOS DIVERSOS | H11: H | I11: 1.345 | J11: 0 | K11: 20.92 | L11: =K11*I11 -> 28.1374
B12: Composição Auxiliar | C12: 88309 | D12: SINAPI | E12: PEDREIRO COM ENCARGOS COMPLEMENTARES | F12: SEDI - SERVIÇOS DIVERSOS | H12: H | I12: 0.224 | J12: 0 | K12: 28.6 | L12: =K12*I12 -> 6.4064
B13: Composição Auxiliar | C13: 90587 | D13: SINAPI | E13: VIBRADOR DE IMERSÃO, DIÂMETRO DE PONTEIRA 45MM, MOTOR ELÉTRICO TRIFÁSICO POTÊNCIA DE 2 CV - CHI DIURNO. AF_06/2015 | F13: CHOR - CUSTOS HORÁRIOS DE MÁQUINAS E EQUIPAMENTOS | H13: CHI | I13: 0.13 | J13: 0 | K13: 0.53 | L13: =K13*I13 -> 0.0689
B14: Composição Auxiliar | C14: 88262 | D14: SINAPI | E14: CARPINTEIRO DE FORMAS COM ENCARGOS COMPLEMENTARES | F14: SEDI - SERVIÇOS DIVERSOS | H14: H | I14: 0.224 | J14: 0 | K14: 28.17 | L14: =K14*I14 -> 6.31008
B15: Composição Auxiliar | C15: 90586 | D15: SINAPI | E15: VIBRADOR DE IMERSÃO, DIÂMETRO DE PONTEIRA 45MM, MOTOR ELÉTRICO TRIFÁSICO POTÊNCIA DE 2 CV - CHP DIURNO. AF_06/2015 | F15: CHOR - CUSTOS HORÁRIOS DE MÁQUINAS E EQUIPAMENTOS | H15: CHP | I15: 0.094 | J15: 0 | K15: 1.37 | L15: =K15*I15 -> 0.12878
B16: Insumo | C16: 00001525 | D16: SINAPI | E16: CONCRETO USINADO BOMBEAVEL, CLASSE DE RESISTENCIA C30, BRITA 0 E 1, SLUMP = 100 +/- 20 MM, COM BOMBEAMENTO (DISPONIBILIZACAO DE BOMBA), SEM O LANCAMENTO (NBR 8953) | F16: Material | H16: M³ | I16: 1.103 | J16: 0 | K16: 631.47 | L16: =K16*I16 -> 696.51141
F17: MO sem LS => | H17: =L17 -> 737.56 | I17: LS => | J17: 0 | K17: MO com LS => | L17: 737.56
F18: Valor do BDI => | H18: =L17*'BDI DESONERADO'!E35 -> 180.84013 | J18: Valor com BDI =>
B20: 3.2.8 | C20: Código | D20: Banco | E20: Descrição | F20: Tipo | H20: Und | I20: Quant. | J20: Porcent. | K20: Valor Unit | L20: Total
B21: Composição | C21: CPU2283 | D21: Próprio | E21: CONCRETAGEM DE VIGAS E LAJES, FCK=30 MPA, PARA LAJES MACIÇAS OU NERVURADAS COM USO DE BOMBA - LANÇAMENTO, ADENSAMENTO E ACABAMENTO. | F21: FUES - FUNDAÇÕES E ESTRUTURAS | H21: m³ | I21: 1
B22: Composição Auxiliar | C22: 90587 | D22: SINAPI | E22: VIBRADOR DE IMERSÃO, DIÂMETRO DE PONTEIRA 45MM, MOTOR ELÉTRICO TRIFÁSICO POTÊNCIA DE 2 CV - CHI DIURNO. AF_06/2015 | F22: CHOR - CUSTOS HORÁRIOS DE MÁQUINAS E EQUIPAMENTOS | H22: CHI | I22: 0.131 | J22: 0 | K22: 0.53 | L22: =K22*I22 -> 0.06943
B23: Composição Auxiliar | C23: 88316 | D23: SINAPI | E23: SERVENTE COM ENCARGOS COMPLEMENTARES | F23: SEDI - SERVIÇOS DIVERSOS | H23: H | I23: 0.826 | J23: 0 | K23: 20.92 | L23: =K23*I23 -> 17.27992
B24: Composição Auxiliar | C24: 88309 | D24: SINAPI | E24: PEDREIRO COM ENCARGOS COMPLEMENTARES | F24: SEDI - SERVIÇOS DIVERSOS | H24: H | I24: 0.753 | J24: 0 | K24: 28.6 | L24: =K24*I24 -> 21.5358
B25: Composição Auxiliar | C25: 90586 | D25: SINAPI | E25: VIBRADOR DE IMERSÃO, DIÂMETRO DE PONTEIRA 45MM, MOTOR ELÉTRICO TRIFÁSICO POTÊNCIA DE 2 CV - CHP DIURNO. AF_06/2015 | F25: CHOR - CUSTOS HORÁRIOS DE MÁQUINAS E EQUIPAMENTOS | H25: CHP | I25: 0.12 | J25: 0 | K25: 1.37 | L25: =K25*I25 -> 0.1644
B26: Composição Auxiliar | C26: 88262 | D26: SINAPI | E26: CARPINTEIRO DE FORMAS COM ENCARGOS COMPLEMENTARES | F26: SEDI - SERVIÇOS DIVERSOS | H26: H | I26: 0.125 | J26: 0 | K26: 27.17 | L26: =K26*I26 -> 3.39625
B27: Insumo | C27: 00001525 | D27: SINAPI | E27: CONCRETO USINADO BOMBEAVEL, CLASSE DE RESISTENCIA C30, BRITA 0 E 1, SLUMP = 100 +/- 20 MM, COM BOMBEAMENTO (DISPONIBILIZACAO DE BOMBA), SEM O LANCAMENTO (NBR 8953) | F27: Material | H27: M³ | I27: 1.103 | J27: 0 | K27: 631.47 | L27: =K27*I27 -> 696.51141
F28: MO sem LS => | H28: =L28 -> 738.96 | I28: LS => | J28: 0 | K28: MO com LS => | L28: 738.96
F29: Valor do BDI => | H29: =H28*'BDI DESONERADO'!E35 -> 181.18339 | J29: Valor com BDI =>
B31: 3.3.8 | C31: Código | D31: Banco | E31: Descrição | F31: Tipo | H31: Und | I31: Quant. | J31: Porcent. | K31: Valor Unit | L31: Total
B32: Composição | C32: CPU2101 | D32: Próprio | E32: Laje pré-fabricada unidirecional em viga treliçada/lajota em EPS LT 12 (8 + 4), exceto capa de concreto | F32: 13.01 | H32: m² | I32: 1
B33: Insumo | C33: C.06.000.022011 | D33: CPOS/CDHU | E33: LAJE PRÉ-FABRICADA UNIDIRECIONAL EM VIGA TRELIÇADA/LAJOTA EM EPS LT 12 (8 + 4) - SC = 200KGF/M² | F33: Material | H33: m² | I33: 1 | J33: 0 | K33: 66.7 | L33: =K33*I33 -> 66.7
B34: Composição Auxiliar | C34: 88309 | D34: SINAPI | E34: PEDREIRO COM ENCARGOS COMPLEMENTARES | F34: SEDI - SERVIÇOS DIVERSOS | H34: h | I34: 0.4 | J34: 0 | K34: 28.6 | L34: =K34*I34 -> 11.44
B35: Composição Auxiliar | C35: 88316 | D35: SINAPI | E35: SERVENTE COM ENCARGOS COMPLEMENTARES | F35: SEDI - SERVIÇOS DIVERSOS | H35: h | I35: 0.8 | J35: 0 | K35: 20.92 | L35: =K35*I35 -> 16.736
F36: MO sem LS => | H36: =L36 -> 94.88 | I36: LS => | J36: 0 | K36: MO com LS => | L36: 94.88
F37: Valor do BDI => | H37: =H36*'BDI DESONERADO'!E35 -> 23.263343 | J37: Valor com BDI =>
B39: 3.3.9 | C39: Código | D39: Banco | E39: Descrição | F39: Tipo | H39: Und | I39: Quant. | J39: Porcent. | K39: Valor Unit | L39: Total
B40: Composição | C40: CPU2100 | D40: Próprio | E40: Laje pré-fabricada unidirecional em viga treliçada/lajota em EPS LT 16 (12 + 4), exceto capa de concreto | F40: 13.01 | H40: m² | I40: 1
B41: Composição Auxiliar | C41: 88316 | D41: SINAPI | E41: SERVENTE COM ENCARGOS COMPLEMENTARES | F41: SEDI - SERVIÇOS DIVERSOS | H41: h | I41: 0.8 | J41: 0 | K41: 20.92 | L41: =K41*I41 -> 16.736
B42: Composição Auxiliar | C42: 88309 | D42: SINAPI | E42: PEDREIRO COM ENCARGOS COMPLEMENTARES | F42: SEDI - SERVIÇOS DIVERSOS | H42: h | I42: 0.4 | J42: 0 | K42: 28.6 | L42: =K42*I42 -> 11.44
B43: Insumo | C43: C.06.000.022012 | D43: CPOS/CDHU | E43: LAJE PRÉ-FABRICADA UNIDIRECIONAL EM VIGA TRELIÇADA/LAJOTA EM EPS LT 16 (12 + 4) - SC = 300KGF/M² | F43: Material | H43: m² | I43: 1 | J43: 0 | K43: 84.27 | L43: =K43*I43 -> 84.27
G44: MO sem LS => | H44: =L44 -> 112.45 | I44: LS => | J44: 0 | K44: MO com LS => | L44: 112.45
...

Sheet ORC. SINTÉTICO
B1: 9
A2: PLANILHA DE ORÇAMENTO SINTÉTICO
I3: BDI | J3: ='DADOS GERAIS'!$B$22 -> Data: | Q3: 2012825 | R3: REPASSE
A4: OBRA: | B4: Unidade Básica de Saúde - Porte 1 - UBS Leandro Ferreira | I4: ='BDI DESONERADO'!E35 -> 0.24518701 | J4: 45709 | Q4: =I449 -> 2077388.1 | R4: LF
Q5: =Q4-Q3 -> 64563.08 | R5: CONTRAPARTIDA
A6: ENDEREÇO: Rua Valentin Alves de Gois, S/N, Altino Quirino, Leandro Ferreira
A8: BANCOS: | B8: SBC (05/24), SBC (02/25), SBC (12/24), ORSE (12/24), SINAPI (01/25), SETOP (10/24), SICRO (10/24), IOPES (11/24), CPOS (11/24)
A10: ITEM | B10: CÓDIGO | C10: BANCO | D10: DESCRIÇÃO | E10: UND | F10: QUANT. | G10: VALOR UNIT | H10: VALOR UNIT C/BDI | I10: VALOR TOTAL | J10: Peso (%) | L10: BDI | M10: BDI TOTAL | N10: TOTAL SEM BDI
A12: 1 | D12: SERVIÇOS PRELIMINARES E INDIRETOS | I12: =SUM(I14:I20) -> 84953.85 | J12: =I12/$I$449 -> 0.04089455 | K12: =SUM(I12:I444) -> 4154776.2
A13: 1.1 | D13: CANTEIRO DE OBRAS | K13: =K12-I12-I21-I38-I68-I83-I93-I96-I127-I134-I142-I145-I151-I163-I165-I191-I306-I399-I413-I422-I434-I443 -> 2077388.1 | O13: =SUM(O14:O20) -> 84953.85
A14: 1.1.1 | B14: 12225 | C14: SBC | D14: ALUGUEL MENSAL DE CONTAINER | E14: UNXMÊS | F14: 10 | G14: 1171.09 | H14: =TRUNC(G14+(G14*$I$4),2) -> 1458.22 | I14: =TRUNC(H14*F14,2) -> 14582.2 | J14: =I14/$I$449 -> 0.0070194877 | L14: =TRUNC(G14*$I$4,2) -> 287.13 | M14: =TRUNC(F14*L14,2) -> 2871.3 | N14: =TRUNC(F14*G14,2) -> 11710.9 | O14: =TRUNC(N14+M14,2) -> 14582.2 | P14: =I14-O14 -> 0
A15: 1.1.2 | B15: C5208 | C15: SEINFRA | D15: LOCAÇÃO DE BANHEIRO QUÍMICO - INCLUSO TRANSPORTE, INSTALAÇÃO E MANUTENÇÃO | E15: MÊS | F15: 10 | G15: 950 | H15: =TRUNC(G15+(G15*$I$4),2) -> 1182.92 | I15: =TRUNC(H15*F15,2) -> 11829.2 | J15: =I15/$I$449 -> 0.0056942658 | L15: =TRUNC(G15*$I$4,2) -> 232.92 | M15: =F15*L15 -> 2329.2 | N15: =F15*G15 -> 9500 | O15: =TRUNC(N15+M15,2) -> 11829.2 | P15: =I15-O15 -> 0
A16: 1.1.3 | B16: 95648 | C16: SINAPI | D16: KIT CAVALETE PARA MEDIÇÃO DE ÁGUA - ENTRADA INDIVIDUALIZADA, EM CPVC DN 28 MM (1"), PARA 1 MEDIDOR - FORNECIMENTO E INSTALAÇÃO (EXCLUSIVE HIDRÔMETRO). AF_03/2024 | E16: UN | F16: 1 | G16: 613.37 | H16: =TRUNC(G16+(G16*$I$4),2) -> 763.76 | I16: =TRUNC(H16*F16,2) -> 763.76 | J16: =I16/$I$449 -> 0.00036765398 | L16: =TRUNC(G16*$I$4,2) -> 150.39 | M16: =F16*L16 -> 150.39 | N16: =F16*G16 -> 613.37 | O16: =TRUNC(N16+M16,2) -> 763.76 | P16: =I16-O16 -> 0
A17: 1.1.4 | B17: 101509 | C17: SINAPI | D17: ENTRADA DE ENERGIA ELÉTRICA, AÉREA, TRIFÁSICA, COM CAIXA DE EMBUTIR, CABO DE 10 MM2 E DISJUNTOR DIN 50A (NÃO INCLUSO O POSTE DE CONCRETO). AF_07/2020_PS | E17: UN | F17: 1 | G17: 1967.73 | H17: =TRUNC(G17+(G17*$I$4),2) -> 2450.19 | I17: =TRUNC(H17*F17,2) -> 2450.19 | J17: =I17/$I$449 -> 0.001179457 | L17: =TRUNC(G17*$I$4,2) -> 482.46 | M17: =F17*L17 -> 482.46 | N17: =F17*G17 -> 1967.73 | O17: =TRUNC(N17+M17,2) -> 2450.19 | P17: =I17-O17 -> 0
A18: 1.1.5 | B18: 103689 | C18: SINAPI | D18: FORNECIMENTO E INSTALAÇÃO DE PLACA DE OBRA COM CHAPA GALVANIZADA E ESTRUTURA DE MADEIRA. AF_03/2022_PS | E18: M² | F18: 6 | G18: 498.89 | H18: =TRUNC(G18+(G18*$I$4),2) -> 621.21 | I18: =TRUNC(H18*F18,2) -> 3727.26 | J18: =I18/$I$449 -> 0.001794205 | L18: =TRUNC(G18*$I$4,2) -> 122.32 | M18: =F18*L18 -> 733.92 | N18: =F18*G18 -> 2993.34 | O18: =TRUNC(N18+M18,2) -> 3727.26 | P18: =I18-O18 -> 0
A19: 1.2 | D19: ADMINISTRAÇÃO LOCAL DA OBRA | L19: =TRUNC(G19*$I$4,2) -> 0 | M19: =F19*L19 -> 0 | N19: =F19*G19 -> 0 | O19: =TRUNC(N19+M19,2) -> 0 | P19: =I19-O19 -> 0
A20: 1.2.1 | B20: 93565 | C20: SINAPI | D20: ENGENHEIRO CIVIL DE OBRA JUNIOR COM ENCARGOS COMPLEMENTARES | E20: MES | F20: 2 | G20: 20720.28 | H20: =TRUNC(G20+(G20*$I$4),2) -> 25800.62 | I20: =TRUNC(H20*F20,2) -> 51601.24 | J20: =I20/$I$449 -> 0.02483948 | L20: =TRUNC(G20*$I$4,2) -> 5080.34 | M20: =F20*L20 -> 10160.68 | N20: =F20*G20 -> 41440.56 | O20: =TRUNC(N20+M20,2) -> 51601.24 | P20: =I20-O20 -> 0
A21: 2 | D21: FUNDAÇÃO | I21: =SUM(I22:I37) -> 218124.07 | J21: =I21/$I$449 -> 0.10499919 | L21: =TRUNC(G21*$I$4,2) -> 0 | M21: =F21*L21 -> 0 | N21: =F21*G21 -> 0 | O21: =SUM(O22:O37) -> 218124.07 | P21: =I21-O21 -> 0
A22: 2.1 | B22: 99059 | C22: SINAPI | D22: LOCAÇÃO CONVENCIONAL DE OBRA, UTILIZANDO GABARITO DE TÁBUAS CORRIDAS PONTALETADAS A CADA 2,00M - 2 UTILIZAÇÕES. AF_03/2024 | E22: M | F22: 125 | G22: 69.89 | H22: =TRUNC(G22+(G22*$I$4),2) -> 87.02 | I22: =TRUNC(H22*F22,2) -> 10877.5 | J22: =I22/$I$449 -> 0.0052361425 | L22: =TRUNC(G22*$I$4,2) -> 17.13 | M22: =F22*L22 -> 2141.25 | N22: =F22*G22 -> 8736.25 | O22: =TRUNC(N22+M22,2) -> 10877.5 | P22: =I22-O22 -> 0
A23: 2.2 | B23: 90100 | C23: SINAPI | D23: ESCAVAÇÃO MECANIZADA DE VALA COM PROF. ATÉ 1,5 M (MÉDIA MONTANTE E JUSANTE/UMA COMPOSIÇÃO POR TRECHO), RETROESCAV. (0,26 M3), LARG. DE 0,8 M A 1,5 M, EM SOLO DE 1A CATEGORIA, EM LOCAIS COM ALTO NÍVEL DE INTERFERÊNCIA. AF_02/2021 | E23: M³ | F23: 203.88 | G23: 13.56 | H23: =TRUNC(G23+(G23*$I$4),2) -> 16.88 | I23: =TRUNC(H23*F23,2) -> 3441.49 | J23: =I23/$I$449 -> 0.0016566428 | L23: =TRUNC(G23*$I$4,2) -> 3.32 | M23: =F23*L23 -> 676.8816 | N23: =F23*G23 -> 2764.6128 | O23: =TRUNC(N23+M23,2) -> 3441.49 | P23: =I23-O23 -> 0
A24: 2.3 | B24: 93358 | C24: SINAPI | D24: ESCAVAÇÃO MANUAL DE VALA COM PROFUNDIDADE MENOR OU IGUAL A 1,30 M. AF_02/2021 | E24: M³ | F24: 23.342 | G24: 82.75 | H24: =TRUNC(G24+(G24*$I$4),2) -> 103.03 | I24: =TRUNC(H24*F24,2) -> 2404.92 | J24: =I24/$I$449 -> 0.0011576653 | L24: =TRUNC(G24*$I$4,2) -> 20.28 | M24: =F24*L24 -> 473.37576 | N24: =F24*G24 -> 1931.5505 | O24: =TRUNC(N24+M24,2) -> 2404.92 | P24: =I24-O24 -> 0
A25: 2.4 | B25: 100324 | C25: SINAPI | D25: LASTRO COM MATERIAL GRANULAR (PEDRA BRITADA N.1 E PEDRA BRITADA N.2), APLICADO EM PISOS OU LAJES SOBRE SOLO, ESPESSURA DE *10 CM*. AF_01/2024 | E25: M³ | F25: 36.186 | G25: 212.93 | H25: =TRUNC(G25+(G25*$I$4),2) -> 265.13 | I25: =TRUNC(H25*F25,2) -> 9593.99 | J25: =I25/$I$449 -> 0.0046182945 | L25: =TRUNC(G25*$I$4,2) -> 52.2 | M25: =F25*L25 -> 1888.9092 | N25: =F25*G25 -> 7705.085 | O25: =TRUNC(N25+M25,2) -> 9593.99 | P25: =I25-O25 -> 0
A26: 2.5 | B26: 96534 | C26: SINAPI | D26: FABRICAÇÃO, MONTAGEM E DESMONTAGEM DE FÔRMA PARA BLOCO DE COROAMENTO, EM MADEIRA SERRADA, E=25 MM, 4 UTILIZAÇÕES. AF_01/2024 | E26: M² | F26: 392.1 | G26: 78.18 | H26: =TRUNC(G26+(G26*$I$4),2) -> 97.34 | I26: =TRUNC(H26*F26,2) -> 38167.01 | J26: =I26/$I$449 -> 0.018372595 | L26: =TRUNC(G26*$I$4,2) -> 19.16 | M26: =F26*L26 -> 7512.636 | N26: =F26*G26 -> 30654.378 | O26: =TRUNC(N26+M26,2) -> 38167.01 | P26: =I26-O26 -> 0
A27: 2.6 | B27: 96543 | C27: SINAPI | D27: ARMAÇÃO DE BLOCO UTILIZANDO AÇO CA-60 DE 5 MM - MONTAGEM. AF_01/2024 | E27: KG | F27: 440.3 | G27: 19.93 | H27: =TRUNC(G27+(G27*$I$4),2) -> 24.81 | I27: =TRUNC(H27*F27,2) -> 10923.84 | J27: =I27/$I$449 -> 0.0052584494 | L27: =TRUNC(G27*$I$4,2) -> 4.88 | M27: =F27*L27 -> 2148.664 | N27: =F27*G27 -> 8775.179 | O27: =TRUNC(N27+M27,2) -> 10923.84 | P27: =I27-O27 -> 0
A28: 2.7 | B28: 96544 | C28: SINAPI | D28: ARMAÇÃO DE BLOCO UTILIZANDO AÇO CA-50 DE 6,3 MM - MONTAGEM. AF_01/2024 | E28: KG | F28: 139.1 | G28: 17.81 | H28: =TRUNC(G28+(G28*$I$4),2) -> 22.17 | I28: =TRUNC(H28*F28,2) -> 3083.84 | J28: =I28/$I$449 -> 0.0014844795 | L28: =TRUNC(G28*$I$4,2) -> 4.36 | M28: =F28*L28 -> 606.476 | N28: =F28*G28 -> 2477.371 | O28: =TRUNC(N28+M28,2) -> 3083.84 | P28: =I28-O28 -> 0
A29: 2.8 | B29: 96545 | C29: SINAPI | D29: ARMAÇÃO DE BLOCO UTILIZANDO AÇO CA-50 DE 8 MM - MONTAGEM. AF_01/2024 | E29: KG | F29: 1010.5 | G29: 15.93 | H29: =TRUNC(G29+(G29*$I$4),2) -> 19.83 | I29: =TRUNC(H29*F29,2) -> 20038.21 | J29: =I29/$I$449 -> 0.0096458674 | L29: =TRUNC(G29*$I$4,2) -> 3.9 | M29: =F29*L29 -> 3940.95 | N29: =F29*G29 -> 16097.265 | O29: =TRUNC(N29+M29,2) -> 20038.21 | P29: =I29-O29 -> 0
A30: 2.9 | B30: 96546 | C30: SINAPI | D30: ARMAÇÃO DE BLOCO UTILIZANDO AÇO CA-50 DE 10 MM - MONTAGEM. AF_01/2024 | E30: KG | F30: 650 | G30: 13.89 | H30: =TRUNC(G30+(G30*$I$4),2) -> 17.29 | I30: =TRUNC(H30*F30,2) -> 11238.5 | J30: =I30/$I$449 -> 0.0054099184 | L30: =TRUNC(G30*$I$4,2) -> 3.4 | M30: =F30*L30 -> 2210 | N30: =F30*G30 -> 9028.5 | O30: =TRUNC(N30+M30,2) -> 11238.5 | P30: =I30-O30 -> 0
A31: 2.10 | B31: 104920 | C31: SINAPI | D31: ARMAÇÃO DE BLOCO, SAPATA ISOLADA, VIGA BALDRAME E SAPATA CORRIDA UTILIZANDO AÇO CA-50 DE 12,5 MM - MONTAGEM. AF_01/2024 | E31: KG | F31: 724.4 | G31: 10.63 | H31: =TRUNC(G31+(G31*$I$4),2) -> 13.23 | I31: =TRUNC(H31*F31,2) -> 9583.81 | J31: =I31/$I$449 -> 0.0046133941 | L31: =TRUNC(G31*$I$4,2) -> 2.6 | M31: =F31*L31 -> 1883.44 | N31: =F31*G31 -> 7700.372 | O31: =TRUNC(N31+M31,2) -> 9583.81 | P31: =I31-O31 -> 0
