Workbook
Name __xlnm.Print_Area_5: #REF!
Name __xlnm.Print_Titles_4: ([1]Cronograma!$A$1:$D$65536,[1]Cronograma!$A$1:$IV$8)
Name _Toc287531426_1: "NA()"
Name _Toc287531426_1_2: "NA()"
Name _Toc287531426_1_6: "NA()"
Name _Toc287531426_1_7: "NA()"
Name _Toc287531447_1: "NA()"
Name _Toc287531447_1_2: "NA()"
Name _Toc287531447_1_6: "NA()"
Name _Toc287531447_1_7: "NA()"
Name _Toc287531464_1: "NA()"
Name _Toc287531464_1_2: "NA()"
Name _Toc287531464_1_6: "NA()"
Name _Toc287531464_1_7: "NA()"
Name _Toc287531470_1: "NA()"
Name _Toc287531470_1_2: "NA()"
Name _Toc287531470_1_6: "NA()"
Name _Toc287531470_1_7: "NA()"
Name _Toc288033933_1: "NA()"
Name _Toc288033933_1_2: "NA()"
Name _Toc288033933_1_6: "NA()"
Name _Toc288033933_1_7: "NA()"
Name _Toc288033954_1: "NA()"
Name _Toc288033954_1_2: "NA()"
Name _Toc288033954_1_6: "NA()"
Name _Toc288033954_1_7: "NA()"
Name _Toc288656798_1: "NA()"
Name _Toc288656798_1_2: "NA()"
Name _Toc288656798_1_6: "NA()"
Name _Toc288656798_1_7: "NA()"
Name _Toc288656810_1: "NA()"
Name _Toc288656810_1_2: "NA()"
Name _Toc288656810_1_6: "NA()"
Name _Toc288656810_1_7: "NA()"
Name _Toc292799944_1: "NA()"
Name _Toc292799944_1_2: "NA()"
Name _Toc292799944_1_6: "NA()"
Name _Toc292799944_1_7: "NA()"
Name _Toc292799947_1: "NA()"
Name _Toc292799947_1_2: "NA()"
Name _Toc292799947_1_6: "NA()"
Name _Toc292799947_1_7: "NA()"
Name _Toc292799948_1: "NA()"
Name _Toc292799948_1_2: "NA()"
Name _Toc292799948_1_6: "NA()"
Name _Toc292799948_1_7: "NA()"
Name _Toc292799949_1: "NA()"
Name _Toc292799949_1_2: "NA()"
Name _Toc292799949_1_6: "NA()"
Name _Toc292799949_1_7: "NA()"
Name _Toc292799950_1: "NA()"
Name _Toc292799950_1_2: "NA()"
Name _Toc292799950_1_6: "NA()"
Name _Toc292799950_1_7: "NA()"
Name _Toc292799951_1: "NA()"
Name _Toc292799951_1_2: "NA()"
Name _Toc292799951_1_6: "NA()"
Name _Toc292799951_1_7: "NA()"
Name _Toc292799952_1: "NA()"
Name _Toc292799952_1_2: "NA()"

Sheet PLANILHA ORÇAMENTÁRIA LAJE
B2: PLANILHA ORÇAMENTÁRIA
B4: PREFEITURA MUNICIPAL DE BARRA LONGA
B5: OBRA: CONSTRUÇÃO CAMPO E VESTIÁRIO | G5: DATA: 30/10/2023
B6: LOCAL: BARRA LONGA - BARRA LONGA/MG | F6: FORMA DE EXECUÇÃO: Contratação à Preço Global
B7: REGIÃO/MÊS DE REFERÊNCIA: Tabela de Preços SETOP-Leste/ABRIL 2022 / SINAPI JUNHO 2022 | F7: ( ) DIRETA | H7: ( x ) INDIRETA
B8: PRAZO DE EXECUÇÃO: 60 dias | H8: BDI | I8: 0.2522
B9: ITEM | C9: CODIGO | D9: DESCRIÇÃO | E9: UNID | F9: QUANT | G9: CUSTO | H9: CUSTO + BDI | I9: TOTAL
B10: A | D10: INSTALAÇÃO DA OBRA
B11: 1.0 | C11: ED-16660 | D11: PLACA DE OBRA ED-16660 FORNECIMENTO E COLOCAÇÃO DE PLACA DE OBRA EM CHAPA GALVANIZADA #26, ESP. 0,45 MM, PLOTADA COM ADESIVO VINÍLICO, AFIXADA COM REBITES 4,8X40 MM, EM ESTRUTURA METÁLICA DE METALON 20X20 MM, ESP. 1,25 MM, INCLUSIVE SUPORTE EM EUCALIPTO AUTOCLAVADO PINTADO COM TINTA PVA DUAS (2) DEMÃOS | E11: M2 | F11: =2.5 -> 2.5 | G11: 317.71 | H11: =G11+G11*$I$8 -> 397.83646 | I11: =H11*F11 -> 994.59115
D12: TOTAL ITEM A | I12: =SUM(I11:I11) -> 994.59115
B13: B | D13: FUNDAÇÃO
B14: 1.0 | C14: ED-51107 | D14: ESCAVAÇÃO MANUAL DE VALA COM PROFUNDIDADE MENOR OU IGUAL A 1,5M, INCLUSIVE DESCARGA LATERAL | E14: M3 | F14: =#REF! -> #REF! | G14: 60.61 | H14: =G14+G14*$I$8 -> 75.895842 | I14: =H14*F14 -> #REF!
B15: 2.0 | C15: ED-51122 | D15: REGULARIZAÇÃO E COMPACTAÇÃO DE TERRENO MANUAL COM SOQUETE, EXCLUSIVE DESMATAMENTO, DESTOCAMENTO, LIMPEZA/ROÇADA DO TERRENO | E15: M2 | F15: =#REF! -> #REF! | G15: 8.72 | H15: =G15+G15*$I$8 -> 10.919184 | I15: =H15*F15 -> #REF!
B16: 3.0 | C16: ED-48295 | D16: CORTE, DOBRA E MONTAGEM DE AÇO CA-50, DIÂMETRO (6,3MM A 12,5MM), INCLUSIVE ESPAÇADOR | E16: KG | F16: =#REF! -> #REF! | G16: 13.07 | H16: =G16+G16*$I$8 -> 16.366254 | I16: =H16*F16 -> #REF!
B17: 4.0 | C17: ED-49786 | D17: FORNECIMENTO DE CONCRETO ESTRUTURAL, PREPARADO EM OBRA COM BETONEIRA, COM FCK 20MPA, INCLUSIVE LANÇAMENTO, ADENSAMENTO E ACABAMENTO (FUNDAÇÃO) | E17: M3 | F17: =#REF! -> #REF! | G17: 670.65 | H17: =G17+G17*$I$8 -> 839.78793 | I17: =H17*F17 -> #REF!
B18: 5.0 | C18: ED-51132 | D18: CARGA MECÂNICA DE MATERIAL DE QUALQUER NATUREZA SOBRE CAMINHÃO, EXCLUSIVE TRANSPORTE | E18: M3 | G18: 3.01 | H18: =G18+G18*$I$8 -> 3.769122 | I18: =H18*F18 -> 0
B19: 6.0 | C19: ED-29229 | D19: TRANSPORTE DE MATERIAL DE QUALQUER NATUREZA EM CAMINHÃO, DISTÂNCIA MENOR OU IGUAL A 1KM, DENTRO DO PERÍMETRO URBANO, EXCLUSIVE CARGA, INCLUSIVE DESCARGA | E19: M3 | G19: 6.36 | H19: =G19+G19*$I$8 -> 7.963992 | I19: =H19*F19 -> 0
D20: TOTAL ITEM B | I20: =SUM(I14:I19) -> #REF!
B21: C | D21: ESTRUTURA
B22: 1.0 | C22: 92479 | D22: MONTAGEM E DESMONTAGEM DE FÔRMA DE VIGA/PILAR, ESCORAMENTO COM GARFO DE MADEIRA, PÉ-DIREITO SIMPLES, EM CHAPA DE MADEIRA RESINADA, 18 UTILIZAÇÕES. | E22: M2 | F22: =#REF! -> #REF! | G22: 66.59 | H22: =G22+G22*$I$8 -> 83.383998 | I22: =H22*F22 -> #REF!
B23: 2.0 | C23: ED-48295 | D23: CORTE, DOBRA E MONTAGEM DE AÇO CA-50, DIÂMETRO (6,3MM A 12,5MM), INCLUSIVE ESPAÇADOR | E23: KG | F23: =#REF! -> #REF! | G23: 13.07 | H23: =G23+G23*$I$8 -> 16.366254 | I23: =H23*F23 -> #REF!
B24: 3.0 | C24: ED-49786 | D24: FORNECIMENTO DE CONCRETO ESTRUTURAL, PREPARADO EM OBRA COM BETONEIRA, COM FCK 20MPA, INCLUSIVE LANÇAMENTO, ADENSAMENTO E ACABAMENTO (FUNDAÇÃO) | E24: M3 | F24: =#REF! -> #REF! | G24: 670.65 | H24: =G24+G24*$I$8 -> 839.78793 | I24: =H24*F24 -> #REF!
B25: 4.0 | C25: 92530 | D25: MONTAGEM E DESMONTAGEM DE FÔRMA DE LAJE MACIÇA, PÉ-DIREITO SIMPLES, EM CHAPA DE MADEIRA COMPENSADA PLASTIFICADA, 12 UTILIZAÇÕES. | E25: M2 | F25: =#REF! -> #REF! | G25: 41.42 | H25: =G25+G25*$I$8 -> 51.866124 | I25: =H25*F25 -> #REF!
B26: 5.0 | C26: 101792 | D26: ESCORAMENTO DE FÔRMAS DE LAJE EM MADEIRA NÃO APARELHADA, PÉ-DIREITO SIMPLES, INCLUSO TRAVAMENTO, 4 UTILIZAÇÕES. AF_09/2020 | E26: M3 | F26: =F25*3 -> #REF! | G26: 17.74 | H26: =G26+G26*$I$8 -> 22.214028 | I26: =H26*F26 -> #REF!
B27: 6.0 | C27: ED-48232 | D27: ALVENARIA DE VEDAÇÃO COM TIJOLO CERÂMICO FURADO, ESP. 14CM, PARA REVESTIMENTO, INCLUSIVE ARGAMASSA PARA ASSENTAMENTO. | E27: M2 | F27: =#REF! -> #REF! | G27: 65.56 | H27: =G27+G27*$I$8 -> 82.094232 | I27: =H27*F27 -> #REF!
D28: TOTAL ITEM C | I28: =SUM(I22:I27) -> #REF!
B29: D | D29: INSTALAÇÕES HIDRÁULICAS
D30: ESGOTO
B31: 1.0 | C31: ED-50224 | D31: PONTO DE EMBUTIR PARA ESGOTO EM TUBO PVC RÍGIDO, PBV - SÉRIE NORMAL, DN 50MM (2"), EMBUTIDO EM PISO COM DISTÂNCIA DE ATÉ CINCO (5) METROS DA RAMAL DE ESGOTO, EXCLUSIVE ESCAVAÇÃO, INCLUSIVE CONEXÕES E FIXAÇÃO DO TUBO COM ENCHIMENTO DO RASGO NO CONCRETO COM ARGAMASSA | E31: UNID | F31: 12 | G31: 200.7 | H31: =G31+G31*$I$8 -> 251.31654 | I31: =H31*F31 -> 3015.7985
B32: 2.0 | C32: ED-50225 | D32: PONTO DE EMBUTIR PARA ESGOTO EM TUBO PVC RÍGIDO, PBV - SÉRIE NORMAL, DN 100MM (4"), EMBUTIDO EM PISO COM DISTÂNCIA DE ATÉ CINCO (5) METROS DA RAMAL DE ESGOTO, INCLUSIVE CONEXÕES E FIXAÇÃO DO TUBO COM ENCHIMENTO DO RASGO NO CONCRETO COM ARGAMASSA. | E32: UNID | F32: 5 | G32: 283.95 | H32: =G32+G32*$I$8 -> 355.56219 | I32: =H32*F32 -> 1777.811
B33: 3.0 | C33: ED-50298 | D33: BACIA SANITÁRIA (VASO) DE LOUÇA CONVENCIONAL, COR BRANCA, INCLUSIVE ACESSÓRIOS DE FIXAÇÃO/VEDAÇÃO, VÁLVULA DE DESCARGA METÁLICA COM ACIONAMENTO DUPLO, TUBO DE LIGAÇÃO DE LATÃO COM CANOPLA, FORNECIMENTO, INSTALAÇÃO E REJUNTAMENTO. | E33: UNID | F33: 5 | G33: 726.1 | H33: =G33+G33*$I$8 -> 909.22242 | I33: =H33*F33 -> 4546.1121
B34: 4.0 | C34: ED-50011 | D34: CAIXA SIFONADA EM PVC COM GRELHA REDONDA 100 X 100 X 50MM | E34: UNID | F34: 9 | G34: 54.8 | H34: =G34+G34*$I$8 -> 68.62056 | I34: =H34*F34 -> 617.58504
D35: ÁGUA FRIA
B36: 5.0 | C36: ED-50221 | D36: PONTO DE EMBUTIR PARA ÁGUA FRIA EM TUBO DE PVC RÍGIDO SOLDÁVEL, DN 20MM (1/2"), EMBUTIDO NA ALVENARIA COM DISTÂNCIA DE ATÉ CINCO (5) METROS DA TOMADA DE ÁGUA, INCLUSIVE CONEXÕES E FIXAÇÃO DO TUBO COM ENCHIMENTO DO RASGO NA ALVENARIA/CONCRETO COM ARGAMASSA. | E36: UNID | F36: 17 | G36: 124.3 | H36: =G36+G36*$I$8 -> 155.64846 | I36: =H36*F36 -> 2646.0238
B37: 6.0 | C37: ED-50281 | D37: LAVATÓRIO DE LOUÇA BRANCA SEM COLUNA, TAMANHO PEQUENO, INCLUSIVE ACESSÓRIOS DE FIXAÇÃO, VÁLVULA DE ESCOAMENTO DE METAL COM ACABAMENTO CROMADO, SIFÃO DE METAL TIPO COPO COM ACABAMENTO CROMADO, FORNECIMENTO, INSTALAÇÃO E REJUNTAMENTO, EXCLUSIVE TORNEIRA E ENGATE FLEXÍVEL. | E37: UNID | F37: 5 | G37: 364.8 | H37: =G37+G37*$I$8 -> 456.80256 | I37: =H37*F37 -> 2284.0128
B38: 7.0 | C38: ED-50330 | D38: TORNEIRA METÁLICA PARA LAVATÓRIO, ABERTURA 1/4 DE VOLTA, ACABAMENTO CROMADO, COM AREJADOR, APLICAÇÃO DE MESA, INCLUSIVE ENGATE FLEXÍVEL METÁLICO, FORNECIMENTO E INSTALAÇÃO. | E38: UNID | F38: 5 | G38: 129.33 | H38: =G38+G38*$I$8 -> 161.94703 | I38: =H38*F38 -> 809.73513
B39: 8.0 | C39: ED-50310 | D39: BRAÇO PARA CHUVEIRO, COMPRIMENTO 40 CM, DIÂMETRO NOMINAL DE 1/2" (20MM), INCLUSIVE ACABAMENTO. | E39: UNID | F39: 7 | G39: 20.25 | H39: =G39+G39*$I$8 -> 25.35705 | I39: =H39*F39 -> 177.49935
B40: 9.0 | C40: ED-16344 | D40: CHUVEIRO ELÉTRICO BRANCO, TENSÃO 127V/220V, POTÊNCIA 4600W/5500W, INCLUSIVE BRAÇO, FORNECIMENTO E INSTALAÇÃO. | E40: UNID | F40: 7 | G40: 107.25 | H40: =G40+G40*$I$8 -> 134.29845 | I40: =H40*F40 -> 940.08915
B41: 10.0 | C41: ED-49936 | D41: CAIXA D´ÁGUA DE POLIETILENO, CAPACIDADE DE 1.000L, INCLUSIVE TAMPA, TORNEIRA DE BOIA, EXTRAVASOR, TUBO DE LIMPEZA E ACESSÓRIOS, EXCLUSIVE TUBULAÇÃO DE ENTRADA/ SAÍDA DE ÁGUA. | E41: UNID | F41: 1 | G41: 859.18 | H41: =G41+G41*$I$8 -> 1075.8652 | I41: =H41*F41 -> 1075.8652
D42: TOTAL ITEM D | I42: =SUM(I31:I41) -> 17890.532
...

Sheet PLANILHA ORÇAMENTÁRIA POSTO
B2: PLANILHA ORÇAMENTÁRIA
B4: PREFEITURA MUNICIPAL DE BARRA LONGA
B5: OBRA: PAVIMENTAÇÃO ASFÁLTICA (PMF) | G5: DATA: 29/07/2024
B6: LOCAL: DIVERSOS | F6: FORMA DE EXECUÇÃO: Contratação à Preço Global
B7: REGIÃO/MÊS DE REFERÊNCIA: Tabela de Preços SETOP-Leste/ABRIL 2024 (TOTAL DE 22.700M²) | F7: ( ) DIRETA | H7: ( x ) INDIRETA
B8: PRAZO DE EXECUÇÃO: 90 dias | H8: BDI | I8: 0.2977
B9: ITEM | C9: CODIGO | D9: DESCRIÇÃO | E9: UNID | F9: QUANT | G9: CUSTO | H9: CUSTO + BDI | I9: TOTAL
B10: 1 | D10: INSTALAÇÃO DA OBRA
B11: 1.1 | C11: ED-16660 | D11: PLACA DE OBRA ED-16660 FORNECIMENTO E COLOCAÇÃO DE PLACA DE OBRA EM CHAPA GALVANIZADA #26, ESP. 0,45 MM, PLOTADA COM ADESIVO VINÍLICO, AFIXADA COM REBITES 4,8X40 MM, EM ESTRUTURA METÁLICA DE METALON 20X20 MM, ESP. 1,25 MM, INCLUSIVE SUPORTE EM EUCALIPTO AUTOCLAVADO PINTADO COM TINTA PVA DUAS (2) DEMÃOS | E11: M2 | F11: 4.5 | G11: 303.81 | H11: =G11+G11*$I$8 -> 394.25424 | I11: =H11*F11 -> 1774.1441
D12: TOTAL ITEM A | I12: =SUM(I11:I11) -> 1774.1441
B13: 2 | D13: PAVIMENTAÇÃO
B14: 2.1 | C14: ED-7624 | D14: EXECUÇÃO E APLICAÇÃO DE CONCRETO ASFÁLTICO PRE MISTURADO À FRIO (PMF), EM BETONEIRA, INCLUINDO FORNECIMENTO E TRANSPORTE DOS AGREGADOS E MATERIAL BETUMINOSO, INCLUSIVE TRANSPORTE DA MASSA ASFÁLTICA ATÉ A PISTA | E14: M3 | F14: =22700*0.05 -> 1135 | G14: 848.5 | H14: =G14+G14*$I$8 -> 1101.0984 | I14: =H14*F14 -> 1249746.7
B15: 2.2 | C15: ED-48664 | D15: GUIA DE MEIO-FIO (10X15X22)CM E SARJETA (30X10)CM COM INCLINAÇÃO DE 10%, EM CONCRETO COM FCK 15MPA, MOLDADA IN-LOCO, FORMA EM MADEIRA, INCLUSIVE ESCAVAÇÃO, APILOAMENTO E TRANSPORTE COM RETIRADA DO MATERIAL ESCAVADO (EM CAÇAMBA) | E15: M | F15: =(22700/6)*2 -> 7566.6667 | G15: 96.22 | H15: =G15+G15*$I$8 -> 124.86469 | I15: =H15*F15 -> 944809.52
B16: 2.3 | C16: ED-41444 | D16: Base ou sub-base estabilizada granulometricamente com mistura na pista de solo bica corrida (30% - 70%), com material de jazida e bica corrida comercial - Compactado na energia modificada (Execução, incluído escavação e carga do material de jazida, fornecimento e carga da bica corrida, exclui o transporte) | E16: M3 | F16: =22700*0.2 -> 4540 | G16: 64.34 | H16: =G16+G16*$I$8 -> 83.494018 | I16: =H16*F16 -> 379062.84
B17: 2.4 | C17: ED-29233 | D17: TRANSPORTE DE MATERIAL DE QUALQUER NATUREZA EM CAMINHÃO, DISTÂNCIA MAIOR QUE 10KM E MENOR OU IGUAL A 20KM, DENTRO DO PERÍMETRO URBANO, EXCLUSIVE CARGA, INCLUSIVE DESCARGA | E17: M3xKM | F17: =F16*20 -> 90800 | G17: 2.04 | H17: =G17+G17*$I$8 -> 2.647308 | I17: =H17*F17 -> 240375.57
B18: 2.5 | C18: ED-51105 | D18: ESCAVAÇÃO MECÂNICA EM MATERIAL DE 1ª CATEGORIA, INCLUSIVE DESCARGA LATERAL, EXCLUSIVE TRANSPORTE | E18: M3 | F18: =F19*1*1.249346 -> 424.77764 | G18: 7.865 | H18: =G18+G18*$I$8 -> 10.206411 | I18: =H18*F18 -> 4335.455
B19: 2.6 | C19: ED-48680 | D19: TUBO DE CONCRETO ARMADO, CLASSE PA1, DIÂMETRO 400MM, INCLUSIVE FORNECIMENTO, ASSENTAMENTO E REJUNTAMENTO, EXCLUSIVE ESCAVAÇÃO | E19: M | F19: 340 | G19: 152.81 | H19: =G19+G19*$I$8 -> 198.30154 | I19: =H19*F19 -> 67422.523
B20: 2.7 | C20: ED-48550 | D20: BOCA DE LOBO SIMPLES (TIPO B - CONCRETO), QUADRO, GRELHA E CANTONEIRA, INCLUSIVE ESCAVAÇÃO, REATERRO E BOTA FORA | E20: U | F20: 66 | G20: 1313.2 | H20: =G20+G20*$I$8 -> 1704.1396 | I20: =H20*F20 -> 112473.22
C22: ED-51132 | D22: CARGA MECÂNICA DE MATERIAL DE QUALQUER NATUREZA SOBRE CAMINHÃO, EXCLUSIVE TRANSPORTE | E22: M3 | G22: 3.01 | H22: =G22+G22*$I$8 -> 3.906077 | I22: =H22*F22 -> 0
C23: ED-29229 | D23: TRANSPORTE DE MATERIAL DE QUALQUER NATUREZA EM CAMINHÃO, DISTÂNCIA MENOR OU IGUAL A 1KM, DENTRO DO PERÍMETRO URBANO, EXCLUSIVE CARGA, INCLUSIVE DESCARGA | E23: M3 | G23: 6.36 | H23: =G23+G23*$I$8 -> 8.253372 | I23: =H23*F23 -> 0
D24: TOTAL ITEM B | I24: =SUM(I14:I23) -> 2998225.9
D26: VALOR TOTAL | I26: =I24+I12 -> 3000000
H27: CUSTO / M2 | I27: =I26/22700 -> 132.15859
D30: Luciano Mendes Pereira
D31: Engº Civil - CREA 58802/D
A34: 1 | B34: 800 | C34: 4.00 | D34: MORRO COVANCA 3.200M² | E34: =800*4 -> 3200
A35: 2 | B35: 690 | C35: 5.00 | D35: MORRO PIMENTA 3.450M² | E35: =690*5 -> 3450
A36: 3 | B36: 500 | C36: 4.00 | D36: SAIDA CUNHA 2.000M² | E36: =500*4 -> 2000
A37: 4 | B37: 690 | C37: 5.00 | D37: MORRO FRAGOSO 3.450M² | E37: =690*5 -> 3450
A38: 5 | B38: 920 | C38: 5.00 | D38: PONTE FELIPE SANTOS 4.600M² | E38: =920*5 -> 4600
A39: 6 | B39: 1000 | C39: 6.00 | D39: GETULIO ETRUSCO 6.000M² | E39: =1000*6 -> 6000
A40: 7 | E40: =SUM(E34:E39) -> 22700
A41: 8
A42: T= | B42: 22.700M²
B43: TOTAL | C43: S/SARJETA

Sheet 1º Boletim de Medição
B1: BOLETIM DE MEDIÇÃO
B2: PREFEITURA MUNICIPAL DE BARRA LONGA | E2: BOLETIM DE MEDIÇÃO n.º 1 | L2: Folha:1/1
B3: Contratada: SMP SERVIÇOS EIRELI | I3: Data de Emissão: 06/08/2020
B4: Obra: | E4: Licitação nº TP 005/2019 | I4: Período de execução: 06/08/2020 a 15/04/2020
B5: REFORMA DA CORPORAÇÃO UNIÃO MUSICAL SÃO JOSÉ | E5: Contrato nº 4501/2019 | L5: SALDOS
E6: Ordem de Serviço N.º: 001 | H6: Valor do contrato: | K6: Anterior: | L6: Esta Medição: | M6: Atual:
E7: Data da Ordem de Serviço: 02/01/2020 | H7: ='PLANILHA ORÇAMENTÁRIA LAJE'!I102 -> #REF! | L7: =L76 -> #REF! | M7: =H7-L7 -> #REF!
B9: ITEM | C9: CÓDIGO | D9: DESCRIÇÃO | E9: QUANT. PREVISTA | F9: QUANTIDADE EXECUTADA | I9: UNIDADE | J9: CUSTO | K9: VALOR UNITÁRIO | L9: VALORES EXECUTADOS (R$) | N9: TOTAL | P9: Saldo de Quantitativos | Q9: Saldo
F11: Anterior | G11: No Período | H11: Acumulado | L11: No período | M11: Acumulado
B12: A | D12: INSTALAÇÃO DA OBRA
B13: 1.0 | C13: IIO-PLA- 005 | D13: ='PLANILHA ORÇAMENTÁRIA LAJE'!D11 -> PLACA DE OBRA ED-16660 FORNECIMENTO E COLOCAÇÃO DE PLACA DE OBRA EM CHAPA GALVANIZADA #26, ESP. 0,45 MM, PLOTADA COM ADESIVO VINÍLICO, AFIXADA COM REBITES 4,8X40 MM, EM ESTRUTURA METÁLICA DE METALON 20X20 MM, ESP. 1,25 MM, INCLUSIVE SUPORTE EM EUCALIPTO AUTOCLAVADO PINTADO COM TINTA PVA DUAS (2) DEMÃOS | E13: ='PLANILHA ORÇAMENTÁRIA LAJE'!F11 -> 2.5 | F13: 0 | H13: =G13+F13 -> 0 | I13: ='PLANILHA ORÇAMENTÁRIA LAJE'!E11 -> M2 | K13: ='PLANILHA ORÇAMENTÁRIA LAJE'!H11 -> 397.83646 | L13: =K13*G13 -> 0 | M13: =L13 -> 0 | P13: =E13-H13 -> 2.5 | Q13: =P13*K13 -> 994.59115
B14: 2.0 | C14: ='PLANILHA ORÇAMENTÁRIA LAJE'!#REF! -> #REF! | D14: ='PLANILHA ORÇAMENTÁRIA LAJE'!#REF! -> #REF! | E14: ='PLANILHA ORÇAMENTÁRIA LAJE'!#REF! -> #REF! | F14: 0 | H14: =G14+F14 -> 0 | I14: ='PLANILHA ORÇAMENTÁRIA LAJE'!#REF! -> #REF! | K14: ='PLANILHA ORÇAMENTÁRIA LAJE'!#REF! -> #REF! | L14: =K14*G14 -> #REF! | M14: =L14 -> #REF! | P14: =E14-H14 -> #REF! | Q14: =P14*K14 -> #REF!
B15: 3.0 | C15: ='PLANILHA ORÇAMENTÁRIA LAJE'!#REF! -> #REF! | D15: ='PLANILHA ORÇAMENTÁRIA LAJE'!#REF! -> #REF! | E15: ='PLANILHA ORÇAMENTÁRIA LAJE'!#REF! -> #REF! | F15: 0 | H15: =G15+F15 -> 0 | I15: ='PLANILHA ORÇAMENTÁRIA LAJE'!#REF! -> #REF! | K15: ='PLANILHA ORÇAMENTÁRIA LAJE'!#REF! -> #REF! | L15: =K15*G15 -> #REF! | M15: =L15 -> #REF! | P15: =E15-H15 -> #REF! | Q15: =P15*K15 -> #REF!
D16: TOTAL ITEM A | M16: =SUM(M13:M15) -> #REF! | N16: =SUM(N13) -> 0
B17: B | D17: ='PLANILHA ORÇAMENTÁRIA LAJE'!D56 -> PINTURA
B18: 1.0 | C18: ='PLANILHA ORÇAMENTÁRIA LAJE'!#REF! -> #REF! | D18: ='PLANILHA ORÇAMENTÁRIA LAJE'!#REF! -> #REF! | E18: ='PLANILHA ORÇAMENTÁRIA LAJE'!#REF! -> #REF! | F18: 0 | H18: =G18+F18 -> 0 | I18: ='PLANILHA ORÇAMENTÁRIA LAJE'!#REF! -> #REF! | K18: ='PLANILHA ORÇAMENTÁRIA LAJE'!#REF! -> #REF! | L18: =K18*G18 -> #REF! | M18: =L18 -> #REF! | P18: =E18-H18 -> #REF! | Q18: =P18*K18 -> #REF!
B19: 2.0 | C19: ='PLANILHA ORÇAMENTÁRIA LAJE'!#REF! -> #REF! | D19: ='PLANILHA ORÇAMENTÁRIA LAJE'!#REF! -> #REF! | E19: ='PLANILHA ORÇAMENTÁRIA LAJE'!#REF! -> #REF! | F19: 0 | H19: =G19+F19 -> 0 | I19: ='PLANILHA ORÇAMENTÁRIA LAJE'!#REF! -> #REF! | K19: ='PLANILHA ORÇAMENTÁRIA LAJE'!#REF! -> #REF! | L19: =K19*G19 -> #REF! | M19: =L19 -> #REF! | P19: =E19-H19 -> #REF! | Q19: =P19*K19 -> #REF!
B20: 3.0 | C20: ='PLANILHA ORÇAMENTÁRIA LAJE'!#REF! -> #REF! | D20: ='PLANILHA ORÇAMENTÁRIA LAJE'!#REF! -> #REF! | E20: ='PLANILHA ORÇAMENTÁRIA LAJE'!#REF! -> #REF! | F20: 0 | H20: =G20+F20 -> 0 | I20: ='PLANILHA ORÇAMENTÁRIA LAJE'!#REF! -> #REF! | K20: ='PLANILHA ORÇAMENTÁRIA LAJE'!#REF! -> #REF! | L20: =K20*G20 -> #REF! | M20: =L20 -> #REF! | P20: =E20-H20 -> #REF! | Q20: =P20*K20 -> #REF!
B21: 4.0 | C21: ='PLANILHA ORÇAMENTÁRIA LAJE'!#REF! -> #REF! | D21: ='PLANILHA ORÇAMENTÁRIA LAJE'!#REF! -> #REF! | E21: ='PLANILHA ORÇAMENTÁRIA LAJE'!#REF! -> #REF! | F21: 0 | H21: =G21+F21 -> 0 | I21: ='PLANILHA ORÇAMENTÁRIA LAJE'!#REF! -> #REF! | K21: ='PLANILHA ORÇAMENTÁRIA LAJE'!#REF! -> #REF! | L21: =K21*G21 -> #REF! | M21: =L21 -> #REF! | P21: =E21-H21 -> #REF! | Q21: =P21*K21 -> #REF!
D22: TOTAL ITEM B | M22: =SUM(M18:M20) -> #REF! | N22: =SUM(N18:N18) -> 0
B23: C | D23: ='PLANILHA ORÇAMENTÁRIA LAJE'!#REF! -> #REF!
B24: 1.0 | C24: ='PLANILHA ORÇAMENTÁRIA LAJE'!#REF! -> #REF! | D24: ='PLANILHA ORÇAMENTÁRIA LAJE'!#REF! -> #REF! | E24: ='PLANILHA ORÇAMENTÁRIA LAJE'!#REF! -> #REF! | F24: 0 | H24: =G24+F24 -> 0 | I24: ='PLANILHA ORÇAMENTÁRIA LAJE'!#REF! -> #REF! | K24: ='PLANILHA ORÇAMENTÁRIA LAJE'!#REF! -> #REF! | L24: =K24*G24 -> #REF! | M24: =L24 -> #REF! | P24: =E24-H24 -> #REF! | Q24: =P24*K24 -> #REF!
B25: 2.0 | C25: ='PLANILHA ORÇAMENTÁRIA LAJE'!#REF! -> #REF! | D25: ='PLANILHA ORÇAMENTÁRIA LAJE'!#REF! -> #REF! | E25: ='PLANILHA ORÇAMENTÁRIA LAJE'!#REF! -> #REF! | F25: 0 | H25: =G25+F25 -> 0 | I25: ='PLANILHA ORÇAMENTÁRIA LAJE'!#REF! -> #REF! | K25: ='PLANILHA ORÇAMENTÁRIA LAJE'!#REF! -> #REF! | L25: =K25*G25 -> #REF! | M25: =L25 -> #REF! | P25: =E25-H25 -> #REF! | Q25: =P25*K25 -> #REF!
D26: ='PLANILHA ORÇAMENTÁRIA LAJE'!#REF! -> #REF! | M26: =SUM(M24:M25) -> #REF!
B27: D | D27: ='PLANILHA ORÇAMENTÁRIA LAJE'!#REF! -> #REF!
B28: 1.0 | C28: ='PLANILHA ORÇAMENTÁRIA LAJE'!#REF! -> #REF! | D28: ='PLANILHA ORÇAMENTÁRIA LAJE'!#REF! -> #REF! | E28: ='PLANILHA ORÇAMENTÁRIA LAJE'!#REF! -> #REF! | F28: 0 | H28: =G28+F28 -> 0 | I28: ='PLANILHA ORÇAMENTÁRIA LAJE'!#REF! -> #REF! | K28: ='PLANILHA ORÇAMENTÁRIA LAJE'!#REF! -> #REF! | L28: =K28*G28 -> #REF! | M28: =L28 -> #REF! | P28: =E28-H28 -> #REF! | Q28: =P28*K28 -> #REF!
B29: 2.0 | C29: ='PLANILHA ORÇAMENTÁRIA LAJE'!#REF! -> #REF! | D29: ='PLANILHA ORÇAMENTÁRIA LAJE'!#REF! -> #REF! | E29: ='PLANILHA ORÇAMENTÁRIA LAJE'!#REF! -> #REF! | F29: 0 | H29: =G29+F29 -> 0 | I29: ='PLANILHA ORÇAMENTÁRIA LAJE'!#REF! -> #REF! | K29: ='PLANILHA ORÇAMENTÁRIA LAJE'!#REF! -> #REF! | L29: =K29*G29 -> #REF! | M29: =L29 -> #REF! | P29: =E29-H29 -> #REF! | Q29: =P29*K29 -> #REF!
B30: 3.0 | C30: ='PLANILHA ORÇAMENTÁRIA LAJE'!#REF! -> #REF! | D30: ='PLANILHA ORÇAMENTÁRIA LAJE'!#REF! -> #REF! | E30: ='PLANILHA ORÇAMENTÁRIA LAJE'!#REF! -> #REF! | F30: 0 | H30: =G30+F30 -> 0 | I30: ='PLANILHA ORÇAMENTÁRIA LAJE'!#REF! -> #REF! | K30: ='PLANILHA ORÇAMENTÁRIA LAJE'!#REF! -> #REF! | L30: =K30*G30 -> #REF! | M30: =L30 -> #REF! | P30: =E30-H30 -> #REF! | Q30: =P30*K30 -> #REF!
B31: 4.0 | C31: ='PLANILHA ORÇAMENTÁRIA LAJE'!#REF! -> #REF! | D31: ='PLANILHA ORÇAMENTÁRIA LAJE'!#REF! -> #REF! | E31: ='PLANILHA ORÇAMENTÁRIA LAJE'!#REF! -> #REF! | F31: 0 | H31: =G31+F31 -> 0 | I31: ='PLANILHA ORÇAMENTÁRIA LAJE'!#REF! -> #REF! | K31: ='PLANILHA ORÇAMENTÁRIA LAJE'!#REF! -> #REF! | L31: =K31*G31 -> #REF! | M31: =L31 -> #REF! | P31: =E31-H31 -> #REF! | Q31: =P31*K31 -> #REF!
B32: 5.0 | C32: ='PLANILHA ORÇAMENTÁRIA LAJE'!#REF! -> #REF! | D32: ='PLANILHA ORÇAMENTÁRIA LAJE'!#REF! -> #REF! | E32: ='PLANILHA ORÇAMENTÁRIA LAJE'!#REF! -> #REF! | F32: 0 | H32: =G32+F32 -> 0 | I32: ='PLANILHA ORÇAMENTÁRIA LAJE'!#REF! -> #REF! | K32: ='PLANILHA ORÇAMENTÁRIA LAJE'!#REF! -> #REF! | L32: =K32*G32 -> #REF! | M32: =L32 -> #REF! | P32: =E32-H32 -> #REF! | Q32: =P32*K32 -> #REF!
B33: 6.0 | C33: ='PLANILHA ORÇAMENTÁRIA LAJE'!#REF! -> #REF! | D33: ='PLANILHA ORÇAMENTÁRIA LAJE'!#REF! -> #REF! | E33: ='PLANILHA ORÇAMENTÁRIA LAJE'!#REF! -> #REF! | F33: 0 | H33: =G33+F33 -> 0 | I33: ='PLANILHA ORÇAMENTÁRIA LAJE'!#REF! -> #REF! | K33: ='PLANILHA ORÇAMENTÁRIA LAJE'!#REF! -> #REF! | L33: =K33*G33 -> #REF! | M33: =L33 -> #REF! | P33: =E33-H33 -> #REF! | Q33: =P33*K33 -> #REF!
D34: TOTAL ITEM D | M34: =SUM(M28:M32) -> #REF!
B35: E | D35: ='PLANILHA ORÇAMENTÁRIA LAJE'!#REF! -> #REF!
B36: 1.0 | C36: ='PLANILHA ORÇAMENTÁRIA LAJE'!#REF! -> #REF! | D36: ='PLANILHA ORÇAMENTÁRIA LAJE'!#REF! -> #REF! | E36: ='PLANILHA ORÇAMENTÁRIA LAJE'!#REF! -> #REF! | F36: 0 | H36: =G36+F36 -> 0 | I36: ='PLANILHA ORÇAMENTÁRIA LAJE'!#REF! -> #REF! | K36: ='PLANILHA ORÇAMENTÁRIA LAJE'!#REF! -> #REF! | L36: =K36*G36 -> #REF! | M36: =L36 -> #REF! | P36: =E36-H36 -> #REF! | Q36: =P36*K36 -> #REF!
B37: 2.0 | C37: ='PLANILHA ORÇAMENTÁRIA LAJE'!#REF! -> #REF! | D37: ='PLANILHA ORÇAMENTÁRIA LAJE'!#REF! -> #REF! | E37: ='PLANILHA ORÇAMENTÁRIA LAJE'!#REF! -> #REF! | F37: 0 | H37: =G37+F37 -> 0 | I37: ='PLANILHA ORÇAMENTÁRIA LAJE'!#REF! -> #REF! | K37: ='PLANILHA ORÇAMENTÁRIA LAJE'!#REF! -> #REF! | L37: =K37*G37 -> #REF! | M37: =L37 -> #REF! | P37: =E37-H37 -> #REF! | Q37: =P37*K37 -> #REF!
B38: 3.0 | C38: ='PLANILHA ORÇAMENTÁRIA LAJE'!#REF! -> #REF! | D38: ='PLANILHA ORÇAMENTÁRIA LAJE'!#REF! -> #REF! | E38: ='PLANILHA ORÇAMENTÁRIA LAJE'!#REF! -> #REF! | F38: 0 | H38: =G38+F38 -> 0 | I38: ='PLANILHA ORÇAMENTÁRIA LAJE'!#REF! -> #REF! | K38: ='PLANILHA ORÇAMENTÁRIA LAJE'!#REF! -> #REF! | L38: =K38*G38 -> #REF! | M38: =L38 -> #REF! | P38: =E38-H38 -> #REF! | Q38: =P38*K38 -> #REF!
B39: 4.0 | C39: ='PLANILHA ORÇAMENTÁRIA LAJE'!#REF! -> #REF! | D39: ='PLANILHA ORÇAMENTÁRIA LAJE'!#REF! -> #REF! | E39: ='PLANILHA ORÇAMENTÁRIA LAJE'!#REF! -> #REF! | F39: 0 | H39: =G39+F39 -> 0 | I39: ='PLANILHA ORÇAMENTÁRIA LAJE'!#REF! -> #REF! | K39: ='PLANILHA ORÇAMENTÁRIA LAJE'!#REF! -> #REF! | L39: =K39*G39 -> #REF! | M39: =L39 -> #REF! | P39: =E39-H39 -> #REF! | Q39: =P39*K39 -> #REF!
B40: 5.0 | C40: ='PLANILHA ORÇAMENTÁRIA LAJE'!#REF! -> #REF! | D40: ='PLANILHA ORÇAMENTÁRIA LAJE'!#REF! -> #REF! | E40: ='PLANILHA ORÇAMENTÁRIA LAJE'!#REF! -> #REF! | F40: 0 | H40: =G40+F40 -> 0 | I40: ='PLANILHA ORÇAMENTÁRIA LAJE'!#REF! -> #REF! | K40: ='PLANILHA ORÇAMENTÁRIA LAJE'!#REF! -> #REF! | L40: =K40*G40 -> #REF! | M40: =L40 -> #REF! | P40: =E40-H40 -> #REF! | Q40: =P40*K40 -> #REF!
B41: 6.0 | C41: ='PLANILHA ORÇAMENTÁRIA LAJE'!#REF! -> #REF! | D41: ='PLANILHA ORÇAMENTÁRIA LAJE'!#REF! -> #REF! | E41: ='PLANILHA ORÇAMENTÁRIA LAJE'!#REF! -> #REF! | F41: 0 | H41: =G41+F41 -> 0 | I41: ='PLANILHA ORÇAMENTÁRIA LAJE'!#REF! -> #REF! | K41: ='PLANILHA ORÇAMENTÁRIA LAJE'!#REF! -> #REF! | L41: =K41*G41 -> #REF! | M41: =L41 -> #REF! | P41: =E41-H41 -> #REF! | Q41: =P41*K41 -> #REF!
B42: 7.0 | C42: ='PLANILHA ORÇAMENTÁRIA LAJE'!#REF! -> #REF! | D42: ='PLANILHA ORÇAMENTÁRIA LAJE'!#REF! -> #REF! | E42: ='PLANILHA ORÇAMENTÁRIA LAJE'!#REF! -> #REF! | F42: 0 | H42: =G42+F42 -> 0 | I42: ='PLANILHA ORÇAMENTÁRIA LAJE'!#REF! -> #REF! | K42: ='PLANILHA ORÇAMENTÁRIA LAJE'!#REF! -> #REF! | L42: =K42*G42 -> #REF! | M42: =L42 -> #REF! | P42: =E42-H42 -> #REF! | Q42: =P42*K42 -> #REF!
...

Sheet CAMPO
B2: PLANILHA ORÇAMENTÁRIA
B4: PREFEITURA MUNICIPAL DE BARRA LONGA
B5: OBRA: CONSTRUÇÃO VESTIÁRIO | G5: DATA: 30/10/2023
B6: LOCAL: PIMENTA - BARRA LONGA/MG | F6: FORMA DE EXECUÇÃO: Contratação à Preço Global
B7: REGIÃO/MÊS DE REFERÊNCIA: Tabela de Preços SETOP-Leste/ABRIL 2022 / SINAPI JUNHO 2022 | F7: ( ) DIRETA | H7: ( x ) INDIRETA
B8: PRAZO DE EXECUÇÃO: 60 dias | H8: BDI | I8: 0.2522
B9: ITEM | C9: CODIGO | D9: DESCRIÇÃO | E9: UNID | F9: QUANT | G9: CUSTO | H9: CUSTO + BDI | I9: TOTAL
B10: A | D10: INSTALAÇÃO DA OBRA
B11: 1.0 | C11: ED-16660 | D11: PLACA DE OBRA ED-16660 FORNECIMENTO E COLOCAÇÃO DE PLACA DE OBRA EM CHAPA GALVANIZADA #26, ESP. 0,45 MM, PLOTADA COM ADESIVO VINÍLICO, AFIXADA COM REBITES 4,8X40 MM, EM ESTRUTURA METÁLICA DE METALON 20X20 MM, ESP. 1,25 MM, INCLUSIVE SUPORTE EM EUCALIPTO AUTOCLAVADO PINTADO COM TINTA PVA DUAS (2) DEMÃOS | E11: M2 | F11: =2.5 -> 2.5 | G11: 317.71 | H11: =G11+G11*$I$8 -> 397.83646 | I11: =H11*F11 -> 994.59115
B12: 1.0 | C12: ED-50128 | D12: BARRACÃO DE OBRA PARA DEPÓSITO E FERRAMENTARIA TIPO-I, ÁREA INTERNA 14,52M2, EM CHAPA DE COMPENSADO RESINADO, INCLUSIVE MOBILIÁRIO (OBRA DE PEQUENO PORTE, EFETIVO ATÉ 30 HOMENS), PADRÃO DER-MG | E12: UN | F12: 1 | G12: 7323.59 | H12: =G12+G12*$I$8 -> 9170.5994 | I12: =H12*F12 -> 9170.5994 | J12: =4*3.5 -> 14
B13: 1.0 | C13: ED-49211 | D13: CAIXA PARA MEDIÇÃO, TIPO CM-18, DIMENSÕES CONFORME PADRÃO CEMIG, INCLUSIVE DISJUNTOR, INCLUSIVE BARRAMENTO PARA DISJUNTOR DE 1000A ATÉ 1250A E INSTALAÇÃO (OBS. SÓ SERÁ MEDIDO APÓS LIGAÇÃO, E ESTIVER FUNCIONANDO. TRAMITES NA CEMIG PARA LIGAÇÃO POR CONTA DA CONTRATADA) | E13: UN | F13: 1 | G13: 6539.24 | H13: =G13+G13*$I$8 -> 8188.4363 | I13: =H13*F13 -> 8188.4363
D14: TOTAL ITEM A | I14: =SUM(I11:I13) -> 18353.627
B15: B | D15: FUNDAÇÃO
B16: 1.0 | C16: ED-51107 | D16: ESCAVAÇÃO MANUAL DE VALA COM PROFUNDIDADE MENOR OU IGUAL A 1,5M, INCLUSIVE DESCARGA LATERAL | E16: M3 | F16: =#REF! -> #REF! | G16: 60.61 | H16: =G16+G16*$I$8 -> 75.895842 | I16: =H16*F16 -> #REF!
B17: 2.0 | C17: ED-51122 | D17: REGULARIZAÇÃO E COMPACTAÇÃO DE TERRENO MANUAL COM SOQUETE, EXCLUSIVE DESMATAMENTO, DESTOCAMENTO, LIMPEZA/ROÇADA DO TERRENO | E17: M2 | F17: =#REF! -> #REF! | G17: 8.72 | H17: =G17+G17*$I$8 -> 10.919184 | I17: =H17*F17 -> #REF!
B18: 3.0 | C18: ED-48295 | D18: CORTE, DOBRA E MONTAGEM DE AÇO CA-50, DIÂMETRO (6,3MM A 12,5MM), INCLUSIVE ESPAÇADOR | E18: KG | F18: =#REF! -> #REF! | G18: 13.07 | H18: =G18+G18*$I$8 -> 16.366254 | I18: =H18*F18 -> #REF!
B19: 4.0 | C19: ED-49786 | D19: FORNECIMENTO DE CONCRETO ESTRUTURAL, PREPARADO EM OBRA COM BETONEIRA, COM FCK 20MPA, INCLUSIVE LANÇAMENTO, ADENSAMENTO E ACABAMENTO (FUNDAÇÃO) | E19: M3 | F19: =#REF! -> #REF! | G19: 670.65 | H19: =G19+G19*$I$8 -> 839.78793 | I19: =H19*F19 -> #REF!
B20: 5.0 | C20: ED-51132 | D20: CARGA MECÂNICA DE MATERIAL DE QUALQUER NATUREZA SOBRE CAMINHÃO, EXCLUSIVE TRANSPORTE | E20: M3 | F20: =F16 -> #REF! | G20: 3.01 | H20: =G20+G20*$I$8 -> 3.769122 | I20: =H20*F20 -> #REF!
B21: 6.0 | C21: ED-29229 | D21: TRANSPORTE DE MATERIAL DE QUALQUER NATUREZA EM CAMINHÃO, DISTÂNCIA MENOR OU IGUAL A 1KM, DENTRO DO PERÍMETRO URBANO, EXCLUSIVE CARGA, INCLUSIVE DESCARGA | E21: M3 | F21: =F16 -> #REF! | G21: 6.36 | H21: =G21+G21*$I$8 -> 7.963992 | I21: =H21*F21 -> #REF!
D22: TOTAL ITEM B | I22: =SUM(I16:I17) -> #REF!
B23: C | D23: ESTRUTURA
B24: 1.0 | C24: 92479 | D24: MONTAGEM E DESMONTAGEM DE FÔRMA DE VIGA/PILAR, ESCORAMENTO COM GARFO DE MADEIRA, PÉ-DIREITO SIMPLES, EM CHAPA DE MADEIRA RESINADA, 18 UTILIZAÇÕES. | E24: M2 | F24: =#REF! -> #REF! | G24: 66.59 | H24: =G24+G24*$I$8 -> 83.383998 | I24: =H24*F24 -> #REF!
B25: 2.0 | C25: ED-48295 | D25: CORTE, DOBRA E MONTAGEM DE AÇO CA-50, DIÂMETRO (6,3MM A 12,5MM), INCLUSIVE ESPAÇADOR | E25: KG | F25: =#REF! -> #REF! | G25: 13.07 | H25: =G25+G25*$I$8 -> 16.366254 | I25: =H25*F25 -> #REF!
B26: 3.0 | C26: ED-49786 | D26: FORNECIMENTO DE CONCRETO ESTRUTURAL, PREPARADO EM OBRA COM BETONEIRA, COM FCK 20MPA, INCLUSIVE LANÇAMENTO, ADENSAMENTO E ACABAMENTO (FUNDAÇÃO) | E26: M3 | F26: =#REF!+#REF! -> #REF! | G26: 670.65 | H26: =G26+G26*$I$8 -> 839.78793 | I26: =H26*F26 -> #REF!
B27: 4.0 | C27: 92530 | D27: MONTAGEM E DESMONTAGEM DE FÔRMA DE LAJE MACIÇA, PÉ-DIREITO SIMPLES, EM CHAPA DE MADEIRA COMPENSADA PLASTIFICADA, 12 UTILIZAÇÕES. | E27: M2 | F27: =#REF! -> #REF! | G27: 41.42 | H27: =G27+G27*$I$8 -> 51.866124 | I27: =H27*F27 -> #REF!
B28: 5.0 | C28: 101792 | D28: ESCORAMENTO DE FÔRMAS DE LAJE EM MADEIRA NÃO APARELHADA, PÉ-DIREITO SIMPLES, INCLUSO TRAVAMENTO, 4 UTILIZAÇÕES. AF_09/2020 | E28: M3 | F28: =F26*3 -> #REF! | G28: 17.74 | H28: =G28+G28*$I$8 -> 22.214028 | I28: =H28*F28 -> #REF!
B29: 6.0 | C29: ED-48232 | D29: ALVENARIA DE VEDAÇÃO COM TIJOLO CERÂMICO FURADO, ESP. 14CM, PARA REVESTIMENTO, INCLUSIVE ARGAMASSA PARA ASSENTAMENTO. | E29: M2 | F29: =#REF! -> #REF! | G29: 65.56 | H29: =G29+G29*$I$8 -> 82.094232 | I29: =H29*F29 -> #REF!
D30: TOTAL ITEM C | I30: =SUM(I24:I29) -> #REF!
B31: D | D31: INSTALAÇÕES HIDRÁULICAS
D32: ESGOTO
B33: 1.0 | C33: ED-50224 | D33: PONTO DE EMBUTIR PARA ESGOTO EM TUBO PVC RÍGIDO, PBV - SÉRIE NORMAL, DN 50MM (2"), EMBUTIDO EM PISO COM DISTÂNCIA DE ATÉ CINCO (5) METROS DA RAMAL DE ESGOTO, EXCLUSIVE ESCAVAÇÃO, INCLUSIVE CONEXÕES E FIXAÇÃO DO TUBO COM ENCHIMENTO DO RASGO NO CONCRETO COM ARGAMASSA | E33: UNID | F33: 7 | G33: 200.7 | H33: =G33+G33*$I$8 -> 251.31654 | I33: =H33*F33 -> 1759.2158
B34: 2.0 | C34: ED-50225 | D34: PONTO DE EMBUTIR PARA ESGOTO EM TUBO PVC RÍGIDO, PBV - SÉRIE NORMAL, DN 100MM (4"), EMBUTIDO EM PISO COM DISTÂNCIA DE ATÉ CINCO (5) METROS DA RAMAL DE ESGOTO, INCLUSIVE CONEXÕES E FIXAÇÃO DO TUBO COM ENCHIMENTO DO RASGO NO CONCRETO COM ARGAMASSA. | E34: UNID | F34: 7 | G34: 283.95 | H34: =G34+G34*$I$8 -> 355.56219 | I34: =H34*F34 -> 2488.9353
B35: 3.0 | C35: ED-50298 | D35: BACIA SANITÁRIA (VASO) DE LOUÇA CONVENCIONAL, COR BRANCA, INCLUSIVE ACESSÓRIOS DE FIXAÇÃO/VEDAÇÃO, VÁLVULA DE DESCARGA METÁLICA COM ACIONAMENTO DUPLO, TUBO DE LIGAÇÃO DE LATÃO COM CANOPLA, FORNECIMENTO, INSTALAÇÃO E REJUNTAMENTO. | E35: UNID | F35: 7 | G35: 726.1 | H35: =G35+G35*$I$8 -> 909.22242 | I35: =H35*F35 -> 6364.5569
B36: 4.0 | C36: ED-50011 | D36: CAIXA SIFONADA EM PVC COM GRELHA REDONDA 100 X 100 X 50MM | E36: UNID | F36: 7 | G36: 54.8 | H36: =G36+G36*$I$8 -> 68.62056 | I36: =H36*F36 -> 480.34392
D37: ÁGUA FRIA
B38: 5.0 | C38: ED-50221 | D38: PONTO DE EMBUTIR PARA ÁGUA FRIA EM TUBO DE PVC RÍGIDO SOLDÁVEL, DN 20MM (1/2"), EMBUTIDO NA ALVENARIA COM DISTÂNCIA DE ATÉ CINCO (5) METROS DA TOMADA DE ÁGUA, INCLUSIVE CONEXÕES E FIXAÇÃO DO TUBO COM ENCHIMENTO DO RASGO NA ALVENARIA/CONCRETO COM ARGAMASSA. | E38: UNID | F38: 9 | G38: 124.3 | H38: =G38+G38*$I$8 -> 155.64846 | I38: =H38*F38 -> 1400.8361
B39: 6.0 | C39: ED-50281 | D39: LAVATÓRIO DE LOUÇA BRANCA SEM COLUNA, TAMANHO PEQUENO, INCLUSIVE ACESSÓRIOS DE FIXAÇÃO, VÁLVULA DE ESCOAMENTO DE METAL COM ACABAMENTO CROMADO, SIFÃO DE METAL TIPO COPO COM ACABAMENTO CROMADO, FORNECIMENTO, INSTALAÇÃO E REJUNTAMENTO, EXCLUSIVE TORNEIRA E ENGATE FLEXÍVEL. | E39: UNID | F39: 9 | G39: 364.8 | H39: =G39+G39*$I$8 -> 456.80256 | I39: =H39*F39 -> 4111.223
B40: 7.0 | C40: ED-50330 | D40: TORNEIRA METÁLICA PARA LAVATÓRIO, ABERTURA 1/4 DE VOLTA, ACABAMENTO CROMADO, COM AREJADOR, APLICAÇÃO DE MESA, INCLUSIVE ENGATE FLEXÍVEL METÁLICO, FORNECIMENTO E INSTALAÇÃO. | E40: UNID | F40: 9 | G40: 129.33 | H40: =G40+G40*$I$8 -> 161.94703 | I40: =H40*F40 -> 1457.5232
B41: 8.0 | C41: ED-50310 | D41: BRAÇO PARA CHUVEIRO, COMPRIMENTO 40 CM, DIÂMETRO NOMINAL DE 1/2" (20MM), INCLUSIVE ACABAMENTO. | E41: UNID | F41: 7 | G41: 20.25 | H41: =G41+G41*$I$8 -> 25.35705 | I41: =H41*F41 -> 177.49935
B42: 9.0 | C42: ED-16344 | D42: CHUVEIRO ELÉTRICO BRANCO, TENSÃO 127V/220V, POTÊNCIA 4600W/5500W, INCLUSIVE BRAÇO, FORNECIMENTO E INSTALAÇÃO. | E42: UNID | F42: 7 | G42: 107.25 | H42: =G42+G42*$I$8 -> 134.29845 | I42: =H42*F42 -> 940.08915
...

Sheet PLANILHA ORÇAMENTÁRIA CAMPO (2)
B2: PLANILHA ORÇAMENTÁRIA
B4: PREFEITURA MUNICIPAL DE BARRA LONGA
B5: OBRA: CONSTRUÇÃO CAMPO E VESTIÁRIO | G5: DATA: 30/10/2023
B6: LOCAL: BARRA LONGA - BARRA LONGA/MG | F6: FORMA DE EXECUÇÃO: Contratação à Preço Global
B7: REGIÃO/MÊS DE REFERÊNCIA: Tabela de Preços SETOP-Leste/ABRIL 2022 / SINAPI JUNHO 2022 | F7: ( ) DIRETA | H7: ( x ) INDIRETA
B8: PRAZO DE EXECUÇÃO: 60 dias | H8: BDI | I8: 0.2522
B9: ITEM | C9: CODIGO | D9: DESCRIÇÃO | E9: UNID | F9: QUANT | G9: CUSTO | H9: CUSTO + BDI | I9: TOTAL
B10: A | D10: INSTALAÇÃO DA OBRA
B11: 1.0 | C11: ED-16660 | D11: PLACA DE OBRA ED-16660 FORNECIMENTO E COLOCAÇÃO DE PLACA DE OBRA EM CHAPA GALVANIZADA #26, ESP. 0,45 MM, PLOTADA COM ADESIVO VINÍLICO, AFIXADA COM REBITES 4,8X40 MM, EM ESTRUTURA METÁLICA DE METALON 20X20 MM, ESP. 1,25 MM, INCLUSIVE SUPORTE EM EUCALIPTO AUTOCLAVADO PINTADO COM TINTA PVA DUAS (2) DEMÃOS | E11: M2 | F11: =2.5 -> 2.5 | G11: 317.71 | H11: =G11+G11*$I$8 -> 397.83646 | I11: =H11*F11 -> 994.59115
D12: TOTAL ITEM A | I12: =SUM(I11:I11) -> 994.59115
B13: B | D13: FUNDAÇÃO
B14: 1.0 | C14: ED-51107 | D14: ESCAVAÇÃO MANUAL DE VALA COM PROFUNDIDADE MENOR OU IGUAL A 1,5M, INCLUSIVE DESCARGA LATERAL | E14: M3 | F14: =#REF! -> #REF! | G14: 60.61 | H14: =G14+G14*$I$8 -> 75.895842 | I14: =H14*F14 -> #REF!
B15: 2.0 | C15: ED-51122 | D15: REGULARIZAÇÃO E COMPACTAÇÃO DE TERRENO MANUAL COM SOQUETE, EXCLUSIVE DESMATAMENTO, DESTOCAMENTO, LIMPEZA/ROÇADA DO TERRENO | E15: M2 | F15: =#REF! -> #REF! | G15: 8.72 | H15: =G15+G15*$I$8 -> 10.919184 | I15: =H15*F15 -> #REF!
B16: 3.0 | C16: ED-48295 | D16: CORTE, DOBRA E MONTAGEM DE AÇO CA-50, DIÂMETRO (6,3MM A 12,5MM), INCLUSIVE ESPAÇADOR | E16: KG | F16: =#REF! -> #REF! | G16: 13.07 | H16: =G16+G16*$I$8 -> 16.366254 | I16: =H16*F16 -> #REF!
B17: 4.0 | C17: ED-49786 | D17: FORNECIMENTO DE CONCRETO ESTRUTURAL, PREPARADO EM OBRA COM BETONEIRA, COM FCK 20MPA, INCLUSIVE LANÇAMENTO, ADENSAMENTO E ACABAMENTO (FUNDAÇÃO) | E17: M3 | F17: =#REF! -> #REF! | G17: 670.65 | H17: =G17+G17*$I$8 -> 839.78793 | I17: =H17*F17 -> #REF!
B18: 5.0 | C18: ED-51132 | D18: CARGA MECÂNICA DE MATERIAL DE QUALQUER NATUREZA SOBRE CAMINHÃO, EXCLUSIVE TRANSPORTE | E18: M3 | G18: 3.01 | H18: =G18+G18*$I$8 -> 3.769122 | I18: =H18*F18 -> 0
B19: 6.0 | C19: ED-29229 | D19: TRANSPORTE DE MATERIAL DE QUALQUER NATUREZA EM CAMINHÃO, DISTÂNCIA MENOR OU IGUAL A 1KM, DENTRO DO PERÍMETRO URBANO, EXCLUSIVE CARGA, INCLUSIVE DESCARGA | E19: M3 | G19: 6.36 | H19: =G19+G19*$I$8 -> 7.963992 | I19: =H19*F19 -> 0
D20: TOTAL ITEM B | I20: =SUM(I14:I19) -> #REF!
B21: C | D21: ESTRUTURA
B22: 1.0 | C22: 92479 | D22: MONTAGEM E DESMONTAGEM DE FÔRMA DE VIGA/PILAR, ESCORAMENTO COM GARFO DE MADEIRA, PÉ-DIREITO SIMPLES, EM CHAPA DE MADEIRA RESINADA, 18 UTILIZAÇÕES. | E22: M2 | F22: =#REF! -> #REF! | G22: 66.59 | H22: =G22+G22*$I$8 -> 83.383998 | I22: =H22*F22 -> #REF!
B23: 2.0 | C23: ED-48295 | D23: CORTE, DOBRA E MONTAGEM DE AÇO CA-50, DIÂMETRO (6,3MM A 12,5MM), INCLUSIVE ESPAÇADOR | E23: KG | F23: =#REF! -> #REF! | G23: 13.07 | H23: =G23+G23*$I$8 -> 16.366254 | I23: =H23*F23 -> #REF!
B24: 3.0 | C24: ED-49786 | D24: FORNECIMENTO DE CONCRETO ESTRUTURAL, PREPARADO EM OBRA COM BETONEIRA, COM FCK 20MPA, INCLUSIVE LANÇAMENTO, ADENSAMENTO E ACABAMENTO (FUNDAÇÃO) | E24: M3 | F24: =#REF! -> #REF! | G24: 670.65 | H24: =G24+G24*$I$8 -> 839.78793 | I24: =H24*F24 -> #REF!
B25: 4.0 | C25: 92530 | D25: MONTAGEM E DESMONTAGEM DE FÔRMA DE LAJE MACIÇA, PÉ-DIREITO SIMPLES, EM CHAPA DE MADEIRA COMPENSADA PLASTIFICADA, 12 UTILIZAÇÕES. | E25: M2 | F25: =#REF! -> #REF! | G25: 41.42 | H25: =G25+G25*$I$8 -> 51.866124 | I25: =H25*F25 -> #REF!
B26: 5.0 | C26: 101792 | D26: ESCORAMENTO DE FÔRMAS DE LAJE EM MADEIRA NÃO APARELHADA, PÉ-DIREITO SIMPLES, INCLUSO TRAVAMENTO, 4 UTILIZAÇÕES. AF_09/2020 | E26: M3 | F26: =F25*3 -> #REF! | G26: 17.74 | H26: =G26+G26*$I$8 -> 22.214028 | I26: =H26*F26 -> #REF!
B27: 6.0 | C27: ED-48232 | D27: ALVENARIA DE VEDAÇÃO COM TIJOLO CERÂMICO FURADO, ESP. 14CM, PARA REVESTIMENTO, INCLUSIVE ARGAMASSA PARA ASSENTAMENTO. | E27: M2 | F27: =#REF! -> #REF! | G27: 65.56 | H27: =G27+G27*$I$8 -> 82.094232 | I27: =H27*F27 -> #REF!
D28: TOTAL ITEM C | I28: =SUM(I22:I27) -> #REF!
B29: D | D29: INSTALAÇÕES HIDRÁULICAS
D30: ESGOTO
B31: 1.0 | C31: ED-50224 | D31: PONTO DE EMBUTIR PARA ESGOTO EM TUBO PVC RÍGIDO, PBV - SÉRIE NORMAL, DN 50MM (2"), EMBUTIDO EM PISO COM DISTÂNCIA DE ATÉ CINCO (5) METROS DA RAMAL DE ESGOTO, EXCLUSIVE ESCAVAÇÃO, INCLUSIVE CONEXÕES E FIXAÇÃO DO TUBO COM ENCHIMENTO DO RASGO NO CONCRETO COM ARGAMASSA | E31: UNID | F31: 12 | G31: 200.7 | H31: =G31+G31*$I$8 -> 251.31654 | I31: =H31*F31 -> 3015.7985
B32: 2.0 | C32: ED-50225 | D32: PONTO DE EMBUTIR PARA ESGOTO EM TUBO PVC RÍGIDO, PBV - SÉRIE NORMAL, DN 100MM (4"), EMBUTIDO EM PISO COM DISTÂNCIA DE ATÉ CINCO (5) METROS DA RAMAL DE ESGOTO, INCLUSIVE CONEXÕES E FIXAÇÃO DO TUBO COM ENCHIMENTO DO RASGO NO CONCRETO COM ARGAMASSA. | E32: UNID | F32: 5 | G32: 283.95 | H32: =G32+G32*$I$8 -> 355.56219 | I32: =H32*F32 -> 1777.811
B33: 3.0 | C33: ED-50298 | D33: BACIA SANITÁRIA (VASO) DE LOUÇA CONVENCIONAL, COR BRANCA, INCLUSIVE ACESSÓRIOS DE FIXAÇÃO/VEDAÇÃO, VÁLVULA DE DESCARGA METÁLICA COM ACIONAMENTO DUPLO, TUBO DE LIGAÇÃO DE LATÃO COM CANOPLA, FORNECIMENTO, INSTALAÇÃO E REJUNTAMENTO. | E33: UNID | F33: 5 | G33: 726.1 | H33: =G33+G33*$I$8 -> 909.22242 | I33: =H33*F33 -> 4546.1121
B34: 4.0 | C34: ED-50011 | D34: CAIXA SIFONADA EM PVC COM GRELHA REDONDA 100 X 100 X 50MM | E34: UNID | F34: 9 | G34: 54.8 | H34: =G34+G34*$I$8 -> 68.62056 | I34: =H34*F34 -> 617.58504
D35: ÁGUA FRIA
B36: 5.0 | C36: ED-50221 | D36: PONTO DE EMBUTIR PARA ÁGUA FRIA EM TUBO DE PVC RÍGIDO SOLDÁVEL, DN 20MM (1/2"), EMBUTIDO NA ALVENARIA COM DISTÂNCIA DE ATÉ CINCO (5) METROS DA TOMADA DE ÁGUA, INCLUSIVE CONEXÕES E FIXAÇÃO DO TUBO COM ENCHIMENTO DO RASGO NA ALVENARIA/CONCRETO COM ARGAMASSA. | E36: UNID | F36: 17 | G36: 124.3 | H36: =G36+G36*$I$8 -> 155.64846 | I36: =H36*F36 -> 2646.0238
B37: 6.0 | C37: ED-50281 | D37: LAVATÓRIO DE LOUÇA BRANCA SEM COLUNA, TAMANHO PEQUENO, INCLUSIVE ACESSÓRIOS DE FIXAÇÃO, VÁLVULA DE ESCOAMENTO DE METAL COM ACABAMENTO CROMADO, SIFÃO DE METAL TIPO COPO COM ACABAMENTO CROMADO, FORNECIMENTO, INSTALAÇÃO E REJUNTAMENTO, EXCLUSIVE TORNEIRA E ENGATE FLEXÍVEL. | E37: UNID | F37: 5 | G37: 364.8 | H37: =G37+G37*$I$8 -> 456.80256 | I37: =H37*F37 -> 2284.0128
B38: 7.0 | C38: ED-50330 | D38: TORNEIRA METÁLICA PARA LAVATÓRIO, ABERTURA 1/4 DE VOLTA, ACABAMENTO CROMADO, COM AREJADOR, APLICAÇÃO DE MESA, INCLUSIVE ENGATE FLEXÍVEL METÁLICO, FORNECIMENTO E INSTALAÇÃO. | E38: UNID | F38: 5 | G38: 129.33 | H38: =G38+G38*$I$8 -> 161.94703 | I38: =H38*F38 -> 809.73513
B39: 8.0 | C39: ED-50310 | D39: BRAÇO PARA CHUVEIRO, COMPRIMENTO 40 CM, DIÂMETRO NOMINAL DE 1/2" (20MM), INCLUSIVE ACABAMENTO. | E39: UNID | F39: 7 | G39: 20.25 | H39: =G39+G39*$I$8 -> 25.35705 | I39: =H39*F39 -> 177.49935
B40: 9.0 | C40: ED-16344 | D40: CHUVEIRO ELÉTRICO BRANCO, TENSÃO 127V/220V, POTÊNCIA 4600W/5500W, INCLUSIVE BRAÇO, FORNECIMENTO E INSTALAÇÃO. | E40: UNID | F40: 7 | G40: 107.25 | H40: =G40+G40*$I$8 -> 134.29845 | I40: =H40*F40 -> 940.08915
B41: 10.0 | C41: ED-49936 | D41: CAIXA D´ÁGUA DE POLIETILENO, CAPACIDADE DE 1.000L, INCLUSIVE TAMPA, TORNEIRA DE BOIA, EXTRAVASOR, TUBO DE LIMPEZA E ACESSÓRIOS, EXCLUSIVE TUBULAÇÃO DE ENTRADA/ SAÍDA DE ÁGUA. | E41: UNID | F41: 1 | G41: 859.18 | H41: =G41+G41*$I$8 -> 1075.8652 | I41: =H41*F41 -> 1075.8652
D42: TOTAL ITEM D | I42: =SUM(I31:I41) -> 17890.532
...

Sheet Plan1
A1: TOWERS ENGENHARIA LTDA
A2: PLANILHA ORÇAMENTÁRIA
A3: PREFEITURA MUNICIPAL DE BARRA LONGA
A4: OBRA: REFORMA DA UNIDADE BÁSICA DE SAÚDE - COMUNIDADE BONSUCESSO | F4: DATA: 25/05/2018
A5: LOCAL: COMUNIDADE BONSUCESSO | E5: FORMA DE EXECUÇÃO: Contratação à Preço Global
A6: REGIÃO/MÊS DE REFERÊNCIA: Tabela de Preços SETOP-Central/JULHO-2017 | E6: ( ) DIRETA | G6: ( x ) INDIRETA
A7: PRAZO DE EXECUÇÃO: 60 dias | G7: LDI 25,00%
A8: ITEM | B8: CODIGO | C8: DESCRIÇÃO | D8: UNID | E8: QUANT | F8: CUSTO | G8: CUSTO + LDI | H8: TOTAL
A9: A | C9: INSTALAÇÃO DA OBRA
A10: 1.0 | B10: IIO-PLA- 005 | C10: FORNECIMENTO E COLOCAÇÃO DE PLACA DE OBRA EM CHAPA GALVANIZADA (3,00 X 1,5 0 M) - EM CHAPA GALVANIZADA 0,26 AFIXADAS COM REBITES 540 E PARAFUSOS 3/8, EM ESTRUTURA METÁLICA VIGA U 2" ENRIJECIDA COM METALON 20 X 20, SUPORTE EM EUCALIPTO AUTOCLAVADO PINTADAS NE FRENTE E NO VERSO COM FUNDO ANTICORROSIVO E TINTA AUTOMOTIVA, CONFORME MANUAL DE IDENTIDADE VISUAL DO GOVERNO DE MINAS | D10: UN | E10: 1 | F10: 1095.14 | G10: =F10*1.25 -> 1368.925 | H10: =G10*E10 -> 1368.925 | J10: =F10*0.71 -> 777.5494
C11: TOTAL ITEM A | H11: =H10 -> 1368.925 | J11: =F11*0.71 -> 0
A12: B | C12: DEMOLIÇÃO | J12: =F12*0.71 -> 0
A13: 1.0 | B13: DEM- ENG-005 | C13: DEMOLIÇÃO DE ENGRADAMENTO DE TELHA METÁLICA, PVC OU FIBROCIMENTO, INCLUSIVE EMPILHAMENTO | D13: M2 | E13: 135.55 | F13: 13.84 | G13: =F13*1.25 -> 17.3 | H13: =G13*E13 -> 2345.015 | J13: =F13*0.71 -> 9.8264
A14: 2.0 | B14: DEM- TEL-015 | C14: REMOÇÃO DE TELHA ONDULADA DE FIBROCIMENTO, INCLUSIVE AFASTAMENTO E EMPILHAMENTO | D14: M2 | E14: 135.55 | F14: 8.56 | G14: =F14*1.25 -> 10.7 | H14: =G14*E14 -> 1450.385 | J14: =F14*0.71 -> 6.0776
A15: 3.0 | B15: DEM- ALV-005 | C15: DEMOLIÇÃO DE ALVENARIA DE TIJOLO E B OCO SEM APROVEITAMENTO DO MATERIAL, INCLUSIVE AFASTAMENTO | D15: M2 | E15: 35 | F15: 85.61 | G15: =F15*1.25 -> 107.0125 | H15: =G15*E15 -> 3745.4375 | J15: =F15*0.71 -> 60.7831
A16: 4.0 | B16: DEM-PIS- 010 | C16: DEMOLIÇÃO DE PISO CERÂMICO OU LADRILHO HIDRÁULICO, INCLUSIVE AFASTAMENTO | D16: M2 | E16: 36 | F16: 11.05 | G16: =F16*1.25 -> 13.8125 | H16: =G16*E16 -> 497.25 | J16: =F16*0.71 -> 7.8455
A17: 5.0 | B17: DEM- REV-005 | C17: DEMOLIÇÃO DE REBOCO INCLUSIVE AFASTAMENTO | D17: M2 | E17: 12 | F17: 10.9 | G17: =F17*1.25 -> 13.625 | H17: =G17*E17 -> 163.5 | J17: =F17*0.71 -> 7.739
A18: 6.0 | B18: DEM- MET-005 | C18: REMOÇÃO DE METAIS COMUNS (CONDUÍTE, SIFÃO, REGISTRO, TORNEIRAS) | D18: UN . | E18: 2 | F18: 12.34 | G18: =F18*1.25 -> 15.425 | H18: =G18*E18 -> 30.85 | J18: =F18*0.71 -> 8.7614
C19: TOTAL ITEM B | H19: =SUM(H13:H18) -> 8232.4375 | J19: =F19*0.71 -> 0
A20: C | C20: COBERTURAS E FORROS | J20: =F20*0.71 -> 0
A21: 1.0 | B21: EST- MET-035 | C21: FORNECIMENTO, FABRICAÇÃO, TRANSPORTE E MONTAGEM DE ESTRUTURA METÁLICA PARA TELHADO SOBRE LAJE PARA TELHAS METÁLICAS, INCLUSIVE PINTURA PRIMER | D21: M2 | E21: 153 | F21: 50.7 | G21: =F21*1.25 -> 63.375 | H21: =G21*E21 -> 9696.375 | J21: =F21*0.71 -> 35.997
A22: 2.0 | B22: COB- TEL-045 | C22: COBERTURA EM TELHA METÁLICA GALVANIZADA TRAPEZOIDAL E = 0, 50 MM, SIMPLES | D22: M2 | E22: 153 | F22: 38.53 | G22: =F22*1.25 -> 48.1625 | H22: =G22*E22 -> 7368.8625 | J22: =F22*0.71 -> 27.3563
A23: 3.0 | B23: COB- CUM-015 | C23: COLOCAÇÃO DE CUMEEIRA GALVANIZADA TRAPEZOIDAL E = 0,50 MM,SIMPLES | D23: M | E23: 17 | F23: 30.4 | G23: =F23*1.25 -> 38 | H23: =G23*E23 -> 646 | J23: =F23*0.71 -> 21.584
C24: TOTAL ITEM C | H24: =SUM(H21:H23) -> 17711.237 | J24: =F24*0.71 -> 0
A25: D | C25: INSTALAÇAO HIDRO-SANITARIA | J25: =F25*0.71 -> 0
C26: TORNEIRA | J26: =F26*0.71 -> 0
A27: 3.0 | B27: MET- TOR-035 | C27: TORNEIRA PARA LAVATÓRIO CROMADA REF. 1194 | D27: UN | E27: 1 | F27: 136.72 | G27: =F27*1.25 -> 170.9 | H27: =G27*E27 -> 170.9 | J27: =F27*0.71 -> 97.0712
C28: VASO SANITARIO | J28: =F28*0.71 -> 0
A29: 5.0 | B29: LOU- VAS-015 | C29: VASO SANITÁRIO LOUÇA BRANCA COM CAIXA ACOPLADA | D29: UN | E29: 1 | F29: 549.53 | G29: =F29*1.25 -> 686.9125 | H29: =G29*E29 -> 686.9125 | J29: =F29*0.71 -> 390.1663
C30: BEBEDOURO E FILTRO | J30: =F30*0.71 -> 0
A31: 6.0 | B31: ACE- BEB-010 | C31: BEBEDOURO GEMINADO MG-F 80 INOX | D31: UN | E31: 1 | F31: 681.94 | G31: =F31*1.25 -> 852.425 | H31: =G31*E31 -> 852.425 | J31: =F31*0.71 -> 484.1774
C32: COMPLEMENTO | J32: =F32*0.71 -> 0
A33: 7.0 | B33: ACE- PAP-020 | C33: DISPENSER EM PLÁSTICO PARA PAPEL TOALHA 2 OU 3 FOLHAS | D33: UN | E33: 3 | F33: 36.84 | G33: =F33*1.25 -> 46.05 | H33: =G33*E33 -> 138.15 | J33: =F33*0.71 -> 26.1564
A34: 8.0 | B34: ACE- SAB-005 | C34: SABONETEIRA EM AÇO INOX TIPO DISPENSER PARA SABONETE LIQUIDO COM RESERVATORIO 800 ML | D34: UN | E34: 3 | F34: 158.66 | G34: =F34*1.25 -> 198.325 | H34: =G34*E34 -> 594.975 | J34: =F34*0.71 -> 112.6486
A35: 9.0 | B35: ACE- ASS-005 | C35: ASSENTO BRANCO PARA VASO | D35: UN | E35: 3 | F35: 25.3 | G35: =F35*1.25 -> 31.625 | H35: =G35*E35 -> 94.875 | J35: =F35*0.71 -> 17.963
C36: CALHA DE CHAPA GALVANIZADA | J36: =F36*0.71 -> 0
A37: 10.0 | B37: PLU-CAL- 080 | C37: CALHA DE CHAPA GALVANIZADA Nº. 26 GSG, DESENVOLVIMENTO = 66 CM | D37: M | E37: 35 | F37: 62.99 | G37: =F37*1.25 -> 78.7375 | H37: =G37*E37 -> 2755.8125 | J37: =F37*0.71 -> 44.7229
C38: RUFO E CONTRA-RUFO DE CHAPA GALVANIZADA | J38: =F38*0.71 -> 0
A39: 11.0 | B39: PLU- RUF-050 | C39: RUFO E CONTRA-RUFO DE CHAPA GALVANIZADA Nº. 26, DESENVOLVIMENTO = 25 CM | D39: M | E39: 22.7 | F39: 26.04 | G39: =F39*1.25 -> 32.55 | H39: =G39*E39 -> 738.885 | J39: =F39*0.71 -> 18.4884
C40: TOTAL ITEM D | H40: =H39+H37+H35+H34+H33+H31+H29+H27 -> 6032.935 | J40: =F40*0.71 -> 0
...
