Workbook
Name \s: #REF!
Name \s: #REF!
Name \s: #REF!
Name \t: #REF!
Name \t: #REF!
Name \t: #REF!
Name __6Excel_BuiltIn_Print_Area_3_1_1_1_1_1: #REF!
Name __6Excel_BuiltIn_Print_Area_3_1_1_1_1_1: #REF!
Name __6Excel_BuiltIn_Print_Area_3_1_1_1_1_1: #REF!
Name _10Excel_BuiltIn_Print_Area_5_1: #REF!
Name _10Excel_BuiltIn_Print_Area_5_1: #REF!
Name _10Excel_BuiltIn_Print_Area_5_1: #REF!
Name _10Excel_BuiltIn_Print_Area_7_1: #REF!
Name _10Excel_BuiltIn_Print_Area_7_1: #REF!
Name _10Excel_BuiltIn_Print_Area_7_1: #REF!
Name _11Excel_BuiltIn_Print_Area_8_1: ([1]EMERGÊNCIA!$A$1:$N$213,[1]EMERGÊNCIA!$A$214:$N$290)
Name _12Excel_BuiltIn_Print_Area_6_1: #REF!
Name _12Excel_BuiltIn_Print_Area_6_1: #REF!
Name _12Excel_BuiltIn_Print_Area_6_1: #REF!
Name _12Excel_BuiltIn_Print_Area_9_1: #REF!
Name _12Excel_BuiltIn_Print_Area_9_1: #REF!
Name _12Excel_BuiltIn_Print_Area_9_1: #REF!
Name _13Excel_BuiltIn_Print_Titles_3_1: #REF!
Name _13Excel_BuiltIn_Print_Titles_3_1: #REF!
Name _13Excel_BuiltIn_Print_Titles_3_1: #REF!
Name _14Excel_BuiltIn_Print_Area_7_1: #REF!
Name _14Excel_BuiltIn_Print_Area_7_1: #REF!
Name _14Excel_BuiltIn_Print_Area_7_1: #REF!
Name _14Excel_BuiltIn_Print_Titles_4_1: #REF!
Name _14Excel_BuiltIn_Print_Titles_4_1: #REF!
Name _14Excel_BuiltIn_Print_Titles_4_1: #REF!
Name _15Excel_BuiltIn_Print_Area_8_1: ([1]EMERGÊNCIA!$A$1:$N$213,[1]EMERGÊNCIA!$A$214:$N$290)
Name _15Excel_BuiltIn_Print_Titles_5_1: #REF!
Name _15Excel_BuiltIn_Print_Titles_5_1: #REF!
Name _15Excel_BuiltIn_Print_Titles_5_1: #REF!
Name _16Excel_BuiltIn_Print_Titles_6_1: #REF!
Name _16Excel_BuiltIn_Print_Titles_6_1: #REF!
Name _16Excel_BuiltIn_Print_Titles_6_1: #REF!
Name _17Excel_BuiltIn_Print_Area_9_1: #REF!
Name _17Excel_BuiltIn_Print_Area_9_1: #REF!
Name _17Excel_BuiltIn_Print_Area_9_1: #REF!
Name _17Excel_BuiltIn_Print_Titles_7_1: #REF!
Name _17Excel_BuiltIn_Print_Titles_7_1: #REF!
Name _17Excel_BuiltIn_Print_Titles_7_1: #REF!
Name _18Excel_BuiltIn_Print_Titles_9_1: #REF!
Name _18Excel_BuiltIn_Print_Titles_9_1: #REF!
Name _18Excel_BuiltIn_Print_Titles_9_1: #REF!
Name _1Excel_BuiltIn__FilterDatabase_12_1: #REF!
Name _1Excel_BuiltIn__FilterDatabase_12_1: #REF!
Name _1Excel_BuiltIn__FilterDatabase_12_1: #REF!
Name _1Excel_BuiltIn_Print_Area_2_1: #REF!
Name _1Excel_BuiltIn_Print_Area_2_1: #REF!
Name _1Excel_BuiltIn_Print_Area_2_1: #REF!
Name _28Excel_BuiltIn_Print_Titles_3_1: #REF!
Name _28Excel_BuiltIn_Print_Titles_3_1: #REF!
Name _28Excel_BuiltIn_Print_Titles_3_1: #REF!
Name _2Excel_BuiltIn__FilterDatabase_12_1: #REF!
Name _2Excel_BuiltIn__FilterDatabase_12_1: #REF!
Name _2Excel_BuiltIn__FilterDatabase_12_1: #REF!
Name _2Excel_BuiltIn_Print_Area_1_1_1_1_1_1_1: #REF!

Sheet Planilha
A1: PREFEITURA DE JUIZ DE FORA
A2: SECRETARIA DE OBRAS
A3: SUBSECRETARIA DE GESTÃO DE OBRAS PÚBLICAS
A4: PLANILHA ORÇAMENTÁRIA PROPONENTE
A5: OBRA: | B5: CONTENÇÃO E ESTABILIZAÇÃO DE TALUDE NA AV. OLAVO BILAC - CURVA DA MISÉRIA / JUIZ DE FORA/MG | F5: BDI ONERADO: | I5: ='Composição de BDI'!C20 -> 0.2423 | J5: -
F6: BDI PROJETO: | I6: ='Composição de BDI'!C47 -> 0.261
F7: BDI DIFERENCIADO: | I7: ='Composição de BDI'!C35 -> 0.168
A8: PROPONENTE: | C8: CNPJ: | F8: DESCONTO PROPOSTO:
A9: ITEM | B9: DESCRIÇÃO | C9: REFERÊNCIA ONERADA: SINAPI/MG 07/26 - SICRO3/MG 04/26 SEINFRA: 04/26 - SCO/RJ: 07/26 EMOP/RJ: 07/26 - ORSE/SE: 06/26 | E9: QUANT. | F9: UN. | G9: PREÇO UNITÁRIO SEM BDI | H9: PREÇO UNITÁRIO COM BDI | I9: PREÇO TOTAL COM BDI | J9: BDI (%)
A10: VALOR TOTAL COM BDI ONERADO: 24,23%, EXCETO ITENS: 1.2.1 a 1.2.14 / 1.3.7 a 1.3.10 / 1.4.8 / 1.5.1 / 1.5.16 / 1.5.18 / 1.6.4 / 1.7.4 / 1.8.4 / 1.9.4 / 1.10.4 / 1.11.4 COM BDI DIFERENCIADO: 16,80% E ITENS: 1.13.1 a 1.13.10 / 1.14.1 COM BDI: 26,10% | I10: =I11+I13+I28+I41+I50+I70+I77+I86+I94+I102+I110+I118+I122+I133 -> 8324654.9 | J10: -
A11: 1.1. | B11: ADMINISTRAÇÃO LOCAL (12 MESES: OBRA) | I11: =I12 -> 391717 | J11: -
A12: 1.1.1. | B12: ADMINISTRAÇÃO LOCAL COMPOSTA POR: ENG. CIVIL DE OBRA PLENO / TÉCNICO EM SEGURANÇA DO TRABALHO / ENCARREGADO GERAL / TOPÓGRAFO E AUXILIAR DE TOPÓGRAFO / VIGILÂNCIA DA OBRA (SINAPI: 93567 / 100321 / 93572 / 94296 / 101389 / 101460 - D.B.: 07/2026) | C12: Composição | D12: CPU ADM | E12: 1 | F12: %CT | G12: =(L12*(1-I$8)) -> 3153.16 | H12: =ROUND(G12*(1+J12),2) -> 3917.17 | I12: =ROUND(E12*H12*100,2) -> 391717 | J12: =I$5 -> 0.2423 | L12: 3153.16
A13: 1.2. | B13: ENSAIOS E SONDAGEM | I13: =SUM(I14:I27) -> 119279.06 | J13: -
A14: 1.2.1. | B14: MOBILIZAÇÃO E DESMOBILIZAÇÃO DE EQUIPE DE ENSAIOS TECNOLÓGICOS, CONSIDERANDO O TRANSPORTE ATÉ 50 KM | C14: SCO-RJ | D14: AD 15.12.0050 | E14: 1 | F14: UN | G14: =(L14*(1-I$8)) -> 3586.09 | H14: =ROUND(G14*(1+J14),2) -> 4188.55 | I14: =ROUND(E14*H14,2) -> 4188.55 | J14: =I$7 -> 0.168 | L14: 3586.09
A15: 1.2.2. | B15: SONDAGEM ROTATIVA COM COROA DE WIDIA,EM ALTERACAO DE ROCHA, DIAMETRO H,VERTICAL,INCLUSIVE DESLOCAMENTO DENTRO DO CANTEIR O E INSTALACAO DA SONDA EM CADA FURO | C15: EMOP | D15: 01.002.0012-0 | E15: 32 | F15: M | G15: =(L15*(1-I$8)) -> 298.99 | H15: =ROUND(G15*(1+J15),2) -> 349.22 | I15: =ROUND(E15*H15,2) -> 11175.04 | J15: =I$7 -> 0.168 | L15: 298.99
A16: 1.2.3. | B16: SONDAGEM ROTATIVA COM COROA DE WIDIA,EM ROCHA SA,DIAMETRO NX ,VERTICAL,INCLUSIVE DESLOCAMENTO DENTRO DO CANTEIRO E INSTAL ACAO DA SONDA EM CADA FURO | C16: EMOP | D16: 01.002.0015-0 | E16: 32 | F16: M | G16: =(L16*(1-I$8)) -> 392.79 | H16: =ROUND(G16*(1+J16),2) -> 458.78 | I16: =ROUND(E16*H16,2) -> 14680.96 | J16: =I$7 -> 0.168 | L16: 392.79
A17: 1.2.4. | B17: SONDAGEM A PERCUSSÃO COM ENSAIO DE PENETRAÇÃO PADRÃO (SPT), DIÂMETRO 2.1/2", COM REVESTIMENTO, EXCLUSIVE DIÁRIA, MOBILIZAÇÃO E DESMOBILIZAÇÃO | C17: SEINFRA | D17: CO-29037 | E17: 96 | F17: M | G17: =(L17*(1-I$8)) -> 155.56 | H17: =ROUND(G17*(1+J17),2) -> 181.69 | I17: =ROUND(E17*H17,2) -> 17442.24 | J17: =I$7 -> 0.168 | L17: 155.56
A18: 1.2.5. | B18: MOBILIZAÇÃO E DESMOBILIZAÇÃO DE EQUIPAMENTO DE SONDAGEM A PERCUSSÃO COM ENSAIO DE PENETRAÇÃO PADRÃO (SPT) - (CUSTO FIXO) | C18: SEINFRA | D18: CO-29070 | E18: 1 | F18: UN | G18: =(L18*(1-I$8)) -> 3263.91 | H18: =ROUND(G18*(1+J18),2) -> 3812.25 | I18: =ROUND(E18*H18,2) -> 3812.25 | J18: =I$7 -> 0.168 | L18: 3263.91
A19: 1.2.6. | B19: TAXA DE INSTALAÇÃO POR FURO PARA SONDAGEM A PERCUSSÃO COM ENSAIO DE PENETRAÇÃO PADRÃO (SPT), DIÂMETRO 2.1/2", EXCLUSIVE SONDAGEM | C19: SEINFRA | D19: CO-29027 | E19: 8 | F19: UN | G19: =(L19*(1-I$8)) -> 374.52 | H19: =ROUND(G19*(1+J19),2) -> 437.44 | I19: =ROUND(E19*H19,2) -> 3499.52 | J19: =I$7 -> 0.168 | L19: 374.52
A20: 1.2.7. | B20: ENSAIO DE CISALHAMENTO DIRETO, EM JUNTAS (DIACLASES), EM LABORATÓRIO, COM CONTROLE DE DESLOCAMENTO CISALHANTE E DA TENSÃO NORMAL APLICADA, ATRAVÉS DE SISTEMA DE AQUISIÇÃO DE DADOS AUTOMÁTICO, PARA 5 NÍVEIS DE TENSÃO NORMAL, INCLUINDO A PREPARAÇÃO DA AMOSTRA POR CORPO DE PROVA E DE RELATÓRIO, EXCLUINDO A EXTRAÇÃO DA AMOSTRA ORIENTADA | C20: SCO-RJ | D20: AD 35.25.0050 | E20: 2 | F20: UN | G20: =(L20*(1-I$8)) -> 3610.74 | H20: =ROUND(G20*(1+J20),2) -> 4217.34 | I20: =ROUND(E20*H20,2) -> 8434.68 | J20: =I$7 -> 0.168 | L20: 3610.74
A21: 1.2.8. | B21: AMOSTRA INDEFORMADA EM BLOCO | C21: SCO-RJ | D21: AD 35.35.0050 | E21: 4 | F21: UN | G21: =(L21*(1-I$8)) -> 362.8 | H21: =ROUND(G21*(1+J21),2) -> 423.75 | I21: =ROUND(E21*H21,2) -> 1695 | J21: =I$7 -> 0.168 | L21: 362.8
A22: 1.2.9. | B22: ENSAIO TRIAXIAL DRENADO EM AMOSTRA NATURAL POR CP | C22: SCO-RJ | D22: AD 35.35.1000 | E22: 12 | F22: UN | G22: =(L22*(1-I$8)) -> 2741.02 | H22: =ROUND(G22*(1+J22),2) -> 3201.51 | I22: =ROUND(E22*H22,2) -> 38418.12 | J22: =I$7 -> 0.168 | L22: 2741.02
A23: 1.2.10. | B23: ENSAIO TRIAXIAL NÃO DRENADO EM AMOSTRA NATURAL POR CP | C23: SCO-RJ | D23: AD 35.35.1100 | E23: 6 | F23: UN | G23: =(L23*(1-I$8)) -> 1028.33 | H23: =ROUND(G23*(1+J23),2) -> 1201.09 | I23: =ROUND(E23*H23,2) -> 7206.54 | J23: =I$7 -> 0.168 | L23: 1028.33
A24: 1.2.11. | B24: ANÁLISE GRANULOMÉTRICA COMPLETA, EM AMOSTRA DE SOLO, DE ACORDO COM A NBR7181 E NBR6457, COMPREENDENDO AS FASES DE PENEIRAMENTO E SEDIMENTAÇÃO, QUANDO CONSTATADA A PRESENÇA DE PARTÍCULAS FINAS EM SUA COMPOSIÇÃO | C24: SCO-RJ | D24: AD 05.05.0053 | E24: 8 | F24: UN | G24: =(L24*(1-I$8)) -> 520.4 | H24: =ROUND(G24*(1+J24),2) -> 607.83 | I24: =ROUND(E24*H24,2) -> 4862.64 | J24: =I$7 -> 0.168 | L24: 520.4
A25: 1.2.12. | B25: ENSAIO PARA DETERMINAÇÃO, EM LABORATÓRIO, DO LIMITE DE LIQUIDEZ DE AMOSTRA DE SOLO FINO, DE ACORDO COM AS RECOMENDAÇÕES DA NBR7180 E DA NBR6457 | C25: SCO-RJ | D25: AD 05.05.0250 | E25: 8 | F25: UN | G25: =(L25*(1-I$8)) -> 199.61 | H25: =ROUND(G25*(1+J25),2) -> 233.14 | I25: =ROUND(E25*H25,2) -> 1865.12 | J25: =I$7 -> 0.168 | L25: 199.61
... A27: 1.2.14. | B27: ENSAIO PARA DETERMINAÇÃO DA UMIDADE NATURAL DE AMOSTRAS DE SOLO, EM LABORATÓRIO | C27: SCO-RJ | D27: AD 05.05.0550 | E27: 8 | F27: UN | G27: =(L27*(1-I$8)) -> 103.37 | H27: =ROUND(G27*(1+J27),2) -> 120.74 | I27: =ROUND(E27*H27,2) -> 965.92 | J27: =I$7 -> 0.168 | L27: 103.37
A28: 1.3. | B28: SERVIÇOS PRELIMINARES / CANTEIRO DE OBRAS | I28: =SUM(I29:I40) -> 93755.63 | J28: -
A29: 1.3.1. | B29: FORNECIMENTO E INSTALAÇÃO DE PLACA DE OBRA COM CHAPA GALVANIZADA E ESTRUTURA DE MADEIRA. AF_03/2022_PS | C29: SINAPI | D29: 103689 | E29: 6.48 | F29: M2 | G29: =(L29*(1-I$8)) -> 384.29929 | H29: =ROUND(G29*(1+J29),2) -> 477.42 | I29: =ROUND(E29*H29,2) -> 3093.68 | J29: =I$5 -> 0.2423 | L29: 384.29929
A30: 1.3.2. | B30: TAPUME COM TELHA METÁLICA. AF_03/2024 | C30: SINAPI | D30: 98459 | E30: 52.8 | F30: M2 | G30: =(L30*(1-I$8)) -> 89.69 | H30: =ROUND(G30*(1+J30),2) -> 111.42 | I30: =ROUND(E30*H30,2) -> 5882.98 | J30: =I$5 -> 0.2423 | L30: 89.69
A31: 1.3.3. | B31: LIGAÇÃO DE ÁGUA PROVISÓRIA PARA CANTEIRO, INCLUSIVE HIDRÔMETRO E CAVALETE PARA MEDIÇÃO DE ÁGUA ENTRADA PRINCIPAL, EM AÇO GALVANIZADO DN 20MM (1/2") PADRÃO CONCESSIONÁRIA | C31: SEINFRA | D31: ED-50150 | E31: 1 | F31: UN | G31: =(L31*(1-I$8)) -> 682.392 | H31: =ROUND(G31*(1+J31),2) -> 847.74 | I31: =ROUND(E31*H31,2) -> 847.74 | J31: =I$5 -> 0.2423 | L31: 682.392
A32: 1.3.4. | B32: LIGAÇÃO DE ESGOTO PARA BARRACÃO DE OBRA EM CANTEIRO, EXCLUSIVE FOSSA SÉPTICA | C32: SEINFRA | D32: ED-31745 | E32: 1 | F32: UN | G32: =(L32*(1-I$8)) -> 960.74 | H32: =ROUND(G32*(1+J32),2) -> 1193.53 | I32: =ROUND(E32*H32,2) -> 1193.53 | J32: =I$5 -> 0.2423 | L32: 960.74
A33: 1.3.5. | B33: LIGAÇÃO PROVISÓRIA COM ENTRADA DE ENERGIA AÉREA, PADRÃO CEMIG, CARGA INSTALADA DE 15,1KVA ATÉ 30KVA, TRIFÁSICO, COM SAÍDA SUBTERRÂNEA, INCLUSIVE POSTE, CAIXA PARA MEDIDOR, DISJUNTOR, BARRAMENTO, ATERRAMENTO E ACESSÓRIOS | C33: SEINFRA | D33: ED-50151 | E33: 1 | F33: UN | G33: =(L33*(1-I$8)) -> 963.94 | H33: =ROUND(G33*(1+J33),2) -> 1197.5 | I33: =ROUND(E33*H33,2) -> 1197.5 | J33: =I$5 -> 0.2423 | L33: 963.94
A34: 1.3.6. | B34: BARRACÃO DE OBRA PARA DEPÓSITO E FERRAMENTARIA TIPO-II, ÁREA INTERNA 25,41M2, EM CHAPA DE COMPENSADO RESINADO, INCLUSIVE MOBILIÁRIO (OBRA DE MÉDIO PORTE, EFETIVO DE 30 A 60 HOMENS), PADRÃO DER-MG | C34: SEINFRA | D34: ED-50129 | E34: 1 | F34: UN | G34: =(L34*(1-I$8)) -> 16118.305 | H34: =ROUND(G34*(1+J34),2) -> 20023.77 | I34: =ROUND(E34*H34,2) -> 20023.77 | J34: =I$5 -> 0.2423 | L34: 16118.305
A35: 1.3.7. | B35: LOCACAO DE CONTAINER 2,30 X 6,00 M, ALT. 2,50 M, COM 1 SANITARIO, PARA ESCRITORIO, COMPLETO, SEM DIVISORIAS INTERNAS (NAO INCLUI MOBILIZACAO/DESMOBILIZACAO) | C35: SINAPI-I | D35: 10775 | E35: 12 | F35: MES | G35: =(L35*(1-I$8)) -> 980.00428 | H35: =ROUND(G35*(1+J35),2) -> 1144.64 | I35: =ROUND(E35*H35,2) -> 13735.68 | J35: =I$7 -> 0.168 | L35: 980.00428
A36: 1.3.8. | B36: LOCACAO DE CONTAINER 2,30 X 6,00 M, ALT. 2,50 M, PARA ESCRITORIO, SEM DIVISORIAS INTERNAS E SEM SANITARIO (NAO INCLUI MOBILIZACAO/DESMOBILIZACAO) | C36: SINAPI-I | D36: 10776 | E36: 12 | F36: MES | G36: =(L36*(1-I$8)) -> 765.62 | H36: =ROUND(G36*(1+J36),2) -> 894.24 | I36: =ROUND(E36*H36,2) -> 10730.88 | J36: =I$7 -> 0.168 | L36: 765.62
A37: 1.3.9. | B37: LOCACAO DE CONTAINER 2,30 X 6,00 M, ALT. 2,50 M, PARA SANITARIO, COM 4 BACIAS, 8 CHUVEIROS,1 LAVATORIO E 1 MICTORIO (NAO INCLUI MOBILIZACAO/DESMOBILIZACAO) | C37: SINAPI-I | D37: 10778 | E37: 12 | F37: MES | G37: =(L37*(1-I$8)) -> 1225 | H37: =ROUND(G37*(1+J37),2) -> 1430.8 | I37: =ROUND(E37*H37,2) -> 17169.6 | J37: =I$7 -> 0.168 | L37: 1225
A38: 1.3.10. | B38: LOCAÇÃO DE BANHEIRO QUÍMICO, DIMENSÃO (110X120X230)CM, LINHA PADRÃO, CONTENDO UMA (1) PIA/HIGIENIZADOR DE MÃOS, INCLUSIVE MANUTENÇÃO E MOBILIZAÇÃO/DESMOBILIZAÇÃO | C38: SEINFRA | D38: ED-50155 | E38: 12 | F38: MÊS | G38: =(L38*(1-I$8)) -> 980 | H38: =ROUND(G38*(1+J38),2) -> 1144.64 | I38: =ROUND(E38*H38,2) -> 13735.68 | J38: =I$7 -> 0.168 | L38: 980
A39: 1.3.11. | B39: INSTALAÇÃO E DESINSTALAÇÃO MECANIZADA DE CONTÊINER OU MÓDULO HABITÁVEL DE USOS DIVERSOS. AF_03/2024 | C39: SINAPI | D39: 105115 | E39: 3 | F39: UN | G39: =(L39*(1-I$8)) -> 142.08 | H39: =ROUND(G39*(1+J39),2) -> 176.51 | I39: =ROUND(E39*H39,2) -> 529.53 | J39: =I$5 -> 0.2423 | L39: 142.08
A40: 1.3.12. | B40: EXECUÇÃO DOS APOIOS PARA CONTÊINER OU MÓDULO HABITÁVEL. AF_03/2024 | C40: SINAPI | D40: 105114 | E40: 2.25 | F40: M3 | G40: =(L40*(1-I$8)) -> 2008.84 | H40: =ROUND(G40*(1+J40),2) -> 2495.58 | I40: =ROUND(E40*H40,2) -> 5615.06 | J40: =I$5 -> 0.2423 | L40: 2008.84
A41: 1.4. | B41: TERRAPLENAGEM, DEMOLIÇÕES E REMOÇÕES | I41: =SUM(I42:I49) -> 210264.29 | J41: -
...

Sheet Cronograma Físico-Financeiro
A1: PREFEITURA DE JUIZ DE FORA
A2: SECRETARIA DE OBRAS
A3: SUBSECRETARIA DE GESTÃO DE OBRAS PÚBLICAS
A4: CRONOGRAMA FÍSICO-FINANCEIRO PROPONENTE
A5: OBRA: | B5: CONTENÇÃO E ESTABILIZAÇÃO DE TALUDE NA AV. OLAVO BILAC - CURVA DA MISÉRIA | H5: LOCAL: | I5: JUIZ DE FORA/MG
A6: PROPONENTE: | B6: =Planilha!B8 -> 0 | E6: CNPJ: | F6: =Planilha!D8 -> 0
A7: ITEM | B7: DESCRIÇÃO | C7: VALOR TOTAL | D7: PESO (%) | E7: PERÍODO (MESES)
E8: 1 | F8: 2 | G8: 3 | H8: 4 | I8: 5 | J8: 6 | K8: 7 | L8: 8 | M8: 9 | N8: 10 | O8: 11 | P8: 12 | Q8: 13 | R8: 14 | S8: 15
A9: 1 | B9: ADMINISTRAÇÃO LOCAL (12 MESES: OBRA) | C9: =Planilha!I11 -> 391717 | D9: =C9/C$37 -> 0.047055044 | H9: 0.092800008 | I9: 0.092800008 | J9: 0.078299999 | K9: 0.078299999 | L9: 0.078299999 | M9: 0.077799995 | N9: 0.074799998 | O9: 0.074799998 | P9: 0.07379999 | Q9: 0.088399995 | R9: 0.09630001 | S9: 0.093599999
H10: =$C9*H9 -> 36351.341 | I10: =$C9*I9 -> 36351.341 | J10: =$C9*J9 -> 30671.441 | K10: =$C9*K9 -> 30671.441 | L10: =$C9*L9 -> 30671.441 | M10: =$C9*M9 -> 30475.581 | N10: =$C9*N9 -> 29300.431 | O10: =$C9*O9 -> 29300.431 | ... S10: =$C9*S9 -> 36664.711
A11: 2 | B11: ENSAIOS E SONDAGEM | C11: =Planilha!I13 -> 119279.06 | D11: =C11/C$37 -> 0.014328409 | E11: 1
E12: =$C11*E11 -> 119279.06
A13: 3 | B13: SERVIÇOS PRELIMINARES / CANTEIRO DE OBRAS | C13: =Planilha!I28 -> 93755.63 | D13: =C13/C$37 -> 0.011262404 | H13: 0.091956504 | I13: 0.091956504 | J13: 0.078842199 | K13: 0.078842199 | L13: 0.078842199 | M13: 0.078275513 | N13: 0.073740958 | O13: 0.073740958 | P13: 0.073189205 | Q13: 0.088549136 | R13: 0.097251653 | S13: 0.094812973
H14: =$C13*H13 -> 8621.44 | I14: =$C13*I13 -> 8621.44 | J14: =$C13*J13 -> 7391.9 | K14: =$C13*K13 -> 7391.9 | L14: =$C13*L13 -> 7391.9 | M14: =$C13*M13 -> 7338.77 | N14: =$C13*N13 -> 6913.63 | O14: =$C13*O13 -> 6913.63 | ... S14: =$C13*S13 -> 8889.25
A15: 4 | B15: TERRAPLENAGEM, DEMOLIÇÕES E REMOÇÕES | C15: =Planilha!I41 -> 210264.29 | D15: =C15/C$37 -> 0.025258019 | H15: 0.5 | I15: 0.5
H16: =$C15*H15 -> 105132.15 | I16: =$C15*I15 -> 105132.15
A17: 5 | B17: SOLO GRAMPEADO | C17: =Planilha!I50 -> 7179380.3 | D17: =C17/C$37 -> 0.86242378 | H17: 0.083334152 | I17: 0.083334152 | J17: 0.083334152 | K17: 0.083334152 | L17: 0.083334152 | M17: 0.083334152 | N17: 0.083333481 | O17: 0.083333478 | P17: 0.083332498 | Q17: 0.083332055 | R17: 0.083331787 | S17: 0.083331787
H18: =$C17*H17 -> 598287.57 | I18: =$C17*I17 -> 598287.57 | J18: =$C17*J17 -> 598287.57 | K18: =$C17*K17 -> 598287.57 | L18: =$C17*L17 -> 598287.57 | M18: =$C17*M17 -> 598287.57 | N18: =$C17*N17 -> 598282.75 | O18: =$C17*O17 -> 598282.73 | ... S18: =$C17*S17 -> 598270.59
A19: 6 | B19: DISPOSITIVOS DE DRENAGEM: VALETA TRAPEZOIDAL DE CONCRETO COM ESTACA | C19: =Planilha!I70 -> 69302.8 | D19: =C19/C$37 -> 0.0083250058 | Q19: 1
Q20: =$C19*Q19 -> 69302.8
A21: 7 | B21: DISPOSITIVOS DE DRENAGEM: ESCADA HIDRÁULICA COM ESTACA | C21: =Planilha!I77 -> 139988.79 | D21: =C21/C$37 -> 0.016816167 | R21: 1
R22: =$C21*R21 -> 139988.79
A23: 8 | B23: DISPOSITIVOS DE DRENAGEM: CAIXA DE PASSAGEM HIDRÁULICA - 2 (1,36M x 1,36M x 0,93M) | C23: =Planilha!I86 -> 2586.8 | D23: =C23/C$37 -> 0.00031073961 | S23: 1
S24: =$C23*S23 -> 2586.8
A25: 9 | B25: DISPOSITIVOS DE DRENAGEM: CAIXA DE PASSAGEM HIDRÁULICA - 1 (1,36M x 1,36M x 0,93M) | C25: =Planilha!I94 -> 2586.8 | D25: =C25/C$37 -> 0.00031073961 | S25: 1
S26: =$C25*S25 -> 2586.8
A27: 10 | B27: DISPOSITIVOS DE DRENAGEM: CAIXA DE PASSAGEM HIDRÁULICA - 3 (1,36M x 1,36M x 0,93M) | C27: =Planilha!I102 -> 2586.8 | D27: =C27/C$37 -> 0.00031073961 | S27: 1
S28: =$C27*S27 -> 2586.8
A29: 11 | B29: DISPOSITIVOS DE DRENAGEM: CAIXA DE PASSAGEM HIDRÁULICA - 4 (1,36M x 1,36M x 0,93M) | C29: =Planilha!I110 -> 2586.8 | D29: =C29/C$37 -> 0.00031073961 | S29: 1
S30: =$C29*S29 -> 2586.8
A31: 12 | B31: URBANISMO | C31: =Planilha!I118 -> 58017.3 | D31: =C31/C$37 -> 0.006969334 | Q31: =1/3 -> 0.33333333 | R31: =1/3 -> 0.33333333 | S31: =1/3 -> 0.33333333
Q32: =$C31*Q31 -> 19339.1 | R32: =$C31*R31 -> 19339.1 | S32: =$C31*S31 -> 19339.1
A33: 13 | B33: PROJETO EXECUTIVO | C33: =Planilha!I122 -> 44366.52 | D33: =C33/C$37 -> 0.0053295327 | E33: 0.092411801 | F33: 0.59039316 | G33: 0.31719504
E34: =$C33*E33 -> 4099.99 | F34: =$C33*F33 -> 26193.69 | G34: =$C33*G33 -> 14072.84
A35: 14 | B35: COMO CONSTRUÍDO ("AS BUILT") | C35: =Planilha!I133 -> 8236 | D35: =C35/C$37 -> 0.00098935032 | S35: 1
S36: =$C35*S35 -> 8236
A37: VALOR E % TOTAL / PERCENTUAL MENSAL | C37: =SUM(C9:C36) -> 8324654.9 | D37: =SUM(D9:D36) -> 1 | E37: =E38/$C37 -> 0.014820921 | F37: =F38/$C37 -> 0.0031465196 | G37: =G38/$C37 -> 0.0016905013 | H37: =H38/$C37 -> 0.089900724 | I37: =I38/$C37 -> 0.089900724 | J37: =J38/$C37 -> 0.076441717 | K37: =K38/$C37 -> 0.076441717 | L37: =L38/$C37 -> 0.076441717 | ... S37: =S38/$C37 -> 0.081894909
A38: VALOR MENSAL | E38: =E10+E12+E14+E16+E18+E20+E22+E24+E26+E28+E30+E32+E34+E36 -> 123379.05 | F38: =F10+F12+F14+F16+F18+F20+F22+F24+F26+F28+F30+F32+F34+F36 -> 26193.69 | G38: =G10+G12+G14+G16+G18+G20+G22+G24+G26+G28+G30+G32+G34+G36 -> 14072.84 | H38: =H10+H12+H14+H16+H18+H20+H22+H24+H26+H28+H30+H32+H34+H36 -> 748392.5 | I38: =I10+I12+I14+I16+I18+I20+I22+I24+I26+I28+I30+I32+I34+I36 -> 748392.5 | J38: =J10+J12+J14+J16+J18+J20+J22+J24+J26+J28+J30+J32+J34+J36 -> 636350.91 | K38: =K10+K12+K14+K16+K18+K20+K22+K24+K26+K28+K30+K32+K34+K36 -> 636350.91 | L38: =L10+L12+L14+L16+L18+L20+L22+L24+L26+L28+L30+L32+L34+L36 -> 636350.91 | ... S38: =S10+S12+S14+S16+S18+S20+S22+S24+S26+S28+S30+S32+S34+S36 -> 681746.85
A39: PERCENTUAL MENSAL | E39: =E38/$C37 -> 0.014820921 | F39: =F38/$C37 -> 0.0031465196 | G39: =G38/$C37 -> 0.0016905013 | H39: =H38/$C37 -> 0.089900724 | I39: =I38/$C37 -> 0.089900724 | J39: =J38/$C37 -> 0.076441717 | K39: =K38/$C37 -> 0.076441717 | L39: =L38/$C37 -> 0.076441717 | ... S39: =S38/$C37 -> 0.081894909
A40: VALOR ACUMULADO | E40: =E38 -> 123379.05 | F40: =F38+E40 -> 149572.74 | G40: =G38+F40 -> 163645.58 | H40: =H38+G40 -> 912038.08 | I40: =I38+H40 -> 1660430.6 | J40: =J38+I40 -> 2296781.5 | K40: =K38+J40 -> 2933132.4 | L40: =L38+K40 -> 3569483.3 | M40: =M38+L40 -> 4205585.2 | ... S40: =S38+R40 -> 8324654.9
...

Sheet Composição de BDI
A1: PREFEITURA DE JUIZ DE FORA
A2: SECRETARIA DE OBRAS
A3: SUBSECRETARIA DE GESTÃO DE OBRAS PÚBLICAS
A4: COMPOSIÇÃO DE BDI PROPONENTE
A5: OBRA: CONTENÇÃO E ESTABILIZAÇÃO DE TALUDE NA AV. OLAVO BILAC - CURVA DA MISÉRIA / JUIZ DE FORA/MG
A6: PROPONENTE / CNPJ:
A7: Construção e Reforma de Edifícios
A8: ITENS: | B8: Siglas | C8: % Adotado
A9: Administração Central | B9: AC | C9: 0.0461
A10: Seguro e Garantia | B10: SG | C10: 0.008
A11: Risco | B11: R | C11: 0.0097
A12: Despesas Financeiras | B12: DF | C12: 0.0121
A13: Lucro | B13: L | C13: 0.0771
A14: Impostos | B14: I | C14: =C15+C16+C17 -> 0.0665
A15: PIS | B15: PIS | C15: 0.0065
A16: COFINS | B16: COFINS | C16: 0.03
A17: ISSQN | B17: ISSQN | C17: 0.03
A18: CPRB | B18: CPRB | C18: 0
A19: BDI SEM desoneração (Fórmula Acórdão TCU) | B19: BDI PAD | C19: =((1+C9+C10+C11)*(1+C12)*(1+C13)/(1-C14))-1 -> 0.24229608
A20: BDI ONERADO OBRA: | B20: LDI | C20: =ROUND(C19,4) -> 0.2423
A22: Fornecimento de Materiais e Equipamentos (Aquisição indireta em conjunto com licitação de obras)
A23: ITENS: | B23: Siglas | C23: % Adotado
A24: Administração Central | B24: AC | C24: 0.0154
A25: Seguro e Garantia | B25: SG | C25: 0.0047
A26: Risco | B26: R | C26: 0.0085
A27: Despesas Financeiras | B27: DF | C27: 0.0085
A28: Lucro | B28: L | C28: 0.0511
A29: Impostos | B29: I | C29: =C30+C31+C32 -> 0.0665
A30: PIS | B30: PIS | C30: 0.0065
A31: COFINS | B31: COFINS | C31: 0.03
A32: ISSQN | B32: ISSQN | C32: 0.03
A33: CPRB | B33: CPRB | C33: 0
A34: BDI Diferenciado SEM desoneração (Fórmula Acórdão TCU) | B34: BDI PAD | C34: =((1+C24+C25+C26)*(1+C27)*(1+C28)/(1-C29))-1 -> 0.16802499
A35: BDI DIFERENCIADO: | B35: LDI DIF. | C35: =ROUND(C34,4) -> 0.168
A37: Estudos e Projetos, Planos e Gerenciamento e outros correlatos
A38: ITENS: | B38: Siglas | C38: % Adotado
A39: Encargos Sociais incidentes sobre a mão de obra | B39: K1 | C39: 0
A40: Administração Central da empresa ou consultoria - overhead | B40: K2 | C40: 0.051
A41: Lucro | B41: K3 | C41: 0.12
A42: Impostos | B42: CP | C42: =C43+C44 -> 0.0365
...
