Workbook
Name ___xlnm_Database: NA()
Name ___xlnm_Print_Area: 'Cronograma Proponente'!$A$1:$O$58
Name ___xlnm_Print_Titles: 'Cronograma Proponente'!$4:$5
Name __xlfn_CONCAT: #REF!
Name DESONERACAO: IF(OR('Cronograma Proponente'!Import_Desoneracao="DESONERADO",'Cronograma Proponente'!Import_Desoneracao="SIM"),"SIM","NÃO")
Name DESONERACAO: IF(OR(Import_Desoneracao="DESONERADO",Import_Desoneracao="SIM"),"SIM","NÃO")
Name Excel_BuiltIn_Print_Area_2: NA()
Name Excel_BuiltIn_Print_Titles_2: NA()
Name Excel_BuiltIn_Print_Titles_2_1: NA()
Name Excel_BuiltIn_Print_Titles_3: NA()
Name Import_Desoneracao: #N/A
Name Import_Desoneracao: #REF!
Name ITEM05: '[2]Planilha Referencial'!#REF!
Name ITEM05: '[2]Planilha Referencial'!#REF!
Name ITEM06: '[2]Planilha Referencial'!#REF!
Name ITEM06: '[2]Planilha Referencial'!#REF!
Name ITEM07: '[2]Planilha Referencial'!#REF!
Name ITEM07: '[2]Planilha Referencial'!#REF!
Name ITEM08: '[2]Planilha Referencial'!#REF!
Name ITEM08: '[2]Planilha Referencial'!#REF!
Name ITEM09: '[2]Planilha Referencial'!#REF!
Name ITEM09: '[2]Planilha Referencial'!#REF!
Name ITEM10: '[2]Planilha Referencial'!#REF!
Name ITEM10: '[2]Planilha Referencial'!#REF!
Name ITEM11: '[2]Planilha Referencial'!#REF!
Name ITEM11: '[2]Planilha Referencial'!#REF!
Name ORÇAMENTO_BancoRef: "planilha!#ref!"
Name REFERENCIA_Descricao: IF(ISNUMBER('[3]Planilha Referencial'!$AC1),OFFSET(INDIRECT(ORÇAMENTO_BancoRef),'[3]Planilha Referencial'!$AC1-1,3,1),'[3]Planilha Referencial'!$AC1)
Name REFERENCIA_Unidade: IF(ISNUMBER('[3]Planilha Referencial'!$AC1),OFFSET(INDIRECT(ORÇAMENTO_BancoRef),'[3]Planilha Referencial'!$AC1-1,4,1),"-")
Name REFERENCIA_Unidade: NA()
Name SomaAgrup: SUMIF(OFFSET(#REF!,1,0,#REF!),"S",OFFSET(#REF!,1,0,#REF!))
Name SomaAgrup: SUMIF(OFFSET(#REF!,1,0,#REF!),"S",OFFSET(#REF!,1,0,#REF!))
Name VTOTAL1: ROUND(#REF!*#REF!,15-13*#REF!)
Name VTOTAL1: ROUND(#REF!*#REF!,15-13*#REF!)

Sheet PLANILHA
A1: PREFEITURA DE JUIZ DE FORA
A2: SECRETARIA DE OBRAS
A3: SUBSECRETARIA DE GESTÃO DE OBRAS E PROJETOS
A4: PLANILHA ORÇAMENTÁRIA PROPONENTE
A5: OBRA: UBS VALADARES - JUIZ DE FORA - MG | E5: DATA: Set. /2026 | G5: BDI ONERADO: | I5: ='Comp. BDI'!B27 -> 0.2366
G6: BDI DIFERENCIADO: | I6: ='Comp. BDI'!B51 -> 0.1432
A7: PROPONENTE: | E7: CNPJ:
A8: DESCONTO CONCEDIDO:
A9: ITEM | B9: REF. ONERADA SINAPI 07/2026 SICOR 04/2026 DNIT 04/2026 SUDECAP 04/2026 EXTRA 04/2026 URBEL 04/2026 | D9: DESCRIÇÃO | E9: UNID. | F9: QUANT. | G9: PREÇO UNITÁRIO SEM BDI | H9: PREÇO UNITÁRIO COM BDI | I9: PREÇO TOTAL COM BDI | K9: PREÇO UNITÁRIO SEM BDI (REFERENCIAL)
A10: VALOR TOTAL COM BDI ONERADO = 23,66% | I10: =I11 -> 1860380.9
D11: UBS VALADARES | I11: =I12+I24+I47+I133+I219+I234+I358+I436+I460+I493+I499+I518+I544+I547 -> 1860380.9
A12: 01 | D12: SERVIÇOS PRELIMINARES | I12: =SUM(I13:I23) -> 99327.74
A13: 01.01 | B13: SINAPI | C13: 103689 | D13: =UPPER(IFERROR(VLOOKUP($C13,INDIRECT(INDEX([4]CONFIG_BASES!A:Z,MATCH($D13,[4]CONFIG_BASES!#REF!,0),MATCH([4]RESUMO!$P$11,[4]CONFIG_BASES!$B$1:$AA$1,0))),3,FALSE),"")) -> FORNECIMENTO E INSTALAÇÃO DE PLACA DE OBRA COM CHAPA GALVANIZADA E ESTRUTURA DE MADEIRA. AF_03/2022_PS | E13: M2 | F13: 6.5 | G13: =K13*(1-I$8) -> 384.3 | H13: =IFERROR(G13*(1+$I$5),"") -> 475.22538 | I13: =IFERROR(TRUNC($F13*H13,2),"") -> 3088.96 | K13: 384.3
A14: 01.02 | B14: SICOR | C14: ED-50137 | D14: =UPPER(IFERROR(VLOOKUP($C14,INDIRECT(INDEX([4]CONFIG_BASES!A:Z,MATCH($D14,[4]CONFIG_BASES!#REF!,0),MATCH([4]RESUMO!$P$11,[4]CONFIG_BASES!$B$1:$AA$1,0))),3,FALSE),"")) -> MOBILIZAÇÃO E DESMOBILIZAÇÃO DE CONTAINER, INCLUSIVE CARGA, DESCARGA E TRANSPORTE EM CAMINHÃO CARROCERIA COM GUINDAUTO (MUNCK), EXCLUSIVE LOCAÇÃO DO CONTAINER | E14: UN | F14: 3 | G14: =K14*(1-I$8) -> 1785.28 | H14: =IFERROR(G14*(1+$I$5),"") -> 2207.6772 | I14: =IFERROR(TRUNC($F14*H14,2),"") -> 6623.03 | K14: 1785.28
A15: 01.03 | B15: SICOR | C15: ED-16349 | D15: =UPPER(IFERROR(VLOOKUP($C15,INDIRECT(INDEX([4]CONFIG_BASES!A:Z,MATCH($D15,[4]CONFIG_BASES!#REF!,0),MATCH([4]RESUMO!$P$11,[4]CONFIG_BASES!$B$1:$AA$1,0))),3,FALSE),"")) -> LOCAÇÃO DE CONTAINER COM ISOLAMENTO TÉRMICO, TIPO 2, PARA ESCRITÓRIO DE OBRA COM SANITÁRIO CONTENDO UM (1) VASO SANITÁRIO E UM (1) LAVATÓRIO, COM MEDIDAS REFERENCIAIS DE (6) METROS COMPRIMENTO, (2,3) METROS LARGURA E (2,5) METROS ALTURA ÚTIL INTERNA, INCLUSIVE AR CONDICIONADO E LIGAÇÕES ELÉTRICAS E HIDROSSANITÁRIAS INTERNAS, EXCLUSIVE MOBILIZAÇÃO/DESMOBILIZAÇÃO E LIGAÇÕES PROVISÓRIAS EXTERNAS | E15: MÊS | F15: 10 | G15: =K15*(1-I$8) -> 1630.56 | H15: =IFERROR(G15*(1+$I$6),"") -> 1864.0562 | I15: =IFERROR(TRUNC($F15*H15,2),"") -> 18640.56 | K15: 1630.56
A16: 01.04 | B16: SICOR | C16: ED-16353 | D16: =UPPER(IFERROR(VLOOKUP($C16,INDIRECT(INDEX([4]CONFIG_BASES!A:Z,MATCH($D16,[4]CONFIG_BASES!#REF!,0),MATCH([4]RESUMO!$P$11,[4]CONFIG_BASES!$B$1:$AA$1,0))),3,FALSE),"")) -> LOCAÇÃO DE CONTAINER COM ISOLAMENTO TÉRMICO, TIPO 6, PARA VESTIÁRIO DE OBRA COM SETE (7) VASOS SANITÁRIOS, UM (1) MICTÓRIO E UM (1) LAVATÓRIO, COM MEDIDAS REFERENCIAIS DE (6) METROS COMPRIMENTO, (2,3) METROS LARGURA E (2,5) METROS ALTURA ÚTIL INTERNA, INCLUSIVE LIGAÇÕES ELÉTRICAS E HIDROSSANITÁRIAS INTERNAS, EXCLUSIVE MOBILIZAÇÃO/DESMOBILIZAÇÃO E LIGAÇÕES PROVISÓRIAS EXTERNAS | E16: MÊS | F16: 10 | G16: =K16*(1-I$8) -> 2209.92 | H16: =IFERROR(G16*(1+$I$6),"") -> 2526.3805 | I16: =IFERROR(TRUNC($F16*H16,2),"") -> 25263.8 | K16: 2209.92
A17: 01.05 | B17: SICOR | C17: ED-16350 | D17: =UPPER(IFERROR(VLOOKUP($C17,INDIRECT(INDEX([4]CONFIG_BASES!A:Z,MATCH($D17,[4]CONFIG_BASES!#REF!,0),MATCH([4]RESUMO!$P$11,[4]CONFIG_BASES!$B$1:$AA$1,0))),3,FALSE),"")) -> LOCAÇÃO DE CONTAINER COM ISOLAMENTO TÉRMICO, TIPO 3, PARA DEPÓSITO/FERRAMENTARIA DE OBRA, COM MEDIDAS REFERENCIAIS DE (6) METROS COMPRIMENTO, (2,3) METROS LARGURA E (2,5) METROS ALTURA ÚTIL INTERNA, INCLUSIVE LIGAÇÕES ELÉTRICAS INTERNAS, EXCLUSIVE MOBILIZAÇÃO/DESMOBILIZAÇÃO E LIGAÇÕES PROVISÓRIAS EXTERNAS | E17: MÊS | F17: 10 | G17: =K17*(1-I$8) -> 858.15 | H17: =IFERROR(G17*(1+$I$6),"") -> 981.03708 | I17: =IFERROR(TRUNC($F17*H17,2),"") -> 9810.37 | K17: 858.15
A18: 01.06 | B18: SICOR | C18: ED-16357 | D18: =UPPER(IFERROR(VLOOKUP($C18,INDIRECT(INDEX([4]CONFIG_BASES!A:Z,MATCH($D18,[4]CONFIG_BASES!#REF!,0),MATCH([4]RESUMO!$P$11,[4]CONFIG_BASES!$B$1:$AA$1,0))),3,FALSE),"")) -> LIGAÇÕES PROVISÓRIAS PARA CONTAINER TIPO 2 (CORRESPONDENTE AO CÓDIGO ED-16349) | E18: UN | F18: 1 | G18: =K18*(1-I$8) -> 702.13 | H18: =IFERROR(G18*(1+$I$5),"") -> 868.25396 | I18: =IFERROR(TRUNC($F18*H18,2),"") -> 868.25 | K18: 702.13
A19: 01.07 | B19: SICOR | C19: ED-16361 | D19: =UPPER(IFERROR(VLOOKUP($C19,INDIRECT(INDEX([4]CONFIG_BASES!A:Z,MATCH($D19,[4]CONFIG_BASES!#REF!,0),MATCH([4]RESUMO!$P$11,[4]CONFIG_BASES!$B$1:$AA$1,0))),3,FALSE),"")) -> LIGAÇÕES PROVISÓRIAS PARA CONTAINER TIPO 6 (CORRESPONDENTE AO CÓDIGO ED-16353) | E19: UN | F19: 1 | G19: =K19*(1-I$8) -> 758.59 | H19: =IFERROR(G19*(1+$I$5),"") -> 938.07239 | I19: =IFERROR(TRUNC($F19*H19,2),"") -> 938.07 | K19: 758.59
A20: 01.08 | B20: SICOR | C20: ED-16358 | D20: =UPPER(IFERROR(VLOOKUP($C20,INDIRECT(INDEX([4]CONFIG_BASES!A:Z,MATCH($D20,[4]CONFIG_BASES!#REF!,0),MATCH([4]RESUMO!$P$11,[4]CONFIG_BASES!$B$1:$AA$1,0))),3,FALSE),"")) -> LIGAÇÕES PROVISÓRIAS PARA CONTAINER TIPO 3 (CORRESPONDENTE AO CÓDIGO ED-16350) | E20: UN | F20: 1 | G20: =K20*(1-I$8) -> 363.57 | H20: =IFERROR(G20*(1+$I$5),"") -> 449.59066 | I20: =IFERROR(TRUNC($F20*H20,2),"") -> 449.59 | K20: 363.57
A21: 01.09 | B21: SINAPI | C21: 98459 | D21: =UPPER(IFERROR(VLOOKUP($C21,INDIRECT(INDEX([4]CONFIG_BASES!A:Z,MATCH($D21,[4]CONFIG_BASES!#REF!,0),MATCH([4]RESUMO!$P$11,[4]CONFIG_BASES!$B$1:$AA$1,0))),3,FALSE),"")) -> TAPUME COM TELHA METÁLICA. AF_03/2024 | E21: M2 | F21: 182.1 | G21: =K21*(1-I$8) -> 89.69 | H21: =IFERROR(G21*(1+$I$5),"") -> 110.91065 | I21: =IFERROR(TRUNC($F21*H21,2),"") -> 20196.83 | K21: 89.69
A22: 01.10 | B22: SINAPI | C22: 20193 | D22: =UPPER(IFERROR(VLOOKUP($C22,INDIRECT(INDEX([4]CONFIG_BASES!A:Z,MATCH($D22,[4]CONFIG_BASES!#REF!,0),MATCH([4]RESUMO!$P$11,[4]CONFIG_BASES!$B$1:$AA$1,0))),3,FALSE),"")) -> LOCACAO DE ANDAIME METALICO TIPO FACHADEIRO, PECAS COM APROXIMADAMENTE 1,20 M DE LARGURA E 2,0 M DE ALTURA, INCLUINDO DIAGONAIS EM X, BARRAS DE LIGACAO, SAPATAS E DEMAIS ITENS NECESSARIOS A MONTAGEM (NAO INCLUI INSTALACAO) | E22: M2XMES | F22: 450 | G22: =K22*(1-I$8) -> 18 | H22: =IFERROR(G22*(1+$I$6),"") -> 20.5776 | I22: =IFERROR(TRUNC($F22*H22,2),"") -> 9259.92 | K22: 18
A23: 01.11 | B23: SINAPI | C23: 97063 | D23: =UPPER(IFERROR(VLOOKUP($C23,INDIRECT(INDEX([4]CONFIG_BASES!A:Z,MATCH($D23,[4]CONFIG_BASES!#REF!,0),MATCH([4]RESUMO!$P$11,[4]CONFIG_BASES!$B$1:$AA$1,0))),3,FALSE),"")) -> MONTAGEM E DESMONTAGEM DE ANDAIME MODULAR FACHADEIRO, COM PISO METÁLICO, PARA EDIFÍCIOS COM MULTIPLOS PAVIMENTOS (EXCLUSIVE ANDAIME E LIMPEZA). AF_03/2024 | E23: M2 | F23: 150 | G23: =K23*(1-I$8) -> 22.58 | H23: =IFERROR(G23*(1+$I$5),"") -> 27.922428 | I23: =IFERROR(TRUNC($F23*H23,2),"") -> 4188.36 | K23: 22.58
A24: 02 | D24: DEMOLIÇÕES E REMOÇÕES | I24: =SUM(I25:I46) -> 95673.24
A25: 02.01 | B25: SINAPI | C25: 97625 | D25: =UPPER(IFERROR(VLOOKUP($C25,INDIRECT(INDEX([4]CONFIG_BASES!A:Z,MATCH($D25,[4]CONFIG_BASES!#REF!,0),MATCH([4]RESUMO!$P$11,[4]CONFIG_BASES!$B$1:$AA$1,0))),3,FALSE),"")) -> DEMOLIÇÃO DE ALVENARIA PARA QUALQUER TIPO DE BLOCO, DE FORMA MECANIZADA, SEM REAPROVEITAMENTO. AF_09/2023 | E25: M3 | F25: 63.15 | G25: =K25*(1-I$8) -> 57.29 | H25: =IFERROR(G25*(1+$I$5),"") -> 70.844814 | I25: =IFERROR(TRUNC($F25*H25,2),"") -> 4473.85 | K25: 57.29
A26: 02.02 | B26: SINAPI | C26: 97634 | D26: =UPPER(IFERROR(VLOOKUP($C26,INDIRECT(INDEX([4]CONFIG_BASES!A:Z,MATCH($D26,[4]CONFIG_BASES!#REF!,0),MATCH([4]RESUMO!$P$11,[4]CONFIG_BASES!$B$1:$AA$1,0))),3,FALSE),"")) -> DEMOLIÇÃO DE REVESTIMENTO CERÂMICO, DE FORMA MECANIZADA COM MARTELETE, SEM REAPROVEITAMENTO. AF_09/2023 | E26: M2 | F26: 126.85 | G26: =K26*(1-I$8) -> 8.55 | H26: =IFERROR(G26*(1+$I$5),"") -> 10.57293 | I26: =IFERROR(TRUNC($F26*H26,2),"") -> 1341.17 | K26: 8.55
A27: 02.03 | B27: SINAPI | C27: 97627 | D27: =UPPER(IFERROR(VLOOKUP($C27,INDIRECT(INDEX([4]CONFIG_BASES!A:Z,MATCH($D27,[4]CONFIG_BASES!#REF!,0),MATCH([4]RESUMO!$P$11,[4]CONFIG_BASES!$B$1:$AA$1,0))),3,FALSE),"")) -> DEMOLIÇÃO DE PILARES E VIGAS EM CONCRETO ARMADO, DE FORMA MECANIZADA COM MARTELETE, SEM REAPROVEITAMENTO. AF_09/2023 | E27: M3 | F27: 0.15 | G27: =K27*(1-I$8) -> 233.41 | H27: =IFERROR(G27*(1+$I$5),"") -> 288.63481 | I27: =IFERROR(TRUNC($F27*H27,2),"") -> 43.29 | K27: 233.41
A28: 02.04 | B28: SINAPI | C28: 97629 | D28: =UPPER(IFERROR(VLOOKUP($C28,INDIRECT(INDEX([4]CONFIG_BASES!A:Z,MATCH($D28,[4]CONFIG_BASES!#REF!,0),MATCH([4]RESUMO!$P$11,[4]CONFIG_BASES!$B$1:$AA$1,0))),3,FALSE),"")) -> DEMOLIÇÃO DE LAJES, EM CONCRETO ARMADO, DE FORMA MECANIZADA COM MARTELETE, SEM REAPROVEITAMENTO. AF_09/2023 | E28: M3 | F28: 42.65 | G28: =K28*(1-I$8) -> 108.7 | H28: =IFERROR(G28*(1+$I$5),"") -> 134.41842 | I28: =IFERROR(TRUNC($F28*H28,2),"") -> 5732.94 | K28: 108.7
A29: 02.05 | B29: SINAPI | C29: 104790 | D29: =UPPER(IFERROR(VLOOKUP($C29,INDIRECT(INDEX([4]CONFIG_BASES!A:Z,MATCH($D29,[4]CONFIG_BASES!#REF!,0),MATCH([4]RESUMO!$P$11,[4]CONFIG_BASES!$B$1:$AA$1,0))),3,FALSE),"")) -> DEMOLIÇÃO DE PISO DE CONCRETO SIMPLES, DE FORMA MECANIZADA COM MARTELETE, SEM REAPROVEITAMENTO. AF_09/2023 | E29: M3 | F29: 15.1 | G29: =K29*(1-I$8) -> 124.56 | H29: =IFERROR(G29*(1+$I$5),"") -> 154.0309 | I29: =IFERROR(TRUNC($F29*H29,2),"") -> 2325.86 | K29: 124.56
A30: 02.06 | B30: SINAPI | C30: 104791 | D30: =UPPER(IFERROR(VLOOKUP($C30,INDIRECT(INDEX([4]CONFIG_BASES!A:Z,MATCH($D30,[4]CONFIG_BASES!#REF!,0),MATCH([4]RESUMO!$P$11,[4]CONFIG_BASES!$B$1:$AA$1,0))),3,FALSE),"")) -> DEMOLIÇÃO DE ARGAMASSAS, DE FORMA DE FORMA MECANIZADA COM MARTELETE, SEM REAPROVEITAMENTO. AF_09/2023 | E30: M2 | F30: 115.2 | G30: =K30*(1-I$8) -> 7.64 | H30: =IFERROR(G30*(1+$I$5),"") -> 9.447624 | I30: =IFERROR(TRUNC($F30*H30,2),"") -> 1088.36 | K30: 7.64
A31: 02.07 | B31: SUDECAP | C31: 02.09.05 | D31: =UPPER(IFERROR(VLOOKUP($C31,INDIRECT(INDEX([4]CONFIG_BASES!A:Z,MATCH($D31,[4]CONFIG_BASES!#REF!,0),MATCH([4]RESUMO!$P$11,[4]CONFIG_BASES!$B$1:$AA$1,0))),3,FALSE),"")) -> DEMOLIÇÃO DE REVESTIMENTO DE PEDRA (MÁRMORE, GRANITO, ARDÓSIA, SÃO TOMÉ, ETC) | E31: M2 | F31: 0.35 | G31: =K31*(1-I$8) -> 24.04 | H31: =IFERROR(G31*(1+$I$5),"") -> 29.727864 | I31: =IFERROR(TRUNC($F31*H31,2),"") -> 10.4 | K31: 24.04
A32: 02.08 | B32: SUDECAP | C32: 02.22.01 | D32: =UPPER(IFERROR(VLOOKUP($C32,INDIRECT(INDEX([4]CONFIG_BASES!A:Z,MATCH($D32,[4]CONFIG_BASES!#REF!,0),MATCH([4]RESUMO!$P$11,[4]CONFIG_BASES!$B$1:$AA$1,0))),3,FALSE),"")) -> REMOÇÃO DE BANCADA DE PEDRA (MÁRMORE, GRANITO, ARDÓSIA, MARMORITE, ETC) | E32: M2 | F32: 3.4 | G32: =K32*(1-I$8) -> 50.51 | H32: =IFERROR(G32*(1+$I$5),"") -> 62.460666 | I32: =IFERROR(TRUNC($F32*H32,2),"") -> 212.36 | K32: 50.51
A33: 02.09 | B33: SICOR | C33: ED-50701 | D33: =UPPER(IFERROR(VLOOKUP($C33,INDIRECT(INDEX([4]CONFIG_BASES!A:Z,MATCH($D33,[4]CONFIG_BASES!#REF!,0),MATCH([4]RESUMO!$P$11,[4]CONFIG_BASES!$B$1:$AA$1,0))),3,FALSE),"")) -> CAPINA MANUAL DO TERRENO, EXCLUSIVE RASTELAMENTO E QUEIMA | E33: M2 | F33: 80.05 | G33: =K33*(1-I$8) -> 1.66 | H33: =IFERROR(G33*(1+$I$5),"") -> 2.052756 | I33: =IFERROR(TRUNC($F33*H33,2),"") -> 164.32 | K33: 1.66
A34: 02.10 | B34: SICOR | C34: ED-48470 | D34: =UPPER(IFERROR(VLOOKUP($C34,INDIRECT(INDEX([4]CONFIG_BASES!A:Z,MATCH($D34,[4]CONFIG_BASES!#REF!,0),MATCH([4]RESUMO!$P$11,[4]CONFIG_BASES!$B$1:$AA$1,0))),3,FALSE),"")) -> REMOÇÃO MANUAL DE METAIS COMUNS E ACABAMENTOS (TORNEIRA, ACABAMENTO PARA REGISTRO, SIFÃO, ENGATE FLEXÍVEL, ETC.), COM REAPROVEITAMENTO, INCLUSIVE AFASTAMENTO E EMPILHAMENTO, EXCLUSIVE TRANSPORTE E RETIRADA DO MATERIAL REMOVIDO NÃO REAPROVEITÁVEL | E34: UN | F34: 16 | G34: =K34*(1-I$8) -> 7.98 | H34: =IFERROR(G34*(1+$I$5),"") -> 9.868068 | I34: =IFERROR(TRUNC($F34*H34,2),"") -> 157.88 | K34: 7.98
A35: 02.11 | B35: SINAPI | C35: 97663 | D35: =UPPER(IFERROR(VLOOKUP($C35,INDIRECT(INDEX([4]CONFIG_BASES!A:Z,MATCH($D35,[4]CONFIG_BASES!#REF!,0),MATCH([4]RESUMO!$P$11,[4]CONFIG_BASES!$B$1:$AA$1,0))),3,FALSE),"")) -> REMOÇÃO DE LOUÇAS, DE FORMA MANUAL, SEM REAPROVEITAMENTO. AF_09/2023 | E35: UN | F35: 20 | G35: =K35*(1-I$8) -> 14.96 | H35: =IFERROR(G35*(1+$I$5),"") -> 18.499536 | I35: =IFERROR(TRUNC($F35*H35,2),"") -> 369.99 | K35: 14.96
A36: 02.12 | B36: SINAPI | C36: 97644 | D36: =UPPER(IFERROR(VLOOKUP($C36,INDIRECT(INDEX([4]CONFIG_BASES!A:Z,MATCH($D36,[4]CONFIG_BASES!#REF!,0),MATCH([4]RESUMO!$P$11,[4]CONFIG_BASES!$B$1:$AA$1,0))),3,FALSE),"")) -> REMOÇÃO DE PORTAS, DE FORMA MANUAL, SEM REAPROVEITAMENTO. AF_09/2023 | E36: M2 | F36: 51.9 | G36: =K36*(1-I$8) -> 11.3 | H36: =IFERROR(G36*(1+$I$5),"") -> 13.97358 | I36: =IFERROR(TRUNC($F36*H36,2),"") -> 725.22 | K36: 11.3
A37: 02.13 | B37: SINAPI | C37: 97645 | D37: =UPPER(IFERROR(VLOOKUP($C37,INDIRECT(INDEX([4]CONFIG_BASES!A:Z,MATCH($D37,[4]CONFIG_BASES!#REF!,0),MATCH([4]RESUMO!$P$11,[4]CONFIG_BASES!$B$1:$AA$1,0))),3,FALSE),"")) -> REMOÇÃO DE JANELAS, DE FORMA MANUAL, SEM REAPROVEITAMENTO. AF_09/2023 | E37: M2 | F37: 18.5 | G37: =K37*(1-I$8) -> 29.17 | H37: =IFERROR(G37*(1+$I$5),"") -> 36.071622 | I37: =IFERROR(TRUNC($F37*H37,2),"") -> 667.32 | K37: 29.17
A38: 02.14 | B38: EXTRA | C38: CPU-002 | D38: =UPPER(IFERROR(VLOOKUP($C38,INDIRECT(INDEX([4]CONFIG_BASES!A:Z,MATCH($D38,[4]CONFIG_BASES!#REF!,0),MATCH([4]RESUMO!$P$11,[4]CONFIG_BASES!$B$1:$AA$1,0))),3,FALSE),"")) -> REMOCAO DE GRADE/GRADIL CHUMBADA S/REAPROV | E38: M2 | F38: 39 | G38: =K38*(1-I$8) -> 56.13 | H38: =IFERROR(G38*(1+$I$5),"") -> 69.410358 | I38: =IFERROR(TRUNC($F38*H38,2),"") -> 2707 | K38: 56.13
A39: 02.15 | B39: SICOR | C39: ED-50699 | D39: =UPPER(IFERROR(VLOOKUP($C39,INDIRECT(INDEX([4]CONFIG_BASES!A:Z,MATCH($D39,[4]CONFIG_BASES!#REF!,0),MATCH([4]RESUMO!$P$11,[4]CONFIG_BASES!$B$1:$AA$1,0))),3,FALSE),"")) -> CORTE DE ÁRVORE COM MOTOSSERRA, DIÂMETRO DO TRONCO ACIMA DE TRINTA (30) CENTÍMETROS ATÉ CINQUENTA (50) CENTÍMETROS, EXCLUSIVE DESTOCAMENTO E AFASTAMENTO | E39: UN | F39: 3 | G39: =K39*(1-I$8) -> 114.06 | H39: =IFERROR(G39*(1+$I$5),"") -> 141.0466 | I39: =IFERROR(TRUNC($F39*H39,2),"") -> 423.13 | K39: 114.06
A40: 02.16 | B40: SICOR | C40: ED-28163 | D40: =UPPER(IFERROR(VLOOKUP($C40,INDIRECT(INDEX([4]CONFIG_BASES!A:Z,MATCH($D40,[4]CONFIG_BASES!#REF!,0),MATCH([4]RESUMO!$P$11,[4]CONFIG_BASES!$B$1:$AA$1,0))),3,FALSE),"")) -> DESTOCAMENTO E AFASTAMENTO DE REMANESCENTE ARBÓREO, INCLUSIVE TRANSPORTE COM RETIRADA DO MATERIAL DESTOCADO (EM CAÇAMBA) | E40: UN | F40: 3 | G40: =K40*(1-I$8) -> 439.11 | H40: =IFERROR(G40*(1+$I$5),"") -> 543.00343 | I40: =IFERROR(TRUNC($F40*H40,2),"") -> 1629.01 | K40: 439.11
...

Sheet Comp. BDI
A1: PREFEITURA DE JUIZ DE FORA
A2: SECRETARIA DE OBRAS
A3: SUBSECRETARIA DE GESTÃO DE OBRAS PÚBLICAS
A4: =PLANILHA!A5 -> OBRA: UBS VALADARES - JUIZ DE FORA - MG
A5: COMPOSIÇÃO BDI PROPONENTE
A6: Construção de Praças Urbanas, Rodovias, Ferrovias e recapeamento e pavimentação de vias urbanas
A7: ITENS RELATIVOS À ADMINISTRAÇÃO DA OBRA | B7: %
A8: A - Administração Central | B8: 0.0425
A9: B - Despesas Financeiras | B9: 0.0099
A10: C - Risco | B10: 0.0112
A11: D - Seguro e Garantia | B11: 0.009
B12: =SUM(B8:B11) -> 0.0726
A13: LUCRO | B13: %
A14: E - Lucro | B14: 0.0756
B15: =B14 -> 0.0756
A16: TRIBUTOS | B16: %
A17: F - PIS | B17: 0.0065
A18: G - COFINS | B18: 0.03
A19: H - ISSQN | B19: 0.03
A20: I - CONTRIBUIÇÃO PREVIDENCIÁRIA SOBRE A RENDA BRUTA | B20: -
B21: =SUM(B17:B20) -> 0.0665
A22: Assim, com base na fórmula proposta pelo acordão TCU nº 2622/2013, temos:
A27: BDI ONERADO (%) | B27: =ROUND(((1+(B8+B10+B11))*(1+B9)*(1+B14)/(1-B21)-1),4) -> 0.2366
A29: COMPOSIÇÃO BDI DIFERENCIADO
A30: Fornecimento de Materiais e Equipamentos (aquisição indireta - em conjunto com licitação de obras)
A31: ITENS RELATIVOS À ADMINISTRAÇÃO DA OBRA | B31: %
A32: A - Administração Central | B32: 0.0299
A33: B - Despesas Financeiras | B33: 0.0098
A34: C - Risco | B34: 0.00725
A35: D - Seguro e Garantia | B35: 0.0056
B36: =SUM(B32:B35) -> 0.05255
A37: LUCRO | B37: %
A38: E - Lucro | B38: 0.0461
B39: =B38 -> 0.0461
A40: TRIBUTOS | B40: %
A41: F - PIS | B41: 0.0065
A42: G - COFINS | B42: 0
A43: H - ISSQN | B43: 0.03
A44: I - CONTRIBUIÇÃO PREVIDENCIÁRIA SOBRE A RENDA BRUTA | B44: -
B45: =SUM(B41:B44) -> 0.0365
...

Sheet Cronograma Proponente
A1: PREFEITURA DE JUIZ DE FORA
A2: SECRETARIA DE OBRAS
A3: SUBSECRETARIA DE GESTÃO DE OBRAS E PROJETOS
A4: CRONOGRAMA FÍSICO-FINANCEIRO - PROPONENTE
A5: =PLANILHA!A5 -> OBRA: UBS VALADARES - JUIZ DE FORA - MG | O5: Data: Set./ 2026
A6: =PLANILHA!$A$7 -> PROPONENTE: | C6: =PLANILHA!$C$7 -> 0 | M6: =PLANILHA!$E$7 -> CNPJ: | N6: =PLANILHA!$G$7 -> 0
A7: ITEM | B7: SERVIÇOS | C7: TOTAL (R$) | D7: FINANC. | E7: MÊS 01 | F7: MÊS 02 | G7: MÊS 03 | H7: MÊS 04 | I7: MÊS 05 | J7: MÊS 06 | K7: MÊS 07 | L7: MÊS 08 | M7: MÊS 09 | N7: MÊS 10 | O7: TOTAIS
A8: =PLANILHA!A12 -> 01 | B8: =PLANILHA!D12 -> SERVIÇOS PRELIMINARES | C8: Físico
C9: =C10/C$50 -> 0.053391076 | D9: % | E9: 0.55 | F9: 0.05 | G9: 0.05 | H9: 0.05 | I9: 0.05 | J9: 0.05 | K9: 0.05 | L9: 0.05 | M9: 0.05 | N9: 0.05 | O9: =SUM(E9:N9) -> 1
C10: =PLANILHA!I12 -> 99327.74 | D10: R$ | E10: =($C$10)*E9 -> 54630.257 | F10: =($C$10)*F9 -> 4966.387 | G10: =($C$10)*G9 -> 4966.387 | H10: =($C$10)*H9 -> 4966.387 | I10: =($C$10)*I9 -> 4966.387 | J10: =($C$10)*J9 -> 4966.387 | K10: =($C$10)*K9 -> 4966.387 | L10: =($C$10)*L9 -> 4966.387 | ... N10: =($C$10)*N9 -> 4966.387 | O10: =E10+F10+G10+H10+I10+J10+K10+L10+M10+N10 -> 99327.74
A11: =PLANILHA!A24 -> 02 | B11: =PLANILHA!D24 -> DEMOLIÇÕES E REMOÇÕES | C11: Físico
C12: =C13/C$50 -> 0.051426693 | D12: % | E12: 0.7 | F12: 0.3 | O12: =SUM(E12:N12) -> 1
C13: =PLANILHA!I24 -> 95673.24 | D13: R$ | E13: =($C$13)*E12 -> 66971.268 | F13: =($C$13)*F12 -> 28701.972 | O13: =E13+F13+G13+H13+I13+J13+K13+L13+M13+N13 -> 95673.24
A14: =PLANILHA!A47 -> 03 | B14: =PLANILHA!D47 -> ARQUITETURA | C14: Físico
C15: =C16/C$50 -> 0.36564168 | D15: % | E15: 0.05 | F15: 0.11 | G15: 0.16 | H15: 0.19 | I15: 0.27 | J15: 0.13 | K15: 0.05 | L15: 0.03 | M15: 0.01 | O15: =SUM(E15:N15) -> 1
C16: =PLANILHA!I47 -> 680232.82 | D16: R$ | E16: =($C$16)*E15 -> 34011.641 | F16: =($C$16)*F15 -> 74825.61 | G16: =($C$16)*G15 -> 108837.25 | H16: =($C$16)*H15 -> 129244.24 | I16: =($C$16)*I15 -> 183662.86 | J16: =($C$16)*J15 -> 88430.267 | K16: =($C$16)*K15 -> 34011.641 | L16: =($C$16)*L15 -> 20406.985 | M16: =($C$16)*M15 -> 6802.3282 | O16: =E16+F16+G16+H16+I16+J16+K16+L16+M16+N16 -> 680232.82
A17: =PLANILHA!A133 -> 04 | B17: =PLANILHA!D133 -> ESTRUTURA DE CONCRETO | C17: Físico
C18: =C19/C$50 -> 0.2501331 | D18: % | F18: 0.13 | G18: 0.17 | H18: 0.24 | I18: 0.32 | J18: 0.09 | K18: 0.05 | O18: =SUM(E18:N18) -> 1
C19: =PLANILHA!I133 -> 465342.86 | D19: R$ | F19: =($C$19)*F18 -> 60494.572 | G19: =($C$19)*G18 -> 79108.286 | H19: =($C$19)*H18 -> 111682.29 | I19: =($C$19)*I18 -> 148909.72 | J19: =($C$19)*J18 -> 41880.857 | K19: =($C$19)*K18 -> 23267.143 | O19: =E19+F19+G19+H19+I19+J19+K19+L19+M19+N19 -> 465342.86
A20: =PLANILHA!A219 -> 05 | B20: =PLANILHA!D219 -> ESTRUTURA METÁLICA | C20: Físico
C21: =C22/C$50 -> 0.044143147 | D21: % | H21: 0.23 | I21: 0.41 | J21: 0.36 | O21: =SUM(E21:N21) -> 1
C22: =PLANILHA!I219 -> 82123.07 | D22: R$ | H22: =($C$22)*H21 -> 18888.306 | I22: =($C$22)*I21 -> 33670.459 | J22: =($C$22)*J21 -> 29564.305 | O22: =E22+F22+G22+H22+I22+J22+K22+L22+M22+N22 -> 82123.07
A23: =PLANILHA!A234 -> 06 | B23: =PLANILHA!D234 -> INSTALAÇÕES HIDROSSANITÁRIAS | C23: Físico
C24: =C25/C$50 -> 0.038945932 | D24: % | I24: 0.27 | J24: 0.31 | K24: 0.42 | O24: =SUM(E24:N24) -> 1
C25: =PLANILHA!I234 -> 72454.27 | D25: R$ | I25: =($C$25)*I24 -> 19562.653 | J25: =($C$25)*J24 -> 22460.824 | K25: =($C$25)*K24 -> 30430.793 | O25: =E25+F25+G25+H25+I25+J25+K25+L25+M25+N25 -> 72454.27
A26: =PLANILHA!A358 -> 07 | B26: =PLANILHA!D358 -> INSTALAÇÕES ELÉTRICAS | C26: Físico
C27: =C28/C$50 -> 0.051200675 | D27: % | H27: 0.07 | I27: 0.42 | J27: 0.29 | K27: 0.18 | L27: 0.04 | O27: =SUM(E27:N27) -> 1
C28: =PLANILHA!I358 -> 95252.76 | D28: R$ | H28: =($C$28)*H27 -> 6667.6932 | I28: =($C$28)*I27 -> 40006.159 | J28: =($C$28)*J27 -> 27623.3 | K28: =($C$28)*K27 -> 17145.497 | L28: =($C$28)*L27 -> 3810.1104 | O28: =E28+F28+G28+H28+I28+J28+K28+L28+M28+N28 -> 95252.76
A29: =PLANILHA!A436 -> 08 | B29: =PLANILHA!D436 -> SISTEMA DE CFTV | C29: Físico
C30: =C31/C$50 -> 0.014046059 | D30: % | J30: 0.29 | K30: 0.37 | L30: 0.26 | M30: 0.08 | O30: =SUM(E30:N30) -> 1
C31: =PLANILHA!I436 -> 26131.02 | D31: R$ | J31: =($C$31)*J30 -> 7577.9958 | K31: =($C$31)*K30 -> 9668.4774 | L31: =($C$31)*L30 -> 6794.0652 | M31: =($C$31)*M30 -> 2090.4816 | O31: =E31+F31+G31+H31+I31+J31+K31+L31+M31+N31 -> 26131.02
A32: =PLANILHA!A460 -> 09 | B32: =PLANILHA!D460 -> SISTEMA DE CABEAMENTO ESTRUTURADO | C32: Físico
C33: =C34/C$50 -> 0.02316067 | D33: % | I33: 0.14 | J33: 0.34 | K33: 0.29 | L33: 0.23 | O33: =SUM(E33:N33) -> 1
C34: =PLANILHA!I460 -> 43087.67 | D34: R$ | I34: =($C$34)*I33 -> 6032.2738 | J34: =($C$34)*J33 -> 14649.808 | K34: =($C$34)*K33 -> 12495.424 | L34: =($C$34)*L33 -> 9910.1641 | O34: =E34+F34+G34+H34+I34+J34+K34+L34+M34+N34 -> 43087.67
A35: =PLANILHA!A493 -> 10 | B35: =PLANILHA!D493 -> INSTALAÇÕES LUMINOTÉCNICAS | C35: Físico
C36: =C37/C$50 -> 0.0059565005 | D36: % | L36: 0.47 | M36: 0.53 | O36: =SUM(E36:N36) -> 1
C37: =PLANILHA!I493 -> 11081.36 | D37: R$ | L37: =($C$37)*L36 -> 5208.2392 | M37: =($C$37)*M36 -> 5873.1208 | O37: =E37+F37+G37+H37+I37+J37+K37+L37+M37+N37 -> 11081.36
A38: =PLANILHA!A499 -> 11 | B38: =PLANILHA!D499 -> PREVENÇÃO E COMBATE A INCÊNDIO | C38: Físico
C39: =C40/C$50 -> 0.002122533 | D39: % | K39: 0.29 | L39: 0.61 | M39: 0.1 | O39: =SUM(E39:N39) -> 1
C40: =PLANILHA!I499 -> 3948.72 | D40: R$ | K40: =($C$40)*K39 -> 1145.1288 | L40: =($C$40)*L39 -> 2408.7192 | M40: =($C$40)*M39 -> 394.872 | O40: =E40+F40+G40+H40+I40+J40+K40+L40+M40+N40 -> 3948.72
...
