Workbook
Name ___sub1: #REF!
Name ___sub2: #REF!
Name ___sub3: #REF!
Name _sub1: #REF!
Name _sub2: #REF!
Name _sub3: #REF!
Name a: #REF!
Name AREA: #REF!
Name B: #REF!
Name BDI: #REF!
Name DOLAR: [1]INSUMOS!$G$8
Name ersdcefgbrnghrbgbrgfbgfwbvbfgvwfv: #REF!
Name Excel_BuiltIn_Print_Area_2: #REF!
Name Excel_BuiltIn_Print_Area_2_1: #REF!
Name Excel_BuiltIn_Print_Area_2_1_1: #REF!
Name Excel_BuiltIn_Print_Area_2_1_1_1: #REF!
Name Excel_BuiltIn_Print_Area_4: #REF!
Name leosde: #REF!
Name NCOMPOSICOES: 7
Name NCOTACOES: 15
Name obra: #REF!
Name obra1: #REF!
Name obra2: #REF!
Name obra3: #REF!
Name obra4: #REF!
Name obra5: #REF!
Name P.1: #REF!
Name P.10: #REF!
Name P.11: #REF!
Name P.12: #REF!
Name P.13: #REF!
Name P.14: #REF!
Name P.15: #REF!
Name P.2: #REF!
Name P.3: #REF!
Name P.4: #REF!
Name P.5: #REF!
Name P.6: #REF!
Name P.7: #REF!
Name P.8: #REF!
Name P.9: #REF!
Name Pedreiro_de_acabamento: [1]INSUMOS!$B$11
Name PP1.1: #REF!
Name PP1.10: #REF!
Name PP1.11: #REF!
Name PP1.12: #REF!
Name PP1.13: #REF!
Name PP1.14: #REF!
Name PP1.15: #REF!
Name PP1.2: #REF!
Name PP1.3: #REF!
Name PP1.4: #REF!
Name PP1.5: #REF!
Name PP1.6: #REF!
Name PP1.7: #REF!
Name PP1.8: #REF!
Name PP1.9: #REF!
Name T.1: #REF!
Name T.10: #REF!
Name T.11: #REF!

Sheet Memória de Cálculo
A2: MEMÓRIA DE CÁLCULO DE QUANTITATIVOS
A3: ='Planilha Orcamentária'!A4:D4 -> PREFEITURA MUNICIPAL DE IAPU - MG
A4: ='Planilha Orcamentária'!A5:D5 -> META 01 : PAVIMENTAÇÃO EM BLOCO SEXTAVADO NA ESTRADA VICINAL DO CÓRREGO DOS PORTUGUESES, ZONA RURAL, IAPU - MG | E4: FOLHA Nº: | F4: 01/01.
E5: DATA: | F5: 46035
A7: ITEM | B7: CÓDIGO | C7: DESCRIÇÃO | D7: UNID | E7: QUANT | F7: FÓRMULA DO CÁLCULO
A8: 1.0 | C8: SERVIÇOS PRELIMINARES
A9: 1.1 | B9: ='Planilha Orcamentária'!B13 -> ED-28427 | C9: ='Planilha Orcamentária'!C13 -> FORNECIMENTO E COLOCAÇÃO DE PLACA DE OBRA EM CHAPA GALVANIZADA #26, ESP. 0,45MM, DIMENSÃO (3X1,5)M, PLOTADA COM ADESIVO VINÍLICO, AFIXADA COM REBITES 4,8X40MM, EM ESTRUTURA METÁLICA DE METALON 20X20MM, ESP. 1,25MM, INCLUSIVE SUPORTE EM EUCALIPTO AUTOCLAVADO PINTADO COM TINTA PVA DUAS (2) DEMÃOS | D9: U | E9: 1 | F9: 1,00 unidade conforme padrão exigido
A10: 1.2 | B10: ='Planilha Orcamentária'!B14 -> ED-50389 | C10: ='Planilha Orcamentária'!C14 -> MOBILIZAÇÃO E DESMOBILIZAÇÃO OBRA DISTANTE DE CENTRO URBANO COM VALOR ATÉ O VALOR DE 1.000.000,00 | D10: % | E10: 2 | F10: Corresponde a 2,0 % sobre o valor da obra.
A12: 2.0 | C12: SERVIÇOS DE TERRAPLENAGEM
A13: 2.1 | B13: RO-41081 | C13: ='Planilha Orcamentária'!C17 -> REGULARIZAÇÃO DE SUPERFÍCIE COM MOTONIVELADORA | D13: ='Planilha Orcamentária'!D17 -> m² | E13: 1518 | F13: A) TRECHO 3: (15,00 x 16) + (13,00 x 6,00) = 1518,00 m²
A15: 3.0 | C15: SERVIÇOS DE DRENAGEM PLUVIAL
A16: 3.1 | B16: ='Planilha Orcamentária'!B20 -> COMPOSIÇÃO 01 | C16: ='Planilha Orcamentária'!C20 -> SARJETA DE CONCRETO URBANO (SCU), TIPO 1, COM FCK 15 MPA, LARGURA DE 30CM COM INCLINAÇÃO DE 3%, ESP. 10CM, PADRÃO DER-MG, EXCLUSIVE MEIO-FIO, INCLUSIVE ESCAVAÇÃO, APILAOMENTO E TRANSPORTE COM RETIRADA DO MATERIAL ESCAVADO (EM CAÇAMBA) | D16: ='Planilha Orcamentária'!D20 -> M | E16: 506 | F16: A) TRECHO 2: (253,00 x 2 lados) =506,00 m
A18: 4.0 | C18: ='Planilha Orcamentária'!C22 -> SERVIÇOS DE PAVIMENTAÇÃO
A20: 4.1 | B20: ED-50416 | C20: ='Planilha Orcamentária'!C24 -> EXECUÇÃO DE PAVIMENTO COM PISO INTERTRAVADO, TIPO SEXTAVADO, ESP. 8CM, COM FCK DE 35MPA, INCLUSIVE COLCHÃO DE AREIA, ESP. 6CM, PARA ASSENTAMENTO, COMPACTAÇÃO MECANIZADA, CARGA E DESCARGA MECÂNICA EM CAMINHÃO, EXCLUSIVE TRANSPORTE DE PISO INTERTRAVADO | D20: ='Planilha Orcamentária'!D24 -> m² | E20: 1366.2 | F20: A área de calçameto corresponde á área total da regularização do subleito (item 2.1), menos a área das sarjetas: 1518,00m² - (506,00m x 0,30m) = 1366,20 m²
A21: 4.2 | B21: ED-51139 | C21: ='Planilha Orcamentária'!C25 -> GUIA DE MEIO-FIO, EM CONCRETO COM FCK 20MPA, PRÉMOLDADA, MFC-01 PADRÃO DER-MG, DIMENSÕES (12X16,7X35)CM, EXCLUSIVE SARJETA, INCLUSIVE ESCAVAÇÃO, APILOAMENTO E TRANSPORTE COM RETIRADA DO MATERIAL ESCAVADO (EM CAÇAMBA) | D21: ='Planilha Orcamentária'!D25 -> M | E21: 614 | F21: A) TRECHO 1: (253,00 x 2 lados); B) TRAVAMENTOS: (6,00 x 18); TOTAL = 614,00 m
A22: 4.3 | B22: ED-7423 | C22: TRANSPORTE DE PISO INTERTRAVADO, EM CAMINHÃO, TRAÇÃO 6X2, TIPO TRUCADO, PESO BRUTO TOTAL (PBT) DE 23.000KG, COM GUINDASTE ARTICULADO, MOMENTO DE CARGA MÁXIMO DE 10TXM, E CARROCERIA DE CARGA SECA, COM CAPACIDADE DE 14T, EM RODOVIA COM LEITO NATURAL, EXCLUSIVE MANOBRA, CARGA E DESCARGA | D22: TxKM | E22: 1202.26 | F22: Corresponde a área de execução de pavimentação em blocos pre-moldados de concreto (item 4.1) x esperessura do bloco x peso especifico do concreto x distancia da fabrica de blocos pre-moldados. 1366,20 x 0,08 x 2,5) x 4,4 Km = 1202,26 x Km
C26: Emerson de Sousa Braga
C27: Engenheiro Civil - CREA Nº: 296.512MG
C30: ='Planilha Orcamentária'!C37 -> José Pereira Viana
C31: Prefeito Municipal

Sheet Planilha Orcamentária
A3: PLANILHA ORÇAMENTÁRIA DE CUSTOS
A4: PREFEITURA MUNICIPAL DE IAPU - MG | E4: FOLHA Nº: | G4: 01/01
A5: META 01 : PAVIMENTAÇÃO EM BLOCO SEXTAVADO NA ESTRADA VICINAL DO CÓRREGO DOS PORTUGUESES, ZONA RURAL, IAPU - MG | E5: DATA: | G5: 46035
A6: FONTES DO RECURSO: 02.03.26.782.0005.1.018.449051 - RENOVA DESASTRE MARIANA | E6: FORMA DE EXECUÇÃO:
A8: REGIÃO/MÊS DE REFERÊNCIA: TABELA SEINFRA-MG/DER-MG - REGIÃO LESTE - 31/07/2025 - C/ DESONER. | E8: ( ) | F8: DIRETA | G8: ( X ) | H8: INDIRETA
A9: COMPOSIÇÃO/DEMONSTRATIVO DE BDI - EM ANEXO | E9: % ISS MUNICIPAL: | F9: 0.05 | G9: BDI: | H9: 0.2951
A11: ITEM | B11: CÓDIGO | C11: DESCRIÇÃO | D11: UNIDADE | E11: QUANTIDADE | F11: PREÇO UNITÁRIO S/ BDI | G11: PREÇO UNITÁRIO C/ BDI | H11: PREÇO TOTAL
A12: ='Memória de Cálculo'!A8 -> 1.0 | C12: ='Memória de Cálculo'!C8 -> SERVIÇOS PRELIMINARES | G12: =ROUND(F12+(F12*$H$9),2) -> 0 | H12: =SUM(H13:H14) -> 6544.4
A13: ='Memória de Cálculo'!A9 -> 1.1 | B13: ED-28427 | C13: FORNECIMENTO E COLOCAÇÃO DE PLACA DE OBRA EM CHAPA GALVANIZADA #26, ESP. 0,45MM, DIMENSÃO (3X1,5)M, PLOTADA COM ADESIVO VINÍLICO, AFIXADA COM REBITES 4,8X40MM, EM ESTRUTURA METÁLICA DE METALON 20X20MM, ESP. 1,25MM, INCLUSIVE SUPORTE EM EUCALIPTO AUTOCLAVADO PINTADO COM TINTA PVA DUAS (2) DEMÃOS | D13: ='Memória de Cálculo'!D9 -> U | E13: ='Memória de Cálculo'!E9 -> 1 | F13: 1130.67 | G13: =ROUND(F13+(F13*$H$9),2) -> 1464.33 | H13: =ROUND((E13*G13),2) -> 1464.33
A14: ='Memória de Cálculo'!A10 -> 1.2 | B14: ED-50389 | C14: MOBILIZAÇÃO E DESMOBILIZAÇÃO OBRA DISTANTE DE CENTRO URBANO COM VALOR ATÉ O VALOR DE 1.000.000,00 | D14: % | E14: ='Memória de Cálculo'!E10 -> 2 | F14: =SUM(H13+H16+H19+H22) -> 254003.34 | H14: =E14*F14/100 -> 5080.07
A16: ='Memória de Cálculo'!A12 -> 2.0 | C16: ='Memória de Cálculo'!C12 -> SERVIÇOS DE TERRAPLENAGEM | G16: =ROUND(F16+(F16*$H$9),2) -> 0 | H16: =SUM(H17:H17) -> 151.8
A17: ='Memória de Cálculo'!A13 -> 2.1 | B17: RO-00232 | C17: REGULARIZAÇÃO DE SUPERFÍCIE COM MOTONIVELADORA | D17: m² | E17: ='Memória de Cálculo'!E13 -> 1518 | F17: 0.08 | G17: =ROUND(F17+(F17*$H$9),2) -> 0.1 | H17: =ROUND((E17*G17),2) -> 151.8
A19: 3.0 | C19: SERVIÇOS DE DRENAGEM PLUVIAL | G19: =ROUND(F19+(F19*$H$9),2) -> 0 | H19: =SUM(H20:H20) -> 22835.78
A20: 3.1 | B20: COMPOSIÇÃO 01 | C20: SARJETA DE CONCRETO URBANO (SCU), TIPO 1, COM FCK 15 MPA, LARGURA DE 30CM COM INCLINAÇÃO DE 3%, ESP. 10CM, PADRÃO DER-MG, EXCLUSIVE MEIO-FIO, INCLUSIVE ESCAVAÇÃO, APILAOMENTO E TRANSPORTE COM RETIRADA DO MATERIAL ESCAVADO (EM CAÇAMBA) | D20: M | E20: ='Memória de Cálculo'!E16 -> 506 | F20: 34.85 | G20: =ROUND(F20+(F20*$H$9),2) -> 45.13 | H20: =ROUND((E20*G20),2) -> 22835.78
A22: 4.0 | C22: SERVIÇOS DE PAVIMENTAÇÃO | G22: =ROUND(F22+(F22*$H$9),2) -> 0 | H22: =SUM(H24:H26) -> 229551.43
A24: 4.1 | B24: ED-8914 | C24: EXECUÇÃO DE PAVIMENTO COM PISO INTERTRAVADO, TIPO SEXTAVADO, ESP. 8CM, COM FCK DE 35MPA, INCLUSIVE COLCHÃO DE AREIA, ESP. 6CM, PARA ASSENTAMENTO, COMPACTAÇÃO MECANIZADA, CARGA E DESCARGA MECÂNICA EM CAMINHÃO, EXCLUSIVE TRANSPORTE DE PISO INTERTRAVADO | D24: m² | E24: ='Memória de Cálculo'!E20 -> 1366.2 | F24: 94.46 | G24: =ROUND(F24+(F24*$H$9),2) -> 122.34 | H24: =ROUND((E24*G24),2) -> 167140.91
A25: 4.2 | B25: ED-51139 | C25: GUIA DE MEIO-FIO, EM CONCRETO COM FCK 20MPA, PRÉMOLDADA, MFC-01 PADRÃO DER-MG, DIMENSÕES (12X16,7X35)CM, EXCLUSIVE SARJETA, INCLUSIVE ESCAVAÇÃO, APILOAMENTO E TRANSPORTE COM RETIRADA DO MATERIAL ESCAVADO (EM CAÇAMBA) | D25: M | E25: ='Memória de Cálculo'!E21 -> 614 | F25: 75.81 | G25: =ROUND(F25+(F25*$H$9),2) -> 98.18 | H25: =ROUND((E25*G25),2) -> 60282.52
A26: 4.3 | B26: ED-7423 | C26: TRANSPORTE DE PISO INTERTRAVADO, EM CAMINHÃO, TRAÇÃO 6X2, TIPO TRUCADO, PESO BRUTO TOTAL (PBT) DE 23.000KG, COM GUINDASTE ARTICULADO, MOMENTO DE CARGA MÁXIMO DE 10TXM, E CARROCERIA DE CARGA SECA, COM CAPACIDADE DE 14T, EM RODOVIA COM LEITO NATURAL, EXCLUSIVE MANOBRA, CARGA E DESCARGA | D26: TxKM | E26: ='Memória de Cálculo'!E22 -> 1202.26 | F26: 1.37 | G26: =ROUND(F26+(F26*$H$9),2) -> 1.77 | H26: =ROUND((E26*G26),2) -> 2128
A28: VALOR TOTAL DA OBRA | H28: =H12+H16+H19+H22 -> 259083.41
C32: ='Memória de Cálculo'!C26 -> Emerson de Sousa Braga
C33: ='Memória de Cálculo'!C27 -> Engenheiro Civil - CREA Nº: 296.512MG
C34: ='Memória de Cálculo'!C28 -> 0
C37: José Pereira Viana
C38: Prefeito Municipal
A44: Observações: Os textos destacados na cor vermelho deverão ser preenchidos e revisados de acordo com a aplicabilidade de cada obra, no tocante à: região da Tabela de Referencial de Preços Unitários a ser adotada; percentuais de ISS e dos parâmetros adotados no demonstrativo/composição BDI a ser apresentado pelo(a) Responsável Técnico(a) do Município dos quais deverão estar em conformidade com os critérios vigentes e aplicáveis; quantitativos; preços vigentes da Tabela Referencial de Preços Unitários e demais informações pertinentes aos serviços para execução das obras.

Sheet Composição 01
A6: META 01 : PAVIMENTAÇÃO EM BLOCO SEXTAVADO NA ESTRADA VICINAL DO CÓRREGO DOS PORTUGUESES, ZONA RURAL, IAPU - MG
A8: RT: Emerson de Sousa Braga - Engenheiro Civil - CREA 296.512MG | I8: Data: Janeiro/2026
A10: COMPOSIÇÃO DE CUSTO UNITÁRIO - CPU.01
A11: 1.1 | B11: SARJETA DE CONCRETO URBANO (SCU), TIPO 1, COM FCK 15 MPA, LARGURA DE 30CM COM INCLINAÇÃO DE 3%, ESP. 10CM, PADRÃO DER-MG, EXCLUSIVE MEIO-FIO, INCLUSIVE ESCAVAÇÃO, APILAOMENTO E TRANSPORTE COM RETIRADA DO MATERIAL ESCAVADO (EM CAÇAMBA) | J11: m
A12: CÓDIGO SETOP/SEINFRA REGIÃO LESTE - SEM DESONERAÇÂO | B12: DESCRIÇÃO | G12: UNIDADE | H12: COEFICIENTE | I12: CUSTO UNITÁRIO | J12: CUSTO TOTAL
A13: ED-51093 | B13: APILOAMENTO DO FUNDO DE VALAS COM SOQUETE | G13: m2 | H13: 0.3 | I13: 24.08 | J13: =H13*I13 -> 7.22
A14: ED-51107 | B14: ESCAVAÇÃO MANUAL DE VALAS H <= 1,50 M | G14: m3 | H14: 0.032 | I14: 71.42 | J14: =H14*I14 -> 2.29
A15: ED-49795 | B15: FORNECIMENTO DE CONCRETO NÃO ESTRUTURAL, USINADO, COM FCK 15MPA, INCLUSIVE LANÇAMENTO, ADENSAMENTO E ACABAMENTO (FUNDAÇÃO) | G15: m3 | H15: 0.032 | I15: 682.04 | J15: =H15*I15 -> 21.83
A16: ED-51125 | B16: TRANSPORTE DE MATERIAL DEMOLIDO EM CAÇAMBA, EXCLUSIVE CARGA MANUAL OU MECÂNICA | G16: m3 | H16: 0.032 | I16: 83 | J16: =H16*I16 -> 2.66
A17: ED-51133 | B17: TRANSPORTE DE MATERIAL DE QUALQUER NATUREZA COM CARRINHO DE MÃO, COM DISTÂNCIAS MENORES OU IGUAIS A 50M, INCLUSIVE CARGA/DESCARGA | G17: m3 | H17: 0.032 | I17: 24.77 | J17: =H17*I17 -> 0.79
G19: TOTAL | J19: =SUM(J13:J18) -> 34.79
A22: APILOAMENTO DO FUNDO DE VALAS COM SOQUETE
A23: A = 0,30 x 1,00 = 0,30m²
A24: Total: 0,30m²
A26: ESCAVAÇÃO MANUAL DE VALAS H <= 1,50 M
A27: A = (0,10+0,11)/2 X 0,30 x 1,00 = 0,032m³
A28: Total: 0,032m³
A30: FORNECIMENTO DE CONCRETO ESTRUTURAL, USINADO, BOMBEADO, INCLUSIVE LANÇAMENTO,
A31: ADENSAMENTO E ACABAMENTO
A32: A = (0,10+0,11)/2 X 0,30 x 1,00 = 0,032m³
A33: Total: 0,032m³
A34: TRANSPORTE DE MATERIAL DEMOLIDO EM CAÇAMBA, EXCLUSIVE CARGA MANUAL OU MECÂNICA
A35: Mesma área de escavação
... A40: Total: 0,032m³

Sheet Cronograma
A3: CRONOGRAMA FÍSICO-FINANCEIRO
A4: ='Planilha Orcamentária'!A4 -> PREFEITURA MUNICIPAL DE IAPU - MG | C4: VALOR DO CONVÊNIO: | D4: =D19 -> 259083.41 | E4: DATA: | G4: ='Planilha Orcamentária'!G5:H5 -> 46035 | H4: FOLHA Nº: 01/01
A5: ='Planilha Orcamentária'!A5 -> META 01 : PAVIMENTAÇÃO EM BLOCO SEXTAVADO NA ESTRADA VICINAL DO CÓRREGO DOS PORTUGUESES, ZONA RURAL, IAPU - MG | E5: PREVISÃO DE EXECUÇÃO DAS OBRAS: 4 MESES
A6: ='Planilha Orcamentária'!A7 -> 0
A7: ITENS | B7: ETAPAS/DESCRIÇÃO | C7: FÍSICO/ FINANCEIRO | D7: TOTAL ETAPAS | E7: MÊS 1 | F7: MÊS 2 | G7: MÊS 3 | H7: MÊS 4
A8: ='Planilha Orcamentária'!A12 -> 1.0 | B8: ='Planilha Orcamentária'!C12 -> SERVIÇOS PRELIMINARES | C8: Físico % | D8: =D9/$D$19 -> 0.0253 | E8: 0.6 | F8: 0 | G8: 0 | H8: 0.4
C9: Financeiro | D9: ='Planilha Orcamentária'!H12 -> 6544.4 | E9: =E8*$D$9 -> 3926.64 | F9: =F8*$D$9 -> 0 | G9: =G8*$D$9 -> 0 | H9: =H8*$D$9 -> 2617.76
A10: ='Planilha Orcamentária'!A16 -> 2.0 | B10: ='Planilha Orcamentária'!C16 -> SERVIÇOS DE TERRAPLENAGEM | C10: Físico % | D10: =D11/$D$19 -> 0.0006 | E10: 1 | F10: 0 | H10: 0
C11: Financeiro | D11: ='Planilha Orcamentária'!H16 -> 151.8 | E11: =E10*$D$11 -> 151.8 | F11: =F10*$D$11 -> 0 | G11: =G10*$D$11 -> 0 | H11: =H10*$D$11 -> 0
A12: ='Planilha Orcamentária'!A19 -> 3.0 | B12: ='Planilha Orcamentária'!C19 -> SERVIÇOS DE DRENAGEM PLUVIAL | C12: Físico % | D12: =D13/$D$19 -> 0.0881 | E12: 0.4 | F12: 0.2 | G12: 0.2 | H12: 0.2
C13: Financeiro | D13: ='Planilha Orcamentária'!H19 -> 22835.78 | E13: =E12*$D$13-0.01 -> 9134.3 | F13: =F12*$D$13 -> 4567.16 | G13: =G12*$D$13 -> 4567.16 | H13: =H12*$D$13 -> 4567.16
A14: ='Planilha Orcamentária'!A22 -> 4.0 | B14: ='Planilha Orcamentária'!C22 -> SERVIÇOS DE PAVIMENTAÇÃO | C14: Físico % | D14: =D15/$D$19-0.0001 -> 0.8859 | E14: 0.2 | F14: 0.25 | G14: 0.3 | H14: 0.25
C15: Financeiro | D15: ='Planilha Orcamentária'!H22 -> 229551.43 | E15: =E14*$D$15 -> 45910.29 | F15: =F14*$D$15 -> 57387.86 | G15: =G14*$D$15 -> 68865.43 | H15: =H14*$D$15 -> 57387.86
C16: Físico % | D16: =D17/$D$19 -> 0 | E16: 0 | F16: 0
C17: Financeiro | E17: =E16*$D$17 -> 0 | F17: =F16*$D$17 -> 0 | G17: =G16*$D$17 -> 0 | H17: =H16*$D$17 -> 0
A18: TOTAL | C18: Físico % | D18: =D8+D10+D12+D14+D16 -> 0.9999 | E18: =E19/$D$19 -> 0.2282 | F18: =F19/$D$19 -> 0.2391 | G18: =G19/$D$19 -> 0.2834 | H18: =H19/$D$19 -> 0.2492
C19: Financeiro | D19: =D9+D11+D13+D15+D17 -> 259083.41 | E19: =E9+E11+E13+E15+E17 -> 59123.03 | F19: =F9+F11+F13+F15+F17 -> 61955.02 | G19: =G9+G11+G13+G15+G17 -> 73432.59 | H19: =H9+H11+H13+H15+H17 -> 64572.78
G20: Observações:
B22: ='Memória de Cálculo'!C26 -> Emerson de Sousa Braga
B23: ='Memória de Cálculo'!C27 -> Engenheiro Civil - CREA Nº: 296.512MG
B24: ='Memória de Cálculo'!C28 -> 0
B27: ='Memória de Cálculo'!C30 -> José Pereira Viana
B28: ='Memória de Cálculo'!C31 -> Prefeito Municipal
