Workbook

Sheet PREMISSAS
A1: Premissas do Orçamento
A2: Para a execução da base e da sub base brita graduada foi necessário considerar transporte da brita. Para isso, utilizamos três pedreiras e seus respectivos DMT's até o local da obra. Em seguida, foi utilizada a mediana para o cálculo do DMT. Mineração Guaribas - rodovia MG 040, km 57 - Guaribas, Brumadinho/MG - distância até a obra: 8,3 km Mineração Santiago - rua da Pedreira, 850 - Luar da Pampulha, Ribeirão das Neves/MG - distância até a obra: 57,5 km Brasmic Mineração - Fazenda do Quebra, S/N, Zona Rural, Betim/MG - distância até a obra: 27,5 km Mediana: 27,5 km
A3: Para execução da pintura de ligação e da imprimação o serviço não contempla o transporte do material betuminoso. A emulsão asfáltica para imprimação e a emulsão RR-2C devem ser adquiridas em uma distribuidora. A DISBRAL, em Sarzedo, é a mais próxima do local da obra. A distância até a obra é de 21,5 km
A4: O serviço de execução do pavimento em CBUQ não contempla o transporte do material betuminoso da usina até a obra. Para isso, utilizamos três usinas e seus respectivos DMT's até o local da obra. Em seguida, foi utilizada a mediana para o cálculo do DMT. EMIPAVI - rodovia MG 424, km 6 - Vespasiano/MG - distância até a obra: 78 km Tamasa Engenharia - rodovia MG 040, km 518, Fazenda da Colina - Ribeirão das Neves/MG - distância até a obra: 52,7 km EMPROL - rodovia MG 040, km 95 - Contagem/MG - distância até a obra: 48,5 km Mediana: 48,5 km
A5: O serviço de transporte (95875) em m³xkm contempla os seguintes transportes: - transporte dos materiais para a brita graduada; - transporte dos solos para sub base e reforço do subleito.
A6: O serviço de transporte (95878 e 93596) em txkm contempla os seguintes transportes: - transporte dos materiais para a brita graduada com DMT de 27,5 km; - transporte do CBUQ (massa pronta) da usina para a obra com DMT até 30 km; - transporte do CBUQ (massa pronta) da usina para a obra com DMT acima de 30 km. Para o transporte do CBUQ foi utilizada densidade de 2,4 para o material. E para os materiais granulares a densidade utilizada foi de 1,5.
A7: DMT do bota fora estipulado - 15 km DMT do material de empréstimo estipulado - 15 km

Sheet PLANILHA
A1: PLANILHA ORÇAMENTÁRIA | I1: DATA: 15/03/2024
A2: CLIENTE: | C2: PREFEITURA MUNICIPAL DE BRUMADINHO | G2: (X) ONERADO ( ) DESONERADO | I2: BASES ORÇAMENTÁRIAS:
A3: OBRA: | C3: TREVO DE ENTRADA DA CIDADE | G3: BDI: | H3: =BDI!I32 -> 0.2338 | I3: AGOSTO/2023 - SETOP (CENTRAL); DEZEMBRO/2023 - SINAPI; OUTUBRO/2023 - SICRO.
A4: ENDEREÇO: | C4: RODOVIA MG-040 COM ESTRADA PARA ALBERTO FLORES - CEP: 35460-000 | G4: PRAZO OBRA: | H4: 7 MESES
A5: ITEM | B5: BASE DE REFERÊNCIA | C5: CÓDIGO | D5: DESCRIÇÃO | E5: UND | F5: QUANT. | G5: PREÇO UNITÁRIO | H5: TOTAL S/ BDI | I5: UNITÁRIO C/ BDI | J5: TOTAL C/ BDI
A6: 1 | D6: ADMINISTRATIVO | J6: =J7 -> 257099.61 | K6: =J6/J129 -> 0.061682538
A7: 1.1 | B7: =IF(IFERROR(VLOOKUP(C7,SINAPI!$A:$D,1,FALSE),"")=C7,"SINAPI",IF(IFERROR(VLOOKUP(C7,SETOP!$A:$E,1,FALSE),"")=C7,"SETOP",IF(IFERROR(VLOOKUP(C7,SUDECAP!$A:$D,1,FALSE),"")=C7,"SUDECAP",IF(IFERROR(VLOOKUP(C7,SICRO!$A:$D,1,FALSE),"")=C7,"SICRO","COMPOSIÇÃO")))) -> COMPOSIÇÃO | C7: CPU-001 | D7: =IFERROR(IFERROR(VLOOKUP(C7,SINAPI!$A:$D,2,FALSE),IFERROR(VLOOKUP(C7,SETOP!$A:$E,3,FALSE),IFERROR(VLOOKUP(C7,SETOP!$B:$E,2,FALSE),IFERROR(VLOOKUP(C7,SUDECAP!$A:$D,2,FALSE),IFERROR(VLOOKUP(C7,SICRO!$A:$D,2,FALSE),VLOOKUP(C7,CPUS!$B:$H,3,FALSE)))))),"") -> ADMINISTRAÇÃO LOCAL | E7: =IFERROR(IFERROR(VLOOKUP(C7,SINAPI!$A:$D,3,FALSE),IFERROR(VLOOKUP(C7,SETOP!$A:$E,4,FALSE),IFERROR(VLOOKUP(C7,SETOP!$B:$E,3,FALSE),IFERROR(VLOOKUP(C7,SUDECAP!$A:$D,3,FALSE),IFERROR(VLOOKUP(C7,SICRO!$A:$D,3,FALSE),VLOOKUP(C7,CPUS!$B:$H,4,FALSE)))))),"") -> UND | F7: 1 | G7: =IFERROR(IFERROR(VLOOKUP(C7,SINAPI!$A:$D,4,FALSE),IFERROR(VLOOKUP(C7,SETOP!$A:$E,5,FALSE),IFERROR(VLOOKUP(C7,SETOP!$B:$E,4,FALSE),IFERROR(VLOOKUP(C7,SUDECAP!$A:$D,4,FALSE),IFERROR(VLOOKUP(C7,SICRO!$A:$D,4,FALSE),VLOOKUP(C7,CPUS!$B:$H,7,FALSE)))))),0) -> 208380.3 | H7: =TRUNC(F7*G7,2) -> 208380.3 | I7: =TRUNC(G7*(1+$H$3),2) -> 257099.61 | J7: =TRUNC(I7*F7,2) -> 257099.61
A8: 2 | D8: IMPLANTAÇÃO | J8: =SUM(J9:J17) -> 36272.2
A9: 2.1 | B9: =IF(IFERROR(VLOOKUP(C9,SINAPI!$A:$D,1,FALSE),"")=C9,"SINAPI",IF(IFERROR(VLOOKUP(C9,SETOP!$A:$E,1,FALSE),"")=C9,"SETOP",IF(IFERROR(VLOOKUP(C9,SUDECAP!$A:$D,1,FALSE),"")=C9,"SUDECAP",IF(IFERROR(VLOOKUP(C9,SICRO!$A:$D,1,FALSE),"")=C9,"SICRO","COMPOSIÇÃO")))) -> SETOP | C9: ED-50137 | D9: =IFERROR(IFERROR(VLOOKUP(C9,SINAPI!$A:$D,2,FALSE),IFERROR(VLOOKUP(C9,SETOP!$A:$E,3,FALSE),IFERROR(VLOOKUP(C9,SETOP!$B:$E,2,FALSE),IFERROR(VLOOKUP(C9,SUDECAP!$A:$D,2,FALSE),IFERROR(VLOOKUP(C9,SICRO!$A:$D,2,FALSE),VLOOKUP(C9,CPUS!$B:$H,3,FALSE)))))),"") -> MOBILIZAÇÃO E DESMOBILIZAÇÃO DE CONTAINER, INCLUSIVE CARGA, DESCARGA E TRANSPORTE EM CAMINHÃO CARROCERIA COM GUINDAUTO (MUNCK), EXCLUSIVE LOCAÇÃO DO CONTAINER | E9: =IFERROR(IFERROR(VLOOKUP(C9,SINAPI!$A:$D,3,FALSE),IFERROR(VLOOKUP(C9,SETOP!$A:$E,4,FALSE),IFERROR(VLOOKUP(C9,SETOP!$B:$E,3,FALSE),IFERROR(VLOOKUP(C9,SUDECAP!$A:$D,3,FALSE),IFERROR(VLOOKUP(C9,SICRO!$A:$D,3,FALSE),VLOOKUP(C9,CPUS!$B:$H,4,FALSE)))))),"") -> UN | F9: 3 | G9: =IFERROR(IFERROR(VLOOKUP(C9,SINAPI!$A:$D,4,FALSE),IFERROR(VLOOKUP(C9,SETOP!$A:$E,5,FALSE),IFERROR(VLOOKUP(C9,SETOP!$B:$E,4,FALSE),IFERROR(VLOOKUP(C9,SUDECAP!$A:$D,4,FALSE),IFERROR(VLOOKUP(C9,SICRO!$A:$D,4,FALSE),VLOOKUP(C9,CPUS!$B:$H,7,FALSE)))))),0) -> 1568.04 | H9: =TRUNC(F9*G9,2) -> 4704.12 | I9: =TRUNC(G9*(1+$H$3),2) -> 1934.64 | J9: =TRUNC(I9*F9,2) -> 5803.92
A10: 2.2 | B10: =IF(IFERROR(VLOOKUP(C10,SINAPI!$A:$D,1,FALSE),"")=C10,"SINAPI",IF(IFERROR(VLOOKUP(C10,SETOP!$A:$E,1,FALSE),"")=C10,"SETOP",IF(IFERROR(VLOOKUP(C10,SUDECAP!$A:$D,1,FALSE),"")=C10,"SUDECAP",IF(IFERROR(VLOOKUP(C10,SICRO!$A:$D,1,FALSE),"")=C10,"SICRO","COMPOSIÇÃO")))) -> SETOP | C10: ED-16349 | D10: =IFERROR(IFERROR(VLOOKUP(C10,SINAPI!$A:$D,2,FALSE),IFERROR(VLOOKUP(C10,SETOP!$A:$E,3,FALSE),IFERROR(VLOOKUP(C10,SETOP!$B:$E,2,FALSE),IFERROR(VLOOKUP(C10,SUDECAP!$A:$D,2,FALSE),IFERROR(VLOOKUP(C10,SICRO!$A:$D,2,FALSE),VLOOKUP(C10,CPUS!$B:$H,3,FALSE)))))),"") -> LOCAÇÃO DE CONTAINER COM ISOLAMENTO TÉRMICO, TIPO 2, PARA ESCRITÓRIO DE OBRA COM SANITÁRIO CONTENDO UM (1) VASO SANITÁRIO E UM (1) LAVATÓRIO, COM MEDIDAS REFERENCIAIS DE (6) METROS COMPRIMENTO, (2,3) METROS LARGURA E (2,5) METROS ALTURA ÚTIL INTERNA, INCLUSIVE AR CONDICIONADO E LIGAÇÕES ELÉTRICAS E HIDROSSANITÁRIAS INTERNAS, EXCLUSIVE MOBILIZAÇÃO/DESMOBILIZAÇÃO E LIGAÇÕES PROVISÓRIAS EXTERNAS | E10: =IFERROR(IFERROR(VLOOKUP(C10,SINAPI!$A:$D,3,FALSE),IFERROR(VLOOKUP(C10,SETOP!$A:$E,4,FALSE),IFERROR(VLOOKUP(C10,SETOP!$B:$E,3,FALSE),IFERROR(VLOOKUP(C10,SUDECAP!$A:$D,3,FALSE),IFERROR(VLOOKUP(C10,SICRO!$A:$D,3,FALSE),VLOOKUP(C10,CPUS!$B:$H,4,FALSE)))))),"") -> MÊS | F10: 7 | G10: =IFERROR(IFERROR(VLOOKUP(C10,SINAPI!$A:$D,4,FALSE),IFERROR(VLOOKUP(C10,SETOP!$A:$E,5,FALSE),IFERROR(VLOOKUP(C10,SETOP!$B:$E,4,FALSE),IFERROR(VLOOKUP(C10,SUDECAP!$A:$D,4,FALSE),IFERROR(VLOOKUP(C10,SICRO!$A:$D,4,FALSE),VLOOKUP(C10,CPUS!$B:$H,7,FALSE)))))),0) -> 1121.54 | H10: =TRUNC(F10*G10,2) -> 7850.78 | I10: =TRUNC(G10*(1+$H$3),2) -> 1383.75 | J10: =TRUNC(I10*F10,2) -> 9686.25
A11: 2.3 | B11: =IF(IFERROR(VLOOKUP(C11,SINAPI!$A:$D,1,FALSE),"")=C11,"SINAPI",IF(IFERROR(VLOOKUP(C11,SETOP!$A:$E,1,FALSE),"")=C11,"SETOP",IF(IFERROR(VLOOKUP(C11,SUDECAP!$A:$D,1,FALSE),"")=C11,"SUDECAP",IF(IFERROR(VLOOKUP(C11,SICRO!$A:$D,1,FALSE),"")=C11,"SICRO","COMPOSIÇÃO")))) -> SETOP | C11: ED-16351 | D11: =IFERROR(IFERROR(VLOOKUP(C11,SINAPI!$A:$D,2,FALSE),IFERROR(VLOOKUP(C11,SETOP!$A:$E,3,FALSE),IFERROR(VLOOKUP(C11,SETOP!$B:$E,2,FALSE),IFERROR(VLOOKUP(C11,SUDECAP!$A:$D,2,FALSE),IFERROR(VLOOKUP(C11,SICRO!$A:$D,2,FALSE),VLOOKUP(C11,CPUS!$B:$H,3,FALSE)))))),"") -> LOCAÇÃO DE CONTAINER COM ISOLAMENTO TÉRMICO, TIPO 4, PARA REFEITÓRIO DE OBRA, COM MEDIDAS REFERENCIAIS DE (6) METROS COMPRIMENTO, (2,3) METROS LARGURA E (2,5) METROS ALTURA ÚTIL INTERNA, INCLUSIVE LIGAÇÕES ELÉTRICAS INTERNAS, EXCLUSIVE MOBILIZAÇÃO/DESMOBILIZAÇÃO E LIGAÇÕES PROVISÓRIAS EXTERNAS | E11: =IFERROR(IFERROR(VLOOKUP(C11,SINAPI!$A:$D,3,FALSE),IFERROR(VLOOKUP(C11,SETOP!$A:$E,4,FALSE),IFERROR(VLOOKUP(C11,SETOP!$B:$E,3,FALSE),IFERROR(VLOOKUP(C11,SUDECAP!$A:$D,3,FALSE),IFERROR(VLOOKUP(C11,SICRO!$A:$D,3,FALSE),VLOOKUP(C11,CPUS!$B:$H,4,FALSE)))))),"") -> MÊS | F11: 7 | G11: =IFERROR(IFERROR(VLOOKUP(C11,SINAPI!$A:$D,4,FALSE),IFERROR(VLOOKUP(C11,SETOP!$A:$E,5,FALSE),IFERROR(VLOOKUP(C11,SETOP!$B:$E,4,FALSE),IFERROR(VLOOKUP(C11,SUDECAP!$A:$D,4,FALSE),IFERROR(VLOOKUP(C11,SICRO!$A:$D,4,FALSE),VLOOKUP(C11,CPUS!$B:$H,7,FALSE)))))),0) -> 721.41 | H11: =TRUNC(F11*G11,2) -> 5049.87 | I11: =TRUNC(G11*(1+$H$3),2) -> 890.07 | J11: =TRUNC(I11*F11,2) -> 6230.49
A12: 2.4 | B12: =IF(IFERROR(VLOOKUP(C12,SINAPI!$A:$D,1,FALSE),"")=C12,"SINAPI",IF(IFERROR(VLOOKUP(C12,SETOP!$A:$E,1,FALSE),"")=C12,"SETOP",IF(IFERROR(VLOOKUP(C12,SUDECAP!$A:$D,1,FALSE),"")=C12,"SUDECAP",IF(IFERROR(VLOOKUP(C12,SICRO!$A:$D,1,FALSE),"")=C12,"SICRO","COMPOSIÇÃO")))) -> SETOP | C12: ED-16354 | D12: =IFERROR(IFERROR(VLOOKUP(C12,SINAPI!$A:$D,2,FALSE),IFERROR(VLOOKUP(C12,SETOP!$A:$E,3,FALSE),IFERROR(VLOOKUP(C12,SETOP!$B:$E,2,FALSE),IFERROR(VLOOKUP(C12,SUDECAP!$A:$D,2,FALSE),IFERROR(VLOOKUP(C12,SICRO!$A:$D,2,FALSE),VLOOKUP(C12,CPUS!$B:$H,3,FALSE)))))),"") -> LOCAÇÃO DE CONTAINER COM ISOLAMENTO TÉRMICO, TIPO 7, PARA VESTIÁRIO DE OBRA COM QUATRO (4) CHUVEIROS, TRÊS (3) VASOS SANITÁRIOS, UM (1) MICTÓRIO E UM (1) LAVATÓRIO, COM MEDIDAS REFERENCIAIS DE (6) METROS COMPRIMENTO, (2,3) METROS LARGURA E (2,5) METROS ALTURA ÚTIL INTERNA, INCLUSIVE LIGAÇÕES ELÉTRICAS E HIDROSSANITÁRIAS INTERNAS, EXCLUSIVE MOBILIZAÇÃO/DESMOBILIZAÇÃO E LIGAÇÕES PROVISÓRIAS EXTERNAS | E12: =IFERROR(IFERROR(VLOOKUP(C12,SINAPI!$A:$D,3,FALSE),IFERROR(VLOOKUP(C12,SETOP!$A:$E,4,FALSE),IFERROR(VLOOKUP(C12,SETOP!$B:$E,3,FALSE),IFERROR(VLOOKUP(C12,SUDECAP!$A:$D,3,FALSE),IFERROR(VLOOKUP(C12,SICRO!$A:$D,3,FALSE),VLOOKUP(C12,CPUS!$B:$H,4,FALSE)))))),"") -> MÊS | F12: 7 | G12: =IFERROR(IFERROR(VLOOKUP(C12,SINAPI!$A:$D,4,FALSE),IFERROR(VLOOKUP(C12,SETOP!$A:$E,5,FALSE),IFERROR(VLOOKUP(C12,SETOP!$B:$E,4,FALSE),IFERROR(VLOOKUP(C12,SUDECAP!$A:$D,4,FALSE),IFERROR(VLOOKUP(C12,SICRO!$A:$D,4,FALSE),VLOOKUP(C12,CPUS!$B:$H,7,FALSE)))))),0) -> 951.21 | H12: =TRUNC(F12*G12,2) -> 6658.47 | I12: =TRUNC(G12*(1+$H$3),2) -> 1173.6 | J12: =TRUNC(I12*F12,2) -> 8215.2
A13: 2.5 | B13: =IF(IFERROR(VLOOKUP(C13,SINAPI!$A:$D,1,FALSE),"")=C13,"SINAPI",IF(IFERROR(VLOOKUP(C13,SETOP!$A:$E,1,FALSE),"")=C13,"SETOP",IF(IFERROR(VLOOKUP(C13,SUDECAP!$A:$D,1,FALSE),"")=C13,"SUDECAP",IF(IFERROR(VLOOKUP(C13,SICRO!$A:$D,1,FALSE),"")=C13,"SICRO","COMPOSIÇÃO")))) -> SETOP | C13: ED-16357 | D13: =IFERROR(IFERROR(VLOOKUP(C13,SINAPI!$A:$D,2,FALSE),IFERROR(VLOOKUP(C13,SETOP!$A:$E,3,FALSE),IFERROR(VLOOKUP(C13,SETOP!$B:$E,2,FALSE),IFERROR(VLOOKUP(C13,SUDECAP!$A:$D,2,FALSE),IFERROR(VLOOKUP(C13,SICRO!$A:$D,2,FALSE),VLOOKUP(C13,CPUS!$B:$H,3,FALSE)))))),"") -> LIGAÇÕES PROVISÓRIAS PARA CONTAINER TIPO 2 (CORRESPONDENTE AO CÓDIGO ED-16349) | E13: =IFERROR(IFERROR(VLOOKUP(C13,SINAPI!$A:$D,3,FALSE),IFERROR(VLOOKUP(C13,SETOP!$A:$E,4,FALSE),IFERROR(VLOOKUP(C13,SETOP!$B:$E,3,FALSE),IFERROR(VLOOKUP(C13,SUDECAP!$A:$D,3,FALSE),IFERROR(VLOOKUP(C13,SICRO!$A:$D,3,FALSE),VLOOKUP(C13,CPUS!$B:$H,4,FALSE)))))),"") -> UN | F13: 1 | G13: =IFERROR(IFERROR(VLOOKUP(C13,SINAPI!$A:$D,4,FALSE),IFERROR(VLOOKUP(C13,SETOP!$A:$E,5,FALSE),IFERROR(VLOOKUP(C13,SETOP!$B:$E,4,FALSE),IFERROR(VLOOKUP(C13,SUDECAP!$A:$D,4,FALSE),IFERROR(VLOOKUP(C13,SICRO!$A:$D,4,FALSE),VLOOKUP(C13,CPUS!$B:$H,7,FALSE)))))),0) -> 607.94 | H13: =TRUNC(F13*G13,2) -> 607.94 | I13: =TRUNC(G13*(1+$H$3),2) -> 750.07 | J13: =TRUNC(I13*F13,2) -> 750.07
A14: 2.6 | B14: =IF(IFERROR(VLOOKUP(C14,SINAPI!$A:$D,1,FALSE),"")=C14,"SINAPI",IF(IFERROR(VLOOKUP(C14,SETOP!$A:$E,1,FALSE),"")=C14,"SETOP",IF(IFERROR(VLOOKUP(C14,SUDECAP!$A:$D,1,FALSE),"")=C14,"SUDECAP",IF(IFERROR(VLOOKUP(C14,SICRO!$A:$D,1,FALSE),"")=C14,"SICRO","COMPOSIÇÃO")))) -> SETOP | C14: ED-16359 | D14: =IFERROR(IFERROR(VLOOKUP(C14,SINAPI!$A:$D,2,FALSE),IFERROR(VLOOKUP(C14,SETOP!$A:$E,3,FALSE),IFERROR(VLOOKUP(C14,SETOP!$B:$E,2,FALSE),IFERROR(VLOOKUP(C14,SUDECAP!$A:$D,2,FALSE),IFERROR(VLOOKUP(C14,SICRO!$A:$D,2,FALSE),VLOOKUP(C14,CPUS!$B:$H,3,FALSE)))))),"") -> LIGAÇÕES PROVISÓRIAS PARA CONTAINER TIPO 4 (CORRESPONDENTE AO CÓDIGO ED-16351) | E14: =IFERROR(IFERROR(VLOOKUP(C14,SINAPI!$A:$D,3,FALSE),IFERROR(VLOOKUP(C14,SETOP!$A:$E,4,FALSE),IFERROR(VLOOKUP(C14,SETOP!$B:$E,3,FALSE),IFERROR(VLOOKUP(C14,SUDECAP!$A:$D,3,FALSE),IFERROR(VLOOKUP(C14,SICRO!$A:$D,3,FALSE),VLOOKUP(C14,CPUS!$B:$H,4,FALSE)))))),"") -> UN | F14: 1 | G14: =IFERROR(IFERROR(VLOOKUP(C14,SINAPI!$A:$D,4,FALSE),IFERROR(VLOOKUP(C14,SETOP!$A:$E,5,FALSE),IFERROR(VLOOKUP(C14,SETOP!$B:$E,4,FALSE),IFERROR(VLOOKUP(C14,SUDECAP!$A:$D,4,FALSE),IFERROR(VLOOKUP(C14,SICRO!$A:$D,4,FALSE),VLOOKUP(C14,CPUS!$B:$H,7,FALSE)))))),0) -> 305.89 | H14: =TRUNC(F14*G14,2) -> 305.89 | I14: =TRUNC(G14*(1+$H$3),2) -> 377.4 | J14: =TRUNC(I14*F14,2) -> 377.4
A15: 2.7 | B15: =IF(IFERROR(VLOOKUP(C15,SINAPI!$A:$D,1,FALSE),"")=C15,"SINAPI",IF(IFERROR(VLOOKUP(C15,SETOP!$A:$E,1,FALSE),"")=C15,"SETOP",IF(IFERROR(VLOOKUP(C15,SUDECAP!$A:$D,1,FALSE),"")=C15,"SUDECAP",IF(IFERROR(VLOOKUP(C15,SICRO!$A:$D,1,FALSE),"")=C15,"SICRO","COMPOSIÇÃO")))) -> SETOP | C15: ED-16362 | D15: =IFERROR(IFERROR(VLOOKUP(C15,SINAPI!$A:$D,2,FALSE),IFERROR(VLOOKUP(C15,SETOP!$A:$E,3,FALSE),IFERROR(VLOOKUP(C15,SETOP!$B:$E,2,FALSE),IFERROR(VLOOKUP(C15,SUDECAP!$A:$D,2,FALSE),IFERROR(VLOOKUP(C15,SICRO!$A:$D,2,FALSE),VLOOKUP(C15,CPUS!$B:$H,3,FALSE)))))),"") -> LIGAÇÕES PROVISÓRIAS PARA CONTAINER TIPO 7 (CORRESPONDENTE AO CÓDIGO ED-16354) | E15: =IFERROR(IFERROR(VLOOKUP(C15,SINAPI!$A:$D,3,FALSE),IFERROR(VLOOKUP(C15,SETOP!$A:$E,4,FALSE),IFERROR(VLOOKUP(C15,SETOP!$B:$E,3,FALSE),IFERROR(VLOOKUP(C15,SUDECAP!$A:$D,3,FALSE),IFERROR(VLOOKUP(C15,SICRO!$A:$D,3,FALSE),VLOOKUP(C15,CPUS!$B:$H,4,FALSE)))))),"") -> UN | F15: 1 | G15: =IFERROR(IFERROR(VLOOKUP(C15,SINAPI!$A:$D,4,FALSE),IFERROR(VLOOKUP(C15,SETOP!$A:$E,5,FALSE),IFERROR(VLOOKUP(C15,SETOP!$B:$E,4,FALSE),IFERROR(VLOOKUP(C15,SUDECAP!$A:$D,4,FALSE),IFERROR(VLOOKUP(C15,SICRO!$A:$D,4,FALSE),VLOOKUP(C15,CPUS!$B:$H,7,FALSE)))))),0) -> 882.38 | H15: =TRUNC(F15*G15,2) -> 882.38 | I15: =TRUNC(G15*(1+$H$3),2) -> 1088.68 | J15: =TRUNC(I15*F15,2) -> 1088.68
A16: 2.8 | B16: =IF(IFERROR(VLOOKUP(C16,SINAPI!$A:$D,1,FALSE),"")=C16,"SINAPI",IF(IFERROR(VLOOKUP(C16,SETOP!$A:$E,1,FALSE),"")=C16,"SETOP",IF(IFERROR(VLOOKUP(C16,SUDECAP!$A:$D,1,FALSE),"")=C16,"SUDECAP",IF(IFERROR(VLOOKUP(C16,SICRO!$A:$D,1,FALSE),"")=C16,"SICRO","COMPOSIÇÃO")))) -> SETOP | C16: ED-28427 | D16: =IFERROR(IFERROR(VLOOKUP(C16,SINAPI!$A:$D,2,FALSE),IFERROR(VLOOKUP(C16,SETOP!$A:$E,3,FALSE),IFERROR(VLOOKUP(C16,SETOP!$B:$E,2,FALSE),IFERROR(VLOOKUP(C16,SUDECAP!$A:$D,2,FALSE),IFERROR(VLOOKUP(C16,SICRO!$A:$D,2,FALSE),VLOOKUP(C16,CPUS!$B:$H,3,FALSE)))))),"") -> FORNECIMENTO E COLOCAÇÃO DE PLACA DE OBRA EM CHAPA GALVANIZADA #26, ESP. 0,45MM, DIMENSÃO (3X1,5)M, PLOTADA COM ADESIVO VINÍLICO, AFIXADA COM REBITES 4,8X40MM, EM ESTRUTURA METÁLICA DE METALON 20X20MM, ESP. 1,25MM, INCLUSIVE SUPORTE EM EUCALIPTO AUTOCLAVADO PINTADO COM TINTA PVA DUAS (2) DEMÃOS | E16: =IFERROR(IFERROR(VLOOKUP(C16,SINAPI!$A:$D,3,FALSE),IFERROR(VLOOKUP(C16,SETOP!$A:$E,4,FALSE),IFERROR(VLOOKUP(C16,SETOP!$B:$E,3,FALSE),IFERROR(VLOOKUP(C16,SUDECAP!$A:$D,3,FALSE),IFERROR(VLOOKUP(C16,SICRO!$A:$D,3,FALSE),VLOOKUP(C16,CPUS!$B:$H,4,FALSE)))))),"") -> UN | F16: 1 | G16: =IFERROR(IFERROR(VLOOKUP(C16,SINAPI!$A:$D,4,FALSE),IFERROR(VLOOKUP(C16,SETOP!$A:$E,5,FALSE),IFERROR(VLOOKUP(C16,SETOP!$B:$E,4,FALSE),IFERROR(VLOOKUP(C16,SUDECAP!$A:$D,4,FALSE),IFERROR(VLOOKUP(C16,SICRO!$A:$D,4,FALSE),VLOOKUP(C16,CPUS!$B:$H,7,FALSE)))))),0) -> 1396.17 | H16: =TRUNC(F16*G16,2) -> 1396.17 | I16: =TRUNC(G16*(1+$H$3),2) -> 1722.59 | J16: =TRUNC(I16*F16,2) -> 1722.59
A17: 2.9 | B17: =IF(IFERROR(VLOOKUP(C17,SINAPI!$A:$D,1,FALSE),"")=C17,"SINAPI",IF(IFERROR(VLOOKUP(C17,SETOP!$A:$E,1,FALSE),"")=C17,"SETOP",IF(IFERROR(VLOOKUP(C17,SUDECAP!$A:$D,1,FALSE),"")=C17,"SUDECAP",IF(IFERROR(VLOOKUP(C17,SICRO!$A:$D,1,FALSE),"")=C17,"SICRO","COMPOSIÇÃO")))) -> SETOP | C17: ED-50275 | D17: =IFERROR(IFERROR(VLOOKUP(C17,SINAPI!$A:$D,2,FALSE),IFERROR(VLOOKUP(C17,SETOP!$A:$E,3,FALSE),IFERROR(VLOOKUP(C17,SETOP!$B:$E,2,FALSE),IFERROR(VLOOKUP(C17,SUDECAP!$A:$D,2,FALSE),IFERROR(VLOOKUP(C17,SICRO!$A:$D,2,FALSE),VLOOKUP(C17,CPUS!$B:$H,3,FALSE)))))),"") -> LOCAÇÃO TOPOGRÁFICA DE VINTE UM (21) ATÉ CINQUENTA (50) PONTOS REFERENCIAIS, INCLUSIVE ESTACA (PIQUETE) DE MARCAÇÃO | E17: =IFERROR(IFERROR(VLOOKUP(C17,SINAPI!$A:$D,3,FALSE),IFERROR(VLOOKUP(C17,SETOP!$A:$E,4,FALSE),IFERROR(VLOOKUP(C17,SETOP!$B:$E,3,FALSE),IFERROR(VLOOKUP(C17,SUDECAP!$A:$D,3,FALSE),IFERROR(VLOOKUP(C17,SICRO!$A:$D,3,FALSE),VLOOKUP(C17,CPUS!$B:$H,4,FALSE)))))),"") -> UN | F17: 30 | G17: =IFERROR(IFERROR(VLOOKUP(C17,SINAPI!$A:$D,4,FALSE),IFERROR(VLOOKUP(C17,SETOP!$A:$E,5,FALSE),IFERROR(VLOOKUP(C17,SETOP!$B:$E,4,FALSE),IFERROR(VLOOKUP(C17,SUDECAP!$A:$D,4,FALSE),IFERROR(VLOOKUP(C17,SICRO!$A:$D,4,FALSE),VLOOKUP(C17,CPUS!$B:$H,7,FALSE)))))),0) -> 64.78 | H17: =TRUNC(F17*G17,2) -> 1943.4 | I17: =TRUNC(G17*(1+$H$3),2) -> 79.92 | J17: =TRUNC(I17*F17,2) -> 2397.6
A18: 3 | D18: MOBILIZAÇÃO E DESMOBILIZAÇÃO | J18: =J19 -> 7810.34
A19: 3.1 | B19: =IF(IFERROR(VLOOKUP(C19,SINAPI!$A:$D,1,FALSE),"")=C19,"SINAPI",IF(IFERROR(VLOOKUP(C19,SETOP!$A:$E,1,FALSE),"")=C19,"SETOP",IF(IFERROR(VLOOKUP(C19,SUDECAP!$A:$D,1,FALSE),"")=C19,"SUDECAP",IF(IFERROR(VLOOKUP(C19,SICRO!$A:$D,1,FALSE),"")=C19,"SICRO","COMPOSIÇÃO")))) -> SETOP | C19: ED-50394 | D19: =IFERROR(IFERROR(VLOOKUP(C19,SINAPI!$A:$D,2,FALSE),IFERROR(VLOOKUP(C19,SETOP!$A:$E,3,FALSE),IFERROR(VLOOKUP(C19,SETOP!$B:$E,2,FALSE),IFERROR(VLOOKUP(C19,SUDECAP!$A:$D,2,FALSE),IFERROR(VLOOKUP(C19,SICRO!$A:$D,2,FALSE),VLOOKUP(C19,CPUS!$B:$H,3,FALSE)))))),"") -> MOBILIZAÇÃO E DESMOBILIZAÇÃO DE OBRA EM CENTRO URBANO OU REGIÃO LIMÍTROFE COM VALOR ACIMA DE 3.000.000,01 | E19: =IFERROR(IFERROR(VLOOKUP(C19,SINAPI!$A:$D,3,FALSE),IFERROR(VLOOKUP(C19,SETOP!$A:$E,4,FALSE),IFERROR(VLOOKUP(C19,SETOP!$B:$E,3,FALSE),IFERROR(VLOOKUP(C19,SUDECAP!$A:$D,3,FALSE),IFERROR(VLOOKUP(C19,SICRO!$A:$D,3,FALSE),VLOOKUP(C19,CPUS!$B:$H,4,FALSE)))))),"") -> % | F19: 0.002 | G19: =SUM(H9:H17)+SUM(H21:H79)+SUM(H81:H96)+SUM(H98:H112)+SUM(H114:H127) -> 3165157.8 | H19: =TRUNC(F19*G19,2) -> 6330.31 | I19: =TRUNC(G19*(1+$H$3),2) -> 3905171.7 | J19: =TRUNC(I19*F19,2) -> 7810.34
A20: 4 | D20: REMOÇÕES E DEMOLIÇÕES | J20: =SUM(J21:J29) -> 307209.72
A21: 4.1 | B21: =IF(IFERROR(VLOOKUP(C21,SINAPI!$A:$D,1,FALSE),"")=C21,"SINAPI",IF(IFERROR(VLOOKUP(C21,SETOP!$A:$E,1,FALSE),"")=C21,"SETOP",IF(IFERROR(VLOOKUP(C21,SUDECAP!$A:$D,1,FALSE),"")=C21,"SUDECAP",IF(IFERROR(VLOOKUP(C21,SICRO!$A:$D,1,FALSE),"")=C21,"SICRO","COMPOSIÇÃO")))) -> SICRO | C21: 4915669 | D21: =IFERROR(IFERROR(VLOOKUP(C21,SINAPI!$A:$D,2,FALSE),IFERROR(VLOOKUP(C21,SETOP!$A:$E,3,FALSE),IFERROR(VLOOKUP(C21,SETOP!$B:$E,2,FALSE),IFERROR(VLOOKUP(C21,SUDECAP!$A:$D,2,FALSE),IFERROR(VLOOKUP(C21,SICRO!$A:$D,2,FALSE),VLOOKUP(C21,CPUS!$B:$H,3,FALSE)))))),"") -> REMOÇÃO MECANIZADA DE CAMADA GRANULAR DO PAVIMENTO | E21: =IFERROR(IFERROR(VLOOKUP(C21,SINAPI!$A:$D,3,FALSE),IFERROR(VLOOKUP(C21,SETOP!$A:$E,4,FALSE),IFERROR(VLOOKUP(C21,SETOP!$B:$E,3,FALSE),IFERROR(VLOOKUP(C21,SUDECAP!$A:$D,3,FALSE),IFERROR(VLOOKUP(C21,SICRO!$A:$D,3,FALSE),VLOOKUP(C21,CPUS!$B:$H,4,FALSE)))))),"") -> M³ | F21: =(8899.17*0.2)+(8899.17*0.2) -> 3559.668 | G21: =IFERROR(IFERROR(VLOOKUP(C21,SINAPI!$A:$D,4,FALSE),IFERROR(VLOOKUP(C21,SETOP!$A:$E,5,FALSE),IFERROR(VLOOKUP(C21,SETOP!$B:$E,4,FALSE),IFERROR(VLOOKUP(C21,SUDECAP!$A:$D,4,FALSE),IFERROR(VLOOKUP(C21,SICRO!$A:$D,4,FALSE),VLOOKUP(C21,CPUS!$B:$H,7,FALSE)))))),0) -> 7.52 | H21: =TRUNC(F21*G21,2) -> 26768.7 | I21: =TRUNC(G21*(1+$H$3),2) -> 9.27 | J21: =TRUNC(I21*F21,2) -> 32998.12
A22: 4.2 | B22: =IF(IFERROR(VLOOKUP(C22,SINAPI!$A:$D,1,FALSE),"")=C22,"SINAPI",IF(IFERROR(VLOOKUP(C22,SETOP!$A:$E,1,FALSE),"")=C22,"SETOP",IF(IFERROR(VLOOKUP(C22,SUDECAP!$A:$D,1,FALSE),"")=C22,"SUDECAP",IF(IFERROR(VLOOKUP(C22,SICRO!$A:$D,1,FALSE),"")=C22,"SICRO","COMPOSIÇÃO")))) -> SICRO | C22: 4915667 | D22: =IFERROR(IFERROR(VLOOKUP(C22,SINAPI!$A:$D,2,FALSE),IFERROR(VLOOKUP(C22,SETOP!$A:$E,3,FALSE),IFERROR(VLOOKUP(C22,SETOP!$B:$E,2,FALSE),IFERROR(VLOOKUP(C22,SUDECAP!$A:$D,2,FALSE),IFERROR(VLOOKUP(C22,SICRO!$A:$D,2,FALSE),VLOOKUP(C22,CPUS!$B:$H,3,FALSE)))))),"") -> REMOÇÃO MECANIZADA DE REVESTIMENTO ASFÁLTICO | E22: =IFERROR(IFERROR(VLOOKUP(C22,SINAPI!$A:$D,3,FALSE),IFERROR(VLOOKUP(C22,SETOP!$A:$E,4,FALSE),IFERROR(VLOOKUP(C22,SETOP!$B:$E,3,FALSE),IFERROR(VLOOKUP(C22,SUDECAP!$A:$D,3,FALSE),IFERROR(VLOOKUP(C22,SICRO!$A:$D,3,FALSE),VLOOKUP(C22,CPUS!$B:$H,4,FALSE)))))),"") -> M³ | F22: =6955.43*0.1 -> 695.543 | G22: =IFERROR(IFERROR(VLOOKUP(C22,SINAPI!$A:$D,4,FALSE),IFERROR(VLOOKUP(C22,SETOP!$A:$E,5,FALSE),IFERROR(VLOOKUP(C22,SETOP!$B:$E,4,FALSE),IFERROR(VLOOKUP(C22,SUDECAP!$A:$D,4,FALSE),IFERROR(VLOOKUP(C22,SICRO!$A:$D,4,FALSE),VLOOKUP(C22,CPUS!$B:$H,7,FALSE)))))),0) -> 12.03 | H22: =TRUNC(F22*G22,2) -> 8367.38 | I22: =TRUNC(G22*(1+$H$3),2) -> 14.84 | J22: =TRUNC(I22*F22,2) -> 10321.85
A23: 4.3 | B23: =IF(IFERROR(VLOOKUP(C23,SINAPI!$A:$D,1,FALSE),"")=C23,"SINAPI",IF(IFERROR(VLOOKUP(C23,SETOP!$A:$E,1,FALSE),"")=C23,"SETOP",IF(IFERROR(VLOOKUP(C23,SUDECAP!$A:$D,1,FALSE),"")=C23,"SUDECAP",IF(IFERROR(VLOOKUP(C23,SICRO!$A:$D,1,FALSE),"")=C23,"SICRO","COMPOSIÇÃO")))) -> COMPOSIÇÃO | C23: CPU-1766 | D23: =IFERROR(IFERROR(VLOOKUP(C23,SINAPI!$A:$D,2,FALSE),IFERROR(VLOOKUP(C23,SETOP!$A:$E,3,FALSE),IFERROR(VLOOKUP(C23,SETOP!$B:$E,2,FALSE),IFERROR(VLOOKUP(C23,SUDECAP!$A:$D,2,FALSE),IFERROR(VLOOKUP(C23,SICRO!$A:$D,2,FALSE),VLOOKUP(C23,CPUS!$B:$H,3,FALSE)))))),"") -> REMOÇÃO DE MEIO-FIO DE CONCRETO SEM REAPROVEITAMENTO | E23: =IFERROR(IFERROR(VLOOKUP(C23,SINAPI!$A:$D,3,FALSE),IFERROR(VLOOKUP(C23,SETOP!$A:$E,4,FALSE),IFERROR(VLOOKUP(C23,SETOP!$B:$E,3,FALSE),IFERROR(VLOOKUP(C23,SUDECAP!$A:$D,3,FALSE),IFERROR(VLOOKUP(C23,SICRO!$A:$D,3,FALSE),VLOOKUP(C23,CPUS!$B:$H,4,FALSE)))))),"") -> M | F23: 163.67 | G23: =IFERROR(IFERROR(VLOOKUP(C23,SINAPI!$A:$D,4,FALSE),IFERROR(VLOOKUP(C23,SETOP!$A:$E,5,FALSE),IFERROR(VLOOKUP(C23,SETOP!$B:$E,4,FALSE),IFERROR(VLOOKUP(C23,SUDECAP!$A:$D,4,FALSE),IFERROR(VLOOKUP(C23,SICRO!$A:$D,4,FALSE),VLOOKUP(C23,CPUS!$B:$H,7,FALSE)))))),0) -> 37.47 | H23: =TRUNC(F23*G23,2) -> 6132.71 | I23: =TRUNC(G23*(1+$H$3),2) -> 46.23 | J23: =TRUNC(I23*F23,2) -> 7566.46
A24: 4.4 | B24: =IF(IFERROR(VLOOKUP(C24,SINAPI!$A:$D,1,FALSE),"")=C24,"SINAPI",IF(IFERROR(VLOOKUP(C24,SETOP!$A:$E,1,FALSE),"")=C24,"SETOP",IF(IFERROR(VLOOKUP(C24,SUDECAP!$A:$D,1,FALSE),"")=C24,"SUDECAP",IF(IFERROR(VLOOKUP(C24,SICRO!$A:$D,1,FALSE),"")=C24,"SICRO","COMPOSIÇÃO")))) -> COMPOSIÇÃO | C24: CPU-1767 | D24: =IFERROR(IFERROR(VLOOKUP(C24,SINAPI!$A:$D,2,FALSE),IFERROR(VLOOKUP(C24,SETOP!$A:$E,3,FALSE),IFERROR(VLOOKUP(C24,SETOP!$B:$E,2,FALSE),IFERROR(VLOOKUP(C24,SUDECAP!$A:$D,2,FALSE),IFERROR(VLOOKUP(C24,SICRO!$A:$D,2,FALSE),VLOOKUP(C24,CPUS!$B:$H,3,FALSE)))))),"") -> REMOÇÃO DE LETREIRO COM NOME DA CIDADE - COM REAPROVEITAMENTO | E24: =IFERROR(IFERROR(VLOOKUP(C24,SINAPI!$A:$D,3,FALSE),IFERROR(VLOOKUP(C24,SETOP!$A:$E,4,FALSE),IFERROR(VLOOKUP(C24,SETOP!$B:$E,3,FALSE),IFERROR(VLOOKUP(C24,SUDECAP!$A:$D,3,FALSE),IFERROR(VLOOKUP(C24,SICRO!$A:$D,3,FALSE),VLOOKUP(C24,CPUS!$B:$H,4,FALSE)))))),"") -> UND | F24: 1 | G24: =IFERROR(IFERROR(VLOOKUP(C24,SINAPI!$A:$D,4,FALSE),IFERROR(VLOOKUP(C24,SETOP!$A:$E,5,FALSE),IFERROR(VLOOKUP(C24,SETOP!$B:$E,4,FALSE),IFERROR(VLOOKUP(C24,SUDECAP!$A:$D,4,FALSE),IFERROR(VLOOKUP(C24,SICRO!$A:$D,4,FALSE),VLOOKUP(C24,CPUS!$B:$H,7,FALSE)))))),0) -> 235.2 | H24: =TRUNC(F24*G24,2) -> 235.2 | I24: =TRUNC(G24*(1+$H$3),2) -> 290.18 | J24: =TRUNC(I24*F24,2) -> 290.18
A25: 4.5 | B25: =IF(IFERROR(VLOOKUP(C25,SINAPI!$A:$D,1,FALSE),"")=C25,"SINAPI",IF(IFERROR(VLOOKUP(C25,SETOP!$A:$E,1,FALSE),"")=C25,"SETOP",IF(IFERROR(VLOOKUP(C25,SUDECAP!$A:$D,1,FALSE),"")=C25,"SUDECAP",IF(IFERROR(VLOOKUP(C25,SICRO!$A:$D,1,FALSE),"")=C25,"SICRO","COMPOSIÇÃO")))) -> SETOP | C25: ED-50699 | D25: =IFERROR(IFERROR(VLOOKUP(C25,SINAPI!$A:$D,2,FALSE),IFERROR(VLOOKUP(C25,SETOP!$A:$E,3,FALSE),IFERROR(VLOOKUP(C25,SETOP!$B:$E,2,FALSE),IFERROR(VLOOKUP(C25,SUDECAP!$A:$D,2,FALSE),IFERROR(VLOOKUP(C25,SICRO!$A:$D,2,FALSE),VLOOKUP(C25,CPUS!$B:$H,3,FALSE)))))),"") -> CORTE DE ÁRVORE COM MOTOSSERRA, DIÂMETRO DO TRONCO ACIMA DE TRINTA (30) CENTÍMETROS ATÉ CINQUENTA (50) CENTÍMETROS, EXCLUSIVE DESTOCAMENTO E AFASTAMENTO | E25: =IFERROR(IFERROR(VLOOKUP(C25,SINAPI!$A:$D,3,FALSE),IFERROR(VLOOKUP(C25,SETOP!$A:$E,4,FALSE),IFERROR(VLOOKUP(C25,SETOP!$B:$E,3,FALSE),IFERROR(VLOOKUP(C25,SUDECAP!$A:$D,3,FALSE),IFERROR(VLOOKUP(C25,SICRO!$A:$D,3,FALSE),VLOOKUP(C25,CPUS!$B:$H,4,FALSE)))))),"") -> UN | F25: 1 | G25: =IFERROR(IFERROR(VLOOKUP(C25,SINAPI!$A:$D,4,FALSE),IFERROR(VLOOKUP(C25,SETOP!$A:$E,5,FALSE),IFERROR(VLOOKUP(C25,SETOP!$B:$E,4,FALSE),IFERROR(VLOOKUP(C25,SUDECAP!$A:$D,4,FALSE),IFERROR(VLOOKUP(C25,SICRO!$A:$D,4,FALSE),VLOOKUP(C25,CPUS!$B:$H,7,FALSE)))))),0) -> 90.47 | H25: =TRUNC(F25*G25,2) -> 90.47 | I25: =TRUNC(G25*(1+$H$3),2) -> 111.62 | J25: =TRUNC(I25*F25,2) -> 111.62
A26: 4.6 | B26: =IF(IFERROR(VLOOKUP(C26,SINAPI!$A:$D,1,FALSE),"")=C26,"SINAPI",IF(IFERROR(VLOOKUP(C26,SETOP!$A:$E,1,FALSE),"")=C26,"SETOP",IF(IFERROR(VLOOKUP(C26,SUDECAP!$A:$D,1,FALSE),"")=C26,"SUDECAP",IF(IFERROR(VLOOKUP(C26,SICRO!$A:$D,1,FALSE),"")=C26,"SICRO","COMPOSIÇÃO")))) -> SETOP | C26: ED-28163 | D26: =IFERROR(IFERROR(VLOOKUP(C26,SINAPI!$A:$D,2,FALSE),IFERROR(VLOOKUP(C26,SETOP!$A:$E,3,FALSE),IFERROR(VLOOKUP(C26,SETOP!$B:$E,2,FALSE),IFERROR(VLOOKUP(C26,SUDECAP!$A:$D,2,FALSE),IFERROR(VLOOKUP(C26,SICRO!$A:$D,2,FALSE),VLOOKUP(C26,CPUS!$B:$H,3,FALSE)))))),"") -> DESTOCAMENTO E AFASTAMENTO DE REMANESCENTE ARBÓREO, INCLUSIVE TRANSPORTE E RETIRADA DO MATERIAL ESCAVADO (EM CAÇAMBA) | E26: =IFERROR(IFERROR(VLOOKUP(C26,SINAPI!$A:$D,3,FALSE),IFERROR(VLOOKUP(C26,SETOP!$A:$E,4,FALSE),IFERROR(VLOOKUP(C26,SETOP!$B:$E,3,FALSE),IFERROR(VLOOKUP(C26,SUDECAP!$A:$D,3,FALSE),IFERROR(VLOOKUP(C26,SICRO!$A:$D,3,FALSE),VLOOKUP(C26,CPUS!$B:$H,4,FALSE)))))),"") -> UN | F26: 1 | G26: =IFERROR(IFERROR(VLOOKUP(C26,SINAPI!$A:$D,4,FALSE),IFERROR(VLOOKUP(C26,SETOP!$A:$E,5,FALSE),IFERROR(VLOOKUP(C26,SETOP!$B:$E,4,FALSE),IFERROR(VLOOKUP(C26,SUDECAP!$A:$D,4,FALSE),IFERROR(VLOOKUP(C26,SICRO!$A:$D,4,FALSE),VLOOKUP(C26,CPUS!$B:$H,7,FALSE)))))),0) -> 459.35 | H26: =TRUNC(F26*G26,2) -> 459.35 | I26: =TRUNC(G26*(1+$H$3),2) -> 566.74 | J26: =TRUNC(I26*F26,2) -> 566.74
A27: 4.7 | B27: =IF(IFERROR(VLOOKUP(C27,SINAPI!$A:$D,1,FALSE),"")=C27,"SINAPI",IF(IFERROR(VLOOKUP(C27,SETOP!$A:$E,1,FALSE),"")=C27,"SETOP",IF(IFERROR(VLOOKUP(C27,SUDECAP!$A:$D,1,FALSE),"")=C27,"SUDECAP",IF(IFERROR(VLOOKUP(C27,SICRO!$A:$D,1,FALSE),"")=C27,"SICRO","COMPOSIÇÃO")))) -> SETOP | C27: ED-48445 | D27: =IFERROR(IFERROR(VLOOKUP(C27,SINAPI!$A:$D,2,FALSE),IFERROR(VLOOKUP(C27,SETOP!$A:$E,3,FALSE),IFERROR(VLOOKUP(C27,SETOP!$B:$E,2,FALSE),IFERROR(VLOOKUP(C27,SUDECAP!$A:$D,2,FALSE),IFERROR(VLOOKUP(C27,SICRO!$A:$D,2,FALSE),VLOOKUP(C27,CPUS!$B:$H,3,FALSE)))))),"") -> DEMOLIÇÃO MECANIZADA DE CONCRETO ARMADO, COM EQUIPAMENTO PNEUMÁTICO, INCLUSIVE AFASTAMENTO E EMPILHAMENTO, EXCLUSIVE TRANSPORTE E RETIRADA DO MATERIAL DEMOLIDO | E27: =IFERROR(IFERROR(VLOOKUP(C27,SINAPI!$A:$D,3,FALSE),IFERROR(VLOOKUP(C27,SETOP!$A:$E,4,FALSE),IFERROR(VLOOKUP(C27,SETOP!$B:$E,3,FALSE),IFERROR(VLOOKUP(C27,SUDECAP!$A:$D,3,FALSE),IFERROR(VLOOKUP(C27,SICRO!$A:$D,3,FALSE),VLOOKUP(C27,CPUS!$B:$H,4,FALSE)))))),"") -> M3 | F27: 2.11 | G27: =IFERROR(IFERROR(VLOOKUP(C27,SINAPI!$A:$D,4,FALSE),IFERROR(VLOOKUP(C27,SETOP!$A:$E,5,FALSE),IFERROR(VLOOKUP(C27,SETOP!$B:$E,4,FALSE),IFERROR(VLOOKUP(C27,SUDECAP!$A:$D,4,FALSE),IFERROR(VLOOKUP(C27,SICRO!$A:$D,4,FALSE),VLOOKUP(C27,CPUS!$B:$H,7,FALSE)))))),0) -> 309.79 | H27: =TRUNC(F27*G27,2) -> 653.65 | I27: =TRUNC(G27*(1+$H$3),2) -> 382.21 | J27: =TRUNC(I27*F27,2) -> 806.46
A28: 4.8 | B28: =IF(IFERROR(VLOOKUP(C28,SINAPI!$A:$D,1,FALSE),"")=C28,"SINAPI",IF(IFERROR(VLOOKUP(C28,SETOP!$A:$E,1,FALSE),"")=C28,"SETOP",IF(IFERROR(VLOOKUP(C28,SUDECAP!$A:$D,1,FALSE),"")=C28,"SUDECAP",IF(IFERROR(VLOOKUP(C28,SICRO!$A:$D,1,FALSE),"")=C28,"SICRO","COMPOSIÇÃO")))) -> SETOP | C28: RO-43014 | D28: =IFERROR(IFERROR(VLOOKUP(C28,SINAPI!$A:$D,2,FALSE),IFERROR(VLOOKUP(C28,SETOP!$A:$E,3,FALSE),IFERROR(VLOOKUP(C28,SETOP!$B:$E,2,FALSE),IFERROR(VLOOKUP(C28,SUDECAP!$A:$D,2,FALSE),IFERROR(VLOOKUP(C28,SICRO!$A:$D,2,FALSE),VLOOKUP(C28,CPUS!$B:$H,3,FALSE)))))),"") -> REMOÇÃO DE PLACAS | E28: =IFERROR(IFERROR(VLOOKUP(C28,SINAPI!$A:$D,3,FALSE),IFERROR(VLOOKUP(C28,SETOP!$A:$E,4,FALSE),IFERROR(VLOOKUP(C28,SETOP!$B:$E,3,FALSE),IFERROR(VLOOKUP(C28,SUDECAP!$A:$D,3,FALSE),IFERROR(VLOOKUP(C28,SICRO!$A:$D,3,FALSE),VLOOKUP(C28,CPUS!$B:$H,4,FALSE)))))),"") -> U | F28: 10 | G28: =IFERROR(IFERROR(VLOOKUP(C28,SINAPI!$A:$D,4,FALSE),IFERROR(VLOOKUP(C28,SETOP!$A:$E,5,FALSE),IFERROR(VLOOKUP(C28,SETOP!$B:$E,4,FALSE),IFERROR(VLOOKUP(C28,SUDECAP!$A:$D,4,FALSE),IFERROR(VLOOKUP(C28,SICRO!$A:$D,4,FALSE),VLOOKUP(C28,CPUS!$B:$H,7,FALSE)))))),0) -> 16.8 | H28: =TRUNC(F28*G28,2) -> 168 | I28: =TRUNC(G28*(1+$H$3),2) -> 20.72 | J28: =TRUNC(I28*F28,2) -> 207.2
A29: 4.9 | B29: =IF(IFERROR(VLOOKUP(C29,SINAPI!$A:$D,1,FALSE),"")=C29,"SINAPI",IF(IFERROR(VLOOKUP(C29,SETOP!$A:$E,1,FALSE),"")=C29,"SETOP",IF(IFERROR(VLOOKUP(C29,SUDECAP!$A:$D,1,FALSE),"")=C29,"SUDECAP",IF(IFERROR(VLOOKUP(C29,SICRO!$A:$D,1,FALSE),"")=C29,"SICRO","COMPOSIÇÃO")))) -> SINAPI | C29: 95875 | D29: =IFERROR(IFERROR(VLOOKUP(C29,SINAPI!$A:$D,2,FALSE),IFERROR(VLOOKUP(C29,SETOP!$A:$E,3,FALSE),IFERROR(VLOOKUP(C29,SETOP!$B:$E,2,FALSE),IFERROR(VLOOKUP(C29,SUDECAP!$A:$D,2,FALSE),IFERROR(VLOOKUP(C29,SICRO!$A:$D,2,FALSE),VLOOKUP(C29,CPUS!$B:$H,3,FALSE)))))),"") -> TRANSPORTE COM CAMINHÃO BASCULANTE DE 10 M³, EM VIA URBANA PAVIMENTADA, DMT ATÉ 30 KM (UNIDADE: M3XKM). AF_07/2020 | E29: =IFERROR(IFERROR(VLOOKUP(C29,SINAPI!$A:$D,3,FALSE),IFERROR(VLOOKUP(C29,SETOP!$A:$E,4,FALSE),IFERROR(VLOOKUP(C29,SETOP!$B:$E,3,FALSE),IFERROR(VLOOKUP(C29,SUDECAP!$A:$D,3,FALSE),IFERROR(VLOOKUP(C29,SICRO!$A:$D,3,FALSE),VLOOKUP(C29,CPUS!$B:$H,4,FALSE)))))),"") -> M3XKM | F29: =(((F22+F27)*1.4)+(F21*1.3)+(F23*0.3*0.15*1.4))*15 -> 84218.907 | G29: =IFERROR(IFERROR(VLOOKUP(C29,SINAPI!$A:$D,4,FALSE),IFERROR(VLOOKUP(C29,SETOP!$A:$E,5,FALSE),IFERROR(VLOOKUP(C29,SETOP!$B:$E,4,FALSE),IFERROR(VLOOKUP(C29,SUDECAP!$A:$D,4,FALSE),IFERROR(VLOOKUP(C29,SICRO!$A:$D,4,FALSE),VLOOKUP(C29,CPUS!$B:$H,7,FALSE)))))),0) -> 2.45 | H29: =TRUNC(F29*G29,2) -> 206336.32 | I29: =TRUNC(G29*(1+$H$3),2) -> 3.02 | J29: =TRUNC(I29*F29,2) -> 254341.09
A30: 5 | D30: TERRAPLENAGEM | J30: =J31+J35 -> 401684.78
A31: 5.1 | D31: CORTE | J31: =SUM(J32:J34) -> 400356.53
A32: 5.1.1 | B32: =IF(IFERROR(VLOOKUP(C32,SINAPI!$A:$D,1,FALSE),"")=C32,"SINAPI",IF(IFERROR(VLOOKUP(C32,SETOP!$A:$E,1,FALSE),"")=C32,"SETOP",IF(IFERROR(VLOOKUP(C32,SUDECAP!$A:$D,1,FALSE),"")=C32,"SUDECAP",IF(IFERROR(VLOOKUP(C32,SICRO!$A:$D,1,FALSE),"")=C32,"SICRO","COMPOSIÇÃO")))) -> SETOP | C32: RO-40148 | D32: =IFERROR(IFERROR(VLOOKUP(C32,SINAPI!$A:$D,2,FALSE),IFERROR(VLOOKUP(C32,SETOP!$A:$E,3,FALSE),IFERROR(VLOOKUP(C32,SETOP!$B:$E,2,FALSE),IFERROR(VLOOKUP(C32,SUDECAP!$A:$D,2,FALSE),IFERROR(VLOOKUP(C32,SICRO!$A:$D,2,FALSE),VLOOKUP(C32,CPUS!$B:$H,3,FALSE)))))),"") -> ESCAVAÇÃO, CARGA E TRANSPORTE DE MATERIAL DE 1ª CATEGORIA - EXECUTADO COM ESCAVADEIRA DE 1,40 M³ E CAMINHÃO BASCULANTE DE 12 M³ E COM CAMINHO DE SERVIÇO EM LEITO NATURAL - DMT DE 50 A 200 M | E32: =IFERROR(IFERROR(VLOOKUP(C32,SINAPI!$A:$D,3,FALSE),IFERROR(VLOOKUP(C32,SETOP!$A:$E,4,FALSE),IFERROR(VLOOKUP(C32,SETOP!$B:$E,3,FALSE),IFERROR(VLOOKUP(C32,SUDECAP!$A:$D,3,FALSE),IFERROR(VLOOKUP(C32,SICRO!$A:$D,3,FALSE),VLOOKUP(C32,CPUS!$B:$H,4,FALSE)))))),"") -> M3 | F32: 5696.03 | G32: =IFERROR(IFERROR(VLOOKUP(C32,SINAPI!$A:$D,4,FALSE),IFERROR(VLOOKUP(C32,SETOP!$A:$E,5,FALSE),IFERROR(VLOOKUP(C32,SETOP!$B:$E,4,FALSE),IFERROR(VLOOKUP(C32,SUDECAP!$A:$D,4,FALSE),IFERROR(VLOOKUP(C32,SICRO!$A:$D,4,FALSE),VLOOKUP(C32,CPUS!$B:$H,7,FALSE)))))),0) -> 6.41 | H32: =TRUNC(F32*G32,2) -> 36511.55 | I32: =TRUNC(G32*(1+$H$3),2) -> 7.9 | J32: =TRUNC(I32*F32,2) -> 44998.63
A33: 5.1.2 | B33: =IF(IFERROR(VLOOKUP(C33,SINAPI!$A:$D,1,FALSE),"")=C33,"SINAPI",IF(IFERROR(VLOOKUP(C33,SETOP!$A:$E,1,FALSE),"")=C33,"SETOP",IF(IFERROR(VLOOKUP(C33,SUDECAP!$A:$D,1,FALSE),"")=C33,"SUDECAP",IF(IFERROR(VLOOKUP(C33,SICRO!$A:$D,1,FALSE),"")=C33,"SICRO","COMPOSIÇÃO")))) -> SINAPI | C33: 95875 | D33: =IFERROR(IFERROR(VLOOKUP(C33,SINAPI!$A:$D,2,FALSE),IFERROR(VLOOKUP(C33,SETOP!$A:$E,3,FALSE),IFERROR(VLOOKUP(C33,SETOP!$B:$E,2,FALSE),IFERROR(VLOOKUP(C33,SUDECAP!$A:$D,2,FALSE),IFERROR(VLOOKUP(C33,SICRO!$A:$D,2,FALSE),VLOOKUP(C33,CPUS!$B:$H,3,FALSE)))))),"") -> TRANSPORTE COM CAMINHÃO BASCULANTE DE 10 M³, EM VIA URBANA PAVIMENTADA, DMT ATÉ 30 KM (UNIDADE: M3XKM). AF_07/2020 | E33: =IFERROR(IFERROR(VLOOKUP(C33,SINAPI!$A:$D,3,FALSE),IFERROR(VLOOKUP(C33,SETOP!$A:$E,4,FALSE),IFERROR(VLOOKUP(C33,SETOP!$B:$E,3,FALSE),IFERROR(VLOOKUP(C33,SUDECAP!$A:$D,3,FALSE),IFERROR(VLOOKUP(C33,SICRO!$A:$D,3,FALSE),VLOOKUP(C33,CPUS!$B:$H,4,FALSE)))))),"") -> M3XKM | F33: =5517.98*1.3*15 -> 107600.61 | G33: =IFERROR(IFERROR(VLOOKUP(C33,SINAPI!$A:$D,4,FALSE),IFERROR(VLOOKUP(C33,SETOP!$A:$E,5,FALSE),IFERROR(VLOOKUP(C33,SETOP!$B:$E,4,FALSE),IFERROR(VLOOKUP(C33,SUDECAP!$A:$D,4,FALSE),IFERROR(VLOOKUP(C33,SICRO!$A:$D,4,FALSE),VLOOKUP(C33,CPUS!$B:$H,7,FALSE)))))),0) -> 2.45 | H33: =TRUNC(F33*G33,2) -> 263621.49 | I33: =TRUNC(G33*(1+$H$3),2) -> 3.02 | J33: =TRUNC(I33*F33,2) -> 324953.84
A34: 5.1.3 | B34: =IF(IFERROR(VLOOKUP(C34,SINAPI!$A:$D,1,FALSE),"")=C34,"SINAPI",IF(IFERROR(VLOOKUP(C34,SETOP!$A:$E,1,FALSE),"")=C34,"SETOP",IF(IFERROR(VLOOKUP(C34,SUDECAP!$A:$D,1,FALSE),"")=C34,"SUDECAP",IF(IFERROR(VLOOKUP(C34,SICRO!$A:$D,1,FALSE),"")=C34,"SICRO","COMPOSIÇÃO")))) -> SETOP | C34: RO-40249 | D34: =IFERROR(IFERROR(VLOOKUP(C34,SINAPI!$A:$D,2,FALSE),IFERROR(VLOOKUP(C34,SETOP!$A:$E,3,FALSE),IFERROR(VLOOKUP(C34,SETOP!$B:$E,2,FALSE),IFERROR(VLOOKUP(C34,SUDECAP!$A:$D,2,FALSE),IFERROR(VLOOKUP(C34,SICRO!$A:$D,2,FALSE),VLOOKUP(C34,CPUS!$B:$H,3,FALSE)))))),"") -> COMPACTAÇÃO DE ATERROS A 95% DO PROCTOR NORMAL (INCLUI ESPALHAMENTO) | E34: =IFERROR(IFERROR(VLOOKUP(C34,SINAPI!$A:$D,3,FALSE),IFERROR(VLOOKUP(C34,SETOP!$A:$E,4,FALSE),IFERROR(VLOOKUP(C34,SETOP!$B:$E,3,FALSE),IFERROR(VLOOKUP(C34,SUDECAP!$A:$D,3,FALSE),IFERROR(VLOOKUP(C34,SICRO!$A:$D,3,FALSE),VLOOKUP(C34,CPUS!$B:$H,4,FALSE)))))),"") -> M3 | F34: 5517.98 | G34: =IFERROR(IFERROR(VLOOKUP(C34,SINAPI!$A:$D,4,FALSE),IFERROR(VLOOKUP(C34,SETOP!$A:$E,5,FALSE),IFERROR(VLOOKUP(C34,SETOP!$B:$E,4,FALSE),IFERROR(VLOOKUP(C34,SUDECAP!$A:$D,4,FALSE),IFERROR(VLOOKUP(C34,SICRO!$A:$D,4,FALSE),VLOOKUP(C34,CPUS!$B:$H,7,FALSE)))))),0) -> 4.47 | H34: =TRUNC(F34*G34,2) -> 24665.37 | I34: =TRUNC(G34*(1+$H$3),2) -> 5.51 | J34: =TRUNC(I34*F34,2) -> 30404.06
A35: 5.2 | D35: ATERRO | J35: =J36 -> 1328.25
A36: 5.2.1 | B36: =IF(IFERROR(VLOOKUP(C36,SINAPI!$A:$D,1,FALSE),"")=C36,"SINAPI",IF(IFERROR(VLOOKUP(C36,SETOP!$A:$E,1,FALSE),"")=C36,"SETOP",IF(IFERROR(VLOOKUP(C36,SUDECAP!$A:$D,1,FALSE),"")=C36,"SUDECAP",IF(IFERROR(VLOOKUP(C36,SICRO!$A:$D,1,FALSE),"")=C36,"SICRO","COMPOSIÇÃO")))) -> SETOP | C36: RO-40252 | D36: =IFERROR(IFERROR(VLOOKUP(C36,SINAPI!$A:$D,2,FALSE),IFERROR(VLOOKUP(C36,SETOP!$A:$E,3,FALSE),IFERROR(VLOOKUP(C36,SETOP!$B:$E,2,FALSE),IFERROR(VLOOKUP(C36,SUDECAP!$A:$D,2,FALSE),IFERROR(VLOOKUP(C36,SICRO!$A:$D,2,FALSE),VLOOKUP(C36,CPUS!$B:$H,3,FALSE)))))),"") -> COMPACTAÇÃO DE ATERROS A 100% DO PROCTOR INTERMEDIÁRIO (INCLUI ESPALHAMENTO) | E36: =IFERROR(IFERROR(VLOOKUP(C36,SINAPI!$A:$D,3,FALSE),IFERROR(VLOOKUP(C36,SETOP!$A:$E,4,FALSE),IFERROR(VLOOKUP(C36,SETOP!$B:$E,3,FALSE),IFERROR(VLOOKUP(C36,SUDECAP!$A:$D,3,FALSE),IFERROR(VLOOKUP(C36,SICRO!$A:$D,3,FALSE),VLOOKUP(C36,CPUS!$B:$H,4,FALSE)))))),"") -> M3 | F36: 178.05 | G36: =IFERROR(IFERROR(VLOOKUP(C36,SINAPI!$A:$D,4,FALSE),IFERROR(VLOOKUP(C36,SETOP!$A:$E,5,FALSE),IFERROR(VLOOKUP(C36,SETOP!$B:$E,4,FALSE),IFERROR(VLOOKUP(C36,SUDECAP!$A:$D,4,FALSE),IFERROR(VLOOKUP(C36,SICRO!$A:$D,4,FALSE),VLOOKUP(C36,CPUS!$B:$H,7,FALSE)))))),0) -> 6.05 | H36: =TRUNC(F36*G36,2) -> 1077.2 | I36: =TRUNC(G36*(1+$H$3),2) -> 7.46 | J36: =TRUNC(I36*F36,2) -> 1328.25
A37: 6 | D37: PAVIMENTAÇÃO | J37: =SUM(J38:J50) -> 2399605.6
A38: 6.1 | B38: =IF(IFERROR(VLOOKUP(C38,SINAPI!$A:$D,1,FALSE),"")=C38,"SINAPI",IF(IFERROR(VLOOKUP(C38,SETOP!$A:$E,1,FALSE),"")=C38,"SETOP",IF(IFERROR(VLOOKUP(C38,SUDECAP!$A:$D,1,FALSE),"")=C38,"SUDECAP",IF(IFERROR(VLOOKUP(C38,SICRO!$A:$D,1,FALSE),"")=C38,"SICRO","COMPOSIÇÃO")))) -> SETOP | C38: RO-41083 | D38: =IFERROR(IFERROR(VLOOKUP(C38,SINAPI!$A:$D,2,FALSE),IFERROR(VLOOKUP(C38,SETOP!$A:$E,3,FALSE),IFERROR(VLOOKUP(C38,SETOP!$B:$E,2,FALSE),IFERROR(VLOOKUP(C38,SUDECAP!$A:$D,2,FALSE),IFERROR(VLOOKUP(C38,SICRO!$A:$D,2,FALSE),VLOOKUP(C38,CPUS!$B:$H,3,FALSE)))))),"") -> REGULARIZAÇÃO DO SUB-LEITO (PROCTOR INTERNORMAL) | E38: =IFERROR(IFERROR(VLOOKUP(C38,SINAPI!$A:$D,3,FALSE),IFERROR(VLOOKUP(C38,SETOP!$A:$E,4,FALSE),IFERROR(VLOOKUP(C38,SETOP!$B:$E,3,FALSE),IFERROR(VLOOKUP(C38,SUDECAP!$A:$D,3,FALSE),IFERROR(VLOOKUP(C38,SICRO!$A:$D,3,FALSE),VLOOKUP(C38,CPUS!$B:$H,4,FALSE)))))),"") -> M2 | F38: 8899.17 | G38: =IFERROR(IFERROR(VLOOKUP(C38,SINAPI!$A:$D,4,FALSE),IFERROR(VLOOKUP(C38,SETOP!$A:$E,5,FALSE),IFERROR(VLOOKUP(C38,SETOP!$B:$E,4,FALSE),IFERROR(VLOOKUP(C38,SUDECAP!$A:$D,4,FALSE),IFERROR(VLOOKUP(C38,SICRO!$A:$D,4,FALSE),VLOOKUP(C38,CPUS!$B:$H,7,FALSE)))))),0) -> 1.28 | H38: =TRUNC(F38*G38,2) -> 11390.93 | I38: =TRUNC(G38*(1+$H$3),2) -> 1.57 | J38: =TRUNC(I38*F38,2) -> 13971.69
A39: 6.2 | B39: =IF(IFERROR(VLOOKUP(C39,SINAPI!$A:$D,1,FALSE),"")=C39,"SINAPI",IF(IFERROR(VLOOKUP(C39,SETOP!$A:$E,1,FALSE),"")=C39,"SETOP",IF(IFERROR(VLOOKUP(C39,SUDECAP!$A:$D,1,FALSE),"")=C39,"SUDECAP",IF(IFERROR(VLOOKUP(C39,SICRO!$A:$D,1,FALSE),"")=C39,"SICRO","COMPOSIÇÃO")))) -> SETOP | C39: RO-41093 | D39: =IFERROR(IFERROR(VLOOKUP(C39,SINAPI!$A:$D,2,FALSE),IFERROR(VLOOKUP(C39,SETOP!$A:$E,3,FALSE),IFERROR(VLOOKUP(C39,SETOP!$B:$E,2,FALSE),IFERROR(VLOOKUP(C39,SUDECAP!$A:$D,2,FALSE),IFERROR(VLOOKUP(C39,SICRO!$A:$D,2,FALSE),VLOOKUP(C39,CPUS!$B:$H,3,FALSE)))))),"") -> REFORÇO DO SUB-LEITO (EXECUÇÃO, INCLUINDO ESCAVAÇÃO, CARGA, DESCARGA, HOMOGENIZAÇÃO, UMIDECIMENTO, ESPALHAMENTO E COMPACTAÇÃO DO MATERIAL) | E39: =IFERROR(IFERROR(VLOOKUP(C39,SINAPI!$A:$D,3,FALSE),IFERROR(VLOOKUP(C39,SETOP!$A:$E,4,FALSE),IFERROR(VLOOKUP(C39,SETOP!$B:$E,3,FALSE),IFERROR(VLOOKUP(C39,SUDECAP!$A:$D,3,FALSE),IFERROR(VLOOKUP(C39,SICRO!$A:$D,3,FALSE),VLOOKUP(C39,CPUS!$B:$H,4,FALSE)))))),"") -> M3 | F39: 1779.84 | G39: =IFERROR(IFERROR(VLOOKUP(C39,SINAPI!$A:$D,4,FALSE),IFERROR(VLOOKUP(C39,SETOP!$A:$E,5,FALSE),IFERROR(VLOOKUP(C39,SETOP!$B:$E,4,FALSE),IFERROR(VLOOKUP(C39,SUDECAP!$A:$D,4,FALSE),IFERROR(VLOOKUP(C39,SICRO!$A:$D,4,FALSE),VLOOKUP(C39,CPUS!$B:$H,7,FALSE)))))),0) -> 17.05 | H39: =TRUNC(F39*G39,2) -> 30346.27 | I39: =TRUNC(G39*(1+$H$3),2) -> 21.03 | J39: =TRUNC(I39*F39,2) -> 37430.03
A40: 6.3 | B40: =IF(IFERROR(VLOOKUP(C40,SINAPI!$A:$D,1,FALSE),"")=C40,"SINAPI",IF(IFERROR(VLOOKUP(C40,SETOP!$A:$E,1,FALSE),"")=C40,"SETOP",IF(IFERROR(VLOOKUP(C40,SUDECAP!$A:$D,1,FALSE),"")=C40,"SUDECAP",IF(IFERROR(VLOOKUP(C40,SICRO!$A:$D,1,FALSE),"")=C40,"SICRO","COMPOSIÇÃO")))) -> SINAPI | C40: 101767 | D40: =IFERROR(IFERROR(VLOOKUP(C40,SINAPI!$A:$D,2,FALSE),IFERROR(VLOOKUP(C40,SETOP!$A:$E,3,FALSE),IFERROR(VLOOKUP(C40,SETOP!$B:$E,2,FALSE),IFERROR(VLOOKUP(C40,SUDECAP!$A:$D,2,FALSE),IFERROR(VLOOKUP(C40,SICRO!$A:$D,2,FALSE),VLOOKUP(C40,CPUS!$B:$H,3,FALSE)))))),"") -> EXECUÇÃO E COMPACTAÇÃO DE BASE E OU SUB BASE PARA PAVIMENTAÇÃO DE SOLOS ESTABILIZADOS GRANULOMETRICAMENTE COM MISTURA DE SOLOS EM PISTA - EXCLUSIVE SOLO, ESCAVAÇÃO, CARGA E TRANSPORTE. AF_11/2019 | E40: =IFERROR(IFERROR(VLOOKUP(C40,SINAPI!$A:$D,3,FALSE),IFERROR(VLOOKUP(C40,SETOP!$A:$E,4,FALSE),IFERROR(VLOOKUP(C40,SETOP!$B:$E,3,FALSE),IFERROR(VLOOKUP(C40,SUDECAP!$A:$D,3,FALSE),IFERROR(VLOOKUP(C40,SICRO!$A:$D,3,FALSE),VLOOKUP(C40,CPUS!$B:$H,4,FALSE)))))),"") -> M3 | F40: 1654.31 | G40: =IFERROR(IFERROR(VLOOKUP(C40,SINAPI!$A:$D,4,FALSE),IFERROR(VLOOKUP(C40,SETOP!$A:$E,5,FALSE),IFERROR(VLOOKUP(C40,SETOP!$B:$E,4,FALSE),IFERROR(VLOOKUP(C40,SUDECAP!$A:$D,4,FALSE),IFERROR(VLOOKUP(C40,SICRO!$A:$D,4,FALSE),VLOOKUP(C40,CPUS!$B:$H,7,FALSE)))))),0) -> 28.33 | H40: =TRUNC(F40*G40,2) -> 46866.6 | I40: =TRUNC(G40*(1+$H$3),2) -> 34.95 | J40: =TRUNC(I40*F40,2) -> 57818.13
...

Sheet CÁLCULO
A1: MEMÓRIA DE CÁLCULO | I1: =PLANILHA!I1 -> DATA: 15/03/2024
A2: CLIENTE: | C2: PREFEITURA MUNICIPAL DE BRUMADINHO | G2: (X) ONERADO ( ) DESONERADO | I2: BASES ORÇAMENTÁRIAS:
A3: OBRA: | C3: TREVO DE ENTRADA DA CIDADE | G3: BDI: | H3: =BDI!I32 -> 0.2338 | I3: ABRIL/2023 - SETOP (CENTRAL); JULHO/2023 - SINAPI; ABRIL/2023 - SUDECAP; ABRIL/2023 - SICRO.
A4: ENDEREÇO: | C4: RODOVIA MG-040 COM ESTRADA PARA ALBERTO FLORES - CEP: 35460-000 | G4: PRAZO OBRA: | H4: 7 MESES
A5: ITEM | B5: BASE DE REFERÊNCIA | C5: CÓDIGO | D5: DESCRIÇÃO | E5: UND | F5: QUANT. | G5: MEMÓRIA
A6: 1 | D6: ADMINISTRATIVO
A7: 1.1 | B7: =IF(IFERROR(VLOOKUP(C7,SINAPI!$A:$D,1,FALSE),"")=C7,"SINAPI",IF(IFERROR(VLOOKUP(C7,SETOP!$A:$E,1,FALSE),"")=C7,"SETOP",IF(IFERROR(VLOOKUP(C7,SUDECAP!$A:$D,1,FALSE),"")=C7,"SUDECAP",IF(IFERROR(VLOOKUP(C7,SICRO!$A:$D,1,FALSE),"")=C7,"SICRO","COMPOSIÇÃO")))) -> COMPOSIÇÃO | C7: CPU-001 | D7: =IFERROR(IFERROR(VLOOKUP(C7,SINAPI!$A:$D,2,FALSE),IFERROR(VLOOKUP(C7,SETOP!$A:$E,3,FALSE),IFERROR(VLOOKUP(C7,SETOP!$B:$E,2,FALSE),IFERROR(VLOOKUP(C7,SUDECAP!$A:$D,2,FALSE),IFERROR(VLOOKUP(C7,SICRO!$A:$D,2,FALSE),VLOOKUP(C7,CPUS!$B:$H,3,FALSE)))))),"") -> ADMINISTRAÇÃO LOCAL | E7: =IFERROR(IFERROR(VLOOKUP(C7,SINAPI!$A:$D,3,FALSE),IFERROR(VLOOKUP(C7,SETOP!$A:$E,4,FALSE),IFERROR(VLOOKUP(C7,SETOP!$B:$E,3,FALSE),IFERROR(VLOOKUP(C7,SUDECAP!$A:$D,3,FALSE),IFERROR(VLOOKUP(C7,SICRO!$A:$D,3,FALSE),VLOOKUP(C7,CPUS!$B:$H,4,FALSE)))))),"") -> UND | F7: 1 | G7: Administração local compreendendo os seguintes profissionais: 7 meses de encarregado; 3,5 meses de engenheiro (50% do tempo da obra); 7 meses de topógrado; 7 meses de auxiliar de topógrafo.
A8: 2 | D8: IMPLANTAÇÃO
A9: 2.1 | B9: =IF(IFERROR(VLOOKUP(C9,SINAPI!$A:$D,1,FALSE),"")=C9,"SINAPI",IF(IFERROR(VLOOKUP(C9,SETOP!$A:$E,1,FALSE),"")=C9,"SETOP",IF(IFERROR(VLOOKUP(C9,SUDECAP!$A:$D,1,FALSE),"")=C9,"SUDECAP",IF(IFERROR(VLOOKUP(C9,SICRO!$A:$D,1,FALSE),"")=C9,"SICRO","COMPOSIÇÃO")))) -> SETOP | C9: ED-50137 | D9: =IFERROR(IFERROR(VLOOKUP(C9,SINAPI!$A:$D,2,FALSE),IFERROR(VLOOKUP(C9,SETOP!$A:$E,3,FALSE),IFERROR(VLOOKUP(C9,SETOP!$B:$E,2,FALSE),IFERROR(VLOOKUP(C9,SUDECAP!$A:$D,2,FALSE),IFERROR(VLOOKUP(C9,SICRO!$A:$D,2,FALSE),VLOOKUP(C9,CPUS!$B:$H,3,FALSE)))))),"") -> MOBILIZAÇÃO E DESMOBILIZAÇÃO DE CONTAINER, INCLUSIVE CARGA, DESCARGA E TRANSPORTE EM CAMINHÃO CARROCERIA COM GUINDAUTO (MUNCK), EXCLUSIVE LOCAÇÃO DO CONTAINER | E9: =IFERROR(IFERROR(VLOOKUP(C9,SINAPI!$A:$D,3,FALSE),IFERROR(VLOOKUP(C9,SETOP!$A:$E,4,FALSE),IFERROR(VLOOKUP(C9,SETOP!$B:$E,3,FALSE),IFERROR(VLOOKUP(C9,SUDECAP!$A:$D,3,FALSE),IFERROR(VLOOKUP(C9,SICRO!$A:$D,3,FALSE),VLOOKUP(C9,CPUS!$B:$H,4,FALSE)))))),"") -> UN | F9: 3 | G9: Mobilização e desmobilização de container para a execução do canteiro central
A10: 2.2 | B10: =IF(IFERROR(VLOOKUP(C10,SINAPI!$A:$D,1,FALSE),"")=C10,"SINAPI",IF(IFERROR(VLOOKUP(C10,SETOP!$A:$E,1,FALSE),"")=C10,"SETOP",IF(IFERROR(VLOOKUP(C10,SUDECAP!$A:$D,1,FALSE),"")=C10,"SUDECAP",IF(IFERROR(VLOOKUP(C10,SICRO!$A:$D,1,FALSE),"")=C10,"SICRO","COMPOSIÇÃO")))) -> SETOP | C10: ED-16349 | D10: =IFERROR(IFERROR(VLOOKUP(C10,SINAPI!$A:$D,2,FALSE),IFERROR(VLOOKUP(C10,SETOP!$A:$E,3,FALSE),IFERROR(VLOOKUP(C10,SETOP!$B:$E,2,FALSE),IFERROR(VLOOKUP(C10,SUDECAP!$A:$D,2,FALSE),IFERROR(VLOOKUP(C10,SICRO!$A:$D,2,FALSE),VLOOKUP(C10,CPUS!$B:$H,3,FALSE)))))),"") -> LOCAÇÃO DE CONTAINER COM ISOLAMENTO TÉRMICO, TIPO 2, PARA ESCRITÓRIO DE OBRA COM SANITÁRIO CONTENDO UM (1) VASO SANITÁRIO E UM (1) LAVATÓRIO, COM MEDIDAS REFERENCIAIS DE (6) METROS COMPRIMENTO, (2,3) METROS LARGURA E (2,5) METROS ALTURA ÚTIL INTERNA, INCLUSIVE AR CONDICIONADO E LIGAÇÕES ELÉTRICAS E HIDROSSANITÁRIAS INTERNAS, EXCLUSIVE MOBILIZAÇÃO/DESMOBILIZAÇÃO E LIGAÇÕES PROVISÓRIAS EXTERNAS | E10: =IFERROR(IFERROR(VLOOKUP(C10,SINAPI!$A:$D,3,FALSE),IFERROR(VLOOKUP(C10,SETOP!$A:$E,4,FALSE),IFERROR(VLOOKUP(C10,SETOP!$B:$E,3,FALSE),IFERROR(VLOOKUP(C10,SUDECAP!$A:$D,3,FALSE),IFERROR(VLOOKUP(C10,SICRO!$A:$D,3,FALSE),VLOOKUP(C10,CPUS!$B:$H,4,FALSE)))))),"") -> MÊS | F10: 7 | G10: Locação de 1 container de escritório por 7 meses
A11: 2.3 | B11: =IF(IFERROR(VLOOKUP(C11,SINAPI!$A:$D,1,FALSE),"")=C11,"SINAPI",IF(IFERROR(VLOOKUP(C11,SETOP!$A:$E,1,FALSE),"")=C11,"SETOP",IF(IFERROR(VLOOKUP(C11,SUDECAP!$A:$D,1,FALSE),"")=C11,"SUDECAP",IF(IFERROR(VLOOKUP(C11,SICRO!$A:$D,1,FALSE),"")=C11,"SICRO","COMPOSIÇÃO")))) -> SETOP | C11: ED-16351 | D11: =IFERROR(IFERROR(VLOOKUP(C11,SINAPI!$A:$D,2,FALSE),IFERROR(VLOOKUP(C11,SETOP!$A:$E,3,FALSE),IFERROR(VLOOKUP(C11,SETOP!$B:$E,2,FALSE),IFERROR(VLOOKUP(C11,SUDECAP!$A:$D,2,FALSE),IFERROR(VLOOKUP(C11,SICRO!$A:$D,2,FALSE),VLOOKUP(C11,CPUS!$B:$H,3,FALSE)))))),"") -> LOCAÇÃO DE CONTAINER COM ISOLAMENTO TÉRMICO, TIPO 4, PARA REFEITÓRIO DE OBRA, COM MEDIDAS REFERENCIAIS DE (6) METROS COMPRIMENTO, (2,3) METROS LARGURA E (2,5) METROS ALTURA ÚTIL INTERNA, INCLUSIVE LIGAÇÕES ELÉTRICAS INTERNAS, EXCLUSIVE MOBILIZAÇÃO/DESMOBILIZAÇÃO E LIGAÇÕES PROVISÓRIAS EXTERNAS | E11: =IFERROR(IFERROR(VLOOKUP(C11,SINAPI!$A:$D,3,FALSE),IFERROR(VLOOKUP(C11,SETOP!$A:$E,4,FALSE),IFERROR(VLOOKUP(C11,SETOP!$B:$E,3,FALSE),IFERROR(VLOOKUP(C11,SUDECAP!$A:$D,3,FALSE),IFERROR(VLOOKUP(C11,SICRO!$A:$D,3,FALSE),VLOOKUP(C11,CPUS!$B:$H,4,FALSE)))))),"") -> MÊS | F11: 7 | G11: Locação de 1 container de refeitório por 7 meses
A12: 2.4 | B12: =IF(IFERROR(VLOOKUP(C12,SINAPI!$A:$D,1,FALSE),"")=C12,"SINAPI",IF(IFERROR(VLOOKUP(C12,SETOP!$A:$E,1,FALSE),"")=C12,"SETOP",IF(IFERROR(VLOOKUP(C12,SUDECAP!$A:$D,1,FALSE),"")=C12,"SUDECAP",IF(IFERROR(VLOOKUP(C12,SICRO!$A:$D,1,FALSE),"")=C12,"SICRO","COMPOSIÇÃO")))) -> SETOP | C12: ED-16354 | D12: =IFERROR(IFERROR(VLOOKUP(C12,SINAPI!$A:$D,2,FALSE),IFERROR(VLOOKUP(C12,SETOP!$A:$E,3,FALSE),IFERROR(VLOOKUP(C12,SETOP!$B:$E,2,FALSE),IFERROR(VLOOKUP(C12,SUDECAP!$A:$D,2,FALSE),IFERROR(VLOOKUP(C12,SICRO!$A:$D,2,FALSE),VLOOKUP(C12,CPUS!$B:$H,3,FALSE)))))),"") -> LOCAÇÃO DE CONTAINER COM ISOLAMENTO TÉRMICO, TIPO 7, PARA VESTIÁRIO DE OBRA COM QUATRO (4) CHUVEIROS, TRÊS (3) VASOS SANITÁRIOS, UM (1) MICTÓRIO E UM (1) LAVATÓRIO, COM MEDIDAS REFERENCIAIS DE (6) METROS COMPRIMENTO, (2,3) METROS LARGURA E (2,5) METROS ALTURA ÚTIL INTERNA, INCLUSIVE LIGAÇÕES ELÉTRICAS E HIDROSSANITÁRIAS INTERNAS, EXCLUSIVE MOBILIZAÇÃO/DESMOBILIZAÇÃO E LIGAÇÕES PROVISÓRIAS EXTERNAS | E12: =IFERROR(IFERROR(VLOOKUP(C12,SINAPI!$A:$D,3,FALSE),IFERROR(VLOOKUP(C12,SETOP!$A:$E,4,FALSE),IFERROR(VLOOKUP(C12,SETOP!$B:$E,3,FALSE),IFERROR(VLOOKUP(C12,SUDECAP!$A:$D,3,FALSE),IFERROR(VLOOKUP(C12,SICRO!$A:$D,3,FALSE),VLOOKUP(C12,CPUS!$B:$H,4,FALSE)))))),"") -> MÊS | F12: 7 | G12: Locação de 1 container de vestiário por 7 meses
A13: 2.5 | B13: =IF(IFERROR(VLOOKUP(C13,SINAPI!$A:$D,1,FALSE),"")=C13,"SINAPI",IF(IFERROR(VLOOKUP(C13,SETOP!$A:$E,1,FALSE),"")=C13,"SETOP",IF(IFERROR(VLOOKUP(C13,SUDECAP!$A:$D,1,FALSE),"")=C13,"SUDECAP",IF(IFERROR(VLOOKUP(C13,SICRO!$A:$D,1,FALSE),"")=C13,"SICRO","COMPOSIÇÃO")))) -> SETOP | C13: ED-16357 | D13: =IFERROR(IFERROR(VLOOKUP(C13,SINAPI!$A:$D,2,FALSE),IFERROR(VLOOKUP(C13,SETOP!$A:$E,3,FALSE),IFERROR(VLOOKUP(C13,SETOP!$B:$E,2,FALSE),IFERROR(VLOOKUP(C13,SUDECAP!$A:$D,2,FALSE),IFERROR(VLOOKUP(C13,SICRO!$A:$D,2,FALSE),VLOOKUP(C13,CPUS!$B:$H,3,FALSE)))))),"") -> LIGAÇÕES PROVISÓRIAS PARA CONTAINER TIPO 2 (CORRESPONDENTE AO CÓDIGO ED-16349) | E13: =IFERROR(IFERROR(VLOOKUP(C13,SINAPI!$A:$D,3,FALSE),IFERROR(VLOOKUP(C13,SETOP!$A:$E,4,FALSE),IFERROR(VLOOKUP(C13,SETOP!$B:$E,3,FALSE),IFERROR(VLOOKUP(C13,SUDECAP!$A:$D,3,FALSE),IFERROR(VLOOKUP(C13,SICRO!$A:$D,3,FALSE),VLOOKUP(C13,CPUS!$B:$H,4,FALSE)))))),"") -> UN | F13: 1 | G13: Ligação provisória para container tipo 2
A14: 2.6 | B14: =IF(IFERROR(VLOOKUP(C14,SINAPI!$A:$D,1,FALSE),"")=C14,"SINAPI",IF(IFERROR(VLOOKUP(C14,SETOP!$A:$E,1,FALSE),"")=C14,"SETOP",IF(IFERROR(VLOOKUP(C14,SUDECAP!$A:$D,1,FALSE),"")=C14,"SUDECAP",IF(IFERROR(VLOOKUP(C14,SICRO!$A:$D,1,FALSE),"")=C14,"SICRO","COMPOSIÇÃO")))) -> SETOP | C14: ED-16359 | D14: =IFERROR(IFERROR(VLOOKUP(C14,SINAPI!$A:$D,2,FALSE),IFERROR(VLOOKUP(C14,SETOP!$A:$E,3,FALSE),IFERROR(VLOOKUP(C14,SETOP!$B:$E,2,FALSE),IFERROR(VLOOKUP(C14,SUDECAP!$A:$D,2,FALSE),IFERROR(VLOOKUP(C14,SICRO!$A:$D,2,FALSE),VLOOKUP(C14,CPUS!$B:$H,3,FALSE)))))),"") -> LIGAÇÕES PROVISÓRIAS PARA CONTAINER TIPO 4 (CORRESPONDENTE AO CÓDIGO ED-16351) | E14: =IFERROR(IFERROR(VLOOKUP(C14,SINAPI!$A:$D,3,FALSE),IFERROR(VLOOKUP(C14,SETOP!$A:$E,4,FALSE),IFERROR(VLOOKUP(C14,SETOP!$B:$E,3,FALSE),IFERROR(VLOOKUP(C14,SUDECAP!$A:$D,3,FALSE),IFERROR(VLOOKUP(C14,SICRO!$A:$D,3,FALSE),VLOOKUP(C14,CPUS!$B:$H,4,FALSE)))))),"") -> UN | F14: 1 | G14: Ligação provisória para container tipo 4
A15: 2.7 | B15: =IF(IFERROR(VLOOKUP(C15,SINAPI!$A:$D,1,FALSE),"")=C15,"SINAPI",IF(IFERROR(VLOOKUP(C15,SETOP!$A:$E,1,FALSE),"")=C15,"SETOP",IF(IFERROR(VLOOKUP(C15,SUDECAP!$A:$D,1,FALSE),"")=C15,"SUDECAP",IF(IFERROR(VLOOKUP(C15,SICRO!$A:$D,1,FALSE),"")=C15,"SICRO","COMPOSIÇÃO")))) -> SETOP | C15: ED-16362 | D15: =IFERROR(IFERROR(VLOOKUP(C15,SINAPI!$A:$D,2,FALSE),IFERROR(VLOOKUP(C15,SETOP!$A:$E,3,FALSE),IFERROR(VLOOKUP(C15,SETOP!$B:$E,2,FALSE),IFERROR(VLOOKUP(C15,SUDECAP!$A:$D,2,FALSE),IFERROR(VLOOKUP(C15,SICRO!$A:$D,2,FALSE),VLOOKUP(C15,CPUS!$B:$H,3,FALSE)))))),"") -> LIGAÇÕES PROVISÓRIAS PARA CONTAINER TIPO 7 (CORRESPONDENTE AO CÓDIGO ED-16354) | E15: =IFERROR(IFERROR(VLOOKUP(C15,SINAPI!$A:$D,3,FALSE),IFERROR(VLOOKUP(C15,SETOP!$A:$E,4,FALSE),IFERROR(VLOOKUP(C15,SETOP!$B:$E,3,FALSE),IFERROR(VLOOKUP(C15,SUDECAP!$A:$D,3,FALSE),IFERROR(VLOOKUP(C15,SICRO!$A:$D,3,FALSE),VLOOKUP(C15,CPUS!$B:$H,4,FALSE)))))),"") -> UN | F15: 1 | G15: Ligação provisória para container tipo 7
A16: 2.8 | B16: =IF(IFERROR(VLOOKUP(C16,SINAPI!$A:$D,1,FALSE),"")=C16,"SINAPI",IF(IFERROR(VLOOKUP(C16,SETOP!$A:$E,1,FALSE),"")=C16,"SETOP",IF(IFERROR(VLOOKUP(C16,SUDECAP!$A:$D,1,FALSE),"")=C16,"SUDECAP",IF(IFERROR(VLOOKUP(C16,SICRO!$A:$D,1,FALSE),"")=C16,"SICRO","COMPOSIÇÃO")))) -> SETOP | C16: ED-28427 | D16: =IFERROR(IFERROR(VLOOKUP(C16,SINAPI!$A:$D,2,FALSE),IFERROR(VLOOKUP(C16,SETOP!$A:$E,3,FALSE),IFERROR(VLOOKUP(C16,SETOP!$B:$E,2,FALSE),IFERROR(VLOOKUP(C16,SUDECAP!$A:$D,2,FALSE),IFERROR(VLOOKUP(C16,SICRO!$A:$D,2,FALSE),VLOOKUP(C16,CPUS!$B:$H,3,FALSE)))))),"") -> FORNECIMENTO E COLOCAÇÃO DE PLACA DE OBRA EM CHAPA GALVANIZADA #26, ESP. 0,45MM, DIMENSÃO (3X1,5)M, PLOTADA COM ADESIVO VINÍLICO, AFIXADA COM REBITES 4,8X40MM, EM ESTRUTURA METÁLICA DE METALON 20X20MM, ESP. 1,25MM, INCLUSIVE SUPORTE EM EUCALIPTO AUTOCLAVADO PINTADO COM TINTA PVA DUAS (2) DEMÃOS | E16: =IFERROR(IFERROR(VLOOKUP(C16,SINAPI!$A:$D,3,FALSE),IFERROR(VLOOKUP(C16,SETOP!$A:$E,4,FALSE),IFERROR(VLOOKUP(C16,SETOP!$B:$E,3,FALSE),IFERROR(VLOOKUP(C16,SUDECAP!$A:$D,3,FALSE),IFERROR(VLOOKUP(C16,SICRO!$A:$D,3,FALSE),VLOOKUP(C16,CPUS!$B:$H,4,FALSE)))))),"") -> UN | F16: 1 | G16: Placa de obra
A17: 2.9 | B17: =IF(IFERROR(VLOOKUP(C17,SINAPI!$A:$D,1,FALSE),"")=C17,"SINAPI",IF(IFERROR(VLOOKUP(C17,SETOP!$A:$E,1,FALSE),"")=C17,"SETOP",IF(IFERROR(VLOOKUP(C17,SUDECAP!$A:$D,1,FALSE),"")=C17,"SUDECAP",IF(IFERROR(VLOOKUP(C17,SICRO!$A:$D,1,FALSE),"")=C17,"SICRO","COMPOSIÇÃO")))) -> SETOP | C17: ED-50275 | D17: =IFERROR(IFERROR(VLOOKUP(C17,SINAPI!$A:$D,2,FALSE),IFERROR(VLOOKUP(C17,SETOP!$A:$E,3,FALSE),IFERROR(VLOOKUP(C17,SETOP!$B:$E,2,FALSE),IFERROR(VLOOKUP(C17,SUDECAP!$A:$D,2,FALSE),IFERROR(VLOOKUP(C17,SICRO!$A:$D,2,FALSE),VLOOKUP(C17,CPUS!$B:$H,3,FALSE)))))),"") -> LOCAÇÃO TOPOGRÁFICA DE VINTE UM (21) ATÉ CINQUENTA (50) PONTOS REFERENCIAIS, INCLUSIVE ESTACA (PIQUETE) DE MARCAÇÃO | E17: =IFERROR(IFERROR(VLOOKUP(C17,SINAPI!$A:$D,3,FALSE),IFERROR(VLOOKUP(C17,SETOP!$A:$E,4,FALSE),IFERROR(VLOOKUP(C17,SETOP!$B:$E,3,FALSE),IFERROR(VLOOKUP(C17,SUDECAP!$A:$D,3,FALSE),IFERROR(VLOOKUP(C17,SICRO!$A:$D,3,FALSE),VLOOKUP(C17,CPUS!$B:$H,4,FALSE)))))),"") -> UN | F17: 30 | G17: Locação topográfica considerando 30 pontos de referência
A18: 3 | D18: MOBILIZAÇÃO E DESMOBILIZAÇÃO
A19: 3.1 | B19: =IF(IFERROR(VLOOKUP(C19,SINAPI!$A:$D,1,FALSE),"")=C19,"SINAPI",IF(IFERROR(VLOOKUP(C19,SETOP!$A:$E,1,FALSE),"")=C19,"SETOP",IF(IFERROR(VLOOKUP(C19,SUDECAP!$A:$D,1,FALSE),"")=C19,"SUDECAP",IF(IFERROR(VLOOKUP(C19,SICRO!$A:$D,1,FALSE),"")=C19,"SICRO","COMPOSIÇÃO")))) -> SETOP | C19: ED-50394 | D19: =IFERROR(IFERROR(VLOOKUP(C19,SINAPI!$A:$D,2,FALSE),IFERROR(VLOOKUP(C19,SETOP!$A:$E,3,FALSE),IFERROR(VLOOKUP(C19,SETOP!$B:$E,2,FALSE),IFERROR(VLOOKUP(C19,SUDECAP!$A:$D,2,FALSE),IFERROR(VLOOKUP(C19,SICRO!$A:$D,2,FALSE),VLOOKUP(C19,CPUS!$B:$H,3,FALSE)))))),"") -> MOBILIZAÇÃO E DESMOBILIZAÇÃO DE OBRA EM CENTRO URBANO OU REGIÃO LIMÍTROFE COM VALOR ACIMA DE 3.000.000,01 | E19: =IFERROR(IFERROR(VLOOKUP(C19,SINAPI!$A:$D,3,FALSE),IFERROR(VLOOKUP(C19,SETOP!$A:$E,4,FALSE),IFERROR(VLOOKUP(C19,SETOP!$B:$E,3,FALSE),IFERROR(VLOOKUP(C19,SUDECAP!$A:$D,3,FALSE),IFERROR(VLOOKUP(C19,SICRO!$A:$D,3,FALSE),VLOOKUP(C19,CPUS!$B:$H,4,FALSE)))))),"") -> % | F19: 0.002 | G19: 0,20% do custo total sem BDI (excluindo o custo da administração local).
A20: 4 | D20: REMOÇÕES E DEMOLIÇÕES
A21: 4.1 | B21: =IF(IFERROR(VLOOKUP(C21,SINAPI!$A:$D,1,FALSE),"")=C21,"SINAPI",IF(IFERROR(VLOOKUP(C21,SETOP!$A:$E,1,FALSE),"")=C21,"SETOP",IF(IFERROR(VLOOKUP(C21,SUDECAP!$A:$D,1,FALSE),"")=C21,"SUDECAP",IF(IFERROR(VLOOKUP(C21,SICRO!$A:$D,1,FALSE),"")=C21,"SICRO","COMPOSIÇÃO")))) -> SICRO | C21: 4915669 | D21: =IFERROR(IFERROR(VLOOKUP(C21,SINAPI!$A:$D,2,FALSE),IFERROR(VLOOKUP(C21,SETOP!$A:$E,3,FALSE),IFERROR(VLOOKUP(C21,SETOP!$B:$E,2,FALSE),IFERROR(VLOOKUP(C21,SUDECAP!$A:$D,2,FALSE),IFERROR(VLOOKUP(C21,SICRO!$A:$D,2,FALSE),VLOOKUP(C21,CPUS!$B:$H,3,FALSE)))))),"") -> REMOÇÃO MECANIZADA DE CAMADA GRANULAR DO PAVIMENTO | E21: =IFERROR(IFERROR(VLOOKUP(C21,SINAPI!$A:$D,3,FALSE),IFERROR(VLOOKUP(C21,SETOP!$A:$E,4,FALSE),IFERROR(VLOOKUP(C21,SETOP!$B:$E,3,FALSE),IFERROR(VLOOKUP(C21,SUDECAP!$A:$D,3,FALSE),IFERROR(VLOOKUP(C21,SICRO!$A:$D,3,FALSE),VLOOKUP(C21,CPUS!$B:$H,4,FALSE)))))),"") -> M³ | F21: =(8899.17*0.2)+(8899.17*0.2) -> 3559.668 | G21: Remoção mecanizada de camada granular para execução de novas camadas de pavimento. Consideramos 20 cm de base e 20 cm de sub base a serem removidas. Área considerada de 8899,17 m²
A22: 4.2 | B22: =IF(IFERROR(VLOOKUP(C22,SINAPI!$A:$D,1,FALSE),"")=C22,"SINAPI",IF(IFERROR(VLOOKUP(C22,SETOP!$A:$E,1,FALSE),"")=C22,"SETOP",IF(IFERROR(VLOOKUP(C22,SUDECAP!$A:$D,1,FALSE),"")=C22,"SUDECAP",IF(IFERROR(VLOOKUP(C22,SICRO!$A:$D,1,FALSE),"")=C22,"SICRO","COMPOSIÇÃO")))) -> SICRO | C22: 4915667 | D22: =IFERROR(IFERROR(VLOOKUP(C22,SINAPI!$A:$D,2,FALSE),IFERROR(VLOOKUP(C22,SETOP!$A:$E,3,FALSE),IFERROR(VLOOKUP(C22,SETOP!$B:$E,2,FALSE),IFERROR(VLOOKUP(C22,SUDECAP!$A:$D,2,FALSE),IFERROR(VLOOKUP(C22,SICRO!$A:$D,2,FALSE),VLOOKUP(C22,CPUS!$B:$H,3,FALSE)))))),"") -> REMOÇÃO MECANIZADA DE REVESTIMENTO ASFÁLTICO | E22: =IFERROR(IFERROR(VLOOKUP(C22,SINAPI!$A:$D,3,FALSE),IFERROR(VLOOKUP(C22,SETOP!$A:$E,4,FALSE),IFERROR(VLOOKUP(C22,SETOP!$B:$E,3,FALSE),IFERROR(VLOOKUP(C22,SUDECAP!$A:$D,3,FALSE),IFERROR(VLOOKUP(C22,SICRO!$A:$D,3,FALSE),VLOOKUP(C22,CPUS!$B:$H,4,FALSE)))))),"") -> M³ | F22: =6955.43*0.1 -> 695.543 | G22: Remoção mecanizada de revestimento asfáltico existente para execução de novo revestimento. Área considera de 6955,43 m² com espessura de pavimento de 10 cm a ser removido
A23: 4.3 | B23: =IF(IFERROR(VLOOKUP(C23,SINAPI!$A:$D,1,FALSE),"")=C23,"SINAPI",IF(IFERROR(VLOOKUP(C23,SETOP!$A:$E,1,FALSE),"")=C23,"SETOP",IF(IFERROR(VLOOKUP(C23,SUDECAP!$A:$D,1,FALSE),"")=C23,"SUDECAP",IF(IFERROR(VLOOKUP(C23,SICRO!$A:$D,1,FALSE),"")=C23,"SICRO","COMPOSIÇÃO")))) -> COMPOSIÇÃO | C23: CPU-1766 | D23: =IFERROR(IFERROR(VLOOKUP(C23,SINAPI!$A:$D,2,FALSE),IFERROR(VLOOKUP(C23,SETOP!$A:$E,3,FALSE),IFERROR(VLOOKUP(C23,SETOP!$B:$E,2,FALSE),IFERROR(VLOOKUP(C23,SUDECAP!$A:$D,2,FALSE),IFERROR(VLOOKUP(C23,SICRO!$A:$D,2,FALSE),VLOOKUP(C23,CPUS!$B:$H,3,FALSE)))))),"") -> REMOÇÃO DE MEIO-FIO DE CONCRETO SEM REAPROVEITAMENTO | E23: =IFERROR(IFERROR(VLOOKUP(C23,SINAPI!$A:$D,3,FALSE),IFERROR(VLOOKUP(C23,SETOP!$A:$E,4,FALSE),IFERROR(VLOOKUP(C23,SETOP!$B:$E,3,FALSE),IFERROR(VLOOKUP(C23,SUDECAP!$A:$D,3,FALSE),IFERROR(VLOOKUP(C23,SICRO!$A:$D,3,FALSE),VLOOKUP(C23,CPUS!$B:$H,4,FALSE)))))),"") -> M | F23: 163.67 | G23: Remoção de meio fio dos canteiros existentes. Não foi considerado reaproveitamento dos mesmos
A24: 4.4 | B24: =IF(IFERROR(VLOOKUP(C24,SINAPI!$A:$D,1,FALSE),"")=C24,"SINAPI",IF(IFERROR(VLOOKUP(C24,SETOP!$A:$E,1,FALSE),"")=C24,"SETOP",IF(IFERROR(VLOOKUP(C24,SUDECAP!$A:$D,1,FALSE),"")=C24,"SUDECAP",IF(IFERROR(VLOOKUP(C24,SICRO!$A:$D,1,FALSE),"")=C24,"SICRO","COMPOSIÇÃO")))) -> COMPOSIÇÃO | C24: CPU-1767 | D24: =IFERROR(IFERROR(VLOOKUP(C24,SINAPI!$A:$D,2,FALSE),IFERROR(VLOOKUP(C24,SETOP!$A:$E,3,FALSE),IFERROR(VLOOKUP(C24,SETOP!$B:$E,2,FALSE),IFERROR(VLOOKUP(C24,SUDECAP!$A:$D,2,FALSE),IFERROR(VLOOKUP(C24,SICRO!$A:$D,2,FALSE),VLOOKUP(C24,CPUS!$B:$H,3,FALSE)))))),"") -> REMOÇÃO DE LETREIRO COM NOME DA CIDADE - COM REAPROVEITAMENTO | E24: =IFERROR(IFERROR(VLOOKUP(C24,SINAPI!$A:$D,3,FALSE),IFERROR(VLOOKUP(C24,SETOP!$A:$E,4,FALSE),IFERROR(VLOOKUP(C24,SETOP!$B:$E,3,FALSE),IFERROR(VLOOKUP(C24,SUDECAP!$A:$D,3,FALSE),IFERROR(VLOOKUP(C24,SICRO!$A:$D,3,FALSE),VLOOKUP(C24,CPUS!$B:$H,4,FALSE)))))),"") -> UND | F24: 1 | G24: Remoção do letreiro "BRUMADINHO"para posterior reaproveitamento
A25: 4.5 | B25: =IF(IFERROR(VLOOKUP(C25,SINAPI!$A:$D,1,FALSE),"")=C25,"SINAPI",IF(IFERROR(VLOOKUP(C25,SETOP!$A:$E,1,FALSE),"")=C25,"SETOP",IF(IFERROR(VLOOKUP(C25,SUDECAP!$A:$D,1,FALSE),"")=C25,"SUDECAP",IF(IFERROR(VLOOKUP(C25,SICRO!$A:$D,1,FALSE),"")=C25,"SICRO","COMPOSIÇÃO")))) -> SETOP | C25: ED-50699 | D25: =IFERROR(IFERROR(VLOOKUP(C25,SINAPI!$A:$D,2,FALSE),IFERROR(VLOOKUP(C25,SETOP!$A:$E,3,FALSE),IFERROR(VLOOKUP(C25,SETOP!$B:$E,2,FALSE),IFERROR(VLOOKUP(C25,SUDECAP!$A:$D,2,FALSE),IFERROR(VLOOKUP(C25,SICRO!$A:$D,2,FALSE),VLOOKUP(C25,CPUS!$B:$H,3,FALSE)))))),"") -> CORTE DE ÁRVORE COM MOTOSSERRA, DIÂMETRO DO TRONCO ACIMA DE TRINTA (30) CENTÍMETROS ATÉ CINQUENTA (50) CENTÍMETROS, EXCLUSIVE DESTOCAMENTO E AFASTAMENTO | E25: =IFERROR(IFERROR(VLOOKUP(C25,SINAPI!$A:$D,3,FALSE),IFERROR(VLOOKUP(C25,SETOP!$A:$E,4,FALSE),IFERROR(VLOOKUP(C25,SETOP!$B:$E,3,FALSE),IFERROR(VLOOKUP(C25,SUDECAP!$A:$D,3,FALSE),IFERROR(VLOOKUP(C25,SICRO!$A:$D,3,FALSE),VLOOKUP(C25,CPUS!$B:$H,4,FALSE)))))),"") -> UN | F25: 1 | G25: Corte da palmeira existente
A26: 4.6 | B26: =IF(IFERROR(VLOOKUP(C26,SINAPI!$A:$D,1,FALSE),"")=C26,"SINAPI",IF(IFERROR(VLOOKUP(C26,SETOP!$A:$E,1,FALSE),"")=C26,"SETOP",IF(IFERROR(VLOOKUP(C26,SUDECAP!$A:$D,1,FALSE),"")=C26,"SUDECAP",IF(IFERROR(VLOOKUP(C26,SICRO!$A:$D,1,FALSE),"")=C26,"SICRO","COMPOSIÇÃO")))) -> SETOP | C26: ED-28163 | D26: =IFERROR(IFERROR(VLOOKUP(C26,SINAPI!$A:$D,2,FALSE),IFERROR(VLOOKUP(C26,SETOP!$A:$E,3,FALSE),IFERROR(VLOOKUP(C26,SETOP!$B:$E,2,FALSE),IFERROR(VLOOKUP(C26,SUDECAP!$A:$D,2,FALSE),IFERROR(VLOOKUP(C26,SICRO!$A:$D,2,FALSE),VLOOKUP(C26,CPUS!$B:$H,3,FALSE)))))),"") -> DESTOCAMENTO E AFASTAMENTO DE REMANESCENTE ARBÓREO, INCLUSIVE TRANSPORTE E RETIRADA DO MATERIAL ESCAVADO (EM CAÇAMBA) | E26: =IFERROR(IFERROR(VLOOKUP(C26,SINAPI!$A:$D,3,FALSE),IFERROR(VLOOKUP(C26,SETOP!$A:$E,4,FALSE),IFERROR(VLOOKUP(C26,SETOP!$B:$E,3,FALSE),IFERROR(VLOOKUP(C26,SUDECAP!$A:$D,3,FALSE),IFERROR(VLOOKUP(C26,SICRO!$A:$D,3,FALSE),VLOOKUP(C26,CPUS!$B:$H,4,FALSE)))))),"") -> UN | F26: 1 | G26: Destocamento e afastamento após corte da palmeira existente
