Workbook

Sheet REFORMA- Planilha orçamentária
C1: PREFEITURA MUNICIPAL DE NANUQUE ESTADO DE MINAS GERAIS SECRETARIA DE OBRAS E SERVIÇOS URBANOS
A3: PLANILHA ORÇAMENTÁRIA DE CUSTOS
A5: PREFEITURA MUNICIPAL DE NANUQUE | G5: Data: 29/10/2024
A6: OBRA: REFORMA DA LAJE DE COBERTURA E DO TETO DO MUSEU DO VAQUEIRO
A7: LOCAL: RUA BARBACENA, Nº 04 - BAIRRO: CENTRO - NANUQUE/MG.
A8: REGIÃO/MÊS DE REFERÊNCIA: SETOP 07/2024 COM DESONERAÇÃO | E8: FORMA DE EXECUÇÃO: ( ) DIRETA (X) INDIRETA
A9: PRAZO DE EXECUÇÃO: 1 mês | F9: BDI: | G9: 0.3063 | H9: ISS: 5%
A11: ITEM | B11: CÓDIGO | C11: DESCRIÇÃO | D11: UNID. | E11: QUANT. | F11: PREÇO UNITÁRIO S/ LDI | G11: PREÇO UNITÁTIO C/ LDI | H11: PREÇO TOTAL
A12: 1 | B12: MUSEU DO VAQUEIRO | H12: =H15+H17+H19+H13+H21+H23 -> 51643.8
A13: 1.1 | B13: 8808 | C13: CONTRAPISO | H13: =SUM(H14:H14) -> 7490.12
A14: 1.1.1 | B14: ED-50568 | C14: CONTRAPISO DESEMPENADO COM ARGAMASSA, TRAÇO 1:3 ( CIMENTO E AREIA), ESP. 30MM, INCLUSIVE ARGAMASSA COM PREPARO MECANIZADO | D14: M2 | E14: 141.51 | F14: 40.52 | G14: =ROUND(F14+F14*$G$9,2) -> 52.93 | H14: =ROUND(E14*G14,2) -> 7490.12
A15: 1.2 | B15: 8805 | C15: MANTA ASFÁLTICA | H15: =SUM(H16) -> 13551
A16: 1.2.1 | B16: ED-50168 | C16: IMPERMEABILIZAÇÃO COM MANTA ASFÁLTICA, TIPO III, CLASSE A,ESP. 4MM, INCLUSIVE APLICAÇÃO DE PRIMER ASFÁLTICO | D16: M2 | E16: 141.51 | F16: 73.31 | G16: =ROUND(F16+F16*$G$9,2) -> 95.76 | H16: =ROUND(E16*G16,2) -> 13551
A17: 1.3 | B17: 8807 | C17: PREPARAÇÃO DE SUPERFÍCIE | H17: =SUM(H18) -> 291.25
A18: 1.3.1 | B18: ED-50533 | C18: APICOAMENTO DE PISO CIMENTADO - PROFUNDIDADE ATÉ 1 CM | D18: M2 | E18: 24.05 | F18: 9.27 | G18: =ROUND(F18+F18*$G$9,2) -> 12.11 | H18: =ROUND(E18*G18,2) -> 291.25
A19: 1.4 | B19: 8818 | C19: PISO CIMENTADO | H19: =SUM(H20:H20) -> 12579.61
A20: 1.4.1 | B20: ED-50548 | C20: PISO CIMENTADO COM ARGAMASSA, TRAÇO 1:3 (CIMENTO E AREIA), ESP. 30MM, ACABAMENTO DESEMPENADO E FELTRADO, MODULAÇÃO DE 100X100CM, INCLUSIVE JUNTA PLÁSTICA | D20: M2 | E20: 157.58 | F20: 61.11 | G20: =ROUND(F20+F20*$G$9,2) -> 79.83 | H20: =ROUND(E20*G20,2) -> 12579.61
A21: 1.5 | B21: 8723 | C21: PLACA DE OBRA | H21: =SUM(H22:H22) -> 1738.11
A22: 1.5.1 | B22: ED-28427 | C22: FORNECIMENTO E COLOCAÇÃO DE PLACA DE OBRA EM CHAPA GALVANIZADA #26, ESP. 0,45MM, DIMENSÃO (3X1,5)M, PLOTADA COM ADESIVO VINÍLICO, AFIXADA COM REBITES 4,8X40MM, EM ESTRUTURA METÁLICA DE METALON 20X20MM, ESP. 1,25MM, INCLUSIVE SUPORTE EM EUCALIPTO AUTOCLAVADO PINTADO COM TINTA PVA DUAS (2) DEMÃOS | D22: U | E22: 1 | F22: 1330.56 | G22: =ROUND(F22+F22*$G$9,2) -> 1738.11 | H22: =ROUND(E22*G22,2) -> 1738.11
A23: 1.6 | B23: 8710 | C23: REVESTIMENTO DE ARGAMASSA | H23: =(H24)+(H26)+(H28)+(H30) -> 15993.71
A24: 1.6.1 | B24: ED-6284 | C24: REBOCO COM ARGAMASSA, TRAÇO 1:2:8 (CIMENTO, CAL E AREIA), ESP. 30MM, APLICAÇÃO MANUAL, INCLUSIVE ARGAMASSA COMPREPARO MECANIZADO | D24: M2 | E24: 100.64 | F24: 42.09 | G24: =ROUND(F24+F24*$G$9,2) -> 54.98 | H24: =ROUND(E24*G24,2) -> 5533.19
A25: 1.7 | B25: 8868 | C25: MASSA CORRIDA (PVA E ACRÍLICA) | H25: =(H26)+(H30)+(H31)+(H32) -> 57166.92
A26: 1.7.1 | B26: ED-50476 | C26: EMASSAMENTO EM TETO COM MASSA ACRÍLICA, DUAS (2) DEMÃOS, INCLUSIVE LIXAMENTO PARA PINTURA | D26: M2 | E26: 100.64 | F26: 33.84 | G26: =ROUND(F26+F26*$G$9,2) -> 44.21 | H26: =ROUND(E26*G26,2) -> 4449.29
A27: 1.8 | B27: 8870 | C27: PINTURA ACRÍLICA | H27: =(H28)+(H32)+(H33)+(H34) -> 56581.2
A28: 1.8.1 | B28: ED-50456 | C28: PINTURA ACRÍLICA EM TETO, DUAS (2) DEMÃOS, INCLUSIVE UMA ( 1) DEMÃO DE MASSA CORRIDA (PVA), EXCLUSIVE SELADOR ACRÍLICO | D28: M2 | E28: 100.64 | F28: 37.56 | G28: =ROUND(F28+F28*$G$9,2) -> 49.06 | H28: =ROUND(E28*G28,2) -> 4937.4
A29: 1.9 | B29: 8867 | C29: SELADOR DE PAREDE | H29: =(H30)+(H34)+(H35)+(H36) -> 1073.83
A30: 1.9.1 | B30: ED-50515 | C30: PREPARAÇÃO PARA EMASSAMENTO OU PINTURA (LÁTEX/ ACRÍLICA) EM TETO, INCLUSIVE UMA (1) DEMÃO DE SELADOR ACRÍLICO | D30: M2 | E30: 100.64 | F30: 8.17 | G30: =ROUND(F30+F30*$G$9,2) -> 10.67 | H30: =ROUND(E30*G30,2) -> 1073.83
A32: TOTAL GERAL DA OBRA C/ LDI | H32: =H12 -> 51643.8
B34: Carimbo e assinatura do responsável técnico pela elaboração da planilha | F34: CAU
B39: Assinatura do Prefeito

Sheet Modelo Planilha Orcamentaria
A2: A N E X O I I - MODELO
A4: PLANILHA ORÇAMENTÁRIA DE CUSTOS
A6: PREFEITURA: Nome da Prefeitura | F6: FOLHA Nº: 01/01
A7: OBRA: Pavimentação asfáltica em C.B.U.Q | F7: DATA: dd/mm/aa
A8: LOCAL: Rua X, Bairro Y | E8: FORMA DE EXECUÇÃO:
A9: REGIÃO/MÊS DE REFERÊNCIA: Região Central - Junho/09 | E9: ( ) | F9: DIRETA | G9: ( x ) | H9: INDIRETA
A10: PRAZO DE EXECUÇÃO: XX Meses | G10: LDI | H10: 0.3348
A12: ITEM | B12: CÓDIGO | C12: DESCRIÇÃO | D12: UNIDADE | E12: QUANTIDADE | F12: PREÇO UNITÁRIO S/ LDI | G12: PREÇO UNITÁRIO C/ LDI | H12: PREÇO TOTAL
A13: 1 | B13: IIO-001 | C13: INSTALAÇÕES INICIAIS DA OBRA
A14: 1.1 | B14: IIO-BAR-046 | C14: BARRACÃO DE OBRA | D14: M2 | E14: 10 | F14: 233.32 | G14: =ROUND(F14+(F14*$H$10),2) -> 311.44 | H14: =ROUND((E14*G14),2) -> 3114.4
A15: 1.2 | B15: IIO-PLA-005 | C15: FORNECIMENTO E COLOCAÇÃO DE PLACA DE OBRA EM CHAPA GALVANIZADA (3,00 X 1,50 M) - GOVERNO DO ESTADO | D15: UN | E15: 1 | F15: 629.56 | G15: =ROUND(F15+(F15*$H$10),2) -> 840.34 | H15: =ROUND((E15*G15),2) -> 840.34
G16: =ROUND(F16+(F16*$H$10),2) -> 0 | H16: =ROUND((E16*G16),2) -> 0
A17: 2 | B17: OBR-001 | C17: OBRAS VIÁRIAS | G17: =ROUND(F17+(F17*$H$10),2) -> 0 | H17: =ROUND((E17*G17),2) -> 0
A18: 2.1 | B18: OBR-VIA-130 | C18: REGULARIZAÇÃO DO SUBLEITO COM PROCTOR INTERMEDIÁRIO | D18: M2 | E18: 1000 | F18: 1.09 | G18: =ROUND(F18+(F18*$H$10),2) -> 1.45 | H18: =ROUND((E18*G18),2) -> 1450
A19: 2.2 | B19: OBR-VIA-145 | C19: EXECUÇÃO DE BASE DE SOLO ESTABILIZADO GRANULOMETRICAMENTE SEM MISTURA COM PROCTOR INTERMEDIÁRIO, INCLUINDO ESCAVAÇÃO, CARGA, DESCARGA, ESPALHAMENTO E COMPACTAÇÃO DO MATERIAL; EXCLUSIVE AQUISIÇÃO DO MATERIAL (E = 15 CM) | D19: M3 | E19: 150 | F19: 9.12 | G19: =ROUND(F19+(F19*$H$10),2) -> 12.17 | H19: =ROUND((E19*G19),2) -> 1825.5
A20: 2.3 | B20: OBR-VIA-315 | C20: TRANSPORTE DE MATERIAL DE JAZIDA PARA CONSERVAÇÃO DMT DE 0 A 10 KM | D20: M3XKM | E20: 1500 | F20: 0.75 | G20: =ROUND(F20+(F20*$H$10),2) -> 1 | H20: =ROUND((E20*G20),2) -> 1500
A21: 2.4 | B21: OBR-VIA-345 | C21: TRANSPORTE DE AGREGADO DMT DE 0 A 10 KM | D21: M3XKM | E21: 698.4 | F21: 0.71 | G21: =ROUND(F21+(F21*$H$10),2) -> 0.95 | H21: =ROUND((E21*G21),2) -> 663.48
A22: 2.5 | B22: OBR-VIA-435 | C22: TRANSPORTE DE MATERIAL DE QUALQUER NATUREZA DMT ACIMA DE 40 KM (DMT = 350 KM) | D22: TXKM | E22: 2380 | F22: 0.31 | G22: =ROUND(F22+(F22*$H$10),2) -> 0.41 | H22: =ROUND((E22*G22),2) -> 975.8
A23: 2.6 | B23: OBR-VIA-160 | C23: EXECUÇÃO DE IMPRIMAÇÃO COM MATERIAL BETUMINOSO, INCLUINDO FORNECIMENTO E TRANSPORTE DO MATERIAL BETUMINOSO DENTRO DO CANTEIRO DE OBRAS | D23: M2 | E23: 1000 | F23: 2.72 | G23: =ROUND(F23+(F23*$H$10),2) -> 3.63 | H23: =ROUND((E23*G23),2) -> 3630
A24: 2.7 | B24: OBR-VIA-165 | C24: EXECUÇÃO DE PINTURA DE LIGAÇÃO COM MATERIAL BETUMINOSO, INCLUINDO FORNECIMENTO E TRANSPORTE DO MATERIAL BETUMINOSO DENTRO DO CANTEIRO DE OBRAS | D24: M2 | E24: 1000 | F24: 0.64 | G24: =ROUND(F24+(F24*$H$10),2) -> 0.85 | H24: =ROUND((E24*G24),2) -> 850
A25: 2.8 | B25: OBR-VIA-180 | C25: EXECUÇÃO DE CONCRETO BETUMINOSO USINADO A QUENTE (CBUQ) COM MATERIAL BETUMINOSO, INCLUINDO FORNECIMENTO DOS AGREGADOS E TRANSPORTE DO MATERIAL BETUMINOSO DENTRO DO CANTEIRO DE OBRAS | D25: M3 | E25: 30 | F25: 337.93 | G25: =ROUND(F25+(F25*$H$10),2) -> 451.07 | H25: =ROUND((E25*G25),2) -> 13532.1
A26: 2.9 | B26: OBR-VIA-375 | C26: TRANSPORTE DE PMF/CBUQ PARA CONSERVAÇÃO DMT 0 A 10 KM | D26: M3XKM | E26: 300 | F26: 0.8 | G26: =ROUND(F26+(F26*$H$10),2) -> 1.07 | H26: =ROUND((E26*G26),2) -> 321
G27: =ROUND(F27+(F27*$H$10),2) -> 0 | H27: =ROUND((E27*G27),2) -> 0
A28: 3 | B28: DRE-001 | C28: DRENAGEM | G28: =ROUND(F28+(F28*$H$10),2) -> 0 | H28: =ROUND((E28*G28),2) -> 0
A29: 3.1 | B29: DRE-SAR-005 | C29: SARJETA TIPO 1 - 50 X 5 CM, I = 3 %, PADRÃO DEOP-MG | D29: M | E29: 400 | F29: 9.37 | G29: =ROUND(F29+(F29*$H$10),2) -> 12.51 | H29: =ROUND((E29*G29),2) -> 5004
G30: =ROUND(F30+(F30*$H$10),2) -> 0 | H30: =ROUND((E30*G30),2) -> 0
A31: 4 | B31: URB-001 | C31: URBANIZAÇÃO E OBRAS COMPLEMENTARES | G31: =ROUND(F31+(F31*$H$10),2) -> 0 | H31: =ROUND((E31*G31),2) -> 0
A32: 4.1 | B32: URB-MFC-005 | C32: MEIO-FIO DE CONCRETO PRÉ-MOLDADO TIPO A - (12 X 16,7 X 35) CM | D32: M | E32: 400 | F32: 23.56 | G32: =ROUND(F32+(F32*$H$10),2) -> 31.45 | H32: =ROUND((E32*G32),2) -> 12580
G33: =F33+(F33*$H$10) -> 0 | H33: =E33*G33 -> 0
G34: =F34+(F34*$H$10) -> 0 | H34: =E34*G34 -> 0
C35: Os valores dos quantitativos da planilha são meramente ilustrativos | G35: =F35+(F35*$H$10) -> 0 | H35: =E35*G35 -> 0
G36: =F36+(F36*$H$10) -> 0 | H36: =E36*G36 -> 0
G37: =F37+(F37*$H$10) -> 0 | H37: =E37*G37 -> 0
G38: =F38+(F38*$H$10) -> 0 | H38: =E38*G38 -> 0
G39: =F39+(F39*$H$10) -> 0 | H39: =E39*G39 -> 0
G40: =F40+(F40*$H$10) -> 0 | H40: =E40*G40 -> 0
G41: =F41*$H$10 -> 0 | H41: =E41*G41 -> 0
A42: TOTAL GERAL DA OBRA | H42: =SUM(H13:H41) -> 46286.62
B46: Carimbo e assinatura do engenheiro responsável técnico pela elaboração da planilha | E46: CREA
B50: Carimbo e assinatura do prefeito

Sheet Memória de Cálculo
A1: MEMÓRIA DE CÁLCULO
A4: ITEM | B4: DESCRIÇÃO | I4: UND
A5: REFORMA DO MUSEU DO VAQUEIRO
A7: ED-28427 | B7: FORNECIMENTO E COLOCAÇÃO DE PLACA DE OBRA EM CHAPA GALVANIZADA (3,00X1,50M) - EM CHAPA GALVANIZADA 0,26 AFIXADAS COM REBITES 540 E PARAFUSOS 3/8, EM ESTRUTURA METÁLICA VIGA U 2" ENRIJECIDA COM METALON 20X20, SUPORTE EM EUCALIPTO AUTOCLAVADO PINTADAS | I7: U
D8: x | E8: y | F8: z | G8: w | H8: TOTAL
D9: Und.
B11: PLACA DE OBRA | D11: 1 | H11: =D11 -> 1
A13: Total = | H13: =SUM(H11:H12) -> 1
A15: ED-50568 | B15: CONTRAPISO DESEMPENADO COM ARGAMASSA, TRAÇO 1:3 (CIMENTO E AREIA), ESP. 30MM, INCLUSIVE ARGAMASSA COM PREPARO MECANIZADO | I15: M2
D16: x | E16: y | G16: w | H16: TOTAL
D17: comp. (m) | E17: larg. (m)
B19: Área do Museu | D19: 13.25 | E19: 10.68 | H19: =SUM(D19)*(E19) -> 141.51
A21: Total = | H21: =SUM(H19:H20) -> 141.51
A23: ED-50168 | B23: IMPERMEABILIZAÇÃO COM MANTA ASFÁLTICA, TIPO III, CLASSE A,ESP. 4MM, INCLUSIVE APLICAÇÃO DE PRIMER ASFÁLTICO | I23: M2
D24: x | E24: y | F24: z | G24: w | H24: TOTAL
D25: Comp. (m) | E25: Larg. (m)
B27: Área externa do Museu | D27: 13.25 | E27: 10.68 | H27: =(E27)*(D27) -> 141.51
A29: Total = | H29: =SUM(H27:H28) -> 141.51
A31: ED-50533 | B31: APICOAMENTO DE PISO CIMENTADO - PROFUNDIDADE ATÉ 1 CM | I31: M2
D32: x | E32: y | G32: w | H32: TOTAL
D33: comp. (m) | E33: larg. (m)
B35: Calçada de acesso ao Museu - 1 | D35: 5.41 | E35: 1.4 | H35: =SUM(D35)*(E35) -> 7.574
B36: Calçada de acesso ao Museu - 2 | D36: 0 | E36: 0 | H36: 11.16
B37: Calçada de acesso ao Museu - 3 | D37: 3.8 | E37: 1.4 | H37: =(D37)*(E37) -> 5.32
A39: Total = | H39: =SUM(H35:H38) -> 24.054
A41: ED-50168 | B41: PISO CIMENTADO COM ARGAMASSA, TRAÇO 1:3 (CIMENTO E AREIA), COM ADITIVO IMPERMEABILIZANTE, ESP. 25MM, ACABAMENTO DESEMPENADO E FELTRADO | I41: M2
D42: x | E42: y | F42: z | G42: w | H42: TOTAL
D43: Lado Esq (m) | E43: Lado Dir (m) | F43: comp (m)
B45: Área externa do Museu | D45: 13.25 | E45: 10.68 | H45: =SUM(D45)*(E45) -> 141.51
B46: Calçada de acesso ao Museu - 1 | D46: 5.42 | E46: 1.4 | H46: =(E46)*(D46) -> 7.588
B47: Calçada de acesso ao Museu - 2 | D47: 0 | E47: 0 | H47: 3.16
B48: Calçada de acesso ao Museu - 3 | D48: 3.8 | E48: 1.4 | H48: =(D48)*(E48) -> 5.32
A50: Total = | H50: =SUM(H45:H49) -> 157.578
A52: ED-6284 | B52: REBOCO COM ARGAMASSA, TRAÇO 1:2:8 (CIMENTO, CAL E AREIA), ESP. 30MM, APLICAÇÃO MANUAL, INCLUSIVE ARGAMASSA COMPREPARO MECANIZADO | I52: M2
D53: x | E53: y | F53: z | G53: w | H53: TOTAL
D54: Comp.(m) | E54: Larg. (m)
B56: Área interna do Museu | D56: 11 | E56: 9 | H56: =(D56)*(E56) -> 99
B57: Área da marquise do Museu | D57: 2 | E57: 0.82 | H57: =(E57)*(D57) -> 1.64
A59: Total = | H59: =SUM(H56:H58) -> 100.64
A61: ED-50476 | B61: EMASSAMENTO EM TETO COM MASSA ACRÍLICA, DUAS (2) DEMÃOS, INCLUSIVE LIXAMENTO PARA PINTURA | I61: M2
D62: x | E62: y | F62: z | G62: w | H62: TOTAL
D63: Ccomp. (m) | E63: Alt. (m) | F63: Quant. (u)
B65: Área interna do Museu | D65: 11 | E65: 9 | H65: =(D65)*(E65) -> 99
B66: Área da marquise do Museu | D66: 2 | E66: 0.82 | H66: =(E66)*(D66) -> 1.64
A68: Total = | H68: =SUM(H65:H67) -> 100.64
A70: ED-50456 | B70: PINTURA ACRÍLICA EM TETO, DUAS (2) DEMÃOS, INCLUSIVE UMA (1) DEMÃO DE MASSA CORRIDA (PVA), EXCLUSIVE SELADOR ACRÍLICO | I70: M2
D71: x | E71: y | F71: z | G71: w | H71: TOTAL
D72: Comp. (m) | E72: Larg. (m) | F72: Quant. (u)
B74: Área interna do Museu | D74: 11 | E74: 9 | H74: =(D74)*(E74) -> 99
B75: Área da marquise do Museu | D75: 2 | E75: 0.82 | H75: =(E75)*(D75) -> 1.64
A77: Total = | H77: =(H74)+(H75) -> 100.64
A79: ED-50515 | B79: PREPARAÇÃO PARA EMASSAMENTO OU PINTURA (LÁTEX/ ACRÍLICA) EM TETO, INCLUSIVE UMA (1) DEMÃO DE SELADOR ACRÍLICO | I79: M2
D80: x | E80: y | F80: z | G80: w | H80: TOTAL
D81: Und.
B83: Área interna do Museu | D83: 11 | E83: 9 | H83: =(D83)*(E83) -> 99
B84: Área da marquise do Museu | D84: 2 | E84: 0.82 | H84: =(E84)*(D84) -> 1.64
A86: Total = | H86: =SUM(H83:H84) -> 100.64

Sheet Cronograma
A5: CRONOGRAMA FÍSICO-FINANCEIRO
A6: Prefeitura Municipal de Nanuque | C6: VALOR: | E6: =D28 -> 51643.8 | H6: DATA: 29/10/2024
A7: OBRA: REFORMA DA LAJE DE COBERTURA E DO TETO DO MUSEU DO VAQUEIRO | C7: LOCAL: RUA BARBACENA, Nº 04 - BAIRRO: CENTRO - NANUQUE/MG. | H7: PRAZO DA OBRA: 1 Mês
A8: ITEM | B8: ETAPAS/DESCRIÇÃO | C8: FÍSICO/ FINANCEIRO | D8: TOTAL ETAPAS | E8: 15 DIAS | F8: 30 DIAS
A9: 1 | B9: CONTRAPISO | C9: Físico % | D9: =D10/$D$28 -> 0.14503425 | E9: 1 | F9: 0
C10: Financeiro | D10: ='REFORMA- Planilha orçamentária'!H14 -> 7490.12 | E10: =D10*E9 -> 7490.12 | F10: =D10*F9 -> 0
A11: 2 | B11: MANTA ASFÁLTICA | C11: Físico % | D11: =D12/$D$28 -> 0.26239355 | E11: 1 | F11: 0
C12: Financeiro | D12: ='REFORMA- Planilha orçamentária'!H16 -> 13551 | E12: =D12*E11 -> 13551 | F12: =D12*F11 -> 0
A13: 3 | B13: PREPARAÇÃO DA SUPERFÍCIE | C13: Físico % | D13: =D14/$D$28 -> 0.0056395927 | E13: 1 | F13: 0
C14: Financeiro | D14: ='REFORMA- Planilha orçamentária'!H18 -> 291.25 | E14: =D14*E13 -> 291.25 | F14: =D14*F13 -> 0
A15: 4 | B15: PISO CIMENTADO | C15: Físico % | D15: =D16/$D$28 -> 0.24358413 | E15: 0 | F15: 1
C16: Financeiro | D16: ='REFORMA- Planilha orçamentária'!H20 -> 12579.61 | E16: =D16*E15 -> 0 | F16: =D16*F15 -> 12579.61
A17: 5 | B17: PLACA DE OBRA | C17: Físico % | D17: =D18/$D$28 -> 0.033655734 | E17: 1 | F17: 0
C18: Financeiro | D18: ='REFORMA- Planilha orçamentária'!H22 -> 1738.11 | E18: =D18*E17 -> 1738.11 | F18: =D18*F17 -> 0
A19: 6 | B19: REVESTIMENTO DE ARGAMASSA | C19: Físico % | D19: =D20/$D$28 -> 0.10714142 | E19: 1 | F19: 0
C20: Financeiro | D20: ='REFORMA- Planilha orçamentária'!H24 -> 5533.19 | E20: =D20*E19 -> 5533.19 | F20: =D20*F19 -> 0
A21: 7 | B21: MASSA CORRIDA (PVA E ACRÍLICA) | C21: Físico % | D21: =D22/$D$28 -> 0.08615342 | E21: 0 | F21: 1
C22: Financeiro | D22: ='REFORMA- Planilha orçamentária'!H26 -> 4449.29 | E22: =D22*E21 -> 0 | F22: =D22*F21 -> 4449.29
A23: 8 | B23: PINTURA ACRÍLICA | C23: Físico % | D23: =D24/$D$28 -> 0.095604894 | E23: 0 | F23: 1
C24: Financeiro | D24: ='REFORMA- Planilha orçamentária'!H28 -> 4937.4 | E24: =D24*E23 -> 0 | F24: =D24*F23 -> 4937.4
A25: 9 | B25: SELADOR DE PAREDE | C25: Físico % | D25: =D26/$D$28 -> 0.020793009 | E25: 0 | F25: 1
C26: Financeiro | D26: ='REFORMA- Planilha orçamentária'!H30 -> 1073.83 | E26: =D26*E25 -> 0 | F26: =D26*F25 -> 1073.83
A27: TOTAL | C27: Físico % | D27: =D9+D11+D13+D15+D17+D19+D21+D23+D25 -> 1 | E27: =E28/$D$28 -> 0.55386455 | F27: =F28/$D$28 -> 0.44613545
C28: Financeiro | D28: =D10+D12+D14+D16+D18+D20+D22+D24+D26 -> 51643.8 | E28: =E10+E12+E14+E16+E18+E20+E22+E24+E26 -> 28603.67 | F28: =F10+F12+F16+F18+F20+F22+F24+F26 -> 23040.13
D29: 3
G31: Observações:
B32: Assinatura do engenheiro/arquiteto/técnico em edificações | D32: CREA ou CAU
B35: Assinatura do Prefeito
