Workbook

Sheet Planilha Orcamentária
A1: PLANILHA ORÇAMENTÁRIA DE CUSTOS
A3: PREFEITURA MUNICIPAL DE JOÃO MONLEVADE | F3: FOLHA Nº: 01/01
A4: OBRA: RECONSTRUÇÃO DE ESCADA. 15,4M x 7,73m | F4: DATA: 10/12/2024
A5: LOCAL: AV. ARMANDO FAJARDO, N° 1566, BAIRRO LOANDA. | E5: FORMA DE EXECUÇÃO:
A6: REF.: SETOP CENTRAL 07/2024 SEM DESONERAÇÃO. | E6: ( ) | F6: DIRETA | G6: ( X ) | H6: INDIRETA
A7: PRAZO DE EXECUÇÃO: 02 MESES | G7: BDI | H7: 0.2436
A8: Todos os serviços deverão estar em conformidade com as respectivas normas e especificações atualizadas da Associação Brasileira de Normas Técnicas (ABNT).
A9: ITEM | B9: CÓDIGO | C9: DESCRIÇÃO | D9: UNID. | E9: QUANT. | F9: PREÇO UNITÁRIO S/ BDI | G9: PREÇO UNITÁRIO C/ BDI | H9: PREÇO TOTAL
A10: 1 | C10: ADMINISTRAÇÃO LOCAL
A11: 1.1 | B11: ACORDÃO 2622/2013 TCU | C11: ADMINISTRAÇÃO LOCAL CONFORME ACÓRDÃO Nº 2622/2013 - TCU - PLENÁRIO, TAXA PARA EDIFICAÇÃO QUARTIL MÉDIO EM PERCENTUAL DE 6,23% | D11: UNID | E11: 1 | F11: =G11/(1+H7) -> 3616.0904 | G11: =ROUND((H19+H25+H38+H42)*0.0623,2) -> 4496.97 | H11: =ROUND(G11*E11,2) -> 4496.97
C12: SUB-TOTAL: | H12: =SUM((H11)) -> 4496.97
A14: 2 | C14: INSTALAÇÕES INICIAIS DA OBRA
A15: 2.1 | B15: SETOP ED-16660 | C15: FORNECIMENTO E COLOCAÇÃO DE PLACA DE OBRA EM CHAPA GALVANIZADA #26, ESP. 0,45 MM, PLOTADA COM ADESIVO VINÍLICO, AFIXADA COM REBITES 4,8X40 MM, EM ESTRUTURA METÁLICA DE METALON 20X20 MM, ESP. 1,25 MM, INCLUSIVE SUPORTE EM EUCALIPTO AUTOCLAVADO PINTADO COM TINTA PVA DUAS (2) DEMÃOS | D15: m2 | E15: 2 | F15: 302.02 | G15: =ROUND(F15+(F15*$H$7),2) -> 375.59 | H15: =ROUND(E15*G15,2) -> 751.18
A16: 2.2 | B16: SETOP ED-50159 | C16: TAPUME FIXO DE PROTEÇÃO PARA FECHAMENTO DE OBRA EM CHAPA DE COMPENSADO, ESP. 12MM, COM MÓDULO NA DIMENSÃO DE (110X220)CM, INCLUSIVE PINTURA LÁTEX (PVA) COM DUAS (2) DEMÃOS, EXCLUSIVE ABERTURA PARA PORTÃO | D16: M | E16: 7 | F16: 186.06 | G16: =ROUND(F16+(F16*$H$7),2) -> 231.38 | H16: =ROUND(E16*G16,2) -> 1619.66
A17: 2.3 | B17: SETOP 50155 | C17: LOCAÇÃO DE BANHEIRO QUÍMICO, DIMENSÃO (110X120X230)CM, LINHA PADRÃO, CONTENDO UMA (1) PIA/HIGIENIZADOR DE MÃOS, INCLUSIVE MANUTENÇÃO E MOBILIZAÇÃO/DESMOBILIZAÇÃO. | D17: MÊS | E17: 2 | F17: 900 | G17: =ROUND(F17+(F17*$H$7),2) -> 1119.24 | H17: =ROUND(E17*G17,2) -> 2238.48
C19: SUB-TOTAL: | G19: =ROUND(F19+(F19*$H$7),2) -> 0 | H19: =SUM(H15+H16+H17) -> 4609.32
G20: =ROUND(F20+(F20*$H$7),2) -> 0
A21: 3 | C21: DEMOLIÇÕES | G21: =ROUND(F21+(F21*$H$7),2) -> 0 | N21: calculo volume da sapata para saber a escavação | S21: 1,10x1,30x0,60= 0,858m³ x2= 1,716m³ S3=S4 _ S1=S2 = 0,80*0,60*0,30*2= 0,288 _ S5=S6 1,30*1,05*0,60 * 2 = 1,638m³ _ S7=S8 = 1,55*1,30*0,80*2= 3,224m³ = total escavaçaõ sapata = 6,0m³
A22: 3.1 | B22: SETOP ED-48443 | C22: DEMOLIÇÃO MECANIZADA DE CONCRETO ARMADO, COM EQUIPAMENTO ELÉTRICO, INCLUSIVE AFASTAMENTO E EMPILHAMENTO, EXCLUSIVE TRANSPORTE E RETIRADA DO MATERIAL DEMOLIDO | D22: M³ | E22: 15.26 | F22: 253.58 | G22: =ROUND(F22+(F22*$H$7),2) -> 315.35 | H22: =ROUND(G22*E22,2) -> 4812.24
A23: 3.2 | B23: ED-51131 | C23: CARGA MANUAL DE MATERIAL DE QUALQUER NATUREZA SOBRE CAMINHÃO, EXCLUSIVE TRANSPORTE | D23: M³ | E23: =E22+E28 -> 21.26 | F23: 40.84 | G23: =ROUND(F23+(F23*$H$7),2) -> 50.79 | H23: =ROUND(G23*E23,2) -> 1079.8 | K23: incluir entulho de demolição e escavaççao para fundação
A24: 3.3 | B24: ED-51125 | C24: TRANSPORTE DE MATERIAL DEMOLIDO EM CAÇAMBA, EXCLUSIVE CARGA MANUAL OU MECÂNICA | D24: M³ | E24: =E22+E23 -> 36.52 | F24: 75 | G24: =ROUND(F24+(F24*$H$7),2) -> 93.27 | H24: =ROUND(G24*E24,2) -> 3406.22 | K24: demolição e escavação
C25: SUB-TOTAL: | G25: =ROUND(F25+(F25*$H$7),2) -> 0 | H25: =SUM(H22+H23+H24) -> 9298.26 | I25: FUNDAÇ | J25: PAV 1 | K25: PAV 2 | L25: PAV 3
A27: 4 | C27: ESCADA
A28: 4.1 | B28: SETOP ED-51110 | C28: ESCAVAÇÃO MANUAL DE TERRA (DESATERRO MANUAL), INCLUSIVE DESCARGA LATERAL, EXCLUSIVE RETIRADA E TRANSPORTE DO MATERIAL ESCAVADO | D28: M³ | E28: 6 | F28: 40.8 | G28: =ROUND(F28+(F28*$H$7),2) -> 50.74 | H28: =ROUND(G28*E28,2) -> 304.44 | N28: volume das sapatas
A29: 4.2 | B29: ED-49646 | C29: FÔRMA E DESFORMA DE COMPENSADO RESINADO, ESP. 14MM, REAPROVEITAMENTO (3X), EXCLUSIVE ESCORAMENTO | D29: M² | E29: =I29+J29+K29+L29 -> 128.77 | F29: 63.49 | G29: =ROUND(F29+(F29*$H$7),2) -> 78.96 | H29: =ROUND(G29*E29,2) -> 10167.68 | I29: 21.3 | J29: 36.7 | K29: 45.74 | L29: 25.03
A30: 4.3 | B30: SETOP ED-48298 | C30: CORTE, DOBRA E MONTAGEM DE AÇO CA-50/60, INCLUSIVE ESPAÇADOR | D30: KG | E30: =I30+J30+K30+L30 -> 1417 | F30: 11.75 | G30: =ROUND(F30+(F30*$H$7),2) -> 14.61 | H30: =ROUND(G30*E30,2) -> 20702.37 | I30: 231.8 | J30: 401.2 | K30: 448.9 | L30: 335.1
A31: 4.4 | B31: SETOP ED-9075 | C31: FORNECIMENTO DE ANDAIME METÁLICO PARA FACHADA (LOCAÇÃO), INCLUSIVE PISO METÁLICO E SAPATAS, EXCLUSIVE MONTAGEM E DESMONTAGEM | D31: M²XMÊS | E31: 24 | F31: 13.5 | G31: =ROUND(F31+(F31*$H$7),2) -> 16.79 | H31: =ROUND(G31*E31,2) -> 402.96 | I31: 8m*3m*24m²
A32: 4.5 | B32: SETOP ED-48246 | C32: MONTAGEM E DESMONTAGEM DE ANDAIME METÁLICO PARA FACHADA COM PISO METÁLICO, EXCLUSIVE FORNECIMENTO DO ANDAIME E RODAPÉ/GUARDA-CORPO EM MADEIRA | D32: M² | E32: 24 | F32: 8.66 | G32: =ROUND(F32+(F32*$H$7),2) -> 10.77 | H32: =ROUND(G32*E32,2) -> 258.48
A33: 4.6 | B33: SETOP ED-49620 | C33: FORNECIMENTO DE CONCRETO ESTRUTURAL, PREPARADO EM OBRA, COM FCK 30MPA, INCLUSIVE LANÇAMENTO, ADENSAMENTO E ACABAMENTO | D33: M³ | E33: =I33+J33+K33+L33 -> 15.26 | F33: 819.88 | G33: =ROUND(F33+(F33*$H$7),2) -> 1019.6 | H33: =ROUND(G33*E33,2) -> 15559.1 | I33: 2.7 | J33: 4.13 | K33: 6.03 | L33: 2.4
A34: 4.7 | B34: ED-50936 | C34: CORRIMÃO SIMPLES EM TUBO GALVANIZADO, COM COSTURA, DIÂMETRO 1.1/2", ESP. 3MM, FIXADO EM PISO COM MONTANTE VERTICAL, DIÂMETRO 1.1/2", INCLUSIVE SUPORTE PARA CORRIMÃO EM BARRA CHATA (1"X1/2"), EXCLUSIVE PINTURA | D34: M | E34: 30.8 | F34: 211.37 | G34: =ROUND(F34+(F34*$H$7),2) -> 262.86 | H34: =ROUND(G34*E34,2) -> 8096.09 | I34: 15,40*2=30,8m | O34: =827.9*36 -> 29804.4
A35: 4.8 | B35: ED-51097 | C35: COMPACTAÇÃO MANUAL DE ATERRO COM SOQUETE, INCLUSIVE ESPALHAMENTO MANUAL | D35: M³ | E35: 11.55 | F35: 69.65 | G35: =ROUND(F35+(F35*$H$7),2) -> 86.62 | H35: =ROUND(G35*E35,2) -> 1000.46 | I35: 23m²*0,50m=11,55m³
A36: 4.9 | B36: ED-50496 | C36: PINTURA ESMALTE EM TUBO GALVANIZADO, DUAS (2) DEMÃOS, INCLUSIVE UMA (1) DEMÃO DE FUNDO ANTICORROSIVO (AMARELA) | D36: M | E36: 30.8 | F36: 25.84 | G36: =ROUND(F36+(F36*$H$7),2) -> 32.13 | H36: =ROUND(G36*E36,2) -> 989.6 | I36: 36*5 (4barras horizontais e 1vertical)
A37: 4.10 | B37: ED-19633 | C37: ESCORAMENTO METÁLICO PARA LAJE E VIGA EM CONCRETO ARMADO, TIPO "A", ALTURA DE (200 ATÉ 310)CM, INCLUSIVE DESCARGA, MONTAGEM, DESMONTAGEM E CARGA | D37: m2xmês | E37: 23 | F37: 19.51 | G37: =ROUND(F37+(F37*$H$7),2) -> 24.26 | H37: =ROUND(G37*E37,2) -> 557.98
C38: SUB-TOTAL: | H38: =SUM(H28:H37) -> 58039.16
A40: 5 | C40: LIMPEZA FINAL
A41: 5.1 | B41: SETOP ED-50266 | C41: LIMPEZA FINAL PARA ENTREGA DA OBRA | D41: M² | E41: 25 | F41: 7.58 | G41: =ROUND(F41+(F41*$H$7),2) -> 9.43 | H41: =ROUND((G41*E41),2) -> 235.75
C42: SUB-TOTAL: | G42: =ROUND(F42+(F42*$H$7),2) -> 0 | H42: =SUM(H41) -> 235.75
A44: 6 | C44: MOBILIZAÇÃO E DESMOBILIZAÇÃO
A45: 6.1 | B45: SETOP ED-50392 | C45: MOBILIZAÇÃO E DESMOBILIZAÇÃO PARA OBRAS ATÉ O VALOR DE 1.000.000,00 - 0,5% DO VALOR CONTRATUAL | D45: % | E45: 1 | F45: =G45/(1+H7) -> 308.29849 | G45: =ROUND((H12+H19+H25+H38+H42)*0.005,2) -> 383.4 | H45: =ROUND(G45*E45,2) -> 383.4
C46: SUB-TOTAL: | H46: =SUM(H45) -> 383.4
A48: TOTAL DA OBRA: | H48: =ROUND((H12+H19+H25+H38+H42+H46),2) -> 77062.86
C53: _________________________________________________ | E53: CREA-MG
C54: ENG°. CIVIL LUAN MARCELINO BARBOZA | E54: 204.675/D
A58: 4.11 | B58: ED-50367 | C58: SERVENTE COM ENCARGOS COMPLEMENTARES | D58: hora | E58: 60 | F58: 20.42 | G58: =ROUND(F58+(F58*$H$7),2) -> 25.39 | H58: =ROUND(G58*E58,2) -> 1523.4

Sheet Cronograma
A1: FL: ÚNICA | B1: CRONOGRAMA FÍSICO-FINANCEIRO
A2: MUNICÍPIO: | B2: JOÃO MONLEVADE / MG
A3: OBRA: | B3: OBRA: RECONSTRUÇÃO DE ESCADA. 15,4M x 7,73m | I3: _____________________
I4: Luan Marcelino Barboza
A5: LOCAL: | B5: LOCAL: AV. ARMANDO FAJARDO, N° 1566, BAIRRO LOANDA. | I5: Eng°.Civil
A6: PRAZO: | B6: 02 (MESES) MESES | D6: DATA : | E6: 45636 | I6: CREA-MG 204.675/D
A7: CRONOGRAMA FÍSICO-FINANCEIRO
A8: ITEM | B8: SERVIÇOS | E8: CUSTO | F8: INCID. | G8: Mês 1 | H8: Mês 2 | I8: TOTAL
A9: 1 | B9: ADMINISTRAÇÃO LOCAL | E9: ='Planilha Orcamentária'!H12 -> 4496.97 | F9: =E9/E$21 -> 0.058354569 | G9: 0.5 | H9: 0.5 | I9: 1
G10: =(G9*E9) -> 2248.485 | H10: =(H9*E9) -> 2248.485 | I10: =SUM(G10:H10) -> 4496.97
A11: 2 | B11: INSTALAÇÕES INICIAIS DA OBRA | E11: ='Planilha Orcamentária'!H19 -> 4609.32 | F11: =E11/E$21 -> 0.05981247 | G11: 1 | I11: 1
G12: =(G11*E11) -> 4609.32 | I12: =SUM(G12:H12) -> 4609.32
A13: 3 | B13: DEMOLIÇÕES | E13: ='Planilha Orcamentária'!H25 -> 9298.26 | F13: =E13/E$21 -> 0.12065812 | G13: 1 | I13: 1
G14: =(G13*E13) -> 9298.26 | I14: =SUM(G14:H14) -> 9298.26
A15: 4 | B15: ESCADA | E15: ='Planilha Orcamentária'!H38 -> 58039.16 | F15: =E15/E$21 -> 0.75314049 | G15: 0.3 | H15: 0.7 | I15: 1
G16: =(G15*E15) -> 17411.748 | H16: =(H15*E15) -> 40627.412 | I16: =SUM(G16:H16) -> 58039.16
A17: 5 | B17: LIMPEZA FINAL | E17: ='Planilha Orcamentária'!H42 -> 235.75 | F17: =E17/E$21 -> 0.0030591909 | H17: 1 | I17: 1
H18: =E17*H17 -> 235.75 | I18: =SUM(G18:H18) -> 235.75
A19: 6 | B19: MOBILIZAÇÃO E DESMOBILIZAÇÃO | E19: ='Planilha Orcamentária'!H46 -> 383.4 | F19: =E19/E$21 -> 0.0049751592 | G19: 0.5 | H19: 0.5 | I19: =G19+H19 -> 1
G20: =E19*G19 -> 191.7 | H20: =E19*H19 -> 191.7 | I20: =SUM(G20+H20) -> 383.4
D21: TOTAL | E21: =SUM(E9:E20) -> 77062.86 | F21: =SUM(F9:F20) -> 1 | G21: =SUM(G10+G12+G14+G16+G18+G20) -> 33759.513 | H21: =SUM(H10+H12+H14+H16+H18+H20) -> 43303.347 | I21: =SUM(I10+I12+I14+I16+I18+I20) -> 77062.86
D22: % MENSAL | G22: =G21/$E$21 -> 0.4380776 | H22: =H21/$E$21 -> 0.5619224 | I22: =SUM(G22:H22) -> 1
D23: % ACUMULADO | G23: =G22 -> 0.4380776 | H23: =H22+G23 -> 1
