Workbook
Name ___sub1: #REF!
Name ___sub2: #REF!
Name ___sub3: #REF!
Name _sub1: #REF!
Name _sub2: #REF!
Name _sub3: #REF!
Name a: #REF!
Name AREA: #REF!
Name B: #REF!
Name BDI: #REF!
Name DOLAR: [1]INSUMOS!$G$8
Name ersdcefgbrnghrbgbrgfbgfwbvbfgvwfv: #REF!
Name Excel_BuiltIn_Print_Area_2: #REF!
Name Excel_BuiltIn_Print_Area_2_1: #REF!
Name Excel_BuiltIn_Print_Area_2_1_1: #REF!
Name Excel_BuiltIn_Print_Area_2_1_1_1: #REF!
Name Excel_BuiltIn_Print_Area_4: #REF!
Name leosde: #REF!
Name NCOMPOSICOES: 7
Name NCOTACOES: 15
Name obra: #REF!
Name obra1: #REF!
Name obra2: #REF!
Name obra3: #REF!
Name obra4: #REF!
Name obra5: #REF!
Name P.1: #REF!
Name P.10: #REF!
Name P.11: #REF!
Name P.12: #REF!
Name P.13: #REF!
Name P.14: #REF!
Name P.15: #REF!
Name P.2: #REF!
Name P.3: #REF!
Name P.4: #REF!
Name P.5: #REF!
Name P.6: #REF!
Name P.7: #REF!
Name P.8: #REF!
Name P.9: #REF!
Name Pedreiro_de_acabamento: [1]INSUMOS!$B$11
Name PP1.1: #REF!
Name PP1.10: #REF!
Name PP1.11: #REF!
Name PP1.12: #REF!
Name PP1.13: #REF!
Name PP1.14: #REF!
Name PP1.15: #REF!
Name PP1.2: #REF!
Name PP1.3: #REF!
Name PP1.4: #REF!
Name PP1.5: #REF!
Name PP1.6: #REF!
Name PP1.7: #REF!
Name PP1.8: #REF!
Name PP1.9: #REF!
Name T.1: #REF!
Name T.10: #REF!
Name T.11: #REF!

Sheet Memória de Cálculo
A2: MEMÓRIA DE CÁLCULO DE QUANTITATIVOS
A3: PREFEITURA MUNICIPAL DE CIDADE
A4: OBRA: Recapeamento asfaltico em CBUQ | F4: FOLHA Nº: | G4: 01/01.
A5: ='Planilha Orcamentária'!A5:E5 -> LOCAL: Rua Ludovico dos Santos, Rua do Contorno e Rua da Lagoa / Bairros: Centro e Taquaral | F5: DATA: | G5: =TODAY() -> 45930
A7: ITEM | C7: CÓDIGO | D7: DESCRIÇÃO | E7: UNIDADE | F7: QUANTIDADE | G7: FÓRMULA DO CÁLCULO
A8: 1.0 | D8: SERVIÇOS PRELIMINARES
A9: 1.1 | B9: SICOR/ SEINFRA | C9: ED-28427 | D9: FORNECIMENTO E COLOCAÇÃO DE PLACA DE OBRA EM CHAPA GALVANIZADA (3,00 X 1,5 0 M) - EM CHAPA GALVANIZADA 0,26 AFIXADAS COM REBITES 540 E PARAFUSOS 3/8, EM ESTRUTURA METÁLICA VIGA U 2" ENRIJECIDA COM METALON 20 X 20, SUPORTE EM EUCALIPTO AUTOCLAVADO PINTADAS | E9: U | F9: 1 | G9: 1,00 unidade conforme padrão exigido
D10: LIMPEZA INICIAL DE OBRA | E10: A CARGO DA PREFEITURA
D11: TAPA BURACO | E11: A CARGO DA PREFEITURA
A12: 2.0 | D12: MOBILIZAÇÃO E DESMOBILIZAÇÃO DE OBRA
A13: 2.1 | B13: SICOR/ SEINFRA | C13: ED-50392 | D13: MOBILIZAÇÃO E DESMOBILIZAÇÃO DE OBRA EM CENTRO URBANO OU REGIÃO LIMÍTROFE COM VALOR ATÉ 1.000.000,00 ...... | E13: % | F13: 0.5
A15: 3.0 | D15: SERVIÇOS DE TERRAPLENAGEM
A16: 3.1 | B16: SICRO/ DNIT | C16: 4011209 | D16: REGULARIZAÇÃO DO SUBLEITO | E16: M² | F16: 420 | G16: *evidenciar a expressão matemática do cálculo do quantitativo obtido conforme cotas e informações constantes do(s) projeto(s)
A17: 3.2 | B17: SICRO/ DNIT | C17: 4011219 | D17: BASE DE SOLO ESTABILIZADO GRANULOMETRICAMENTE SEM MISTURA COM MATERIAL DE JAZIDA | E17: M³ | F17: 420 | G17: *evidenciar a expressão matemática do cálculo do quantitativo obtido conforme cotas e informações constantes do(s) projeto(s)
A18: 3.3 | D18: AQUISIÇÃO DE MATERIAL DE JAZIDA PARA BASE - CASCALHO | E18: M³ | F18: 2100 | G18: A CARGO DA PREFEITURA
A19: 3.4 | B19: SICRO/ DNIT | C19: 5915321 | D19: TRANSPORTE COM CAMINHÃO BASCULANTE DE 14 M³ - RODOVIA PAVIMENTADA | E19: TxKM | G19: *evidenciar a expressão matemática do cálculo do quantitativo obtido conforme cotas e informações constantes do(s) projeto(s)
A21: 3.0 | D21: SERVIÇOS DE PAVIMENTAÇÃO
A22: 4.1 | B22: SICRO/ DNIT | C22: 4011352 | D22: IMPRIMAÇÃO COM EMULSÃO ASFÁLTICA (EAI) | E22: M² | F22: 600 | G22: *evidenciar a expressão matemática do cálculo do quantitativo obtido conforme cotas e informações constantes do(s) projeto(s)
A23: 4.2 | B23: DER-MG | C23: ARP 365/2023 (Preço Unit. com ICMS) | D23: FORNECIMENTO DE MATERIAL BETUMINOSO EAI - EMULSÃO ASFÁLTICA PARA IMPRIMAÇÃO (Preço na Ata de registro de preços do DER na página 281 do Diário Oficial do Estado com ICMS) | E23: T | F23: 600 | G23: *evidenciar a expressão matemática do cálculo do quantitativo obtido conforme cotas e informações constantes do(s) projeto(s)
A24: 4.3 | B24: DER-MG | C24: TABELA DE FRETE - (Pág. XX) | D24: FRETE DE MATERIAL BETUMINOSO - DER (PREÇO NA TABELA DE ACORDO COM A DISTANCIA EM KM. QUANTIDADE = ÁREA m² * 0,0013 t/m² ) | E24: T | G24: *evidenciar a expressão matemática do cálculo do quantitativo obtido conforme cotas e informações constantes do(s) projeto(s)
A25: 3.1 | B25: SICRO/ DNIT | C25: 4011353 | D25: PINTURA DE LIGAÇÃO (RR-1C) | E25: M² | F25: 9728 | G25: 1520 x 6,40
A26: 3.2 | B26: DER-MG | C26: ARP 365/2023 (Preço Unit. com ICMS) | D26: EMULSÃO ASFÁLTICA - EMULSÃO ASFÁLTICA DE PETRÓLEO; RUPTURA RÁPIDA - RR 1C -DNIT 165/2013 - EM - Emulsões Asfálticas Catiônicas. | E26: T | F26: =ROUND((F25*0.0005),2) -> 4.86 | G26: 9728M² x 0,0005T/M² = 4,86
A27: 3.3 | B27: DER-MG | C27: TABELA DE FRETE - (Tabela 2 - Quente com ICMS 18% - Página 1 de 4) | D27: FRETE DE MATERIAL BETUMINOSO - DER (PREÇO NA TABELA DE ACORDO COM A DISTANCIA EM KM. QUANTIDADE = ÁREA m² * 0,0005 t/m²) | E27: T | F27: =F26 -> 4.86 | G27: 9728M² x 0,0005T/M² = 4,86
A28: 3.4 | B28: SICOR/ SEINFRA | C28: ED-7623 | D28: EXECUÇÃO E APLICAÇÃO DE CONCRETO BETUMINOSO USINADO A QUENTE (CBUQ), MASSA COMERCIAL, INCLUINDO FORNECIMENTO E TRANSPORTE DOS AGREGADOS E ATERIAL BETUMINOSO, EXCLUSIVE TRANSPORTE DA MASSA ASFÁLTICA ATÉ A PISTA | E28: M³ | F28: =ROUND((1520*6.4*0.03),2) -> 291.84 | G28: (C x L x H)= 1520 x 6,4 x 0,03 = 291,84m³
A29: 3.5 | B29: SICRO/ DNIT | C29: 5914612 | D29: TRANSPORTE DE MISTURA BETUMINOSA A QUENTE COM CAMINHÃO COM CAÇAMBA TÉRMICA DE 6 M³ - RODOVIA PAVIMENTADA | E29: TXKM | F29: 68360.6 | G29: TRANSPORTE DO CBUQ VOLUME DE CBUQ = 291,84 M3. CÁLCULO = 291,84 M3 X 97,6 KM x 2,4t/m3 = 68.360,60 TxKM
A31: 4.0 | D31: PINTURA VIÁRIA
A32: 4.1 | B32: SICOR/ SEINFRA | C32: 5213401 | D32: Pintura de faixa com tinta acrílica - espessura de 0,6 mm | E32: M² | F32: 380 | G32: CxL= (1520 x 0,10/2) + (1520 x 0,10 x 2)
A33: 5.2 | B33: SICOR/ SEINFRA | C33: ED-14762 | D33: SARJETA DE CONCRETO URBANO (SCU), TIPO 1, COM FCK 15 MPA , LARGURA DE 50CM COM INCLINAÇÃO DE 3%, ESP. 7CM, PADRÃO DER-MG, EXCLUSIVE MEIO-FIO, INCLUSIVE ESCAVAÇÃO, APILAOMENTO E TRANSPORTE COM RETIRADA DO MATERIAL ESCAVADO (EM CAÇAMBA) | E33: M | F33: 20 | G33: *evidenciar a expressão matemática do cálculo do quantitativo obtido conforme cotas e informações constantes do(s) projeto(s)
A34: 5.0 | D34: ADM. LOCAL | E34: U | F34: 1
D38: Pedro Henrique Souto dos Santos
D39: Engenheiro(a) Civil
D40: CREA: 370454 MG
D44: José Ismar de Assis Neto
D45: Prefeito(a) Municipal

Sheet Planilha Orcamentária
A2: PLANILHA ORÇAMENTÁRIA DE CUSTOS
A3: PREFEITURA MUNICIPAL DE VIRGOLÂNDIA - MG | F3: FOLHA Nº: | H3: 01/01.
A4: OBRA: Recapeamento asfaltico em CBUQ | F4: DATA: | H4: =TODAY() -> 45930
A5: LOCAL: Rua Ludovico dos Santos, Rua do Contorno e Rua da Lagoa / Bairros: Centro e Taquaral | F5: FORMA DE EXECUÇÃO:
A6: REGIÃO/MÊS DE REFERÊNCIA: TABELA SICRO/SEINFRA - CENTRAL - 04/2025 - SEM DESONERAÇÃO SICRO 04/2025 - NÃO DESONERADO | F6: ( ) | G6: DIRETA | H6: ( X ) | I6: INDIRETA
A7: COMPOSIÇÃO/DEMONSTRATIVO DE BDI - EM ANEXO | F7: % ISS MUNICIPAL: | G7: 0.03 | H7: BDI: | I7: 0.2258
G8: BDI DIFERENCIADO (MATERIAL): | I8: 0.1518
A10: ITEM | C10: CÓDIGO | D10: DESCRIÇÃO | E10: UNIDADE | F10: QUANTIDADE | G10: PREÇO UNITÁRIO S/ BDI | H10: PREÇO UNITÁRIO C/ BDI | I10: PREÇO TOTAL
A11: ='Memória de Cálculo'!A8 -> 1.0 | D11: ='Memória de Cálculo'!D8 -> SERVIÇOS PRELIMINARES | H11: =ROUND(G11+(G11*$I$7),2) -> 0 | I11: =SUM(I12:I12) -> 1417.26
A12: ='Memória de Cálculo'!A9 -> 1.1 | B12: ='Memória de Cálculo'!B9 -> SICOR/ SEINFRA | C12: ='Memória de Cálculo'!C9 -> ED-28427 | D12: ='Memória de Cálculo'!D9 -> FORNECIMENTO E COLOCAÇÃO DE PLACA DE OBRA EM CHAPA GALVANIZADA (3,00 X 1,5 0 M) - EM CHAPA GALVANIZADA 0,26 AFIXADAS COM REBITES 540 E PARAFUSOS 3/8, EM ESTRUTURA METÁLICA VIGA U 2" ENRIJECIDA COM METALON 20 X 20, SUPORTE EM EUCALIPTO AUTOCLAVADO PINTADAS | E12: ='Memória de Cálculo'!E9 -> U | F12: ='Memória de Cálculo'!F9 -> 1 | G12: 1156.19 | H12: =ROUND(G12+(G12*$I$7),2) -> 1417.26 | I12: =ROUND((F12*H12),2) -> 1417.26
A13: 1.2 | D13: LIMPEZA INICIAL DE OBRA | E13: A CARGO DA PREFEITURA
A14: 1.3 | B14: ='Memória de Cálculo'!B11 -> 0 | C14: ='Memória de Cálculo'!C11 -> 0 | D14: TAPA BURACO | E14: A CARGO DA PREFEITURA
A15: ='Memória de Cálculo'!A12 -> 2.0 | B15: ='Memória de Cálculo'!B12 -> 0 | C15: ='Memória de Cálculo'!C12 -> 0 | D15: ='Memória de Cálculo'!D12 -> MOBILIZAÇÃO E DESMOBILIZAÇÃO DE OBRA | E15: ='Memória de Cálculo'!E12 -> 0 | H15: =ROUND(G15+(G15*$I$7),2) -> 0 | I15: =SUM(I16) -> 4055.3535
A16: ='Memória de Cálculo'!A13 -> 2.1 | B16: ='Memória de Cálculo'!B13 -> SICOR/ SEINFRA | C16: ='Memória de Cálculo'!C13 -> ED-50392 | D16: ='Memória de Cálculo'!D13 -> MOBILIZAÇÃO E DESMOBILIZAÇÃO DE OBRA EM CENTRO URBANO OU REGIÃO LIMÍTROFE COM VALOR ATÉ 1.000.000,00 ...... | E16: ='Memória de Cálculo'!E13 -> % | F16: ='Memória de Cálculo'!F13 -> 0.5 | G16: =I38 -> 811070.7 | H16: =G16*(F16/100) -> 4055.3535 | I16: =H16 -> 4055.3535
A17: ='Memória de Cálculo'!A14 -> 0 | B17: ='Memória de Cálculo'!B14 -> 0 | C17: ='Memória de Cálculo'!C14 -> 0 | D17: ='Memória de Cálculo'!D14 -> 0 | E17: ='Memória de Cálculo'!E14 -> 0 | H17: =ROUND(G17+(G17*$I$7),2) -> 0 | I17: =SUM(I22:I23) -> 0
A18: ='Memória de Cálculo'!A15 -> 3.0 | B18: ='Memória de Cálculo'!B15 -> 0 | C18: ='Memória de Cálculo'!C15 -> 0 | D18: ='Memória de Cálculo'!D15 -> SERVIÇOS DE TERRAPLENAGEM | E18: ='Memória de Cálculo'!E15 -> 0 | H18: =ROUND(G18+(G18*$I$7),2) -> 0 | I18: =SUM(I19:I22) -> 0
A19: ='Memória de Cálculo'!A16 -> 3.1 | B19: ='Memória de Cálculo'!B16 -> SICRO/ DNIT | C19: ='Memória de Cálculo'!C16 -> 4011209 | D19: ='Memória de Cálculo'!D16 -> REGULARIZAÇÃO DO SUBLEITO | E19: ='Memória de Cálculo'!E16 -> M² | F19: ='Memória de Cálculo'!F16 -> 420 | H19: =ROUND(G19+(G19*$I$7),2) -> 0 | I19: =ROUND((F19*H19),2) -> 0
A20: ='Memória de Cálculo'!A17 -> 3.2 | B20: ='Memória de Cálculo'!B17 -> SICRO/ DNIT | C20: ='Memória de Cálculo'!C17 -> 4011219 | D20: ='Memória de Cálculo'!D17 -> BASE DE SOLO ESTABILIZADO GRANULOMETRICAMENTE SEM MISTURA COM MATERIAL DE JAZIDA | E20: ='Memória de Cálculo'!E17 -> M³ | F20: ='Memória de Cálculo'!F17 -> 420 | H20: =ROUND(G20+(G20*$I$7),2) -> 0 | I20: =ROUND((F20*H20),2) -> 0
A21: ='Memória de Cálculo'!A18 -> 3.3 | B21: ='Memória de Cálculo'!B18 -> 0 | C21: ='Memória de Cálculo'!C18 -> 0 | D21: ='Memória de Cálculo'!D18 -> AQUISIÇÃO DE MATERIAL DE JAZIDA PARA BASE - CASCALHO | E21: ='Memória de Cálculo'!E18 -> M³ | F21: ='Memória de Cálculo'!F18 -> 2100 | G21: ='Memória de Cálculo'!G18 -> A CARGO DA PREFEITURA
A22: ='Memória de Cálculo'!A19 -> 3.4 | B22: ='Memória de Cálculo'!B19 -> SICRO/ DNIT | C22: ='Memória de Cálculo'!C19 -> 5915321 | D22: ='Memória de Cálculo'!D19 -> TRANSPORTE COM CAMINHÃO BASCULANTE DE 14 M³ - RODOVIA PAVIMENTADA | E22: ='Memória de Cálculo'!E19 -> TxKM | F22: ='Memória de Cálculo'!F19 -> 0 | H22: =ROUND(G22+(G22*$I$7),2) -> 0 | I22: =ROUND((F22*H22),2) -> 0
A23: ='Memória de Cálculo'!A20 -> 0 | B23: ='Memória de Cálculo'!B20 -> 0 | C23: ='Memória de Cálculo'!C20 -> 0 | D23: ='Memória de Cálculo'!D20 -> 0 | E23: ='Memória de Cálculo'!E20 -> 0 | I23: =ROUND((F23*H23),2) -> 0
A24: ='Memória de Cálculo'!A21 -> 3.0 | B24: ='Memória de Cálculo'!B21 -> 0 | C24: ='Memória de Cálculo'!C21 -> 0 | D24: ='Memória de Cálculo'!D21 -> SERVIÇOS DE PAVIMENTAÇÃO | E24: ='Memória de Cálculo'!E21 -> 0 | H24: =ROUND(G24+(G24*$I$7),2) -> 0 | I24: =SUM(I25:I32) -> 729616.7
A25: ='Memória de Cálculo'!A22 -> 4.1 | B25: ='Memória de Cálculo'!B22 -> SICRO/ DNIT | C25: ='Memória de Cálculo'!C22 -> 4011352 | D25: ='Memória de Cálculo'!D22 -> IMPRIMAÇÃO COM EMULSÃO ASFÁLTICA (EAI) | E25: ='Memória de Cálculo'!E22 -> M² | F25: ='Memória de Cálculo'!F22 -> 600 | H25: =ROUND(G25+(G25*$I$7),2) -> 0 | I25: =ROUND((F25*H25),2) -> 0
A26: ='Memória de Cálculo'!A23 -> 4.2 | B26: ='Memória de Cálculo'!B23 -> DER-MG | C26: ='Memória de Cálculo'!C23 -> ARP 365/2023 (Preço Unit. com ICMS) | D26: ='Memória de Cálculo'!D23 -> FORNECIMENTO DE MATERIAL BETUMINOSO EAI - EMULSÃO ASFÁLTICA PARA IMPRIMAÇÃO (Preço na Ata de registro de preços do DER na página 281 do Diário Oficial do Estado com ICMS) | E26: ='Memória de Cálculo'!E23 -> T | F26: ='Memória de Cálculo'!F23 -> 600 | H26: =ROUND(G26+(G26*$I$8),2) -> 0 | I26: =ROUND((F26*H26),2) -> 0
A27: ='Memória de Cálculo'!A24 -> 4.3 | B27: ='Memória de Cálculo'!B24 -> DER-MG | C27: ='Memória de Cálculo'!C24 -> TABELA DE FRETE - (Pág. XX) | D27: ='Memória de Cálculo'!D24 -> FRETE DE MATERIAL BETUMINOSO - DER (PREÇO NA TABELA DE ACORDO COM A DISTANCIA EM KM. QUANTIDADE = ÁREA m² * 0,0013 t/m² ) | E27: ='Memória de Cálculo'!E24 -> T | F27: 1.4 | G27: 46 | H27: =ROUND(G27+(G27*$I$8),2) -> 52.98 | I27: =ROUND((F27*H27),2) -> 74.17
A28: ='Memória de Cálculo'!A25 -> 3.1 | B28: ='Memória de Cálculo'!B25 -> SICRO/ DNIT | C28: ='Memória de Cálculo'!C25 -> 4011353 | D28: ='Memória de Cálculo'!D25 -> PINTURA DE LIGAÇÃO (RR-1C) | E28: ='Memória de Cálculo'!E25 -> M² | F28: ='Memória de Cálculo'!F25 -> 9728 | G28: 0.29 | H28: =ROUND(G28+(G28*$I$7),2) -> 0.36 | I28: =ROUND((F28*H28),2) -> 3502.08
A29: ='Memória de Cálculo'!A26 -> 3.2 | B29: ='Memória de Cálculo'!B26 -> DER-MG | C29: ='Memória de Cálculo'!C26 -> ARP 365/2023 (Preço Unit. com ICMS) | D29: ='Memória de Cálculo'!D26 -> EMULSÃO ASFÁLTICA - EMULSÃO ASFÁLTICA DE PETRÓLEO; RUPTURA RÁPIDA - RR 1C -DNIT 165/2013 - EM - Emulsões Asfálticas Catiônicas. | E29: ='Memória de Cálculo'!E26 -> T | F29: ='Memória de Cálculo'!F26 -> 4.86 | G29: 3469.43 | H29: =ROUND(G29+(G29*$I$8),2) -> 3996.09 | I29: =ROUND((F29*H29),2) -> 19421
A30: ='Memória de Cálculo'!A27 -> 3.3 | B30: ='Memória de Cálculo'!B27 -> DER-MG | C30: ='Memória de Cálculo'!C27 -> TABELA DE FRETE - (Tabela 2 - Quente com ICMS 18% - Página 1 de 4) | D30: ='Memória de Cálculo'!D27 -> FRETE DE MATERIAL BETUMINOSO - DER (PREÇO NA TABELA DE ACORDO COM A DISTANCIA EM KM. QUANTIDADE = ÁREA m² * 0,0005 t/m²) | E30: ='Memória de Cálculo'!E27 -> T | F30: ='Memória de Cálculo'!F27 -> 4.86 | G30: 395.91 | H30: =ROUND(G30+(G30*$I$8),2) -> 456.01 | I30: =ROUND((F30*H30),2) -> 2216.21
A31: ='Memória de Cálculo'!A28 -> 3.4 | B31: ='Memória de Cálculo'!B28 -> SICOR/ SEINFRA | C31: ='Memória de Cálculo'!C28 -> ED-7623 | D31: ='Memória de Cálculo'!D28 -> EXECUÇÃO E APLICAÇÃO DE CONCRETO BETUMINOSO USINADO A QUENTE (CBUQ), MASSA COMERCIAL, INCLUINDO FORNECIMENTO E TRANSPORTE DOS AGREGADOS E ATERIAL BETUMINOSO, EXCLUSIVE TRANSPORTE DA MASSA ASFÁLTICA ATÉ A PISTA | E31: ='Memória de Cálculo'!E28 -> M³ | F31: ='Memória de Cálculo'!F28 -> 291.84 | G31: 1776.05 | H31: =ROUND(G31+(G31*$I$7),2) -> 2177.08 | I31: =ROUND((F31*H31),2) -> 635359.03
A32: ='Memória de Cálculo'!A29 -> 3.5 | B32: ='Memória de Cálculo'!B29 -> SICRO/ DNIT | C32: ='Memória de Cálculo'!C29 -> 5914612 | D32: ='Memória de Cálculo'!D29 -> TRANSPORTE DE MISTURA BETUMINOSA A QUENTE COM CAMINHÃO COM CAÇAMBA TÉRMICA DE 6 M³ - RODOVIA PAVIMENTADA | E32: ='Memória de Cálculo'!E29 -> TXKM | F32: ='Memória de Cálculo'!F29 -> 68360.6 | G32: 0.82 | H32: =ROUND(G32+(G32*$I$7),2) -> 1.01 | I32: =ROUND((F32*H32),2) -> 69044.21
A33: ='Memória de Cálculo'!A30 -> 0 | B33: ='Memória de Cálculo'!B30 -> 0 | C33: ='Memória de Cálculo'!C30 -> 0 | D33: ='Memória de Cálculo'!D30 -> 0 | E33: ='Memória de Cálculo'!E30 -> 0 | H33: =ROUND(G33+(G33*$I$7),2) -> 0
A34: ='Memória de Cálculo'!A31 -> 4.0 | B34: ='Memória de Cálculo'!B31 -> 0 | C34: ='Memória de Cálculo'!C31 -> 0 | D34: ='Memória de Cálculo'!D31 -> PINTURA VIÁRIA | E34: ='Memória de Cálculo'!E31 -> 0 | G34: 36.67 | H34: =ROUND(G34+(G34*$I$7),2) -> 44.95 | I34: =SUM(I35:I36) -> 12692
A35: ='Memória de Cálculo'!A32 -> 4.1 | B35: ='Memória de Cálculo'!B32 -> SICOR/ SEINFRA | C35: ='Memória de Cálculo'!C32 -> 5213401 | D35: ='Memória de Cálculo'!D32 -> Pintura de faixa com tinta acrílica - espessura de 0,6 mm | E35: ='Memória de Cálculo'!E32 -> M² | F35: ='Memória de Cálculo'!F32 -> 380 | G35: 27.25 | H35: =ROUND(G35+(G35*$I$7),2) -> 33.4 | I35: =ROUND((F35*H35),2) -> 12692
A36: ='Memória de Cálculo'!A33 -> 5.2 | B36: ='Memória de Cálculo'!B33 -> SICOR/ SEINFRA | C36: ='Memória de Cálculo'!C33 -> ED-14762 | D36: ='Memória de Cálculo'!D33 -> SARJETA DE CONCRETO URBANO (SCU), TIPO 1, COM FCK 15 MPA , LARGURA DE 50CM COM INCLINAÇÃO DE 3%, ESP. 7CM, PADRÃO DER-MG, EXCLUSIVE MEIO-FIO, INCLUSIVE ESCAVAÇÃO, APILAOMENTO E TRANSPORTE COM RETIRADA DO MATERIAL ESCAVADO (EM CAÇAMBA) | E36: ='Memória de Cálculo'!E33 -> M | F36: ='Memória de Cálculo'!F33 -> 20 | H36: =ROUND(G36+(G36*$I$7),2) -> 0 | I36: =ROUND((F36*H36),2) -> 0
A37: ='Memória de Cálculo'!A34 -> 5.0 | D37: ='Memória de Cálculo'!D34 -> ADM. LOCAL | E37: U | F37: 1 | G37: ='ADM Local'!H8 -> 54939.42 | H37: =ROUND(G37+(G37*$I$7),2) -> 67344.74 | I37: =ROUND((F37*H37),2) -> 67344.74
A38: TOTAL | D38: TOTAL | I38: =I11+I18+I24+I34+I37 -> 811070.7
A39: TOTAL GERAL | D39: TOTAL | I39: =I38+I15 -> 815126.05
D42: ='Memória de Cálculo'!D38 -> Pedro Henrique Souto dos Santos
D43: ='Memória de Cálculo'!D39 -> Engenheiro(a) Civil
D44: ='Memória de Cálculo'!D40 -> CREA: 370454 MG
...

Sheet Cronograma
A2: CRONOGRAMA FÍSICO-FINANCEIRO
A3: ='Planilha Orcamentária'!A3 -> PREFEITURA MUNICIPAL DE VIRGOLÂNDIA - MG | C3: VALOR DO CONVÊNIO: | D3: =D20 -> 815126.05 | E3: DATA: | G3: =TODAY() -> 45930 | H3: FOLHA Nº: 01/01
A4: ='Planilha Orcamentária'!A4 -> OBRA: Recapeamento asfaltico em CBUQ | E4: PREVISÃO DE EXECUÇÃO DAS OBRAS: 4 MESES
A5: ='Planilha Orcamentária'!A5 -> LOCAL: Rua Ludovico dos Santos, Rua do Contorno e Rua da Lagoa / Bairros: Centro e Taquaral
A6: ITENS | B6: ETAPAS/DESCRIÇÃO | C6: FÍSICO/ FINANCEIRO | D6: TOTAL ETAPAS | E6: MÊS 1 | F6: MÊS 2 | G6: MÊS 3
A7: ='Planilha Orcamentária'!A11 -> 1.0 | B7: ='Planilha Orcamentária'!D11 -> SERVIÇOS PRELIMINARES | C7: Físico % | D7: =D8/$D$20 -> 0.0017387004 | E7: 1 | F7: 0 | G7: 0 | H7: 0
C8: Financeiro | D8: ='Planilha Orcamentária'!I11 -> 1417.26 | E8: =E7*$D$8 -> 1417.26 | F8: =F7*$D$8 -> 0 | G8: =G7*$D$8 -> 0 | H8: =H7*$D$8 -> 0
A9: ='Planilha Orcamentária'!A15 -> 2.0 | B9: ='Planilha Orcamentária'!D15 -> MOBILIZAÇÃO E DESMOBILIZAÇÃO DE OBRA | C9: Físico % | D9: =D10/$D$20 -> 0.0049751244 | E9: 0.5 | F9: 0 | G9: 0.5
C10: Financeiro | D10: ='Planilha Orcamentária'!I15 -> 4055.3535 | E10: =E9*$D$10 -> 2027.6767 | F10: =F9*$D$10 -> 0 | G10: =G9*$D$10 -> 2027.6767 | H10: =H9*$D$10 -> 0
A11: ='Planilha Orcamentária'!A18 -> 3.0 | B11: ='Planilha Orcamentária'!D18 -> SERVIÇOS DE TERRAPLENAGEM | C11: Físico % | D11: =D12/$D$20 -> 0 | E11: 0 | F11: 0
C12: Financeiro | D12: ='Planilha Orcamentária'!I18 -> 0 | E12: =E11*$D$12 -> 0 | F12: =F11*$D$12 -> 0 | G12: =G11*$D$12 -> 0 | H12: =H11*$D$12 -> 0
A13: ='Planilha Orcamentária'!A24 -> 3.0 | B13: ='Planilha Orcamentária'!D24 -> SERVIÇOS DE PAVIMENTAÇÃO | C13: Físico % | D13: =D14/$D$20 -> 0.89509677 | E13: 0.3 | F13: 0.35 | G13: 0.35
C14: Financeiro | D14: ='Planilha Orcamentária'!I24 -> 729616.7 | E14: =E13*$D$14 -> 218885.01 | F14: =F13*$D$14 -> 255365.84 | G14: =G13*$D$14 -> 255365.84 | H14: =H13*$D$14 -> 0
A15: ='Planilha Orcamentária'!A34 -> 4.0 | B15: ='Planilha Orcamentária'!D34 -> PINTURA VIÁRIA | C15: Físico % | D15: =D16/$D$20 -> 0.015570598 | E15: 0 | F15: 0 | G15: 1
C16: Financeiro | D16: ='Planilha Orcamentária'!I34 -> 12692 | E16: =E15*$D$16 -> 0 | F16: =F15*$D$16 -> 0 | G16: =G15*$D$16 -> 12692 | H16: =H15*$D$16 -> 0
A17: ='Memória de Cálculo'!A34 -> 5.0 | B17: ='Memória de Cálculo'!D34 -> ADM. LOCAL | C17: Físico % | D17: =D18/$D$20 -> 0.082618804 | E17: 0.3 | F17: 0.35 | G17: 0.35
C18: Financeiro | D18: ='Planilha Orcamentária'!I37 -> 67344.74 | E18: =E17*$D$18 -> 20203.422 | F18: =F17*$D$18 -> 23570.659 | G18: =G17*$D$18 -> 23570.659 | H18: =H17*$D$16 -> 0
A19: TOTAL | C19: Físico % | D19: =D7+D9+D11+D13+D15+D17 -> 1 | E19: =E20/$D$20 -> 0.29754094 | F19: =F20/$D$20 -> 0.34220045 | G19: =G20/$D$20 -> 0.36025861 | H19: =H20/$D$20 -> 0 | I19: =SUM(E19:H19) -> 1
C20: Financeiro | D20: =D8+D10+D12+D14+D16+D18 -> 815126.05 | E20: =E8+E10+E12+E14+E16+E18 -> 242533.37 | F20: =F8+F10+F12+F14+F16+F18 -> 278936.5 | G20: =G8+G10+G12+G14+G16+G18 -> 293656.18 | H20: =H8+H10+H12+H14+H16 -> 0 | I20: =SUM(E20:H20) -> 815126.05
G21: Observações:
B23: ='Memória de Cálculo'!D38 -> Pedro Henrique Souto dos Santos
B24: ='Memória de Cálculo'!D39 -> Engenheiro(a) Civil
B25: ='Memória de Cálculo'!D40 -> CREA: 370454 MG
B28: ='Memória de Cálculo'!D44 -> José Ismar de Assis Neto
B29: ='Memória de Cálculo'!D45 -> Prefeito(a) Municipal

Sheet Memoria de calculo complementar
A2: Rua Ludovico | B2: Rua da Lagoa | C2: Rua do Contorno
A3: 149.23 | B3: 27.49 | C3: 15.54
A4: 61.61 | B4: 35.89 | C4: 2.14
A5: 88.05 | B5: 44.94 | C5: 2.68
A6: 13.49 | B6: =SUM(B3:B5) -> 108.32 | C6: 3.03
A7: 8.52 | C7: 13.44
A8: 9.77 | C8: 64.59
A9: 17.45 | C9: 14.87
A10: 8.59 | C10: 5.21
A11: 7.71 | C11: 3.68
A12: 7.26 | C12: 8.27
A13: 6.23 | C13: 70
A14: 10.47 | C14: =SUM(C3:C13) -> 203.45
A15: 9.06
A16: 27.83
A17: 23.33
A18: 25.9 | C18: TOTAL
A19: 22.49 | C19: =SUM(A52+B6+C14)-0.01 -> 1520
A20: 22.2
A21: 29.13
A22: 30.81
A23: 9.88
A24: 14.06
A25: 36.35
A26: 13.95
A27: 13.97
A28: 15.83
A29: 18.11
A30: 13.66
A31: 13.1
... A51: 6.62
A52: =SUM(A3:A51) -> 1208.24 | C52: Pedro Henrique Souto dos Santos
C53: Engenheiro(a) Civil
C54: CREA: 370454 MG

Sheet BDI
A1: DEMONSTRATIVO DO BDI - SEM DESONERAÇÃO - OBRA RODOVIÁRIA
A3: BDI (CONFORME ACÓRDÃO Nº 2622/13 e LEI Nº 13.161 DE 31/08/15)
A4: DISCRIMINAÇÃO DAS PARCELAS | B4: SIG. (1) | C4: CONSTRUÇÃO DE RODOVIAS E FERROVIAS | J4: INC. (6)
C5: ISS (2) | G5: DIFERENCIADO
C6: 0.02 | D6: 0.03 | E6: 0.04 | F6: 0.05 | G6: MATERIAL (5) | H6: SERVIÇO TERCEIRIZADO (4) (ISS=5%) | I6: EQUIPAMENTO (3) (ISS=5%)
A7: CUSTO DIRETO | B7: CD | C7: 1 | D7: 1 | E7: 1 | F7: 1 | G7: 1 | H7: 1 | I7: 1
A8: ADMINISTRAÇÃO CENTRAL | B8: AC | C8: 0.0467 | D8: 0.0467 | E8: 0.0467 | F8: 0.0467 | G8: 0.0342 | H8: 0.0401 | I8: 0.0342 | J8: CD
A9: LUCRO BRUTO | B9: L | C9: 0.0753 | D9: 0.0753 | E9: 0.0753 | F9: 0.0753 | G9: 0.0494 | H9: 0.0664 | I9: 0.0494 | J9: CD
A10: DESPESAS FINANCEIRAS | B10: DF | C10: 0.00998 | D10: 0.00998 | E10: 0.00998 | F10: 0.00998 | G10: 0.00998 | H10: 0.00998 | I10: 0.00998 | J10: CD
A11: SEGUROS, GARANTIAS E RISCO | C11: =SUM(C12:C13) -> 0.0171 | D11: =SUM(D12:D13) -> 0.0171 | E11: =SUM(E12:E13) -> 0.0171 | F11: =SUM(F12:F13) -> 0.0171 | G11: =SUM(G12:G13) -> 0.0129 | H11: =SUM(H12:H13) -> 0.0082 | I11: =SUM(I12:I13) -> 0.0129 | J11: CD
A12: SEGUROS + GARANTIAS | B12: S | C12: 0.0074 | D12: 0.0074 | E12: 0.0074 | F12: 0.0074 | G12: 0.0053 | H12: 0.0032 | I12: 0.0053 | J12: CD
A13: RISCO(*) | B13: R | C13: 0.0097 | D13: 0.0097 | E13: 0.0097 | F13: 0.0097 | G13: 0.0076 | H13: 0.005 | I13: 0.0076 | J13: CD
A14: TRIBUTOS | B14: I | C14: =SUM(C15:C17) -> 0.0505 | D14: =SUM(D15:D17) -> 0.0575 | E14: =SUM(E15:E17) -> 0.0645 | F14: =SUM(F15:F17) -> 0.0715 | G14: =SUM(G15:G17) -> 0.0365 | H14: =SUM(H15:H17) -> 0.0615 | I14: =SUM(I15:I17) -> 0.0615 | J14: PV
A15: ISS | B15: ISS(2) | C15: 0.014 | D15: 0.021 | E15: 0.028 | F15: 0.035 | G15: - | H15: 0.025 | I15: 0.025 | J15: PV
A16: PIS | B16: PIS | C16: 0.0065 | D16: 0.0065 | E16: 0.0065 | F16: 0.0065 | G16: 0.0065 | H16: 0.0065 | I16: 0.0065 | J16: PV
A17: COFINS | B17: - | C17: 0.03 | D17: 0.03 | E17: 0.03 | F17: 0.03 | G17: 0.03 | H17: 0.03 | I17: 0.03 | J17: PV
A18: CPRB (7) | B18: INSS | C18: 0 | D18: 0 | E18: 0 | F18: 0 | G18: 0 | H18: 0 | I18: 0 | J18: PV
A20: FÓRMULA DO BDI | C20: (1 + (AC + S + G + R)) x (1 + DF) x (1 + L)
C21: (1 - (I + CPRB))
A22: BDI (NUMERADOR) | C22: =(1+(C8+C11))*(1+C10)*(1+C9)-1 -> 0.1553203 | D22: =(1+(D8+D11))*(1+D10)*(1+D9)-1 -> 0.1553203 | E22: =(1+(E8+E11))*(1+E10)*(1+E9)-1 -> 0.1553203 | F22: =(1+(F8+F11))*(1+F10)*(1+F9)-1 -> 0.1553203 | G22: =(1+(G8+G11))*(1+G10)*(1+G9)-1 -> 0.10979303 | H22: =(1+(H8+H11))*(1+H10)*(1+H9)-1 -> 0.12906383 | I22: =(1+(I8+I11))*(1+I10)*(1+I9)-1 -> 0.10979303
A23: BDI (DENOMINADOR) | C23: =(1-(C14+C18)) -> 0.9495 | D23: =(1-(D14+D18)) -> 0.9425 | E23: =(1-(E14+E18)) -> 0.9355 | F23: =(1-(F14+F18)) -> 0.9285 | G23: =(1-(G14+G18)) -> 0.9635 | H23: =(1-(H14+H18)) -> 0.9385 | I23: =(1-(I14+I18)) -> 0.9385
A24: BDI | C24: =(1+C22)/C23-1 -> 0.21676704 | D24: =(1+D22)/D23-1 -> 0.22580404 | E24: =(1+E22)/E23-1 -> 0.23497627 | F24: =(1+F22)/F23-1 -> 0.24428681 | G24: =(1+G22)/G23-1 -> 0.15183501 | H24: =(1+H22)/H23-1 -> 0.2030515 | I24: =(1+I22)/I23-1 -> 0.18251788
A26: OBSERVAÇÕES
A27: (1) SIGLA. (2) INCIDÊNCIA DE ISS EM 70% DO PREÇO DE VENDA, COM PERCENTUAIS DE 2%, 3%, 4% E 5%. (3) BDI DIFERENCIADO A SER APLICADO EM LOCAÇÃO DE CUSTO HORÁRIO DE EQUIPAMENTO. (4) BDI DIFERENCIADO A SER APLICADO PARA SERVIÇOS TERCEIRIZADOS. (5) BDI DIFERENCIADO A SER APLICADO PARA FORNECIMENTO DE MATERIAL BETUMINOSO E MATERIAL DE JAZIDA. (6) INCIDÊNCIA. (7) TRANSIÇÃO DESONERAÇÃO LEI Nº 14.973, DE 16 DE SETEMBRO DE 2024.
A28: *Informamos que está em análise o pleito apresentado pelo Ofício nº 042/24-S, do Sindicato da Indústria da Construção Pesada de Minas Gerais (SICEPOT-MG), referente ao posicionamento do colegiado da Segunda Turma do Superior Tribunal de Justiça (STJ), no AREsp nº 2.486.358/SP, relatado pelo Ministro Herman Benjamin, julgado em 13/05/2024, com publicação no DJe de 29/05/2024, que versa sobre a aplicação da dedução na base de cálculo do Imposto Sobre Serviços de Qualquer Natureza (ISSQN).
B35: Pedro Henrique Souto dos Santos
B36: Engenheiro(a) Civil
B37: CREA: 370454 MG

Sheet ADM Local
B6: SICOR/ SEINFRA | C6: ED-21776 | D6: ENCARREGADO GERAL DE OBRAS COM ENCARGOS COMPLEMENTARES | E6: mês | F6: 3 | G6: 10604.45 | H6: =ROUND((F6*G6),2) -> 31813.35
B7: SICOR/ SEINFRA | C7: ED-21769 | D7: ENGENHEIRO CIVIL DE OBRA JÚNIOR COM ENCARGOS COMPLEMENTARES | E7: mês | F7: 1 | G7: 23126.07 | H7: =ROUND((F7*G7),2) -> 23126.07
H8: =SUM(H6:H7) -> 54939.42
D13: Pedro Henrique Souto dos Santos
D14: Engenheiro(a) Civil
D15: CREA: 370454 MG
