Workbook

Sheet BDI 01
A3: BDI (CONFORME ACÓRDÃO Nº 2622/13 e LEI Nº 13.161 DE 31/08/15)
A5: OBRA: CONSTRUÇÃO DA ESTAÇÃO DE TRATAMENTO DE ESGOTO - ETE | F5: BDI | H5: 0.2418
A7: CONSTRUÇÃO E REFORMA DE EDIFÍCIOS
A8: DISCRIMINAÇÃO DAS PARCELAS | D8: SIGLA | E8: (ISS = 5,00%) | G8: INCIDÊNCIA
A9: CUSTO DIRETO | D9: CD | E9: 1
A10: ADMINISTRAÇÃO CENTRAL | D10: AC | E10: 0.04 | G10: CD
A11: LUCRO BRUTO | D11: L | E11: 0.074 | G11: CD
A12: DESPESAS FINANCEIRAS | D12: DF | E12: 0.0123 | G12: CD
A13: SEGUROS, GARANTIAS E RISCO | E13: 0.0207 | G13: CD
A14: SEGUROS + GARANTIAS | D14: SG | E14: 0.008 | G14: CD
A15: RISCO(*) | D15: R | E15: 0.0127 | G15: CD
A16: TRIBUTOS | D16: I | E16: 0.1115 | G16: PV
A17: ISS | D17: ISS (1) | E17: 0.05 | G17: PV
A18: PIS | D18: PIS | E18: 0.0065 | G18: PV
A19: COFINS | D19: COFINS | E19: 0.03 | G19: PV
A20: CPRB | D20: INSS | E20: 0.025 | G20: PV
A22: FÓRMULA DO BDI | D22: BDI =
A23: BDI COM DESONERAÇÃO = | E23: 0.2418
B28: Kelton José Amaral Nascimento
B29: Engenheiro Civil
B30: CREA-MG 336807/D

Sheet BDI 02
A3: BDI (CONFORME ACÓRDÃO Nº 2622/13 e LEI Nº 13.161 DE 31/08/15)
A5: OBRA: CONSTRUÇÃO DA ESTAÇÃO DE TRATAMENTO DE ESGOTO - ETE | F5: BDI | H5: 0.0986
A7: CONSTRUÇÃO E REFORMA DE EDIFÍCIOS
A8: DISCRIMINAÇÃO DAS PARCELAS | D8: SIGLA | E8: (ISS = 5,00%) | G8: INCIDÊNCIA
A9: CUSTO DIRETO | D9: CD | E9: 1
A10: ADMINISTRAÇÃO CENTRAL | D10: AC | E10: 0.015 | G10: CD
A11: LUCRO BRUTO | D11: L | E11: 0.035 | G11: CD
A12: DESPESAS FINANCEIRAS | D12: DF | E12: 0.0056 | G12: CD
A13: SEGUROS, GARANTIAS E RISCO | E13: 0.003 | G13: CD
A14: SEGUROS + GARANTIAS | D14: SG | E14: 0.003 | G14: CD
A15: RISCO(*) | D15: R | E15: 0 | G15: CD
A16: TRIBUTOS | D16: I | E16: 0.0365 | G16: PV
A17: ISS | D17: ISS (1) | E17: 0 | G17: PV
A18: PIS | D18: PIS | E18: 0.0065 | G18: PV
A19: COFINS | D19: COFINS | E19: 0.03 | G19: PV
A20: CPRB | D20: INSS | E20: 0 | G20: PV
A22: FÓRMULA DO BDI | D22: BDI =
A23: BDI COM DESONERAÇÃO = | E23: 0.0986
B28: Kelton José Amaral Nascimento
B29: Engenheiro Civil
B30: CREA-MG 336807/D

Sheet Planilha Orçamentária
D1: OBRA | E1: BANCOS | G1: B.D.I. - ESGOTO | H1: B.D.I - AQUISIÇÃO DE EQUIPAMENTOS E MATERIAIS | I1: ENCARGOS SOCIAIS:
D2: CONSTRUÇÃO DA ESTAÇÃO DE TRATAMENTO DE ESGOTO - ETE CONSTRUÇÃO CIVIL | E2: SINAPI - 03/2026 - Minas Gerais SBC - 03/2026 - Minas Gerais SICRO3 - 10/2025 - Minas Gerais ORSE - 01/2026 - Sergipe SETOP - 01/2026 - Minas Gerais IOPES - 12/2025 - Espírito Santo SIURB - 07/2025 - São Paulo SIURB INFRA - 07/2025 - São Paulo SUDECAP - 10/2025 - Minas Gerais CPOS/CDHU - 01/2026 - São Paulo FDE - 01/2026 - São Paulo AGETOP CIVIL - 06/2025 - Goiás AGETOP RODOVIARIA - 06/2025 - Goiás EMBASA - 06/2025 - sem_encargos EMOP - 02/2026 - Rio de Janeiro SCO - 01/2026 - Rio de Janeiro | G2: 0.2418 | H2: 0.0986 | I2: DESONERADO: EMBUTIDO NOS PREÇOS UNITÁRIOS DOS INSUMOS DE MÃO DE OBRA, DE ACORDO COM AS BASES.
A4: ORÇAMENTO SINTÉTICO
A5: ITEM | B5: CÓDIGO | C5: BANCO | D5: DESCRIÇÃO | E5: UNID | F5: QUANTIDADE | G5: VALOR UNIT. | H5: VALOR UNIT. COM BDI | I5: TOTAL | J5: PESO (%)
A6: 1 | D6: SERVIÇOS PRELIMINARES | I6: 42148.17 | J6: =I6/$H$97 -> 0.12010041
A7: 1.1 | B7: ED-28427 | C7: SETOP | D7: FORNECIMENTO E COLOCAÇÃO DE PLACA DE OBRA EM CHAPA GALVANIZADA #26, ESP. 0,45MM, DIMENSÃO (3X1,5)M, PLOTADA COM ADESIVO VINÍLICO, AFIXADA COM REBITES 4,8X40MM, EM ESTRUTURA METÁLICA DE METALON 20X20MM, ESP. 1,25MM, INCLUSIVE SUPORTE EM EUCALIPTO AUTOCLAVADO PINTADO COM TINTA PVA DUAS (2) DEMÃOS | E7: UN | F7: 1 | G7: 1187.1 | H7: =G7*(1+$G$2) -> 1474.1408 | I7: =F7*H7 -> 1474.1408 | J7: =I7/$H$97 -> 0.004200536
A8: 1.2 | B8: 021101 | C8: SBC | D8: MOBILIZACAO/DESMOBILIZACAO DE EQUIP. E MO | E8: UN | F8: 1 | G8: 15000 | H8: =G8*(1+$G$2) -> 18627 | I8: =F8*H8 -> 18627 | J8: =I8/$H$97 -> 0.053077281
A9: 1.3 | B9: 16.30.013 | C9: FDE | D9: CANTEIRO DE OBRAS - LARG 3,30M | E9: m² | F9: 16 | G9: 521.75 | H9: =G9*(1+$G$2) -> 647.90915 | I9: 11087.84 | J9: =I9/$H$97 -> 0.031594588
A10: 1.4 | B10: CO-27431 | C10: SETOP | D10: PROJETO EXECUTIVO DE INSTALAÇÕES ELÉTRICAS | E10: PR A1 | F10: 1 | G10: 1924.98 | H10: =G10*(1+$G$2) -> 2390.4402 | I10: =F10*H10 -> 2390.4402 | J10: =I10/$H$97 -> 0.0068115136
A11: 1.5 | B11: CO-27430 | C11: SETOP | D11: PROJETO EXECUTIVO DE INSTALAÇÕES HIDROSSANITÁRIAS | E11: PR A1 | F11: 2 | G11: 1842.62 | H11: =G11*(1+$G$2) -> 2288.1655 | I11: =F11*H11 -> 4576.331 | J11: =I11/$H$97 -> 0.013040168
A12: 1.6 | B12: CO-27427 | C12: SETOP | D12: PROJETO EXECUTIVO DE ESTRUTURA DE CONCRETO | E12: PR A1 | F12: 1 | G12: 1587.95 | H12: =G12*(1+$G$2) -> 1971.9163 | I12: =F12*H12 -> 1971.9163 | J12: =I12/$H$97 -> 0.0056189378
A13: 2 | D13: TRATAMENTO PRELIMINAR / POÇO DE SUCÇÃO | I13: 21594.35 | J13: =I13/$H$97 -> 0.061532688
A14: 2.1 | B14: 03.05.03 | C14: SUDECAP | D14: ESCAVAÇÃO E CARGA MECANIZADA COM RETROESCAVADEIRA EM MATERIAL DE 1ª CATEGORIA | E14: M³ | F14: 10 | G14: 6.09 | H14: =G14*(1+$G$2) -> 7.562562 | I14: 80.9 | J14: =I14/$H$97 -> 0.000230523
A15: 2.2 | B15: ED-49613 | C15: SETOP | D15: FORNECIMENTO DE CONCRETO NÃO ESTRUTURAL, PREPARADO EM OBRA COM BETONEIRA, COM FCK 9MPA, INCLUSIVE LANÇAMENTO, ADENSAMENTO E ACABAMENTO | E15: M³ | F15: 0.1 | G15: 771.98 | H15: =G15*(1+$G$2) -> 958.64476 | I15: =F15*H15 -> 95.864476 | J15: =I15/$H$97 -> 0.00027316399
A16: 2.3 | B16: 94964 | C16: SINAPI | D16: CONCRETO FCK = 20MPA, TRAÇO 1:2,7:3 (EM MASSA SECA DE CIMENTO/ AREIA MÉDIA/ BRITA 1) - PREPARO MECÂNICO COM BETONEIRA 400 L. AF_05/2021 | E16: M³ | F16: 2.72 | G16: 566.58 | H16: =G16*(1+$G$2) -> 703.57904 | I16: 2048.88 | J16: =I16/$H$97 -> 0.0058382444
A17: 2.4 | B17: 96534 | C17: SINAPI | D17: FABRICAÇÃO, MONTAGEM E DESMONTAGEM DE FÔRMA PARA BLOCO DE COROAMENTO, EM MADEIRA SERRADA, E=25 MM, 4 UTILIZAÇÕES. AF_01/2024 | E17: M² | F17: 20 | G17: 82.17 | H17: =G17*(1+$G$2) -> 102.03871 | I17: 2182.8 | J17: =I17/$H$97 -> 0.0062198469
A18: 2.5 | B18: ED-48298 | C18: SETOP | D18: CORTE, DOBRA E MONTAGEM DE AÇO CA 50/60, INCLUSIVE ESPAÇADOR | E18: KG | F18: 163 | G18: 13.76 | H18: =G18*(1+$G$2) -> 17.087168 | I18: 2979.64 | J18: =I18/$H$97 -> 0.0084904272
A19: 2.6 | B19: 4008000 | C19: SIURB INFRA | D19: REATERRO COMPACTADO DE FUNDAÇÃO | E19: M³ | F19: 28.7 | G19: 15.99 | H19: =G19*(1+$G$2) -> 19.856382 | I19: 609.59 | J19: =I19/$H$97 -> 0.0017370151
A20: 2.7 | B20: 053051 | C20: SBC | D20: TUBO PVC ESGOTO 150mm | E20: M | F20: 24 | G20: 60.72 | H20: =G20*(1+$H$2) -> 66.706992 | I20: 1601.04 | J20: =I20/$H$97 -> 0.0045621329
A21: 2.8 | B21: M119900151 | C21: EMBASA | D21: VERTEDOR SUTRO EM PRFV 650X800MM | E21: UN | F21: 1 | G21: 4594.14 | H21: =G21*(1+$H$2) -> 5047.1222 | I21: =F21*H21 -> 5047.1222 | J21: =I21/$H$97 -> 0.014381678
A22: 2.9 | B22: 11095 | C22: ORSE | D22: FORNECIMENTO DE COMPORTA TIPO STOP-LOG TIPO ALTO EM FIBRA DE VIDRO, LARGURA ÚTIL 200mm E ALTURA DE 400mm COM GAVETA MOVEDIÇA EM FIBRA DE VIDRO ESP.= 10mm, COM ACIONAMENTO MANUAL POR MANETE NA PRÓPRIA GAVETA | E22: UN | F22: 2 | G22: 411.14 | H22: =G22*(1+$H$2) -> 451.6784 | I22: =F22*H22 -> 903.35681 | J22: =I22/$H$97 -> 0.002574098
A23: 2.10 | B23: 10.04.43 | C23: EMBASA | D23: FORNEC. E ASSENT. DE TAMPA METALICA EM CHAPA DE ACO XADREZ COM SUPORTE PARA TRAFEGO | E23: M² | F23: 5.4 | G23: 559.42 | H23: =G23*(1+$H$2) -> 614.57881 | I23: =F23*H23 -> 3318.7256 | J23: =I23/$H$97 -> 0.0094566451
A24: 2.11 | B24: =Cotação!A23 -> COT-04 | C24: COTAÇÃO | D24: GRADE DE BARRAS METÁLICAS - E= 1,0CM | E24: UN | F24: 1 | G24: 450 | H24: =G24*(1+$H$2) -> 494.37 | I24: =F24*H24 -> 494.37 | J24: =I24/$H$97 -> 0.0014086979
A25: 3 | D25: BASE DE CONCRETO DO REATOR INCLUSIVE REGISTROS E CONEXÕES | I25: 86877.53 | J25: =I25/$H$97 -> 0.24755586
A26: 3.1 | B26: 03.05.03 | C26: SUDECAP | D26: ESCAVAÇÃO E CARGA MECANIZADA COM RETROESCAVADEIRA EM MATERIAL DE 1ª CATEGORIA | E26: M³ | F26: 10.7 | G26: 6.09 | H26: =G26*(1+$G$2) -> 7.562562 | I26: 86.56 | J26: =I26/$H$97 -> 0.00024665107
A27: 3.2 | B27: ED-49613 | C27: SETOP | D27: FORNECIMENTO DE CONCRETO NÃO ESTRUTURAL, PREPARADO EM OBRA COM BETONEIRA, COM FCK 9MPA, INCLUSIVE LANÇAMENTO, ADENSAMENTO E ACABAMENTO | E27: M³ | F27: 1.18 | G27: 771.98 | H27: =G27*(1+$G$2) -> 958.64476 | I27: 1209.9 | J27: =I27/$H$97 -> 0.0034475869
A28: 3.3 | B28: 94964 | C28: SINAPI | D28: CONCRETO FCK = 20MPA, TRAÇO 1:2,7:3 (EM MASSA SECA DE CIMENTO/ AREIA MÉDIA/ BRITA 1) - PREPARO MECÂNICO COM BETONEIRA 400 L. AF_05/2021 | E28: M³ | F28: 9.41 | G28: 566.58 | H28: =G28*(1+$G$2) -> 703.57904 | I28: 7081.31 | J28: =I28/$H$97 -> 0.020178058
A29: 3.4 | B29: 96534 | C29: SINAPI | D29: FABRICAÇÃO, MONTAGEM E DESMONTAGEM DE FÔRMA PARA BLOCO DE COROAMENTO, EM MADEIRA SERRADA, E=25 MM, 4 UTILIZAÇÕES. AF_01/2024 | E29: M² | F29: 6 | G29: 82.17 | H29: =G29*(1+$G$2) -> 102.03871 | I29: 654.84 | J29: =I29/$H$97 -> 0.0018659541
A30: 3.5 | B30: ED-48298 | C30: SETOP | D30: CORTE, DOBRA E MONTAGEM DE AÇO CA 50/60, INCLUSIVE ESPAÇADOR | E30: KG | F30: 640.5 | G30: 13.76 | H30: =G30*(1+$G$2) -> 17.087168 | I30: 11708.34 | J30: =I30/$H$97 -> 0.033362691
A31: 3.6 | B31: 031301 | C31: SBC | D31: ESTACA METÁLICA CRAVADA PERFIL H 10"" | E31: M | F31: 60 | G31: 669.79 | H31: =G31*(1+$H$2) -> 735.83129 | I31: 44149.8 | J31: =I31/$H$97 -> 0.12580401
A32: 3.7 | B32: 053051 | C32: SBC | D32: TUBO PVC ESGOTO 150mm | E32: M | F32: 36 | G32: 60.72 | H32: =G32*(1+$H$2) -> 66.706992 | I32: 2401.56 | J32: =I32/$H$97 -> 0.0068431993
A33: 3.8 | B33: 017041 | C33: SBC | D33: BOTA FORA ENTULHO (CARGA E DESCARGA/ MOM.TRANSPORTE 12.5KM. | E33: M³ | F33: 13.91 | G33: 64.25 | H33: =G33*(1+$G$2) -> 79.78565 | I33: 1187.08 | J33: =I33/$H$97 -> 0.0033825618
A34: 3.9 | B34: 12949 | C34: ORSE | D34: FORNECIMENTO E MONTAGEM DE MEDIDOR DE VAZÃO DO TIPO CALHA PARSHALL GARGANTA W3, EM FIBRA DE VIDRO | E34: UN | F34: 2 | G34: 983.38 | H34: =G34*(1+$H$2) -> 1080.3413 | I34: =F34*H34 -> 2160.6825 | J34: =I34/$H$97 -> 0.0061568236
A35: 3.10 | B35: ED-49986 | C35: SETOP | D35: REGISTRO DE GAVETA, TIPO BRUTO, ROSCÁVEL 4" (PARA TUBO SOLDÁVEL OU PPR DN 110MM/CPVC DN 114MM), INCLUSIVE VOLANTE PARA ACIONAMENTO | E35: UN | F35: 3 | G35: 1212.29 | H35: =G35*(1+$H$2) -> 1331.8218 | I35: 3995.46 | J35: =I35/$H$97 -> 0.011384987
A36: 3.11 | B36: ED-49980 | C36: SETOP | D36: REGISTRO DE GAVETA, TIPO BRUTO, ROSCÁVEL 2" (PARA TUBO SOLDÁVEL OU PPR DN 60MM/CPVC DN 54MM), INCLUSIVE VOLANTE PARA ACIONAMENTO | E36: UN | F36: 4 | G36: 230.79 | H36: =G36*(1+$H$2) -> 253.54589 | I36: 1014.2 | J36: =I36/$H$97 -> 0.0028899435
A37: 4 | D37: LEITO DE SECAGEM - A = 45 m² | I37: 50270.55 | J37: =I37/$H$97 -> 0.14324497
A38: 4.1 | B38: SE 20.05.0200 | C38: SCO | D38: PREPARO MANUAL DE TERRENO, COMPREENDENDO ACERTO, RASPAGEM EVENTUALMENTO ATÉ 0,25m DE PROFUNDIDADE E AFASTAMENTO LATERAL DO MATERIAL EXCEDENTE. | E38: M² | F38: 50 | G38: 16.9 | H38: =G38*(1+$G$2) -> 20.98642 | I38: 1122.5 | J38: =I38/$H$97 -> 0.0031985423
A39: 4.2 | B39: 03.05.03 | C39: SUDECAP | D39: ESCAVAÇÃO E CARGA MECANIZADA COM RETROESCAVADEIRA EM MATERIAL DE 1ª CATEGORIA | E39: M³ | F39: 25 | G39: 6.09 | H39: =G39*(1+$G$2) -> 7.562562 | I39: 202.25 | J39: =I39/$H$97 -> 0.00057630751
A40: 4.3 | B40: 94975 | C40: SINAPI | D40: CONCRETO FCK = 15MPA, TRAÇO 1:3,4:3,5 (EM MASSA SECA DE CIMENTO/ AREIA MÉDIA/ BRITA 1) - PREPARO MANUAL. AF_05/2021 | E40: M³ | F40: 8.39 | G40: 581.43 | H40: =G40*(1+$G$2) -> 722.01977 | I40: 6479.26 | J40: =I40/$H$97 -> 0.018462528
A41: 4.4 | B41: ED-48298 | C41: SETOP | D41: CORTE, DOBRA E MONTAGEM DE AÇO CA 50/60, INCLUSIVE ESPAÇADOR | E41: KG | F41: 503.72 | G41: 13.76 | H41: =G41*(1+$G$2) -> 17.087168 | I41: 9208 | J41: =I41/$H$97 -> 0.02623802
...

Sheet Memória
C1: OBRA | E1: BANCOS | F1: B.D.I. - ESGOTO | G1: B.D.I - AQUISIÇÃO DE EQUIPAMENTOS E MATERIAIS | H1: ENCARGOS SOCIAIS:
C2: CONSTRUÇÃO DA ESTAÇÃO DE TRATAMENTO DE ESGOTO - ETE CONSTRUÇÃO CIVIL | E2: SINAPI - 03/2026 - Minas Gerais SBC - 03/2026 - Minas Gerais SICRO3 - 10/2025 - Minas Gerais ORSE - 01/2026 - Sergipe SETOP - 01/2026 - Minas Gerais IOPES - 12/2025 - Espírito Santo SIURB - 07/2025 - São Paulo SIURB INFRA - 07/2025 - São Paulo SUDECAP - 10/2025 - Minas Gerais CPOS/CDHU - 01/2026 - São Paulo FDE - 01/2026 - São Paulo AGETOP CIVIL - 06/2025 - Goiás AGETOP RODOVIARIA - 06/2025 - Goiás EMBASA - 06/2025 - sem_encargos EMOP - 02/2026 - Rio de Janeiro SCO - 01/2026 - Rio de Janeiro | F2: 0.2418 | G2: 0.0986 | H2: DESONERADO: EMBUTIDO NOS PREÇOS UNITÁRIOS DOS INSUMOS DE MÃO DE OBRA, DE ACORDO COM AS BASES.
A4: MEMÓRIA DE CÁLCULO
A5: ITEM | B5: CÓDIGO | C5: BANCO | D5: DESCRIÇÃO | E5: UNID | F5: QUANTIDADE | G5: MEMÓRIA
A6: 1 | D6: SERVIÇOS PRELIMINARES
A7: 1.1 | B7: ED-28427 | C7: SETOP | D7: FORNECIMENTO E COLOCAÇÃO DE PLACA DE OBRA EM CHAPA GALVANIZADA #26, ESP. 0,45MM, DIMENSÃO (3X1,5)M, PLOTADA COM ADESIVO VINÍLICO, AFIXADA COM REBITES 4,8X40MM, EM ESTRUTURA METÁLICA DE METALON 20X20MM, ESP. 1,25MM, INCLUSIVE SUPORTE EM EUCALIPTO AUTOCLAVADO PINTADO COM TINTA PVA DUAS (2) DEMÃOS | E7: UN | F7: 1 | G7: 1,00 unidade
A8: 1.2 | B8: 021101 | C8: SBC | D8: MOBILIZACAO/DESMOBILIZACAO DE EQUIP. E MO | E8: UN | F8: 1 | G8: 1,00 unidade
A9: 1.3 | B9: 16.30.013 | C9: FDE | D9: CANTEIRO DE OBRAS - LARG 3,30M | E9: m² | F9: 16 | G9: área: 16,00 m²
A10: 1.4 | B10: CO-27431 | C10: SETOP | D10: PROJETO EXECUTIVO DE INSTALAÇÕES ELÉTRICAS | E10: PR A1 | F10: 1 | G10: 1,00 unidade
A11: 1.5 | B11: CO-27430 | C11: SETOP | D11: PROJETO EXECUTIVO DE INSTALAÇÕES HIDROSSANITÁRIAS | E11: PR A1 | F11: 2 | G11: 2,00 unidades
A12: 1.6 | B12: CO-27427 | C12: SETOP | D12: PROJETO EXECUTIVO DE ESTRUTURA DE CONCRETO | E12: PR A1 | F12: 1 | G12: 1,00 unidade
A13: 2 | D13: TRATAMENTO PRELIMINAR / POÇO DE SUCÇÃO
A14: 2.1 | B14: 03.05.03 | C14: SUDECAP | D14: ESCAVAÇÃO E CARGA MECANIZADA COM RETROESCAVADEIRA EM MATERIAL DE 1ª CATEGORIA | E14: M³ | F14: 10 | G14: volume: 10,00 m³
A15: 2.2 | B15: ED-49613 | C15: SETOP | D15: FORNECIMENTO DE CONCRETO NÃO ESTRUTURAL, PREPARADO EM OBRA COM BETONEIRA, COM FCK 9MPA, INCLUSIVE LANÇAMENTO, ADENSAMENTO E ACABAMENTO | E15: M³ | F15: 0.1 | G15: volume: 0,10 m³
A16: 2.3 | B16: 94964 | C16: SINAPI | D16: CONCRETO FCK = 20MPA, TRAÇO 1:2,7:3 (EM MASSA SECA DE CIMENTO/ AREIA MÉDIA/ BRITA 1) - PREPARO MECÂNICO COM BETONEIRA 400 L. AF_05/2021 | E16: M³ | F16: 2.72 | G16: volume: 2,72m³
A17: 2.4 | B17: 96534 | C17: SINAPI | D17: FABRICAÇÃO, MONTAGEM E DESMONTAGEM DE FÔRMA PARA BLOCO DE COROAMENTO, EM MADEIRA SERRADA, E=25 MM, 4 UTILIZAÇÕES. AF_01/2024 | E17: M² | F17: 20 | G17: área: 20,00 m²
A18: 2.5 | B18: ED-48298 | C18: SETOP | D18: CORTE, DOBRA E MONTAGEM DE AÇO CA 50/60, INCLUSIVE ESPAÇADOR | E18: KG | F18: 163 | G18: peso: 163,00 kg
A19: 2.6 | B19: 4008000 | C19: SIURB INFRA | D19: REATERRO COMPACTADO DE FUNDAÇÃO | E19: M³ | F19: 28.7 | G19: volume: 28,70 m³
A20: 2.7 | B20: 053051 | C20: SBC | D20: TUBO PVC ESGOTO 150mm | E20: M | F20: 24 | G20: extensão: 24,00 m
A21: 2.8 | B21: M119900151 | C21: EMBASA | D21: VERTEDOR SUTRO EM PRFV 650X800MM | E21: UN | F21: 1 | G21: quantidade: 1,00 unidade
A22: 2.9 | B22: 11095 | C22: ORSE | D22: FORNECIMENTO DE COMPORTA TIPO STOP-LOG TIPO ALTO EM FIBRA DE VIDRO, LARGURA ÚTIL 200mm E ALTURA DE 400mm COM GAVETA MOVEDIÇA EM FIBRA DE VIDRO ESP.= 10mm, COM ACIONAMENTO MANUAL POR MANETE NA PRÓPRIA GAVETA | E22: UN | F22: 2 | G22: quantidade: 2,00 unidades
A23: 2.10 | B23: 10.04.43 | C23: EMBASA | D23: FORNEC. E ASSENT. DE TAMPA METALICA EM CHAPA DE ACO XADREZ COM SUPORTE PARA TRAFEGO | E23: M² | F23: 5.4 | G23: área: 5,40 m²
A24: 2.11 | B24: =Cotação!A23 -> COT-04 | C24: COTAÇÃO | D24: GRADE DE BARRAS METÁLICAS - E= 1,0CM | E24: UN | F24: 1 | G24: quantidade: 1,00 unidade
A25: 3 | D25: BASE DE CONCRETO DO REATOR INCLUSIVE REGISTROS E CONEXÕES
A26: 3.1 | B26: 03.05.03 | C26: SUDECAP | D26: ESCAVAÇÃO E CARGA MECANIZADA COM RETROESCAVADEIRA EM MATERIAL DE 1ª CATEGORIA | E26: M³ | F26: 10.7 | G26: volume: 10,70 m³
A27: 3.2 | B27: ED-49613 | C27: SETOP | D27: FORNECIMENTO DE CONCRETO NÃO ESTRUTURAL, PREPARADO EM OBRA COM BETONEIRA, COM FCK 9MPA, INCLUSIVE LANÇAMENTO, ADENSAMENTO E ACABAMENTO | E27: M³ | F27: 1.18 | G27: volume: 1,18 m³
A28: 3.3 | B28: 94964 | C28: SINAPI | D28: CONCRETO FCK = 20MPA, TRAÇO 1:2,7:3 (EM MASSA SECA DE CIMENTO/ AREIA MÉDIA/ BRITA 1) - PREPARO MECÂNICO COM BETONEIRA 400 L. AF_05/2021 | E28: M³ | F28: 9.41 | G28: volume: 9,41 m³
A29: 3.4 | B29: 96534 | C29: SINAPI | D29: FABRICAÇÃO, MONTAGEM E DESMONTAGEM DE FÔRMA PARA BLOCO DE COROAMENTO, EM MADEIRA SERRADA, E=25 MM, 4 UTILIZAÇÕES. AF_01/2024 | E29: M² | F29: 6 | G29: área: 6,00 m²
A30: 3.5 | B30: ED-48298 | C30: SETOP | D30: CORTE, DOBRA E MONTAGEM DE AÇO CA 50/60, INCLUSIVE ESPAÇADOR | E30: KG | F30: 640.5 | G30: peso: 640,50 kg
A31: 3.6 | B31: 031301 | C31: SBC | D31: ESTACA METÁLICA CRAVADA PERFIL H 10"" | E31: M | F31: 60 | G31: extensão: 60,00 m
A32: 3.7 | B32: 053051 | C32: SBC | D32: TUBO PVC ESGOTO 150mm | E32: M | F32: 36 | G32: extensão: 36,00 m
A33: 3.8 | B33: 017041 | C33: SBC | D33: BOTA FORA ENTULHO (CARGA E DESCARGA/ MOM.TRANSPORTE 12.5KM. | E33: M³ | F33: 13.91 | G33: volume: 13,91 m³
A34: 3.9 | B34: 12949 | C34: ORSE | D34: FORNECIMENTO E MONTAGEM DE MEDIDOR DE VAZÃO DO TIPO CALHA PARSHALL GARGANTA W3, EM FIBRA DE VIDRO | E34: UN | F34: 2 | G34: quantidade: 2,00 unidades
A35: 3.10 | B35: ED-49986 | C35: SETOP | D35: REGISTRO DE GAVETA, TIPO BRUTO, ROSCÁVEL 4" (PARA TUBO SOLDÁVEL OU PPR DN 110MM/CPVC DN 114MM), INCLUSIVE VOLANTE PARA ACIONAMENTO | E35: UN | F35: 3 | G35: quantidade: 3,00 unidades
A36: 3.11 | B36: ED-49980 | C36: SETOP | D36: REGISTRO DE GAVETA, TIPO BRUTO, ROSCÁVEL 2" (PARA TUBO SOLDÁVEL OU PPR DN 60MM/CPVC DN 54MM), INCLUSIVE VOLANTE PARA ACIONAMENTO | E36: UN | F36: 4 | G36: quantidade: 4,00 unidades
A37: 4 | D37: LEITO DE SECAGEM - A = 45 m²
A38: 4.1 | B38: SE 20.05.0200 | C38: SCO | D38: PREPARO MANUAL DE TERRENO, COMPREENDENDO ACERTO, RASPAGEM EVENTUALMENTO ATÉ 0,25m DE PROFUNDIDADE E AFASTAMENTO LATERAL DO MATERIAL EXCEDENTE. | E38: M² | F38: 50 | G38: área: 50,00 m²
A39: 4.2 | B39: 03.05.03 | C39: SUDECAP | D39: ESCAVAÇÃO E CARGA MECANIZADA COM RETROESCAVADEIRA EM MATERIAL DE 1ª CATEGORIA | E39: M³ | F39: 25 | G39: volume: 25,00 m³
A40: 4.3 | B40: 94975 | C40: SINAPI | D40: CONCRETO FCK = 15MPA, TRAÇO 1:3,4:3,5 (EM MASSA SECA DE CIMENTO/ AREIA MÉDIA/ BRITA 1) - PREPARO MANUAL. AF_05/2021 | E40: M³ | F40: 8.39 | G40: volume: 8,39 m³
A41: 4.4 | B41: ED-48298 | C41: SETOP | D41: CORTE, DOBRA E MONTAGEM DE AÇO CA 50/60, INCLUSIVE ESPAÇADOR | E41: KG | F41: 503.72 | G41: peso: 503,72 kg
...

Sheet Cronograma
B1: OBRA | C1: BANCOS | D1: B.D.I. - ESGOTO | E1: B.D.I - AQUISIÇÃO DE EQUIPAMENTOS E MATERIAIS | F1: ENCARGOS SOCIAIS:
B2: CONSTRUÇÃO DA ESTAÇÃO DE TRATAMENTO DE ESGOTO - ETE CONSTRUÇÃO CIVIL | C2: SINAPI - 03/2026 - Minas Gerais SBC - 03/2026 - Minas Gerais SICRO3 - 10/2025 - Minas Gerais ORSE - 01/2026 - Sergipe SETOP - 01/2026 - Minas Gerais IOPES - 12/2025 - Espírito Santo SIURB - 07/2025 - São Paulo SIURB INFRA - 07/2025 - São Paulo SUDECAP - 10/2025 - Minas Gerais CPOS/CDHU - 01/2026 - São Paulo FDE - 01/2026 - São Paulo AGETOP CIVIL - 06/2025 - Goiás AGETOP RODOVIARIA - 06/2025 - Goiás EMBASA - 06/2025 - sem_encargos EMOP - 02/2026 - Rio de Janeiro SCO - 01/2026 - Rio de Janeiro | D2: 0.2418 | E2: 0.0986 | F2: DESONERADO: EMBUTIDO NOS PREÇOS UNITÁRIOS DOS INSUMOS DE MÃO DE OBRA, DE ACORDO COM AS BASES.
A3: CRONOGRAMA FÍSICO E FINANCEIRO
A4: ITEM | B4: DESCRIÇÃO | C4: TOTAL POR ETAPA | D4: 30 DIAS | E4: 60 DIAS | F4: 90 DIAS
A5: 1 | B5: SERVIÇOS PRELIMINARES | C5: 100,00% 42.148,17 | D5: 100,00% 42.148,17 | E5: - | F5: -
A6: 2 | B6: TRATAMENTO PRELIMINAR / POÇO DE SUCÇÃO | C6: 100,00% 21.594,35 | D6: 100,00% 21.594,35 | E6: - | F6: -
A7: 3 | B7: BASE DE CONCRETO DO REATOR INCLUSIVE REGISTROS E CONEXÕES | C7: 100,00% 86.877,53 | D7: 100,00% 86.877,53 | E7: - | F7: -
A8: 4 | B8: LEITO DE SECAGEM - A = 45 m² | C8: 100,00% 50.270,55 | D8: - | E8: 100,00% 50.270,55 | F8: -
A9: 5 | B9: ESTAÇÃO ELEVATÓRIA - P = 3,5 CV | C9: 100,00% 16.959,01 | D9: - | E9: 100,00% 16.959,01 | F9: -
A10: 6 | B10: URBANIZAÇÃO - A = 300 m² | C10: 100,00% 52.013,84 | D10: - | E10: - | F10: 100,00% 52.013,84
A11: 7 | B11: CASA DE APOIO À OPERAÇÃO - A=15,00M² | C11: 100,00% 58.118,90 | D11: - | E11: 100,00% 58.118,90 | F11: -
A12: 8 | B12: ='Planilha Orçamentária'!D94 -> ADMINISTRAÇÃO LOCAL DA OBRA | C12: 100,00% 22.958,76 | D12: 33,00% 7.576,39 | E12: 33,00% 7.576,39 | F12: 34,00% 7.805,98
A14: TOTAL | D14: =42148.17+21594.35+86877.53+50270.55+16959.01+52013.84+58118.9+22958.76 -> 350941.11
A16: PORCENTAGEM | D16: =D17/D14 -> 0.45077774 | E16: =E17/D14 -> 0.37876683 | F16: =F17/D14 -> 0.17045544
A17: CUSTO | D17: =42148.17+21594.35+86877.53+7576.39 -> 158196.44 | E17: =50270.55+16959.01+58118.9+7576.39 -> 132924.85 | F17: =52013.84+7805.98 -> 59819.82
A18: PORCENTAGEM ACUMULADO | D18: =D16 -> 0.45077774 | E18: =D18+E16 -> 0.82954456 | F18: =E18+F16 -> 1
A19: CUSTO ACUMULADO | D19: =D17 -> 158196.44 | E19: =D19+E17 -> 291121.29 | F19: =E19+F17 -> 350941.11
A23: __________________________________________________ Kelton José Amaral Nascimento Engenheiro Civil CREA-MG 336807/D

Sheet Cotação
A3: LISTA DE COTAÇÕES
C5: OBRA | E5: BANCOS | F5: B.D.I. - ESGOTO | G5: B.D.I - AQUISIÇÃO DE EQUIPAMENTOS E MATERIAIS | H5: ENCARGOS SOCIAIS:
C6: CONSTRUÇÃO DA ESTAÇÃO DE TRATAMENTO DE ESGOTO - ETE CONSTRUÇÃO CIVIL | E6: SINAPI - 03/2026 - Minas Gerais SBC - 03/2026 - Minas Gerais SICRO3 - 10/2025 - Minas Gerais ORSE - 01/2026 - Sergipe SETOP - 01/2026 - Minas Gerais IOPES - 12/2025 - Espírito Santo SIURB - 07/2025 - São Paulo SIURB INFRA - 07/2025 - São Paulo SUDECAP - 10/2025 - Minas Gerais CPOS/CDHU - 01/2026 - São Paulo FDE - 01/2026 - São Paulo AGETOP CIVIL - 06/2025 - Goiás AGETOP RODOVIARIA - 06/2025 - Goiás EMBASA - 06/2025 - sem_encargos EMOP - 02/2026 - Rio de Janeiro SCO - 01/2026 - Rio de Janeiro | F6: 0.2418 | G6: 0.0986 | H6: DESONERADO: EMBUTIDO NOS PREÇOS UNITÁRIOS DOS INSUMOS DE MÃO DE OBRA, DE ACORDO COM AS BASES.
A8: LISTA DE COTAÇÕES
A10: RESUMO DAS COTAÇÕES DE MERCADO
A11: CÓDIGO | B11: DESCRIÇÃO | F11: UNIDADE | G11: MÉDIA
A13: COT-02 | B13: MOTO-BOMBA SUBMERSÍVEL AUTOESCOVANTE PARA ESGOTO, P=4,0 CV, TRIFÁSICO | F13: UNID | G13: =AVERAGE(B16:H16) -> 4521.5767
A14: EMPRESA | B14: EBARA BOMBAS AMÉRICA DO SUL | D14: BOMBA SHOPPING | G14: ARF COMÉRCIO DE BOMBAS E MÁQUINAS LTDA
A15: CNPJ | B15: 46.138.319/0007-74 | D15: 14.778.311/0001-90 | G15: 20.550.456/0004-85
A16: VALOR UNITÁRIO | B16: 5373.6 | D16: 3069.9 | G16: 5121.23
A18: COT-03 | B18: PORTÃO DE TELA COM REQUADRO DE METALON 3,00 X 1,80 M | F18: UNID | G18: =AVERAGE(B21:H21) -> 2100
A19: EMPRESA | B19: JA SOLDAS E EMPREENDIMENTOS | D19: - | G19: -
A20: CNPJ | B20: 60.419.415/0001-26 | D20: - | G20: -
A21: VALOR UNITÁRIO | B21: 2100 | D21: - | G21: -
A23: COT-04 | B23: GRADE DE BARRAS METÁLICAS - E= 1,0CM | F23: UNID | G23: =AVERAGE(B26:H26) -> 450
A24: EMPRESA | B24: JA SOLDAS E EMPREENDIMENTOS | D24: - | G24: -
A25: CNPJ | B25: 60.419.415/0001-26 | D25: - | G25: -
A26: VALOR UNITÁRIO | B26: 450 | D26: - | G26: -
B31: Kelton José Amaral Nascimento
B32: Engenheiro Civil
B33: CREA-MG: 336.807/D
