Workbook
Name ___sub1: #REF!
Name ___sub2: #REF!
Name ___sub3: #REF!
Name _sub1: #REF!
Name _sub2: #REF!
Name _sub3: #REF!
Name a: #REF!
Name AREA: #REF!
Name B: #REF!
Name BDI: #REF!
Name DOLAR: [2]INSUMOS!$G$8
Name ersdcefgbrnghrbgbrgfbgfwbvbfgvwfv: #REF!
Name Excel_BuiltIn_Print_Area_2: #REF!
Name Excel_BuiltIn_Print_Area_2_1: #REF!
Name Excel_BuiltIn_Print_Area_2_1_1: #REF!
Name Excel_BuiltIn_Print_Area_2_1_1_1: #REF!
Name Excel_BuiltIn_Print_Area_4: #REF!
Name leosde: #REF!
Name NCOMPOSICOES: 7
Name NCOTACOES: 15
Name obra: #REF!
Name obra1: #REF!
Name obra2: #REF!
Name obra3: #REF!
Name obra4: #REF!
Name obra5: #REF!
Name P.1: #REF!
Name P.10: #REF!
Name P.11: #REF!
Name P.12: #REF!
Name P.13: #REF!
Name P.14: #REF!
Name P.15: #REF!
Name P.2: #REF!
Name P.3: #REF!
Name P.4: #REF!
Name P.5: #REF!
Name P.6: #REF!
Name P.7: #REF!
Name P.8: #REF!
Name P.9: #REF!
Name Pedreiro_de_acabamento: [2]INSUMOS!$B$11
Name PP1.1: #REF!
Name PP1.10: #REF!
Name PP1.11: #REF!
Name PP1.12: #REF!
Name PP1.13: #REF!
Name PP1.14: #REF!
Name PP1.15: #REF!
Name PP1.2: #REF!
Name PP1.3: #REF!
Name PP1.4: #REF!
Name PP1.5: #REF!
Name PP1.6: #REF!
Name PP1.7: #REF!
Name PP1.8: #REF!
Name PP1.9: #REF!
Name T.1: #REF!
Name T.10: #REF!
Name T.11: #REF!

Sheet Memória de Cálculo
B2: INTEGRA - COMÉRCIO E ENGENHARIA Av: JUSCELINO KUBITSCHEK, 533 - BAIRRO BOA VISTA - ITURAMA M.G. CEP: 38.280.000 CNPJ: 24.125.495/0001-43
B3: MEMÓRIA DE CÁLCULO DE QUANTITATIVOS
B4: PREFEITURA: PREFEITURA MUNICIPAL DE CAMPO FLORIDO
B5: OBRA: PONTE SÃO JOSÉ (Execução de Ala de proteção jusante) | G5: REFERÊNCIA: | H5: SINAPI: 05/2026 SEINFRA: 04/2026 DNIT: 04/2026
B6: LOCAL: RUA SÃO JOSÉ - CORREGO CACHOEIRINHA | G6: DATA: | H6: =TODAY() -> 46210
B8: ITEM | C8: FONTE | D8: CÓDIGO | E8: DESCRIÇÃO | F8: UNIDADE | G8: QUANTIDADE | H8: FÓRMULA DO CÁLCULO
B9: 1.0 | E9: PLACA DE OBRA
B10: 1.1 | C10: SEINFRA | D10: ED-28427 | E10: FORNECIMENTO E COLOCAÇÃO DE PLACA DE OBRA EM CHAPA GALVANIZADA #26, ESP. 0,45MM, DIMENSÃO (3X1,5)M, PLOTADA COM ADESIVO VINÍLICO, AFIXADA COM REBITES 4,8X40MM, EM ESTRUTURA METÁLICA DE METALON 20X20MM, ESP. 1,25MM, INCLUSIVE SUPORTE EM EUCALIPTO AUTOCLAVADO PINTADO COM TINTA PVA DUAS (2) DEMÃOS | F10: UN | G10: 1 | H10: 1,00 unidade conforme padrão exigido
B12: 2.0 | E12: ADIMINISTRAÇÃO LOCAL DE OBRA
B13: 2.1 | C13: SINAPI | D13: 90779 | E13: ENGENHEIRO CIVIL DE OBRA SENIOR COM ENCARGOS COMPLEMENTARES | F13: H | G13: 32 | H13: 16 horas mês (2 meses)
B14: 2.2 | C14: SINAPI | D14: 90776 | E14: ENCARREGADO GERAL DE OBRAS COM ENCARGOS COMPLEMENTARES | F14: H | G14: 80 | H14: 2 p/ dia
B15: 3.0 | E15: SERVIÇOS PRELIMINARES
B16: 3.1 | C16: DENIT | D16: E9203 | E16: ESCAVADEIRA HIDRÁULICA COM MARTELO HIDRÁULICO DE 1.700 KG - 103 KW | F16: H | G16: 4 | H16: 4 horas
B17: 3.2 | C17: SEINFRA | D17: RO-22625 | E17: TRANSPORTE DE VEÍCULOS DE MÉDIO PORTE COM GUINCHO DE RESGATE DE 20 T - RODOVIA PAVIMENTADA | F17: KM | G17: 150 | H17: 75 km 2 vezes (inda e retorno da obra)
B18: 3.3 | C18: SEINFRA | D18: ED-49779 | E18: CONCRETO CICLÓPICO, TRAÇO 1:3:6, PREPARADO EM OBRA COM BETONEIRA, COM ADIÇÃO DE 30% DE PEDRA DE MÃO, INCLUSIVE LANÇAMENTO, ADENSAMENTO E ACABAMENTO | F18: M³ | G18: 17.32 | H18: (57,72*0,30) medido ferramenta digital Auto Cad
B19: 3.4 | C19: SEINFRA | D19: ED-49812 | E19: LASTRO DE CONCRETO MAGRO, INCLUSIVE TRANSPORTE, LANÇAMENTO E ADENSAMENTO | F19: M³ | G19: 2.89 | H19: (57,72*0,05) medido ferramenta digital Auto Cad
B20: 3.5 | C20: SEINFRA | D20: ED-17989 | E20: LOCAÇÃO DE OBRA COM GABARITO DE TÁBUAS CORRIDAS PONTALETADAS A CADA 2,00M, REAPROVEITAMENTO (2X), INCLUSIVE ACOMPANHAMENTO DE EQUIPE TOPOGRÁFICA PARA MARCAÇÃO DE PONTO TOPOGRÁFICO | F20: M | G20: 28.59 | H20: (8,45+5,33+5,33)*1,50
B21: 3.6 | C21: DNIT | D21: 2003859 | E21: COLCHÃO DRENANTE COM ESPALHAMENTO E COMPACTAÇÃO MECÂNICOS | F21: M³ | G21: 17.32 | H21: (57,72*0,30) medido ferramenta digital Auto Cad
B22: 3.7 | C22: DNIT | D22: 1513940 | E22: CONTENÇÃO EM SOLO-CIMENTO ENSACADO COM MISTURA DE SOLO DE JAZIDA COM 8% DE CIMENTO - CONFECÇÃO E ASSENTAMENTO | F22: M³ | G22: 2.4 | H22: ((0,50*0,80)*6,00m
B24: 4.0 | E24: INFRA ESTRUTURA
B25: 4.1 | C25: SEINFRA | D25: ED-29801 | E25: PERFURAÇÃO MANUAL DE ESTACA TIPO BROCA A TRADO, INCLUSIVE AFASTAMENTO, EXCLUSIVE ARMAÇÃO, CONCRETO ESTRUTURAL, TRANSPORTE E RETIRADA DO MATERIAL ESCAVADO | F25: M³ | G25: 4.52 | H25: ((3,14*0,15²)*4m)*16 unidades
B26: 4.2 | C26: SEINFRA | D26: ED-49786 | E26: FORNECIMENTO DE CONCRETO ESTRUTURAL, PREPARADO EM OBRA COM BETONEIRA, COM FCK 20MPA, INCLUSIVE LANÇAMENTO, ADENSAMENTO E ACABAMENTO (FUNDAÇÃO) | F26: M³ | G26: 4.52 | H26: ((3,14*0,15²)*4m)*16 unidades
B27: 4.3 | C27: SEINFRA | D27: ED-49643 | E27: FÔRMA E DESFORMA DE TÁBUA E SARRAFO, | F27: M² | G27: 11.22 | H27: (6,25+1,41+5,33+1,80+14,07+1,80+5,33+1,41)*0,30
B28: 4.4 | C28: SEINFRA | D28: ED-49798 | E28: FORNECIMENTO DE CONCRETO ESTRUTURAL, USINADO, COM FCK 25MPA, INCLUSIVE LANÇAMENTO, ADENSAMENTO E ACABAMENTO (FUNDAÇÃO) | F28: M³ | G28: 19.26 | H28: ((16,07*0,30*0,30)viga de encabeamento=1,45m³ +(62,93*0,20)laje=12,59m³ +((0,30*0,30)*8,45)=0,76m³+((0,30*0,20)*9,56)=0,57m³+(((0,80*0,30)/2)=0,12m²*(1,41+5,33+4,44+1,08+7,88+1,08+4,44+5,33+1,41)=32,40m)m sapata das alas e cortinas=3,89m³.
B29: 4.5 | C29: SEINFRA | D29: RO-7744 | E29: TRANSPORTE DE CONCRETO DA CENTRAL DE CONCRETO ATÉ A PISTA COM CAMINHÃO BETONEIRA DE 8 M3 EM PISO PAVIMENTADO | F29: TXKm | G29: =25.39*75 -> 1904.25 | H29: (25,39m³*75Km)
B31: 5.0 | E31: MESO ESTRUTURA
B32: 5.1 | C32: SEINFRA | D32: ED-49646 | E32: FÔRMA E DESFORMA DE COMPENSADO RESINADO, ESP. 14MM, REAPROVEITAMENTO (3X), EXCLUSIVE ESCORAMENTO | F32: M² | G32: =96.91+57.18 -> 154.09 | H32: ((((5,33+0,20+4,78)*4,70)*2)=96,91m² alas+((((1,08+1,08)*4,70)+(6,25*2,95))*2)=57,18m² cortina
B33: 5.2 | C33: SEINFRA | D33: ED-49638 | E33: FORNECIMENTO DE CONCRETO ESTRUTURAL, USINADO BOMBEADO, COM FCK 25MPA, INCLUSIVE LANÇAMENTO, ADENSAMENTO E ACABAMENTO | F33: M³ | G33: =9.5+8.58+1.09 -> 19.17 | H33: ((((((5,33+4,78)/2)*0,20)*4,70)*2)=9,50m³ alas +((((1,08*0,30)*4,70)*2)+((6,25*0,30)*2,95))=8,58m³ cortina +(((1,75*6,25)*0,30)-(((3,14*0,88^²)*0,30)*3))=1,09m³ manilhas
B34: 5.3 | C34: SEINFRA | D34: RO-7744 | E34: TRANSPORTE DE CONCRETO DA CENTRAL DE CONCRETO ATÉ A PISTA COM CAMINHÃO BETONEIRA DE 8 M3 EM PISO PAVIMENTADO | F34: TXKm | G34: =19.17*75 -> 1437.75 | H34: (19,17m³*75Km)
B36: 6.0 | E36: SAPATAS ALAVANCA DAS ALAS E CORTINA
B37: 6.1 | C37: SEINFRA | D37: ED-49646 | E37: FÔRMA E DESFORMA DE COMPENSADO RESINADO, ESP. 14MM, REAPROVEITAMENTO (3X), EXCLUSIVE ESCORAMENTO | F37: M² | G37: =7.81+10.4 -> 18.21 | H37: (((1,50*10)+(5,51*2))*0,30)=7,81m² sapatas + (((2,90+2,20)/2)*0,60)+(2,20*0,25))*5 unidades=10,40m² vigas sapatas
B38: 6.2 | C38: SEINFRA | D38: ED-49798 | E38: FORNECIMENTO DE CONCRETO ESTRUTURAL, USINADO, COM FCK 25MPA, INCLUSIVE LANÇAMENTO, ADENSAMENTO E ACABAMENTO (FUNDAÇÃO) | F38: M³ | G38: =2.66+0.77 -> 3.43 | H38: ((((1,50*1,50)*0,20)*2)+((((1,50*0,75)*0,15)/2)*4)+((((5,50+4,00)/2)*0,15)*2))=2,66m³ sapatas + (((2,90+2,20)/2)*(0,20*0,30))*5 unidades =0,77m³ vigas
B39: 6.3 | C39: SEINFRA | D39: RO-7744 | E39: TRANSPORTE DE CONCRETO DA CENTRAL DE CONCRETO ATÉ A PISTA COM CAMINHÃO BETONEIRA DE 8 M3 EM PISO PAVIMENTADO | F39: TXKm | G39: =3.43*75 -> 257.25 | H39: (3,43m³*75Km)
B41: 7.0 | E41: GUARDA CORPO
B42: 7.1 | C42: SEINFRA | D42: ED-49646 | E42: FÔRMA E DESFORMA DE COMPENSADO RESINADO, ESP. 14MM, REAPROVEITAMENTO (3X), EXCLUSIVE ESCORAMENTO | F42: M² | G42: 5.45 | H42: (((((8,42+(0,80*4))*0,40)+(2,00*0,40))
B43: 7.2 | C43: SEINFRA | D43: ED-49618 | E43: FORNECIMENTO DE CONCRETO ESTRUTURAL, PREPARADO EM OBRA, COM FCK 20MPA, INCLUSIVE LANÇAMENTO, ADENSAMENTO E ACABAMENTO | F43: M³ | G43: 0.46 | H43: (((0,80*4)+8,42)*(0,20*0,20))
B44: 7.3 | C44: SEINFRA | D44: ED-48196 | E44: ALVENARIA DE VEDAÇÃO COM BLOCO DE CONCRETO, ESP. 19CM, INCLUSIVE ARGAMASSA PARA ASSENTAMENTO | F44: M² | G44: 6.1 | H44: ((2,54*0,80)*3)
B45: 7.4 | C45: SEINFRA | D45: ED-50727 | E45: CHAPISCO COM ARGAMASSA, TRAÇO 1:3 (CIMENTO E AREIA), ESP . 5MM, APLICADO EM ALVENARIA/ESTRUTURA DE CONCRETO COM COLHER, INCLUSIVE ARGAMASSA COM PREPARO MECANIZADO | F45: M² | G45: 18.92 | H45: ((8,42*2,20)+(2,00*0,20))
B46: 7.5 | C46: SEINFRA | D46: ED-50761 | E46: REBOCO COM ARGAMASSA, TRAÇO 1:2:8 (CIMENTO, CAL E AREIA), ESP. 20MM, APLICAÇÃO MANUAL, INCLUSIVE ARGAMASSA COM PREPARO MECANIZADO, EXCLUSIVE CHAPISCO | F46: M² | G46: 18.92 | H46: ((8,42*2,20)+(2,00*0,20))
B47: 7.6 | C47: SEINFRA | D47: ED-50500 | E47: PINTURA LÁTEX (PVA) EM PAREDE, TRÊS (3) DEMÃOS, COM APLICAÇÃO MANUAL | F47: M² | G47: 18.92 | H47: ((8,42*2,20)+(2,00*0,20))
...

Sheet Planilha Orcamentária
B3: PLANILHA ORÇAMENTÁRIA DE CUSTOS
B4: PREFEITURA: PREFEITURA MUNICIPAL DE CAMPO FLORIDO | G4: FOLHA Nº: | I4: 01/02.
B5: OBRA: PONTE SÃO JOSÉ (Execução de Ala de proteção jusante) | G5: DATA: | I5: =TODAY() -> 46210
B6: LOCAL: RUA SÃO JOSÉ - CORREGO CACHOEIRINHA | G6: FORMA DE EXECUÇÃO:
B7: REFERÊNCIA: SINAPI: 02/2026 SEINFRA: 01/2026 DNIT: 10/2026 COM DESONERAÇÃO | G7: ( ) | H7: DIRETA | I7: ( X ) | J7: INDIRETA
B8: *DEMONSTRATIVO DE BDI EXTRAIDO DA TABELA DE REFERÊNCIA (SEINFRA/DER-MG) | I8: BDI: | J8: 0.2979
B10: ITEM | C10: FONTE | D10: CÓDIGO | E10: DESCRIÇÃO | F10: UNIDADE | G10: QUANTIDADE | H10: PREÇO UNITÁRIO S/ BDI | I10: PREÇO UNITÁRIO C/ BDI | J10: PREÇO TOTAL
B11: ='Memória de Cálculo'!B9 -> 1.0 | E11: ='Memória de Cálculo'!E9 -> PLACA DE OBRA | I11: =ROUND(H11+(H11*$J$8),2) -> 0 | J11: =SUM(J12:J12) -> 1529.41
B12: ='Memória de Cálculo'!B10 -> 1.1 | C12: ='Memória de Cálculo'!C10 -> SEINFRA | D12: ='Memória de Cálculo'!D10 -> ED-28427 | E12: ='Memória de Cálculo'!E10 -> FORNECIMENTO E COLOCAÇÃO DE PLACA DE OBRA EM CHAPA GALVANIZADA #26, ESP. 0,45MM, DIMENSÃO (3X1,5)M, PLOTADA COM ADESIVO VINÍLICO, AFIXADA COM REBITES 4,8X40MM, EM ESTRUTURA METÁLICA DE METALON 20X20MM, ESP. 1,25MM, INCLUSIVE SUPORTE EM EUCALIPTO AUTOCLAVADO PINTADO COM TINTA PVA DUAS (2) DEMÃOS | F12: ='Memória de Cálculo'!F10 -> UN | G12: ='Memória de Cálculo'!G10 -> 1 | H12: 1178.37 | I12: =ROUND(H12+(H12*$J$8),2) -> 1529.41 | J12: =ROUND((G12*I12),2) -> 1529.41
B14: ='Memória de Cálculo'!B12 -> 2.0 | E14: ='Memória de Cálculo'!E12 -> ADIMINISTRAÇÃO LOCAL DE OBRA | I14: =ROUND(H14+(H14*$J$8),2) -> 0 | J14: =SUM(J15:J16) -> 12899.52
B15: ='Memória de Cálculo'!B13 -> 2.1 | C15: ='Memória de Cálculo'!C13 -> SINAPI | D15: ='Memória de Cálculo'!D13 -> 90779 | E15: ='Memória de Cálculo'!E13 -> ENGENHEIRO CIVIL DE OBRA SENIOR COM ENCARGOS COMPLEMENTARES | F15: ='Memória de Cálculo'!F13 -> H | G15: ='Memória de Cálculo'!G13 -> 32 | H15: 169.74 | I15: =ROUND(H15+(H15*$J$8),2) -> 220.31 | J15: =ROUND((G15*I15),2) -> 7049.92
B16: ='Memória de Cálculo'!B14 -> 2.2 | C16: ='Memória de Cálculo'!C14 -> SINAPI | D16: ='Memória de Cálculo'!D14 -> 90776 | E16: ='Memória de Cálculo'!E14 -> ENCARREGADO GERAL DE OBRAS COM ENCARGOS COMPLEMENTARES | F16: ='Memória de Cálculo'!F14 -> H | G16: ='Memória de Cálculo'!G14 -> 80 | H16: 56.34 | I16: =ROUND(H16+(H16*$J$8),2) -> 73.12 | J16: =ROUND((G16*I16),2) -> 5849.6
B18: ='Memória de Cálculo'!B15 -> 3.0 | C18: ='Memória de Cálculo'!C15 -> 0 | E18: ='Memória de Cálculo'!E15 -> SERVIÇOS PRELIMINARES | J18: =SUM(J19:J25) -> 23804.27
B19: ='Memória de Cálculo'!B16 -> 3.1 | C19: ='Memória de Cálculo'!C16 -> DENIT | D19: ='Memória de Cálculo'!D16 -> E9203 | E19: ='Memória de Cálculo'!E16 -> ESCAVADEIRA HIDRÁULICA COM MARTELO HIDRÁULICO DE 1.700 KG - 103 KW | F19: ='Memória de Cálculo'!F16 -> H | G19: ='Memória de Cálculo'!G16 -> 4 | H19: 702.79 | I19: =ROUND(H19+(H19*$J$8),2) -> 912.15 | J19: =ROUND((G19*I19),2) -> 3648.6
B20: ='Memória de Cálculo'!B17 -> 3.2 | C20: ='Memória de Cálculo'!C17 -> SEINFRA | D20: ='Memória de Cálculo'!D17 -> RO-22625 | E20: ='Memória de Cálculo'!E17 -> TRANSPORTE DE VEÍCULOS DE MÉDIO PORTE COM GUINCHO DE RESGATE DE 20 T - RODOVIA PAVIMENTADA | F20: ='Memória de Cálculo'!F17 -> KM | G20: ='Memória de Cálculo'!G17 -> 150 | H20: 14.05 | I20: =ROUND(H20+(H20*$J$8),2) -> 18.24 | J20: =ROUND((G20*I20),2) -> 2736
B21: ='Memória de Cálculo'!B18 -> 3.3 | C21: ='Memória de Cálculo'!C18 -> SEINFRA | D21: ='Memória de Cálculo'!D18 -> ED-49779 | E21: ='Memória de Cálculo'!E18 -> CONCRETO CICLÓPICO, TRAÇO 1:3:6, PREPARADO EM OBRA COM BETONEIRA, COM ADIÇÃO DE 30% DE PEDRA DE MÃO, INCLUSIVE LANÇAMENTO, ADENSAMENTO E ACABAMENTO | F21: ='Memória de Cálculo'!F18 -> M³ | G21: ='Memória de Cálculo'!G18 -> 17.32 | H21: 455.69 | I21: =ROUND(H21+(H21*$J$8),2) -> 591.44 | J21: =ROUND((G21*I21),2) -> 10243.74
B22: ='Memória de Cálculo'!B19 -> 3.4 | C22: ='Memória de Cálculo'!C19 -> SEINFRA | D22: ='Memória de Cálculo'!D19 -> ED-49812 | E22: ='Memória de Cálculo'!E19 -> LASTRO DE CONCRETO MAGRO, INCLUSIVE TRANSPORTE, LANÇAMENTO E ADENSAMENTO | F22: ='Memória de Cálculo'!F19 -> M³ | G22: ='Memória de Cálculo'!G19 -> 2.89 | H22: 640.74 | I22: =ROUND(H22+(H22*$J$8),2) -> 831.62 | J22: =ROUND((G22*I22),2) -> 2403.38
B23: ='Memória de Cálculo'!B20 -> 3.5 | C23: ='Memória de Cálculo'!C20 -> SEINFRA | D23: ='Memória de Cálculo'!D20 -> ED-17989 | E23: ='Memória de Cálculo'!E20 -> LOCAÇÃO DE OBRA COM GABARITO DE TÁBUAS CORRIDAS PONTALETADAS A CADA 2,00M, REAPROVEITAMENTO (2X), INCLUSIVE ACOMPANHAMENTO DE EQUIPE TOPOGRÁFICA PARA MARCAÇÃO DE PONTO TOPOGRÁFICO | F23: ='Memória de Cálculo'!F20 -> M | G23: ='Memória de Cálculo'!G20 -> 28.59 | H23: 61.27 | I23: =ROUND(H23+(H23*$J$8),2) -> 79.52 | J23: =ROUND((G23*I23),2) -> 2273.48
B24: ='Memória de Cálculo'!B21 -> 3.6 | C24: DNIT | D24: ='Memória de Cálculo'!D21 -> 2003859 | E24: ='Memória de Cálculo'!E21 -> COLCHÃO DRENANTE COM ESPALHAMENTO E COMPACTAÇÃO MECÂNICOS | F24: ='Memória de Cálculo'!F21 -> M³ | G24: ='Memória de Cálculo'!G21 -> 17.32 | H24: 62.27 | I24: =ROUND(H24+(H24*$J$8),2) -> 80.82 | J24: =ROUND((G24*I24),2) -> 1399.8
B25: ='Memória de Cálculo'!B22 -> 3.7 | C25: ='Memória de Cálculo'!C22 -> DNIT | D25: ='Memória de Cálculo'!D22 -> 1513940 | E25: ='Memória de Cálculo'!E22 -> CONTENÇÃO EM SOLO-CIMENTO ENSACADO COM MISTURA DE SOLO DE JAZIDA COM 8% DE CIMENTO - CONFECÇÃO E ASSENTAMENTO | F25: ='Memória de Cálculo'!F22 -> M³ | G25: ='Memória de Cálculo'!G22 -> 2.4 | H25: 352.9 | I25: =ROUND(H25+(H25*$J$8),2) -> 458.03 | J25: =ROUND((G25*I25),2) -> 1099.27
B27: ='Memória de Cálculo'!B24 -> 4.0 | C27: ='Memória de Cálculo'!C24 -> 0 | D27: ='Memória de Cálculo'!D24 -> 0 | E27: ='Memória de Cálculo'!E24 -> INFRA ESTRUTURA | F27: ='Memória de Cálculo'!F24 -> 0 | G27: ='Memória de Cálculo'!G24 -> 0 | J27: =SUM(J28:J32) -> 27645.28
B28: ='Memória de Cálculo'!B25 -> 4.1 | C28: ='Memória de Cálculo'!C25 -> SEINFRA | D28: ='Memória de Cálculo'!D25 -> ED-29801 | E28: ='Memória de Cálculo'!E25 -> PERFURAÇÃO MANUAL DE ESTACA TIPO BROCA A TRADO, INCLUSIVE AFASTAMENTO, EXCLUSIVE ARMAÇÃO, CONCRETO ESTRUTURAL, TRANSPORTE E RETIRADA DO MATERIAL ESCAVADO | F28: ='Memória de Cálculo'!F25 -> M³ | G28: ='Memória de Cálculo'!G25 -> 4.52 | H28: 262.22 | I28: =ROUND(H28+(H28*$J$8),2) -> 340.34 | J28: =ROUND((G28*I28),2) -> 1538.34
B29: ='Memória de Cálculo'!B26 -> 4.2 | C29: ='Memória de Cálculo'!C26 -> SEINFRA | D29: ='Memória de Cálculo'!D26 -> ED-49786 | E29: ='Memória de Cálculo'!E26 -> FORNECIMENTO DE CONCRETO ESTRUTURAL, PREPARADO EM OBRA COM BETONEIRA, COM FCK 20MPA, INCLUSIVE LANÇAMENTO, ADENSAMENTO E ACABAMENTO (FUNDAÇÃO) | F29: ='Memória de Cálculo'!F26 -> M³ | G29: ='Memória de Cálculo'!G26 -> 4.52 | H29: 815.62 | I29: =ROUND(H29+(H29*$J$8),2) -> 1058.59 | J29: =ROUND((G29*I29),2) -> 4784.83
B30: ='Memória de Cálculo'!B27 -> 4.3 | C30: ='Memória de Cálculo'!C27 -> SEINFRA | D30: ='Memória de Cálculo'!D27 -> ED-49643 | E30: ='Memória de Cálculo'!E27 -> FÔRMA E DESFORMA DE TÁBUA E SARRAFO, | F30: ='Memória de Cálculo'!F27 -> M² | G30: ='Memória de Cálculo'!G27 -> 11.22 | H30: 78.15 | I30: =ROUND(H30+(H30*$J$8),2) -> 101.43 | J30: =ROUND((G30*I30),2) -> 1138.04
B31: ='Memória de Cálculo'!B28 -> 4.4 | C31: ='Memória de Cálculo'!C28 -> SEINFRA | D31: ='Memória de Cálculo'!D28 -> ED-49798 | E31: ='Memória de Cálculo'!E28 -> FORNECIMENTO DE CONCRETO ESTRUTURAL, USINADO, COM FCK 25MPA, INCLUSIVE LANÇAMENTO, ADENSAMENTO E ACABAMENTO (FUNDAÇÃO) | F31: ='Memória de Cálculo'!F28 -> M³ | G31: ='Memória de Cálculo'!G28 -> 19.26 | H31: 724.41 | I31: =ROUND(H31+(H31*$J$8),2) -> 940.21 | J31: =ROUND((G31*I31),2) -> 18108.44
B32: ='Memória de Cálculo'!B29 -> 4.5 | C32: ='Memória de Cálculo'!C29 -> SEINFRA | D32: ='Memória de Cálculo'!D29 -> RO-7744 | E32: ='Memória de Cálculo'!E29 -> TRANSPORTE DE CONCRETO DA CENTRAL DE CONCRETO ATÉ A PISTA COM CAMINHÃO BETONEIRA DE 8 M3 EM PISO PAVIMENTADO | F32: ='Memória de Cálculo'!F29 -> TXKm | G32: ='Memória de Cálculo'!G29 -> 1904.25 | H32: 0.84 | I32: =ROUND(H32+(H32*$J$8),2) -> 1.09 | J32: =ROUND((G32*I32),2) -> 2075.63
B34: ='Memória de Cálculo'!B31 -> 5.0 | C34: ='Memória de Cálculo'!C31 -> 0 | D34: ='Memória de Cálculo'!D31 -> 0 | E34: ='Memória de Cálculo'!E31 -> MESO ESTRUTURA | F34: ='Memória de Cálculo'!F31 -> 0 | G34: ='Memória de Cálculo'!G31 -> 0 | J34: =SUM(J35:J37) -> 34635.66
B35: ='Memória de Cálculo'!B32 -> 5.1 | C35: ='Memória de Cálculo'!C32 -> SEINFRA | D35: ='Memória de Cálculo'!D32 -> ED-49646 | E35: ='Memória de Cálculo'!E32 -> FÔRMA E DESFORMA DE COMPENSADO RESINADO, ESP. 14MM, REAPROVEITAMENTO (3X), EXCLUSIVE ESCORAMENTO | F35: ='Memória de Cálculo'!F32 -> M² | G35: ='Memória de Cálculo'!G32 -> 154.09 | H35: 72.1 | I35: =ROUND(H35+(H35*$J$8),2) -> 93.58 | J35: =ROUND((G35*I35),2) -> 14419.74
B36: ='Memória de Cálculo'!B33 -> 5.2 | C36: ='Memória de Cálculo'!C33 -> SEINFRA | D36: ='Memória de Cálculo'!D33 -> ED-49638 | E36: ='Memória de Cálculo'!E33 -> FORNECIMENTO DE CONCRETO ESTRUTURAL, USINADO BOMBEADO, COM FCK 25MPA, INCLUSIVE LANÇAMENTO, ADENSAMENTO E ACABAMENTO | F36: ='Memória de Cálculo'!F33 -> M³ | G36: ='Memória de Cálculo'!G33 -> 19.17 | H36: 749.53 | I36: =ROUND(H36+(H36*$J$8),2) -> 972.81 | J36: =ROUND((G36*I36),2) -> 18648.77
B37: ='Memória de Cálculo'!B34 -> 5.3 | C37: ='Memória de Cálculo'!C34 -> SEINFRA | D37: ='Memória de Cálculo'!D34 -> RO-7744 | E37: ='Memória de Cálculo'!E34 -> TRANSPORTE DE CONCRETO DA CENTRAL DE CONCRETO ATÉ A PISTA COM CAMINHÃO BETONEIRA DE 8 M3 EM PISO PAVIMENTADO | F37: ='Memória de Cálculo'!F34 -> TXKm | G37: ='Memória de Cálculo'!G34 -> 1437.75 | H37: 0.84 | I37: =ROUND(H37+(H37*$J$8),2) -> 1.09 | J37: =ROUND((G37*I37),2) -> 1567.15
B38: ='Memória de Cálculo'!B35 -> 0
B39: ='Memória de Cálculo'!B36 -> 6.0 | C39: ='Memória de Cálculo'!C36 -> 0 | D39: ='Memória de Cálculo'!D36 -> 0 | E39: ='Memória de Cálculo'!E36 -> SAPATAS ALAVANCA DAS ALAS E CORTINA | F39: ='Memória de Cálculo'!F36 -> 0 | G39: ='Memória de Cálculo'!G36 -> 0 | I39: =ROUND(H39+(H39*$J$8),2) -> 0 | J39: =SUM(J40:J42) -> 5209.41
B40: ='Memória de Cálculo'!B37 -> 6.1 | C40: ='Memória de Cálculo'!C37 -> SEINFRA | D40: ='Memória de Cálculo'!D37 -> ED-49646 | E40: ='Memória de Cálculo'!E37 -> FÔRMA E DESFORMA DE COMPENSADO RESINADO, ESP. 14MM, REAPROVEITAMENTO (3X), EXCLUSIVE ESCORAMENTO | F40: ='Memória de Cálculo'!F37 -> M² | G40: ='Memória de Cálculo'!G37 -> 18.21 | H40: 72.1 | I40: =ROUND(H40+(H40*$J$8),2) -> 93.58 | J40: =ROUND((G40*I40),2) -> 1704.09
B41: ='Memória de Cálculo'!B38 -> 6.2 | C41: ='Memória de Cálculo'!C38 -> SEINFRA | D41: ='Memória de Cálculo'!D38 -> ED-49798 | E41: ='Memória de Cálculo'!E38 -> FORNECIMENTO DE CONCRETO ESTRUTURAL, USINADO, COM FCK 25MPA, INCLUSIVE LANÇAMENTO, ADENSAMENTO E ACABAMENTO (FUNDAÇÃO) | F41: ='Memória de Cálculo'!F38 -> M³ | G41: ='Memória de Cálculo'!G38 -> 3.43 | H41: 724.41 | I41: =ROUND(H41+(H41*$J$8),2) -> 940.21 | J41: =ROUND((G41*I41),2) -> 3224.92
B42: ='Memória de Cálculo'!B39 -> 6.3 | C42: ='Memória de Cálculo'!C39 -> SEINFRA | D42: ='Memória de Cálculo'!D39 -> RO-7744 | E42: ='Memória de Cálculo'!E39 -> TRANSPORTE DE CONCRETO DA CENTRAL DE CONCRETO ATÉ A PISTA COM CAMINHÃO BETONEIRA DE 8 M3 EM PISO PAVIMENTADO | F42: ='Memória de Cálculo'!F39 -> TXKm | G42: ='Memória de Cálculo'!G39 -> 257.25 | H42: 0.84 | I42: =ROUND(H42+(H42*$J$8),2) -> 1.09 | J42: =ROUND((G42*I42),2) -> 280.4
B44: ='Memória de Cálculo'!B41 -> 7.0 | C44: ='Memória de Cálculo'!C41 -> 0 | D44: ='Memória de Cálculo'!D41 -> 0 | E44: ='Memória de Cálculo'!E41 -> GUARDA CORPO | F44: ='Memória de Cálculo'!F41 -> 0 | G44: ='Memória de Cálculo'!G41 -> 0 | I44: =ROUND(H44+(H44*$J$8),2) -> 0 | J44: =SUM(J45:J50) -> 3137.67
B45: ='Memória de Cálculo'!B42 -> 7.1 | C45: ='Memória de Cálculo'!C42 -> SEINFRA | D45: ='Memória de Cálculo'!D42 -> ED-49646 | E45: ='Memória de Cálculo'!E42 -> FÔRMA E DESFORMA DE COMPENSADO RESINADO, ESP. 14MM, REAPROVEITAMENTO (3X), EXCLUSIVE ESCORAMENTO | F45: ='Memória de Cálculo'!F42 -> M² | G45: ='Memória de Cálculo'!G42 -> 5.45 | H45: 72.1 | I45: =ROUND(H45+(H45*$J$8),2) -> 93.58 | J45: =ROUND((G45*I45),2) -> 510.01
B46: ='Memória de Cálculo'!B43 -> 7.2 | C46: ='Memória de Cálculo'!C43 -> SEINFRA | D46: ='Memória de Cálculo'!D43 -> ED-49618 | E46: ='Memória de Cálculo'!E43 -> FORNECIMENTO DE CONCRETO ESTRUTURAL, PREPARADO EM OBRA, COM FCK 20MPA, INCLUSIVE LANÇAMENTO, ADENSAMENTO E ACABAMENTO | F46: ='Memória de Cálculo'!F43 -> M³ | G46: ='Memória de Cálculo'!G43 -> 0.46 | H46: 845.53 | I46: =ROUND(H46+(H46*$J$8),2) -> 1097.41 | J46: =ROUND((G46*I46),2) -> 504.81
B47: ='Memória de Cálculo'!B44 -> 7.3 | C47: ='Memória de Cálculo'!C44 -> SEINFRA | D47: ='Memória de Cálculo'!D44 -> ED-48196 | E47: ='Memória de Cálculo'!E44 -> ALVENARIA DE VEDAÇÃO COM BLOCO DE CONCRETO, ESP. 19CM, INCLUSIVE ARGAMASSA PARA ASSENTAMENTO | F47: ='Memória de Cálculo'!F44 -> M² | G47: ='Memória de Cálculo'!G44 -> 6.1 | H47: 92.56 | I47: =ROUND(H47+(H47*$J$8),2) -> 120.13 | J47: =ROUND((G47*I47),2) -> 732.79
B48: ='Memória de Cálculo'!B45 -> 7.4 | C48: ='Memória de Cálculo'!C45 -> SEINFRA | D48: ='Memória de Cálculo'!D45 -> ED-50727 | E48: ='Memória de Cálculo'!E45 -> CHAPISCO COM ARGAMASSA, TRAÇO 1:3 (CIMENTO E AREIA), ESP . 5MM, APLICADO EM ALVENARIA/ESTRUTURA DE CONCRETO COM COLHER, INCLUSIVE ARGAMASSA COM PREPARO MECANIZADO | F48: ='Memória de Cálculo'!F45 -> M² | G48: ='Memória de Cálculo'!G45 -> 18.92 | H48: 10.64 | I48: =ROUND(H48+(H48*$J$8),2) -> 13.81 | J48: =ROUND((G48*I48),2) -> 261.29
...

Sheet BDI
B2: INTEGRA - COMÉRCIO E ENGENHARIA Av: JUSCELINO KUBITSCHEK, 533 - BAIRRO BOA VISTA - ITURAMA M.G. CEP: 38.280.000 CNPJ: 24.125.495/0001-43
B3: Conforme legislação tributária municipal, definir estimativa de percentual da base de cálculo para o ISS: | J3: 1
B4: Sobre a base de cálculo, definir a respectiva alíquota do ISS (entre 2% e 5%): | J4: 0.03
B7: DEMOSTRATIVO DE BDI
B9: Conforme legislação tributária municipal | J9: 1
B10: Sobre base de cálculo, alicota do iss | J10: 0.03
B12: Itens | J12: Siglas | K12: % Adotado | M12: Situação | P12: 1º Quartil | Q12: Médio | R12: 3º Quartil
B14: =IF($J$18=$A$143,"Encargos Sociais incidentes sobre a mão de obra","Administração Central") -> Administração Central | J14: AC | K14: 0.04 | M14: - | P14: 0.03 | Q14: 0.04 | R14: 0.055
B15: =IF($J$18=$A$143,"Administração Central da empresa ou consultoria - overhead","Seguro e Garantia") -> Seguro e Garantia | J15: SG | K15: 0.008 | M15: - | P15: 0.008 | Q15: 0.008 | R15: 0.01
B16: =IF($J$18=$A$143,"","Risco") -> Risco | J16: R | K16: 0.0127 | M16: - | P16: 0.0097 | Q16: 0.0127 | R16: 0.0127
B17: =IF($J$18=$A$143,"","Despesas Financeiras") -> Despesas Financeiras | J17: DF | K17: 0.0123 | M17: - | P17: 0.0059 | Q17: 0.0123 | R17: 0.0139
B18: =IF($J$18=$A$143,"Margem bruta da empresa de consultoria","Lucro") -> Lucro | J18: L | K18: 0.074 | M18: - | P18: 0.0616 | Q18: 0.074 | R18: 0.0896
B19: Tributos (impostos COFINS 3%, e PIS 0,65%) | J19: CP | K19: 0.0365 | M19: - | P19: 0.0365 | Q19: 0.0365 | R19: 0.0365
B20: Tributos (ISS, variável de acordo com o município) | J20: ISS | K20: =J4 -> 0.03 | M20: - | P20: 0 | Q20: 0.025 | R20: 0.05
B21: Tributos (Contribuição Previdenciária sobre a Receita Bruta - Lei 12.546 de 14/12/2011 - Desoneração) | J21: CPRB | K21: 0.045 | M21: - | P21: 0.045 | Q21: 0.045 | R21: 0.045
B22: BDI SEM desoneração (Fórmula Acórdão TCU) | J22: BDI PAD | K22: 0.2487 | M22: =IF(OR($J$18=$A$143,$J$18=$A$142,AND(K22>=P22,K22<=R22)),"OK","FORA DO INTERVALO") -> OK | P22: 0.2034 | Q22: 0.2212 | R22: 0.25
B23: BDI COM desoneração | J23: BDI DES | K23: 0.2979
B26: Os valores de BDI foram calculados com o emprego da fórmula:
E27: BDI = | F27: (1+AC+S+R+G)*(1+DF)*(1+L) | I27: - 1
F28: (1-CP-ISS-CRPB) | M28: Responsável técnico

Sheet Cronograma
B2: INTEGRA - COMÉRCIO E ENGENHARIA Av: JUSCELINO KUBITSCHEK, 533 - BAIRRO BOA VISTA - ITURAMA M.G. CEP: 38.280.000 CNPJ: 24.125.495/0001-43
B3: CRONOGRAMA FÍSICO-FINANCEIRO
B4: CENTRO DE CRIATIVIDADE CAMINHO DA ESPERANÇA | E4: DATA: | F4: =TODAY() -> 46210 | G4: FOLHA Nº: 01/01
B5: ='Planilha Orcamentária'!B5 -> OBRA: PONTE SÃO JOSÉ (Execução de Ala de proteção jusante) | D5: VALOR | E5: =E27 -> 175152.54 | F5: PREVISÃO DE EXECUÇÃO DAS OBRAS: 2 MESES
B6: ='Planilha Orcamentária'!B6 -> LOCAL: RUA SÃO JOSÉ - CORREGO CACHOEIRINHA
B7: ITENS | C7: ETAPAS/DESCRIÇÃO | D7: FÍSICO/ FINANCEIRO | E7: TOTAL ETAPAS | F7: MÊS 1 | G7: MÊS 2
B8: ='Planilha Orcamentária'!B11 -> 1.0 | C8: ='Planilha Orcamentária'!E11 -> PLACA DE OBRA | D8: Físico % | E8: =E9/$E$27 -> 0.0087318745 | F8: 1 | G8: 0
D9: Financeiro | E9: ='Planilha Orcamentária'!J11 -> 1529.41 | F9: =F8*$E$9 -> 1529.41 | G9: =G8*$E$9 -> 0
B10: ='Planilha Orcamentária'!B14 -> 2.0 | C10: ='Planilha Orcamentária'!E14 -> ADIMINISTRAÇÃO LOCAL DE OBRA | D10: Físico % | E10: =E11/$E$27 -> 0.073647348 | F10: 0.52 | G10: 0.48
D11: Financeiro | E11: ='Planilha Orcamentária'!J14 -> 12899.52 | F11: =F10*$E$11 -> 6707.7504 | G11: =G10*$E$11 -> 6191.7696
B12: ='Planilha Orcamentária'!B18 -> 3.0 | C12: ='Planilha Orcamentária'!E18 -> SERVIÇOS PRELIMINARES | D12: Físico % | E12: =E13/$E$27 -> 0.13590594 | F12: 1
D13: Financeiro | E13: ='Planilha Orcamentária'!J18 -> 23804.27 | F13: =F12*$E$13 -> 23804.27 | G13: =G12*$E$13 -> 0
B14: ='Planilha Orcamentária'!B27 -> 4.0 | C14: ='Planilha Orcamentária'!E27 -> INFRA ESTRUTURA | D14: Físico % | E14: =E15/$E$27 -> 0.15783545 | F14: 0.9 | G14: 0.1
D15: Financeiro | E15: ='Planilha Orcamentária'!J27 -> 27645.28 | F15: =F14*$E$15 -> 24880.752 | G15: =G14*$E$15 -> 2764.528
B16: ='Planilha Orcamentária'!B34 -> 5.0 | C16: ='Planilha Orcamentária'!E34 -> MESO ESTRUTURA | D16: Físico % | E16: =E17/$E$27 -> 0.19774569 | F16: 0.2 | G16: 0.8
D17: Financeiro | E17: ='Planilha Orcamentária'!J34 -> 34635.66 | F17: =F16*$E$17 -> 6927.132 | G17: =G16*$E$17 -> 27708.528
B18: ='Planilha Orcamentária'!B39 -> 6.0 | C18: ='Planilha Orcamentária'!E39 -> SAPATAS ALAVANCA DAS ALAS E CORTINA | D18: Físico % | E18: =E19/$E$27 -> 0.029742132 | F18: 0.4 | G18: 0.6
D19: Financeiro | E19: ='Planilha Orcamentária'!J39 -> 5209.41 | F19: =F18*$E$19 -> 2083.764 | G19: =G18*$E$19 -> 3125.646
B20: ='Planilha Orcamentária'!B44 -> 7.0 | C20: ='Planilha Orcamentária'!E44 -> GUARDA CORPO | D20: Físico % | E20: =E21/$E$27 -> 0.017913928 | G20: 1
D21: Financeiro | E21: ='Planilha Orcamentária'!J44 -> 3137.67 | F21: =F20*$E$15 -> 0 | G21: =G20*$E$21 -> 3137.67
B22: ='Planilha Orcamentária'!B52 -> 8.0 | C22: ='Planilha Orcamentária'!E52 -> ARMADURA DE AÇO | D22: Físico % | E22: =E23/$E$27 -> 0.28645642 | F22: 0.4 | G22: 0.6
D23: Financeiro | E23: ='Planilha Orcamentária'!J52 -> 50173.57 | F23: =F22*$E$23 -> 20069.428 | G23: =G22*$E$23 -> 30104.142
B24: ='Planilha Orcamentária'!B59 -> 9.0 | C24: ='Planilha Orcamentária'!E59 -> OBRAS E SERVIÇOS COMPLEMENTARES | D24: Físico % | E24: =E25/$E$27 -> 0.092021218 | F24: 0.1 | G24: 0.9
D25: Financeiro | E25: ='Planilha Orcamentária'!J59 -> 16117.75 | F25: =F24*$E$25 -> 1611.775 | G25: =G24*$E$25 -> 14505.975
B26: TOTAL | D26: Físico % | E26: =SUM(E8,E10,E12,E14,E16,E18,E20,E22,E24) -> 1 | F26: =(F27/$E$27) -> 0.50021702 | G26: =(G27/$E$27) -> 0.49978298
D27: Financeiro | E27: =SUM(E9,E11,E13,E15,E17,E19,E21,E23,E25) -> 175152.54 | F27: =SUM(F9,F11,F13,F15,F17,F19,F21,F23,F25) -> 87614.281 | G27: =SUM(G9,G11,G13,G15,G17,G19,G21,G23,G25) -> 87538.259
F28: Observações:
C30: ='Memória de Cálculo'!E62 -> 0
C33: ='Memória de Cálculo'!E65 -> 0
C34: ='Memória de Cálculo'!E66 -> Responsável Técnico
C35: ='Memória de Cálculo'!E67 -> 0
