Workbook
Name Fonte: 'MM CALC'!#REF!
Name Fonte: 'PLAN ORÇ'!$I1
Name nao: #REF!
Name nao: #REF!

Sheet PLAN ORÇ
A3: PLANILHA ORÇAMENTÁRIA DE CUSTOS
A5: ='MM CALC'!A3 -> PREFEITURA MUNICIPAL DE SÃO JOÃO NEPOMUCENO | E5: ='MM CALC'!E3 -> DATA: 06/10/2025
A6: ='MM CALC'!A4 -> OBRA: Ampliação Da escola Péricles
A7: ='MM CALC'!A5 -> LOCAL: RUA NORMA PIMENTA MENEZES, SÃO CRISTÓVÃO | E7: FORMA DE EXECUÇÃO: | G7: Adotado BDI "CONSTRUÇÃO DE EDIFÍCIOS" da planilha de preços SEINFRA/REGIÃO LESTE 04/2025 SEM DESONERAÇÃO | I7: ISS 3,00%
A8: REGIÃO/MÊS DE REFERÊNCIA: SEINFRA/REGIÃO LESTE 07/2025 SEM DESONERAÇÃO | E8: ( ) | F8: DIRETA
A9: PRAZO DE EXECUÇÃO: 4 MÊSES | E9: ( X ) | F9: INDIRETA | G9: BDI = | H9: 0.2342
A11: ITEM | B11: FONTE | C11: CDIGO | D11: DESCRIÇÃO | E11: UND. | F11: QUANT. | G11: UNITÁRIO S/ BDI | H11: UNITÁRIO C/ BDI | I11: TOTAL
A13: ='MM CALC'!A9 -> 1 | D13: ='MM CALC'!D9 -> SERVIÇOS PRELIMINARES | I13: =SUM(I14:I14) -> 1427.41
A14: ='MM CALC'!A10 -> 1.1 | B14: ='MM CALC'!B10 -> SEINFRA | C14: ='MM CALC'!C10 -> ED-28427 | D14: ='MM CALC'!D10 -> FORNECIMENTO E COLOCAÇÃO DE PLACA DE OBRA EM CHAPA GALVANIZADA #26, ESP. 0,45MM, DIMENSÃO (3X1,5)M, PLOTADA COM ADESIVO VINÍLICO, AFIXADA COM REBITES 4,8X40MM, EM ESTRUTURA METÁLICA DE METALON 20X20MM, ESP. 1,25MM, INCLUSIVE SUPORTE EM EUCALIPTO AUTOCLAVADO PINTADO COM TINTA PVA DUAS (2) DEMÃOS | E14: ='MM CALC'!E10 -> u | F14: ='MM CALC'!F10 -> 1 | G14: 1156.55 | H14: =ROUND(G14+(G14*$H$9),2) -> 1427.41 | I14: =ROUND((F14*H14),2) -> 1427.41
A15: ='MM CALC'!A11 -> 1.2 | B15: ='MM CALC'!B11 -> SEINFRA | C15: ='MM CALC'!C11 -> ED-17989 | D15: ='MM CALC'!D11 -> LOCAÇÃO DE OBRA COM GABARITO DE TÁBUAS CORRIDAS PONTALETADAS A CADA 2,00M, REAPROVEITAMENTO (2X), INCLUSIVE ACOMPANHAMENTO DE EQUIPE TOPOGRÁFICA PARA MARCAÇÃO DE PONTO TOPOGRÁFICO | E15: ='MM CALC'!E11 -> m | F15: ='MM CALC'!F11 -> 60 | G15: 63.18 | H15: =ROUND(G15+(G15*$H$9),2) -> 77.98 | I15: =ROUND((F15*H15),2) -> 4678.8
A16: ='MM CALC'!A12 -> 2 | D16: ='MM CALC'!D12 -> ESTRUTURA | I16: =SUM(I18:I53) -> 227955.17
A17: ='MM CALC'!A13 -> 2.1. | D17: ='MM CALC'!D13 -> FUNDAÇÃO - SAPATAS
A18: ='MM CALC'!A14 -> 2.1.1 | B18: ='MM CALC'!B14 -> SEINFRA | C18: ='MM CALC'!C14 -> ED-51105 | D18: ='MM CALC'!D14 -> ESCAVAÇÃO MECÂNICA EM MATERIAL DE 1ª CATEGORIA, INCLUSIVE CARGA EM CAMINHÃO, EXCLUSIVE TRANSPORTE E DESCARGA | E18: ='MM CALC'!E14 -> m³ | F18: ='MM CALC'!F14 -> 31.7 | G18: 7.62 | H18: =ROUND(G18+(G18*$H$9),2) -> 9.4 | I18: =ROUND((F18*H18),2) -> 297.98
A19: ='MM CALC'!A15 -> 2.1.2 | B19: ='MM CALC'!B15 -> SEINFRA | C19: ='MM CALC'!C15 -> ED-49805 | D19: ='MM CALC'!D15 -> FORNECIMENTO DE CONCRETO ESTRUTURAL, USINADO BOMBEADO, COM FCK 25MPA, INCLUSIVE LANÇAMENTO, ADENSAMENTO E ACABAMENTO (FUNDAÇÃO | E19: ='MM CALC'!E15 -> m³ | F19: ='MM CALC'!F15 -> 7.21 | G19: 716.36 | H19: =ROUND(G19+(G19*$H$9),2) -> 884.13 | I19: =ROUND((F19*H19),2) -> 6374.58
A20: ='MM CALC'!A16 -> 2.1.3 | B20: ='MM CALC'!B16 -> SEINFRA | C20: ='MM CALC'!C16 -> ED-49812 | D20: ='MM CALC'!D16 -> LASTRO DE CONCRETO MAGRO, INCLUSIVE TRANSPORTE, LANÇAMENTO E ADENSAMENTO | E20: ='MM CALC'!E16 -> m³ | F20: ='MM CALC'!F16 -> 0.98 | G20: 578.31 | H20: =ROUND(G20+(G20*$H$9),2) -> 713.75 | I20: =ROUND((F20*H20),2) -> 699.48
A21: ='MM CALC'!A17 -> 2.1.4 | B21: ='MM CALC'!B17 -> SEINFRA | C21: ='MM CALC'!C17 -> ED-29548 | D21: ='MM CALC'!D17 -> CORTE, DOBRA E MONTAGEM DE AÇO CA-60, DIÂMETRO 5MM, INCLUSIVE ESPAÇADOR | E21: ='MM CALC'!E17 -> kg | F21: ='MM CALC'!F17 -> 45.9 | G21: 13.97 | H21: =ROUND(G21+(G21*$H$9),2) -> 17.24 | I21: =ROUND((F21*H21),2) -> 791.32
A22: ='MM CALC'!A18 -> 2.1.5 | B22: ='MM CALC'!B18 -> SEINFRA | C22: ='MM CALC'!C18 -> ED-29550 | D22: ='MM CALC'!D18 -> CORTE, DOBRA E MONTAGEM DE AÇO CA-50, DIÂMETRO 8MM, INCLUSIVE ESPAÇADOR | E22: ='MM CALC'!E18 -> kg | F22: ='MM CALC'!F18 -> 207.3 | G22: 13.83 | H22: =ROUND(G22+(G22*$H$9),2) -> 17.07 | I22: =ROUND((F22*H22),2) -> 3538.61
A23: ='MM CALC'!A19 -> 2.1.6 | B23: ='MM CALC'!B19 -> SEINFRA | C23: ='MM CALC'!C19 -> ED-29551 | D23: ='MM CALC'!D19 -> CORTE, DOBRA E MONTAGEM DE AÇO CA-50, DIÂMETRO 10MM, INCLUSIVE ESPAÇADOR | E23: ='MM CALC'!E19 -> kg | F23: ='MM CALC'!F19 -> 99.3 | G23: 14.31 | H23: =ROUND(G23+(G23*$H$9),2) -> 17.66 | I23: =ROUND((F23*H23),2) -> 1753.64
A24: ='MM CALC'!A20 -> 2.1.7 | B24: ='MM CALC'!B20 -> SEINFRA | C24: ='MM CALC'!C20 -> ED-29552 | D24: ='MM CALC'!D20 -> CORTE, DOBRA E MONTAGEM DE AÇO CA-50, DIÂMETRO 12,5MM, INCLUSIVE ESPAÇADOR | E24: ='MM CALC'!E20 -> kg | F24: ='MM CALC'!F20 -> 47.4 | G24: 13.74 | H24: =ROUND(G24+(G24*$H$9),2) -> 16.96 | I24: =ROUND((F24*H24),2) -> 803.9
A25: ='MM CALC'!A21 -> 2.1.8 | B25: ='MM CALC'!B21 -> SEINFRA | C25: ='MM CALC'!C21 -> ED-51107 | D25: ='MM CALC'!D21 -> ESCAVAÇÃO MANUAL DE VALAS H <= 1,50 M | E25: ='MM CALC'!E21 -> m³ | F25: ='MM CALC'!F21 -> 10 | G25: 77.29 | H25: =ROUND(G25+(G25*$H$9),2) -> 95.39 | I25: =ROUND((F25*H25),2) -> 953.9
A26: ='MM CALC'!A22 -> 2.1.9 | B26: ='MM CALC'!B22 -> SEINFRA | C26: ='MM CALC'!C22 -> ED-51093 | D26: ='MM CALC'!D22 -> APILOAMENTO MANUAL EM FUNDO DE VALA COM SOQUETE, EXCLUSIVE ESCAVAÇÃO | E26: ='MM CALC'!E22 -> m² | F26: ='MM CALC'!F22 -> 19.63 | G26: 26.06 | H26: =ROUND(G26+(G26*$H$9),2) -> 32.16 | I26: =ROUND((F26*H26),2) -> 631.3
A27: ='MM CALC'!A23 -> 2.2. | D27: ='MM CALC'!D23 -> FUNDAÇÃO - VIGAS BALDRAME E PISO
A28: ='MM CALC'!A24 -> 2.2.1 | B28: ='MM CALC'!B24 -> SEINFRA | C28: ='MM CALC'!C24 -> ED-49619 | D28: ='MM CALC'!D24 -> FORNECIMENTO DE CONCRETO ESTRUTURAL, PREPARADO EM OBRA, COM FCK 25MPA, INCLUSIVE LANÇAMENTO, ADENSAMENTO E ACABAMENTO | E28: ='MM CALC'!E24 -> m³ | F28: ='MM CALC'!F24 -> 8.14 | G28: 791.92 | H28: =ROUND(G28+(G28*$H$9),2) -> 977.39 | I28: =ROUND((F28*H28),2) -> 7955.95
A29: ='MM CALC'!A25 -> 2.2.2 | B29: ='MM CALC'!B25 -> SEINFRA | C29: ='MM CALC'!C25 -> ED-29548 | D29: ='MM CALC'!D25 -> CORTE, DOBRA E MONTAGEM DE AÇO CA-60, DIÂMETRO 5MM, INCLUSIVE ESPAÇADOR | E29: ='MM CALC'!E25 -> kg | F29: ='MM CALC'!F25 -> 355.41 | G29: 13.97 | H29: =ROUND(G29+(G29*$H$9),2) -> 17.24 | I29: =ROUND((F29*H29),2) -> 6127.27
A30: ='MM CALC'!A26 -> 2.2.3 | B30: ='MM CALC'!B26 -> SEINFRA | C30: ='MM CALC'!C26 -> ED-29550 | D30: ='MM CALC'!D26 -> CORTE, DOBRA E MONTAGEM DE AÇO CA-50, DIÂMETRO 8MM, INCLUSIVE ESPAÇADOR | E30: ='MM CALC'!E26 -> kg | F30: ='MM CALC'!F26 -> 48.5 | G30: 13.83 | H30: =ROUND(G30+(G30*$H$9),2) -> 17.07 | I30: =ROUND((F30*H30),2) -> 827.9
A31: ='MM CALC'!A27 -> 2.2.4 | B31: ='MM CALC'!B27 -> SEINFRA | C31: ='MM CALC'!C27 -> ED-29551 | D31: ='MM CALC'!D27 -> CORTE, DOBRA E MONTAGEM DE AÇO CA-50, DIÂMETRO 10MM, INCLUSIVE ESPAÇADOR | E31: ='MM CALC'!E27 -> kg | F31: ='MM CALC'!F27 -> 233.6 | G31: 14.31 | H31: =ROUND(G31+(G31*$H$9),2) -> 17.66 | I31: =ROUND((F31*H31),2) -> 4125.38
A32: ='MM CALC'!A28 -> 2.2.5 | B32: ='MM CALC'!B28 -> SEINFRA | C32: ='MM CALC'!C28 -> ED-29552 | D32: ='MM CALC'!D28 -> CORTE, DOBRA E MONTAGEM DE AÇO CA-50, DIÂMETRO 12,5MM, INCLUSIVE ESPAÇADOR | E32: ='MM CALC'!E28 -> kg | F32: ='MM CALC'!F28 -> 82.4 | G32: 13.74 | H32: =ROUND(G32+(G32*$H$9),2) -> 16.96 | I32: =ROUND((F32*H32),2) -> 1397.5
A33: ='MM CALC'!A29 -> 2.2.6 | B33: ='MM CALC'!B29 -> SEINFRA | C33: ='MM CALC'!C29 -> ED-49643 | D33: ='MM CALC'!D29 -> FÔRMA E DESFORMA DE TÁBUA E SARRAFO, REAPROVEITAMENTO (3X), EXCLUSIVE ESCORAMENTO | E33: ='MM CALC'!E29 -> m² | F33: ='MM CALC'!F29 -> 99.98 | G33: 79.42 | H33: =ROUND(G33+(G33*$H$9),2) -> 98.02 | I33: =ROUND((F33*H33),2) -> 9800.04
A34: ='MM CALC'!A30 -> 2.2.7 | B34: ='MM CALC'!B30 -> SEINFRA | C34: ='MM CALC'!C30 -> ED-50600 | D34: ='MM CALC'!D30 -> APLICAÇÃO DE LONA PRETA, ESP. 150 MICRAS, INCLUSIVE FORNECIMENTO | E34: ='MM CALC'!E30 -> m² | F34: ='MM CALC'!F30 -> 166.11 | G34: 3.74 | H34: =ROUND(G34+(G34*$H$9),2) -> 4.62 | I34: =ROUND((F34*H34),2) -> 767.43
A35: ='MM CALC'!A31 -> 2.2.8 | B35: ='MM CALC'!B31 -> SEINFRA | C35: ='MM CALC'!C31 -> ED-50571 | D35: ='MM CALC'!D31 -> PISO EM CONCRETO PREPARADO EM OBRA COM BETONEIRA COM FCK DE 13,5MPA, SEM ARMAÇÃO, ACABAMENTO RÚSTICO, ESP. 8CM, INCLUSIVE FORNECIMENTO, LANÇAMENTO, ADENSAMENTO, SARRAFEAMENTO, EXCLUSIVE JUNTA DE DILATAÇÃO | E35: ='MM CALC'!E31 -> m² | F35: ='MM CALC'!F31 -> 166.11 | G35: 92.98 | H35: =ROUND(G35+(G35*$H$9),2) -> 114.76 | I35: =ROUND((F35*H35),2) -> 19062.78
A36: ='MM CALC'!A32 -> 2.2.9 | B36: ='MM CALC'!B32 -> SEINFRA | C36: ='MM CALC'!C32 -> ED-50174 | D36: ='MM CALC'!D32 -> IMPERMEABILIZAÇÃO COM EMULSÃO ASFÁLTICA, DUAS (2) DEMÃOS | E36: ='MM CALC'!E32 -> m² | F36: ='MM CALC'!F32 -> 124.97 | G36: 33.11 | H36: =ROUND(G36+(G36*$H$9),2) -> 40.86 | I36: =ROUND((F36*H36),2) -> 5106.27
A37: ='MM CALC'!A33 -> 2.3. | D37: ='MM CALC'!D33 -> PILARES
A38: ='MM CALC'!A34 -> 2.3.1 | B38: ='MM CALC'!B34 -> SEINFRA | C38: ='MM CALC'!C34 -> ED-49643 | D38: ='MM CALC'!D34 -> FÔRMA E DESFORMA DE TÁBUA E SARRAFO, REAPROVEITAMENTO (3X), EXCLUSIVE ESCORAMENTO | E38: ='MM CALC'!E34 -> m² | F38: ='MM CALC'!F34 -> 134.64 | G38: 79.42 | H38: =ROUND(G38+(G38*$H$9),2) -> 98.02 | I38: =ROUND((F38*H38),2) -> 13197.41
A39: ='MM CALC'!A35 -> 2.3.2 | B39: ='MM CALC'!B35 -> SEINFRA | C39: ='MM CALC'!C35 -> ED-49619 | D39: ='MM CALC'!D35 -> FORNECIMENTO DE CONCRETO ESTRUTURAL, PREPARADO EM OBRA, COM FCK 25MPA, INCLUSIVE LANÇAMENTO, ADENSAMENTO E ACABAMENTO | E39: ='MM CALC'!E35 -> m³ | F39: ='MM CALC'!F35 -> 8.36 | G39: 791.92 | H39: =ROUND(G39+(G39*$H$9),2) -> 977.39 | I39: =ROUND((F39*H39),2) -> 8170.98
A40: ='MM CALC'!A36 -> 2.3.3 | B40: ='MM CALC'!B36 -> SEINFRA | C40: ='MM CALC'!C36 -> ED-29548 | D40: ='MM CALC'!D36 -> CORTE, DOBRA E MONTAGEM DE AÇO CA-60, DIÂMETRO 5MM, INCLUSIVE ESPAÇADOR | E40: ='MM CALC'!E36 -> kg | F40: ='MM CALC'!F36 -> 209.7 | G40: 13.97 | H40: =ROUND(G40+(G40*$H$9),2) -> 17.24 | I40: =ROUND((F40*H40),2) -> 3615.23
A41: ='MM CALC'!A37 -> 2.3.4 | B41: ='MM CALC'!B37 -> SEINFRA | C41: ='MM CALC'!C37 -> ED-29551 | D41: ='MM CALC'!D37 -> CORTE, DOBRA E MONTAGEM DE AÇO CA-50, DIÂMETRO 10MM, INCLUSIVE ESPAÇADOR | E41: ='MM CALC'!E37 -> kg | F41: ='MM CALC'!F37 -> 277.5 | G41: 14.31 | H41: =ROUND(G41+(G41*$H$9),2) -> 17.66 | I41: =ROUND((F41*H41),2) -> 4900.65
A42: ='MM CALC'!A38 -> 2.3.5 | B42: ='MM CALC'!B38 -> SEINFRA | C42: ='MM CALC'!C38 -> ED-29552 | D42: ='MM CALC'!D38 -> CORTE, DOBRA E MONTAGEM DE AÇO CA-50, DIÂMETRO 12,5MM, INCLUSIVE ESPAÇADOR | E42: ='MM CALC'!E38 -> kg | F42: ='MM CALC'!F38 -> 28.7 | G42: 13.74 | H42: =ROUND(G42+(G42*$H$9),2) -> 16.96 | I42: =ROUND((F42*H42),2) -> 486.75
A43: ='MM CALC'!A39 -> 2.4. | D43: ='MM CALC'!D39 -> VIGAS E LAJES
A44: ='MM CALC'!A40 -> 2.4.1 | B44: ='MM CALC'!B40 -> SEINFRA | C44: ='MM CALC'!C40 -> ED-31583 | D44: ='MM CALC'!D40 -> FÔRMA E DESFORMA PARA LAJE DE MADEIRA COM TÁBUA E SARRAFO, REAPROVEITAMENTO (3X), EXCLUSIVE ESCORAMENTO | E44: ='MM CALC'!E40 -> m² | F44: ='MM CALC'!F40 -> 391.76 | G44: 70.99 | H44: =ROUND(G44+(G44*$H$9),2) -> 87.62 | I44: =ROUND((F44*H44),2) -> 34326.01
A45: ='MM CALC'!A41 -> 2.4.2 | B45: ='MM CALC'!B41 -> SEINFRA | C45: ='MM CALC'!C41 -> ED-49638 | D45: ='MM CALC'!D41 -> FORNECIMENTO DE CONCRETO ESTRUTURAL, USINADO BOMBEADO, COM FCK 25MPA, INCLUSIVE LANÇAMENTO, ADENSAMENTO E ACABAMENTO | E45: ='MM CALC'!E41 -> m³ | F45: ='MM CALC'!F41 -> 49.85 | G45: 732.35 | H45: =ROUND(G45+(G45*$H$9),2) -> 903.87 | I45: =ROUND((F45*H45),2) -> 45057.92
...

Sheet MM CALC
A1: MEMÓRIA DE CÁLCULO
A3: PREFEITURA MUNICIPAL DE SÃO JOÃO NEPOMUCENO | E3: DATA: 06/10/2025
A4: OBRA: Ampliação Da escola Péricles
A5: LOCAL: RUA NORMA PIMENTA MENEZES, SÃO CRISTÓVÃO
A7: ITEM | B7: FONTE | C7: CÓDIGO | D7: DESCRIÇÃO | E7: UND. | F7: QUANT. | G7: FÓRMULA/MEMÓRIA
A8: -
A9: 1 | D9: SERVIÇOS PRELIMINARES
A10: 1.1 | B10: SEINFRA | C10: ED-28427 | D10: FORNECIMENTO E COLOCAÇÃO DE PLACA DE OBRA EM CHAPA GALVANIZADA #26, ESP. 0,45MM, DIMENSÃO (3X1,5)M, PLOTADA COM ADESIVO VINÍLICO, AFIXADA COM REBITES 4,8X40MM, EM ESTRUTURA METÁLICA DE METALON 20X20MM, ESP. 1,25MM, INCLUSIVE SUPORTE EM EUCALIPTO AUTOCLAVADO PINTADO COM TINTA PVA DUAS (2) DEMÃOS | E10: u | F10: 1 | G10: 1 unidade
A11: 1.2 | B11: SEINFRA | C11: ED-17989 | D11: LOCAÇÃO DE OBRA COM GABARITO DE TÁBUAS CORRIDAS PONTALETADAS A CADA 2,00M, REAPROVEITAMENTO (2X), INCLUSIVE ACOMPANHAMENTO DE EQUIPE TOPOGRÁFICA PARA MARCAÇÃO DE PONTO TOPOGRÁFICO | E11: m | F11: 60 | G11: 60,00 metros
A12: 2 | D12: ESTRUTURA
A13: 2.1. | D13: FUNDAÇÃO - SAPATAS
A14: 2.1.1 | B14: SEINFRA | C14: ED-51105 | D14: ESCAVAÇÃO MECÂNICA EM MATERIAL DE 1ª CATEGORIA, INCLUSIVE CARGA EM CAMINHÃO, EXCLUSIVE TRANSPORTE E DESCARGA | E14: m³ | F14: 31.7 | G14: ESCAVAÇÃO DAS SAPATAS 19,63m²x*1,2 de profundidade ESCAVAÇÃO DAS VIGAS BALDRAME 8,14M³ TOTALIZANDO 31,70m³
A15: 2.1.2 | B15: SEINFRA | C15: ED-49805 | D15: FORNECIMENTO DE CONCRETO ESTRUTURAL, USINADO BOMBEADO, COM FCK 25MPA, INCLUSIVE LANÇAMENTO, ADENSAMENTO E ACABAMENTO (FUNDAÇÃO | E15: m³ | F15: 7.21 | G15: SAPATAS E ARRANQUE DOS PILARES 3.11+3.29+0.81 = 7,21 m³
A16: 2.1.3 | B16: SEINFRA | C16: ED-49812 | D16: LASTRO DE CONCRETO MAGRO, INCLUSIVE TRANSPORTE, LANÇAMENTO E ADENSAMENTO | E16: m³ | F16: 0.98 | G16: ÁREA DA FUNDAÇÃO COM ESPESSURA DE 5CM 19,63*0,05cm = 0,98 m³
A17: 2.1.4 | B17: SEINFRA | C17: ED-29548 | D17: CORTE, DOBRA E MONTAGEM DE AÇO CA-60, DIÂMETRO 5MM, INCLUSIVE ESPAÇADOR | E17: kg | F17: 45.9 | G17: 6.9+19.3+19.7=45,9 kg detalhado na planta de fundação
A18: 2.1.5 | B18: SEINFRA | C18: ED-29550 | D18: CORTE, DOBRA E MONTAGEM DE AÇO CA-50, DIÂMETRO 8MM, INCLUSIVE ESPAÇADOR | E18: kg | F18: 207.3 | G18: 86.3+97.4+23.6=207,3 kg detalhado na planta de fundação
A19: 2.1.6 | B19: SEINFRA | C19: ED-29551 | D19: CORTE, DOBRA E MONTAGEM DE AÇO CA-50, DIÂMETRO 10MM, INCLUSIVE ESPAÇADOR | E19: kg | F19: 99.3 | G19: 20.7+31.2+47.4=99,3 kg detalhado na planta de fundação
A20: 2.1.7 | B20: SEINFRA | C20: ED-29552 | D20: CORTE, DOBRA E MONTAGEM DE AÇO CA-50, DIÂMETRO 12,5MM, INCLUSIVE ESPAÇADOR | E20: kg | F20: 47.4 | G20: 6.7+40.7= 47,4kg detalhado na planta de fundação
A21: 2.1.8 | B21: SEINFRA | C21: ED-51107 | D21: ESCAVAÇÃO MANUAL DE VALAS H <= 1,50 M | E21: m³ | F21: 10 | G21: 10 m³
A22: 2.1.9 | B22: SEINFRA | C22: ED-51093 | D22: APILOAMENTO MANUAL EM FUNDO DE VALA COM SOQUETE, EXCLUSIVE ESCAVAÇÃO | E22: m² | F22: 19.63 | G22: ÁREA TOTAL s1 =1,40*0,75 s2 =1,25*1,05 s3= 1,05*0,85 s4=0,95*0,75 s6=0,60*0,80 s7=1,05*0,95 s8=1,05*0,95 s9 =2,00*1,20 s10=1,30*1,50 s11=1,05*1,25s12=0,95*1,15 s13=1,05*1,25 s14=0,95*0,85 s15=0,65*0,75 s16=0,60*0,70 s17=0,90*0,70 s18 = 0,80,65 s19=0,75*0,60 s20=0,75*0,65 s22=0,55*0,70 TOTALIZANDO 19,63M²
A23: 2.2. | D23: FUNDAÇÃO - VIGAS BALDRAME E PISO
A24: 2.2.1 | B24: SEINFRA | C24: ED-49619 | D24: FORNECIMENTO DE CONCRETO ESTRUTURAL, PREPARADO EM OBRA, COM FCK 25MPA, INCLUSIVE LANÇAMENTO, ADENSAMENTO E ACABAMENTO | E24: m³ | F24: 8.14 | G24: 8,14M³ de concreto fck 25mpa
A25: 2.2.2 | B25: SEINFRA | C25: ED-29548 | D25: CORTE, DOBRA E MONTAGEM DE AÇO CA-60, DIÂMETRO 5MM, INCLUSIVE ESPAÇADOR | E25: kg | F25: 355.41 | G25: 99.6+ 255,81kg para a laje do chão com ferragem de 5.0mm a cada 20cm
A26: 2.2.3 | B26: SEINFRA | C26: ED-29550 | D26: CORTE, DOBRA E MONTAGEM DE AÇO CA-50, DIÂMETRO 8MM, INCLUSIVE ESPAÇADOR | E26: kg | F26: 48.5 | G26: 48,5 detalhado na planta de vigas
A27: 2.2.4 | B27: SEINFRA | C27: ED-29551 | D27: CORTE, DOBRA E MONTAGEM DE AÇO CA-50, DIÂMETRO 10MM, INCLUSIVE ESPAÇADOR | E27: kg | F27: 233.6 | G27: 233,6 detalhado na planta de vigas
A28: 2.2.5 | B28: SEINFRA | C28: ED-29552 | D28: CORTE, DOBRA E MONTAGEM DE AÇO CA-50, DIÂMETRO 12,5MM, INCLUSIVE ESPAÇADOR | E28: kg | F28: 82.4 | G28: 82,4 detalhado na planta de vigas
A29: 2.2.6 | B29: SEINFRA | C29: ED-49643 | D29: FÔRMA E DESFORMA DE TÁBUA E SARRAFO, REAPROVEITAMENTO (3X), EXCLUSIVE ESCORAMENTO | E29: m² | F29: 99.98 | G29: ÁREA LATERAL DAS VIGAS (7,42+23,3*3+3,91+1,56+0,2*2+1,56+4,43+5,21+5,21+5,3*4+2,52+1,45+0,2)*2*0,4
A30: 2.2.7 | B30: SEINFRA | C30: ED-50600 | D30: APLICAÇÃO DE LONA PRETA, ESP. 150 MICRAS, INCLUSIVE FORNECIMENTO | E30: m² | F30: 166.11 | G30: 166,11m²
A31: 2.2.8 | B31: SEINFRA | C31: ED-50571 | D31: PISO EM CONCRETO PREPARADO EM OBRA COM BETONEIRA COM FCK DE 13,5MPA, SEM ARMAÇÃO, ACABAMENTO RÚSTICO, ESP. 8CM, INCLUSIVE FORNECIMENTO, LANÇAMENTO, ADENSAMENTO, SARRAFEAMENTO, EXCLUSIVE JUNTA DE DILATAÇÃO | E31: m² | F31: 166.11 | G31: 166,11m²
A32: 2.2.9 | B32: SEINFRA | C32: ED-50174 | D32: IMPERMEABILIZAÇÃO COM EMULSÃO ASFÁLTICA, DUAS (2) DEMÃOS | E32: m² | F32: 124.97 | G32: ÁREA LATERAL DAS VIGAS (7,42+23,3*3+3,91+1,56+0,2*2+1,56+4,43+5,21+5,21+5,3*4+2,52+1,45+0,2)*2*0,4+ ÁREA SUPERIOR DAS VIGAS 0,2*(7,42+23,3*3+3,91+1,56+0,2*2+1,56+4,43+5,21+5,21+5,3*4+2,52+1,45+0,2) TOTALIZANDO 12,97M²
A33: 2.3. | D33: PILARES
A34: 2.3.1 | B34: SEINFRA | C34: ED-49643 | D34: FÔRMA E DESFORMA DE TÁBUA E SARRAFO, REAPROVEITAMENTO (3X), EXCLUSIVE ESCORAMENTO | E34: m² | F34: 134.64 | G34: 66,24+68,40=134,64m² detalhado na planta de pilares
A35: 2.3.2 | B35: SEINFRA | C35: ED-49619 | D35: FORNECIMENTO DE CONCRETO ESTRUTURAL, PREPARADO EM OBRA, COM FCK 25MPA, INCLUSIVE LANÇAMENTO, ADENSAMENTO E ACABAMENTO | E35: m³ | F35: 8.36 | G35: 4,26+4,10=8,36m³ detalhado na planta de pilares
A36: 2.3.3 | B36: SEINFRA | C36: ED-29548 | D36: CORTE, DOBRA E MONTAGEM DE AÇO CA-60, DIÂMETRO 5MM, INCLUSIVE ESPAÇADOR | E36: kg | F36: 209.7 | G36: 101,80+107,90=209,70kg detalhado na planta de pilares
A37: 2.3.4 | B37: SEINFRA | C37: ED-29551 | D37: CORTE, DOBRA E MONTAGEM DE AÇO CA-50, DIÂMETRO 10MM, INCLUSIVE ESPAÇADOR | E37: kg | F37: 277.5 | G37: 193,70+235,80=429,50kg detalhado na planta de pilares
A38: 2.3.5 | B38: SEINFRA | C38: ED-29552 | D38: CORTE, DOBRA E MONTAGEM DE AÇO CA-50, DIÂMETRO 12,5MM, INCLUSIVE ESPAÇADOR | E38: kg | F38: 28.7 | G38: 6,00+22,70=28,70kg detalhado na planta de pilares
A39: 2.4. | D39: VIGAS E LAJES
A40: 2.4.1 | B40: SEINFRA | C40: ED-31583 | D40: FÔRMA E DESFORMA PARA LAJE DE MADEIRA COM TÁBUA E SARRAFO, REAPROVEITAMENTO (3X), EXCLUSIVE ESCORAMENTO | E40: m² | F40: 391.76 | G40: 101,77+77,24+66,78+145,97 = 391,76m² detalhado na planta de vigas e lajes | H40: =101.77+77.24+66.78+145.97 -> 391.76
A41: 2.4.2 | B41: SEINFRA | C41: ED-49638 | D41: FORNECIMENTO DE CONCRETO ESTRUTURAL, USINADO BOMBEADO, COM FCK 25MPA, INCLUSIVE LANÇAMENTO, ADENSAMENTO E ACABAMENTO | E41: m³ | F41: 49.85 | G41: 8,14+9,54+6,64+8,01+17,52 = 49,85 m³detalhado na planta de vigas e lajes | H41: =8.14+9.54+6.64+8.01+17.52 -> 49.85
A42: 2.4.3 | B42: SEINFRA | C42: ED-19633 | D42: ESCORAMENTO METÁLICO PARA LAJE E VIGA EM CONCRETO ARMADO, TIPO "A", ALTURA DE (200 ATÉ 310)CM, INCLUSIVE DESCARGA, MONTAGEM, DESMONTAGEM E CARGA | E42: m²xmês | F42: 162 | G42: 162,00 metros quadrados
...

Sheet CRON
A3: CRONOGRAMA FÍSICO-FINANCEIRO
A5: ='MM CALC'!A3 -> PREFEITURA MUNICIPAL DE SÃO JOÃO NEPOMUCENO
A6: ='MM CALC'!A4 -> OBRA: Ampliação Da escola Péricles | C6: VALOR: | D6: =C36 -> 593007.82 | H6: ='MM CALC'!E3 -> DATA: 06/10/2025
A7: ='MM CALC'!A5 -> LOCAL: RUA NORMA PIMENTA MENEZES, SÃO CRISTÓVÃO
A8: ITEM | B8: DESCRIÇÃO | C8: FÍSICO/ FINANCEIRO | D8: MÊS 01 | E8: MÊS 02 | F8: MÊS 03 | G8: MÊS 04 | H8: TOTAL
A9: 1 | B9: SERVIÇOS PRELIMINARES | C9: =C10/$C$36 -> 0.0024070678 | D9: 1 | E9: =E10/$C$36 -> 0 | F9: =F10/$C$36 -> 0 | G9: =G10/$C$36 -> 0 | H9: =SUM(D9:G9) -> 1
C10: ='PLAN ORÇ'!I13 -> 1427.41 | D10: =C10*D9 -> 1427.41 | E10: 0 | F10: 0 | G10: 0 | H10: =ROUND(SUM(D10:G10),2) -> 1427.41
A11: 2 | B11: ESTRUTURAS | C11: =C12/$C$36 -> 0.384405 | D11: 0.6 | E11: 0.4 | F11: =F12/$C$36 -> 0 | G11: =G12/$C$36 -> 0 | H11: =SUM(D11:G11) -> 1
C12: ='PLAN ORÇ'!I16 -> 227955.17 | D12: =D11*C12 -> 136773.1 | E12: =E11*C12 -> 91182.068 | F12: 0 | G12: 0 | H12: =ROUND(SUM(D12:G12),2) -> 227955.17
A13: 3 | B13: ALVENARIAS E DIVISÓRIAS | C13: =C14/$C$36 -> 0.063444964 | D13: 0.3 | E13: 0.7 | F13: =F14/$C$36 -> 0 | G13: =G14/$C$36 -> 0 | H13: =SUM(D13:G13) -> 1
C14: ='PLAN ORÇ'!I54 -> 37623.36 | D14: =D13*C14 -> 11287.008 | E14: =E13*C14 -> 26336.352 | F14: 0 | G14: 0 | H14: =ROUND(SUM(D14:G14),2) -> 37623.36
A15: 4 | B15: ='MM CALC'!D54 -> REVESTIMENTO | C15: =C16/$C$36 -> 0.11063761 | D15: =D16/$C$36 -> 0 | E15: =E16/$C$36 -> 0 | F15: 0.8 | G15: 0.2 | H15: =SUM(D15:G15) -> 1
C16: ='PLAN ORÇ'!I58 -> 65608.97 | D16: 0 | E16: 0 | F16: =F15*C16 -> 52487.176 | G16: =G15*C16 -> 13121.794 | H16: =ROUND(SUM(D16:G16),2) -> 65608.97
A17: 5 | B17: ='MM CALC'!D60 -> PISOS | C17: =C18/$C$36 -> 0.10178704 | D17: 0 | E17: 0.2 | F17: 0.8 | G17: =G18/$C$36 -> 0 | H17: =SUM(D17:G17) -> 1
C18: ='PLAN ORÇ'!I64 -> 60360.51 | D18: 0 | E18: =$C$18*E17 -> 12072.102 | F18: =$C$18*F17 -> 48288.408 | G18: 0 | H18: =ROUND(SUM(D18:G18),2) -> 60360.51
A19: 6 | B19: ='MM CALC'!D64 -> FORRO | C19: =C20/$C$36 -> 0.03782994 | D19: =D20/$C$36 -> 0 | E19: =E20/$C$36 -> 0 | F19: 1 | G19: =G20/$C$36 -> 0 | H19: =SUM(D19:G19) -> 1
C20: ='PLAN ORÇ'!I68 -> 22433.45 | D20: 0 | E20: 0 | F20: =C20 -> 22433.45 | G20: 0 | H20: =ROUND(SUM(D20:G20),2) -> 22433.45
A21: 7 | B21: ='MM CALC'!D66 -> PINTURA | C21: =C22/$C$36 -> 0.095446667 | D21: =D22/$C$36 -> 0 | E21: =E22/$C$36 -> 0 | F21: =F22/$C$36 -> 0 | G21: 1 | H21: =SUM(D21:G21) -> 1
C22: ='PLAN ORÇ'!I70 -> 56600.62 | D22: 0 | E22: 0 | F22: 0 | G22: =C22 -> 56600.62 | H22: =ROUND(SUM(D22:G22),2) -> 56600.62
A23: 8 | B23: ='MM CALC'!D78 -> ESQUADRIAS | C23: =C24/$C$36 -> 0.06882206 | D23: =D24/$C$36 -> 0 | E23: =E24/$C$36 -> 0 | F23: 1 | G23: =G24/$C$36 -> 0 | H23: =SUM(D23:G23) -> 1
C24: ='PLAN ORÇ'!I82 -> 40812.02 | D24: 0 | E24: 0 | F24: =C24 -> 40812.02 | G24: 0 | H24: =ROUND(SUM(D24:G24),2) -> 40812.02
A25: 9 | B25: ='MM CALC'!D89 -> LOUÇAS E METAIS | C25: =C26/$C$36 -> 0.010225683 | D25: =D26/$C$36 -> 0 | E25: =E26/$C$36 -> 0 | F25: =F26/$C$36 -> 0 | G25: 1 | H25: =SUM(D25:G25) -> 1
C26: ='PLAN ORÇ'!I93 -> 6063.91 | D26: 0 | E26: 0 | F26: 0 | G26: =C26 -> 6063.91 | H26: =ROUND(SUM(D26:G26),2) -> 6063.91
A27: 10 | B27: ='MM CALC'!D103 -> INSTALAÇÃO ELÉTRICA | C27: =C28/$C$36 -> 0.039072166 | D27: =D28/$C$36 -> 0 | E27: =E28/$C$36 -> 0 | F27: 0.4 | G27: 0.6 | H27: =SUM(D27:G27) -> 1
C28: ='PLAN ORÇ'!I107 -> 23170.1 | D28: 0 | E28: 0 | F28: =C28*F27 -> 9268.04 | G28: =G27*C28 -> 13902.06 | H28: =ROUND(SUM(D28:G28),2) -> 23170.1
A29: 11 | B29: ='MM CALC'!D115 -> INSTALAÇÃO HIDRÁULICA | C29: =C30/$C$36 -> 0.0067557119 | D29: =D30/$C$36 -> 0 | E29: 0.6 | F29: 0.4 | G29: =G30/$C$36 -> 0 | H29: =SUM(D29:G29) -> 1
C30: ='PLAN ORÇ'!I119 -> 4006.19 | D30: 0 | E30: =C30*E29 -> 2403.714 | F30: =C30*F29 -> 1602.476 | G30: 0 | H30: =ROUND(SUM(D30:G30),2) -> 4006.19
A31: 12 | B31: COBERTURA | C31: =C32/$C$36 -> 0.073378931 | D31: =D32/$C$36 -> 0 | E31: =E32/$C$36 -> 0 | F31: 1 | G31: =G32/$C$36 -> 0 | H31: =SUM(D31:G31) -> 1
C32: ='PLAN ORÇ'!I126 -> 43514.28 | D32: 0 | E32: 0 | F32: =C32 -> 43514.28 | G32: 0 | H32: =ROUND(SUM(D32:G32),2) -> 43514.28
A33: 13 | B33: LIMPEZA DE OBRA | C33: =C34/$C$36 -> 0.0057871581 | D33: =D34/$C$36 -> 0 | E33: =E34/$C$36 -> 0 | F33: =F34/$C$36 -> 0 | G33: 1 | H33: =SUM(D33:G33) -> 1
C34: ='PLAN ORÇ'!I133 -> 3431.83 | D34: 0 | E34: 0 | F34: 0 | G34: =C34 -> 3431.83 | H34: =ROUND(SUM(D34:G34),2) -> 3431.83
A35: TOTAL | C35: =C9+C11+C13+C31+C33 -> 0.52942312 | D35: =D9+D11+D13+D31+D33 -> 1.9 | E35: =E9+E11+E13+E31+E33 -> 1.1 | F35: =F9+F11+F13+F31+F33 -> 1 | G35: =G9+G11+G13+G31+G33 -> 1 | H35: =SUM(D35:G35) -> 5
C36: =C10+C12+C14+C32++C34+C30+C28+C26+C24+C22+C20+C18+C16 -> 593007.82 | D36: =D10+D12+D14+D32++D34+D30+D28+D26+D24+D22+D20+D18+D16 -> 149487.52 | E36: =E10+E12+E14+E32++E34+E30+E28+E26+E24+E22+E20+E18+E16 -> 131994.24 | F36: =F10+F12+F14+F32++F34+F30+F28+F26+F24+F22+F20+F18+F16 -> 218405.85 | G36: =G10+G12+G14+G32++G34+G30+G28+G26+G24+G22+G20+G18+G16 -> 93120.214 | H36: =SUM(D36:G36) -> 593007.82
B40: ___________________________________________________ | D40: ___________________________________________________
B41: ='MM CALC'!D135 -> Anderson José de Lima Rabelo | D41: ='MM CALC'!G135 -> Antônio José da Costa
B42: ='MM CALC'!D136 -> Engenheiro Civil - CREA 212395/D | D42: ='MM CALC'!G136 -> Prefeito Municipal de São João Nepomuceno
