Workbook

Sheet BDI
E1: MIN | F1: MED | G1: MAX
A2: Construção e Reforma de Edifícios | B2: AC | C2: =CONCATENATE(A2,"-",B2) -> Construção e Reforma de Edifícios-AC | E2: 0.03 | F2: 0.04 | G2: 0.055
A3: =A2 -> Construção e Reforma de Edifícios | B3: SG | C3: =CONCATENATE(A3,"-",B3) -> Construção e Reforma de Edifícios-SG | E3: 0.008 | F3: 0.008 | G3: 0.01
A4: =A3 -> Construção e Reforma de Edifícios | B4: R | C4: =CONCATENATE(A4,"-",B4) -> Construção e Reforma de Edifícios-R | E4: 0.0097 | F4: 0.0127 | G4: 0.0127
A5: =A4 -> Construção e Reforma de Edifícios | B5: DF | C5: =CONCATENATE(A5,"-",B5) -> Construção e Reforma de Edifícios-DF | E5: 0.0059 | F5: 0.0123 | G5: 0.0139
A6: =A5 -> Construção e Reforma de Edifícios | B6: L | C6: =CONCATENATE(A6,"-",B6) -> Construção e Reforma de Edifícios-L | E6: 0.0616 | F6: 0.074 | G6: 0.0896
A7: =A6 -> Construção e Reforma de Edifícios | B7: BDI PAD | C7: =CONCATENATE(A7,"-",B7) -> Construção e Reforma de Edifícios-BDI PAD | E7: 0.2034 | F7: 0.2212 | G7: 0.25 | I7: OBJETO
A8: Construção de Praças Urbanas, Rodovias, Ferrovias e recapeamento e pavimentação de vias urbanas | B8: AC | C8: =CONCATENATE(A8,"-",B8) -> Construção de Praças Urbanas, Rodovias, Ferrovias e recapeamento e pavimentação de vias urbanas-AC | E8: 0.038 | F8: 0.0401 | G8: 0.0467 | I8: CONSTRUÇÃO DO CRAS DE GUARDA DOS FERREIROS
A9: Construção de Praças Urbanas, Rodovias, Ferrovias e recapeamento e pavimentação de vias urbanas | B9: SG | C9: =CONCATENATE(A9,"-",B9) -> Construção de Praças Urbanas, Rodovias, Ferrovias e recapeamento e pavimentação de vias urbanas-SG | E9: 0.0032 | F9: 0.004 | G9: 0.0074
A10: Construção de Praças Urbanas, Rodovias, Ferrovias e recapeamento e pavimentação de vias urbanas | B10: R | C10: =CONCATENATE(A10,"-",B10) -> Construção de Praças Urbanas, Rodovias, Ferrovias e recapeamento e pavimentação de vias urbanas-R | E10: 0.005 | F10: 0.0056 | G10: 0.0097 | I10: TIPO DE OBRA DO EMPREENDIMENTO | Q10: DESONERAÇÃO
A11: Construção de Praças Urbanas, Rodovias, Ferrovias e recapeamento e pavimentação de vias urbanas | B11: DF | C11: =CONCATENATE(A11,"-",B11) -> Construção de Praças Urbanas, Rodovias, Ferrovias e recapeamento e pavimentação de vias urbanas-DF | E11: 0.0102 | F11: 0.0111 | G11: 0.0121 | I11: Construção e Reforma de Edifícios | Q11: =[1]DADOS!$C$38 -> Sim
A12: Construção de Praças Urbanas, Rodovias, Ferrovias e recapeamento e pavimentação de vias urbanas | B12: L | C12: =CONCATENATE(A12,"-",B12) -> Construção de Praças Urbanas, Rodovias, Ferrovias e recapeamento e pavimentação de vias urbanas-L | E12: 0.0664 | F12: 0.073 | G12: 0.0869
A13: Construção de Praças Urbanas, Rodovias, Ferrovias e recapeamento e pavimentação de vias urbanas | B13: BDI PAD | C13: =CONCATENATE(A13,"-",B13) -> Construção de Praças Urbanas, Rodovias, Ferrovias e recapeamento e pavimentação de vias urbanas-BDI PAD | E13: 0.196 | F13: 0.2097 | G13: 0.2423 | I13: Conforme legislação tributária municipal, definir estimativa de percentual da base de cálculo para o ISS: | Q13: 1
A14: Construção de Redes de Abastecimento de Água, Coleta de Esgoto | B14: AC | C14: =CONCATENATE(A14,"-",B14) -> Construção de Redes de Abastecimento de Água, Coleta de Esgoto-AC | E14: 0.0343 | F14: 0.0493 | G14: 0.0671 | I14: Sobre a base de cálculo, definir a respectiva alíquota do ISS (entre 2% e 5%): | Q14: 0.02
A15: =A14 -> Construção de Redes de Abastecimento de Água, Coleta de Esgoto | B15: SG | C15: =CONCATENATE(A15,"-",B15) -> Construção de Redes de Abastecimento de Água, Coleta de Esgoto-SG | E15: 0.0028 | F15: 0.0049 | G15: 0.0075
I16: Itens | M16: Siglas | N16: % Adotado | O16: Situação | P16: 1º Quartil | Q16: Médio | R16: 3º Quartil | T16: =IF(V27,"Para BDI fora do intervalo estatístico, deve ser apresentado Relatório Técnico Circunstanciado justificando a adoção do percentual de cada parcela do BDI.","")
A17: =A15 -> Construção de Redes de Abastecimento de Água, Coleta de Esgoto | B17: R | C17: =CONCATENATE(A17,"-",B17) -> Construção de Redes de Abastecimento de Água, Coleta de Esgoto-R | E17: 0.01 | F17: 0.0139 | G17: 0.0174
A18: =A17 -> Construção de Redes de Abastecimento de Água, Coleta de Esgoto | B18: DF | C18: =CONCATENATE(A18,"-",B18) -> Construção de Redes de Abastecimento de Água, Coleta de Esgoto-DF | E18: 0.0094 | F18: 0.0099 | G18: 0.0117 | I18: =IF($I$11=$A$46,"Encargos Sociais incidentes sobre a mão de obra","Administração Central") -> Administração Central | M18: =IF($I$11=$A$46,"K1","AC") -> AC | N18: 0.03 | O18: - | P18: =VLOOKUP(CONCATENATE(I$11,"-",M18),$C$2:$G$37,3,FALSE) -> 0.03 | Q18: =VLOOKUP(CONCATENATE(I$11,"-",M18),$C$2:$G$37,4,FALSE) -> 0.04 | R18: =VLOOKUP(CONCATENATE(I$11,"-",M18),$C$2:$G$37,5,FALSE) -> 0.055
A19: =A18 -> Construção de Redes de Abastecimento de Água, Coleta de Esgoto | B19: L | C19: =CONCATENATE(A19,"-",B19) -> Construção de Redes de Abastecimento de Água, Coleta de Esgoto-L | E19: 0.0674 | F19: 0.0804 | G19: 0.094 | I19: =IF($I$11=$A$46,"Administração Central da empresa ou consultoria - overhead","Seguro e Garantia") -> Seguro e Garantia | M19: =IF($I$11=$A$46,"K2","SG") -> SG | N19: 0.008 | O19: - | P19: =VLOOKUP(CONCATENATE(I$11,"-",M19),$C$2:$G$37,3,FALSE) -> 0.008 | Q19: =VLOOKUP(CONCATENATE(I$11,"-",M19),$C$2:$G$37,4,FALSE) -> 0.008 | R19: =VLOOKUP(CONCATENATE(I$11,"-",M19),$C$2:$G$37,5,FALSE) -> 0.01
A20: =A19 -> Construção de Redes de Abastecimento de Água, Coleta de Esgoto | B20: BDI PAD | C20: =CONCATENATE(A20,"-",B20) -> Construção de Redes de Abastecimento de Água, Coleta de Esgoto-BDI PAD | E20: 0.2076 | F20: 0.2418 | G20: 0.2644 | I20: =IF($I$11=$A$46,"","Risco") -> Risco | M20: =IF($I$11=$A$46,"","R") -> R | N20: 0.0097 | O20: - | P20: =VLOOKUP(CONCATENATE(I$11,"-",M20),$C$2:$G$37,3,FALSE) -> 0.0097 | Q20: =VLOOKUP(CONCATENATE(I$11,"-",M20),$C$2:$G$37,4,FALSE) -> 0.0127 | R20: =VLOOKUP(CONCATENATE(I$11,"-",M20),$C$2:$G$37,5,FALSE) -> 0.0127
A21: Construção e Manutenção de Estações e Redes de Distribuição de Energia Elétrica | B21: AC | C21: =CONCATENATE(A21,"-",B21) -> Construção e Manutenção de Estações e Redes de Distribuição de Energia Elétrica-AC | E21: 0.0529 | F21: 0.0592 | G21: 0.0793 | I21: =IF($I$11=$A$46,"","Despesas Financeiras") -> Despesas Financeiras | M21: =IF($I$11=$A$46,"","DF") -> DF | N21: 0.0123 | O21: - | P21: =VLOOKUP(CONCATENATE(I$11,"-",M21),$C$2:$G$37,3,FALSE) -> 0.0059 | Q21: =VLOOKUP(CONCATENATE(I$11,"-",M21),$C$2:$G$37,4,FALSE) -> 0.0123 | R21: =VLOOKUP(CONCATENATE(I$11,"-",M21),$C$2:$G$37,5,FALSE) -> 0.0139
A22: =A21 -> Construção e Manutenção de Estações e Redes de Distribuição de Energia Elétrica | B22: SG | C22: =CONCATENATE(A22,"-",B22) -> Construção e Manutenção de Estações e Redes de Distribuição de Energia Elétrica-SG | E22: 0.0025 | F22: 0.0051 | G22: 0.0056 | I22: =IF($I$11=$A$46,"Margem bruta da empresa de consultoria","Lucro") -> Lucro | M22: =IF($I$11=$A$46,"K3","L") -> L | N22: 0.074 | O22: - | P22: =VLOOKUP(CONCATENATE(I$11,"-",M22),$C$2:$G$37,3,FALSE) -> 0.0616 | Q22: =VLOOKUP(CONCATENATE(I$11,"-",M22),$C$2:$G$37,4,FALSE) -> 0.074 | R22: =VLOOKUP(CONCATENATE(I$11,"-",M22),$C$2:$G$37,5,FALSE) -> 0.0896
A23: =A22 -> Construção e Manutenção de Estações e Redes de Distribuição de Energia Elétrica | B23: R | C23: =CONCATENATE(A23,"-",B23) -> Construção e Manutenção de Estações e Redes de Distribuição de Energia Elétrica-R | E23: 0.01 | F23: 0.0148 | G23: 0.0197 | I23: Tributos (impostos COFINS 3%, e PIS 0,65%) | M23: CP | N23: 0.0365 | O23: - | P23: 0.0365 | Q23: 0.0365 | R23: 0.0365
A24: =A23 -> Construção e Manutenção de Estações e Redes de Distribuição de Energia Elétrica | B24: DF | C24: =CONCATENATE(A24,"-",B24) -> Construção e Manutenção de Estações e Redes de Distribuição de Energia Elétrica-DF | E24: 0.0101 | F24: 0.0107 | G24: 0.0111 | I24: Tributos (ISS, variável de acordo com o município) | M24: ISS | N24: =IF($I$11<>$A$45,Q14*Q13,0) -> 0.02 | O24: - | P24: 0 | Q24: 0.025 | R24: 0.05
A25: =A24 -> Construção e Manutenção de Estações e Redes de Distribuição de Energia Elétrica | B25: L | C25: =CONCATENATE(A25,"-",B25) -> Construção e Manutenção de Estações e Redes de Distribuição de Energia Elétrica-L | E25: 0.08 | F25: 0.0831 | G25: 0.0951 | I25: Tributos (Contribuição Previdenciária sobre a Receita Bruta - 0% ou 4,5% - Desoneração) | M25: CPRB | N25: =IF(AND($I$11<>$A$45,Q11="Sim"),4.5%,0%) -> 0.045 | O25: =IF(AND(N25>=P25,N25<=R25),"OK","Não OK") -> OK | P25: 0 | Q25: 0.045 | R25: 0.045
A26: =A25 -> Construção e Manutenção de Estações e Redes de Distribuição de Energia Elétrica | B26: BDI PAD | C26: =CONCATENATE(A26,"-",B26) -> Construção e Manutenção de Estações e Redes de Distribuição de Energia Elétrica-BDI PAD | E26: 0.24 | F26: 0.2584 | G26: 0.2786 | I26: BDI SEM desoneração (Fórmula Acórdão TCU) | M26: BDI PAD | N26: =IF($I$11=$A$45,0,ROUND((((1+N18+N19+N20)*(1+N21)*(1+N22)/(1-(N23+N24)))-1),4)) -> 0.2073 | O26: =IF(OR($I$11=$A$46,$I$11=$A$45,AND(N26>=P26,N26<=R26)),"OK","FORA DO INTERVALO") -> OK | P26: =IF($I$11=$A$45,0,VLOOKUP(CONCATENATE($I$11,"-",$M26),$C$2:$G$37,3,FALSE)) -> 0.2034 | Q26: =IF($I$11=$A$45,0,VLOOKUP(CONCATENATE($I$11,"-",$M26),$C$2:$G$37,4,FALSE)) -> 0.2212 | R26: =IF($I$11=$A$45,0,VLOOKUP(CONCATENATE($I$11,"-",$M26),$C$2:$G$37,5,FALSE)) -> 0.25
A27: Obras Portuárias, Marítimas e Fluviais | B27: AC | C27: =CONCATENATE(A27,"-",B27) -> Obras Portuárias, Marítimas e Fluviais-AC | E27: 0.04 | F27: 0.0552 | G27: 0.0785 | I27: BDI COM desoneração | M27: BDI DES | N27: =IF($I$11=$A$45,0,ROUND((((1+N18+N19+N20)*(1+N21)*(1+N22)/(1-(N23+N24+N25)))-1),4)) -> 0.2677 | O27: =IF(Q11<>"Sim","",O26) -> OK | V27: =AND(COUNTA(N18:N23)=6,O26<>"ok",NOT(V29)) -> FALSE | W27: pedir anexo
A28: =A27 -> Obras Portuárias, Marítimas e Fluviais | B28: SG | C28: =CONCATENATE(A28,"-",B28) -> Obras Portuárias, Marítimas e Fluviais-SG | E28: 0.0081 | F28: 0.0122 | G28: 0.0199
A29: =A28 -> Obras Portuárias, Marítimas e Fluviais | B29: R | C29: =CONCATENATE(A29,"-",B29) -> Obras Portuárias, Marítimas e Fluviais-R | E29: 0.0146 | F29: 0.0232 | G29: 0.0316 | I29: =IF(V29,"X","") | J29: Anexo: Relatório Técnico Circunstanciado justificando a adoção do percentual de cada parcela do BDI. | V29: FALSE | W29: anexo apresentado
I31: Os valores de BDI foram calculados com o emprego da fórmula:
A32: =A29 -> Obras Portuárias, Marítimas e Fluviais | B32: DF | C32: =CONCATENATE(A32,"-",B32) -> Obras Portuárias, Marítimas e Fluviais-DF | E32: 0.0094 | F32: 0.0102 | G32: 0.0133 | L32: =IF(Q11="Sim","BDI.DES =","BDI.PAD =") -> BDI.DES = | M32: =IF($I$11=$A$46,"(1+K1+K2)*(1+K3)","(1+AC + S + R + G)*(1 + DF)*(1+L)") -> (1+AC + S + R + G)*(1 + DF)*(1+L) | P32: - 1
A33: =A32 -> Obras Portuárias, Marítimas e Fluviais | B33: L | C33: =CONCATENATE(A33,"-",B33) -> Obras Portuárias, Marítimas e Fluviais-L | E33: 0.0714 | F33: 0.084 | G33: 0.1043 | M33: =IF(Q11="Sim","(1-CP-ISS-CRPB)","(1-CP-ISS)") -> (1-CP-ISS-CRPB)
A34: =A33 -> Obras Portuárias, Marítimas e Fluviais | B34: BDI PAD | C34: =CONCATENATE(A34,"-",B34) -> Obras Portuárias, Marítimas e Fluviais-BDI PAD | E34: 0.228 | F34: 0.2748 | G34: 0.3095
I35: =CONCATENATE("Declaro para os devidos fins que, conforme legislação tributária municipal, a base de cálculo para ",I11,", é de ",Q13*100,"%, com a respectiva alíquota de ",Q14*100,"%.") -> Declaro para os devidos fins que, conforme legislação tributária municipal, a base de cálculo para Construção e Reforma de Edifícios, é de 100%, com a respectiva alíquota de 2%.
I37: =CONCATENATE("Declaro para os devidos fins que o regime de Contribuição Previdenciária sobre a Receita Bruta adotado para elaboração do orçamento foi ",IF(Q11="Sim","COM","SEM")," Desoneração, e que esta é a alternativa mais adequada para a Administração Pública.") -> Declaro para os devidos fins que o regime de Contribuição Previdenciária sobre a Receita Bruta adotado para elaboração do orçamento foi COM Desoneração, e que esta é a alternativa mais adequada para a Administração Pública.
A39: Construção e Reforma de Edifícios
A40: Construção de Praças Urbanas, Rodovias, Ferrovias e recapeamento e pavimentação de vias urbanas
A41: Construção de Redes de Abastecimento de Água, Coleta de Esgoto
A42: Construção e Manutenção de Estações e Redes de Distribuição de Energia Elétrica
A43: Obras Portuárias, Marítimas e Fluviais
...

Sheet ORÇAMENTO
B1: PLANILHA ORÇAMENTÁRIA
B2: OBJETO: | D2: CONSTRUÇÃO DO CRAS DE GUARDA DOS FERREIROS | G2: REFERÊNCIA DE PREÇOS: | I2: EXECUÇÃO: | J2: INDIRETA
I3: DATA: | J3: 45518
B4: ENDEREÇO: | D4: RUA JUVENAL RESENDE DA SILVA | G4: SETOP 08/2023 | I4: BDI: | J4: =BDI!N27 -> 0.2677
G5: SINAPI 03/2024
B7: ITEM | C7: CÓDIGO | D7: FONTE | E7: DESCRIÇÃO DOS SERVIÇOS | F7: UN. | G7: QUANT. | H7: CUSTO (R$) | I7: PREÇO (R$) | J7: VALOR (R$) | K7: MEMORIAL DESCRITIVO
B9: 1 | E9: SERVIÇOS PRELIMINARES | I9: =SUM(I10:I21) -> 33691.42 | J9: =SUM(J10:J21) -> 42710.613 | K9: SERVIÇOS PRELIMINARES
B10: 1.1 | C10: ED-16660 | D10: SETOP | E10: FORNECIMENTO E COLOCAÇÃO DE PLACA DE OBRA EM CHAPA GALVANIZADA #26, ESP. 0,45 MM, PLOTADA COM ADESIVO VINÍLICO, AFIXADA COM REBITES 4,8X40 MM, EM ESTRUTURA METÁLICA DE METALON 20X20 MM, ESP. 1,25 MM, INCLUSIVE SUPORTE EM EUCALIPTO AUTOCLAVADO PINTADO COM TINTA PVA DUAS (2) DEMÃOS | F10: m² | G10: =3*1.5 -> 4.5 | H10: 303.81 | I10: =ROUND(G10*H10,2) -> 1367.15 | J10: =(I10+(I10*$J$4)) -> 1733.1361 | K10: 3,00x1,50 | L10: palca de obra 3,00x1,50
B11: 1.2 | C11: CO-28390 | D11: SETOP | E11: MOBILIZAÇÃO E DESMOBILIZAÇÃO DE EQUIPAMENTO DE SONDAGEM A PERCUSSÃO COM ENSAIO DE PENETRAÇÃO PADRÃO (SPT) - (CUSTO FIXO) | F11: un | G11: 1 | H11: 850 | I11: =ROUND(G11*H11,2) -> 850 | J11: =(I11+(I11*$J$4)) -> 1077.545 | K11: 1 | L11: MOBILIZAÇÃO E DESMOBILIZAÇÃO
B12: 1.3 | C12: CO-28388 | D12: SETOP | E12: SONDAGEM A PERCUSSÃO COM ENSAIO DE PENETRAÇÃO PADRÃO (SPT), DIÂMETRO 2.1/2", EXCLUSIVE MOBILIZAÇÃO E DESMOBILIZAÇÃO | F12: m | G12: 20 | H12: 72.5 | I12: =ROUND(G12*H12,2) -> 1450 | J12: =(I12+(I12*$J$4)) -> 1838.165 | K12: 2 Furos x 10 m/l | L12: 2 Furos x 10 m/l
B13: 1.4 | C13: CO-27427 | D13: SETOP | E13: PROJETO EXECUTIVO DE ESTRUTURA DE CONCRETO | F13: PR | G13: 6 | H13: 1528.35 | I13: =ROUND(G13*H13,2) -> 9170.1 | J13: =(I13+(I13*$J$4)) -> 11624.936 | K13: 6 | L13: Prancha
B14: 1.5 | C14: CO-27431 | D14: SETOP | E14: PROJETO EXECUTIVO DE INSTALAÇÕES ELÉTRICAS | F14: PR | G14: 2 | H14: 1768.4 | I14: =ROUND(G14*H14,2) -> 3536.8 | J14: =(I14+(I14*$J$4)) -> 4483.6014 | K14: 2 | L14: Prancha
B15: 1.6 | C15: CO-27430 | D15: SETOP | E15: PROJETO EXECUTIVO DE INSTALAÇÕES HIDRO SANITÁRIAS | F15: PR | G15: 2 | H15: 1700.46 | I15: =ROUND(G15*H15,2) -> 3400.92 | J15: =(I15+(I15*$J$4)) -> 4311.3463 | K15: 2 | L15: Prancha
B16: 1.7 | C16: ED-29823 | D16: SETOP | E16: TAPUME FIXO DE PROTEÇÃO PARA FECHAMENTO DE OBRA EM TELHA METÁLICA GALVANIZADA, TIPO TRAPEZOIDAL, ESP. 0,5MM, COM MÓDULO NA DIMENSÃO DE (300X220)CM, COM REAPROVEITAMENTO, EXCLUSIVE PINTURA ESMALTE, INCLUSIVE PONTALETE E FIXAÇÃO | F16: m² | G16: =20*2.1 -> 42 | H16: 57.49 | I16: =ROUND(G16*H16,2) -> 2414.58 | J16: =(I16+(I16*$J$4)) -> 3060.9631 | K16: 20*2,1 | L16: perimetro * altura da telha metalica
B17: 1.8 | C17: ED-50151 | D17: SETOP | E17: LIGAÇÃO PROVISÓRIA COM ENTRADA DE ENERGIA AÉREA, PADRÃO CEMIG, CARGA INSTALADA DE 15,1KVA ATÉ 30KVA, TRIFÁSICO, COM SAÍDA SUBTERRÂNEA, INCLUSIVE POSTE, CAIXA PARA MEDIDOR, DISJUNTOR, BARRAMENTO, TERRAMENTO E ACESSÓRIOS | F17: un | G17: 1 | H17: 1154.49 | I17: =ROUND(G17*H17,2) -> 1154.49 | J17: =(I17+(I17*$J$4)) -> 1463.547 | K17: 1 | L17: uma ligação de energia
B18: 1.9 | C18: ED-50150 | D18: SETOP | E18: LIGAÇÃO DE ÁGUA PROVISÓRIA PARA CANTEIRO, INCLUSIVE HIDRÔMETRO E CAVALETE PARA MEDIÇÃO DE ÁGUA - ENTRADA PRINCIPAL, EM AÇO GALVANIZADO DN 20MM (1/2") - PADRÃO CONCESSIONÁRIA | F18: un | G18: 1 | H18: 375.66 | I18: =ROUND(G18*H18,2) -> 375.66 | J18: =(I18+(I18*$J$4)) -> 476.22418 | K18: 1 | L18: uma ligação de água
B19: 1.10 | C19: ED-16350 | D19: SETOP | E19: LOCAÇÃO DE CONTAINER COM ISOLAMENTO TÉRMICO, TIPO 3, PARA DEPÓSITO/FERRAMENTARIA DE OBRA, COM MEDIDAS REFERENCIAIS DE (6) METROS COMPRIMENTO, (2,3) METROS LARGURA E (2,5) METROS ALTURA ÚTIL INTERNA, INCLUSIVE LIGAÇÕES ELÉTRICAS INTERNAS, EXCLUSIVE MOBILIZAÇÃO/ DESMOBILIZAÇÃO E LIGAÇÕES PROVISÓRIAS EXTERNAS | F19: mês | G19: 8 | H19: 882.56 | I19: =ROUND(G19*H19,2) -> 7060.48 | J19: =(I19+(I19*$J$4)) -> 8950.5705 | K19: 1 | L19: Unidade
B20: 1.11 | C20: ED-17989 | D20: SETOP | E20: LOCAÇÃO DE OBRA COM GABARITO DE TÁBUAS CORRIDAS PONTALETADAS A CADA 2,00M, REAPROVEITAMENTO (2X), INCLUSIVE ACOMPANHAMENTO DE EQUIPE TOPOGRÁFICA PARA MARCAÇÃO DE PONTO TOPOGRÁFICO | F20: m | G20: 54.6 | H20: 49.91 | I20: =ROUND(G20*H20,2) -> 2725.09 | J20: =(I20+(I20*$J$4)) -> 3454.5966 | K20: 54.6 | L20: Perimetro
B21: 1.12 | C21: 98525 | D21: SINAPI | E21: LIMPEZA MECANIZADA DE CAMADA VEGETAL, VEGETAÇÃO E PEQUENAS ÁRVORES (DIÂMETRO DE TRONCO MENOR QUE 0,20 M), COM TRATOR DE ESTEIRAS. | F21: m² | G21: 305.17 | H21: 0.61 | I21: =ROUND(G21*H21,2) -> 186.15 | J21: =(I21+(I21*$J$4)) -> 235.98236 | K21: 305.17 | L21: area do lote
B23: 2 | E23: MOVIMENTO DE TERRA PARA FUNDAÇÕES | I23: =SUM(I24:I26) -> 729.38 | J23: =SUM(J24:J26) -> 924.63503 | K23: MOVIMENTO DE TERRA PARA FUNDAÇÕES
B24: 2.1 | C24: 93358 | D24: SINAPI | E24: ESCAVAÇÃO MANUAL DE VALA COM PROFUNDIDADE MENOR OU IGUAL A 1,30 M. | F24: m³ | G24: =27.51*0.3 -> 8.253 | H24: 71.68 | I24: =ROUND(G24*H24,2) -> 591.58 | J24: =(I24+(I24*$J$4)) -> 749.94597 | K24: 27,51*0,3 | L24: Area da base * altura
B25: 2.2 | C25: 101617 | D25: SINAPI | E25: PREPARO DE FUNDO DE VALA COM LARGURA MAIOR OU IGUAL A 1,5 M E MENOR QUE 2,5 M (ACERTO DO SOLO NATURAL). | F25: m² | G25: =27.51 -> 27.51 | H25: 2.69 | I25: =ROUND(G25*H25,2) -> 74 | J25: =(I25+(I25*$J$4)) -> 93.8098 | K25: 27.51 | L25: Area da base
B26: 2.3 | C26: 93382 | D26: SINAPI | E26: REATERRO MANUAL DE VALAS, COM COMPACTADOR DE SOLOS DE PERCUSSÃO. | F26: m³ | G26: =27.51*0.1 -> 2.751 | H26: 23.19 | I26: =ROUND(G26*H26,2) -> 63.8 | J26: =(I26+(I26*$J$4)) -> 80.87926 | K26: 27,51*,01 | L26: Area da base * altura
B28: 3 | E28: FUNDAÇÕES | I28: =SUM(I29,I35,I38) -> 52401.77 | J28: =SUM(J29,J35,J38) -> 66429.724 | K28: FUNDAÇÕES
B29: 3.1 | E29: ESTACA | I29: =SUM(I30:I34) -> 21667.67 | J29: =SUM(J30:J34) -> 27468.105 | K29: ESTACA
B30: 3.1.1 | C30: 100896 | D30: SINAPI | E30: ESTACA ESCAVADA MECANICAMENTE, SEM FLUIDO ESTABILIZANTE, COM 25CM DE DIÂMETRO, CONCRETO LANÇADO POR CAMINHÃO BETONEIRA (EXCLUSIVE MOBILIZAÇÃ O E DESMOBILIZAÇÃO). | F30: M | G30: =30*3+(24*1.5) -> 126 | H30: 64.37 | I30: =ROUND(G30*H30,2) -> 8110.62 | J30: =(I30+(I30*$J$4)) -> 10281.833 | K30: 30*3 + 24*1,5 | L30: Quantidade de estacas * profundidade ( construção e muro)
B31: 3.1.2 | C31: 96546 | D31: SINAPI | E31: ARMAÇÃO DE BLOCO UTILIZANDO AÇO CA-50 DE 10 MM - MONTAGEM. | F31: kg | G31: =6*3*0.617*54 -> 599.724 | H31: 12.5 | I31: =ROUND(G31*H31,2) -> 7496.55 | J31: =(I31+(I31*$J$4)) -> 9503.3764 | K31: 6*3*0,617*54 | L31: Qtd barras (6 Ø 10mm) * profundidade * massa nominal da bitola de 10mm (0,617 kg/m) * qtd estacas
B32: 3.1.3 | C32: ED-48297 | D32: SETOP | E32: CORTE, DOBRA E MONTAGEM DE AÇO CA-60, DIÂMETRO (4,2MM A 5,0MM), INCLUSIVE ESPAÇADOR | F32: kg | G32: =(((3/0.2)*30)+((1.5/0.2)*24))*((2*PI()*0.125)+0.07)*0.154 -> 82.99073 | H32: 11.58 | I32: =ROUND(G32*H32,2) -> 961.03 | J32: =(I32+(I32*$J$4)) -> 1218.2977 | K32: (3/0,20)*30+(1,5/0,20)*24* ((2*π*0,125)+0,07) * 0,154 | L32: M linear {Qtd. estribos[( Qtd. Estrib. p/ coluna (comprimento (3)/ espaçamento (0,20))* Nº estacas (20) ] * M linear estribo [((2*π*0,125)+0,07)] * 0,154 KG/M
B33: 3.1.4 | C33: 96619 | D33: SINAPI | E33: LASTRO DE CONCRETO MAGRO, APLICADO EM BLOCOS DE COROAMENTO OU SAPATAS, ESPESSURA DE 5 CM. | F33: m² | G33: =((PI()*(0.25^2))/4)*54 -> 2.6507188 | H33: 38.1 | I33: =ROUND(G33*H33,2) -> 100.99 | J33: =(I33+(I33*$J$4)) -> 128.02502 | K33: (π*(0,25)^2)/4 *54 | L33: (π*D(0,5)^2)/4 (área da estaca) * quantidade
B34: 3.1.5 | C34: 96557 | D34: SINAPI | E34: CONCRETAGEM DE BLOCO DE COROAMENTO OU VIGA BALDRAME, FCK 30 MPA, COM USO DE BOMBA - LANÇAMENTO, ADENSAMENTO E ACABAMENTO. | F34: m³ | G34: =((PI()*(0.25)^2)/4*30*3)+((PI()*(0.25)^2)/4*24*1.5) -> 6.1850105 | H34: 808.16 | I34: =ROUND(G34*H34,2) -> 4998.48 | J34: =(I34+(I34*$J$4)) -> 6336.5731 | K34: ((π*D(0,25)^2)/4 * 30*3)+((π*D(0,25)^2)/4 * 24*1,5) | L34: (π*D(0,5)^2)/4 (Área da estaca) * 3 (comprimento) * 20 (quantidade)
B35: 3.2 | E35: BLOCO | I35: =SUM(I36:I37) -> 10452.78 | J35: =SUM(J36:J37) -> 13250.989 | K35: BLOCO
B36: 3.2.1 | C36: 96546 | D36: SINAPI | E36: ARMAÇÃO DE BLOCO UTILIZANDO AÇO CA-50 DE 10 MM - MONTAGEM. | F36: kg | G36: =12*0.617*54 -> 399.816 | H36: 12.5 | I36: =ROUND(G36*H36,2) -> 4997.7 | J36: =(I36+(I36*$J$4)) -> 6335.5843 | K36: 12 * 0,617* 54 | L36: M linear (12m = 1 barra) * 0,617 KG/M *quantidade ( construção e muro)
B37: 3.2.2 | C37: 96557 | D37: SINAPI | E37: CONCRETAGEM DE BLOCO DE COROAMENTO OU VIGA BALDRAME, FCK 30 MPA, COM USO DE BOMBA - LANÇAMENTO, ADENSAMENTO E ACABAMENTO. | F37: m³ | G37: =(0.5*0.5*0.5)*54 -> 6.75 | H37: 808.16 | I37: =ROUND(G37*H37,2) -> 5455.08 | J37: =(I37+(I37*$J$4)) -> 6915.4049 | K37: (0,5*0,5*0,5) * 54 | L37: 0,5*0,5*0,5 (volume do bloco) * quantidade
B38: 3.3 | E38: VIGA BALDRAME | I38: =SUM(I39:I42) -> 20281.32 | J38: =SUM(J39:J42) -> 25710.629 | K38: VIGA BALDRAME
B39: 3.3.1 | C39: 96536 | D39: SINAPI | E39: FABRICAÇÃO, MONTAGEM E DESMONTAGEM DE FÔRMA PARA VIGA BALDRAME, EM MADEIRA SERRADA, E=25 MM, 4 UTILIZAÇÕES. | F39: m² | G39: =183.07*0.3*2 -> 109.842 | H39: 61.06 | I39: =ROUND(G39*H39,2) -> 6706.95 | J39: =(I39+(I39*$J$4)) -> 8502.4005 | K39: 183,07*0,3*2 | L39: m linear * altura* 2 lados
B40: 3.3.2 | C40: 96546 | D40: SINAPI | E40: ARMAÇÃO DE BLOCO UTILIZANDO AÇO CA-50 DE 10 MM - MONTAGEM. | F40: kg | G40: =4*183.07*0.617 -> 451.81676 | H40: 12.5 | I40: =ROUND(G40*H40,2) -> 5647.71 | J40: =(I40+(I40*$J$4)) -> 7159.602 | K40: 4*183,07*0,617 | L40: Qtd de barras (4 Ø 10mm) * m linear * massa nominal da bitola de 10 (0,617kg/m)
B41: 3.3.3 | C41: ED-48297 | D41: SETOP | E41: CORTE, DOBRA E MONTAGEM DE AÇO CA-60, DIÂMETRO (4,2MM A 5,0MM), INCLUSIVE ESPAÇADOR | F41: kg | G41: =((183.07/0.2)*((2*0.1)+(2*0.25)+0.07))*0.154 -> 108.5422 | H41: 11.58 | I41: =ROUND(G41*H41,2) -> 1256.92 | J41: =(I41+(I41*$J$4)) -> 1593.3975 | K41: ((183,07/0,2)*((2*0,1)+(2*0,25)+0,07))*0,154 | L41: M linear {Qtd estribos [qtd estribo p/ viga (m linear da viga /espaçamento (0,20))] * M linear estribo [2*Largura (0,09) + 2*comprimento (0,21) + dobra (0,07)]} * massa bitola de 5mm 0,154 KG/M
B42: 3.3.4 | C42: 96557 | D42: SINAPI | E42: CONCRETAGEM DE BLOCO DE COROAMENTO OU VIGA BALDRAME, FCK 30 MPA, COM USO DE BOMBA - LANÇAMENTO, ADENSAMENTO E ACABAMENTO. | F42: m³ | G42: =27.51*0.3 -> 8.253 | H42: 808.16 | I42: =ROUND(G42*H42,2) -> 6669.74 | J42: =(I42+(I42*$J$4)) -> 8455.2294 | K42: 27,51*0,3 | L42: Area da base * altura
B44: 4 | E44: SUPERESTRUTURA | I44: =SUM(I45,I50,I55,I57) -> 66150.93 | J44: =SUM(J45,J50,J55,J57) -> 83859.534 | K44: SUPERESTRUTURA
B45: 4.1 | E45: CONCRETO ARMADO - PILARES | I45: =SUM(I46:I49) -> 15944.09 | J45: =SUM(J46:J49) -> 20212.323 | K45: CONCRETO ARMADO - PILARES
...

Sheet CRONOGRAMA
B1: CRONOGRAMA FISICO FINANCEIRO
B2: OBJETO: | D2: CONSTRUÇÃO DO CRAS DE GUARDA DOS FERREIROS | N2: REFERÊNCIA DE PREÇOS: | P2: EXECUÇÃO: | Q2: INDIRETA
P3: DATA: | Q3: 45518
B4: ENDEREÇO: | D4: RUA JUVENAL RESENDE DA SILVA | N4: =ORÇAMENTO!G4 -> SETOP 08/2023 | P4: BDI: | Q4: 0.2677
N5: =ORÇAMENTO!G5 -> SINAPI 03/2024
B7: ITEM | C7: DESCRIÇÃO DOS SERVIÇOS | D7: VALOR (R$) | E7: % ITEM | F7: 1 | G7: 2 | H7: 3 | I7: 4 | J7: 5 | K7: 6 | L7: 7 | M7: 8 | N7: 9 | O7: 10 | P7: 11 | Q7: 12
F9: =D10*F10 -> 42710.613
B10: 1 | C10: SERVIÇOS PRELIMINARES | D10: =ORÇAMENTO!J9 -> 42710.613 | E10: =D10/$D$47 -> 0.075374168 | F10: 1
F11: =D12*F12 -> 924.63503
B12: 2 | C12: MOVIMENTO DE TERRA PARA FUNDAÇÕES | D12: =ORÇAMENTO!J23 -> 924.63503 | E12: =D12/$D$47 -> 0.0016317629 | F12: 1
F13: =D14*F14 -> 33214.862 | G13: =D14*G14 -> 33214.862
B14: 3 | C14: =ORÇAMENTO!E28 -> FUNDAÇÕES | D14: =ORÇAMENTO!J28 -> 66429.724 | E14: =D14/$D$47 -> 0.11723281 | F14: 0.5 | G14: 0.5
G15: =D16*G16 -> 27953.178 | H15: =D16*H16 -> 27953.178 | I15: =D16*I16 -> 27953.178
B16: 4 | C16: =ORÇAMENTO!E44 -> SUPERESTRUTURA | D16: =ORÇAMENTO!J44 -> 83859.534 | E16: =D16/$D$47 -> 0.14799232 | G16: =1/3 -> 0.33333333 | H16: =1/3 -> 0.33333333 | I16: =1/3 -> 0.33333333
I17: =D18*I18 -> 21551.616 | J17: =D18*J18 -> 21551.616
B18: 5 | C18: =ORÇAMENTO!E61 -> SISTEMAS DE VEDAÇÃO VERTICAL | D18: =ORÇAMENTO!J61 -> 43103.233 | E18: =D18/$D$47 -> 0.076067049 | I18: 0.5 | J18: 0.5
J19: =D20*J20 -> 15976.145 | K19: =D20*K20 -> 15976.145
B20: 6 | C20: =ORÇAMENTO!E64 -> ESQUADRIAS | D20: =ORÇAMENTO!J64 -> 31952.29 | E20: =D20/$D$47 -> 0.056388263 | J20: 0.5 | K20: 0.5
I21: =D22*I22 -> 42092.99 | J21: =D22*J22 -> 42092.99
B22: 7 | C22: =ORÇAMENTO!E82 -> SISTEMAS DE COBERTURA | D22: =ORÇAMENTO!J82 -> 84185.979 | E22: =D22/$D$47 -> 0.14856842 | I22: 0.5 | J22: 0.5
G23: =D24*G24 -> 5473.1046
B24: 8 | C24: =ORÇAMENTO!E87 -> IMPERMEABILIZAÇÃO | D24: =ORÇAMENTO!J87 -> 5473.1046 | E24: =D24/$D$47 -> 0.00965874 | G24: 1
K25: =D26*K26 -> 41112.405 | L25: =D26*L26 -> 41112.405
B26: 9 | C26: =ORÇAMENTO!E90 -> REVESTIMENTOS INTERNO E EXTERNO | D26: =ORÇAMENTO!J90 -> 82224.809 | E26: =D26/$D$47 -> 0.14510741 | K26: 0.5 | L26: 0.5
J27: =D28*J28 -> 9378.4066 | K27: =D28*K28 -> 9378.4066 | L27: =D28*L28 -> 9378.4066 | M27: =D28*M28 -> 9378.4066
B28: 10 | C28: =ORÇAMENTO!E96 -> SISTEMAS DE PISOS | D28: =ORÇAMENTO!J96 -> 37513.626 | E28: =D28/$D$47 -> 0.066202711 | J28: 0.25 | K28: 0.25 | L28: 0.25 | M28: 0.25
O29: =D30*O30 -> 14271.773 | P29: =D30*P30 -> 14271.773
B30: 11 | C30: =ORÇAMENTO!E106 -> PINTURAS E ACABAMENTOS | D30: =ORÇAMENTO!J106 -> 28543.546 | E30: =D30/$D$47 -> 0.050372633 | O30: 0.5 | P30: 0.5
L31: =D32*L32 -> 1158.2912 | M31: =D32*M32 -> 1158.2912
B32: 12 | C32: =ORÇAMENTO!E113 -> INSTALAÇÃO HIDRÁULICA | D32: =ORÇAMENTO!J113 -> 2316.5823 | E32: =D32/$D$47 -> 0.0040882219 | L32: 0.5 | M32: 0.5
L33: =D34*L34 -> 5314.6865 | M33: =D34*M34 -> 5314.6865
B34: 13 | C34: =ORÇAMENTO!E133 -> INSTALAÇÃO SANITÁRIA | D34: =ORÇAMENTO!J133 -> 10629.373 | E34: =D34/$D$47 -> 0.018758339 | L34: 0.5 | M34: 0.5
N35: =D36*N36 -> 6419.8039 | O35: =D36*O36 -> 6419.8039
B36: 14 | C36: =ORÇAMENTO!E153 -> LOUÇAS, ACESSÓRIOS E METAIS | D36: =ORÇAMENTO!J153 -> 12839.608 | E36: =D36/$D$47 -> 0.022658883 | N36: 0.5 | O36: 0.5
O37: =D38*O38 -> 11149.288 | P37: =D38*P38 -> 11149.288
B38: 15 | C38: =ORÇAMENTO!E170 -> INSTALAÇÃO ELÉTRICA - 220V | D38: =ORÇAMENTO!J170 -> 22298.577 | E38: =D38/$D$47 -> 0.039351734 | O38: 0.5 | P38: 0.5
Q39: =D40*Q40 -> 6285.5989
B40: 16 | C40: SERVIÇOS COMPLEMENTARES | D40: =ORÇAMENTO!J198 -> 6285.5989 | E40: =D40/$D$47 -> 0.011092601 | Q40: 1
Q41: =D42 -> 2537.91
B42: 17 | C42: =ORÇAMENTO!E203 -> SERVIÇOS FINAIS | D42: =ORÇAMENTO!J203 -> 2537.91 | E42: =D42/$D$47 -> 0.0044788132 | Q42: 1
...

Sheet MEMORIA DE CALCULO
A1: MEMORIA DE CÁLCULO
A2: OBJETO: CONSTRUÇÃO DO CRAS DE GUARDA DOS FERREIROS
A3: ENDEREÇO: RUA JUVENAL RESENDE DA SILVA
A5: DESCRIÇÃO DOS SERVIÇOS | B5: UN. | C5: QUANT. | D5: CALCULO | E5: DESCRIÇÃO DOS QUANTITATIVOS
A7: SERVIÇOS PRELIMINARES
A8: =ORÇAMENTO!E10 -> FORNECIMENTO E COLOCAÇÃO DE PLACA DE OBRA EM CHAPA GALVANIZADA #26, ESP. 0,45 MM, PLOTADA COM ADESIVO VINÍLICO, AFIXADA COM REBITES 4,8X40 MM, EM ESTRUTURA METÁLICA DE METALON 20X20 MM, ESP. 1,25 MM, INCLUSIVE SUPORTE EM EUCALIPTO AUTOCLAVADO PINTADO COM TINTA PVA DUAS (2) DEMÃOS | B8: =ORÇAMENTO!F10 -> m² | C8: =ORÇAMENTO!G10 -> 4.5 | D8: =ORÇAMENTO!K10 -> 3,00x1,50 | E8: =ORÇAMENTO!L10 -> palca de obra 3,00x1,50
A9: =ORÇAMENTO!E11 -> MOBILIZAÇÃO E DESMOBILIZAÇÃO DE EQUIPAMENTO DE SONDAGEM A PERCUSSÃO COM ENSAIO DE PENETRAÇÃO PADRÃO (SPT) - (CUSTO FIXO) | B9: =ORÇAMENTO!F11 -> un | C9: =ORÇAMENTO!G11 -> 1 | D9: =ORÇAMENTO!K11 -> 1 | E9: =ORÇAMENTO!L11 -> MOBILIZAÇÃO E DESMOBILIZAÇÃO
A10: =ORÇAMENTO!E12 -> SONDAGEM A PERCUSSÃO COM ENSAIO DE PENETRAÇÃO PADRÃO (SPT), DIÂMETRO 2.1/2", EXCLUSIVE MOBILIZAÇÃO E DESMOBILIZAÇÃO | B10: =ORÇAMENTO!F12 -> m | C10: =ORÇAMENTO!G12 -> 20 | D10: =ORÇAMENTO!K12 -> 2 Furos x 10 m/l | E10: =ORÇAMENTO!L12 -> 2 Furos x 10 m/l
A11: =ORÇAMENTO!E13 -> PROJETO EXECUTIVO DE ESTRUTURA DE CONCRETO | B11: =ORÇAMENTO!F13 -> PR | C11: =ORÇAMENTO!G13 -> 6 | D11: =ORÇAMENTO!K13 -> 6 | E11: =ORÇAMENTO!L13 -> Prancha
A12: =ORÇAMENTO!E14 -> PROJETO EXECUTIVO DE INSTALAÇÕES ELÉTRICAS | B12: =ORÇAMENTO!F14 -> PR | C12: =ORÇAMENTO!G14 -> 2 | D12: =ORÇAMENTO!K14 -> 2 | E12: =ORÇAMENTO!L14 -> Prancha
A13: =ORÇAMENTO!E15 -> PROJETO EXECUTIVO DE INSTALAÇÕES HIDRO SANITÁRIAS | B13: =ORÇAMENTO!F15 -> PR | C13: =ORÇAMENTO!G15 -> 2 | D13: =ORÇAMENTO!K15 -> 2 | E13: =ORÇAMENTO!L15 -> Prancha
A14: =ORÇAMENTO!E16 -> TAPUME FIXO DE PROTEÇÃO PARA FECHAMENTO DE OBRA EM TELHA METÁLICA GALVANIZADA, TIPO TRAPEZOIDAL, ESP. 0,5MM, COM MÓDULO NA DIMENSÃO DE (300X220)CM, COM REAPROVEITAMENTO, EXCLUSIVE PINTURA ESMALTE, INCLUSIVE PONTALETE E FIXAÇÃO | B14: =ORÇAMENTO!F16 -> m² | C14: =ORÇAMENTO!G16 -> 42 | D14: =ORÇAMENTO!K16 -> 20*2,1 | E14: =ORÇAMENTO!L16 -> perimetro * altura da telha metalica
A15: =ORÇAMENTO!E17 -> LIGAÇÃO PROVISÓRIA COM ENTRADA DE ENERGIA AÉREA, PADRÃO CEMIG, CARGA INSTALADA DE 15,1KVA ATÉ 30KVA, TRIFÁSICO, COM SAÍDA SUBTERRÂNEA, INCLUSIVE POSTE, CAIXA PARA MEDIDOR, DISJUNTOR, BARRAMENTO, TERRAMENTO E ACESSÓRIOS | B15: =ORÇAMENTO!F17 -> un | C15: =ORÇAMENTO!G17 -> 1 | D15: =ORÇAMENTO!K17 -> 1 | E15: =ORÇAMENTO!L17 -> uma ligação de energia
A16: =ORÇAMENTO!E18 -> LIGAÇÃO DE ÁGUA PROVISÓRIA PARA CANTEIRO, INCLUSIVE HIDRÔMETRO E CAVALETE PARA MEDIÇÃO DE ÁGUA - ENTRADA PRINCIPAL, EM AÇO GALVANIZADO DN 20MM (1/2") - PADRÃO CONCESSIONÁRIA | B16: =ORÇAMENTO!F18 -> un | C16: =ORÇAMENTO!G18 -> 1 | D16: =ORÇAMENTO!K18 -> 1 | E16: =ORÇAMENTO!L18 -> uma ligação de água
A17: =ORÇAMENTO!E19 -> LOCAÇÃO DE CONTAINER COM ISOLAMENTO TÉRMICO, TIPO 3, PARA DEPÓSITO/FERRAMENTARIA DE OBRA, COM MEDIDAS REFERENCIAIS DE (6) METROS COMPRIMENTO, (2,3) METROS LARGURA E (2,5) METROS ALTURA ÚTIL INTERNA, INCLUSIVE LIGAÇÕES ELÉTRICAS INTERNAS, EXCLUSIVE MOBILIZAÇÃO/ DESMOBILIZAÇÃO E LIGAÇÕES PROVISÓRIAS EXTERNAS | B17: =ORÇAMENTO!F19 -> mês | C17: =ORÇAMENTO!G19 -> 8 | D17: =ORÇAMENTO!K19 -> 1 | E17: =ORÇAMENTO!L19 -> Unidade
A18: =ORÇAMENTO!E20 -> LOCAÇÃO DE OBRA COM GABARITO DE TÁBUAS CORRIDAS PONTALETADAS A CADA 2,00M, REAPROVEITAMENTO (2X), INCLUSIVE ACOMPANHAMENTO DE EQUIPE TOPOGRÁFICA PARA MARCAÇÃO DE PONTO TOPOGRÁFICO | B18: =ORÇAMENTO!F20 -> m | C18: =ORÇAMENTO!G20 -> 54.6 | D18: =ORÇAMENTO!K20 -> 54.6 | E18: =ORÇAMENTO!L20 -> Perimetro
A19: =ORÇAMENTO!E21 -> LIMPEZA MECANIZADA DE CAMADA VEGETAL, VEGETAÇÃO E PEQUENAS ÁRVORES (DIÂMETRO DE TRONCO MENOR QUE 0,20 M), COM TRATOR DE ESTEIRAS. | B19: =ORÇAMENTO!F21 -> m² | C19: =ORÇAMENTO!G21 -> 305.17 | D19: =ORÇAMENTO!K21 -> 305.17 | E19: =ORÇAMENTO!L21 -> area do lote
A21: MOVIMENTO DE TERRA PARA FUNDAÇÕES
A22: =ORÇAMENTO!E24 -> ESCAVAÇÃO MANUAL DE VALA COM PROFUNDIDADE MENOR OU IGUAL A 1,30 M. | B22: =ORÇAMENTO!F24 -> m³ | C22: =ORÇAMENTO!G24 -> 8.253 | D22: =ORÇAMENTO!K24 -> 27,51*0,3 | E22: =ORÇAMENTO!L24 -> Area da base * altura
A23: =ORÇAMENTO!E25 -> PREPARO DE FUNDO DE VALA COM LARGURA MAIOR OU IGUAL A 1,5 M E MENOR QUE 2,5 M (ACERTO DO SOLO NATURAL). | B23: =ORÇAMENTO!F25 -> m² | C23: =ORÇAMENTO!G25 -> 27.51 | D23: =ORÇAMENTO!K25 -> 27.51 | E23: =ORÇAMENTO!L25 -> Area da base
A24: =ORÇAMENTO!E26 -> REATERRO MANUAL DE VALAS, COM COMPACTADOR DE SOLOS DE PERCUSSÃO. | B24: =ORÇAMENTO!F26 -> m³ | C24: =ORÇAMENTO!G26 -> 2.751 | D24: =ORÇAMENTO!K26 -> 27,51*,01 | E24: =ORÇAMENTO!L26 -> Area da base * altura
A26: FUNDAÇÕES
A27: ESTACA
A28: =ORÇAMENTO!E30 -> ESTACA ESCAVADA MECANICAMENTE, SEM FLUIDO ESTABILIZANTE, COM 25CM DE DIÂMETRO, CONCRETO LANÇADO POR CAMINHÃO BETONEIRA (EXCLUSIVE MOBILIZAÇÃ O E DESMOBILIZAÇÃO). | B28: =ORÇAMENTO!F30 -> M | C28: =ORÇAMENTO!G30 -> 126 | D28: =ORÇAMENTO!K30 -> 30*3 + 24*1,5 | E28: =ORÇAMENTO!L30 -> Quantidade de estacas * profundidade ( construção e muro)
A29: =ORÇAMENTO!E31 -> ARMAÇÃO DE BLOCO UTILIZANDO AÇO CA-50 DE 10 MM - MONTAGEM. | B29: =ORÇAMENTO!F31 -> kg | C29: =ORÇAMENTO!G31 -> 599.724 | D29: =ORÇAMENTO!K31 -> 6*3*0,617*54 | E29: =ORÇAMENTO!L31 -> Qtd barras (6 Ø 10mm) * profundidade * massa nominal da bitola de 10mm (0,617 kg/m) * qtd estacas
A30: =ORÇAMENTO!E32 -> CORTE, DOBRA E MONTAGEM DE AÇO CA-60, DIÂMETRO (4,2MM A 5,0MM), INCLUSIVE ESPAÇADOR | B30: =ORÇAMENTO!F32 -> kg | C30: =ORÇAMENTO!G32 -> 82.99073 | D30: =ORÇAMENTO!K32 -> (3/0,20)*30+(1,5/0,20)*24* ((2*π*0,125)+0,07) * 0,154 | E30: =ORÇAMENTO!L32 -> M linear {Qtd. estribos[( Qtd. Estrib. p/ coluna (comprimento (3)/ espaçamento (0,20))* Nº estacas (20) ] * M linear estribo [((2*π*0,125)+0,07)] * 0,154 KG/M
A31: =ORÇAMENTO!E33 -> LASTRO DE CONCRETO MAGRO, APLICADO EM BLOCOS DE COROAMENTO OU SAPATAS, ESPESSURA DE 5 CM. | B31: =ORÇAMENTO!F33 -> m² | C31: =ORÇAMENTO!G33 -> 2.6507188 | D31: =ORÇAMENTO!K33 -> (π*(0,25)^2)/4 *54 | E31: =ORÇAMENTO!L33 -> (π*D(0,5)^2)/4 (área da estaca) * quantidade
A32: BLOCO
A33: =ORÇAMENTO!E36 -> ARMAÇÃO DE BLOCO UTILIZANDO AÇO CA-50 DE 10 MM - MONTAGEM. | B33: =ORÇAMENTO!F36 -> kg | C33: =ORÇAMENTO!G36 -> 399.816 | D33: =ORÇAMENTO!K36 -> 12 * 0,617* 54 | E33: =ORÇAMENTO!L36 -> M linear (12m = 1 barra) * 0,617 KG/M *quantidade ( construção e muro)
A34: =ORÇAMENTO!E37 -> CONCRETAGEM DE BLOCO DE COROAMENTO OU VIGA BALDRAME, FCK 30 MPA, COM USO DE BOMBA - LANÇAMENTO, ADENSAMENTO E ACABAMENTO. | B34: =ORÇAMENTO!F37 -> m³ | C34: =ORÇAMENTO!G37 -> 6.75 | D34: =ORÇAMENTO!K37 -> (0,5*0,5*0,5) * 54 | E34: =ORÇAMENTO!L37 -> 0,5*0,5*0,5 (volume do bloco) * quantidade
A35: VIGA BALDRAME
A36: =ORÇAMENTO!E39 -> FABRICAÇÃO, MONTAGEM E DESMONTAGEM DE FÔRMA PARA VIGA BALDRAME, EM MADEIRA SERRADA, E=25 MM, 4 UTILIZAÇÕES. | B36: =ORÇAMENTO!F39 -> m² | C36: =ORÇAMENTO!G39 -> 109.842 | D36: =ORÇAMENTO!K39 -> 183,07*0,3*2 | E36: =ORÇAMENTO!L39 -> m linear * altura* 2 lados
A37: =ORÇAMENTO!E40 -> ARMAÇÃO DE BLOCO UTILIZANDO AÇO CA-50 DE 10 MM - MONTAGEM. | B37: =ORÇAMENTO!F40 -> kg | C37: =ORÇAMENTO!G40 -> 451.81676 | D37: =ORÇAMENTO!K40 -> 4*183,07*0,617 | E37: =ORÇAMENTO!L40 -> Qtd de barras (4 Ø 10mm) * m linear * massa nominal da bitola de 10 (0,617kg/m)
A38: =ORÇAMENTO!E41 -> CORTE, DOBRA E MONTAGEM DE AÇO CA-60, DIÂMETRO (4,2MM A 5,0MM), INCLUSIVE ESPAÇADOR | B38: =ORÇAMENTO!F41 -> kg | C38: =ORÇAMENTO!G41 -> 108.5422 | D38: =ORÇAMENTO!K41 -> ((183,07/0,2)*((2*0,1)+(2*0,25)+0,07))*0,154 | E38: =ORÇAMENTO!L41 -> M linear {Qtd estribos [qtd estribo p/ viga (m linear da viga /espaçamento (0,20))] * M linear estribo [2*Largura (0,09) + 2*comprimento (0,21) + dobra (0,07)]} * massa bitola de 5mm 0,154 KG/M
A39: =ORÇAMENTO!E42 -> CONCRETAGEM DE BLOCO DE COROAMENTO OU VIGA BALDRAME, FCK 30 MPA, COM USO DE BOMBA - LANÇAMENTO, ADENSAMENTO E ACABAMENTO. | B39: =ORÇAMENTO!F42 -> m³ | C39: =ORÇAMENTO!G42 -> 8.253 | D39: =ORÇAMENTO!K42 -> 27,51*0,3 | E39: =ORÇAMENTO!L42 -> Area da base * altura
A41: SUPERESTRUTURA
A42: CONCRETO ARMADO - PILARES
A43: =ORÇAMENTO!E46 -> MONTAGEM E DESMONTAGEM DE FÔRMA DE PILARES RETANGULARES E ESTRUTURAS SIMILARES, PÉ-DIREITO SIMPLES, EM CHAPA DE MADEIRA COMPENSADA PLASTIFIC ADA, 18 UTILIZAÇÕES. | B43: =ORÇAMENTO!F46 -> m² | C43: =ORÇAMENTO!G46 -> 129.6 | D43: =ORÇAMENTO!K46 -> ((0,14*3*2)+(0,26*3*2))*54 | E43: =ORÇAMENTO!L46 -> (largura * altura * 2 lados)+ (comprimento* altura * 2 lados) * quantidade ( construção e muro)
A44: =ORÇAMENTO!E47 -> ARMAÇÃO DE PILAR OU VIGA DE ESTRUTURA CONVENCIONAL DE CONCRETO ARMADO UTILIZANDO AÇO CA-50 DE 10,0 MM - MONTAGEM. | B44: =ORÇAMENTO!F47 -> kg | C44: =ORÇAMENTO!G47 -> 399.816 | D44: =ORÇAMENTO!K47 -> 3*4*0,617*54 | E44: =ORÇAMENTO!L47 -> altura do pilar * qtd barras (4 Ø 10mm)* massa nominal da bitola de 10mm (0,617kg/m) * qtd de pilares
A45: =ORÇAMENTO!E48 -> ARMAÇÃO DE PILAR OU VIGA DE ESTRUTURA CONVENCIONAL DE CONCRETO ARMADO UTILIZANDO AÇO CA-60 DE 5,0 MM - MONTAGEM. | B45: =ORÇAMENTO!F48 -> kg | C45: =ORÇAMENTO!G48 -> 83.5758 | D45: =ORÇAMENTO!K48 -> (((3/0,20)*54)*((2*0,09)+(2*0,21)+0,07))*0,154 | E45: =ORÇAMENTO!L48 -> M linear {Qtd estribos [ qtd estribo p/ coluna (altura da coluna (3) /espaçamento (0,20))* qtd colunas] * M linear estribo [2*Largura (0,09) + 2*comprimento (0,21) + dobra (0,07)]} * massa da bitola de 5mm 0,154 KG/M
...
