Workbook
Name _AA100000: #REF!
Name _Fill: #REF!
Name _LOC10: #REF!
Name _LOC11: #REF!
Name _LOC12: #REF!
Name _LOC13: #REF!
Name _LOC14: #REF!
Name _LOC15: #REF!
Name _LOC16: #REF!
Name _LOC17: #REF!
Name _LOC18: #REF!
Name _LOC19: #REF!
Name _LOC2: #REF!
Name _LOC20: #REF!
Name _LOC21: #REF!
Name _LOC22: #REF!
Name _LOC23: #REF!
Name _LOC24: #REF!
Name _LOC25: #REF!
Name _LOC26: #REF!
Name _LOC27: #REF!
Name _LOC28: #REF!
Name _LOC29: #REF!
Name _LOC3: #REF!
Name _LOC30: #REF!
Name _LOC31: #REF!
Name _LOC32: #REF!
Name _LOC33: #REF!
Name _LOC34: #REF!
Name _LOC35: #REF!
Name _LOC36: #REF!
Name _LOC37: #REF!
Name _LOC38: #REF!
Name _LOC39: #REF!
Name _LOC4: #REF!
Name _LOC40: #REF!
Name _LOC41: #REF!
Name _LOC42: #REF!
Name _LOC5: #REF!
Name _LOC6: #REF!
Name _LOC7: #REF!
Name _LOC8: #REF!
Name _LOC9: #REF!
Name _R: #REF!
Name AAA: #REF!
Name AC: #REF!
Name AL: #REF!
Name Área_impressão_IM: #REF!
Name B.01.05.10.10: #REF!
Name CD: #REF!
Name CP: #REF!
Name CS: #REF!
Name CT: #REF!
Name EV: #REF!
Name IC: #REF!
Name IMPR: #REF!
Name IMPR1: #REF!
Name IS: #REF!
Name LB: #REF!
Name MACROS: #REF!

Sheet DADOS GERAIS
B2: DADOS GERAIS
B8: Secretaria de Atenção Primária à Saúde
B9: =C15 -> Unidade Básica de Saúde Porte 3 - Área Construída: 665,76m²
B11: Bancos:
B12: SINAPI (11/2024) - CPOS/CDHU (01/2025) - SBC (01/2025) - ORSE (10/2024) - IOPES (08/2024) - EMOP (11/2024) - SEINFRA (028) - SETOP (10/2024)
B15: Obra: | C15: Unidade Básica de Saúde Porte 3 - Área Construída: 665,76m²
B16: Local: | C16: Ministério da Saúde - Departamento de Estratégias e Políticas de Saúde Comunitária
B17: Região: | C17: MG
B18: Data Base: | C18: 45597
B19: BDI Geral (%): | C19: ='BDI SEM DESONERAÇÃO'!E36 -> 0.20812597
B20: BDI Equipamentos (%): | C20: ='BDI SEM DESONERAÇÃO'!F36 -> 0.13512301
B21: Área construída (m²): | C21: 665.76
B22: Data: | C22: 19/03/2025
B23: Revisão: | C23: 01
B24: Responsável Técnico pelo Orçamento:
B25: Cargo Responsável Técnico:
B31: ________________________________________________________________________________
B32: =C24 -> 0
B33: =C25 -> 0

Sheet CRONOGRAMA
B2: CRONOGRAMA FÍSICO-FINANCEIRO
B8: Secretaria de Atenção Primária à Saúde
B11: Bancos:
B12: SINAPI (11/2024) - CPOS/CDHU (01/2025) - SBC (01/2025) - ORSE (10/2024) - IOPES (08/2024) - EMOP (11/2024) - SEINFRA (028)
B15: PREFEITURA: Prefeitura Municipal de Poços de Caldas | E15: VALOR DO SERVIÇO: | G15: ='ORC. SINTÉTICO'!P586 -> 0
B16: ='[1]ORC. SINTÉTICO'!B9 -> Unidade Básica de Saúde Porte 3 - Área Construída: 665,76m² | E16: LOCAL: Rua das Recordações, S/Nº, bairro Santo André | I16: EXECUÇÃO=12 MESES
B17: ITEM | C17: ETAPAS/DESCRIÇÃO | D17: FÍSICO/ FINANCEIRO | E17: TOTAL ETAPAS | F17: MÊS 1 | G17: MÊS 2 | H17: MÊS 3 | I17: MÊS 4 | J17: MÊS 5 | K17: MÊS 6 | L17: MÊS 7 | M17: MÊS 8 | N17: MÊS 9 | O17: MÊS 10 | P17: MÊS 11 | Q17: MÊS 12
B18: 1 | C18: SERVIÇOS PRELIMINARES E INDIRETOS | D18: Físico % | E18: =E19/G15 -> #DIV/0! | S18: =SUM(F18:Q18) -> 0
D19: Financeiro | E19: ='ORC. SINTÉTICO'!Q18 -> 0 | F19: =F18*$E$19 -> 0 | G19: =G18*$E$19 -> 0 | H19: =H18*$E$19 -> 0 | I19: =I18*$E$19 -> 0 | J19: =J18*$E$19 -> 0 | K19: =K18*$E$19 -> 0 | L19: =L18*$E$19 -> 0 | M19: =M18*$E$19 -> 0 | ... Q19: =Q18*$E$19 -> 0 | S19: =SUM(F19:Q19) -> 0 | T19: =IF(S19=E19,"OK","CONFERIR") -> OK
B20: 2 | C20: ='[1]ORC. SINTÉTICO'!E39 -> FUNDAÇÃO | D20: Físico % | E20: =E21/G15 -> #DIV/0! | S20: =SUM(F20:Q20) -> 0
D21: Financeiro | E21: ='ORC. SINTÉTICO'!Q36 -> 0 | F21: =$E$21*F20 -> 0 | G21: =$E$21*G20 -> 0 | H21: =$E$21*H20 -> 0 | I21: =$E$21*I20 -> 0 | J21: =$E$21*J20 -> 0 | K21: =$E$21*K20 -> 0 | L21: =$E$21*L20 -> 0 | M21: =$E$21*M20 -> 0 | ... Q21: =$E$21*Q20 -> 0 | S21: =SUM(F21:Q21) -> 0 | T21: =IF(S21=E21,"OK","CONFERIR") -> OK
B22: 3 | C22: ='[1]ORC. SINTÉTICO'!E76 -> ESTRUTURA | D22: Físico % | E22: =E23/G15 -> #DIV/0! | S22: =SUM(F22:Q22) -> 0
D23: Financeiro | E23: ='ORC. SINTÉTICO'!Q73 -> 0 | F23: =$E$23*F22 -> 0 | G23: =$E$23*G22 -> 0 | H23: =$E$23*H22 -> 0 | I23: =$E$23*I22 -> 0 | J23: =$E$23*J22 -> 0 | K23: =$E$23*K22 -> 0 | L23: =$E$23*L22 -> 0 | M23: =$E$23*M22 -> 0 | ... Q23: =$E$23*Q22 -> 0 | S23: =SUM(F23:Q23) -> 0 | T23: =IF(S23=E23,"OK","CONFERIR") -> OK
B24: 4 | C24: ='[1]ORC. SINTÉTICO'!E125 -> ALVENARIA, VEDAÇÕES E DIVISÓRIAS | D24: Físico % | E24: =E25/G15 -> #DIV/0! | S24: =SUM(F24:Q24) -> 0
D25: Financeiro | E25: ='ORC. SINTÉTICO'!Q122 -> 0 | F25: =$E$25*F24 -> 0 | G25: =$E$25*G24 -> 0 | H25: =$E$25*H24 -> 0 | I25: =$E$25*I24 -> 0 | J25: =$E$25*J24 -> 0 | K25: =$E$25*K24 -> 0 | L25: =$E$25*L24 -> 0 | M25: =$E$25*M24 -> 0 | ... Q25: =$E$25*Q24 -> 0 | S25: =SUM(F25:Q25) -> 0 | T25: =IF(S25=E25,"OK","CONFERIR") -> OK
B26: 5 | C26: ='[1]ORC. SINTÉTICO'!E142 -> COBERTURA | D26: Físico % | E26: =E27/G15 -> #DIV/0! | S26: =SUM(F26:Q26) -> 0
D27: Financeiro | E27: ='ORC. SINTÉTICO'!Q139 -> 0 | F27: =$E$27*F26 -> 0 | G27: =$E$27*G26 -> 0 | H27: =$E$27*H26 -> 0 | I27: =$E$27*I26 -> 0 | J27: =$E$27*J26 -> 0 | K27: =$E$27*K26 -> 0 | L27: =$E$27*L26 -> 0 | M27: =$E$27*M26 -> 0 | ... Q27: =$E$27*Q26 -> 0 | S27: =SUM(F27:Q27) -> 0 | T27: =IF(S27=E27,"OK","CONFERIR") -> OK
B28: 6 | C28: ='[1]ORC. SINTÉTICO'!E154 -> IMPERMEABILIZAÇÃO | D28: Físico % | E28: =E29/G15 -> #DIV/0! | S28: =SUM(F28:Q28) -> 0
D29: Financeiro | E29: ='ORC. SINTÉTICO'!Q151 -> 0 | F29: =$E$29*F28 -> 0 | G29: =$E$29*G28 -> 0 | H29: =$E$29*H28 -> 0 | I29: =$E$29*I28 -> 0 | J29: =$E$29*J28 -> 0 | K29: =$E$29*K28 -> 0 | L29: =$E$29*L28 -> 0 | M29: =$E$29*M28 -> 0 | ... Q29: =$E$29*Q28 -> 0 | S29: =SUM(F29:Q29) -> 0 | T29: =IF(S29=E29,"OK","CONFERIR") -> OK
B30: 7 | C30: ='[1]ORC. SINTÉTICO'!E158 -> ESQUADRIAS | D30: Físico % | E30: =E31/G15 -> #DIV/0! | S30: =SUM(F30:Q30) -> 0
D31: Financeiro | E31: ='ORC. SINTÉTICO'!Q155 -> 0 | F31: =$E$31*F30 -> 0 | G31: =$E$31*G30 -> 0 | H31: =$E$31*H30 -> 0 | I31: =$E$31*I30 -> 0 | J31: =$E$31*J30 -> 0 | K31: =$E$31*K30 -> 0 | L31: =$E$31*L30 -> 0 | M31: =$E$31*M30 -> 0 | ... Q31: =$E$31*Q30 -> 0 | S31: =SUM(F31:Q31) -> 0 | T31: =IF(S31=E31,"OK","CONFERIR") -> OK
B32: 8 | C32: ='[1]ORC. SINTÉTICO'!E190 -> REVESTIMENTO DE PAREDE | D32: Físico % | E32: =E33/G15 -> #DIV/0! | S32: =SUM(F32:Q32) -> 0
D33: Financeiro | E33: ='ORC. SINTÉTICO'!Q188 -> 0 | F33: =$E$33*F32 -> 0 | G33: =$E$33*G32 -> 0 | H33: =$E$33*H32 -> 0 | I33: =$E$33*I32 -> 0 | J33: =$E$33*J32 -> 0 | K33: =$E$33*K32 -> 0 | L33: =$E$33*L32 -> 0 | M33: =$E$33*M32 -> 0 | ... Q33: =$E$33*Q32 -> 0 | S33: =SUM(F33:Q33) -> 0 | T33: =IF(S33=E33,"OK","CONFERIR") -> OK
B34: 9 | C34: ='[1]ORC. SINTÉTICO'!E197 -> REVESTIMENTO DE PISO INTERNO | D34: Físico % | E34: =E35/G15 -> #DIV/0! | S34: =SUM(F34:Q34) -> 0
D35: Financeiro | E35: ='ORC. SINTÉTICO'!Q195 -> 0 | F35: =$E$35*F34 -> 0 | G35: =$E$35*G34 -> 0 | H35: =$E$35*H34 -> 0 | I35: =$E$35*I34 -> 0 | J35: =$E$35*J34 -> 0 | K35: =$E$35*K34 -> 0 | L35: =$E$35*L34 -> 0 | M35: =$E$35*M34 -> 0 | ... Q35: =$E$35*Q34 -> 0 | S35: =SUM(F35:Q35) -> 0 | T35: =IF(S35=E35,"OK","CONFERIR") -> OK
B36: 10 | C36: ='[1]ORC. SINTÉTICO'!E206 -> REVESTIMENTO DE PISO EXTERNO | D36: Físico % | E36: =E37/G15 -> #DIV/0! | S36: =SUM(F36:Q36) -> 0
D37: Financeiro | E37: ='ORC. SINTÉTICO'!Q204 -> 0 | F37: =$E$37*F36 -> 0 | G37: =$E$37*G36 -> 0 | H37: =$E$37*H36 -> 0 | I37: =$E$37*I36 -> 0 | J37: =$E$37*J36 -> 0 | K37: =$E$37*K36 -> 0 | L37: =$E$37*L36 -> 0 | M37: =$E$37*M36 -> 0 | ... Q37: =$E$37*Q36 -> 0 | S37: =SUM(F37:Q37) -> 0 | T37: =IF(S37=E37,"OK","CONFERIR") -> OK
B38: 11 | C38: ='[1]ORC. SINTÉTICO'!E209 -> REVESTIMENTO DE TETO | D38: Físico % | E38: =E39/G15 -> #DIV/0! | S38: =SUM(F38:Q38) -> 0
D39: Financeiro | E39: ='ORC. SINTÉTICO'!Q207 -> 0 | F39: =$E$39*F38 -> 0 | G39: =$E$39*G38 -> 0 | H39: =$E$39*H38 -> 0 | I39: =$E$39*I38 -> 0 | J39: =$E$39*J38 -> 0 | K39: =$E$39*K38 -> 0 | L39: =$E$39*L38 -> 0 | M39: =$E$39*M38 -> 0 | ... Q39: =$E$39*Q38 -> 0 | S39: =SUM(F39:Q39) -> 0 | T39: =IF(S39=E39,"OK","CONFERIR") -> OK
B40: 12 | C40: ='[1]ORC. SINTÉTICO'!E212 -> PINTURA | D40: Físico % | E40: =E41/G15 -> #DIV/0! | S40: =SUM(F40:Q40) -> 0
D41: Financeiro | E41: ='ORC. SINTÉTICO'!Q210 -> 0 | F41: =$E$41*F40 -> 0 | G41: =$E$41*G40 -> 0 | H41: =$E$41*H40 -> 0 | I41: =$E$41*I40 -> 0 | J41: =$E$41*J40 -> 0 | K41: =$E$41*K40 -> 0 | L41: =$E$41*L40 -> 0 | M41: =$E$41*M40 -> 0 | ... Q41: =$E$41*Q40 -> 0 | S41: =SUM(F41:Q41) -> 0 | T41: =IF(S41=E41,"OK","CONFERIR") -> OK
B42: 13 | C42: ='[1]ORC. SINTÉTICO'!E226 -> MARMORARIA | D42: Físico % | E42: =E43/G15 -> #DIV/0! | S42: =SUM(F42:Q42) -> 0
D43: Financeiro | E43: ='ORC. SINTÉTICO'!Q224 -> 0 | F43: =$E$43*F42 -> 0 | G43: =$E$43*G42 -> 0 | H43: =$E$43*H42 -> 0 | I43: =$E$43*I42 -> 0 | J43: =$E$43*J42 -> 0 | K43: =$E$43*K42 -> 0 | L43: =$E$43*L42 -> 0 | M43: =$E$43*M42 -> 0 | ... Q43: =$E$43*Q42 -> 0 | S43: =SUM(F43:Q43) -> 0 | T43: =IF(S43=E43,"OK","CONFERIR") -> OK
B44: 14 | C44: ='[1]ORC. SINTÉTICO'!E229 -> LOUÇAS, METAIS E ACESSÓRIOS | D44: Físico % | E44: =E45/G15 -> #DIV/0! | S44: =SUM(F44:Q44) -> 0
D45: Financeiro | E45: ='ORC. SINTÉTICO'!Q227 -> 0 | F45: =$E$45*F44 -> 0 | G45: =$E$45*G44 -> 0 | H45: =$E$45*H44 -> 0 | I45: =$E$45*I44 -> 0 | J45: =$E$45*J44 -> 0 | K45: =$E$45*K44 -> 0 | L45: =$E$45*L44 -> 0 | M45: =$E$45*M44 -> 0 | ... Q45: =$E$45*Q44 -> 0 | S45: =SUM(F45:Q45) -> 0 | T45: =IF(S45=E45,"OK","CONFERIR") -> OK
B46: 15 | C46: ='[1]ORC. SINTÉTICO'!E257 -> INSTALAÇÕES HIDROSSANITÁRIAS | D46: Físico % | E46: =E47/G15 -> #DIV/0! | S46: =SUM(F46:Q46) -> 0
D47: Financeiro | E47: ='ORC. SINTÉTICO'!Q255 -> 0 | F47: =$E$47*F46 -> 0 | G47: =$E$47*G46 -> 0 | H47: =$E$47*H46 -> 0 | I47: =$E$47*I46 -> 0 | J47: =$E$47*J46 -> 0 | K47: =$E$47*K46 -> 0 | L47: =$E$47*L46 -> 0 | M47: =$E$47*M46 -> 0 | ... Q47: =$E$47*Q46 -> 0 | S47: =SUM(F47:Q47) -> 0 | T47: =IF(S47=E47,"OK","CONFERIR") -> OK
B48: 16 | C48: ='[1]ORC. SINTÉTICO'!E381 -> INSTALAÇÕES ELÉTRICAS | D48: Físico % | E48: =E49/G15 -> #DIV/0! | S48: =SUM(F48:Q48) -> 0
D49: Financeiro | E49: ='ORC. SINTÉTICO'!Q379 -> 0 | F49: =$E$49*F48 -> 0 | G49: =$E$49*G48 -> 0 | H49: =$E$49*H48 -> 0 | I49: =$E$49*I48 -> 0 | J49: =$E$49*J48 -> 0 | K49: =$E$49*K48 -> 0 | L49: =$E$49*L48 -> 0 | M49: =$E$49*M48 -> 0 | ... Q49: =$E$49*Q48 -> 0 | S49: =SUM(F49:Q49) -> 0 | T49: =IF(S49=E49,"OK","CONFERIR") -> OK
B50: 17 | C50: ='[1]ORC. SINTÉTICO'!E492 -> CLIMATIZAÇÃO | D50: Físico % | E50: =E51/G15 -> #DIV/0! | S50: =SUM(F50:Q50) -> 0
...

Sheet RESUMO
B2: PLANILHA RESUMO
B8: ='DADOS GERAIS'!B8 -> Secretaria de Atenção Primária à Saúde | D8: BDI Geral: | E8: Encargo Social Mensalista: | F8: ='DADOS GERAIS'!$B$22 -> Data:
B9: ='DADOS GERAIS'!B9 -> Unidade Básica de Saúde Porte 3 - Área Construída: 665,76m² | D9: ='DADOS GERAIS'!C19 -> 0.20812597 | E9: ='ENCARGOS SOCIAIS'!F56 -> 0.6779 | F9: ='DADOS GERAIS'!$C$22 -> 19/03/2025
B11: ='DADOS GERAIS'!B11 -> Bancos: | D11: BDI Equipamentos: | E11: Encargo Social Horista: | F11: ='DADOS GERAIS'!$B$23 -> Revisão:
B12: ='DADOS GERAIS'!B12 -> SINAPI (11/2024) - CPOS/CDHU (01/2025) - SBC (01/2025) - ORSE (10/2024) - IOPES (08/2024) - EMOP (11/2024) - SEINFRA (028) - SETOP (10/2024) | D12: ='DADOS GERAIS'!C20 -> 0.13512301 | E12: ='ENCARGOS SOCIAIS'!E56 -> 1.08904 | F12: ='DADOS GERAIS'!$C$23 -> 01
B15: ITEM | C15: DESCRIÇÃO | E15: PREÇO | F15: %
B17: 1 | C17: {=INDEX('ORC. SINTÉTICO'!$E:$E,MATCH($B17,'ORC. SINTÉTICO'!$B:$B,0))} -> SERVIÇOS PRELIMINARES E INDIRETOS | E17: {=INDEX('ORC. SINTÉTICO'!$Q:$Q,MATCH($B17,'ORC. SINTÉTICO'!$B:$B,0))} -> 0 | F17: =IFERROR(E17/$E$41,"-") -> -
B18: 2 | C18: {=INDEX('ORC. SINTÉTICO'!$E:$E,MATCH($B18,'ORC. SINTÉTICO'!$B:$B,0))} -> FUNDAÇÃO | E18: {=INDEX('ORC. SINTÉTICO'!$Q:$Q,MATCH($B18,'ORC. SINTÉTICO'!$B:$B,0))} -> 0 | F18: =IFERROR(E18/$E$41,"-") -> -
B19: 3 | C19: {=INDEX('ORC. SINTÉTICO'!$E:$E,MATCH($B19,'ORC. SINTÉTICO'!$B:$B,0))} -> ESTRUTURA | E19: {=INDEX('ORC. SINTÉTICO'!$Q:$Q,MATCH($B19,'ORC. SINTÉTICO'!$B:$B,0))} -> 0 | F19: =IFERROR(E19/$E$41,"-") -> -
B20: 4 | C20: {=INDEX('ORC. SINTÉTICO'!$E:$E,MATCH($B20,'ORC. SINTÉTICO'!$B:$B,0))} -> ALVENARIA, VEDAÇÕES E DIVISÓRIAS | E20: {=INDEX('ORC. SINTÉTICO'!$Q:$Q,MATCH($B20,'ORC. SINTÉTICO'!$B:$B,0))} -> 0 | F20: =IFERROR(E20/$E$41,"-") -> -
B21: 5 | C21: {=INDEX('ORC. SINTÉTICO'!$E:$E,MATCH($B21,'ORC. SINTÉTICO'!$B:$B,0))} -> COBERTURA | E21: {=INDEX('ORC. SINTÉTICO'!$Q:$Q,MATCH($B21,'ORC. SINTÉTICO'!$B:$B,0))} -> 0 | F21: =IFERROR(E21/$E$41,"-") -> -
B22: 6 | C22: {=INDEX('ORC. SINTÉTICO'!$E:$E,MATCH($B22,'ORC. SINTÉTICO'!$B:$B,0))} -> IMPERMEABILIZAÇÃO | E22: {=INDEX('ORC. SINTÉTICO'!$Q:$Q,MATCH($B22,'ORC. SINTÉTICO'!$B:$B,0))} -> 0 | F22: =IFERROR(E22/$E$41,"-") -> -
B23: 7 | C23: {=INDEX('ORC. SINTÉTICO'!$E:$E,MATCH($B23,'ORC. SINTÉTICO'!$B:$B,0))} -> ESQUADRIAS | E23: {=INDEX('ORC. SINTÉTICO'!$Q:$Q,MATCH($B23,'ORC. SINTÉTICO'!$B:$B,0))} -> 0 | F23: =IFERROR(E23/$E$41,"-") -> -
B24: 8 | C24: {=INDEX('ORC. SINTÉTICO'!$E:$E,MATCH($B24,'ORC. SINTÉTICO'!$B:$B,0))} -> REVESTIMENTO DE PAREDE | E24: {=INDEX('ORC. SINTÉTICO'!$Q:$Q,MATCH($B24,'ORC. SINTÉTICO'!$B:$B,0))} -> 0 | F24: =IFERROR(E24/$E$41,"-") -> -
B25: 9 | C25: {=INDEX('ORC. SINTÉTICO'!$E:$E,MATCH($B25,'ORC. SINTÉTICO'!$B:$B,0))} -> REVESTIMENTO DE PISO INTERNO | E25: {=INDEX('ORC. SINTÉTICO'!$Q:$Q,MATCH($B25,'ORC. SINTÉTICO'!$B:$B,0))} -> 0 | F25: =IFERROR(E25/$E$41,"-") -> -
B26: 10 | C26: {=INDEX('ORC. SINTÉTICO'!$E:$E,MATCH($B26,'ORC. SINTÉTICO'!$B:$B,0))} -> REVESTIMENTO DE PISO EXTERNO | E26: {=INDEX('ORC. SINTÉTICO'!$Q:$Q,MATCH($B26,'ORC. SINTÉTICO'!$B:$B,0))} -> 0 | F26: =IFERROR(E26/$E$41,"-") -> -
B27: 11 | C27: {=INDEX('ORC. SINTÉTICO'!$E:$E,MATCH($B27,'ORC. SINTÉTICO'!$B:$B,0))} -> REVESTIMENTO DE TETO | E27: {=INDEX('ORC. SINTÉTICO'!$Q:$Q,MATCH($B27,'ORC. SINTÉTICO'!$B:$B,0))} -> 0 | F27: =IFERROR(E27/$E$41,"-") -> -
B28: 12 | C28: {=INDEX('ORC. SINTÉTICO'!$E:$E,MATCH($B28,'ORC. SINTÉTICO'!$B:$B,0))} -> PINTURA | E28: {=INDEX('ORC. SINTÉTICO'!$Q:$Q,MATCH($B28,'ORC. SINTÉTICO'!$B:$B,0))} -> 0 | F28: =IFERROR(E28/$E$41,"-") -> -
... B39: 23 | C39: {=INDEX('ORC. SINTÉTICO'!$E:$E,MATCH($B39,'ORC. SINTÉTICO'!$B:$B,0))} -> ADMINISTRAÇÃO LOCAL DA OBRA | E39: {=INDEX('ORC. SINTÉTICO'!$Q:$Q,MATCH($B39,'ORC. SINTÉTICO'!$B:$B,0))} -> 0 | F39: =IFERROR(E39/$E$41,"-") -> -
B41: TOTAL | E41: =SUBTOTAL(9,E17:E39) -> 0 | F41: =SUBTOTAL(9,F17:F39) -> 0
B43: Notas:
B44: Estão exclusos do escopo: movimentação de terra, mobiliário e equipamentos, piso intertravado, bate-macas, chapas metálicas das portas, paisagismo (exceto grama), instalações de automação, CFTV, energia fotovoltaica, controle de acesso, CATV, sonorização, compressor odontológico e bomba de vacuo odontológico portatéis e equipamentos de ar condicionado.
B51: ________________________________________________________________________________
B52: ='DADOS GERAIS'!C24 -> 0
B53: ='DADOS GERAIS'!C25 -> 0

Sheet ORC. SINTÉTICO
B2: PLANILHA DE ORÇAMENTO SINTÉTICO
B8: ='DADOS GERAIS'!$B$8 -> Secretaria de Atenção Primária à Saúde | H8: =RESUMO!$D$8 -> BDI Geral: | I8: =RESUMO!$E$8 -> Encargo Social Mensalista: | L8: =RESUMO!$E$8 -> Encargo Social Mensalista: | N8: =RESUMO!D8 -> BDI Geral: | P8: =RESUMO!E8 -> Encargo Social Mensalista: | Q8: ='DADOS GERAIS'!$B$22 -> Data:
B9: ='DADOS GERAIS'!$B$9 -> Unidade Básica de Saúde Porte 3 - Área Construída: 665,76m² | H9: 0.2081 | I9: =RESUMO!$E$9 -> 0.6779 | L9: =RESUMO!$E$9 -> 0.6779 | N9: 0.2081 | P9: =RESUMO!E9 -> 0.6779 | Q9: ='DADOS GERAIS'!$C$22 -> 19/03/2025
B11: =RESUMO!B11 -> Bancos: | H11: =RESUMO!$D$11 -> BDI Equipamentos: | I11: =RESUMO!$E$11 -> Encargo Social Horista: | L11: =RESUMO!$E$11 -> Encargo Social Horista: | N11: =RESUMO!D11 -> BDI Equipamentos: | P11: =RESUMO!E11 -> Encargo Social Horista: | Q11: ='DADOS GERAIS'!$B$23 -> Revisão:
B12: ='DADOS GERAIS'!$B$12 -> SINAPI (11/2024) - CPOS/CDHU (01/2025) - SBC (01/2025) - ORSE (10/2024) - IOPES (08/2024) - EMOP (11/2024) - SEINFRA (028) - SETOP (10/2024) | H12: 0.1351 | I12: =RESUMO!$E$12 -> 1.08904 | L12: =RESUMO!$E$12 -> 1.08904 | N12: 0.1351 | P12: =RESUMO!E12 -> 1.08904 | Q12: ='DADOS GERAIS'!$C$23 -> 01
B15: Item | C15: Código | D15: Banco | E15: Descrição | F15: Und | G15: Quant. | H15: Valor Unit | I15: Total sem BDI | L15: BDI | M15: Valor Unit com BDI | O15: Total com BDI | R15: Peso (%)
J16: M. O. | K16: MAT. | N16: Total
B18: 1 | E18: SERVIÇOS PRELIMINARES E INDIRETOS | Q18: =Q19+Q30+Q34 -> 0 | R18: =Q18/$P$586 -> #DIV/0!
B19: 1.1 | E19: CANTEIRO DE OBRAS | Q19: =SUM(Q20:Q29) -> 0 | R19: =Q19/$P$586 -> #DIV/0!
B20: 1.1.1 | C20: 02.02.150 | D20: CPOS/CDHU | E20: LOCAÇÃO DE CONTAINER TIPO DEPÓSITO - ÁREA MÍNIMA DE 13,80 M² | F20: UNMES | G20: 28 | I20: =ROUND(G20*H20,2) -> 0 | J20: 105.65 | K20: 1019.65 | L20: =$H$9 -> 0.2081 | M20: =ROUND(H20+H20*L20,2) -> 0 | N20: =J20+K20 -> 1125.3 | O20: =ROUND(G20*J20,2) -> 2958.2 | P20: =ROUND(G20*K20,2) -> 28550.2 | Q20: =ROUND(G20*M20,2) -> 0 | R20: =Q20/$P$586 -> #DIV/0!
B21: 1.1.2 | C21: 11703 | D21: ORSE | E21: Barracão aberto para apoio à produção (carpintaria, central de armação, oficina, etc.) c/ tesouras, telha 4mm, piso em concreto desempolado | F21: m² | G21: 25 | I21: =ROUND(G21*H21,2) -> 0 | J21: 60.15 | K21: 174.01 | L21: =$H$9 -> 0.2081 | M21: =ROUND(H21+H21*L21,2) -> 0 | N21: =J21+K21 -> 234.16 | O21: =ROUND(G21*J21,2) -> 1503.75 | P21: =ROUND(G21*K21,2) -> 4350.25 | Q21: =ROUND(G21*M21,2) -> 0 | R21: =Q21/$P$586 -> #DIV/0!
B22: 1.1.3 | C22: 4656 | D22: ORSE | E22: Locação de container - Banheiro com chuveiros e vasos - 4,30 x 2,30m | F22: mês | G22: 14 | I22: =ROUND(G22*H22,2) -> 0 | J22: 0 | K22: 1141.93 | L22: =$H$9 -> 0.2081 | M22: =ROUND(H22+H22*L22,2) -> 0 | N22: =J22+K22 -> 1141.93 | O22: =ROUND(G22*J22,2) -> 0 | P22: =ROUND(G22*K22,2) -> 15987.02 | Q22: =ROUND(G22*M22,2) -> 0 | R22: =Q22/$P$586 -> #DIV/0!
B23: 1.1.4 | C23: 012208 | D23: SBC | E23: BARRACAO PARA REFEITORIO EM OBRAS EM COMPENSADO | F23: m² | G23: 35 | I23: =ROUND(G23*H23,2) -> 0 | J23: 667.12 | K23: 453.53 | L23: =$H$9 -> 0.2081 | M23: =ROUND(H23+H23*L23,2) -> 0 | N23: =J23+K23 -> 1120.65 | O23: =ROUND(G23*J23,2) -> 23349.2 | P23: =ROUND(G23*K23,2) -> 15873.55 | Q23: =ROUND(G23*M23,2) -> 0 | R23: =Q23/$P$586 -> #DIV/0!
B24: 1.1.5 | C24: 95648 | D24: SINAPI | E24: KIT CAVALETE PARA MEDIÇÃO DE ÁGUA - ENTRADA INDIVIDUALIZADA, EM CPVC DN 28 MM (1"), PARA 1 MEDIDOR - FORNECIMENTO E INSTALAÇÃO (EXCLUSIVE HIDRÔMETRO). AF_03/2024 | F24: UN | G24: 1 | I24: =ROUND(G24*H24,2) -> 0 | J24: 76.77 | K24: 658.49 | L24: =$H$9 -> 0.2081 | M24: =ROUND(H24+H24*L24,2) -> 0 | N24: =J24+K24 -> 735.26 | O24: =ROUND(G24*J24,2) -> 76.77 | P24: =ROUND(G24*K24,2) -> 658.49 | Q24: =ROUND(G24*M24,2) -> 0 | R24: =Q24/$P$586 -> #DIV/0!
B25: 1.1.6 | C25: 95673 | D25: SINAPI | E25: HIDRÔMETRO DN 1/2", 1,5 M3/H - FORNECIMENTO E INSTALAÇÃO. AF_03/2024 | F25: UN | G25: 1 | I25: =ROUND(G25*H25,2) -> 0 | J25: 20.15 | K25: 179.25 | L25: =$H$9 -> 0.2081 | M25: =ROUND(H25+H25*L25,2) -> 0 | N25: =J25+K25 -> 199.4 | O25: =ROUND(G25*J25,2) -> 20.15 | P25: =ROUND(G25*K25,2) -> 179.25 | Q25: =ROUND(G25*M25,2) -> 0 | R25: =Q25/$P$586 -> #DIV/0!
B26: 1.1.7 | C26: 101509 | D26: SINAPI | E26: ENTRADA DE ENERGIA ELÉTRICA, AÉREA, TRIFÁSICA, COM CAIXA DE EMBUTIR, CABO DE 10 MM2 E DISJUNTOR DIN 50A (NÃO INCLUSO O POSTE DE CONCRETO). AF_07/2020_PS | F26: UN | G26: 1 | I26: =ROUND(G26*H26,2) -> 0 | J26: 463.01 | K26: 1914.54 | L26: =$H$9 -> 0.2081 | M26: =ROUND(H26+H26*L26,2) -> 0 | N26: =J26+K26 -> 2377.55 | O26: =ROUND(G26*J26,2) -> 463.01 | P26: =ROUND(G26*K26,2) -> 1914.54 | Q26: =ROUND(G26*M26,2) -> 0 | R26: =Q26/$P$586 -> #DIV/0!
B27: 1.1.8 | C27: 103689 | D27: SINAPI | E27: FORNECIMENTO E INSTALAÇÃO DE PLACA DE OBRA COM CHAPA GALVANIZADA E ESTRUTURA DE MADEIRA. AF_03/2022_PS | F27: m² | G27: 6 | I27: =ROUND(G27*H27,2) -> 0 | J27: 35.46 | K27: 556.81 | L27: =$H$9 -> 0.2081 | M27: =ROUND(H27+H27*L27,2) -> 0 | N27: =J27+K27 -> 592.27 | O27: =ROUND(G27*J27,2) -> 212.76 | P27: =ROUND(G27*K27,2) -> 3340.86 | Q27: =ROUND(G27*M27,2) -> 0 | R27: =Q27/$P$586 -> #DIV/0!
B28: 1.1.9 | C28: 05.07.040 | D28: CPOS/CDHU | E28: REMOÇÃO DE ENTULHO SEPARADO DE OBRA COM CAÇAMBA METÁLICA - TERRA, ALVENARIA, CONCRETO, ARGAMASSA, MADEIRA, PAPEL, PLÁSTICO OU METAL | F28: m³ | G28: 280 | I28: =ROUND(G28*H28,2) -> 0 | J28: 15.52 | K28: 117.68 | L28: =$H$9 -> 0.2081 | M28: =ROUND(H28+H28*L28,2) -> 0 | N28: =J28+K28 -> 133.2 | O28: =ROUND(G28*J28,2) -> 4345.6 | P28: =ROUND(G28*K28,2) -> 32950.4 | Q28: =ROUND(G28*M28,2) -> 0 | R28: =Q28/$P$586 -> #DIV/0!
B29: 1.1.10 | C29: 98459 | D29: SINAPI | E29: TAPUME COM TELHA METÁLICA. AF_03/2024 | F29: m² | G29: 461.4 | I29: =ROUND(G29*H29,2) -> 0 | J29: 31.09 | K29: 65.58 | L29: =$H$9 -> 0.2081 | M29: =ROUND(H29+H29*L29,2) -> 0 | N29: =J29+K29 -> 96.67 | O29: =ROUND(G29*J29,2) -> 14344.93 | P29: =ROUND(K29*G29,2) -> 30258.61 | Q29: =ROUND(G29*M29,2) -> 0 | R29: =Q29/$P$586 -> #DIV/0!
B30: 1.2 | E30: MOVIMENTAÇÃO DE TERRA | Q30: =SUM(Q31:Q33) -> 0 | R30: =Q30/$P$586 -> #DIV/0!
B31: 1.2.1 | C31: ED-29233 | D31: SETOP | E31: TRANSPORTE DE MATERIAL DE QUALQUER NATUREZA EM CAMINHÃO, DISTÂNCIA MAIOR QUE 10KM E MENOR OU IGUAL A 20KM, DENTRO DO PERÍMETRO URBANO, EXCLUSIVE CARGA, INCLUSIVE DESCARGA | F31: M3XKM | G31: 40353.6 | I31: =ROUND(G31*H31,2) -> 0 | J31: =0.3+0.3*N9 -> 0.36243 | K31: =1.47+1.47*N9 -> 1.775907 | L31: =$H$9 -> 0.2081 | M31: =ROUND(H31+H31*L31,2) -> 0 | N31: =J31+K31 -> 2.138337 | O31: =ROUND(G31*J31,2) -> 14625.36 | P31: =ROUND(K31*G31,2) -> 71664.24 | Q31: =ROUND(G31*M31,2) -> 0 | R31: =Q31/$P$586 -> #DIV/0!
B32: 1.2.2 | C32: 101253 | D32: SINAPI | E32: ESCAVAÇÃO VERTICAL PARA INFRAESTRUTURA, COM CARGA, DESCARGA E TRANSPORTE DE SOLO DE 1ª CATEGORIA, COM ESCAVADEIRA HIDRÁULICA (CAÇAMBA: 1,2 M³ / 155HP), FROTA DE 9 CAMINHÕES BASCULANTES DE 18 M³, DMT DE 6 KM E VELOCIDADE MÉDIA 22 KM/H. AF_05/2020 | F32: m³ | G32: 2690.244 | I32: =ROUND(G32*H32,2) -> 0 | J32: =2.29+2.29*N9 -> 2.766549 | K32: =22+22*N9 -> 26.5782 | L32: =$H$9 -> 0.2081 | M32: =ROUND(H32+H32*L32,2) -> 0 | N32: =J32+K32 -> 29.344749 | O32: =ROUND(G32*J32,2) -> 7442.69 | P32: =ROUND(K32*G32,2) -> 71501.84 | Q32: =ROUND(G32*M32,2) -> 0 | R32: =Q32/$P$586 -> #DIV/0!
B33: 1.2.3 | C33: 96385 | D33: SINAPI | E33: EXECUÇÃO E COMPACTAÇÃO DE CORPO DE ATERRO DE ATERRO (95% DE ENERGIA DO PROCTOR NORMAL) COM SOLO PREDOMINANTEMENTE ARGILOSO ESPESSURA 15 CM -EXCLUSIVE MATERIAL, ESCAVAÇÃO, CARGA E TRANSPORTE. AF_09/2024 | F33: m³ | G33: 2690.24 | I33: =ROUND(G33*H33,2) -> 0 | J33: =3.31+3.31*N9 -> 3.998811 | K33: =8.66+8.66*N9 -> 10.462146 | L33: =$H$9 -> 0.2081 | M33: =ROUND(H33+H33*L33,2) -> 0 | N33: =J33+K33 -> 14.460957 | O33: =ROUND(G33*J33,2) -> 10757.76 | P33: =ROUND(K33*G33,2) -> 28145.68 | Q33: =ROUND(G33*M33,2) -> 0 | R33: =Q33/$P$586 -> #DIV/0!
B34: 1.3 | E34: EQUIPAMENTOS DE APOIO | Q34: =Q35 -> 0 | R34: =Q34/$P$586 -> #DIV/0!
B35: 1.3.1 | C35: CPU1926 | D35: Próprio | E35: LOCACAO DE ANDAIME METALICO TIPO FACHADEIRO, PECAS COM APROXIMADAMENTE 1,20 M DE LARGURA E 2,0 M DE ALTURA, INCLUINDO DIAGONAIS EM X, BARRAS DE LIGACAO, SAPATAS E DEMAIS ITENS NECESSARIOS A MONTAGEM, INCLUSIVE MONTAGEM E DESMONTAGEM | F35: M2XMÊS | G35: 1072.2 | I35: =ROUND(G35*H35,2) -> 0 | J35: 6.96 | K35: 21.9 | L35: =$H$9 -> 0.2081 | M35: =ROUND(H35+H35*L35,2) -> 0 | N35: =J35+K35 -> 28.86 | O35: =ROUND(G35*J35,2) -> 7462.51 | P35: =ROUND(G35*K35,2) -> 23481.18 | Q35: =ROUND(G35*M35,2) -> 0 | R35: =Q35/$P$586 -> #DIV/0!
B36: 2 | E36: FUNDAÇÃO | Q36: =Q37+Q55 -> 0 | R36: =Q36/$P$586 -> #DIV/0!
B37: 2.1 | E37: FUNDAÇÃO EDIFICAÇÃO | Q37: =SUM(Q38:Q54) -> 0 | R37: =Q37/$P$586 -> #DIV/0!
B38: 2.1.1 | C38: 99059 | D38: SINAPI | E38: LOCAÇÃO CONVENCIONAL DE OBRA, UTILIZANDO GABARITO DE TÁBUAS CORRIDAS PONTALETADAS A CADA 2,00M - 2 UTILIZAÇÕES. AF_03/2024 | F38: M | G38: 188.53 | I38: =ROUND(G38*H38,2) -> 0 | J38: 35.34 | K38: 48.03 | L38: =$H$9 -> 0.2081 | M38: =ROUND(H38+H38*L38,2) -> 0 | N38: =J38+K38 -> 83.37 | O38: =ROUND(G38*J38,2) -> 6662.65 | P38: =ROUND(G38*K38,2) -> 9055.1 | Q38: =ROUND(G38*M38,2) -> 0 | R38: =Q38/$P$586 -> #DIV/0!
B39: 2.1.2 | C39: 90100 | D39: SINAPI | E39: ESCAVAÇÃO MECANIZADA DE VALA COM PROF. ATÉ 1,5 M (MÉDIA MONTANTE E JUSANTE/UMA COMPOSIÇÃO POR TRECHO), RETROESCAV. (0,26 M3), LARG. DE 0,8 M A 1,5 M, EM SOLO DE 1A CATEGORIA, EM LOCAIS COM ALTO NÍVEL DE INTERFERÊNCIA. AF_02/2021 | F39: m³ | G39: 79.59 | I39: =ROUND(G39*H39,2) -> 0 | J39: 5.79 | K39: 10.6 | L39: =$H$9 -> 0.2081 | M39: =ROUND(H39+H39*L39,2) -> 0 | N39: =J39+K39 -> 16.39 | O39: =ROUND(G39*J39,2) -> 460.83 | P39: =ROUND(G39*K39,2) -> 843.65 | Q39: =ROUND(G39*M39,2) -> 0 | R39: =Q39/$P$586 -> #DIV/0!
B40: 2.1.3 | C40: 93358 | D40: SINAPI | E40: ESCAVAÇÃO MANUAL DE VALA COM PROFUNDIDADE MENOR OU IGUAL A 1,30 M. AF_02/2021 | F40: m³ | G40: 31.44 | I40: =ROUND(G40*H40,2) -> 0 | J40: 69.37 | K40: 28.15 | L40: =$H$9 -> 0.2081 | M40: =ROUND(H40+H40*L40,2) -> 0 | N40: =J40+K40 -> 97.52 | O40: =ROUND(G40*J40,2) -> 2180.99 | P40: =ROUND(G40*K40,2) -> 885.04 | Q40: =ROUND(G40*M40,2) -> 0 | R40: =Q40/$P$586 -> #DIV/0!
B41: 2.1.4 | C41: 100324 | D41: SINAPI | E41: LASTRO COM MATERIAL GRANULAR (PEDRA BRITADA N.1 E PEDRA BRITADA N.2), APLICADO EM PISOS OU LAJES SOBRE SOLO, ESPESSURA DE *10 CM*. AF_01/2024 | F41: m³ | G41: 11.51 | I41: =ROUND(G41*H41,2) -> 0 | J41: 53.3 | K41: 200.44 | L41: =$H$9 -> 0.2081 | M41: =ROUND(H41+H41*L41,2) -> 0 | N41: =J41+K41 -> 253.74 | O41: =ROUND(G41*J41,2) -> 613.48 | P41: =ROUND(G41*K41,2) -> 2307.06 | Q41: =ROUND(G41*M41,2) -> 0 | R41: =Q41/$P$586 -> #DIV/0!
B42: 2.1.5 | C42: 96534 | D42: SINAPI | E42: FABRICAÇÃO, MONTAGEM E DESMONTAGEM DE FÔRMA PARA BLOCO DE COROAMENTO, EM MADEIRA SERRADA, E=25 MM, 4 UTILIZAÇÕES. AF_01/2024 | F42: m² | G42: 589.52 | I42: =ROUND(G42*H42,2) -> 0 | J42: 48.96 | K42: 42.91 | L42: =$H$9 -> 0.2081 | M42: =ROUND(H42+H42*L42,2) -> 0 | N42: =J42+K42 -> 91.87 | O42: =ROUND(G42*J42,2) -> 28862.9 | P42: =ROUND(G42*K42,2) -> 25296.3 | Q42: =ROUND(G42*M42,2) -> 0 | R42: =Q42/$P$586 -> #DIV/0!
B43: 2.1.6 | C43: 96543 | D43: SINAPI | E43: ARMAÇÃO DE BLOCO UTILIZANDO AÇO CA-60 DE 5 MM - MONTAGEM. AF_01/2024 | F43: KG | G43: 787.6 | I43: =ROUND(G43*H43,2) -> 0 | J43: 10.29 | K43: 13.61 | L43: =$H$9 -> 0.2081 | M43: =ROUND(H43+H43*L43,2) -> 0 | N43: =J43+K43 -> 23.9 | O43: =ROUND(G43*J43,2) -> 8104.4 | P43: =ROUND(G43*K43,2) -> 10719.24 | Q43: =ROUND(G43*M43,2) -> 0 | R43: =Q43/$P$586 -> #DIV/0!
B44: 2.1.7 | C44: 96544 | D44: SINAPI | E44: ARMAÇÃO DE BLOCO UTILIZANDO AÇO CA-50 DE 6,3 MM - MONTAGEM. AF_01/2024 | F44: KG | G44: 32.1 | I44: =ROUND(G44*H44,2) -> 0 | J44: 7.56 | K44: 13.85 | L44: =$H$9 -> 0.2081 | M44: =ROUND(H44+H44*L44,2) -> 0 | N44: =J44+K44 -> 21.41 | O44: =ROUND(G44*J44,2) -> 242.68 | P44: =ROUND(G44*K44,2) -> 444.59 | Q44: =ROUND(G44*M44,2) -> 0 | R44: =Q44/$P$586 -> #DIV/0!
B45: 2.1.8 | C45: 96545 | D45: SINAPI | E45: ARMAÇÃO DE BLOCO UTILIZANDO AÇO CA-50 DE 8 MM - MONTAGEM. AF_01/2024 | F45: KG | G45: 1077.2 | I45: =ROUND(G45*H45,2) -> 0 | J45: 5.55 | K45: 13.64 | L45: =$H$9 -> 0.2081 | M45: =ROUND(H45+H45*L45,2) -> 0 | N45: =J45+K45 -> 19.19 | O45: =ROUND(G45*J45,2) -> 5978.46 | P45: =ROUND(G45*K45,2) -> 14693.01 | Q45: =ROUND(G45*M45,2) -> 0 | R45: =Q45/$P$586 -> #DIV/0!
B46: 2.1.9 | C46: 96546 | D46: SINAPI | E46: ARMAÇÃO DE BLOCO UTILIZANDO AÇO CA-50 DE 10 MM - MONTAGEM. AF_01/2024 | F46: KG | G46: 382.5 | I46: =ROUND(G46*H46,2) -> 0 | J46: 4.17 | K46: 12.57 | L46: =$H$9 -> 0.2081 | M46: =ROUND(H46+H46*L46,2) -> 0 | N46: =J46+K46 -> 16.74 | O46: =ROUND(G46*J46,2) -> 1595.03 | P46: =ROUND(G46*K46,2) -> 4808.03 | Q46: =ROUND(G46*M46,2) -> 0 | R46: =Q46/$P$586 -> #DIV/0!
B47: 2.1.10 | C47: 104920 | D47: SINAPI | E47: ARMAÇÃO DE BLOCO, SAPATA ISOLADA, VIGA BALDRAME E SAPATA CORRIDA UTILIZANDO AÇO CA-50 DE 12,5 MM - MONTAGEM. AF_01/2024 | F47: KG | G47: 673.9 | I47: =ROUND(G47*H47,2) -> 0 | J47: 2.31 | K47: 10.55 | L47: =$H$9 -> 0.2081 | M47: =ROUND(H47+H47*L47,2) -> 0 | N47: =J47+K47 -> 12.86 | O47: =ROUND(G47*J47,2) -> 1556.71 | P47: =ROUND(G47*K47,2) -> 7109.65 | Q47: =ROUND(G47*M47,2) -> 0 | R47: =Q47/$P$586 -> #DIV/0!
B48: 2.1.11 | C48: 96557 | D48: SINAPI | E48: CONCRETAGEM DE BLOCO DE COROAMENTO OU VIGA BALDRAME, FCK 30 MPA, COM USO DE BOMBA - LANÇAMENTO, ADENSAMENTO E ACABAMENTO. AF_01/2024 | F48: m³ | G48: 54.46 | I48: =ROUND(G48*H48,2) -> 0 | J48: 17.7 | K48: 944.51 | L48: =$H$9 -> 0.2081 | M48: =ROUND(H48+H48*L48,2) -> 0 | N48: =J48+K48 -> 962.21 | O48: =ROUND(G48*J48,2) -> 963.94 | P48: =ROUND(G48*K48,2) -> 51438.01 | Q48: =ROUND(G48*M48,2) -> 0 | R48: =Q48/$P$586 -> #DIV/0!
B49: 2.1.12 | C49: 100574 | D49: SINAPI | E49: ESPALHAMENTO DE MATERIAL COM TRATOR DE ESTEIRAS. AF_11/2019 | F49: m³ | G49: 355.64 | I49: =ROUND(G49*H49,2) -> 0 | J49: 0.42 | K49: 1.28 | L49: =$H$9 -> 0.2081 | M49: =ROUND(H49+H49*L49,2) -> 0 | N49: =J49+K49 -> 1.7 | O49: =ROUND(G49*J49,2) -> 149.37 | P49: =ROUND(G49*K49,2) -> 455.22 | Q49: =ROUND(G49*M49,2) -> 0 | R49: =Q49/$P$586 -> #DIV/0!
... B52: 2.1.15 | C52: 000128 | D52: SBC | E52: CONTROLE TECNOLOGICO DE CONCRETOS | F52: m³ | G52: 54.46 | I52: =ROUND(G52*H52,2) -> 0 | J52: 2.97 | K52: 111.15 | L52: =$H$9 -> 0.2081 | M52: =ROUND(H52+H52*L52,2) -> 0 | N52: =J52+K52 -> 114.12 | O52: =ROUND(G52*J52,2) -> 161.75 | P52: =ROUND(G52*K52,2) -> 6053.23 | Q52: =ROUND(G52*M52,2) -> 0 | R52: =Q52/$P$586 -> #DIV/0!
...

Sheet BDI SEM DESONERAÇÃO
B2: BONIFICAÇÕES E DESPESAS INDIRETAS
B8: ='DADOS GERAIS'!B8 -> Secretaria de Atenção Primária à Saúde | D8: BDI Geral: | E8: Encargo Social Mensalista: | F8: ='DADOS GERAIS'!$B$22 -> Data:
B9: ='DADOS GERAIS'!B9 -> Unidade Básica de Saúde Porte 3 - Área Construída: 665,76m² | D9: ='DADOS GERAIS'!C19 -> 0.20812597 | E9: ='ENCARGOS SOCIAIS'!F56 -> 0.6779 | F9: ='DADOS GERAIS'!$C$22 -> 19/03/2025
B11: ='DADOS GERAIS'!B11 -> Bancos: | D11: BDI Equipamentos: | E11: Encargo Social Horista: | F11: ='DADOS GERAIS'!$B$23 -> Revisão:
B12: ='DADOS GERAIS'!B12 -> SINAPI (11/2024) - CPOS/CDHU (01/2025) - SBC (01/2025) - ORSE (10/2024) - IOPES (08/2024) - EMOP (11/2024) - SEINFRA (028) - SETOP (10/2024) | D12: ='DADOS GERAIS'!C20 -> 0.13512301 | E12: ='ENCARGOS SOCIAIS'!E56 -> 1.08904 | F12: ='DADOS GERAIS'!$C$23 -> 01
B15: Fórmula (Bonificações e Despesas Indiretas):
B22: ITEM | C22: DESCRIÇÃO | D22: CÓD | E22: GERAL VALORES PROPOSTOS (%) | F22: EQUIPAMENTOS VALORES PROPOSTOS (%)
B25: 1 | C25: Administração Central | D25: AC | E25: 0.0455 | F25: 0.0345
B26: 2 | C26: Riscos | D26: R | E26: 0.0128 | F26: 0.0085
B27: 3 | C27: Seguros e Garantias | D27: SG | E27: 0.008 | F27: 0.0048
B28: 4 | C28: Despesas Financeiras | D28: DF | E28: 0.0123 | F28: 0.0085
B29: 5 | C29: Lucro | D29: L | E29: 0.0616 | F29: 0.035
B30: 6 | C30: Impostos | D30: I | E30: =SUM(E31:E34) -> 0.0515 | F30: =SUM(F31:F34) -> 0.0365
B31: 6.1 | C31: PIS | E31: 0.0065 | F31: 0.0065
B32: 6.2 | C32: COFINS | E32: 0.03 | F32: 0.03
B33: 6.3 | C33: ISSQN | E33: 0.015 | F33: 0
B34: 6.4 | C34: CPRB | E34: 0 | F34: 0
B36: BDI | E36: =((1+E25+E26+E27)*(1+E28)*(1+E29)/(1-E30))-1 -> 0.20812597 | F36: =((1+F25+F26+F27)*(1+F28)*(1+F29)/(1-F30))-1 -> 0.13512301
B39: FONTE:
B40: 1. | C40: Tribunal de Contas da União - TC 036.076/2011-2 - Acórdão Nº 2622/2013
B41: 2. | C41: ISS conforme a Lei Complementar 116/2003 e a Lei 11.438/1997 da Prefeitura Municipal de São Paulo. A responsabilidade pela adequação do ISS às normas vigentes no município cabe a cada ente competente.
B42: 3. | C42: Quanto ao ISS o TCU orienta observar a Legislação do Município. No referido acórdão o TCU partiu da premissa de incidência do Iss em 50% do Preço de Venda, com percentuais de 2%, 3%, 4% e 5%.
B44: NOTAS:
B45: 1. | C45: Deverão ser obedecidas as legislações trabalhistas e tributária vigentes, inclusive acordos de classes, sob pena de desclassificação da Proposta de Preços;
B46: 2. | C46: É de responsabilidade da proponente a adequação de todas as fórmulas utilizadas na planilha orçamentária.
B48: ________________________________________________________________________________
B52: ='DADOS GERAIS'!C24 -> 0
B53: ='DADOS GERAIS'!C25 -> 0

Sheet ENCARGOS SOCIAIS
B2: COMPOSIÇÃO ANALÍTICA DAS TAXAS DE ENCARGOS SOCIAIS
B8: ='DADOS GERAIS'!B8 -> Secretaria de Atenção Primária à Saúde | D8: BDI Geral: | E8: Encargo Social Mensalista: | F8: ='DADOS GERAIS'!$B$22 -> Data:
B9: ='DADOS GERAIS'!B9 -> Unidade Básica de Saúde Porte 3 - Área Construída: 665,76m² | D9: ='DADOS GERAIS'!C19 -> 0.20812597 | E9: ='ENCARGOS SOCIAIS'!F56 -> 0.6779 | F9: ='DADOS GERAIS'!$C$22 -> 19/03/2025
B11: ='DADOS GERAIS'!B11 -> Bancos: | D11: BDI Equipamentos: | E11: Encargo Social Horista: | F11: ='DADOS GERAIS'!$B$23 -> Revisão:
B12: ='DADOS GERAIS'!B12 -> SINAPI (11/2024) - CPOS/CDHU (01/2025) - SBC (01/2025) - ORSE (10/2024) - IOPES (08/2024) - EMOP (11/2024) - SEINFRA (028) - SETOP (10/2024) | D12: ='DADOS GERAIS'!C20 -> 0.13512301 | E12: ='ENCARGOS SOCIAIS'!E56 -> 1.08904 | F12: ='DADOS GERAIS'!$C$23 -> 01
B15: ENCARGOS SOCIAIS SOBRE A MÃO DE OBRA
B16: CÓDIGO | C16: DESCRIÇÃO | E16: COM DESONERAÇÃO
E17: HORISTA (%) | F17: MENSALISTA (%)
B19: GRUPO A
B20: A1 | C20: INSS | E20: 0.2 | F20: 0.2
B21: A2 | C21: SESI | E21: 0.015 | F21: 0.015
B22: A3 | C22: SENAI | E22: 0.01 | F22: 0.01
B23: A4 | C23: INCRA | E23: 0.002 | F23: 0.002
B24: A5 | C24: SEBRAE | E24: 0.006 | F24: 0.006
B25: A6 | C25: Salário Educação | E25: 0.025 | F25: 0.025
B26: A7 | C26: Seguro Contra Acidentes de Trabalho | E26: 0.03 | F26: 0.03
B27: A8 | C27: FGTS | E27: 0.08 | F27: 0.08
B28: A9 | C28: SECONCI | E28: 0.012 | F28: 0.012
B29: A | C29: Total | E29: =SUBTOTAL(9,E20:E28) -> 0.38 | F29: =SUBTOTAL(9,F20:F28) -> 0.38
B31: GRUPO B
B32: B1 | C32: Repouso Semanal Remunerado | E32: 0.1776 | F32: Não incide
B33: B2 | C33: Feriados | E33: 0.0368 | F33: Não incide
B34: B3 | C34: Auxílio-Enfermidade | E34: 0.0086 | F34: 0.0064
B35: B4 | C35: 13º Salário | E35: 0.1114 | F35: 0.0833
B36: B5 | C36: Licença Paternidade | E36: 0.0006 | F36: 0.0004
B37: B6 | C37: Faltas Justificadas | E37: 0.0074 | F37: 0.0056
B38: B7 | C38: Dias de Chuva | E38: 0.011 | F38: Não incide
B39: B8 | C39: Auxílo Acidente de Trabalho | E39: 0.001 | F39: 0.0008
B40: B9 | C40: Férias Gozadas | E40: 0 | F40: 0
B41: B10 | C41: Salário Maternidade | E41: 0.0004 | F41: 0.0003
B42: B | C42: Total | E42: =SUBTOTAL(9,E32:E41) -> 0.3548 | F42: =SUBTOTAL(9,F32:F41) -> 0.0968
B44: GRUPO C
B45: C1 | C45: Aviso Prévio Indenizado | E45: 0.0601 | F45: 0.045
B46: C2 | C46: Aviso Prévio Trabalhado | E46: 0.0014 | F46: 0.0011
B47: C3 | C47: Férias Indenizadas | E47: 0.1216 | F47: 0.091
B48: C4 | C48: Depósito Recisão sem justa causa | E48: 0.0259 | F48: 0.0194
B49: C5 | C49: Indenização Adicional | E49: 0.0051 | F49: 0.0038
B50: C | C50: Total | E50: =SUBTOTAL(9,E45:E49) -> 0.2141 | F50: =SUBTOTAL(9,F45:F49) -> 0.1603
B52: GRUPO D
B53: D1 | C53: Reincidência de Grupo A sobre Grupo B | E53: =ROUND(E42*E29,4) -> 0.1348 | F53: =ROUND(F42*F29,4) -> 0.0368
...
