Workbook

Sheet MEMORIAL DE CÁLCULO
B1: PREFEITURA MUNICIPAL DE POUSO ALTO CEP: 37468-000
B8: Unidade Federativa: Município de Pouso Alto - MG
B9: Endereço: Rua José Ribeiro Pires, nº 21, Bairro Centro, Pouso Alto -
B10: Memorial de Cálculo
E12: FARMÁCIA
B13: ITEM | C13: FONTE | D13: CÓDIGO | E13: DESCRIÇÃO DOS SERVIÇOS | F13: UN. | G13: QUANT.
B14: 1 | E14: SERVIÇOS PRELIMINARES
B15: 1.3 | C15: SEINFRA | D15: ED-28427 | E15: FORNECIMENTO E COLOCAÇÃO DE PLACA DE OBRA EM CHAPA GALVANIZADA #26, ESP. 0,45MM, DIMENSÃO (3X1,5)M, PLOTADA COM ADESIVO VINÍLICO, AFIXADA COM REBITES 4,8X40MM, EM ESTRUTURA METÁLICA DE METALON 20X20MM, ESP. 1,25MM, INCLUSIVE SUPORTE EM EUCALIPTO AUTOCLAVADO PINTADO COM TINTA PVA DUAS (2) DEMÃOS | F15: un | G15: 1
B16: 1.5 | C16: SINAPI-I | D16: 2707 | E16: ENGENHEIRO CIVIL DE OBRA PLENO (HORISTA) | F16: H | G16: 4*4*3
B17: 5 | E17: DEMOLIÇÃO
B18: 5.1 | C18: SINAPI | D18: 97631 | E18: DEMOLIÇÃO DE ARGAMASSAS, DE FORMA MANUAL, SEM REAPROVEITAMENTO. AF_09/2023 | F18: M2 | G18: (1,3+1,3+1,95+1,95)+(1,95+1,95+1,3+1,3)+(1,6+1,6+1,95+1,95)+(2,1+2,1+4,3+4,3)+(2,1+1,34+1,34+2,24+2,24+2,1)+(1,8+1,8+2,1+2,1)+(4+0,8+0,8+0,5+3,3+1,1+4,4+6,6)+(10,21+7,05+4,7)*1,2
B19: 5.2 | C19: SINAPI | D19: 100480 | E19: ARGAMASSA TRAÇO 1:3 (EM VOLUME DE CIMENTO E AREIA MÉDIA ÚMIDA) COM ADIÇÃO DE IMPERMEABILIZANTE, PREPARO MANUAL. AF_08/2019 - (CHAPISCO) | F19: M3 | G19: ((1,3+1,3+1,95+1,95)+(1,95+1,95+1,3+1,3)+(1,6+1,6+1,95+1,95)+(2,1+2,1+4,3+4,3)+(2,1+1,34+1,34+2,24+2,24+2,1)+(1,8+1,8+2,1+2,1)+(4+0,8+0,8+0,5+3,3+1,1+4,4+6,6)+(10,21+7,05+4,7))*0,04
B20: 5.3 | C20: SINAPI | D20: 98562 | E20: IMPERMEABILIZAÇÃO DE SUPERFÍCIE COM ARGAMASSA DE CIMENTO E AREIA, COM ADITIVO IMPERMEABILIZANTE, E = 1,5CM. AF_09/2023 - (REBOCO) | F20: M2 | G20: ((1,3+1,3+1,95+1,95)+(1,95+1,95+1,3+1,3)+(1,6+1,6+1,95+1,95)+(2,1+2,1+4,3+4,3)+(2,1+1,34+1,34+2,24+2,24+2,1)+(1,8+1,8+2,1+2,1)+(4+0,8+0,8+0,5+3,3+1,1+4,4+6,6)+(10,21+7,05+4,7))*1,2
B21: 5.4 | C21: SEINFRA | D21: ED-48226 | E21: ALVENARIA DE VEDAÇÃO COM TIJOLO MACIÇO REQUEIMADO, ESP. 5CM, PARA REVESTIMENTO, INCLUSIVE ARGAMASSA PARA ASSENTAMENTO - (SUBISTITUIR 2 PAREDE DE DRYWALL) | F21: m2 | G21: (2,1+2,1)*3,2
B22: 6 | E22: COBERTURA DA FARMÁCIA EXISTENTE
B23: 6.1 | C23: SEINFRA | D23: ED-20603 | E23: FORNECIMENTO DE ESTRUTURA METÁLICA E ENGRADAMENTO METÁLICO, EM AÇO, PARA TELHADO, EXCLUSIVE TELHA, INCLUSIVE FABRICAÇÃO, TRANSPORTE, MONTAGEM E APLICAÇÃO DE FUNDO PREPARADOR ANTICORROSIVO EM SUPERFÍCIE METÁLICA, UMA (1) DEMÃO | F23: Kg | G23: (13*3,72)+(5,41*8)+12
B24: 6.2 | C24: COTAÇÃO | E24: CHAPA POLICARBONATO, COMPRIMENTO:5,80 M, LARGURA:2,10 M, ESPESSURA:6 MM, COR:FUMÊ, CARACTERÍSTICAS ADICIONAIS:ALVEOLAR | F24: UN | G24: 3
B25: 7 | E25: PISO
B26: 7.2 | C26: SINAPI | D26: 87620 | E26: CONTRAPISO EM ARGAMASSA TRAÇO 1:4 (CIMENTO E AREIA), PREPARO MECÂNICO COM BETONEIRA 400 L, APLICADO EM ÁREAS SECAS SOBRE LAJE, ADERIDO, ACABAMENTO NÃO REFORÇADO, ESPESSURA 2CM. AF_07/2021 | F26: M2 | G26: 40,6+((10,21+7,05+4,7)*1,2)
B27: 7.3 | C27: SINAPI | D27: 87257 | E27: REVESTIMENTO CERÂMICO PARA PISO COM PLACAS TIPO ESMALTADA DE DIMENSÕES 60X60 CM APLICADA EM AMBIENTES DE ÁREA MAIOR QUE 10 M2. AF_02/2023_PE | F27: M2 | G27: 40,6+((10,21+7,05+4,7)*1,2)
B28: 7.4 | C28: SINAPI | D28: 88650 | E28: RODAPÉ CERÂMICO DE 7CM DE ALTURA COM PLACAS TIPO ESMALTADA DE DIMENSÕES 60X60CM. AF_02/2023 | F28: M | G28: 11,7+10,7+7,5
B29: 9 | E29: ESQUADRIAS
B30: 9.2 | C30: SEINFRA | D30: ED-50997 | E30: PEITORIL DE GRANITO, NA COR CINZA ANDORINHA, COM PINGADEIRA, ESP. 2CM, ACABAMENTO POLIDO, ASSENTAMENTO COM ARGAMASSA INDUSTRIALIZADA, INCLUSIVE REJUNTAMENTO | F30: m2 | G30: ((6*1)+1,5)*0,18
B31: 10 | E31: PINTURA
B32: 10.2 | C32: SINAPI | D32: 88489 | E32: PINTURA LÁTEX ACRÍLICA PREMIUM, APLICAÇÃO MANUAL EM PAREDES, DUAS DEMÃOS. AF_04/2023 | F32: M2 | G32: (((1,3+1,3+1,95+1,95)+(1,95+1,95+1,3+1,3)+(1,6+1,6+1,95+1,95)+(2,1+2,1+4,3+4,3)+(2,1+1,34+1,34+2,24+2,24+2,1)+(1,8+1,8+2,1+2,1)+(4+0,8+0,8+0,5+3,3+1,1+4,4+6,6)*3,2)+((10,21+7,05+4,7)))*1,2
B33: 10.3 | C33: SINAPI | D33: 88488 | E33: PINTURA LÁTEX ACRÍLICA PREMIUM, APLICAÇÃO MANUAL EM TETO, DUAS DEMÃOS. AF_04/2023 | F33: M2 | G33: 2,54+2,54+3,12+9,03+4,95+9,9+2,8+4,7+3,78+18,06
B34: 11 | E34: ENTREGA DA OBRA
B35: 11.1 | C35: SEINFRA | D35: ED-50266 | E35: LIMPEZA FINAL PARA ENTREGA DA OBRA | F35: M2 | G35: 2,54+2,54+3,12+9,03+4,95+9,9+2,8+4,7+3,78+18,06
G39: POUSO ALTO,06 DE ABRIL DE 2026
E40: José Russano Neto
E41: Engenheiro Civil
E42: CREA: 428470MG

Sheet FARMÁCIA
B1: PREFEITURA MUNICIPAL DE POUSO ALTO CEP: 37468-000
B6: Data de preço SEINFRA: JANEIRO/2025 sem desoneração
B7: Data de preço SINAPI: SETEMBRO/2025 sem desoneração
B8: Unidade Federativa: Município de Pouso Alto - MG
B9: Endereço: Rua José Ribeiro Pires, nº 21, Bairro Centro, Pouso Alto -
B10: Planilha Orçamentária | J10: 0.2045
E12: VALOR TOTAL DA OBRA | J12: =J13 -> 41589.221
E13: FARMÁCIA | J13: =J37 -> 41589.221
B14: ITEM | C14: FONTE | D14: CÓDIGO | E14: DESCRIÇÃO DOS SERVIÇOS | F14: UN. | G14: QUANT. | H14: CUSTO SEM BDI(R$) | I14: PREÇO COM BDI (R$) | J14: VALOR TOTAL ITEM (R$)
B15: 1 | E15: SERVIÇOS PRELIMINARES | J15: =SUM(J16:J17) -> 8996.7909
B16: 1.3 | C16: SEINFRA | D16: ED-28427 | E16: FORNECIMENTO E COLOCAÇÃO DE PLACA DE OBRA EM CHAPA GALVANIZADA #26, ESP. 0,45MM, DIMENSÃO (3X1,5)M, PLOTADA COM ADESIVO VINÍLICO, AFIXADA COM REBITES 4,8X40MM, EM ESTRUTURA METÁLICA DE METALON 20X20MM, ESP. 1,25MM, INCLUSIVE SUPORTE EM EUCALIPTO AUTOCLAVADO PINTADO COM TINTA PVA DUAS (2) DEMÃOS | F16: un | G16: 1 | H16: 1156.19 | I16: =H16+(H16*$J$10) -> 1392.6309 | J16: =I16*G16 -> 1392.6309
B17: 1.5 | C17: SINAPI-I | D17: 2707 | E17: ENGENHEIRO CIVIL DE OBRA PLENO (HORISTA) | F17: H | G17: =4*4*3 -> 48 | H17: 131.52 | I17: =H17+(H17*$J$10) -> 158.41584 | J17: 7604.16
B18: 5 | E18: DEMOLIÇÃO | J18: =SUM(J19:J22) -> 14495.19
B19: 5.1 | C19: SINAPI | D19: 97631 | E19: DEMOLIÇÃO DE ARGAMASSAS, DE FORMA MANUAL, SEM REAPROVEITAMENTO. AF_09/2023 | F19: M2 | G19: =(1.3+1.3+1.95+1.95)+(1.95+1.95+1.3+1.3)+(1.6+1.6+1.95+1.95)+(2.1+2.1+4.3+4.3)+(2.1+1.34+1.34+2.24+2.24+2.1)+(1.8+1.8+2.1+2.1)+(4+0.8+0.8+0.5+3.3+1.1+4.4+6.6)+(10.21+7.05+4.7)*1.2 -> 99.912 | H19: 12.35 | I19: =H19+(H19*$J$10) -> 14.875575 | J19: 1486.66
B20: 5.2 | C20: SINAPI | D20: 100480 | E20: ARGAMASSA TRAÇO 1:3 (EM VOLUME DE CIMENTO E AREIA MÉDIA ÚMIDA) COM ADIÇÃO DE IMPERMEABILIZANTE, PREPARO MANUAL. AF_08/2019 - (CHAPISCO) | F20: M3 | G20: =((1.3+1.3+1.95+1.95)+(1.95+1.95+1.3+1.3)+(1.6+1.6+1.95+1.95)+(2.1+2.1+4.3+4.3)+(2.1+1.34+1.34+2.24+2.24+2.1)+(1.8+1.8+2.1+2.1)+(4+0.8+0.8+0.5+3.3+1.1+4.4+6.6)+(10.21+7.05+4.7))*0.04 -> 3.8208 | H20: 872.9 | I20: =H20+(H20*$J$10) -> 1051.4081 | J20: 4016.39
B21: 5.3 | C21: SINAPI | D21: 98562 | E21: IMPERMEABILIZAÇÃO DE SUPERFÍCIE COM ARGAMASSA DE CIMENTO E AREIA, COM ADITIVO IMPERMEABILIZANTE, E = 1,5CM. AF_09/2023 - (REBOCO) | F21: M2 | G21: =((1.3+1.3+1.95+1.95)+(1.95+1.95+1.3+1.3)+(1.6+1.6+1.95+1.95)+(2.1+2.1+4.3+4.3)+(2.1+1.34+1.34+2.24+2.24+2.1)+(1.8+1.8+2.1+2.1)+(4+0.8+0.8+0.5+3.3+1.1+4.4+6.6)+(10.21+7.05+4.7))*1.2 -> 114.624 | H21: 54.26 | I21: =H21+(H21*$J$10) -> 65.35617 | J21: 7491.56
B22: 5.4 | C22: SEINFRA | D22: ED-48226 | E22: ALVENARIA DE VEDAÇÃO COM TIJOLO MACIÇO REQUEIMADO, ESP. 5CM, PARA REVESTIMENTO, INCLUSIVE ARGAMASSA PARA ASSENTAMENTO - (SUBISTITUIR 2 PAREDE DE DRYWALL) | F22: m2 | G22: =(2.1+2.1)*3.2 -> 13.44 | H22: 92.69 | I22: =H22+(H22*$J$10) -> 111.64511 | J22: 1500.58
B23: 6 | E23: COBERTURA DA FARMÁCIA EXISTENTE | J23: =SUM(J24:J25) -> 4838.38
B24: 6.1 | C24: SEINFRA | D24: ED-20603 | E24: FORNECIMENTO DE ESTRUTURA METÁLICA E ENGRADAMENTO METÁLICO, EM AÇO, PARA TELHADO, EXCLUSIVE TELHA, INCLUSIVE FABRICAÇÃO, TRANSPORTE, MONTAGEM E APLICAÇÃO DE FUNDO PREPARADOR ANTICORROSIVO EM SUPERFÍCIE METÁLICA, UMA (1) DEMÃO | F24: Kg | G24: =(13*3.72)+(5.41*8)+12 -> 103.64 | H24: 22.45 | I24: =H24+(H24*$J$10) -> 27.041025 | J24: 2802.43
B25: 6.2 | C25: COTAÇÃO | E25: CHAPA POLICARBONATO, COMPRIMENTO:5,80 M, LARGURA:2,10 M, ESPESSURA:6 MM, COR:FUMÊ, CARACTERÍSTICAS ADICIONAIS:ALVEOLAR | F25: UN | G25: 3 | H25: 563.51 | I25: =H25+(H25*$J$10) -> 678.74779 | J25: 2035.95
B26: 7 | E26: PISO | J26: =SUM(J27:J29) -> 8119.23
B27: 7.2 | C27: SINAPI | D27: 87620 | E27: CONTRAPISO EM ARGAMASSA TRAÇO 1:4 (CIMENTO E AREIA), PREPARO MECÂNICO COM BETONEIRA 400 L, APLICADO EM ÁREAS SECAS SOBRE LAJE, ADERIDO, ACABAMENTO NÃO REFORÇADO, ESPESSURA 2CM. AF_07/2021 | F27: M2 | G27: =40.6+((10.21+7.05+4.7)*1.2) -> 66.952 | H27: 33.54 | I27: =H27+(H27*$J$10) -> 40.39893 | J27: 2704.78
B28: 7.3 | C28: SINAPI | D28: 87257 | E28: REVESTIMENTO CERÂMICO PARA PISO COM PLACAS TIPO ESMALTADA DE DIMENSÕES 60X60 CM APLICADA EM AMBIENTES DE ÁREA MAIOR QUE 10 M2. AF_02/2023_PE | F28: M2 | G28: =40.6+((10.21+7.05+4.7)*1.2) -> 66.952 | H28: 61.85 | I28: =H28+(H28*$J$10) -> 74.498325 | J28: 4987.78
B29: 7.4 | C29: SINAPI | D29: 88650 | E29: RODAPÉ CERÂMICO DE 7CM DE ALTURA COM PLACAS TIPO ESMALTADA DE DIMENSÕES 60X60CM. AF_02/2023 | F29: M | G29: =11.7+10.7+7.5 -> 29.9 | H29: 11.85 | I29: =H29+(H29*$J$10) -> 14.273325 | J29: 426.67
B30: 9 | E30: ESQUADRIAS | J30: =SUM(J31:J31) -> 533.28
B31: 9.2 | C31: SEINFRA | D31: ED-50997 | E31: PEITORIL DE GRANITO, NA COR CINZA ANDORINHA, COM PINGADEIRA, ESP. 2CM, ACABAMENTO POLIDO, ASSENTAMENTO COM ARGAMASSA INDUSTRIALIZADA, INCLUSIVE REJUNTAMENTO | F31: m2 | G31: =((6*1)+1.5)*0.18 -> 1.35 | H31: 327.95 | I31: =H31+(H31*$J$10) -> 395.01577 | J31: 533.28
B32: 10 | E32: PINTURA | J32: =SUM(J33:J34) -> 3990.31
B33: 10.2 | C33: SINAPI | D33: 88489 | E33: PINTURA LÁTEX ACRÍLICA PREMIUM, APLICAÇÃO MANUAL EM PAREDES, DUAS DEMÃOS. AF_04/2023 | F33: M2 | G33: =(((1.3+1.3+1.95+1.95)+(1.95+1.95+1.3+1.3)+(1.6+1.6+1.95+1.95)+(2.1+2.1+4.3+4.3)+(2.1+1.34+1.34+2.24+2.24+2.1)+(1.8+1.8+2.1+2.1)+(4+0.8+0.8+0.5+3.3+1.1+4.4+6.6)*3.2)+((10.21+7.05+4.7)))*1.2 -> 171.384 | H33: 13.55 | I33: =H33+(H33*$J$10) -> 16.320975 | J33: 2796.92
B34: 10.3 | C34: SINAPI | D34: 88488 | E34: PINTURA LÁTEX ACRÍLICA PREMIUM, APLICAÇÃO MANUAL EM TETO, DUAS DEMÃOS. AF_04/2023 | F34: M2 | G34: =2.54+2.54+3.12+9.03+4.95+9.9+2.8+4.7+3.78+18.06 -> 61.42 | H34: 16.13 | I34: =H34+(H34*$J$10) -> 19.428585 | J34: =1193.39 -> 1193.39
B35: 11 | E35: ENTREGA DA OBRA | J35: =SUM(J36:J36) -> 616.04
B36: 11.1 | C36: SEINFRA | D36: ED-50266 | E36: LIMPEZA FINAL PARA ENTREGA DA OBRA | F36: M2 | G36: =2.54+2.54+3.12+9.03+4.95+9.9+2.8+4.7+3.78+18.06 -> 61.42 | H36: 8.33 | I36: =H36+(H36*$J$10) -> 10.033485 | J36: 616.04
H37: Valor TOTAL com BDI FARMÁCIA | J37: =SUM(J15+J30+J35+J32+J26+J23+J18) -> 41589.221
G40: POUSO ALTO,06 DE ABRIL DE 2026
E41: José Russano Neto
E42: Engenheiro Civil
E43: CREA: 428470MG

Sheet cronograma
A1: PREFEITURA MUNICIPAL DE POUSO ALTO CEP: 37468-000
A4: Obra: Ampliação e Reforma da Farmácia e do PSF
A5: Município: POUSO ALTO-MG
A6: Endereço:Rua José Ribeiro Pires, nº 21, Bairro Centro, Pouso Alto -
A8: CRONOGRAMA
A10: ITEM | B10: DESCRIÇÃO DOS SERVIÇOS | C10: VALOR (R$) | D10: % ITEM | E10: 1 | F10: 2 | G10: 3 | H10: 4
A12: 1 | B12: =FARMÁCIA!E15 -> SERVIÇOS PRELIMINARES | C12: =FARMÁCIA!J15 -> 8996.7909 | D12: =C12/$C$27 -> 0.21632506 | E12: 1
E13: =$C12*E12 -> 8996.7909 | F13: =$C12*F12 -> 0 | H13: =$C12*H12 -> 0
A14: 5 | B14: =FARMÁCIA!E18 -> DEMOLIÇÃO | C14: =FARMÁCIA!J18 -> 14495.19 | D14: =C14/$C$27 -> 0.34853238 | F14: 0.25 | G14: 0.75
E15: =$C14*E14 -> 0 | F15: =$C14*F14 -> 3623.7975 | G15: =$C14*G14 -> 10871.392 | H15: =$C14*H14 -> 0
A16: 6 | B16: =FARMÁCIA!E23 -> COBERTURA DA FARMÁCIA EXISTENTE | C16: =FARMÁCIA!J23 -> 4838.38 | D16: =C16/$C$27 -> 0.11633736 | G16: 1
E17: =$C16*E16 -> 0 | F17: =$C16*F16 -> 0 | G17: =$C16*G16 -> 4838.38 | H17: =$C16*H16 -> 0
A18: 7 | B18: =FARMÁCIA!E26 -> PISO | C18: =FARMÁCIA!J26 -> 8119.23 | D18: =C18/$C$27 -> 0.19522438 | G18: 0.75 | H18: 0.25
E19: =$C18*E18 -> 0 | F19: =$C18*F18 -> 0 | G19: =$C18*G18 -> 6089.4225 | H19: =$C18*H18 -> 2029.8075
A20: 9 | B20: =FARMÁCIA!E30 -> ESQUADRIAS | C20: =FARMÁCIA!J30 -> 533.28 | D20: =C20/$C$27 -> 0.012822553 | H20: 1
E21: =$C20*E20 -> 0 | F21: =$C20*F20 -> 0 | G21: =$C20*G20 -> 0 | H21: =$C20*H20 -> 533.28
B22: =FARMÁCIA!E32 -> PINTURA | C22: =FARMÁCIA!J32 -> 3990.31 | D22: =C22/$C$27 -> 0.095945774 | H22: 1
E23: =$C22*E22 -> 0 | F23: =$C22*F22 -> 0 | G23: =$C22*G22 -> 0 | H23: =$C22*H22 -> 3990.31
A24: 10 | B24: =FARMÁCIA!E35 -> ENTREGA DA OBRA | C24: =FARMÁCIA!J35 -> 616.04 | D24: =C24/$C$27 -> 0.014812492 | H24: 1
E25: =$C24*E24 -> 0 | F25: =$C24*F24 -> 0 | G25: =$C24*G24 -> 0 | H25: =$C24*H24 -> 616.04
A27: Valores totais | C27: =SUM(C12:C25) -> 41589.221 | D27: =SUM(D12:D24) -> 1 | E27: =E13 -> 8996.7909 | F27: =F15 -> 3623.7975 | G27: =G17+G15+G19 -> 21799.195 | H27: =H19+H21+H23+H25 -> 7169.4375
E28: =E27/$C$27 -> 0.21632506 | F28: =F27/$C$27 -> 0.087133094 | G28: =G27/$C$27 -> 0.52415493 | H28: =H27/$C$27 -> 0.17238692
E29: =D29+E28 -> 0.21632506 | F29: =E29+F28 -> 0.30345816 | G29: =F29+G28 -> 0.82761308 | H29: =G29+H28 -> 1
E31: POUSO ALTO,06 DE ABRIL DE 2026
A32: JOSÉ RUSSANO NETO
A33: CREA: 428470MG
