Workbook
Name EMPRESAS: OFFSET(#REF!,1,0):OFFSET(#REF!,-1,0)
Name INDICES: OFFSET(#REF!,1,0):OFFSET(#REF!,-1,0)

Sheet Planilha Orçamentária
C1: PREFEITURA MUNICIPAL DE MONTE BELO/MG
C2: PLANILHA ORÇAMENTÁRIA
A3: Obra: | B3: Construção Piscina Coberta Aquecida | D3: Referência: | F3: SINAPI 03/24 e SETOP 01/24 e SUDECAP 01/24 e ORSE 03/24
A4: Local: | B4: Av. Clarinda Tardeli Boneli, Centro | D4: BDI: | F4: 0.2234
A5: Autor: | B5: Matheus Alves Duarte | D5: Data: | F5: 45422
A6: CREA/CAU | B6: 188.265/D
A8: Item | B8: Código | C8: Descriminação do ítem | D8: Unid. | E8: Quant. | F8: Valor Unit. | G8: Valor Unit. c/ BDI | H8: Valor total c/ BDI | I8: 1.2234
A9: 1.0 | C9: ADMINISTRAÇÃO LOCAL
A10: 1.1 | B10: COMP - 01 | C10: ADMINISTRAÇÃO LOCAL | D10: MÊS | E10: 3 | F10: =[1]Composições!G2 -> 3513.2 | G10: =ROUND(F10*$I$8,2) -> 4298.05 | H10: =ROUND(G10*E10,2) -> 12894.15
A11: Sub Total: | H11: =SUM(H10:H10) -> 12894.15
A12: 2.0 | C12: CANTEIRO DE OBRAS
A13: 2.1 | B13: ED-16350 | C13: LOCAÇÃO DE CONTAINER COM ISOLAMENTO TÉRMICO, TIPO 3, PARA DEPÓSITO/FERRAMENTARIA DE OBRA, COM MEDIDAS REFERENCIAIS DE (6) METROS COMPRIMENTO, (2,3) METROS LARGURA E (2,5) METROS ALTURA ÚTIL INTERNA, INCLUSIVE LIGAÇÕES ELÉTRICAS INTERNAS, EXCLUSIVE MOBILIZAÇÃO/DESMOBILIZAÇÃO E LIGAÇÕES PROVISÓRIAS EXTERNAS | D13: mês | E13: 3 | F13: 900.79 | G13: =ROUND(F13*$I$8,2) -> 1102.03 | H13: =ROUND(G13*E13,2) -> 3306.09
A14: 2.2 | B14: ED-50137 | C14: MOBILIZAÇÃO E DESMOBILIZAÇÃO DE CONTAINER, INCLUSIVE CARGA, DESCARGA E TRANSPORTE EM CAMINHÃO CARROCERIA COM GUINDAUTO (MUNCK), EXCLUSIVE LOCAÇÃO DO CONTAINER | D14: un | E14: 1 | F14: 1491.02 | G14: =ROUND(F14*$I$8,2) -> 1824.11 | H14: =ROUND(G14*E14,2) -> 1824.11
A15: 2.3 | B15: ED-50155 | C15: LOCAÇÃO DE BANHEIRO QUÍMICO, DIMENSÃO (110X120X230)CM, LINHA PADRÃO, CONTENDO UMA (1) PIA/HIGIENIZADOR DE MÃOS, INCLUSIVE MANUTENÇÃO E MOBILIZAÇÃO/DESMOBILIZAÇÃO | D15: mês | E15: 3 | F15: 843.01 | G15: =ROUND(F15*$I$8,2) -> 1031.34 | H15: =ROUND(G15*E15,2) -> 3094.02
A16: Sub Total: | H16: =SUM(H13:H15) -> 8224.22
A17: 3.0 | C17: SERVIÇOS PRELIMINARES
A18: 3.1 | B18: ED-16660 | C18: FORNECIMENTO E COLOCAÇÃO DE PLACA DE OBRA EM CHAPA GALVANIZADA #26, ESP. 0,45 MM, PLOTADA COM ADESIVO VINÍLICO, AFIXADA COM REBITES 4,8X40 MM, EM ESTRUTURA METÁLICA DE METALON 20X20 MM, ESP. 1,25 MM, INCLUSIVE SUPORTE EM EUCALIPTO AUTOCLAVADO PINTADO COM TINTA PVA DUAS (2) DEMÃOS | D18: M2 | E18: 4.5 | F18: 308.11 | G18: =ROUND(F18*$I$8,2) -> 376.94 | H18: =ROUND(G18*E18,2) -> 1696.23
A19: 3.2 | B19: ED-17989 | C19: LOCAÇÃO DE OBRA COM GABARITO DE TÁBUAS CORRIDAS PONTALETADAS A CADA 2,00M, REAPROVEITAMENTO (2X), INCLUSIVE ACOMPANHAMENTO DE EQUIPE TOPOGRÁFICA PARA MARCAÇÃO DE PONTO TOPOGRÁFICO (GABARITO) | D19: M | E19: 73.51 | F19: 43.32 | G19: =ROUND(F19*$I$8,2) -> 53 | H19: =ROUND(G19*E19,2) -> 3896.03
A20: 3.3 | B20: 98525 | C20: LIMPEZA MECANIZADA DE CAMADA VEGETAL, VEGETAÇÃO E PEQUENAS ÁRVORES (DIÂMETRO DE TRONCO MENOR QUE 0,20 M), COM TRATOR DE ESTEIRAS.AF_05/2018 | D20: M2 | E20: 245.59 | F20: 0.64 | G20: =ROUND(F20*$I$8,2) -> 0.78 | H20: =ROUND(G20*E20,2) -> 191.56
A21: 3.4 | B21: ED-50150 | C21: LIGAÇÃO DE ÁGUA PROVISÓRIA PARA CANTEIRO, INCLUSIVE HIDRÔMETRO E CAVALETE PARA MEDIÇÃO DE ÁGUA - ENTRADA PRINCIPAL, EM AÇO GALVANIZADO DN 20MM (1/2") - PADRÃO CONCESSIONÁRIA | D21: UN. | E21: 1 | F21: 403.17 | G21: =ROUND(F21*$I$8,2) -> 493.24 | H21: =ROUND(G21*E21,2) -> 493.24
A22: 3.5 | B22: 11.61.09 | C22: PADRAO CEMIG AEREO EM MURETA - LADO OPOSTO À REDE TIPO C3, DEMANDA PROVÁVEL DE 23,1 ATÉ 27,0KW (3F+N) | D22: UN. | E22: 1 | F22: 2662.01 | G22: =ROUND(F22*$I$8,2) -> 3256.7 | H22: =ROUND(G22*E22,2) -> 3256.7
A23: SUB TOTAL DO ITEM | H23: =SUM(H18:H22) -> 9533.76
A25: 4.0 | C25: MOVIMENTAÇÕES DE TERRAS
A26: 4.1 | B26: ED-51100 | C26: CORTE E DESATERRO MECÂNICO PARA REGULARIZAÇÃO, COM TRATOR DE ESTEIRA, INCLUSIVE ARRASTAMENTO NIVELADO, AFASTAMENTO E EMPILHAMENTO, EXCLUSIVE CARGA, TRANSPORTE E DESCARGA | D26: M3 | E26: 108.82 | F26: 3.61 | G26: =ROUND(F26*$I$8,2) -> 4.42 | H26: =ROUND(G26*E26,2) -> 480.98
A27: 4.2 | B27: ED-51107 | C27: ESCAVAÇÃO MANUAL DE VALA COM PROFUNDIDADE MENOR OU IGUAL A 1,5M, INCLUSIVE DESCARGA LATERAL (BLOCO 1 ESTACA) | D27: M3 | E27: 7.64 | F27: 68.05 | G27: =ROUND(F27*$I$8,2) -> 83.25 | H27: =ROUND(G27*E27,2) -> 636.03
A28: 4.3 | B28: ED-51107 | C28: ESCAVAÇÃO MANUAL DE VALA COM PROFUNDIDADE MENOR OU IGUAL A 1,5M, INCLUSIVE DESCARGA LATERAL (BLOCO 2 ESTACAS) | D28: M3 | E28: 1.87 | F28: =F27 -> 68.05 | G28: =ROUND(F28*$I$8,2) -> 83.25 | H28: =ROUND(G28*E28,2) -> 155.68
A29: 4.4 | B29: ED-51107 | C29: ESCAVAÇÃO MANUAL DE VALA COM PROFUNDIDADE MENOR OU IGUAL A 1,5M, INCLUSIVE DESCARGA LATERAL (VIGAS BALDRAMES) | D29: M3 | E29: 5.74 | F29: =F27 -> 68.05 | G29: =ROUND(F29*$I$8,2) -> 83.25 | H29: =ROUND(G29*E29,2) -> 477.86
A30: 4.5 | B30: 101173 | C30: ESTACA BROCA DE CONCRETO, DIÂMETRO DE 20CM, ESCAVAÇÃO MANUAL COM TRADO CONCHA, COM ARMADURA DE ARRANQUE. AF_05/2020 (PROFUNDIDADE 3,00M) | D30: M | E30: 126 | F30: 58.24 | G30: =ROUND(F30*$I$8,2) -> 71.25 | H30: =ROUND(G30*E30,2) -> 8977.5
A31: 4.6 | B31: 101616 | C31: PREPARO DE FUNDO DE VALA COM LARGURA MENOR QUE 1,5 M (ACERTO DO SOLO NATURAL). AF_08/2020 | D31: M2 | E31: 25.05 | F31: 6.07 | G31: =ROUND(F31*$I$8,2) -> 7.43 | H31: =ROUND(G31*E31,2) -> 186.12
A32: 4.7 | B32: 97083 | C32: COMPACTAÇÃO MECÂNICA DE SOLO PARA EXECUÇÃO DE RADIER, PISO DE CONCRETO OU LAJE SOBRE SOLO, COM COMPACTADOR DE SOLOS A PERCUSSÃO. AF_09/2021 | D32: M2 | E32: 49.98 | F32: 3.13 | G32: =ROUND(F32*$I$8,2) -> 3.83 | H32: =ROUND(G32*E32,2) -> 191.42
A33: 4.8 | B33: 96385 | C33: EXECUÇÃO E COMPACTAÇÃO DE ATERRO COM SOLO PREDOMINANTEMENTE ARGILOSO - EXCLUSIVE SOLO, ESCAVAÇÃO, CARGA E TRANSPORTE. AF_11/2019 | D33: M3 | E33: 59.42 | F33: 11.83 | G33: =ROUND(F33*$I$8,2) -> 14.47 | H33: =ROUND(G33*E33,2) -> 859.81
A34: SUB TOTAL DO ITEM | H34: =SUM(H26:H33) -> 11965.4
A36: 5.0 | C36: INFRA ESTRUTURA: BALDRAMES E BLOCOS
A37: 5.1 | B37: ED-49813 | C37: LASTRO DE BRITA 2 OU 3 APILOADO MANUALMENTE (ESPESSURA DE 3cm). | D37: M3 | E37: 2.25 | F37: 231.92 | G37: =ROUND(F37*$I$8,2) -> 283.73 | H37: =ROUND(G37*E37,2) -> 638.39
A38: 5.2 | B38: ED-8471 | C38: FÔRMA E DESFORMA DE TÁBUA E SARRAFO, REAPROVEITAMENTO (5X), EXCLUSIVE ESCORAMENTO | D38: M2 | E38: 4.53 | F38: 45.26 | G38: =ROUND(F38*$I$8,2) -> 55.37 | H38: =ROUND(G38*E38,2) -> 250.83
A39: 5.3 | B39: ED-29550 | C39: CORTE, DOBRA E MONTAGEM DE AÇO CA-50, DIÂMETRO 8MM, INCLUSIVE ESPAÇADOR | D39: KG | E39: 354.1 | F39: 11.65 | G39: =ROUND(F39*$I$8,2) -> 14.25 | H39: =ROUND(G39*E39,2) -> 5045.93
A40: 5.4 | B40: ED-29549 | C40: CORTE, DOBRA E MONTAGEM DE AÇO CA-50, DIÂMETRO 6,3MM, INCLUSIVE ESPAÇADOR | D40: KG | E40: 14.6 | F40: 11.65 | G40: =ROUND(F40*$I$8,2) -> 14.25 | H40: =ROUND(G40*E40,2) -> 208.05
A41: 5.5 | B41: 96543 | C41: ARMAÇÃO DE BLOCO, VIGA BALDRAME E SAPATA UTILIZANDO AÇO CA-60 DE 5 MM- MONTAGEM. AF_06/2017 | D41: KG | E41: 210 | F41: 18.71 | G41: =ROUND(F41*$I$8,2) -> 22.89 | H41: =ROUND(G41*E41,2) -> 4806.9
A42: 5.7 | B42: 96545 | C42: ARMAÇÃO DE BLOCO, VIGA BALDRAME OU SAPATA UTILIZANDO AÇO CA-50 DE 8 MM - MONTAGEM. AF_06/2017 | D42: KG | E42: 8.7 | F42: 14.87 | G42: =ROUND(F42*$I$8,2) -> 18.19 | H42: =ROUND(G42*E42,2) -> 158.25
A43: 5.8 | B43: 96546 | C43: ARMAÇÃO DE BLOCO, VIGA BALDRAME OU SAPATA UTILIZANDO AÇO CA-50 DE 10 MM - MONTAGEM. AF_06/2017 | D43: KG | E43: 471.2 | F43: 12.93 | G43: =ROUND(F43*$I$8,2) -> 15.82 | H43: =ROUND(G43*E43,2) -> 7454.38
...
