Workbook
Name EMPRESAS: OFFSET(#REF!,1,0):OFFSET(#REF!,-1,0)
Name INDICES: OFFSET(#REF!,1,0):OFFSET(#REF!,-1,0)

Sheet Planilha Orçamentária
C1: PREFEITURA MUNICIPAL DE MONTE BELO/MG
C2: PLANILHA ORÇAMENTÁRIA
A3: Obra: | B3: Construção Piscina Coberta Aquecida | D3: Referência: | F3: SINAPI 03/24 e SETOP 01/24 e SUDECAP 01/24 e ORSE 03/24
A4: Local: | B4: Av. Clarinda Tardeli Boneli, Centro | D4: BDI: | F4: 0.2234
A5: Autor: | B5: Matheus Alves Duarte | D5: Data: | F5: 45422
A6: CREA/CAU | B6: 188.265/D
A8: Item | B8: Código | C8: Descriminação do ítem | D8: Unid. | E8: Quant. | F8: Valor Unit. | G8: Valor Unit. c/ BDI | H8: Valor total c/ BDI | I8: 1.2234
A9: 1.0 | C9: ADMINISTRAÇÃO LOCAL
A10: 1.1 | B10: COMP - 01 | C10: ADMINISTRAÇÃO LOCAL | D10: MÊS | E10: 3 | F10: =[1]Composições!G2 -> 3513.2 | G10: =ROUND(F10*$I$8,2) -> 4298.05 | H10: =ROUND(G10*E10,2) -> 12894.15
A11: Sub Total: | H11: =SUM(H10:H10) -> 12894.15
A12: 2.0 | C12: CANTEIRO DE OBRAS
A13: 2.1 | B13: ED-16350 | C13: LOCAÇÃO DE CONTAINER COM ISOLAMENTO TÉRMICO, TIPO 3, PARA DEPÓSITO/FERRAMENTARIA DE OBRA, COM MEDIDAS REFERENCIAIS DE (6) METROS COMPRIMENTO, (2,3) METROS LARGURA E (2,5) METROS ALTURA ÚTIL INTERNA, INCLUSIVE LIGAÇÕES ELÉTRICAS INTERNAS, EXCLUSIVE MOBILIZAÇÃO/DESMOBILIZAÇÃO E LIGAÇÕES PROVISÓRIAS EXTERNAS | D13: mês | E13: 3 | F13: 900.79 | G13: =ROUND(F13*$I$8,2) -> 1102.03 | H13: =ROUND(G13*E13,2) -> 3306.09
A14: 2.2 | B14: ED-50137 | C14: MOBILIZAÇÃO E DESMOBILIZAÇÃO DE CONTAINER, INCLUSIVE CARGA, DESCARGA E TRANSPORTE EM CAMINHÃO CARROCERIA COM GUINDAUTO (MUNCK), EXCLUSIVE LOCAÇÃO DO CONTAINER | D14: un | E14: 1 | F14: 1491.02 | G14: =ROUND(F14*$I$8,2) -> 1824.11 | H14: =ROUND(G14*E14,2) -> 1824.11
A15: 2.3 | B15: ED-50155 | C15: LOCAÇÃO DE BANHEIRO QUÍMICO, DIMENSÃO (110X120X230)CM, LINHA PADRÃO, CONTENDO UMA (1) PIA/HIGIENIZADOR DE MÃOS, INCLUSIVE MANUTENÇÃO E MOBILIZAÇÃO/DESMOBILIZAÇÃO | D15: mês | E15: 3 | F15: 843.01 | G15: =ROUND(F15*$I$8,2) -> 1031.34 | H15: =ROUND(G15*E15,2) -> 3094.02
A16: Sub Total: | H16: =SUM(H13:H15) -> 8224.22
A17: 3.0 | C17: SERVIÇOS PRELIMINARES
A18: 3.1 | B18: ED-16660 | C18: FORNECIMENTO E COLOCAÇÃO DE PLACA DE OBRA EM CHAPA GALVANIZADA #26, ESP. 0,45 MM, PLOTADA COM ADESIVO VINÍLICO, AFIXADA COM REBITES 4,8X40 MM, EM ESTRUTURA METÁLICA DE METALON 20X20 MM, ESP. 1,25 MM, INCLUSIVE SUPORTE EM EUCALIPTO AUTOCLAVADO PINTADO COM TINTA PVA DUAS (2) DEMÃOS | D18: M2 | E18: 4.5 | F18: 308.11 | G18: =ROUND(F18*$I$8,2) -> 376.94 | H18: =ROUND(G18*E18,2) -> 1696.23
A19: 3.2 | B19: ED-17989 | C19: LOCAÇÃO DE OBRA COM GABARITO DE TÁBUAS CORRIDAS PONTALETADAS A CADA 2,00M, REAPROVEITAMENTO (2X), INCLUSIVE ACOMPANHAMENTO DE EQUIPE TOPOGRÁFICA PARA MARCAÇÃO DE PONTO TOPOGRÁFICO (GABARITO) | D19: M | E19: 73.51 | F19: 43.32 | G19: =ROUND(F19*$I$8,2) -> 53 | H19: =ROUND(G19*E19,2) -> 3896.03
A20: 3.3 | B20: 98525 | C20: LIMPEZA MECANIZADA DE CAMADA VEGETAL, VEGETAÇÃO E PEQUENAS ÁRVORES (DIÂMETRO DE TRONCO MENOR QUE 0,20 M), COM TRATOR DE ESTEIRAS.AF_05/2018 | D20: M2 | E20: 245.59 | F20: 0.64 | G20: =ROUND(F20*$I$8,2) -> 0.78 | H20: =ROUND(G20*E20,2) -> 191.56
A21: 3.4 | B21: ED-50150 | C21: LIGAÇÃO DE ÁGUA PROVISÓRIA PARA CANTEIRO, INCLUSIVE HIDRÔMETRO E CAVALETE PARA MEDIÇÃO DE ÁGUA - ENTRADA PRINCIPAL, EM AÇO GALVANIZADO DN 20MM (1/2") - PADRÃO CONCESSIONÁRIA | D21: UN. | E21: 1 | F21: 403.17 | G21: =ROUND(F21*$I$8,2) -> 493.24 | H21: =ROUND(G21*E21,2) -> 493.24
A22: 3.5 | B22: 11.61.09 | C22: PADRAO CEMIG AEREO EM MURETA - LADO OPOSTO À REDE TIPO C3, DEMANDA PROVÁVEL DE 23,1 ATÉ 27,0KW (3F+N) | D22: UN. | E22: 1 | F22: 2662.01 | G22: =ROUND(F22*$I$8,2) -> 3256.7 | H22: =ROUND(G22*E22,2) -> 3256.7
A23: SUB TOTAL DO ITEM | H23: =SUM(H18:H22) -> 9533.76
A25: 4.0 | C25: MOVIMENTAÇÕES DE TERRAS
A26: 4.1 | B26: ED-51100 | C26: CORTE E DESATERRO MECÂNICO PARA REGULARIZAÇÃO, COM TRATOR DE ESTEIRA, INCLUSIVE ARRASTAMENTO NIVELADO, AFASTAMENTO E EMPILHAMENTO, EXCLUSIVE CARGA, TRANSPORTE E DESCARGA | D26: M3 | E26: 108.82 | F26: 3.61 | G26: =ROUND(F26*$I$8,2) -> 4.42 | H26: =ROUND(G26*E26,2) -> 480.98
A27: 4.2 | B27: ED-51107 | C27: ESCAVAÇÃO MANUAL DE VALA COM PROFUNDIDADE MENOR OU IGUAL A 1,5M, INCLUSIVE DESCARGA LATERAL (BLOCO 1 ESTACA) | D27: M3 | E27: 7.64 | F27: 68.05 | G27: =ROUND(F27*$I$8,2) -> 83.25 | H27: =ROUND(G27*E27,2) -> 636.03
A28: 4.3 | B28: ED-51107 | C28: ESCAVAÇÃO MANUAL DE VALA COM PROFUNDIDADE MENOR OU IGUAL A 1,5M, INCLUSIVE DESCARGA LATERAL (BLOCO 2 ESTACAS) | D28: M3 | E28: 1.87 | F28: =F27 -> 68.05 | G28: =ROUND(F28*$I$8,2) -> 83.25 | H28: =ROUND(G28*E28,2) -> 155.68
A29: 4.4 | B29: ED-51107 | C29: ESCAVAÇÃO MANUAL DE VALA COM PROFUNDIDADE MENOR OU IGUAL A 1,5M, INCLUSIVE DESCARGA LATERAL (VIGAS BALDRAMES) | D29: M3 | E29: 5.74 | F29: =F27 -> 68.05 | G29: =ROUND(F29*$I$8,2) -> 83.25 | H29: =ROUND(G29*E29,2) -> 477.86
A30: 4.5 | B30: 101173 | C30: ESTACA BROCA DE CONCRETO, DIÂMETRO DE 20CM, ESCAVAÇÃO MANUAL COM TRADO CONCHA, COM ARMADURA DE ARRANQUE. AF_05/2020 (PROFUNDIDADE 3,00M) | D30: M | E30: 126 | F30: 58.24 | G30: =ROUND(F30*$I$8,2) -> 71.25 | H30: =ROUND(G30*E30,2) -> 8977.5
A31: 4.6 | B31: 101616 | C31: PREPARO DE FUNDO DE VALA COM LARGURA MENOR QUE 1,5 M (ACERTO DO SOLO NATURAL). AF_08/2020 | D31: M2 | E31: 25.05 | F31: 6.07 | G31: =ROUND(F31*$I$8,2) -> 7.43 | H31: =ROUND(G31*E31,2) -> 186.12
A32: 4.7 | B32: 97083 | C32: COMPACTAÇÃO MECÂNICA DE SOLO PARA EXECUÇÃO DE RADIER, PISO DE CONCRETO OU LAJE SOBRE SOLO, COM COMPACTADOR DE SOLOS A PERCUSSÃO. AF_09/2021 | D32: M2 | E32: 49.98 | F32: 3.13 | G32: =ROUND(F32*$I$8,2) -> 3.83 | H32: =ROUND(G32*E32,2) -> 191.42
A33: 4.8 | B33: 96385 | C33: EXECUÇÃO E COMPACTAÇÃO DE ATERRO COM SOLO PREDOMINANTEMENTE ARGILOSO - EXCLUSIVE SOLO, ESCAVAÇÃO, CARGA E TRANSPORTE. AF_11/2019 | D33: M3 | E33: 59.42 | F33: 11.83 | G33: =ROUND(F33*$I$8,2) -> 14.47 | H33: =ROUND(G33*E33,2) -> 859.81
A34: SUB TOTAL DO ITEM | H34: =SUM(H26:H33) -> 11965.4
A36: 5.0 | C36: INFRA ESTRUTURA: BALDRAMES E BLOCOS
A37: 5.1 | B37: ED-49813 | C37: LASTRO DE BRITA 2 OU 3 APILOADO MANUALMENTE (ESPESSURA DE 3cm). | D37: M3 | E37: 2.25 | F37: 231.92 | G37: =ROUND(F37*$I$8,2) -> 283.73 | H37: =ROUND(G37*E37,2) -> 638.39
A38: 5.2 | B38: ED-8471 | C38: FÔRMA E DESFORMA DE TÁBUA E SARRAFO, REAPROVEITAMENTO (5X), EXCLUSIVE ESCORAMENTO | D38: M2 | E38: 4.53 | F38: 45.26 | G38: =ROUND(F38*$I$8,2) -> 55.37 | H38: =ROUND(G38*E38,2) -> 250.83
A39: 5.3 | B39: ED-29550 | C39: CORTE, DOBRA E MONTAGEM DE AÇO CA-50, DIÂMETRO 8MM, INCLUSIVE ESPAÇADOR | D39: KG | E39: 354.1 | F39: 11.65 | G39: =ROUND(F39*$I$8,2) -> 14.25 | H39: =ROUND(G39*E39,2) -> 5045.93
A40: 5.4 | B40: ED-29549 | C40: CORTE, DOBRA E MONTAGEM DE AÇO CA-50, DIÂMETRO 6,3MM, INCLUSIVE ESPAÇADOR | D40: KG | E40: 14.6 | F40: 11.65 | G40: =ROUND(F40*$I$8,2) -> 14.25 | H40: =ROUND(G40*E40,2) -> 208.05
A41: 5.5 | B41: 96543 | C41: ARMAÇÃO DE BLOCO, VIGA BALDRAME E SAPATA UTILIZANDO AÇO CA-60 DE 5 MM- MONTAGEM. AF_06/2017 | D41: KG | E41: 210 | F41: 18.71 | G41: =ROUND(F41*$I$8,2) -> 22.89 | H41: =ROUND(G41*E41,2) -> 4806.9
A42: 5.7 | B42: 96545 | C42: ARMAÇÃO DE BLOCO, VIGA BALDRAME OU SAPATA UTILIZANDO AÇO CA-50 DE 8 MM - MONTAGEM. AF_06/2017 | D42: KG | E42: 8.7 | F42: 14.87 | G42: =ROUND(F42*$I$8,2) -> 18.19 | H42: =ROUND(G42*E42,2) -> 158.25
A43: 5.8 | B43: 96546 | C43: ARMAÇÃO DE BLOCO, VIGA BALDRAME OU SAPATA UTILIZANDO AÇO CA-50 DE 10 MM - MONTAGEM. AF_06/2017 | D43: KG | E43: 471.2 | F43: 12.93 | G43: =ROUND(F43*$I$8,2) -> 15.82 | H43: =ROUND(G43*E43,2) -> 7454.38
A44: 5.9 | B44: ED-49805 | C44: FORNECIMENTO DE CONCRETO ESTRUTURAL, USINADO BOMBEADO, COM FCK 25 MPA, INCLUSIVE LANÇAMENTO, ADENSAMENTO E ACABAMENTO | D44: M3 | E44: 20.29 | F44: 698.16 | G44: =ROUND(F44*$I$8,2) -> 854.13 | H44: =ROUND(G44*E44,2) -> 17330.3
A45: SUB TOTAL DO ITEM | H45: =SUM(H37:H44) -> 35893.03
A47: 6.0 | C47: SUPRAESTRUTURA
A48: 6.1 | B48: ED-8471 | C48: FÔRMA E DESFORMA DE TÁBUA E SARRAFO, REAPROVEITAMENTO (5X), EXCLUSIVE ESCORAMENTO | D48: M2 | E48: 243.19 | F48: =F38 -> 45.26 | G48: =ROUND(F48*$I$8,2) -> 55.37 | H48: =ROUND(G48*E48,2) -> 13465.43
A49: 6.2 | B49: 92759 | C49: ARMAÇÃO DE PILAR OU VIGA DE ESTRUTURA CONVENCIONAL DE CONCRETO ARMADO UTILIZANDO AÇO CA-60 DE 5,0 MM - MONTAGEM. AF_06/2022 | D49: KG | E49: 288 | F49: 13.06 | G49: =ROUND(F49*$I$8,2) -> 15.98 | H49: =ROUND(G49*E49,2) -> 4602.24
A50: 6.3 | B50: 92762 | C50: ARMAÇÃO DE PILAR OU VIGA DE ESTRUTURA CONVENCIONAL DE CONCRETO ARMADO UTILIZANDO AÇO CA-50 DE 10,0 MM - MONTAGEM. AF_06/2022 | D50: KG | E50: 921.2 | F50: 10.06 | G50: =ROUND(F50*$I$8,2) -> 12.31 | H50: =ROUND(G50*E50,2) -> 11339.97
A51: 6.4 | B51: ED-49805 | C51: FORNECIMENTO DE CONCRETO ESTRUTURAL, USINADO BOMBEADO, COM FCK 25 MPA, INCLUSIVE LANÇAMENTO, ADENSAMENTO E ACABAMENTO | D51: M3 | E51: 14.09 | F51: 698.16 | G51: =ROUND(F51*$I$8,2) -> 854.13 | H51: =ROUND(G51*E51,2) -> 12034.69
A52: 6.5 | B52: COMP - 01 | C52: CINTA DE AMARRAÇAO COM BLOCO CANALETA ARMADO AÇO CA 50 - 8MM | D52: M | E52: 158.11 | F52: =[1]Composições!G7 -> 39.559528 | G52: =ROUND(F52*$I$8,2) -> 48.4 | H52: =ROUND(G52*E52,2) -> 7652.52
A53: 6.6 | B53: 06.12.44 | C53: LAJE PRÉ-MOLDADA TRELIÇADA, UNIDIRECIONAL, BI-APOIADA, C/TRELIÇA METÁLICA E ENCHIMENTO EM EPS SOBRECARGA 300KGF/M², TRELIÇA TR08, VÃO ATÉ 4 METROS, INCLUSIVE CAPEAMENTO E=4CM. ESPESSURA TOTAL DA LAJE=12CM | D53: M2 | E53: 13.55 | F53: 177.11 | G53: =ROUND(F53*$I$8,2) -> 216.68 | H53: =ROUND(G53*E53,2) -> 2936.01
A54: 6.7 | B54: 06.12.45 | C54: LAJE PRÉ-MOLDADA TRELIÇADA, UNIDIRECIONAL, BI-APOIADA, C/TRELIÇA METÁLICA E ENCHIMENTO EM EPS SOBRECARGA 300KGF/M², TRELIÇA TR12, VÃO ATÉ 5 METROS, INCLUSIVE CAPEAMENTO E=4CM. ESPESSURA TOTAL DA LAJE=16CM | D54: M2 | E54: 6.23 | F54: 209.22 | G54: =ROUND(F54*$I$8,2) -> 255.96 | H54: =ROUND(G54*E54,2) -> 1594.63
A55: 6.8 | B55: 92800 | C55: CORTE E DOBRA DE AÇO CA-60, DIÂMETRO DE 5,0 MM. AF_06/2022 | D55: KG | E55: 2.4 | F55: 8.9 | G55: =ROUND(F55*$I$8,2) -> 10.89 | H55: =ROUND(G55*E55,2) -> 26.14
A56: 6.9 | B56: 92768 | C56: ARMAÇÃO DE LAJE DE ESTRUTURA CONVENCIONAL DE CONCRETO ARMADO UTILIZANDO AÇO CA-60 DE 5,0 MM - MONTAGEM. AF_06/2022 | D56: KG | E56: 7.1 | F56: 12.54 | G56: =ROUND(F56*$I$8,2) -> 15.34 | H56: =ROUND(G56*E56,2) -> 108.91
A57: 6.10 | B57: 92801 | C57: CORTE E DOBRA DE AÇO CA-50, DIÂMETRO DE 6,3 MM. AF_06/2022 | D57: KG | E57: 9.6 | F57: 8.91 | G57: =ROUND(F57*$I$8,2) -> 10.9 | H57: =ROUND(G57*E57,2) -> 104.64
A58: 6.11 | B58: ED-19637 | C58: CIMBRAMENTO PARA LAJE PRÉ-MOLDADA COM ESCORAMENTO METÁLICO, TIPO "A", ALTURA DE (200 ATÉ 310)CM, INCLUSIVE DESCARGA, MONTAGEM, DESMONTAGEM E CARGA | D58: m2xmês | E58: =E53 -> 13.55 | F58: 21.05 | G58: =ROUND(F58*$I$8,2) -> 25.75 | H58: =ROUND(G58*E58,2) -> 348.91
A59: 6.12 | B59: ED-19638 | C59: CIMBRAMENTO PARA LAJE PRÉ-MOLDADA COM ESCORAMENTO METÁLICO, TIPO "B", ALTURA DE (311 ATÉ 450)CM, INCLUSIVE DESCARGA, MONTAGEM, DESMONTAGEM E CARGA | D59: m2xmês | E59: =E54 -> 6.23 | F59: 21.93 | G59: =ROUND(F59*$I$8,2) -> 26.83 | H59: =ROUND(G59*E59,2) -> 167.15
A60: SUB TOTAL DO ITEM | H60: =SUM(H48:H59) -> 54381.24
A62: 7.0 | C62: VEDAÇÃO
A63: 7.1 | B63: ED-48192 | C63: ALVENARIA DE VEDAÇÃO COM BLOCO DE CONCRETO, ESP. 14CM, PARA REVESTIMENTO, INCLUSIVE ARGAMASSA PARA ASSENTAMENTO | D63: M2 | E63: 34.14 | F63: 71.37 | G63: =ROUND(F63*$I$8,2) -> 87.31 | H63: =ROUND(G63*E63,2) -> 2980.76
A64: 7.2 | B64: ED-48232 | C64: ALVENARIA DE VEDAÇÃO COM TIJOLO CERÂMICO FURADO, ESP. 14CM, PARA REVESTIMENTO, INCLUSIVE ARGAMASSA PARA ASSENTAMENTO | D64: M2 | E64: 335.51 | F64: 67.03 | G64: =ROUND(F64*$I$8,2) -> 82 | H64: =ROUND(G64*E64,2) -> 27511.82
A65: 7.3 | B65: ED-48231 | C65: ALVENARIA DE VEDAÇÃO COM TIJOLO CERÂMICO FURADO, ESP. 9CM, PARA REVESTIMENTO, INCLUSIVE ARGAMASSA PARA ASSENTAMENTO | D65: M2 | E65: 20.16 | F65: 49.43 | G65: =ROUND(F65*$I$8,2) -> 60.47 | H65: =ROUND(G65*E65,2) -> 1219.08
A66: 7.4 | B66: ED-48532 | C66: DIVISÓRIA EM ARDÓSIA, ESP. 3CM, INCLUSIVE INSTALAÇÃO, FERRAGENS EM LATÃO CROMADO E ACESSÓRIOS | D66: M2 | E66: 22.03 | F66: 328.76 | G66: =ROUND(F66*$I$8,2) -> 402.2 | H66: =ROUND(G66*E66,2) -> 8860.47
A67: 7.5 | B67: ED-49686 | C67: FORRO EM CHAPA DE GESSO ACARTONADA, ESP. 12,5MM, COM FIXAÇÃO DO TIPO ESTRUTURADA EM PERFIL METÁLICO, EXCLUSIVE PERFIL TABICA, SANCA E MOLDURA, INCLUSIVE ACESSÓRIOS E FIXAÇÃO | D67: M2 | E67: 70.5 | F67: 62.46 | G67: =ROUND(F67*$I$8,2) -> 76.41 | H67: =ROUND(G67*E67,2) -> 5386.91
A68: 7.6 | B68: ED-28454 | C68: PERFIL TABICA GALVANIZADO, TIPO LISA, COM ACABAMENTO EM PINTURA, NA COR BRANCA, PARA FORRO EM CHAPA DE GESSO ACARTONADO, INCLUSIVE ACESSÓRIOS DE FIXAÇÃO | D68: M | E68: 34.5 | F68: 18.74 | G68: =ROUND(F68*$I$8,2) -> 22.93 | H68: =ROUND(G68*E68,2) -> 791.09
A69: 7.7 | B69: 93183 | C69: VERGA PRÉ-MOLDADA PARA JANELAS COM MAIS DE 1,5 M DE VÃO. AF_03/2016 | D69: M | E69: 31.4 | F69: 73.64 | G69: =ROUND(F69*$I$8,2) -> 90.09 | H69: =ROUND(G69*E69,2) -> 2828.83
A70: 7.8 | B70: 93182 | C70: VERGA PRÉ-MOLDADA PARA JANELAS COM ATÉ 1,5 M DE VÃO. AF_03/2016 | D70: M | E70: 6 | F70: 58.11 | G70: =ROUND(F70*$I$8,2) -> 71.09 | H70: =ROUND(G70*E70,2) -> 426.54
A71: 7.9 | B71: 93194 | C71: CONTRAVERGA PRÉ-MOLDADA PARA VÃOS DE ATÉ 1,5 M DE COMPRIMENTO. AF_03/2016 | D71: M | E71: =E70 -> 6 | F71: 29.02 | G71: =ROUND(F71*$I$8,2) -> 35.5 | H71: =ROUND(G71*E71,2) -> 213
A72: 7.10 | B72: 93195 | C72: CONTRAVERGA PRÉ-MOLDADA PARA VÃOS DE MAIS DE 1,5 M DE COMPRIMENTO. AF_ 03/2016 | D72: M | E72: =E69 -> 31.4 | F72: 70.16 | G72: =ROUND(F72*$I$8,2) -> 85.83 | H72: =ROUND(G72*E72,2) -> 2695.06
A73: 7.11 | B73: 93184 | C73: VERGA PRÉ-MOLDADA PARA PORTAS COM ATÉ 1,5 M DE VÃO. AF_03/2016 | D73: M | E73: 7.3 | F73: 29.89 | G73: =ROUND(F73*$I$8,2) -> 36.57 | H73: =ROUND(G73*E73,2) -> 266.96
A74: 7.12 | B74: 93185 | C74: VERGA PRÉ-MOLDADA PARA PORTAS COM MAIS DE 1,5 M DE VÃO. AF_03/2016 | D74: M | E74: 2.2 | F74: 72.54 | G74: =ROUND(F74*$I$8,2) -> 88.75 | H74: =ROUND(G74*E74,2) -> 195.25
A75: SUB TOTAL DO ITEM | H75: =SUM(H63:H74) -> 53375.77
A77: 8.0 | C77: ESQUADRIAS
A78: 8.1 | B78: 94570 | C78: JANELA DE ALUMÍNIO DE CORRER COM 2 FOLHAS PARA VIDROS, COM VIDROS, BATENTE, ACABAMENTO COM ACETATO OU BRILHANTE E FERRAGENS. EXCLUSIVE ALIZAR E CONTRAMARCO. FORNECIMENTO E INSTALAÇÃO. AF_12/2019 | D78: M2 | E78: 4.44 | F78: 327.47 | G78: =ROUND(F78*$I$8,2) -> 400.63 | H78: =ROUND(G78*E78,2) -> 1778.8
A79: 8.2 | B79: 94573 | C79: JANELA DE ALUMÍNIO DE CORRER COM 4 FOLHAS PARA VIDROS, COM VIDROS, BATENTE, ACABAMENTO COM ACETATO OU BRILHANTE E FERRAGENS. EXCLUSIVE ALIZAR E CONTRAMARCO. FORNECIMENTO E INSTALAÇÃO. AF_12/2019 | D79: M2 | E79: 16.8 | F79: 380.19 | G79: =ROUND(F79*$I$8,2) -> 465.12 | H79: =ROUND(G79*E79,2) -> 7814.02
A80: 8.3 | B80: 94569 | C80: JANELA DE ALUMÍNIO TIPO MAXIM-AR, COM VIDROS, BATENTE E FERRAGENS. EXCLUSIVE ALIZAR, ACABAMENTO E CONTRAMARCO. FORNECIMENTO E INSTALAÇÃO. AF_12/2019 | D80: M2 | E80: 7.56 | F80: 634.72 | G80: =ROUND(F80*$I$8,2) -> 776.52 | H80: =ROUND(G80*E80,2) -> 5870.49
A81: 8.4 | B81: 100702 | C81: PORTA DE CORRER DE ALUMÍNIO, COM DUAS FOLHAS PARA VIDRO, INCLUSO VIDRO LISO INCOLOR, FECHADURA E PUXADOR, SEM ALIZAR. AF_12/2019 (PORTA DE ACESSO A PISCINA) | D81: M2 | E81: 3.36 | F81: 464.84 | G81: =ROUND(F81*$I$8,2) -> 568.69 | H81: =ROUND(G81*E81,2) -> 1910.8
A82: 8.5 | B82: 91341 | C82: PORTA EM ALUMÍNIO DE ABRIR TIPO VENEZIANA COM GUARNIÇÃO, FIXAÇÃO COM PARAFUSOS - FORNECIMENTO E INSTALAÇÃO. AF_12/2019 | D82: M2 | E82: 9.03 | F82: 646.07 | G82: =ROUND(F82*$I$8,2) -> 790.4 | H82: =ROUND(G82*E82,2) -> 7137.31
A83: 8.6 | B83: 90830 | C83: FECHADURA DE EMBUTIR COM CILINDRO, EXTERNA, COMPLETA, ACABAMENTO PADRÃO MÉDIO, INCLUSO EXECUÇÃO DE FURO - FORNECIMENTO E INSTALAÇÃO. AF_12/2019 | D83: UNID. | E83: 5 | F83: 170.66 | G83: =ROUND(F83*$I$8,2) -> 208.79 | H83: =ROUND(G83*E83,2) -> 1043.95
A84: 8.7 | B84: 94589 | C84: CONTRAMARCO DE ALUMÍNIO, FIXAÇÃO COM ARGAMASSA - FORNECIMENTO E INSTALAÇÃO | D84: M | E84: 92.6 | F84: 20.93 | G84: =ROUND(F84*$I$8,2) -> 25.61 | H84: =ROUND(G84*E84,2) -> 2371.49
A85: 8.8 | B85: ED-50977 | C85: PORTA METÁLICA PARA SANITÁRIO EM EM CHAPA GALVANIZADA, ESP. 1,25MM (GSG-18), DIMENSÃO (80X150)CM, TIPO DE ABRIR, UMA (1) FOLHA, INCLUSIVE BATENTE, ESTRUTURA EM METALON (20X30)MM, DOBRADIÇA E TRANQUETA, EXCLUSIVE PINTURA | D85: UNID. | E85: 8 | F85: 431.97 | G85: =ROUND(F85*$I$8,2) -> 528.47 | H85: =ROUND(G85*E85,2) -> 4227.76
A86: 8.9 | B86: ED-50985 | C86: PORTÃO EM PERFIL E CHAPA METÁLICA, EXCLUSIVE CADEADO E PINTURA | D86: M2 | E86: 3.15 | F86: 522.3 | G86: =ROUND(F86*$I$8,2) -> 638.98 | H86: =ROUND(G86*E86,2) -> 2012.79
A87: SUB TOTAL DO ITEM | H87: =SUM(H78:H86) -> 34167.41
A89: 9.0 | C89: COBERTURA
A90: 9.1 | B90: 100378 | C90: FABRICAÇÃO E INSTALAÇÃO DE TESOURA (INTEIRA OU MEIA) EM AÇO, VÃOS MAIORES QUE 6,0 M E MENORES QUE 12,0 M, INCLUSO IÇAMENTO. AF_07/2019 | D90: Kg | E90: 728.15 | F90: 10.57 | G90: =ROUND(F90*$I$8,2) -> 12.93 | H90: =ROUND(G90*E90,2) -> 9414.98
A91: 9.2 | B91: 92580 | C91: TRAMA DE AÇO COMPOSTA POR TERÇAS PARA TELHADOS DE ATÉ 2 ÁGUAS PARA TELHA ONDULADA DE FIBROCIMENTO, METÁLICA, PLÁSTICA OU TERMOACÚSTICA, INCLUSO TRANSPORTE VERTICAL. AF_07/2019 | D91: M2 | E91: 171.86 | F91: 46.52 | G91: =ROUND(F91*$I$8,2) -> 56.91 | H91: =ROUND(G91*E91,2) -> 9780.55
A92: 9.3 | B92: 94213 | C92: TELHAMENTO COM TELHA DE AÇO/ALUMÍNIO E = 0,5 MM, COM ATÉ 2 ÁGUAS, INCLUSO IÇAMENTO | D92: M2 | E92: 171.86 | F92: 54 | G92: =ROUND(F92*$I$8,2) -> 66.06 | H92: =ROUND(G92*E92,2) -> 11353.07
A93: 9.4 | B93: 100384 | C93: FABRICAÇÃO E INSTALAÇÃO DE PONTALETES DE MADEIRA NÃO APARELHADA PARA TELHADOS COM ATÉ 2 ÁGUAS E COM TELHA ONDULADA DE FIBROCIMENTO, ALUMÍNIO OU PLÁSTICA EM EDIFÍCIO INSTITUCIONAL TÉRREO, INCLUSO TRANSPORTE VERTICAL. AF_07/2019 | D93: M2 | E93: 11.08 | F93: 34.64 | G93: =ROUND(F93*$I$8,2) -> 42.38 | H93: =ROUND(G93*E93,2) -> 469.57
A94: 9.5 | B94: 92543 | C94: TRAMA DE MADEIRA COMPOSTA POR TERÇAS PARA TELHADOS DE ATÉ 2 ÁGUAS PARA TELHA ONDULADA DE FIBROCIMENTO, METÁLICA, PLÁSTICA OU TERMOACÚSTICA,INCLUSO TRANSPORTE VERTICAL. AF_07/2019 | D94: M2 | E94: 11.08 | F94: 31.29 | G94: =ROUND(F94*$I$8,2) -> 38.28 | H94: =ROUND(G94*E94,2) -> 424.14
A95: 9.6 | B95: 94210 | C95: TELHAMENTO COM TELHA ONDULADA DE FIBROCIMENTO E = 6 MM, COM RECOBRIMENTO LATERAL DE 1 1/4 DE ONDA PARA TELHADO COM INCLINAÇÃO MÁXIMA DE 10°, COM ATÉ 2 ÁGUAS, INCLUSO IÇAMENTO. AF_07/2019 | D95: M2 | E95: 11.08 | F95: 44.12 | G95: =ROUND(F95*$I$8,2) -> 53.98 | H95: =ROUND(G95*E95,2) -> 598.1
A96: SUB TOTAL DO ITEM | H96: =SUM(H90:H95) -> 32040.41
A98: 10.0 | C98: IMPERMEABILIZAÇÕES
A99: 10.1 | B99: ED-50174 | C99: PINTURA COM EMULSÃO ASFÁLTICA, DUAS (2) DEMÃOS | D99: M2 | E99: 207.83 | F99: 28.12 | G99: =ROUND(F99*$I$8,2) -> 34.4 | H99: =ROUND(G99*E99,2) -> 7149.35
A100: 10.2 | B100: 98562 | C100: IMPERMEABILIZAÇÃO DE SUPERFÍCIE COM ARGAMASSA DE CIMENTO E AREIA, COM ADITIVO IMPERMEABILIZANTE, E = 1,5CM. | D100: M2 | E100: 41.91 | F100: 48.01 | G100: =ROUND(F100*$I$8,2) -> 58.74 | H100: =ROUND(G100*E100,2) -> 2461.79
A101: SUB TOTAL DO ITEM | H101: =SUM(H99:H100) -> 9611.14
A103: 11.0 | C103: REVESTIMENTOS
A104: 11.1 | B104: 87904 | C104: CHAPISCO APLICADO EM ALVENARIA (COM PRESENÇA DE VÃOS) E ESTRUTURAS DE CONCRETO DE FACHADA, COM COLHER DE PEDREIRO. ARGAMASSA TRAÇO 1:3 COM PREPARO MANUAL. AF_10/2022 | D104: M2 | E104: 474.3 | F104: 8.2 | G104: =ROUND(F104*$I$8,2) -> 10.03 | H104: =ROUND(G104*E104,2) -> 4757.23
A105: 11.2 | B105: 87879 | C105: CHAPISCO APLICADO EM ALVENARIAS E ESTRUTURAS DE CONCRETO INTERNAS, COM COLHER DE PEDREIRO. ARGAMASSA TRAÇO 1:3 COM PREPARO EM BETONEIRA 400L. AF_10/2022 | D105: M2 | E105: 465.77 | F105: 4.34 | G105: =ROUND(F105*$I$8,2) -> 5.31 | H105: =ROUND(G105*E105,2) -> 2473.24
A106: 11.3 | B106: ED-50728 | C106: CHAPISCO COM ARGAMASSA, TRAÇO 1:3 (CIMENTO E AREIA), ESP . 5MM, APLICADO EM TETO COM COLHER, INCLUSIVE ARGAMASSA COM PREPARO MECANIZADO | D106: M2 | E106: 19.78 | F106: 12.73 | G106: =ROUND(F106*$I$8,2) -> 15.57 | H106: =ROUND(G106*E106,2) -> 307.97
A107: 11.4 | B107: 87553 | C107: EMBOÇO, PARA RECEBIMENTO DE CERÂMICA, EM ARGAMASSA TRAÇO 1:2:8, PREPARO MECÂNICO COM BETONEIRA 400L, APLICADO MANUALMENTE EM FACES INTERNAS DE PAREDES, PARA AMBIENTE COM ÁREA MAIOR QUE 10M2, ESPESSURA DE 10MM, COM EXECUÇÃO DE TALISCAS. AF_06/2014 | D107: M2 | E107: 121.44 | F107: 21.64 | G107: =ROUND(F107*$I$8,2) -> 26.47 | H107: =ROUND(G107*E107,2) -> 3214.52
A108: 11.5 | B108: 87547 | C108: MASSA ÚNICA, PARA RECEBIMENTO DE PINTURA, EM ARGAMASSA TRAÇO 1:2:8, PREPARO MECÂNICO COM BETONEIRA 400L, APLICADA MANUALMENTE EM FACES INTERNAS DE PAREDES, ESPESSURA DE 10MM, COM EXECUÇÃO DE TALISCAS. AF_06/2014 | D108: M2 | E108: 344.33 | F108: 25.28 | G108: =ROUND(F108*$I$8,2) -> 30.93 | H108: =ROUND(G108*E108,2) -> 10650.13
A109: 11.6 | B109: 87775 | C109: EMBOÇO OU MASSA ÚNICA EM ARGAMASSA TRAÇO 1:2:8, PREPARO MECÂNICO COM BETONEIRA 400 L, APLICADA MANUALMENTE EM PANOS DE FACHADA COM PRESENÇA DE VÃOS, ESPESSURA DE 25 MM. AF_08/2022 | D109: M2 | E109: 194.51 | F109: 52.59 | G109: =ROUND(F109*$I$8,2) -> 64.34 | H109: =ROUND(G109*E109,2) -> 12514.77
...
