Workbook
Name EMPRESAS: OFFSET(#REF!,1,0):OFFSET(#REF!,-1,0)
Name INDICES: OFFSET(#REF!,1,0):OFFSET(#REF!,-1,0)

Sheet Planilha Orçamentária
C1: PREFEITURA MUNICIPAL DE MONTE BELO/MG
C2: PLANILHA ORÇAMENTÁRIA
A3: Obra: | B3: Instalação da Caixa D'água da Santa Cruz de Aparecida | D3: Referência: | F3: SINAPI 01/2026 e SETOP 10/25
A4: Local: | B4: Santa Cruz da Aparecida | D4: BDI: | F4: 0.2346
A5: Autor: | B5: Matheus Alves Duarte | D5: Data: | F5: 46083
A6: CREA/CAU | B6: 188.265/D
A8: Item | B8: Código | C8: Descriminação do ítem | D8: Unid. | E8: Quant. | F8: Valor Unit. | G8: Valor Unit. c/ BDI | H8: Valor total c/ BDI | I8: 1.2346
A9: 1.0 | C9: ADMINISTRAÇÃO LOCAL
A10: 1.1 | B10: COMP - 01 | C10: ADMINISTRAÇÃO LOCAL | D10: MÊS | E10: 1 | F10: =Composições!G2 -> 4531.36 | G10: =ROUND(F10*$I$8,2) -> 5594.42 | H10: =ROUND(G10*E10,2) -> 5594.42
A11: Sub Total: | H11: =SUM(H10:H10) -> 5594.42
A12: 2.0 | C12: SERVIÇOS PRELIMINARES
A13: 2.1 | B13: ED-16660 | C13: FORNECIMENTO E COLOCAÇÃO DE PLACA DE OBRA EM CHAPA GALVANIZADA #26, ESP. 0,45 MM, PLOTADA COM ADESIVO VINÍLICO, AFIXADA COM REBITES 4,8X40 MM, EM ESTRUTURA METÁLICA DE METALON 20X20 MM, ESP. 1,25 MM, INCLUSIVE SUPORTE EM EUCALIPTO AUTOCLAVADO PINTADO COM TINTA PVA DUAS (2) DEMÃOS | D13: M2 | E13: 4.5 | F13: 262.09 | G13: =ROUND(F13*$I$8,2) -> 323.58 | H13: =ROUND(G13*E13,2) -> 1456.11
A14: 2.2 | B14: ED-29817 | C14: MOBILIZAÇÃO E DESMOBILIZAÇÃO DE EQUIPAMENTO PARA ESTACA TIPO TRADO ROTATIVO (CUSTO FIXO), INCLUSIVE CARGA E DESCARGA, EXCLUSIVE TRANSPORTE EM QUILÔMETRO RODADO (CUSTO VARIÁVEL) | D14: un | E14: 1 | F14: 3531.16 | G14: =ROUND(F14*$I$8,2) -> 4359.57 | H14: =ROUND(G14*E14,2) -> 4359.57
A15: 2.3 | B15: ED-29818 | C15: MOBILIZAÇÃO E DESMOBILIZAÇÃO DE EQUIPAMENTO PARA ESTACA TIPO TRADO ROTATIVO (CUSTO VARIÁVEL), EXCLUSIVE CUSTO FIXO DE TRANSPORTE | D15: km | E15: 60 | F15: 20.02 | G15: =ROUND(F15*$I$8,2) -> 24.72 | H15: =ROUND(G15*E15,2) -> 1483.2
A16: SUB TOTAL DO ITEM | H16: =SUM(H13:H15) -> 7298.88
A18: 3.0 | C18: MOVIMENTAÇÕES DE TERRAS
A19: 3.1 | B19: ED-51107 | C19: ESCAVAÇÃO MANUAL DE VALA COM PROFUNDIDADE MENOR OU IGUAL A 1,5M, INCLUSIVE DESCARGA LATERAL (VIGAS BALDRAMES) | D19: M3 | E19: 13.89 | F19: 77.29 | G19: =ROUND(F19*$I$8,2) -> 95.42 | H19: =ROUND(G19*E19,2) -> 1325.38
A20: 3.3 | B20: 101616 | C20: PREPARO DE FUNDO DE VALA COM LARGURA MENOR QUE 1,5 M (ACERTO DO SOLO NATURAL). AF_08/2020 | D20: M2 | E20: 18.09 | F20: 7.38 | G20: =ROUND(F20*$I$8,2) -> 9.11 | H20: =ROUND(G20*E20,2) -> 164.8
A21: SUB TOTAL DO ITEM | H21: =SUM(H19:H20) -> 1490.18
A23: 4.0 | C23: INFRA ESTRUTURA
A24: 4.1 | B24: 96622 | C24: LASTRO COM MATERIAL GRANULAR, APLICADO EM PISOS OU LAJES SOBRE SOLO, ESPESSURA DE *3 CM*. AF_01/2024 | D24: M3 | E24: 0.54 | F24: 268.19 | G24: =ROUND(F24*$I$8,2) -> 331.11 | H24: =ROUND(G24*E24,2) -> 178.8
A25: 4.2 | B25: 95578 | C25: MONTAGEM DE ARMADURA DE ESTACAS, DIÂMETRO = 12,5 MM. AF_09/2021_PS | D25: KG | E25: 182.58 | F25: 8.3 | G25: =ROUND(F25*$I$8,2) -> 10.25 | H25: =ROUND(G25*E25,2) -> 1871.45
A26: 4.3 | B26: 95583 | C26: MONTAGEM DE ARMADURA TRANSVERSAL DE ESTACAS DE SEÇÃO CIRCULAR, DIÂMETRO = 5,0 MM. AF_09/2021_PS | D26: KG | E26: 30.49 | F26: 16.62 | G26: =ROUND(F26*$I$8,2) -> 20.52 | H26: =ROUND(G26*E26,2) -> 625.65
A27: 4.4 | B27: 104920 | C27: ARMAÇÃO DE BLOCO, SAPATA ISOLADA, VIGA BALDRAME E SAPATA CORRIDA UTILIZANDO AÇO CA-50 DE 12,5MM - MONTAGEM. AF_01/2024 | D27: KG | E27: 426.3 | F27: 10.56 | G27: =ROUND(F27*$I$8,2) -> 13.04 | H27: =ROUND(G27*E27,2) -> 5558.95
A28: 4.5 | B28: 96543 | C28: ARMAÇÃO DE BLOCO UTILIZANDO AÇO CA-60 DE 5 MM - MONTAGEM. AF_01/2024 | D28: KG | E28: 19.9 | F28: 21.37 | G28: =ROUND(F28*$I$8,2) -> 26.38 | H28: =ROUND(G28*E28,2) -> 524.96
A29: 4.6 | B29: 104918 | C29: ARMAÇÃO DE SAPATA ISOLADA, VIGA BALDRAME E SAPATA CORRIDA UTILIZANDO AÇO CA-50 DE 8 MM -MONTAGEM. AF_01/2024 | D29: KG | E29: 43.1 | F29: 14.27 | G29: =ROUND(F29*$I$8,2) -> 17.62 | H29: =ROUND(G29*E29,2) -> 759.42
A30: 4.7 | B30: 104916 | C30: ARMAÇÃO DE SAPATA ISOLADA, VIGA BALDRAME E SAPATA CORRIDA UTILIZANDO AÇO CA-60 DE 5 MM -MONTAGEM. AF_01/2024 | D30: KG | E30: 22.6 | F30: 17.52 | G30: =ROUND(F30*$I$8,2) -> 21.63 | H30: =ROUND(G30*E30,2) -> 488.84
A31: 4.8 | B31: 97086 | C31: FABRICAÇÃO, MONTAGEM E DESMONTAGEM DE FORMA PARA RADIER, PISO DE CONCRETO OU LAJE SOBRE SOLO, EM MADEIRA SERRADA, 4 UTILIZAÇÕES. AF_09/2021 | D31: M2 | E31: 10.75 | F31: 158.95 | G31: =ROUND(F31*$I$8,2) -> 196.24 | H31: =ROUND(G31*E31,2) -> 2109.58
A32: 4.9 | B32: COMP-03 | C32: CONCRETAGEM DE BLOCO DE COROAMENTO, RADIER OU VIGA BALDRAME, FCK 25 MPA, COM USO DE BOMBA - LANÇAMENTO, ADENSAMENTO E ACABAMENTO. AF_01/2024 | D32: M3 | E32: 11.88 | F32: 721.23 | G32: =ROUND(F32*$I$8,2) -> 890.43 | H32: =ROUND(G32*E32,2) -> 10578.31
A33: 4.10 | B33: 101173 | C33: ESTACA BROCA DE CONCRETO, DIÂMETRO DE 20CM, ESCAVAÇÃO MANUAL COM TRADO CONCHA, COM ARMADURA DE ARRANQUE. AF_05/2020 | D33: M | E33: 12 | F33: 68.12 | G33: =ROUND(F33*$I$8,2) -> 84.1 | H33: =ROUND(G33*E33,2) -> 1009.2
A34: 4.11 | B34: COMP-02 | C34: ESTACA ESCAVADA MECANICAMENTE, SEM FLUIDO ESTABILIZANTE, COM 50CM DE DIÂMETRO, CONCRETO LANÇADO POR CAMINHÃO BETONEIRA (EXCLUSIVE MOBILIZAÇÃO E DESMOBILIZAÇÃO). AF_01/2020 (PROFUNDIDADE 13M) | D34: M | E34: 78 | F34: 165.58 | G34: =ROUND(F34*$I$8,2) -> 204.43 | H34: =ROUND(G34*E34,2) -> 15945.54
A35: 4.12 | B35: 103673 | C35: LANÇAMENTO COM USO DE BOMBA, ADENSAMENTO E ACABAMENTO DE CONCRETO EM ESTRUTURAS. AF_02/2022 | D35: M3 | E35: 15.31 | F35: 48.55 | G35: =ROUND(F35*$I$8,2) -> 59.94 | H35: =ROUND(G35*E35,2) -> 917.68
A36: SUB TOTAL DO ITEM | H36: =SUM(H24:H35) -> 40568.38
A38: 5.0 | C38: VEDAÇÃO
A39: 5.1 | B39: 98522 | C39: ALAMBRADO EM MOURÕES DE CONCRETO, COM TELA DE ARAME GALVANIZADO (INCLUSIVE MURETA EM CONCRETO). AF_12/2025 | D39: M | E39: 24 | F39: 186.87 | G39: =ROUND(F39*$I$8,2) -> 230.71 | H39: =ROUND(G39*E39,2) -> 5537.04
A40: SUB TOTAL DO ITEM | H40: =SUM(H39:H39) -> 5537.04
A42: 6.0 | C42: ESQUADRIAS
A43: 6.1 | B43: ED-26408 | C43: PORTA PARA ALAMBRADO, COM UMA (1) FOLHA, DIMENSÃO (90X210)CM, EM TELA DE ARAME GALVANIZADO COM TRAMA LOSANGULAR DE 2" (50,8MM) E FIO BWG12 (2,77MM), EXCLUSIVE PINTURA, INCLUSIVE FIXAÇÃO E FORNECIMENTO EM QUADROS DE TUBOS DE AÇO CARBONO GALVANIZADO DIÂMETRO DE 50MM (2"), BATENTE, DOBRADIÇAS E CADEADO COM LARGURA DE 50MM | D43: UN | E43: 1 | F43: 694.55 | G43: =ROUND(F43*$I$8,2) -> 857.49 | H43: =ROUND(G43*E43,2) -> 857.49
A44: SUB TOTAL DO ITEM | H44: =SUM(H43:H43) -> 857.49
A46: 7.0 | C46: RESERVATÓRIO
...

Sheet Composições
A1: FONTE | B1: CÓDIGO | C1: DESCRIÇÃO | D1: UNIDADE | E1: COEFIC. | F1: CUSTO UNIT. | G1: CUSTO TOTAL
A2: SINAPI | B2: COMP - 01 | C2: ADMINISTRAÇÃO LOCAL | D2: MÊS | G2: =SUM(G3:G4) -> 4531.36
A3: SINAPI | B3: 90778 | C3: ENGENHEIRO CIVIL DE OBRA PLENO COM ENCARGOS COMPLEMENTARES | D3: H | E3: 8 | F3: 147.14 | G3: =F3*E3 -> 1177.12
A4: SINAPI | B4: 90780 | C4: MESTRE DE OBRAS COM ENCARGOS COMPLEMENTARES | D4: H | E4: 32 | F4: 104.82 | G4: =F4*E4 -> 3354.24
A6: FONTE | B6: CÓDIGO | C6: DESCRIÇÃO | D6: UNIDADE | E6: COEFIC. | F6: CUSTO UNIT. | G6: CUSTO TOTAL
A7: SINAPI - 100898 | B7: COMP - 02 | C7: ESTACA ESCAVADA MECANICAMENTE, SEM FLUIDO ESTABILIZANTE, COM 50CM DE DIÂMETRO, CONCRETO LANÇADO POR CAMINHÃO BETONEIRA (EXCLUSIVE MOBILIZAÇÃO E DESMOBILIZAÇÃO). AF_01/2020 | D7: M | G7: =SUM(G8:G14) -> 165.5777
A8: SINAPI-I | B8: 100973 | C8: CARGA, MANOBRA E DESCARGA DE SOLOS E MATERIAIS GRANULARES EM CAMINHÃO BASCULANTE 6 M³ - CARGA COM PÁ CARREGADEIRA (CAÇAMBA DE 1,7 A 2,8 M³ / 128 HP) E DESCARGA LIVRE (UNIDADE: M3). AF_07/2020 | D8: M3 | E8: 0.3534 | F8: 9.34 | G8: =F8*E8 -> 3.300756
A9: SINAPI | B9: 97913 | C9: TRANSPORTE COM CAMINHÃO BASCULANTE DE 6 M³, EM VIA URBANA EM REVESTIMENTO PRIMÁRIO (UNIDADE: M3XKM). AF_07/2020 | D9: M3XKM | E9: 0.1178 | F9: 3.42 | G9: =F9*E9 -> 0.402876
A10: SINAPI | B10: 90778 | C10: ENGENHEIRO CIVIL DE OBRA PLENO COM ENCARGOS COMPLEMENTARES | D10: H | E10: 0.0075 | F10: 147.14 | G10: =F10*E10 -> 1.10355
A11: SINAPI | B11: 90681 | C11: PERFURATRIZ HIDRÁULICA SOBRE CAMINHÃO COM TRADO CURTO ACOPLADO, PROFUNDIDADE MÁXIMA DE 20 M, DIÂMETRO MÁXIMO DE 1500 MM, POTÊNCIA INSTALADA DE 137 HP, MESA ROTATIVA COM TORQUE MÁXIMO DE 30 KNM - CHI DIURNO. AF_06/2015 | D11: CHI | E11: 0.0723 | F11: 172.97 | G11: =F11*E11 -> 12.505731
A12: SINAPI | B12: 90680 | C12: PERFURATRIZ HIDRÁULICA SOBRE CAMINHÃO COM TRADO CURTO ACOPLADO, PROFUNDIDADE MÁXIMA DE 20 M, DIÂMETRO MÁXIMO DE 1500 MM, POTÊNCIA INSTALADA DE 137 HP, MESA ROTATIVA COM TORQUE MÁXIMO DE 30 KNM - CHP DIURNO. AF_06/2015 | D12: CHP | E12: 0.0404 | F12: 394.05 | G12: =F12*E12 -> 15.91962
A13: SINAPI | B13: 88316 | C13: SERVENTE COM ENCARGOS COMPLEMENTARES | D13: H | E13: 0.3401 | F13: 24.88 | G13: =F13*E13 -> 8.461688
A14: SINAPI-I | B14: 038406 | C14: CONCRETO USINADO BOMBEAVEL, CLASSE DE RESISTENCIA C30, COM BRITA 0 E 1, SLUMP = 130 +/- 20 MM, EXCLUI SERVICO DE BOMBEAMENTO (NBR 8953) | D14: M3 | E14: 0.21587 | F14: 573.88 | G14: =F14*E14 -> 123.88348
A16: FONTE | B16: CÓDIGO | C16: DESCRIÇÃO | D16: UNIDADE | E16: COEFIC. | F16: CUSTO UNIT. | G16: CUSTO TOTAL
A17: SINAPI - 96557 | B17: COMP - 03 | C17: CONCRETAGEM DE BLOCO DE COROAMENTO OU VIGA BALDRAME, FCK 25 MPA, COM USO DE BOMBA - LANÇAMENTO, ADENSAMENTO E ACABAMENTO. AF_01/2024 | D17: M3 | G17: =SUM(G18:G22) -> 721.23292
A18: SINAPI | B18: 90587 | C18: VIBRADOR DE IMERSÃO, DIÂMETRO DE PONTEIRA 45MM, MOTOR ELÉTRICO TRIFÁSICO POTÊNCIA DE 2 CV - CHI DIURNO. AF_06/2015 | D18: CHI | E18: 0.075 | F18: 0.56 | G18: =F18*E18 -> 0.042
A19: SINAPI | B19: 90586 | C19: VIBRADOR DE IMERSÃO, DIÂMETRO DE PONTEIRA 45MM, MOTOR ELÉTRICO TRIFÁSICO POTÊNCIA DE 2 CV - CHP DIURNO. AF_06/2015 | D19: CHP | E19: 0.092 | F19: 1.48 | G19: =F19*E19 -> 0.13616
A20: SINAPI | B20: 88316 | C20: SERVENTE COM ENCARGOS COMPLEMENTARES | D20: H | E20: 0.501 | F20: 24.88 | G20: =F20*E20 -> 12.46488
A21: SINAPI | B21: 88309 | C21: PEDREIRO COM ENCARGOS COMPLEMENTARES | D21: H | E21: 0.334 | F21: 33.62 | G21: =F21*E21 -> 11.22908
A22: SINAPI-I | B22: 001527 | C22: CONCRETO USINADO BOMBEAVEL, CLASSE DE RESISTENCIA C25, BRITA 0 E 1, SLUMP = 100 +/- 20 MM, COM BOMBEAMENTO (DISPONIBILIZACAO DE BOMBA), SEM O LANCAMENTO (NBR 8953) | D22: M3 | E22: 1.23 | F22: 566.96 | G22: =F22*E22 -> 697.3608
A24: FONTE | B24: CÓDIGO | C24: DESCRIÇÃO | D24: UNIDADE | E24: COEFIC. | F24: CUSTO UNIT. | G24: CUSTO TOTAL
A25: SINAPI - 97096 | B25: COMP - 04 | C25: CONCRETAGEM DE RADIER, PISO DE CONCRETO OU LAJE SOBRE SOLO, FCK 25 MPA - LANÇAMENTO,ADENSAMENTO E ACABAMENTO. AF_09/2021 | D25: M3 | G25: =SUM(G26:G30) -> 625.12698
A26: SINAPI | B26: 90587 | C26: VIBRADOR DE IMERSÃO, DIÂMETRO DE PONTEIRA 45MM, MOTOR ELÉTRICO TRIFÁSICO POTÊNCIA DE 2 CV - CHI DIURNO. AF_06/2015 | D26: CHI | E26: 0.049 | F26: 0.56 | G26: =F26*E26 -> 0.02744
A27: SINAPI | B27: 90586 | C27: VIBRADOR DE IMERSÃO, DIÂMETRO DE PONTEIRA 45MM, MOTOR ELÉTRICO TRIFÁSICO POTÊNCIA DE 2 CV - CHP DIURNO. AF_06/2015 | D27: CHP | E27: 0.053 | F27: 1.48 | G27: =F27*E27 -> 0.07844
A28: SINAPI | B28: 88316 | C28: SERVENTE COM ENCARGOS COMPLEMENTARES | D28: H | E28: 0.411 | F28: 24.88 | G28: =F28*E28 -> 10.22568
A29: SINAPI | B29: 88309 | C29: PEDREIRO COM ENCARGOS COMPLEMENTARES | D29: H | E29: 0.411 | F29: 33.62 | G29: =F29*E29 -> 13.81782
A30: SINAPI-I | B30: 001527 | C30: CONCRETO USINADO BOMBEAVEL, CLASSE DE RESISTENCIA C25, BRITA 0 E 1, SLUMP = 100 +/- 20 MM, COM BOMBEAMENTO (DISPONIBILIZACAO DE BOMBA), SEM O LANCAMENTO (NBR 8953) | D30: M3 | E30: 1.06 | F30: 566.96 | G30: =F30*E30 -> 600.9776
A32: FONTE | B32: CÓDIGO | C32: DESCRIÇÃO | D32: UNIDADE | E32: COEFIC. | F32: CUSTO UNIT. | G32: CUSTO TOTAL
A33: SINAPI - 106430 | B33: COMP - 05 | C33: RESERVATÓRIO METÁLICO, TIPO TAÇA COM COLUNA SECA E CAPACIDADE IGUAL A 40.000 L -INSTALAÇÃO. AF_12/2025 | D33: UN | G33: =SUM(G34:G38) -> 3820.0592
A34: SINAPI | B34: 105985 | C34: GUINDAUTO HIDRÁULICO, CAPACIDADE MÁXIMA DE CARGA 8500 KG, MOMENTO MÁXIMO DE CARGA 30,4 TM, ALCANCE MÁXIMO HORIZONTAL 14,30 M, INCLUSIVE CAMINHÃO TRUCADO PBT 23.000 KG, POTÊNCIA DE 256 CV E CARROCERIA FIXA ABERTA DE MADEIRA - CHI DIURNO. AF_05/2025 | D34: CHI | E34: 7.1058704 | F34: 104.28 | G34: =F34*E34 -> 741.00017
A35: SINAPI | B35: 105984 | C35: GUINDAUTO HIDRÁULICO, CAPACIDADE MÁXIMA DE CARGA 8500 KG, MOMENTO MÁXIMO DE CARGA 30,4 TM, ALCANCE MÁXIMO HORIZONTAL 14,30 M, INCLUSIVE CAMINHÃO TRUCADO PBT 23.000 KG, POTÊNCIA DE 256 CV E CARROCERIA FIXA ABERTA DE MADEIRA - CHP DIURNO. AF_05/2025 | D35: CHP | E35: 6.0938889 | F35: 328.96 | G35: =F35*E35 -> 2004.6457
A36: SINAPI | B36: 94966 | C36: CONCRETO FCK = 30MPA, TRAÇO 1:2,1:2,5 (EM MASSA SECA DE CIMENTO/ AREIA MÉDIA/ BRITA 1) - PREPARO MECÂNICO COM BETONEIRA 400 L. AF_05/2021 | D36: M3 | E36: 0.070592 | F36: 601.43 | G36: =F36*E36 -> 42.456147
A37: SINAPI | B37: 88316 | C37: SERVENTE COM ENCARGOS COMPLEMENTARES | D37: H | E37: 28.285199 | F37: 24.88 | G37: =F37*E37 -> 703.73574
A38: SINAPI-I | B38: 88278 | C38: MONTADOR DE ESTRUTURAS METÁLICAS COM ENCARGOS COMPLEMENTARES | D38: H | E38: 11.314079 | F38: 29.01 | G38: =F38*E38 -> 328.22144
D41: Responsável Técnico: | F41: Matheus Alves Duarte
D42: CREA/CAU: | F42: 188.265/D

Sheet BDI Onerado
A2: PREFEITURA MUNICIPAL DE MONTE BELO - MG
A3: Av. Francisco W. dos Anjos, 453 - Centro
A6: Obra: Reforma de quadra poliesportiva
A7: ART nº.: MG20242881427
A8: COMPOSIÇÃO DO BDI
A9: INTERVALOS CALCULADOS DE ACORDO COM ACÓRDÃO 2622/2013
A11: 1) DESPESAS FINANCEIRAS - ( 0,59 % a 1,39%)
B13: 0.0115
E14: Seguros, administ. Central, administ. Local, taxax, ferramentas, equip. | J14: =1+B17+B22+B30+B34 -> 1.055
A15: 2) RISCOS - ( 0,97% A 1,27%) | E15: Despesas financeiras | I15: 2 | J15: =1+B13 -> 1.0115
E16: Bonificação/lucro | I16: 3 | J16: =1+B26 -> 1.08
B17: 0.012 | E17: COFIS/PIS/ISS/CPMF | I17: 4 | J17: =1-C39-E39-G39-C41 -> 0.9335
A20: 3) TAXA DE ADMINISTRAÇÃO - ESCRITÓRIO CENTRAL - ( 3,00% a 5,50%)
B22: 0.035
A24: 4) BONIFICAÇÃO / LUCRO - ( 6,16% a 8,96%)
B26: 0.08
A28: 5)SEGURO E GARANTIA - ( 0,80% a 1,00%)
B30: 0.008
A32: 6) TAXAS, EMOLUMENTOS, FERRAMENTAS E EQUIPAMENTOS ( 0%)
A33: Obs- este item é mais adequado que seja orçado, incluído nos serviços preliminares
B34: 0
A36: 7) Impostos - tais itens podem variar, mas principalmente o ISS, que pode ser isento,
A37: ou variar até 5%, porem deduzindo-se o valor dos materiais aplicados o que corresponde em torno de 2 a 3 %.
B39: COFINS= | C39: 0.03 | D39: PIS= | E39: 0.0065 | F39: ISS= | G39: 0.03
B41: CPRB= | C41: 0
B46: BDI= | D46: =(J14*J15*J16/J17)-1 -> 0.23460428
F48: Monte Belo, 02 de março de 2026
D53: RT.: Matheus Alves Duarte
D54: Eng. Civ. - CREA: 188265/D-MG

Sheet Cronograma  Físico Financeiro
A1: PREFEITURA MUNICIPAL DE MONTE BELO CNPJ – 18.668.376/0001-34
A4: CRONOGRAMA FÍSICO-FINANCEIRO
A6: PREFEITURA: Prefeitura Municipal de Monte Belo | D6: VALOR TOTAL: | E6: ='Planilha Orçamentária'!H50 -> 66062.64 | I6: DATA: 02/03/2026
A7: OBRA: Instalação da Caixa D'água no Distrito de Santa Cruz da Aparecida | D7: LOCAL: Santa Cruz da Aparecida | I7: PRAZO DA OBRA: 1 mês
A8: ITEM | B8: ETAPAS/DESCRIÇÃO | C8: FÍSICO/ FINANCEIRO | D8: TOTAL ETAPAS | E8: MÊS 1 | F8: MÊS 2 | G8: MÊS 3 | H8: MÊS 4 | I8: MÊS 5 | J8: MÊS 6
A9: 1.0 | B9: ADMINISTRAÇÃO LOCAL | C9: Físico % | D9: =D10/$D$24 -> 0.084683567 | E9: 1 | K9: =SUM(E9:J9) -> 1 | N9: =E9+F9+G9+H9+I9+J9 -> 1
C10: Financeiro | D10: ='Planilha Orçamentária'!H11 -> 5594.42 | E10: =E9*$D10 -> 5594.42 | F10: =F9*$D10 -> 0 | G10: =G9*$D10 -> 0 | H10: =H9*$D10 -> 0 | I10: =I9*$D10 -> 0 | J10: =J9*$D10 -> 0 | K10: =SUM(E10:J10) -> 5594.42
A11: 2.0 | B11: SERVIÇOS PRELIMINARES | C11: Físico % | D11: =D12/$D$24 -> 0.11048423 | E11: 1 | K11: =SUM(E11:J11) -> 1 | N11: =E11+F11+G11+H11+I11+J11 -> 1
C12: Financeiro | D12: ='Planilha Orçamentária'!H16 -> 7298.88 | E12: =E11*$D12 -> 7298.88 | F12: =F11*$D12 -> 0 | G12: =G11*$D12 -> 0 | H12: =H11*$D12 -> 0 | I12: =I11*$D12 -> 0 | J12: =J11*$D12 -> 0 | K12: =SUM(E12:J12) -> 7298.88
A13: 3.0 | B13: MOVIMENTAÇÕES DE TERRAS | C13: Físico % | D13: =D14/$D$24 -> 0.022557076 | E13: 1 | K13: =SUM(E13:J13) -> 1 | N13: =E13+F13+G13+H13+I13+J13 -> 1
C14: Financeiro | D14: ='Planilha Orçamentária'!H21 -> 1490.18 | E14: =E13*$D14 -> 1490.18 | F14: =F13*$D14 -> 0 | G14: =G13*$D14 -> 0 | H14: =H13*$D14 -> 0 | I14: =I13*$D14 -> 0 | J14: =J13*$D14 -> 0 | K14: =SUM(E14:J14) -> 1490.18
A15: 4.0 | B15: INFRAESTRUTURA | C15: Físico % | D15: =D16/$D$24 -> 0.6140896 | E15: 1 | K15: =SUM(E15:J15) -> 1 | N15: =E15+F15+G15+H15+I15+J15 -> 1
C16: Financeiro | D16: ='Planilha Orçamentária'!H36 -> 40568.38 | E16: =E15*$D16 -> 40568.38 | F16: =F15*$D16 -> 0 | G16: =G15*$D16 -> 0 | H16: =H15*$D16 -> 0 | I16: =I15*$D16 -> 0 | J16: =J15*$D16 -> 0 | K16: =SUM(E16:J16) -> 40568.38
A17: 5.0 | B17: VEDAÇÃO | C17: Físico % | D17: =D18/$D$24 -> 0.083814997 | E17: 1 | K17: =SUM(E17:J17) -> 1 | N17: =E17+F17+G17+H17+I17+J17 -> 1
C18: Financeiro | D18: ='Planilha Orçamentária'!H40 -> 5537.04 | E18: =E17*$D18 -> 5537.04 | F18: =F17*$D18 -> 0 | G18: =G17*$D18 -> 0 | H18: =H17*$D18 -> 0 | I18: =I17*$D18 -> 0 | J18: =J17*$D18 -> 0 | K18: =SUM(E18:J18) -> 5537.04
A19: 6.0 | B19: ESQUADRIAS | C19: Físico % | D19: =D20/$D$24 -> 0.012979954 | E19: 1 | K19: =SUM(E19:J19) -> 1 | N19: =E19+F19+G19+H19+I19+J19 -> 1
C20: Financeiro | D20: ='Planilha Orçamentária'!H44 -> 857.49 | E20: =E19*$D20 -> 857.49 | F20: =F19*$D20 -> 0 | G20: =G19*$D20 -> 0 | H20: =H19*$D20 -> 0 | I20: =I19*$D20 -> 0 | J20: =J19*$D20 -> 0 | K20: =SUM(E20:J20) -> 857.49
A21: 7.0 | B21: RESERVATÓRIO | C21: Físico % | D21: =D22/$D$24 -> 0.071390577 | E21: 1 | K21: =SUM(E21:J21) -> 1 | N21: =E21+F21+G21+H21+I21+J21 -> 1
C22: Financeiro | D22: ='Planilha Orçamentária'!H48 -> 4716.25 | E22: =E21*$D22 -> 4716.25 | F22: =F21*$D22 -> 0 | G22: =G21*$D22 -> 0 | H22: =H21*$D22 -> 0 | I22: =I21*$D22 -> 0 | J22: =J21*$D22 -> 0 | K22: =SUM(E22:J22) -> 4716.25
A23: TOTAL : | C23: Físico % | D23: =D9+D11+D13+D15+D17+D19+D21 -> 1 | E23: =E24/$D$24 -> 1 | F23: =F24/$D$24 -> 0 | G23: =G24/$D$24 -> 0 | H23: =H24/$D$24 -> 0 | I23: =I24/$D$24 -> 0 | J23: =J24/$D$24 -> 0 | K23: =SUM(E23:J23) -> 1
C24: Financeiro | D24: =D10+D12+D14+D16+D18+D20+D22 -> 66062.64 | E24: =E10+E12+E14+E16+E18+E20+E22 -> 66062.64 | F24: =F10+F12+F14+F16+F18+F20+F22 -> 0 | G24: =G10+G12+G14+G16+G18+G20+G22 -> 0 | H24: =H10+H12+H14+H16+H18+H20+H22 -> 0 | I24: =I10+I12+I14+I16+I18+I20+I22 -> 0 | J24: =J10+J12+J14+J16+J18+J20+J22 -> 0
A25: TOTAL ACUMULADO: | C25: Físico % | D25: =D23 -> 1 | E25: =E26/$D$24 -> 1 | K25: =SUM(D25:J25) -> 2
C26: Financeiro | D26: =D24 -> 66062.64 | E26: =E24 -> 66062.64 | K26: =SUM(D26:J26) -> 132125.28
E33: 188.265/D | H33: Observações:
B34: Responsável Técnico | E34: CREA ou CAU
