Workbook

Sheet BDI
A1: COMPOSIÇÃO DO BDI
A2: COMPOSIÇÃO DO BDI (Acórdão TCU nº 2622/2013) - Construção de Edifícios | I2: Limites
A3: OBRA: | B3: REFORMA E AMPLIAÇÃO DO CENTRO DE CONVIVÊNCIA E FORTALECIMENTO DE VÍNCULOS DE NOVA RESENDE/MG
A4: Contrato: | D4: RT de Orç.: | E4: ATHUS HENRIQUE DE PAULA | G4: ART/RRT: | I4: (sem desoneração)
D5: Item Componente do BDI | I5: 1 Quartil | J5: médio | K5: 3 Quartil
A6: Despesas Indiretas e Lucro | G6: % | I6: % | K6: %
A7: 1 | D7: Garantia + seguro | G7: 0.8 | I7: 0.8 | J7: 0.8 | K7: 1
A8: 2 | D8: Risco | G8: 0.97 | I8: 0.97 | J8: 1.27 | K8: 1.27
A9: 3 | D9: Administração Central | G9: 4 | I9: 3 | J9: 4 | K9: 5.5
A11: Subtotal I = 1+(( 1+2+3)/100) | G11: =(1+(G7+G8+G9)/100) -> 1.0577
A12: 4 | D12: Despesas Financeiras | G12: 1.15 | I12: 0.59 | J12: 1.23 | K12: 1.39
A13: Subtotal II = 1+( 4/100) | G13: =1+((G12)/100) -> 1.0115
A14: 5 | D14: Lucro | G14: 6.13 | I14: 6.16 | J14: 7.4 | K14: 8.96
A15: Subtotal III = 1+( 5/100) | G15: =1+(G14/100) -> 1.0613
A16: Tributos Federais
A17: 6 | D17: COFINS | G17: 3 | I17: 3 | J17: 3 | K17: 3
A18: 7 | D18: Pis/PASEP | G18: 0.65 | I18: 0.65 | J18: 0.65 | K18: 0.65
A19: 8 | D19: IRPJ | I19: Não incidente
A20: 9 | D20: CSLL | I20: Não incidente
A21: Tributo Municipal
A22: 10 | D22: ISS | G22: 2 | I22: Conforme legislação: de 2% a 5%
A23: Subtotal IV = (6+7+8+9+10)/100 | G23: =(G17+G18+G22)/100 -> 0.0565
A25: TOTAL DO BDI SEM A ALIQUOTA DO INSS | G25: =TRUNC((((G11*G13*G15)/(1-G23))-1)*100,2) -> 20.34 | I25: 20.34 | J25: 22.12 | K25: 25
A26: =IF(AND(G25>=I25,G25<=K25)," ","ATENÇÃO: Verificar limites dos itens componentes do BDI")
A27: FÓRMULA | H27: Preencher as células das cores:
A28: BDI = (1+AC+S+R+G) (1+DF) (1+L) - 1
A29: (1- I )
A30: Onde: AC: taxa de administração central; S: taxa de seguros; R: taxa de riscos; G: taxa de garantias; DF: taxa de despesas financeiras; L: taxa de lucro/remuneração; I: taxa de incidência de impostos (PIS, COFINS, ISS). | G30: OBS: 1. A tabela acima foi elaborada sem considerar a desoneração sobre a folha de pagamento prevista na Lei n° 12.844/2013. Para análise de orçamentos considerando a contribuição previdenciária sobre a receita bruta deverá ser somada a alíquota de 2% no item impostos. 2. O Tomador apresentará declaração informativa, conforme legislação tributária municipal, a base de cálculo e, sobre esta, a respectiva alíquota do ISS, que será um percentual entre 2% e 5%.
A32: Tributo Federal
A33: Contribuição previdenciária sobre a receita bruta: alíquota de 4.5% no item impostos | G33: 4.5
D36: TOTAL DO ÍNDICE DO BDI ADOTADO | J36: =IF(AND(G25>=I25,G25<=K25),(((G11*G13*G15)/(1-(G23+G33/100)))-1)," ") -> 0.26371306 | K36: =(((K22*K24*K25)/(1-K31))-1)*100 -> -100
G39: Nova Resende, 22 de dezembro de 2023.
C43: ATHUS HENRIQUE DE PAULA
C44: CREA: 213.554/D
A46: OBS: Para enquadramento em cada tipo de obra deve-se observar a preponderância dos serviços correlatos no orçamento do empreendimento, ou então, quando for viável tecnicamente, o desmembramento do orçamento em quantos forem os tipos de obra.
A49: Para o tipo de obra "Construção de Edifícios" enquadram-se: a construção e reforma de: edifícios, unidades habitacionais, escolas, hospitais, hotéis, restaurantes, armazéns e depósitos, edifícios para uso agropecuário, estações para trens e metropolitanos, estádios esportivos e quadras cobertas, instalações para embarque e desembarque de passageiros (em aeroportos, rodoviárias, portos, etc.), penitenciárias e presídios, a construção de edifícios industriais (fábricas, oficinas, galpões industriais, etc.), conforme classificação 4120-4 do CNAE 2.0. Também enquadram-se pórticos, mirantes e outros edifícios de finalidade turística.

Sheet BDI_
A1: Planilha de Detalhamento do BDI
A3: Tomador | F3: PREFEITURA MUNICIPAL DE MUZAMBINHO
A4: Nº do Contrato de Repasse | F4: Não se aplica
A5: Nome da Obra | F5: EXECUÇÃO DE SISTEMA DE PROTEÇÃO CONTRA DESCARGAS ATMOSFÉRICAS (SPDA) NO PRÓINFÂNCIA DO BAIRRO JARDIM DOS IMIGRANTES
A6: Município da Obra | F6: MUZAMBINHO-MG
A7: Tipo de Obra | F7: REFORMA
A8: Local da obra | F8: RUA ANTÔNIO MAGALHÃES DE OLIVEIRA, Nº 75, BAIRRO JARDIM DOS IMIGRANTES, MUZAMBINHO MG, CEP: 37890-000
A9: Conforme legislação tributária municipal, definir estimativa de percentual da base de cálculo para o ISS: | P9: 0.5
A10: Sobre a base de cálculo, definir a respectiva alíquota do ISS (entre 2% e 5%): | P10: 0.02
A11: Parcelas do BDI | F11: Valor percentual adotado | I11: Limites das parcelas do BDI para obras do tipo acima selecionado. Acórdão TCU 2622/2013
I12: Mín | L12: Med. | O12: Máx.
A13: (AC) - Administração Central | F13: 4 | I13: 3 | L13: 4 | O13: 5.5
A14: (S) + (G) - Seguro e Garantia | F14: 0.8 | I14: 0.8 | L14: 0.8 | O14: 1
A15: (R) - Risco | F15: 0.97 | I15: 0.97 | L15: 1.27 | O15: 1.27
A16: (DF) - Despesas Financeiras | F16: 1.15 | I16: 0.59 | L16: 1.23 | O16: 1.39
A17: (L) - Lucro | F17: 6.13 | I17: 6.16 | L17: 7.4 | O17: 8.96
A18: (I1) - PIS | F18: 0.65 | I18: 0.65 | L18: 0.65 | O18: 0.65
A19: (I2) - COFINS | F19: 3 | I19: 3 | L19: 3 | O19: 3
A20: (I3) - ISS | F20: 2 | I20: 2 | L20: 2 | O20: 5
A21: (I4) - Contrib. Previdenciária | F21: 4.5
A22: BDI Adotado | F22: =(((1+(F13/100+F14/100+F15/100))*(1+F16/100)*(1+F17/100))/(1-F18/100-F19/100-F20/100-F21/100))-1 -> 0.26371306
N26: Muzambinho/MG, 30 de abril de 2026.
B31: ATHUS HENRIQUE DE PAULA | J31: MARCO AURELIO ALVES TEIXEIRA
B32: ENGENHEIRO CIVIL - CREA MG 213554/D | J32: ARQUITETO E URBANISTA - CAU A9104-9
B33: DEPARTAMENTO DE OBRAS E SERVIÇOS PÚBLICOS | J33: DIRETOR DO DEPARTAMENTO DE OBRAS E SERVIÇOS PÚBLICOS

Sheet COTAÇÕES
A7: COTAÇÕES
A9: ='PLANILHA ORÇAMENTÁRIA'!A9:I9 -> PREFEITURA: PREFEITURA MUNICIPAL DE MUZAMBINHO
A10: ='PLANILHA ORÇAMENTÁRIA'!A10:F10 -> OBRA: EXECUÇÃO DE SISTEMA DE PROTEÇÃO CONTRA DESCARGAS ATMOSFÉRICAS (SPDA) NO PRÓINFÂNCIA DO BAIRRO JARDIM DOS IMIGRANTES | G10: DATA: | H10: ='PLANILHA ORÇAMENTÁRIA'!H10:I10 -> 46142
A11: ='PLANILHA ORÇAMENTÁRIA'!A11:F11 -> LOCAL: RUA ANTÔNIO MAGALHÃES DE OLIVEIRA, Nº 75, BAIRRO JARDIM DOS IMIGRANTES | G11: FORMA DE EXECUÇÃO: Desonerado
A12: ='PLANILHA ORÇAMENTÁRIA'!A12:F12 -> REGIÃO/MÊS DE REFERÊNCIA: SICOR 01/2026; SINAPI 03/2026, ORSE 02/2026 | G12: ( ) DIRETA | I12: ( x ) INDIRETA
A13: PRAZO DE EXECUÇÃO: 03 Meses | G13: BDI: | H13: =BDI!J36 -> 0.26371306
A14: PALITO IGNITOR (20 UNIDADES) PARA EXOSOLDA
A15: COT-01 | B15: FONTE | F15: PREÇO UNIT. | H15: UNIDADE | I15: MÉDIA
B16: ZLUX | F16: 30 | H16: UNIDADE | I16: =SUM(E16:H18)/3 -> 25.12
B17: MAGAZINE LUÍZA | F17: 28.27
B18: ELÉTRICA SERPAL | F18: 17.09
A20: SUPORTE FIXADOR COLÁVEL "ADERIBASE" EM ALUMÍNIO COM TELA INOX, AFASTAMENTO DE 40 MM, PARAFUSO Ø 1/4” - TEL 757
A21: COT-02 | B21: FONTE | F21: PREÇO UNIT. | H21: UNIDADE | I21: MÉDIA
B22: ZION COMERCIAL | F22: 30.88 | H22: UNIDADE | I22: =SUM(E22:H24)/3 -> 26.503333
B23: MERCADO LIVRE | F23: 25.6
B24: ELÉTRICA SERPAL | F24: 23.03
G26: Muzambinho/MG, 30 de abril de 2026.
A32: ='PLANILHA ORÇAMENTÁRIA'!D88 -> ATHUS HENRIQUE DE PAULA | F32: ='PLANILHA ORÇAMENTÁRIA'!F88:I88 -> MARCO AURELIO ALVES TEIXEIRA
A33: ='PLANILHA ORÇAMENTÁRIA'!D89 -> ENGENHEIRO CIVIL - CREA MG 213554/D | F33: ='PLANILHA ORÇAMENTÁRIA'!F89:I89 -> ARQUITETO E URBANISTA - CAU A9104-9
A34: ='PLANILHA ORÇAMENTÁRIA'!D90 -> DEPARTAMENTO DE OBRAS E SERVIÇOS PÚBLICOS | F34: ='PLANILHA ORÇAMENTÁRIA'!F90:I90 -> DIRETOR DO DEPARTAMENTO DE OBRAS E SERVIÇOS PÚBLICOS

Sheet COMPOSIÇÃO
A7: COMPOSIÇÕES
A9: ='PLANILHA ORÇAMENTÁRIA'!A9:I9 -> PREFEITURA: PREFEITURA MUNICIPAL DE MUZAMBINHO
A10: ='PLANILHA ORÇAMENTÁRIA'!A10:F10 -> OBRA: EXECUÇÃO DE SISTEMA DE PROTEÇÃO CONTRA DESCARGAS ATMOSFÉRICAS (SPDA) NO PRÓINFÂNCIA DO BAIRRO JARDIM DOS IMIGRANTES | G10: DATA: | H10: ='PLANILHA ORÇAMENTÁRIA'!H10:I10 -> 46142
A11: ='PLANILHA ORÇAMENTÁRIA'!A11:F11 -> LOCAL: RUA ANTÔNIO MAGALHÃES DE OLIVEIRA, Nº 75, BAIRRO JARDIM DOS IMIGRANTES | G11: FORMA DE EXECUÇÃO: Desonerado
A12: ='PLANILHA ORÇAMENTÁRIA'!A12:F12 -> REGIÃO/MÊS DE REFERÊNCIA: SICOR 01/2026; SINAPI 03/2026, ORSE 02/2026 | G12: ( ) DIRETA | I12: ( x ) INDIRETA
A13: PRAZO DE EXECUÇÃO: 03 Meses | G13: BDI: | H13: =BDI!J36 -> 0.26371306
A15: FONTE | B15: CÓDIGO | C15: DESCRIÇÃO | F15: UNIDADE | G15: COEFIC. | H15: DESONER. | I15: Total
A16: COMPOSIÇÃO | B16: COMP01 | C16: SERVIÇOS DE EVENTUAIS COMPACTIBILIZAÇÕES E ADQUAÇÕES DAS INSTALAÇÕES DE SPDA COM DEMAIS INSTALAÇÕES EXISTENTES - MÃO-DE-OBRA E MATERIAIS. | F16: UN. | I16: =SUM(I17:I18) -> 1172.8
A17: SINAPI | B17: 88264 | C17: ELETRICISTA COM ENCARGOS COMPLEMENTARES | F17: H | G17: 20 | H17: 32.13 | I17: =ROUND(G17*H17,2) -> 642.6
A18: SINAPI | B18: 88247 | C18: AUXILIAR DE ELETRICISTA COM ENCARGOS COMPLEMENTARES | F18: H | G18: 20 | H18: 26.51 | I18: =ROUND(G18*H18,2) -> 530.2
A20: FONTE | B20: CÓDIGO | C20: DESCRIÇÃO | F20: UNIDADE | G20: COEFIC. | H20: DESONER. | I20: Total
A21: COMPOSIÇÃO | B21: COMP02 | C21: CABO DE COBRE NU #35MM2 - 7 FIOSX2,50MM, PARA ELEMENTOS DE CAPTAÇÃO/ ANEL DE CINTAMENTO/ DESCIDA (SPDA), INCLUSIVE SUPORTE, ISOLADOR E VEDAÇÃO COM POLIURETANO - REF.: ED-13940 E ED-28551 | F21: UN. | I21: =SUM(I22:I29) -> 51.72
A22: SICOR | B22: ED-50362 | C22: AJUDANTE DE ELETRICISTA COM ENCARGOS COMPLEMENTARES | F22: H | G22: 0.1666667 | H22: 26.51 | I22: =ROUND(G22*H22,2) -> 4.42
A23: SICOR | B23: ED-50373 | C23: ELETRICISTA COM ENCARGOS COMPLEMENTARES | F23: H | G23: 0.1666667 | H23: 32.14 | I23: =ROUND(G23*H23,2) -> 5.36
A24: SICOR | B24: MATED-12116 | C24: PRESILHA PARA CABO DE COBRE (MATERIAL: LATÃO|SEÇÃO TRANSVERSAL: 35-50MM2| APLICAÇÃO: INSTALAÇÃO ELÉTRICA E SISTEMA DE PROTEÇÃO CONTRA DESCARGA ATMOSFÉRICA) | F24: UN. | G24: 0.6666667 | H24: 1.73 | I24: =ROUND(G24*H24,2) -> 1.15
A25: SICOR | B25: MATED-12015 | C25: CONECTOR FENDIDO DE PRESSÃO "SPLITBOLT" (ACABAMENTO: LATÃO|SEÇÃO DO CABO: 2,5- 35MM2) | F25: UN. | G25: 0.2 | H25: 12.84 | I25: =ROUND(G25*H25,2) -> 2.57
A26: SICOR | B26: MATED-12615 | C26: CABO DE COBRE NU (SEÇÃO TRANSVERSAL: 35MM2|NÚMEROS DE FIOS: 7|DIÂMETRO DOS FIOS: 2,50MM|CLASSE: 2A) | F26: M | G26: 1.03 | H26: 35.55 | I26: =ROUND(G26*H26,2) -> 36.62
A27: SICOR | B27: MATED-34309 | C27: BUCHA DE NYLON (DIÂMETRO NOMINAL: 6MM|COMPRIMENTO DA BUCHA: 30MM|DIÂMETRO DO PARAFUSO: 3,5-4,8MM) | F27: UN. | G27: 0.6666667 | H27: 0.13 | I27: =ROUND(G27*H27,2) -> 0.09
A28: SICOR | B28: MATED- 4383 | C28: PARAFUSO (ROSCA: AUTOATARRAXANTE|CABEÇA: PANELA FENDA|COMPRIMENTO: 38MM| DIÂMETRO: 4,2MM) | F28: UN. | G28: 0.6666667 | H28: 0.28 | I28: =ROUND(G28*H28,2) -> 0.19
A29: SICOR | B29: MATED-8151 | C29: ADESIVO/SELANTE ELÁSTICO MONOCOMPONENTE (APLICAÇÃO: USO GERAL|BASE: POLIURETANO|EMBALAGEM: 310ML|DENSIDADE*: 1,35G/ CM3)*VALORES REFERENCIAIS APROXIMADOS | F29: UN. | G29: 0.03 | H29: 43.98 | I29: =ROUND(G29*H29,2) -> 1.32
A31: FONTE | B31: CÓDIGO | C31: DESCRIÇÃO | F31: UNIDADE | G31: COEFIC. | H31: DESONER. | I31: Total
A32: COMPOSIÇÃO | B32: COMP03 | C32: CORDOLHA DE COBRE NÚ, SEÇÃO TRANSVERSAL DE 50MM2, ENTERRADA - FORNECIMENTO E INSTALAÇÃO - REF.: ED-13935 | F32: M | I32: =SUM(I33:I35) -> 62.68
A33: SICOR | B33: ED-50362 | C33: AJUDANTE DE ELETRICISTA COM ENCARGOS COMPLEMENTARES | F33: H | G33: 0.1666667 | H33: 26.51 | I33: =ROUND(G33*H33,2) -> 4.42
A34: SICOR | B34: ED-50373 | C34: ELETRICISTA COM ENCARGOS COMPLEMENTARES | F34: H | G34: 0.1666667 | H34: 32.14 | I34: =ROUND(G34*H34,2) -> 5.36
A35: SICOR | B35: MATED-12616 | C35: CORDOLHA DE COBRE NÚ (SEÇÃO TRANSVERSAL: 50MM2|NÚMEROS DE FIOS: 7|DIÂMETRO DOS FIOS: 3,00MM|CLASSE: 2A) | F35: M | G35: 1.03 | H35: 51.36 | I35: =ROUND(G35*H35,2) -> 52.9
A37: FONTE | B37: CÓDIGO | C37: DESCRIÇÃO | F37: UNIDADE | G37: COEFIC. | H37: DESONER. | I37: Total
A38: COMPOSIÇÃO | B38: COMP04 | C38: ADERIBASE (SUPORTE EQUALIZADOR COLÁVEL EM ALUMÍNIO COM TELA INOX) PARA TELHAS, RUFOS E OUTRAS SUPERFÍCIES AFASTAMENTO DO CONDUTOR IGUAL A 40 MM, PARAFUSO E PORCA EM AÇO INÓX Ø 1/4" (REF.: TERMOTÉCNICA TEL 0757 OU EQUIVALENTE TÉCNICO), COM FIXADOR UNIVERSAL - FORNECIMENTO E INSTALAÇÃO | F38: UN. | I38: =SUM(I39:I44) -> 63.38
A39: SICOR | B39: ED-50362 | C39: AJUDANTE DE ELETRICISTA COM ENCARGOS COMPLEMENTARES | F39: H | G39: 0.085 | H39: 26.51 | I39: =ROUND(G39*H39,2) -> 2.25
A40: SICOR | B40: ED-50373 | C40: ELETRICISTA COM ENCARGOS COMPLEMENTARES | F40: H | G40: 0.085 | H40: 32.14 | I40: =ROUND(G40*H40,2) -> 2.73
A41: SICOR | B41: COTAÇÃO | C41: =COTAÇÕES!A20 -> SUPORTE FIXADOR COLÁVEL "ADERIBASE" EM ALUMÍNIO COM TELA INOX, AFASTAMENTO DE 40 MM, PARAFUSO Ø 1/4” - TEL 757 | F41: UN. | G41: 1 | H41: =COTAÇÕES!I22 -> 26.503333 | I41: =ROUND(G41*H41,2) -> 26.5
A42: ORSE | B42: 10729 | C42: FIXADOR UNIVERSAL ESTANHADO PARA CABOS 16 A 70 MM2 - FORNECIMENTO | F42: UN. | G42: 1 | H42: 28.38 | I42: =ROUND(G42*H42,2) -> 28.38
A43: SICOR | B43: MATED-8151 | C43: ADESIVO/SELANTE ELÁSTICO MONOCOMPONENTE (APLICAÇÃO: USO GERAL|BASE: POLIURETANO|EMBALAGEM: 310ML|DENSIDADE*: 1,35G/ CM3)*VALORES REFERENCIAIS APROXIMADOS | F43: UN. | G43: 0.08 | H43: 43.98 | I43: =ROUND(G43*H43,2) -> 3.52
G45: Muzambinho/MG, 30 de abril de 2026.
A51: ATHUS HENRIQUE DE PAULA | F51: ='PLANILHA ORÇAMENTÁRIA'!F88:I88 -> MARCO AURELIO ALVES TEIXEIRA
A52: ='PLANILHA ORÇAMENTÁRIA'!D89 -> ENGENHEIRO CIVIL - CREA MG 213554/D | F52: ='PLANILHA ORÇAMENTÁRIA'!F89:I89 -> ARQUITETO E URBANISTA - CAU A9104-9
A53: ='PLANILHA ORÇAMENTÁRIA'!D90 -> DEPARTAMENTO DE OBRAS E SERVIÇOS PÚBLICOS | F53: ='PLANILHA ORÇAMENTÁRIA'!F90:I90 -> DIRETOR DO DEPARTAMENTO DE OBRAS E SERVIÇOS PÚBLICOS

Sheet MEMÓRIA DE CÁLCULO
A7: MEMÓRIA DE CÁLCULO
A9: ='PLANILHA ORÇAMENTÁRIA'!A9:I9 -> PREFEITURA: PREFEITURA MUNICIPAL DE MUZAMBINHO | G9: FOLHA nº: | I9: 1
A10: ='PLANILHA ORÇAMENTÁRIA'!A10:F10 -> OBRA: EXECUÇÃO DE SISTEMA DE PROTEÇÃO CONTRA DESCARGAS ATMOSFÉRICAS (SPDA) NO PRÓINFÂNCIA DO BAIRRO JARDIM DOS IMIGRANTES | G10: DATA: | I10: 46142
A11: ='PLANILHA ORÇAMENTÁRIA'!A11:F11 -> LOCAL: RUA ANTÔNIO MAGALHÃES DE OLIVEIRA, Nº 75, BAIRRO JARDIM DOS IMIGRANTES | G11: FORMA DE EXECUÇÃO: | I11: Desonerado
A12: ='PLANILHA ORÇAMENTÁRIA'!A12:F12 -> REGIÃO/MÊS DE REFERÊNCIA: SICOR 01/2026; SINAPI 03/2026, ORSE 02/2026 | G12: ( ) DIRETA | I12: ( x ) INDIRETA
A13: ='PLANILHA ORÇAMENTÁRIA'!A13:D13 -> PRAZO DE EXECUÇÃO: 03 Meses | G13: BDI: | I13: =BDI!J36 -> 0.26371306
A15: ITEM | B15: CÓDIGO | C15: REF. | D15: DESCRIÇÃO | E15: UNID.
A16: ='PLANILHA ORÇAMENTÁRIA'!A16 -> 1 | D16: ='PLANILHA ORÇAMENTÁRIA'!D16 -> SERVIÇOS PRELIMINARES
A17: ='PLANILHA ORÇAMENTÁRIA'!A17 -> 1.1 | B17: ='PLANILHA ORÇAMENTÁRIA'!B17 -> ED-28427 | C17: ='PLANILHA ORÇAMENTÁRIA'!C17 -> SICOR | D17: ='PLANILHA ORÇAMENTÁRIA'!D17 -> FORNECIMENTO E COLOCAÇÃO DE PLACA DE OBRA EM CHAPA GALVANIZADA #26, ESP. 0,45MM, DIMENSÃO (3X1,5)M, PLOTADA COM ADESIVO VINÍLICO, AFIXADA COM REBITES 4,8X40MM, EM ESTRUTURA METÁLICA DE METALON 20X20MM, ESP. 1,25MM, INCLUSIVE SUPORTE EM EUCALIPTO AUTOCLAVADO PINTADO COM TINTA PVA DUAS (2) DEMÃOS | E17: ='PLANILHA ORÇAMENTÁRIA'!E17 -> UN | I17: =E19 -> 1
D19: Placa de Obra | E19: 1
A21: ='PLANILHA ORÇAMENTÁRIA'!A19 -> 2 | D21: ='PLANILHA ORÇAMENTÁRIA'!D19 -> ESCAVAÇÃO, REATERRO E RECOMPOSIÇÃO DAS VALAS
A22: ='PLANILHA ORÇAMENTÁRIA'!A20 -> 2.1 | B22: ='PLANILHA ORÇAMENTÁRIA'!B20 -> 97629 | C22: ='PLANILHA ORÇAMENTÁRIA'!C20 -> SINAPI | D22: DEMOLIÇÃO DE LAJES, EM CONCRETO ARMADO, DE FORMA MECANIZADA COM MARTELETE, SEM REAPROVEITAMENTO. AF_09/2023 | E22: ='PLANILHA ORÇAMENTÁRIA'!E20 -> M3 | I22: =I24 -> 1.44
F23: Comp. | G23: Larg. | H23: Alt.
D24: Retirada das tampas das calhas de concreto (pátio) | F24: 60 | G24: 0.3 | H24: 0.08 | I24: =ROUND(F24*G24*H24,2) -> 1.44
A26: ='PLANILHA ORÇAMENTÁRIA'!A21 -> 2.2 | B26: ='PLANILHA ORÇAMENTÁRIA'!B21 -> 104790 | C26: ='PLANILHA ORÇAMENTÁRIA'!C21 -> SINAPI | D26: DEMOLIÇÃO DE PISO DE CONCRETO SIMPLES, DE FORMA MECANIZADA COM MARTELETE, SEM REAPROVEITAMENTO. AF_09/2023 | E26: M3 | I26: =I28 -> 6.66
F27: Comp. | G27: Larg. | H27: Alt.
D28: Demolição de piso para escavação das valas para passagem da fiação | F28: 370 | G28: 0.3 | H28: 0.06 | I28: =ROUND(F28*G28*H28,2) -> 6.66
A30: ='PLANILHA ORÇAMENTÁRIA'!A22 -> 2.3 | B30: ='PLANILHA ORÇAMENTÁRIA'!B22 -> ED-51110 | C30: ='PLANILHA ORÇAMENTÁRIA'!C22 -> SICOR | D30: ESCAVAÇÃO MANUAL DE VALA. AF_09/2024 | E30: M3 | I30: =I32 -> 55.5
F31: Comp. | G31: Larg. | H31: Alt.
D32: Escavação das valas para passagem de fiação | F32: 370 | G32: 0.3 | H32: 0.5 | I32: =ROUND(F32*G32*H32,2) -> 55.5
A34: ='PLANILHA ORÇAMENTÁRIA'!A23 -> 2.4 | B34: ='PLANILHA ORÇAMENTÁRIA'!B23 -> 93382 | C34: ='PLANILHA ORÇAMENTÁRIA'!C23 -> SINAPI | D34: REATERRO MANUAL DE VALAS, COM COMPACTADOR DE SOLOS DE PERCUSSÃO. AF_08/2023 | E34: M3 | I34: =I36 -> 55.5
F35: Comp. | G35: Larg. | H35: Alt.
D36: Reaterro das valas para passagem da fiação | F36: 370 | G36: 0.3 | H36: 0.5 | I36: =ROUND(F36*G36*H36,2) -> 55.5
A38: ='PLANILHA ORÇAMENTÁRIA'!A24 -> 2.5 | B38: ='PLANILHA ORÇAMENTÁRIA'!B24 -> 94991 | C38: ='PLANILHA ORÇAMENTÁRIA'!C24 -> SINAPI | D38: EXECUÇÃO DE PASSEIO (CALÇADA) OU PISO DE CONCRETO COM CONCRETO MOLDADO IN LOCO, FEITO EM OBRA, ACABAMENTO CONVENCIONAL, NÃO ARMADO. AF_08/2022 | E38: M3 | I38: =I40 -> 6.66
F39: Comp. | G39: Larg. | H39: Alt.
F40: 370 | G40: 0.3 | H40: 0.06 | I40: =ROUND(F40*G40*H40,2) -> 6.66
A42: ='PLANILHA ORÇAMENTÁRIA'!A25 -> 2.6 | B42: ='PLANILHA ORÇAMENTÁRIA'!B25 -> ED-48334 | C42: ='PLANILHA ORÇAMENTÁRIA'!C25 -> SICOR | D42: TAMPA EM CONCRETO COM FCK 15MPA, MOLDADA IN LOCO, PARA CANALETA COM LARGURA 30CM, ESP. 8CM, INCLUSIVE ARMAÇÃO CA-50 DIÂMETRO (6,3MM) | E42: ='PLANILHA ORÇAMENTÁRIA'!E25 -> M | I42: =F44 -> 60
F43: Comp.
D44: Instalação de tampas das calhas de concreto (pátio) | F44: 60
A46: ='PLANILHA ORÇAMENTÁRIA'!A27 -> 3 | D46: ='PLANILHA ORÇAMENTÁRIA'!D27 -> SPDA
A47: 2.1 | D47: CAPTAÇÃO
A48: ='PLANILHA ORÇAMENTÁRIA'!A29 -> 3.1.1 | B48: ='PLANILHA ORÇAMENTÁRIA'!B29 -> 104746 | C48: ='PLANILHA ORÇAMENTÁRIA'!C29 -> SINAPI | D48: MINI CAPTOR PARA SPDA - FORNECIMENTO E INSTALAÇÃO. AF_08/2023 | E48: UN | I48: =E50 -> 50
E49: Quant.
D50: Conforme projeto | E50: 50
A52: ='PLANILHA ORÇAMENTÁRIA'!A30 -> 3.1.2 | B52: ='PLANILHA ORÇAMENTÁRIA'!B30 -> 10907 | C52: ='PLANILHA ORÇAMENTÁRIA'!C30 -> ORSE | D52: Conector cabo-haste em bronze natural para 2 cabos cobre de 16mm² a 70mm² com grampo "U" e porcas de aço galv.Ref:TEL-583 ou similar - fornecimento e instalação | E52: ='PLANILHA ORÇAMENTÁRIA'!E30 -> UN | I52: =E54 -> 50
E53: Quant.
D54: Conforme projeto | E54: =E50 -> 50
A56: ='PLANILHA ORÇAMENTÁRIA'!A31 -> 3.1.3 | B56: ='PLANILHA ORÇAMENTÁRIA'!B31 -> COMP04 | C56: ='PLANILHA ORÇAMENTÁRIA'!C31 -> COMPOSIÇÃO | D56: =COMPOSIÇÃO!C38 -> ADERIBASE (SUPORTE EQUALIZADOR COLÁVEL EM ALUMÍNIO COM TELA INOX) PARA TELHAS, RUFOS E OUTRAS SUPERFÍCIES AFASTAMENTO DO CONDUTOR IGUAL A 40 MM, PARAFUSO E PORCA EM AÇO INÓX Ø 1/4" (REF.: TERMOTÉCNICA TEL 0757 OU EQUIVALENTE TÉCNICO), COM FIXADOR UNIVERSAL - FORNECIMENTO E INSTALAÇÃO | E56: ='PLANILHA ORÇAMENTÁRIA'!E31 -> UN. | I56: =E58 -> 70
E57: Quant.
D58: Sobre Rufos (Captação) | E58: 70
...

Sheet PLANILHA ORÇAMENTÁRIA
A7: PLANILHA ORÇAMENTÁRIA
A9: PREFEITURA: PREFEITURA MUNICIPAL DE MUZAMBINHO
A10: OBRA: EXECUÇÃO DE SISTEMA DE PROTEÇÃO CONTRA DESCARGAS ATMOSFÉRICAS (SPDA) NO PRÓINFÂNCIA DO BAIRRO JARDIM DOS IMIGRANTES | G10: DATA: | H10: 46142
A11: LOCAL: RUA ANTÔNIO MAGALHÃES DE OLIVEIRA, Nº 75, BAIRRO JARDIM DOS IMIGRANTES | G11: FORMA DE EXECUÇÃO: Desonerado
A12: REGIÃO/MÊS DE REFERÊNCIA: SICOR 01/2026; SINAPI 03/2026, ORSE 02/2026 | G12: ( ) DIRETA | H12: ( x ) INDIRETA
A13: PRAZO DE EXECUÇÃO: 03 Meses | G13: BDI | H13: =BDI_!F22 -> 0.26371306
A15: ITEM | B15: CÓDIGO | C15: REF. | D15: DESCRIÇÃO | E15: UNID. | F15: QUANT. | G15: PREÇO UNITÁRIO S/ BDI | H15: PREÇO UNITÁRIO C/ BDI | I15: PREÇO TOTAL
A16: 1 | D16: SERVIÇOS PRELIMINARES
A17: 1.1 | B17: ED-28427 | C17: SICOR | D17: FORNECIMENTO E COLOCAÇÃO DE PLACA DE OBRA EM CHAPA GALVANIZADA #26, ESP. 0,45MM, DIMENSÃO (3X1,5)M, PLOTADA COM ADESIVO VINÍLICO, AFIXADA COM REBITES 4,8X40MM, EM ESTRUTURA METÁLICA DE METALON 20X20MM, ESP. 1,25MM, INCLUSIVE SUPORTE EM EUCALIPTO AUTOCLAVADO PINTADO COM TINTA PVA DUAS (2) DEMÃOS | E17: UN | F17: ='MEMÓRIA DE CÁLCULO'!I17 -> 1 | G17: 1187.1 | H17: =ROUND(G17+G17*$H$13,2) -> 1500.15 | I17: =F17*H17 -> 1500.15
A18: SUBTOTAL | I18: =SUM(I12:I17) -> 1500.15
A19: 2 | D19: ESCAVAÇÃO, REATERRO E RECOMPOSIÇÃO DAS VALAS
A20: 2.1 | B20: 97629 | C20: SINAPI | D20: DEMOLIÇÃO DE LAJES, EM CONCRETO ARMADO, DE FORMA MECANIZADA COM MARTELETE, SEM REAPROVEITAMENTO. AF_09/2023 | E20: M3 | F20: ='MEMÓRIA DE CÁLCULO'!I22 -> 1.44 | G20: 98.11 | H20: =ROUND(G20+G20*$H$13,2) -> 123.98 | I20: =F20*H20 -> 178.5312
A21: 2.2 | B21: 104790 | C21: SINAPI | D21: DEMOLIÇÃO DE PISO DE CONCRETO SIMPLES, DE FORMA MECANIZADA COM MARTELETE, SEM REAPROVEITAMENTO. AF_09/2023 | E21: M3 | F21: ='MEMÓRIA DE CÁLCULO'!I26 -> 6.66 | G21: 118.74 | H21: =ROUND(G21+G21*$H$13,2) -> 150.05 | I21: =F21*H21 -> 999.333
A22: 2.3 | B22: ED-51110 | C22: SICOR | D22: ESCAVAÇÃO MANUAL DE TERRA (DESATERRO MANUAL), INCLUSIVE DESCARGA LATERAL, EXCLUSIVE RETIRADA E TRANSPORTE DO MATERIAL ESCAVADO | E22: M3 | F22: ='MEMÓRIA DE CÁLCULO'!I30 -> 55.5 | G22: 47.14 | H22: =ROUND(G22+G22*$H$13,2) -> 59.57 | I22: =F22*H22 -> 3306.135
A23: 2.4 | B23: 93382 | C23: SINAPI | D23: REATERRO MANUAL DE VALAS, COM COMPACTADOR DE SOLOS DE PERCUSSÃO. AF_08/2023 | E23: M3 | F23: ='MEMÓRIA DE CÁLCULO'!I34 -> 55.5 | G23: 29.56 | H23: =ROUND(G23+G23*$H$13,2) -> 37.36 | I23: =F23*H23 -> 2073.48
A24: 2.5 | B24: 94991 | C24: SINAPI | D24: EXECUÇÃO DE PASSEIO (CALÇADA) OU PISO DE CONCRETO COM CONCRETO MOLDADO IN LOCO, USINADO C20, ACABAMENTO CONVENCIONAL, NÃO ARMADO. AF_08/2022 | E24: M3 | F24: ='MEMÓRIA DE CÁLCULO'!I38 -> 6.66 | G24: 787.01 | H24: =ROUND(G24+G24*$H$13,2) -> 994.55 | I24: =F24*H24 -> 6623.703
A25: 2.6 | B25: ED-48334 | C25: SICOR | D25: TAMPA EM CONCRETO COM FCK 15MPA, MOLDADA IN LOCO, PARA CANALETA COM LARGURA 30CM, ESP. 8CM, INCLUSIVE ARMAÇÃO CA-50 DIÂMETRO (6,3MM) | E25: M | F25: ='MEMÓRIA DE CÁLCULO'!I42 -> 60 | G25: 50.54 | H25: =ROUND(G25+G25*$H$13,2) -> 63.87 | I25: =F25*H25 -> 3832.2
A26: SUBTOTAL | I26: =SUM(I20:I25) -> 17013.382
A27: 3 | D27: SPDA
A28: 3.1 | D28: CAPTAÇÃO
A29: 3.1.1 | B29: 104746 | C29: SINAPI | D29: MINI CAPTOR PARA SPDA - FORNECIMENTO E INSTALAÇÃO. AF_08/2023 | E29: UN | F29: ='MEMÓRIA DE CÁLCULO'!I48 -> 50 | G29: 27.91 | H29: =ROUND(G29+G29*$H$13,2) -> 35.27 | I29: =F29*H29 -> 1763.5
A30: 3.1.2 | B30: 10907 | C30: ORSE | D30: Conector cabo-haste em bronze natural para 2 cabos cobre de 16mm² a 70mm² com grampo "U" e porcas de aço galv.Ref:TEL-583 ou similar - fornecimento e instalação | E30: UN | F30: ='MEMÓRIA DE CÁLCULO'!I52 -> 50 | G30: 9.21 | H30: =ROUND(G30+G30*$H$13,2) -> 11.64 | I30: =F30*H30 -> 582
A31: 3.1.3 | B31: =COMPOSIÇÃO!B38 -> COMP04 | C31: =COMPOSIÇÃO!A38 -> COMPOSIÇÃO | D31: =COMPOSIÇÃO!C38 -> ADERIBASE (SUPORTE EQUALIZADOR COLÁVEL EM ALUMÍNIO COM TELA INOX) PARA TELHAS, RUFOS E OUTRAS SUPERFÍCIES AFASTAMENTO DO CONDUTOR IGUAL A 40 MM, PARAFUSO E PORCA EM AÇO INÓX Ø 1/4" (REF.: TERMOTÉCNICA TEL 0757 OU EQUIVALENTE TÉCNICO), COM FIXADOR UNIVERSAL - FORNECIMENTO E INSTALAÇÃO | E31: =COMPOSIÇÃO!F38 -> UN. | F31: ='MEMÓRIA DE CÁLCULO'!I56 -> 70 | G31: =COMPOSIÇÃO!I38 -> 63.38 | H31: =ROUND(G31+G31*$H$13,2) -> 80.09 | I31: =F31*H31 -> 5606.3
A32: 3.1.4 | B32: =COMPOSIÇÃO!B21 -> COMP02 | C32: =COMPOSIÇÃO!A21 -> COMPOSIÇÃO | D32: =COMPOSIÇÃO!C21 -> CABO DE COBRE NU #35MM2 - 7 FIOSX2,50MM, PARA ELEMENTOS DE CAPTAÇÃO/ ANEL DE CINTAMENTO/ DESCIDA (SPDA), INCLUSIVE SUPORTE, ISOLADOR E VEDAÇÃO COM POLIURETANO - REF.: ED-13940 E ED-28551 | E32: M | F32: ='MEMÓRIA DE CÁLCULO'!I60 -> 519.2 | G32: =COMPOSIÇÃO!I21 -> 51.72 | H32: =ROUND(G32+G32*$H$13,2) -> 65.36 | I32: =F32*H32 -> 33934.912
A33: 3.2 | D33: DESCIDA
A34: 3.2.1 | B34: 98463 | C34: SINAPI | D34: SUPORTE ISOLADOR PARA FIXAÇÃO DA CORDOALHA DE COBRE EM ALVENARIA OU CONCRETO - FORNECIMENTO E INSTALAÇÃO. AF_08/2023 | E34: UN | F34: ='MEMÓRIA DE CÁLCULO'!I72 -> 20 | G34: 27.75 | H34: =ROUND(G34+G34*$H$13,2) -> 35.07 | I34: =F34*H34 -> 701.4
A35: 3.2.2 | B35: 10693 | C35: ORSE | D35: Suporte guia reforçado 90º em chapa galvanizada c/ 2 roldanas ref:TEL-290 - SPDA | E35: UN | F35: ='MEMÓRIA DE CÁLCULO'!I76 -> 4 | G35: 46.52 | H35: =ROUND(G35+G35*$H$13,2) -> 58.79 | I35: =F35*H35 -> 235.16
A36: 3.2.3 | B36: 10091 | C36: ORSE | D36: Fixador tipo Ômega em cobre, l=15mm, c/furos d=5,5mm e trava p/cabo de 35mm², ref:TEL-833 ou similar (p/SPDA) | E36: UN | F36: ='MEMÓRIA DE CÁLCULO'!I80 -> 48 | G36: 2.23 | H36: =ROUND(G36+G36*$H$13,2) -> 2.82 | I36: =F36*H36 -> 135.36
A37: 3.2.4 | B37: 96984 | C37: SINAPI | D37: ELETRODUTO PVC RÍGIDO, DIÂMETRO 40MM, COM 3 METROS, PARA SPDA - FORNECIMENTO E INSTALAÇÃO. AF_08/2023 | E37: UN | F37: ='MEMÓRIA DE CÁLCULO'!I84 -> 30 | G37: 63.25 | H37: =ROUND(G37+G37*$H$13,2) -> 79.93 | I37: =F37*H37 -> 2397.9
A38: 3.2.5 | B38: 101663 | C38: SINAPI | D38: ABRAÇADEIRA DE FIXAÇÃO DE BRAÇOS DE LUMINÁRIAS DE 2" - FORNECIMENTO E INSTALAÇÃO. AF_08/2020 | E38: UN | F38: ='MEMÓRIA DE CÁLCULO'!I89 -> 60 | G38: 27.84 | H38: =ROUND(G38+G38*$H$13,2) -> 35.18 | I38: =F38*H38 -> 2110.8
A39: 3.2.6 | B39: 10728 | C39: ORSE | D39: Caixa inspeção em poliamida 150x110x70mm, bocal 1" (DN 32mm), ref: TEL-541 (SPDA) | E39: UN | F39: ='MEMÓRIA DE CÁLCULO'!I94 -> 24 | G39: 87.14 | H39: =ROUND(G39+G39*$H$13,2) -> 110.12 | I39: =F39*H39 -> 2642.88
A40: 3.2.7 | B40: 9048 | C40: ORSE | D40: Conector de medição em bronze c/4 parafusos p/cabos de cobre 16-70mm² ref.TEL-560 (pára-raio) | E40: UN | F40: ='MEMÓRIA DE CÁLCULO'!I98 -> 24 | G40: 53.09 | H40: =ROUND(G40+G40*$H$13,2) -> 67.09 | I40: =F40*H40 -> 1610.16
A41: 3.3 | D41: ATERRAMENTO
A42: 3.3.1 | B42: 98111 | C42: SINAPI | D42: CAIXA DE INSPEÇÃO PARA ATERRAMENTO, CIRCULAR, EM POLIETILENO, DIÂMETRO INTERNO = 0,3 M. AF_12/2020 | E42: UN | F42: ='MEMÓRIA DE CÁLCULO'!I103 -> 13 | G42: 57.98 | H42: =ROUND(G42+G42*$H$13,2) -> 73.27 | I42: =F42*H42 -> 952.51
A43: 3.3.2 | B43: 96985 | C43: SINAPI | D43: HASTE DE ATERRAMENTO, DIÂMETRO 5/8", COM 3 METROS - FORNECIMENTO E INSTALAÇÃO. AF_08/2023 | E43: UN | F43: ='MEMÓRIA DE CÁLCULO'!I107 -> 19 | G43: 88.74 | H43: =ROUND(G43+G43*$H$13,2) -> 112.14 | I43: =F43*H43 -> 2130.66
A44: 3.3.3 | B44: 10907 | C44: ORSE | D44: Conector cabo-haste em bronze natural para 2 cabos cobre de 16mm² a 70mm² com grampo "U" e porcas de aço galv.Ref:TEL-583 ou similar - fornecimento e instalação | E44: UN | F44: ='MEMÓRIA DE CÁLCULO'!I111 -> 18 | G44: 9.21 | H44: =ROUND(G44+G44*$H$13,2) -> 11.64 | I44: =F44*H44 -> 209.52
A45: 3.3.4 | B45: 104749 | C45: SINAPI | D45: CONECTOR GRAMPO METÁLICO TIPO OLHAL, PARA SPDA, PARA HASTE DE ATERRAMENTO DE 3/4'' E CABOS DE 10 A 50 MM2 - FORNECIMENTO E INSTALAÇÃO. AF_08/2023 | E45: UN | F45: ='MEMÓRIA DE CÁLCULO'!I115 -> 18 | G45: 22.26 | H45: =ROUND(G45+G45*$H$13,2) -> 28.13 | I45: =F45*H45 -> 506.34
A46: 3.3.5 | B46: 11.92.04 | C46: SUDECAP | D46: MOLDE PARA SOLDA EXOTÉRMICA HCL 5/8" 50-5 | E46: UN | F46: ='MEMÓRIA DE CÁLCULO'!I119 -> 1 | G46: 230.1 | H46: =ROUND(G46+G46*$H$13,2) -> 290.78 | I46: =F46*H46 -> 290.78
A47: 3.3.6 | B47: 11.92.44 | C47: SUDECAP | D47: CARTUCHO Nº45 PARA SOLDA EXOTÉRMICA | E47: UN | F47: ='MEMÓRIA DE CÁLCULO'!I123 -> 15 | G47: 27.15 | H47: =ROUND(G47+G47*$H$13,2) -> 34.31 | I47: =F47*H47 -> 514.65
A48: 3.3.7 | B48: =COTAÇÕES!A15 -> COT-01 | C48: COTAÇÃO | D48: PALITO IGNITOR (20 UNIDADES) PARA EXOSOLDA | E48: UN | F48: ='MEMÓRIA DE CÁLCULO'!I127 -> 1 | G48: =COTAÇÕES!I16 -> 25.12 | H48: =ROUND(G48+G48*$H$13,2) -> 31.74 | I48: =F48*H48 -> 31.74
...

Sheet CRONOGRAMA
A7: CRONOGRAMA FÍSICO-FINANCEIRO
A8: ='PLANILHA ORÇAMENTÁRIA'!$A$9:$I$9 -> PREFEITURA: PREFEITURA MUNICIPAL DE MUZAMBINHO | D8: VALOR: | E8: ='PLANILHA ORÇAMENTÁRIA'!I80 -> 123299.67 | G8: DATA: | H8: ='PLANILHA ORÇAMENTÁRIA'!H10:I10 -> 46142
A9: ='PLANILHA ORÇAMENTÁRIA'!$A$10:$F$10 -> OBRA: EXECUÇÃO DE SISTEMA DE PROTEÇÃO CONTRA DESCARGAS ATMOSFÉRICAS (SPDA) NO PRÓINFÂNCIA DO BAIRRO JARDIM DOS IMIGRANTES | D9: LOCAL: RUA ANTÔNIO MAGALHÃES DE OLIVEIRA, Nº 75, BAIRRO JARDIM DOS IMIGRANTES | G9: PRAZO DE EXECUÇÃO: 03 Meses
A11: ITEM | B11: CÓDIGO | C11: ETAPAS/DESCRIÇÃO | D11: FÍSICO/ FINANCEIRO | E11: TOTAL ETAPAS | F11: MÊS 1 | G11: MÊS 2 | H11: MÊS 3
A12: ='PLANILHA ORÇAMENTÁRIA'!A16 -> 1 | B12: - | C12: ='PLANILHA ORÇAMENTÁRIA'!D16 -> SERVIÇOS PRELIMINARES | D12: Físico % | E12: 1 | F12: 1
D13: Financeiro | E13: ='PLANILHA ORÇAMENTÁRIA'!I18 -> 1500.15 | F13: =E13*F12 -> 1500.15
A14: ='PLANILHA ORÇAMENTÁRIA'!A19 -> 2 | B14: - | C14: ='PLANILHA ORÇAMENTÁRIA'!D19 -> ESCAVAÇÃO, REATERRO E RECOMPOSIÇÃO DAS VALAS | D14: Físico % | E14: 1 | F14: 1
D15: Financeiro | E15: ='PLANILHA ORÇAMENTÁRIA'!I26 -> 17013.382 | F15: =E15*F14 -> 17013.382
A16: ='PLANILHA ORÇAMENTÁRIA'!A27 -> 3 | B16: - | C16: ='PLANILHA ORÇAMENTÁRIA'!D27 -> SPDA | D16: Físico % | E16: 1 | G16: 0.5 | H16: 0.4999999
D17: Financeiro | E17: ='PLANILHA ORÇAMENTÁRIA'!I53 -> 90808.682 | G17: =E17*G16 -> 45404.341 | H17: =E17*H16 -> 45404.332
A18: ='PLANILHA ORÇAMENTÁRIA'!A54 -> 4 | B18: - | C18: ='PLANILHA ORÇAMENTÁRIA'!D54 -> ALVENARIA | D18: Físico % | E18: 1 | F18: 0.5 | G18: 0.5
D19: Financeiro | E19: ='PLANILHA ORÇAMENTÁRIA'!I70 -> 2342.9542 | F19: =E19*F18 -> 1171.4771 | G19: =E19*G18 -> 1171.4771
A20: ='PLANILHA ORÇAMENTÁRIA'!A71 -> 5 | B20: - | C20: ='PLANILHA ORÇAMENTÁRIA'!D71 -> EXECUÇÃO DE TALUDE | D20: Físico % | E20: 1 | F20: 0.5 | G20: 0.5
D21: Financeiro | E21: ='PLANILHA ORÇAMENTÁRIA'!I74 -> 8535.6 | F21: =E21*F20 -> 4267.8 | G21: =E21*G20 -> 4267.8
A22: ='PLANILHA ORÇAMENTÁRIA'!A75 -> 6 | B22: - | C22: ='PLANILHA ORÇAMENTÁRIA'!D75 -> LIMPEZA DE OBRA | D22: Físico % | E22: 1 | F22: 0.25 | G22: 0.75
D23: Financeiro | E23: ='PLANILHA ORÇAMENTÁRIA'!I79 -> 3098.9026 | F23: =E23*F22 -> 774.72565 | G23: =E23*G22 -> 2324.177
A24: TOTAL | D24: Físico % | E24: 1 | F24: =F25/E25 -> 0.20054822 | G24: =G25/E25 -> 0.43120796 | H24: =H25/E25 -> 0.36824372
D25: Financeiro | E25: ='PLANILHA ORÇAMENTÁRIA'!I80 -> 123299.67 | F25: =ROUND(F13+F15+F19+F21+F23,2) -> 24727.53 | G25: =ROUND(G17+G19+G21+G23,2) -> 53167.8 | H25: =ROUND(H17,2) -> 45404.33
F26: Muzambinho/MG, 30 de abril de 2026.
B32: ATHUS HENRIQUE DE PAULA | E32: MARCO AURELIO ALVES TEIXEIRA
B33: ENGENHEIRO CIVIL - CREA MG 213554/D | E33: ARQUITETO E URBANISTA - CAU A9104-9
B34: DEPARTAMENTO DE OBRAS E SERVIÇOS PÚBLICOS | E34: DIRETOR DO DEPARTAMENTO DE OBRAS E SERVIÇOS PÚBLICOS

Sheet Planilha1
B2: 16.3 | E2: SPDA
B3: 16.3.1 | C3: 11273 | D3: ORSE | E3: Caixa de equipotencialização em aço 200x200x90mm, para embutir com tampa, com9 terminais, ref:TEL-901 ou similar (SPDA) | F3: un | G3: 1
B4: 16.3.2 | C4: 101801 | D4: SINAPI | E4: CAIXA COM GRELHA RETANGULAR DE FERRO FUNDIDO, EM ALVENARIA COM BLOCOS DE CONCRETO, DIMENSÕES INTERNAS: 0,30 X 1,00 X 1,00. AF_12/2020 | F4: UN | G4: 9
B5: 16.3.3 | C5: 98111 | D5: SINAPI | E5: CAIXA DE INSPEÇÃO PARA ATERRAMENTO, CIRCULAR, EM POLIETILENO, DIÂMETRO INTERNO = 0,3 M. AF_12/2020 | F5: UN | G5: 9
B6: 16.3.4 | C6: 96986 | D6: SINAPI | E6: HASTE DE ATERRAMENTO, DIÂMETRO 3/4", COM 3 METROS - FORNECIMENTO E INSTALAÇÃO. AF_08/2023 | F6: UN | G6: 9
B7: 16.3.5 | C7: 96989 | D7: SINAPI | E7: CAPTOR TIPO FRANKLIN PARA SPDA - FORNECIMENTO E INSTALAÇÃO. AF_08/2023 | F7: UN | G7: 1
B8: 16.3.6 | C8: 96988 | D8: SINAPI | E8: MASTRO 1 ½", COM 3 METROS, PARA SPDA - FORNECIMENTO E INSTALAÇÃO. AF_08/2023 | F8: UN | G8: 2
B9: 16.3.7 | C9: 104746 | D9: SINAPI | E9: MINI CAPTOR PARA SPDA - FORNECIMENTO E INSTALAÇÃO. AF_08/2023 | F9: UN | G9: 24
B10: 16.3.8 | C10: 96987 | D10: SINAPI | E10: BASE METÁLICA PARA MASTRO 1 ½" PARA SPDA - FORNECIMENTO E INSTALAÇÃO. AF_08/2023 | F10: UN | G10: 1
B11: 16.3.9 | C11: 101663 | D11: SINAPI | E11: ABRAÇADEIRA DE FIXAÇÃO DE BRAÇOS DE LUMINÁRIAS DE 2" - FORNECIMENTO E INSTALAÇÃO. AF_08/2020 | F11: UN | G11: 1
B12: 16.3.10 | C12: ED-13940 | D12: SETOP | E12: CABO DE COBRE NU #35MM2 - 7 FIOSX2,50MM, PARA ELEMENTOS DE CAPTAÇÃO/ ANEL DE CINTAMENTO/ DESCIDA (SPDA), INCLUSIVE SUPORTE E ISOLADOR | F12: M | G12: 265
B13: 16.3.11 | C13: ED-13941 | D13: SETOP | E13: CABO DE COBRE NU #50MM2 - 7 FIOSX3,00MM, PARA ELEMENTOS DE CAPTAÇÃO/ ANEL DE CINTAMENTO/ DESCIDA (SPDA), INCLUSIVE SUPORTE E ISOLADOR | F13: M | G13: 120
B14: 16.3.12 | C14: 96984 | D14: SINAPI | E14: ELETRODUTO PVC RÍGIDO, DIÂMETRO 40MM, COM 3 METROS, PARA SPDA - FORNECIMENTO E INSTALAÇÃO. AF_08/2023 | F14: UN | G14: 10
B15: 16.3.13 | C15: 101548 | D15: SINAPI | E15: ISOLADOR, TIPO ROLDANA, PARA BAIXA TENSÃO - FORNECIMENTO E INSTALAÇÃO. AF_07/2020 | F15: UN | G15: 5
B18: 22 | E18: SISTEMA DE PROTEÇÃO CONTRA DESCARGAS ATMOSFÉRICAS (SPDA)
B19: 22.1 | C19: 68070 | D19: SINAPI | E19: Pára-raios tipo Franklin em aço inox 3 pontas em haste de 3 m. x 1.1/2" tipo simples | F19: m | G19: 3
B20: 22.2 | C20: MERCADO | E20: Vergalhão CA - 25 # 10 mm2 | F20: m | G20: 90
B21: 22.3 | C21: MERCADO | E21: Conector mini-gar em bronze estanhado Tel-583 | F21: un | G21: 26
B22: 22.4 | C22: MERCADO | E22: Isolador simples com chapa de encosto h=100 mm | F22: un | G22: 5
B23: 22.5 | C23: MERCADO | E23: Isolador simples para quinas 90º com chapa de encosto h=100 mm | F23: un | G23: 1
B24: 22.6 | C24: MERCADO | E24: Caixa de equalização de potências 200x200mm em aço com barramento Expessura 6 mm | F24: un | G24: 1
B25: 22.7 | C25: 68069 | D25: SINAPI | E25: Haste tipo coopperweld 5/8" x 3,00m. | F25: un | G25: 13
B26: 22.8 | C26: 72927 | D26: SINAPI | E26: Cordoalha de cobre nu 16 mm2 | F26: m | G26: 20
B27: 22.9 | C27: 72929 | D27: SINAPI | E27: Cordoalha de cobre nu 35 mm2 | F27: m | G27: 500
B28: 22.10 | C28: 72930 | D28: SINAPI | E28: Cordoalha de cobre nu 50 mm2 | F28: m | G28: 380
B29: 22.11 | C29: 83370 | D29: SINAPI | E29: Caixa de inspeção, PVC de 12", com tampa de aço galvanizado,conforme detalhe no projeto | F29: un | G29: 4
B30: 22.12 | C30: 72263 | D30: SINAPI | E30: Conector de bronze para haste de 5/8" e cabo de 50 mm² | F30: un | G30: 17

Sheet Planilha2
A1: 1.1 | B1: ED-28427 | C1: SICOR | D1: FORNECIMENTO E COLOCAÇÃO DE PLACA DE OBRA EM CHAPA GALVANIZADA #26, ESP. 0,45MM, DIMENSÃO (3X1,5)M, PLOTADA COM ADESIVO VINÍLICO, AFIXADA COM REBITES 4,8X40MM, EM ESTRUTURA METÁLICA DE METALON 20X20MM, ESP. 1,25MM, INCLUSIVE SUPORTE EM EUCALIPTO AUTOCLAVADO PINTADO COM TINTA PVA DUAS (2) DEMÃOS | E1: UN | F1: ='MEMÓRIA DE CÁLCULO'!I17 -> 1 | G1: 1187.1 | H1: =ROUND(G1+G1*L$1,2) -> 1500.15 | I1: =F1*H1 -> 1500.15 | L1: =BDI_!F22 -> 0.26371306
A2: 3.1.4 | B2: =COMPOSIÇÃO!B21 -> COMP02 | C2: =COMPOSIÇÃO!A21 -> COMPOSIÇÃO | D2: =COMPOSIÇÃO!C21 -> CABO DE COBRE NU #35MM2 - 7 FIOSX2,50MM, PARA ELEMENTOS DE CAPTAÇÃO/ ANEL DE CINTAMENTO/ DESCIDA (SPDA), INCLUSIVE SUPORTE, ISOLADOR E VEDAÇÃO COM POLIURETANO - REF.: ED-13940 E ED-28551 | E2: M | F2: ='MEMÓRIA DE CÁLCULO'!I60 -> 519.2 | G2: =COMPOSIÇÃO!I21 -> 51.72 | H2: =ROUND(G2+G2*L$1,2) -> 65.36 | I2: =F2*H2 -> 33934.912
A3: 3.3.8 | B3: =COMPOSIÇÃO!B32 -> COMP03 | C3: COMPOSIÇÃO | D3: =COMPOSIÇÃO!C32 -> CORDOLHA DE COBRE NÚ, SEÇÃO TRANSVERSAL DE 50MM2, ENTERRADA - FORNECIMENTO E INSTALAÇÃO - REF.: ED-13935 | E3: =COMPOSIÇÃO!F32 -> M | F3: ='MEMÓRIA DE CÁLCULO'!I131 -> 406 | G3: =COMPOSIÇÃO!I32 -> 62.68 | H3: =ROUND(G3+G3*L$1,2) -> 79.21 | I3: =F3*H3 -> 32159.26
A4: 5.1.1 | B4: 103946 | C4: SINAPI | D4: PLANTIO DE GRAMA ESMERALDA OU SÃO CARLOS OU CURITIBANA, EM PLACAS. AF_05/2022 | E4: M2 | F4: ='MEMÓRIA DE CÁLCULO'!I235 -> 360 | G4: 18.76 | H4: =ROUND(G4+G4*L$1,2) -> 23.71 | I4: =F4*H4 -> 8535.6
A5: 2.5 | B5: 94991 | C5: SINAPI | D5: EXECUÇÃO DE PASSEIO (CALÇADA) OU PISO DE CONCRETO COM CONCRETO MOLDADO IN LOCO, USINADO C20, ACABAMENTO CONVENCIONAL, NÃO ARMADO. AF_08/2022 | E5: M3 | F5: ='MEMÓRIA DE CÁLCULO'!I38 -> 6.66 | G5: 787.01 | H5: =ROUND(G5+G5*L$1,2) -> 994.55 | I5: =F5*H5 -> 6623.703
A6: 3.1.3 | B6: =COMPOSIÇÃO!B38 -> COMP04 | C6: =COMPOSIÇÃO!A38 -> COMPOSIÇÃO | D6: =COMPOSIÇÃO!C38 -> ADERIBASE (SUPORTE EQUALIZADOR COLÁVEL EM ALUMÍNIO COM TELA INOX) PARA TELHAS, RUFOS E OUTRAS SUPERFÍCIES AFASTAMENTO DO CONDUTOR IGUAL A 40 MM, PARAFUSO E PORCA EM AÇO INÓX Ø 1/4" (REF.: TERMOTÉCNICA TEL 0757 OU EQUIVALENTE TÉCNICO), COM FIXADOR UNIVERSAL - FORNECIMENTO E INSTALAÇÃO | E6: =COMPOSIÇÃO!F38 -> UN. | F6: ='MEMÓRIA DE CÁLCULO'!I56 -> 70 | G6: =COMPOSIÇÃO!I38 -> 63.38 | H6: =ROUND(G6+G6*L$1,2) -> 80.09 | I6: =F6*H6 -> 5606.3
A7: 2.6 | B7: ED-48334 | C7: SICOR | D7: TAMPA EM CONCRETO COM FCK 15MPA, MOLDADA IN LOCO, PARA CANALETA COM LARGURA 30CM, ESP. 8CM, INCLUSIVE ARMAÇÃO CA-50 DIÂMETRO (6,3MM) | E7: M | F7: ='MEMÓRIA DE CÁLCULO'!I42 -> 60 | G7: 50.54 | H7: =ROUND(G7+G7*L$1,2) -> 63.87 | I7: =F7*H7 -> 3832.2
A8: 2.3 | B8: ED-51110 | C8: SICOR | D8: ESCAVAÇÃO MANUAL DE TERRA (DESATERRO MANUAL), INCLUSIVE DESCARGA LATERAL, EXCLUSIVE RETIRADA E TRANSPORTE DO MATERIAL ESCAVADO | E8: M3 | F8: ='MEMÓRIA DE CÁLCULO'!I30 -> 55.5 | G8: 47.14 | H8: =ROUND(G8+G8*L$1,2) -> 59.57 | I8: =F8*H8 -> 3306.135
A9: 3.2.6 | B9: 10728 | C9: ORSE | D9: Caixa inspeção em poliamida 150x110x70mm, bocal 1" (DN 32mm), ref: TEL-541 (SPDA) | E9: UN | F9: ='MEMÓRIA DE CÁLCULO'!I94 -> 24 | G9: 87.14 | H9: =ROUND(G9+G9*L$1,2) -> 110.12 | I9: =F9*H9 -> 2642.88
A10: 3.2.4 | B10: 96984 | C10: SINAPI | D10: ELETRODUTO PVC RÍGIDO, DIÂMETRO 40MM, COM 3 METROS, PARA SPDA - FORNECIMENTO E INSTALAÇÃO. AF_08/2023 | E10: UN | F10: ='MEMÓRIA DE CÁLCULO'!I84 -> 30 | G10: 63.25 | H10: =ROUND(G10+G10*L$1,2) -> 79.93 | I10: =F10*H10 -> 2397.9
A11: 3.3.2 | B11: 96985 | C11: SINAPI | D11: HASTE DE ATERRAMENTO, DIÂMETRO 5/8", COM 3 METROS - FORNECIMENTO E INSTALAÇÃO. AF_08/2023 | E11: UN | F11: ='MEMÓRIA DE CÁLCULO'!I107 -> 19 | G11: 88.74 | H11: =ROUND(G11+G11*L$1,2) -> 112.14 | I11: =F11*H11 -> 2130.66
A12: 3.2.5 | B12: 101663 | C12: SINAPI | D12: ABRAÇADEIRA DE FIXAÇÃO DE BRAÇOS DE LUMINÁRIAS DE 2" - FORNECIMENTO E INSTALAÇÃO. AF_08/2020 | E12: UN | F12: ='MEMÓRIA DE CÁLCULO'!I89 -> 60 | G12: 27.84 | H12: =ROUND(G12+G12*L$1,2) -> 35.18 | I12: =F12*H12 -> 2110.8
A13: 2.4 | B13: 93382 | C13: SINAPI | D13: REATERRO MANUAL DE VALAS, COM COMPACTADOR DE SOLOS DE PERCUSSÃO. AF_08/2023 | E13: M3 | F13: ='MEMÓRIA DE CÁLCULO'!I34 -> 55.5 | G13: 29.56 | H13: =ROUND(G13+G13*L$1,2) -> 37.36 | I13: =F13*H13 -> 2073.48
A14: 6.3 | B14: ED-50266 | C14: SICOR | D14: LIMPEZA FINAL PARA ENTREGA DA OBRA | E14: M2 | F14: ='MEMÓRIA DE CÁLCULO'!I276 -> 185 | G14: 8.61 | H14: =ROUND(G14+G14*L$1,2) -> 10.88 | I14: =F14*H14 -> 2012.8
A15: 3.1.1 | B15: 104746 | C15: SINAPI | D15: MINI CAPTOR PARA SPDA - FORNECIMENTO E INSTALAÇÃO. AF_08/2023 | E15: UN | F15: ='MEMÓRIA DE CÁLCULO'!I48 -> 50 | G15: 27.91 | H15: =ROUND(G15+G15*L$1,2) -> 35.27 | I15: =F15*H15 -> 1763.5
A16: 3.2.7 | B16: 9048 | C16: ORSE | D16: Conector de medição em bronze c/4 parafusos p/cabos de cobre 16-70mm² ref.TEL-560 (pára-raio) | E16: UN | F16: ='MEMÓRIA DE CÁLCULO'!I98 -> 24 | G16: 53.09 | H16: =ROUND(G16+G16*L$1,2) -> 67.09 | I16: =F16*H16 -> 1610.16
A17: 3.4.1 | B17: =COMPOSIÇÃO!B16 -> COMP01 | C17: =COMPOSIÇÃO!A16 -> COMPOSIÇÃO | D17: =COMPOSIÇÃO!C16 -> SERVIÇOS DE EVENTUAIS COMPACTIBILIZAÇÕES E ADQUAÇÕES DAS INSTALAÇÕES DE SPDA COM DEMAIS INSTALAÇÕES EXISTENTES - MÃO-DE-OBRA E MATERIAIS. | E17: =COMPOSIÇÃO!F16 -> UN. | F17: ='MEMÓRIA DE CÁLCULO'!I138 -> 1 | G17: =COMPOSIÇÃO!I16 -> 1172.8 | H17: =ROUND(G17+G17*L$1,2) -> 1482.08 | I17: =F17*H17 -> 1482.08
A18: 2.2 | B18: 104790 | C18: SINAPI | D18: DEMOLIÇÃO DE PISO DE CONCRETO SIMPLES, DE FORMA MECANIZADA COM MARTELETE, SEM REAPROVEITAMENTO. AF_09/2023 | E18: M3 | F18: ='MEMÓRIA DE CÁLCULO'!I26 -> 6.66 | G18: 118.74 | H18: =ROUND(G18+G18*L$1,2) -> 150.05 | I18: =F18*H18 -> 999.333
A19: 3.3.1 | B19: 98111 | C19: SINAPI | D19: CAIXA DE INSPEÇÃO PARA ATERRAMENTO, CIRCULAR, EM POLIETILENO, DIÂMETRO INTERNO = 0,3 M. AF_12/2020 | E19: UN | F19: ='MEMÓRIA DE CÁLCULO'!I103 -> 13 | G19: 57.98 | H19: =ROUND(G19+G19*L$1,2) -> 73.27 | I19: =F19*H19 -> 952.51
A20: 4.2.2.3 | B20: 95623 | C20: SINAPI | D20: APLICAÇÃO MANUAL DE TINTA LÁTEX ACRÍLICA EM PANOS SEM PRESENÇA DE VÃOS DE EDIFÍCIOS DE MÚLTIPLOS PAVIMENTOS, DUAS DEMÃOS. AF_03/2024 | E20: M2 | F20: ='MEMÓRIA DE CÁLCULO'!I225 -> 58.5 | G20: 11.8 | H20: =ROUND(G20+G20*L$1,2) -> 14.91 | I20: =F20*H20 -> 872.235
A21: 3.4.2 | B21: ED-51054 | C21: SICOR | D21: CAIXA DE EQUALIZAÇÃO EM AÇO, COM ACABAMENTO EM PINTURA EPÓXI, PARA USO INTERNO OU EXTERNO, COM NOVE (9) TERMINAIS, LARGURA E COMPRIMENTO DE APROXIMADAMENTE 35CM, INCLUSIVE ACESSÓRIOS PARA FIXAÇÃO | E21: UN | F21: ='MEMÓRIA DE CÁLCULO'!I142 -> 1 | G21: 641.58 | H21: =ROUND(G21+G21*L$1,2) -> 810.77 | I21: =F21*H21 -> 810.77
A22: 6.2 | B22: ED-51125 | C22: SICOR | D22: TRANSPORTE DE MATERIAL DEMOLIDO EM CAÇAMBA, EXCLUSIVE CARGA MANUAL OU MECÂNICA | E22: M3 | F22: ='MEMÓRIA DE CÁLCULO'!I258 -> 9.79 | G22: 60 | H22: =ROUND(G22+G22*L$1,2) -> 75.82 | I22: =F22*H22 -> 742.2778
A23: 3.2.1 | B23: 98463 | C23: SINAPI | D23: SUPORTE ISOLADOR PARA FIXAÇÃO DA CORDOALHA DE COBRE EM ALVENARIA OU CONCRETO - FORNECIMENTO E INSTALAÇÃO. AF_08/2023 | E23: UN | F23: ='MEMÓRIA DE CÁLCULO'!I72 -> 20 | G23: 27.75 | H23: =ROUND(G23+G23*L$1,2) -> 35.07 | I23: =F23*H23 -> 701.4
A24: 3.1.2 | B24: 10907 | C24: ORSE | D24: Conector cabo-haste em bronze natural para 2 cabos cobre de 16mm² a 70mm² com grampo "U" e porcas de aço galv.Ref:TEL-583 ou similar - fornecimento e instalação | E24: UN | F24: ='MEMÓRIA DE CÁLCULO'!I52 -> 50 | G24: 9.21 | H24: =ROUND(G24+G24*L$1,2) -> 11.64 | I24: =F24*H24 -> 582
A25: 3.3.6 | B25: 11.92.44 | C25: SUDECAP | D25: CARTUCHO Nº45 PARA SOLDA EXOTÉRMICA | E25: UN | F25: ='MEMÓRIA DE CÁLCULO'!I123 -> 15 | G25: 27.15 | H25: =ROUND(G25+G25*L$1,2) -> 34.31 | I25: =F25*H25 -> 514.65
A26: 3.3.4 | B26: 104749 | C26: SINAPI | D26: CONECTOR GRAMPO METÁLICO TIPO OLHAL, PARA SPDA, PARA HASTE DE ATERRAMENTO DE 3/4'' E CABOS DE 10 A 50 MM2 - FORNECIMENTO E INSTALAÇÃO. AF_08/2023 | E26: UN | F26: ='MEMÓRIA DE CÁLCULO'!I115 -> 18 | G26: 22.26 | H26: =ROUND(G26+G26*L$1,2) -> 28.13 | I26: =F26*H26 -> 506.34
A27: 4.2.2.2 | B27: 88485 | C27: SINAPI | D27: FUNDO SELADOR ACRÍLICO, APLICAÇÃO MANUAL EM PAREDE, UMA DEMÃO. AF_04/2023 | E27: M2 | F27: ='MEMÓRIA DE CÁLCULO'!I217 -> 58.5 | G27: 4.87 | H27: =ROUND(G27+G27*L$1,2) -> 6.15 | I27: =F27*H27 -> 359.775
A28: 6.1 | B28: ED-51133 | C28: SICOR | D28: TRANSPORTE DE MATERIAL DE QUALQUER NATUREZA COM CARRINHO DE MÃO, COM DISTÂNCIAS MENORES OU IGUAIS A 50M, INCLUSIVE CARGA/DESCARGA | E28: M3 | F28: ='MEMÓRIA DE CÁLCULO'!I240 -> 9.79 | G28: 27.79 | H28: =ROUND(G28+G28*L$1,2) -> 35.12 | I28: =F28*H28 -> 343.8248
A29: 3.3.5 | B29: 11.92.04 | C29: SUDECAP | D29: MOLDE PARA SOLDA EXOTÉRMICA HCL 5/8" 50-5 | E29: UN | F29: ='MEMÓRIA DE CÁLCULO'!I119 -> 1 | G29: 230.1 | H29: =ROUND(G29+G29*L$1,2) -> 290.78 | I29: =F29*H29 -> 290.78
A30: 4.2.2.1 | B30: ED-50505 | C30: SICOR | D30: LIXAMENTO MANUAL EM PAREDE PARA REMOÇÃO DE TINTA | E30: M2 | F30: ='MEMÓRIA DE CÁLCULO'!I209 -> 58.5 | G30: 3.51 | H30: =ROUND(G30+G30*L$1,2) -> 4.44 | I30: =F30*H30 -> 259.74
A31: 4.2.1.3 | B31: ED-50732 | C31: SICOR | D31: EMBOÇO COM ARGAMASSA, TRAÇO 1:6 (CIMENTO E AREIA), ESP. 20MM, APLICAÇÃO MANUAL, INCLUSIVE ARGAMASSA COM PREPARO MECANIZADO, EXCLUSIVE CHAPISCO | E31: M2 | F31: ='MEMÓRIA DE CÁLCULO'!I190 -> 5.09 | G31: 38.64 | H31: =ROUND(G31+G31*L$1,2) -> 48.83 | I31: =F31*H31 -> 248.5447
A32: 4.2.1.4 | B32: ED-50761 | C32: SICOR | D32: REBOCO COM ARGAMASSA, TRAÇO 1:2:8 (CIMENTO, CAL E AREIA), ESP. 20MM, APLICAÇÃO MANUAL, INCLUSIVE ARGAMASSA COM PREPARO MECANIZADO, EXCLUSIVE CHAPISCO | E32: M2 | F32: ='MEMÓRIA DE CÁLCULO'!I200 -> 4.81 | G32: 40.54 | H32: =ROUND(G32+G32*L$1,2) -> 51.23 | I32: =F32*H32 -> 246.4163
A33: 3.2.2 | B33: 10693 | C33: ORSE | D33: Suporte guia reforçado 90º em chapa galvanizada c/ 2 roldanas ref:TEL-290 - SPDA | E33: UN | F33: ='MEMÓRIA DE CÁLCULO'!I76 -> 4 | G33: 46.52 | H33: =ROUND(G33+G33*L$1,2) -> 58.79 | I33: =F33*H33 -> 235.16
A34: 4.2.1.1 | B34: ED-48232 | C34: SICOR | D34: ALVENARIA DE VEDAÇÃO COM TIJOLO CERÂMICO FURADO, ESP. 14CM, PARA REVESTIMENTO, INCLUSIVE ARGAMASSA PARA ASSENTAMENTO | E34: M2 | F34: ='MEMÓRIA DE CÁLCULO'!I174 -> 2.34 | G34: 74.28 | H34: =ROUND(G34+G34*L$1,2) -> 93.87 | I34: =F34*H34 -> 219.6558
A35: 3.3.3 | B35: 10907 | C35: ORSE | D35: Conector cabo-haste em bronze natural para 2 cabos cobre de 16mm² a 70mm² com grampo "U" e porcas de aço galv.Ref:TEL-583 ou similar - fornecimento e instalação | E35: UN | F35: ='MEMÓRIA DE CÁLCULO'!I111 -> 18 | G35: 9.21 | H35: =ROUND(G35+G35*L$1,2) -> 11.64 | I35: =F35*H35 -> 209.52
A36: 2.1 | B36: 97629 | C36: SINAPI | D36: DEMOLIÇÃO DE LAJES, EM CONCRETO ARMADO, DE FORMA MECANIZADA COM MARTELETE, SEM REAPROVEITAMENTO. AF_09/2023 | E36: M3 | F36: ='MEMÓRIA DE CÁLCULO'!I22 -> 1.44 | G36: 98.11 | H36: =ROUND(G36+G36*L$1,2) -> 123.98 | I36: =F36*H36 -> 178.5312
A37: 3.2.3 | B37: 10091 | C37: ORSE | D37: Fixador tipo Ômega em cobre, l=15mm, c/furos d=5,5mm e trava p/cabo de 35mm², ref:TEL-833 ou similar (p/SPDA) | E37: UN | F37: ='MEMÓRIA DE CÁLCULO'!I80 -> 48 | G37: 2.23 | H37: =ROUND(G37+G37*L$1,2) -> 2.82 | I37: =F37*H37 -> 135.36
A38: 4.2.1.2 | B38: 87894 | C38: SINAPI | D38: CHAPISCO APLICADO EM ALVENARIA (SEM PRESENÇA DE VÃOS) E ESTRUTURAS DE CONCRETO DE FACHADA, COM COLHER DE PEDREIRO. ARGAMASSA TRAÇO 1:3 COM PREPARO EM BETONEIRA 400L. AF_10/2022 | E38: M2 | F38: ='MEMÓRIA DE CÁLCULO'!I180 -> 5.09 | G38: 7.8 | H38: =ROUND(G38+G38*L$1,2) -> 9.86 | I38: =F38*H38 -> 50.1874
A39: 4.1.1 | B39: 104791 | C39: SINAPI | D39: DEMOLIÇÃO DE ARGAMASSAS, DE FORMA DE FORMA MECANIZADA COM MARTELETE, SEM REAPROVEITAMENTO. AF_09/2023 | E39: M2 | F39: ='MEMÓRIA DE CÁLCULO'!I148 -> 4.8 | G39: 6.97 | H39: =ROUND(G39+G39*L$1,2) -> 8.81 | I39: =F39*H39 -> 42.288
A40: 4.1.2 | B40: 97625 | C40: SINAPI | D40: DEMOLIÇÃO DE ALVENARIA PARA QUALQUER TIPO DE BLOCO, DE FORMA MECANIZADA, SEM REAPROVEITAMENTO. AF_09/2023 | E40: M3 | F40: ='MEMÓRIA DE CÁLCULO'!I156 -> 0.48 | G40: 54.84 | H40: =ROUND(G40+G40*L$1,2) -> 69.3 | I40: =F40*H40 -> 33.264
...
