Workbook
Name Fonte: #REF!
Name nao: #REF!

Sheet ORÇAMENTO
A2: PLANILHA ORÇAMENTÁRIA
A3: OBRA: PROJETO VILLA DO BOI | H3: DATA: | I3: 46134
A4: LOCAL: RUA GUARDA MOR LUSTOSA, S/Nº - CENTRO, OURO FINO - MG | F4: FORMA DE EXECUÇÃO:
A5: REGIÃO/MÊS DE REF.: SICOR SUL - OUT/2025 SEM DESONERAÇÃO / SINAPI JAN/2026 NÃO DESONERADO | F5: ( ) | G5: DIRETA | H5: ( x ) | I5: INDIRETA
A6: PRAZO DE EXECUÇÃO: 6 MESES | H6: BDI | I6: 0.2341
A7: VALOR ESTIMADO DA OBRA: | D7: =I253 -> 1004805.6 | H7: BDI DS | I7: 0.2882
A9: ITEM | B9: FONTE | C9: CÓDIGO | D9: DESCRIÇÃO | E9: UND. | F9: QUANT. | G9: PREÇO UNITÁRIO S/ BDI | H9: PREÇO UNITÁRIO C/ BDI | I9: PREÇO TOTAL
A10: 1. | B10: SERVIÇOS PRELIMINARES
A11: 1.1 | B11: SINAPI | C11: 103689 | D11: FORNECIMENTO E INSTALAÇÃO DE PLACA DE OBRA COM CHAPA GALVANIZADA E ESTRUTURA DE MADEIRA. AF_03/2022_PS | E11: M2 | F11: ='MEMORIA DE CÁLCULO'!M16 -> 4.5 | G11: 474.44 | H11: =G11*(1+$I$6) -> 585.5064 | I11: =H11*F11 -> 2634.7788
A12: 1.2 | B12: SINAPI | C12: 98459 | D12: TAPUME COM TELHA METÁLICA. AF_03/2024 | E12: M2 | F12: ='MEMORIA DE CÁLCULO'!M23 -> 208.66302 | G12: 96.32 | H12: =G12*(1+$I$6) -> 118.86851 | I12: =H12*F12 -> 24803.463
A13: 1.3 | B13: SICOR | C13: ED-50162 | D13: PORTÃO PARA TAPUME FIXO DE PROTEÇÃO COM FECHAMENTO DE OBRA EM CHAPA DE COMPENSADO, ESP. 12MM, COM MÓDULO NA DIMENSÃO DE (110X220)CM, INCLUSIVE FERRAGENS E PINTURA LÁTEX (PVA) COM DUAS (2) DEMÃOS | E13: M2 | F13: ='MEMORIA DE CÁLCULO'!M30 -> 4.5 | G13: 169.97 | H13: =G13*(1+$I$6) -> 209.75998 | I13: =H13*F13 -> 943.9199
A14: 1.4 | B14: SINAPI | C14: 101512 | D14: ENTRADA DE ENERGIA ELÉTRICA, AÉREA, TRIFÁSICA, COM CAIXA DE EMBUTIR, CABO DE 35 MM2 E DISJUNTOR DIN 50A (NÃO INCLUSO O POSTE DE CONCRETO). AF_12/2025 | E14: UN | F14: ='MEMORIA DE CÁLCULO'!M37 -> 1 | G14: 2742.89 | H14: =G14*(1+$I$6) -> 3385.0005 | I14: =H14*F14 -> 3385.0005
A15: 1.5 | B15: SICOR | C15: ED-16350 | D15: LOCAÇÃO DE CONTAINER COM ISOLAMENTO TÉRMICO, TIPO 3, PARA DEPÓSITO/FERRAMENTARIA DE OBRA, COM MEDIDAS REFERENCIAIS DE (6) METROS COMPRIMENTO, (2,3) METROS LARGURA E (2,5) METROS ALTURA ÚTIL INTERNA, INCLUSIVE LIGAÇÕES ELÉTRICAS INTERNAS, EXCLUSIVE MOBILIZAÇÃO/DESMOBILIZAÇÃO E LIGAÇÕES PROVISÓRIAS EXTERNAS | E15: MÊS | F15: ='MEMORIA DE CÁLCULO'!M44 -> 6 | G15: 858.71 | H15: =G15*(1+$I$6) -> 1059.734 | I15: =H15*F15 -> 6358.4041
A16: 1.6 | B16: SICOR | C16: ED-16358 | D16: LIGAÇÕES PROVISÓRIAS PARA CONTAINER TIPO 3 (CORRESPONDENTE AO CÓDIGO ED-16350) | E16: UN | F16: ='MEMORIA DE CÁLCULO'!M51 -> 1 | G16: 343.03 | H16: =G16*(1+$I$6) -> 423.33332 | I16: =H16*F16 -> 423.33332
A17: 1.7 | B17: SICOR | C17: ED-17989 | D17: LOCAÇÃO DE OBRA COM GABARITO DE TÁBUAS CORRIDAS PONTALETADAS A CADA 2,00M, REAPROVEITAMENTO (2X), INCLUSIVE ACOMPANHAMENTO DE EQUIPE TOPOGRÁFICA PARA MARCAÇÃO DE PONTO TOPOGRÁFICO | E17: M | F17: ='MEMORIA DE CÁLCULO'!M58 -> 191.1372 | G17: 62.77 | H17: =G17*(1+$I$6) -> 77.464457 | I17: =H17*F17 -> 14806.339
A18: 1.8 | B18: SINAPI | C18: 90777 | D18: ENGENHEIRO CIVIL DE OBRA JUNIOR COM ENCARGOS COMPLEMENTARES | E18: H | F18: ='MEMORIA DE CÁLCULO'!M65 -> 96 | G18: 143.6 | H18: =G18*(1+$I$6) -> 177.21676 | I18: =H18*F18 -> 17012.809
A19: 1.9 | B19: SINAPI | C19: 90780 | D19: MESTRE DE OBRAS COM ENCARGOS COMPLEMENTARES | E19: H | F19: ='MEMORIA DE CÁLCULO'!M72 -> 96 | G19: 85.1 | H19: =G19*(1+$I$6) -> 105.02191 | I19: =H19*F19 -> 10082.103
A20: TOTAL ITEM | E20: =A10 -> 1. | F20: = | G20: =ROUND(SUM(I11:I19),2) -> 80450.15
A21: 2. | B21: MOVIMENTAÇÃO DE TERRA
A22: 2.1 | B22: SINAPI | C22: 93358 | D22: ESCAVAÇÃO MANUAL DE VALA. AF_09/2024 | E22: M3 | F22: ='MEMORIA DE CÁLCULO'!M106 -> 28.295797 | G22: 123.22 | H22: =G22*(1+$I$6) -> 152.0658 | I22: =H22*F22 -> 4302.8231
A23: 2.2 | B23: SINAPI | C23: 104737 | D23: REATERRO MANUAL DE VALAS, COM PLACA VIBRATÓRIA. AF_08/2023 | E23: M3 | F23: ='MEMORIA DE CÁLCULO'!M113 -> 8.3120475 | G23: 30.26 | H23: =G23*(1+$I$6) -> 37.343866 | I23: =H23*F23 -> 310.40399
A24: 2.3 | B24: SICOR | C24: ED-29231 | D24: TRANSPORTE DE MATERIAL DE QUALQUER NATUREZA EM CAMINHÃO, DISTÂNCIA MAIOR QUE 2KM E MENOR OU IGUAL A 5KM, DENTRO DO PERÍMETRO URBANO, EXCLUSIVE CARGA, INCLUSIVE DESCARGA | E24: M3xKM | F24: ='MEMORIA DE CÁLCULO'!M135 -> 1444.3349 | G24: 2.6 | H24: =G24*(1+$I$6) -> 3.20866 | I24: =H24*F24 -> 4634.3796
A25: 2.4 | B25: SICOR | C25: ED-51132 | D25: CARGA MECÂNICA DE MATERIAL DE QUALQUER NATUREZA SOBRE CAMINHÃO, EXCLUSIVE TRANSPORTE | E25: M3 | F25: ='MEMORIA DE CÁLCULO'!M157 -> 288.86698 | G25: 3.35 | H25: =G25*(1+$I$6) -> 4.134235 | I25: =H25*F25 -> 1194.244
A26: TOTAL ITEM | E26: =A21 -> 2. | F26: = | G26: =ROUND(SUM(I22:I25),2) -> 10441.85
A27: 3. | B27: INFRAESTRUTURA
A28: 3.1 | C28: ESTACA TRADO ROTATIVO
A29: 3.1.1 | B29: SICOR | C29: ED-29817 | D29: MOBILIZAÇÃO E DESMOBILIZAÇÃO DE EQUIPAMENTO PARA ESTACA TIPO TRADO ROTATIVO (CUSTO FIXO), INCLUSIVE CARGA E DESCARGA, EXCLUSIVE TRANSPORTE EM QUILÔMETRO RODADO (CUSTO VARIÁVEL) | E29: UN | F29: ='MEMORIA DE CÁLCULO'!M168 -> 1 | G29: 3531.16 | H29: =G29*(1+$I$6) -> 4357.8046 | I29: =H29*F29 -> 4357.8046
A30: 3.1.2 | B30: SICOR | C30: ED-29818 | D30: MOBILIZAÇÃO E DESMOBILIZAÇÃO DE EQUIPAMENTO PARA ESTACA TIPO TRADO ROTATIVO (CUSTO VARIÁVEL), EXCLUSIVE CUSTO FIXO DE TRANSPORTE | E30: KM | F30: ='MEMORIA DE CÁLCULO'!M175 -> 10 | G30: 20.02 | H30: =G30*(1+$I$6) -> 24.706682 | I30: =H30*F30 -> 247.06682
A31: 3.1.3 | B31: SICOR | C31: ED-29802 | D31: PERFURAÇÃO MECÂNICA DE ESTACA TIPO TRADO ROTATIVO, INCLUSIVE AFASTAMENTO LATERAL, EXCLUSIVE ARMAÇÃO, CONCRETO ESTRUTURAL, TRANSPORTE E RETIRADA DO MATERIAL ESCAVADO | E31: M3 | F31: ='MEMORIA DE CÁLCULO'!M182 -> 2.94375 | G31: 84.02 | H31: =G31*(1+$I$6) -> 103.68908 | I31: =H31*F31 -> 305.23474
A32: 3.1.4 | B32: SINAPI | C32: 101174 | D32: ESTACA BROCA DE CONCRETO, DIÂMETRO DE 25CM, ESCAVAÇÃO MANUAL COM TRADO CONCHA, COM ARMADURA DE ARRANQUE. AF_05/2020 | E32: M | F32: ='MEMORIA DE CÁLCULO'!M198 -> 103 | G32: 96.73 | H32: =G32*(1+$I$6) -> 119.37449 | I32: =H32*F32 -> 12295.573
A33: 3.1.5 | B33: SINAPI | C33: 94966 | D33: CONCRETO FCK = 30MPA, TRAÇO 1:2,1:2,5 (EM MASSA SECA DE CIMENTO/ AREIA MÉDIA/ BRITA 1) - PREPARO MECÂNICO COM BETONEIRA 400 L. AF_05/2021 | E33: M3 | F33: ='MEMORIA DE CÁLCULO'!M205 -> 2.94375 | G33: 489.21 | H33: =G33*(1+$I$6) -> 603.73406 | I33: =H33*F33 -> 1777.2421
A34: TOTAL ITEM | E34: =A28 -> 3.1 | F34: = | G34: =ROUND(SUM(I29:I33),2) -> 18982.92
A35: 3.2 | C35: BLOCO DE COROAMENTO
A36: 3.2.1 | B36: SINAPI | C36: 96557 | D36: CONCRETAGEM DE BLOCO DE COROAMENTO OU VIGA BALDRAME, FCK 30 MPA, COM USO DE BOMBA - LANÇAMENTO, ADENSAMENTO E ACABAMENTO. AF_01/2024 | E36: M3 | F36: ='MEMORIA DE CÁLCULO'!M214 -> 3.88 | G36: 636.55 | H36: =G36*(1+$I$6) -> 785.56635 | I36: =H36*F36 -> 3047.9975
A37: 3.2.2 | B37: SINAPI | C37: 96534 | D37: FABRICAÇÃO, MONTAGEM E DESMONTAGEM DE FÔRMA PARA BLOCO DE COROAMENTO, EM MADEIRA SERRADA, E=25 MM, 4 UTILIZAÇÕES. AF_01/2024 | E37: M2 | F37: ='MEMORIA DE CÁLCULO'!M221 -> 21.79 | G37: 92.86 | H37: =G37*(1+$I$6) -> 114.59853 | I37: =H37*F37 -> 2497.1019
A38: 3.2.3 | B38: SINAPI | C38: 104917 | D38: ARMAÇÃO DE SAPATA ISOLADA, VIGA BALDRAME E SAPATA CORRIDA UTILIZANDO AÇO CA-50 DE 6,3 MM - MONTAGEM. AF_01/2024 | E38: KG | F38: ='MEMORIA DE CÁLCULO'!M228 -> 4.2 | G38: 15.3 | H38: =G38*(1+$I$6) -> 18.88173 | I38: =H38*F38 -> 79.303266
A39: 3.2.4 | B39: SINAPI | C39: 104918 | D39: ARMAÇÃO DE SAPATA ISOLADA, VIGA BALDRAME E SAPATA CORRIDA UTILIZANDO AÇO CA-50 DE 8 MM - MONTAGEM. AF_01/2024 | E39: KG | F39: ='MEMORIA DE CÁLCULO'!M235 -> 48.7 | G39: 13.56 | H39: =G39*(1+$I$6) -> 16.734396 | I39: =H39*F39 -> 814.96509
A40: 3.2.5 | B40: SINAPI | C40: 104916 | D40: ARMAÇÃO DE SAPATA ISOLADA, VIGA BALDRAME E SAPATA CORRIDA UTILIZANDO AÇO CA-60 DE 5 MM - MONTAGEM. AF_01/2024 | E40: KG | F40: ='MEMORIA DE CÁLCULO'!M242 -> 55.7 | G40: 17.45 | H40: =G40*(1+$I$6) -> 21.535045 | I40: =H40*F40 -> 1199.502
A41: 3.2.6 | B41: SINAPI | C41: 96621 | D41: LASTRO COM MATERIAL GRANULAR, APLICAÇÃO EM BLOCOS DE COROAMENTO, ESPESSURA DE *5 CM*. AF_01/2024 | E41: M3 | F41: ='MEMORIA DE CÁLCULO'!M249 -> 0.68 | G41: 221.02 | H41: =G41*(1+$I$6) -> 272.76078 | I41: =H41*F41 -> 185.47733
A42: TOTAL ITEM | E42: =A35 -> 3.2 | F42: = | G42: =ROUND(SUM(I36:I41),2) -> 7824.35
...

Sheet CRONOGRAMA
A2: CRONOGRAMA FÍSICO-FINANCEIRO
A3: =ORÇAMENTO!A3 -> OBRA: PROJETO VILLA DO BOI | K3: =ORÇAMENTO!I3 -> 46134
A4: =ORÇAMENTO!A4 -> LOCAL: RUA GUARDA MOR LUSTOSA, S/Nº - CENTRO, OURO FINO - MG
A5: =ORÇAMENTO!A5 -> REGIÃO/MÊS DE REF.: SICOR SUL - OUT/2025 SEM DESONERAÇÃO / SINAPI JAN/2026 NÃO DESONERADO
A6: =ORÇAMENTO!A6 -> PRAZO DE EXECUÇÃO: 6 MESES
A7: =ORÇAMENTO!A7 -> VALOR ESTIMADO DA OBRA: | C7: =ORÇAMENTO!D7 -> 1004805.6 | M7: =IF(SUM(K43)=C7,TRUE,FALSE) -> TRUE
A9: ITEM | B9: ETAPAS | C9: FÍSICO / FINANCEIRO | D9: TOTAL ETAPAS | E9: 1º MÊS | F9: 2º MÊS | G9: 3º MÊS | H9: 4º MÊS | I9: 5º MÊS | J9: 6º MÊS | K9: TOTAL
A10: =ORÇAMENTO!A10 -> 1. | B10: =ORÇAMENTO!B10 -> SERVIÇOS PRELIMINARES | C10: Físico % | D10: 1 | E10: 1 | K10: =SUM(E10:J10) -> 1
C11: Financeiro | D11: =ORÇAMENTO!G20 -> 80450.15 | E11: =E10*$D$11 -> 80450.15 | K11: =SUM(E11:J11) -> 80450.15
A12: =ORÇAMENTO!A21 -> 2. | B12: =ORÇAMENTO!B21 -> MOVIMENTAÇÃO DE TERRA | C12: Físico % | D12: 1 | E12: 0.15 | F12: 0.25 | G12: 0.4 | H12: 0.2 | K12: =SUM(E12:J12) -> 1
C13: Financeiro | D13: =ORÇAMENTO!G26 -> 10441.85 | E13: =E12*$D$13 -> 1566.2775 | F13: =F12*$D$13 -> 2610.4625 | G13: =G12*$D$13 -> 4176.74 | H13: =H12*$D$13 -> 2088.37 | I13: =I12*$D$13 -> 0 | J13: =J12*$D$13 -> 0 | K13: =SUM(E13:J13) -> 10441.85
A14: =ORÇAMENTO!A27 -> 3. | B14: =ORÇAMENTO!B27 -> INFRAESTRUTURA | C14: Físico % | D14: 1 | E14: 0.25 | F14: 0.6 | G14: 0.15 | K14: =SUM(E14:J14) -> 1
C15: Financeiro | D15: =ORÇAMENTO!G51 -> 75374.86 | E15: =E14*$D$15 -> 18843.715 | F15: =F14*$D$15 -> 45224.916 | G15: =G14*$D$15 -> 11306.229 | K15: =SUM(E15:J15) -> 75374.86
A16: =ORÇAMENTO!A52 -> 4. | B16: =ORÇAMENTO!B52 -> ALVENARIA / DIVISORIAS E BANCADAS | C16: Físico % | D16: 1 | E16: 0.05 | G16: 0.15 | H16: 0.2 | I16: 0.3 | J16: 0.3 | K16: =SUM(E16:J16) -> 1
C17: Financeiro | D17: =ORÇAMENTO!G60 -> 69968.88 | E17: =E16*$D$17 -> 3498.444 | F17: =F16*$D$17 -> 0 | G17: =G16*$D$17 -> 10495.332 | H17: =H16*$D$17 -> 13993.776 | I17: =I16*$D$17 -> 20990.664 | J17: =J16*$D$17 -> 20990.664 | K17: =SUM(E17:J17) -> 69968.88
A18: =ORÇAMENTO!A61 -> 5. | B18: =ORÇAMENTO!B61 -> ESQUADRIAS | C18: Físico % | D18: 1 | H18: 0.1 | I18: 0.4 | J18: 0.5 | K18: =SUM(E18:J18) -> 1
C19: Financeiro | D19: =ORÇAMENTO!G71 -> 31411.5 | E19: =E18*$D$19 -> 0 | F19: =F18*$D$19 -> 0 | G19: =G18*$D$19 -> 0 | H19: =H18*$D$19 -> 3141.15 | I19: =I18*$D$19 -> 12564.6 | J19: =J18*$D$19 -> 15705.75 | K19: =SUM(E19:J19) -> 31411.5
A20: =ORÇAMENTO!A72 -> 6. | B20: =ORÇAMENTO!B72 -> COBERTURA | C20: Físico % | D20: 1 | E20: 0.05 | G20: 0.15 | H20: 0.3 | I20: 0.5 | K20: =SUM(E20:J20) -> 1
C21: Financeiro | D21: =ORÇAMENTO!G83 -> 243486.22 | E21: =E20*$D$21 -> 12174.311 | F21: =F20*$D$21 -> 0 | G21: =G20*$D$21 -> 36522.933 | H21: =H20*$D$21 -> 73045.866 | I21: =I20*$D$21 -> 121743.11 | J21: =J20*$D$21 -> 0 | K21: =SUM(E21:J21) -> 243486.22
A22: =ORÇAMENTO!A84 -> 7. | B22: =ORÇAMENTO!B84 -> INSTALAÇÃO ELÉTRICA | C22: Físico % | D22: 1 | E22: 0.05 | F22: 0.3 | G22: 0.3 | H22: 0.35 | K22: =SUM(E22:J22) -> 1
C23: Financeiro | D23: =ORÇAMENTO!G132 -> 55567.491 | E23: =E22*$D$23 -> 2778.3745 | F23: =F22*$D$23 -> 16670.247 | G23: =G22*$D$23 -> 16670.247 | H23: =H22*$D$23 -> 19448.622 | I23: =I22*$D$23 -> 0 | J23: =J22*$D$23 -> 0 | K23: =SUM(E23:J23) -> 55567.491
A24: =ORÇAMENTO!A133 -> 8. | B24: =ORÇAMENTO!B133 -> INSTALAÇÃO HIDROSSANITÁRIA | C24: Físico % | D24: 1 | E24: 0.2 | F24: 0.4 | G24: 0.4 | K24: =SUM(E24:J24) -> 1
C25: Financeiro | D25: =ORÇAMENTO!G175 -> 43180.82 | E25: =E24*$D$25 -> 8636.164 | F25: =F24*$D$25 -> 17272.328 | G25: =G24*$D$25 -> 17272.328 | H25: =H24*$D$25 -> 0 | I25: =I24*$D$25 -> 0 | J25: =J24*$D$25 -> 0 | K25: =SUM(E25:J25) -> 43180.82
A26: =ORÇAMENTO!A176 -> 9. | B26: =ORÇAMENTO!B176 -> IMPERMEABILIZAÇÕES | C26: Físico % | D26: 1 | F26: 1 | K26: =SUM(E26:J26) -> 1
C27: Financeiro | D27: =ORÇAMENTO!G178 -> 8390.77 | E27: =E26*$D$27 -> 0 | F27: =F26*$D$27 -> 8390.77 | G27: =G26*$D$27 -> 0 | H27: =H26*$D$27 -> 0 | I27: =I26*$D$27 -> 0 | J27: =J26*$D$27 -> 0 | K27: =SUM(E27:J27) -> 8390.77
A28: =ORÇAMENTO!A179 -> 10. | B28: =ORÇAMENTO!B179 -> REVESTIMENTOS INTERNO E EXTERNO | C28: Físico % | D28: 1 | G28: 0.2 | H28: 0.1 | I28: 0.1 | J28: 0.6 | K28: =SUM(E28:J28) -> 1
C29: Financeiro | D29: =ORÇAMENTO!G187 -> 32647.1 | E29: =E28*$D$29 -> 0 | F29: =F28*$D$29 -> 0 | G29: =G28*$D$29 -> 6529.42 | H29: =H28*$D$29 -> 3264.71 | I29: =I28*$D$29 -> 3264.71 | J29: =J28*$D$29 -> 19588.26 | K29: =SUM(E29:J29) -> 32647.1
A30: =ORÇAMENTO!A188 -> 11. | B30: =ORÇAMENTO!B188 -> VIDROS | C30: Físico % | D30: 1 | I30: 0.5 | J30: 0.5 | K30: =SUM(E30:J30) -> 1
C31: Financeiro | D31: =ORÇAMENTO!G190 -> 498.72 | E31: =E30*$D$31 -> 0 | F31: =F30*$D$31 -> 0 | G31: =G30*$D$31 -> 0 | H31: =H30*$D$31 -> 0 | I31: =I30*$D$31 -> 249.36 | J31: =J30*$D$31 -> 249.36 | K31: =SUM(E31:J31) -> 498.72
A32: =ORÇAMENTO!A191 -> 12. | B32: =ORÇAMENTO!B191 -> PINTURA | C32: Físico % | D32: 1 | F32: 0.3 | H32: 0.15 | I32: 0.1 | J32: 0.45 | K32: =SUM(E32:J32) -> 1
C33: Financeiro | D33: =ORÇAMENTO!G211 -> 94470.53 | E33: =E32*$D$33 -> 0 | F33: =F32*$D$33 -> 28341.159 | G33: =G32*$D$33 -> 0 | H33: =H32*$D$33 -> 14170.579 | I33: =I32*$D$33 -> 9447.053 | J33: =J32*$D$33 -> 42511.738 | K33: =SUM(E33:J33) -> 94470.53
A34: =ORÇAMENTO!A212 -> 13. | B34: =ORÇAMENTO!B212 -> PISOS | C34: Físico % | D34: 1 | G34: 0.25 | H34: 0.25 | I34: 0.15 | J34: 0.35 | K34: =SUM(E34:J34) -> 1
C35: Financeiro | D35: =ORÇAMENTO!G224 -> 155553.02 | E35: =E34*$D$35 -> 0 | F35: =F34*$D$35 -> 0 | G35: =G34*$D$35 -> 38888.255 | H35: =H34*$D$35 -> 38888.255 | I35: =I34*$D$35 -> 23332.953 | J35: =J34*$D$35 -> 54443.557 | K35: =SUM(E35:J35) -> 155553.02
A36: =ORÇAMENTO!A225 -> 14. | B36: =ORÇAMENTO!B225 -> FORRO E TETOS | C36: Físico % | D36: 1 | J36: 1 | K36: =SUM(E36:J36) -> 1
C37: Financeiro | D37: =ORÇAMENTO!G228 -> 2948.08 | E37: =E36*$D$37 -> 0 | F37: =F36*$D$37 -> 0 | G37: =G36*$D$37 -> 0 | H37: =H36*$D$37 -> 0 | I37: =I36*$D$37 -> 0 | J37: =J36*$D$37 -> 2948.08 | K37: =SUM(E37:J37) -> 2948.08
A38: =ORÇAMENTO!A229 -> 15. | B38: =ORÇAMENTO!B229 -> PROJETOS | C38: Físico % | D38: 1 | F38: 0.9 | J38: 0.1 | K38: =SUM(E38:J38) -> 1
C39: Financeiro | D39: =ORÇAMENTO!G232 -> 6101.75 | E39: =E38*$D$39 -> 0 | F39: =F38*$D$39 -> 5491.575 | G39: =G38*$D$39 -> 0 | H39: =H38*$D$39 -> 0 | I39: =I38*$D$39 -> 0 | J39: =J38*$D$39 -> 610.175 | K39: =SUM(E39:J39) -> 6101.75
A40: =ORÇAMENTO!A233 -> 16. | B40: =ORÇAMENTO!B233 -> SERVIÇOS COMPLEMENTARES | C40: Físico % | D40: 1 | E40: 0.15 | F40: 0.2 | G40: 0.2 | H40: 0.1 | I40: 0.05 | J40: 0.3 | K40: =SUM(E40:J40) -> 1
C41: Financeiro | D41: =ORÇAMENTO!G252 -> 94313.89 | E41: =E40*$D$41 -> 14147.083 | F41: =F40*$D$41 -> 18862.778 | G41: =G40*$D$41 -> 18862.778 | H41: =H40*$D$41 -> 9431.389 | I41: =I40*$D$41 -> 4715.6945 | J41: =J40*$D$41 -> 28294.167 | K41: =SUM(E41:J41) -> 94313.89
A42: TOTAL | C42: Físico % | D42: 1 | E42: =E43/$D$43 -> 0.14141493 | F42: =F43/$D$43 -> 0.14218097 | G42: =G43/$D$43 -> 0.15995557 | H42: =H43/$D$43 -> 0.17662393 | I42: =I43/$D$43 -> 0.19536927 | J42: =J43/$D$43 -> 0.18445533 | K42: =SUM(E42:J42) -> 1
...

Sheet COMPOSIÇÃO
A2: COMPOSIÇÃO DE CUSTO
A3: =ORÇAMENTO!A3 -> OBRA: PROJETO VILLA DO BOI | G3: DATA: | H3: =ORÇAMENTO!I3 -> 46134
A4: =ORÇAMENTO!A4 -> LOCAL: RUA GUARDA MOR LUSTOSA, S/Nº - CENTRO, OURO FINO - MG
A5: =ORÇAMENTO!A5 -> REGIÃO/MÊS DE REF.: SICOR SUL - OUT/2025 SEM DESONERAÇÃO / SINAPI JAN/2026 NÃO DESONERADO
A6: =ORÇAMENTO!A6 -> PRAZO DE EXECUÇÃO: 6 MESES
A7: =ORÇAMENTO!A7 -> VALOR ESTIMADO DA OBRA: | D7: =ORÇAMENTO!D7 -> 1004805.6
A9: =ORÇAMENTO!A53 -> 4.1 | B9: 103325/1 | C9: ALVENARIA DE VEDAÇÃO DE PARALELEPÍPEDOS DE 14X14X19 CM (ESPESSURA 14 CM) E ARGAMASSA DE ASSENTAMENTO COM PREPARO MANUAL. (EXCLUSIVE O PARALELEPÍPEDO). | E9: UNIDADE | F9: M2
A10: TIPO | B10: CODIGO | D10: DESCRIÇÃO | E10: UNID | F10: ÍNDICE | G10: UNIT. (R$) | H10: TOTAL
A12: INSUMO / COMPOSIÇÃO | B12: FONTE | C12: CÓDIGO | D12: DESCRIÇÃO | E12: UN | F12: COEF. | G12: CUSTO UNITÁRIO | H12: SUBTOTAL
A13: INSUMO | B13: SINAPI-I | C13: 37395 | D13: PINO DE ACO COM FURO, HASTE = 27 MM (ACAO DIRETA) | E13: CENTO | F13: 0.01 | G13: 41.93
A14: INSUMO | B14: SINAPI-I | C14: 34547 | D14: TELA DE ACO SOLDADA GALVANIZADA/ZINCADA PARA ALVENARIA, FIO D = *1,20 A 1,70* MM, MALHA 15 X 15 MM, (C X L) *50 X 12* CM | E14: M | F14: 0.42 | G14: 3.29 | H14: =G14*F14 -> 1.3818
A15: COMPOSIÇÃO | B15: SINAPI | C15: 88316 | D15: SERVENTE COM ENCARGOS COMPLEMENTARES | E15: H | F15: 0.565 | G15: 31.15 | H15: =G15*F15 -> 17.59975
A16: COMPOSIÇÃO | B16: SINAPI | C16: 88309 | D16: PEDREIRO COM ENCARGOS COMPLEMENTARES | E16: H | F16: 1.13 | G16: 35.87 | H16: =G16*F16 -> 40.5331
A17: COMPOSIÇÃO | B17: SINAPI | C17: 87369 | D17: ARGAMASSA TRAÇO 1:2:8 (EM VOLUME DE CIMENTO, CAL E AREIA MÉDIA ÚMIDA) PARA EMBOÇO/MASSA ÚNICA/ASSENTAMENTO DE ALVENARIA DE VEDAÇÃO, PREPARO MANUAL. AF_08/2019 | E17: M3 | F17: 0.0105 | G17: 766.72 | H17: =G17*F17 -> 8.05056
F18: VALOR TOTAL | H18: =ROUND(SUM(H13:H17),2) -> 67.57
A19: =ORÇAMENTO!A54 -> 4.2 | B19: 20208/1 | C19: BANCO DE MADEIRA DO JARDIM | E19: UNIDADE | F19: M2
A20: TIPO | B20: CODIGO | D20: DESCRIÇÃO | E20: UNID | F20: ÍNDICE | G20: UNIT. (R$) | H20: TOTAL
A22: INSUMO / COMPOSIÇÃO | B22: FONTE | C22: CÓDIGO | D22: DESCRIÇÃO | E22: UN | F22: COEF. | G22: CUSTO UNITÁRIO | H22: SUBTOTAL
A23: INSUMO | B23: SINAPI-I | C23: 20208 | D23: PRANCHAO APARELHADO *8 X 30* CM, EM MACARANDUBA/MASSARANDUBA, ANGELIM OU EQUIVALENTE DA REGIAO | E23: M | F23: 3 | G23: 137.45 | H23: =G23*F23 -> 412.35
A24: INSUMO | B24: SINAPI-I | C24: 10481 | D24: VERNIZ MARITIMO PREMIUM PARA MADEIRA, COM FILTRO SOLAR, BRILHANTE, USO INTERNO E EXTERNO | E24: L | F24: 0.25 | G24: 36.55 | H24: =G24*F24 -> 9.1375
A25: COMPOSIÇÃO | B25: SINAPI | C25: 88243 | D25: AJUDANTE ESPECIALIZADO COM ENCARGOS COMPLEMENTARES | E25: H | F25: 0.25 | G25: 32.46 | H25: =G25*F25 -> 8.115
A26: COMPOSIÇÃO | B26: SINAPI | C26: 88273 | D26: MARCENEIRO COM ENCARGOS COMPLEMENTARES | E26: H | F26: 0.35 | G26: 35.24 | H26: =G26*F26 -> 12.334
F27: VALOR TOTAL | H27: =ROUND(SUM(H23:H26),2) -> 441.94
A28: =ORÇAMENTO!A55 -> 4.3 | B28: 86895/1 | C28: BANCADA DE GRANITO - FORNECIMENTO E INSTALAÇÃO | E28: UNIDADE | F28: M2
A29: TIPO | B29: CODIGO | D29: DESCRIÇÃO | E29: UNID | F29: ÍNDICE | G29: UNIT. (R$) | H29: TOTAL
A31: INSUMO / COMPOSIÇÃO | B31: FONTE | C31: CÓDIGO | D31: DESCRIÇÃO | E31: UN | F31: COEF. | G31: CUSTO UNITÁRIO | H31: SUBTOTAL
A32: INSUMO | B32: SINAPI-I | C32: 37590 | D32: SUPORTE MAO-FRANCESA EM ACO, ABAS IGUAIS 30 CM, CAPACIDADE MINIMA 60 KG, BRANCO | E32: UN | F32: 2 | G32: 16.86 | H32: =G32*F32 -> 33.72
A33: INSUMO | B33: SINAPI-I | C33: 37329 | D33: REJUNTE EPOXI, QUALQUER COR | E33: KG | F33: 0.0154 | G33: 98.93 | H33: =G33*F33 -> 1.523522
A34: INSUMO | B34: SINAPI-I | C34: 11795 | D34: GRANITO PARA BANCADA, POLIDO, TIPO ANDORINHA/ QUARTZ/ CASTELO/ CORUMBA OU OUTROS EQUIVALENTES DA REGIAO, E= *2,5* CM | E34: M2 | F34: 0.397 | G34: 671.69 | H34: =G34*F34 -> 266.66093
A35: INSUMO | B35: SINAPI-I | C35: 7568 | D35: BUCHA DE NYLON SEM ABA S10, COM PARAFUSO DE 6,10 X 65 MM EM ACO ZINCADO COM ROSCA SOBERBA, CABECA CHATA E FENDA PHILLIPS | E35: UN | F35: 6 | G35: 0.3 | H35: =G35*F35 -> 1.8
A36: COMPOSIÇÃO | B36: SINAPI | C36: 88243 | D36: AJUDANTE ESPECIALIZADO COM ENCARGOS COMPLEMENTARES | E36: H | F36: 0.9811 | G36: 32.46 | H36: =G36*F36 -> 31.846506
A37: COMPOSIÇÃO | B37: SINAPI | C37: 88274 | D37: MARMORISTA/GRANITEIRO COM ENCARGOS COMPLEMENTARES | E37: H | F37: 1.9209 | G37: 36.64 | H37: =G37*F37 -> 70.381776
F38: VALOR TOTAL | H38: =ROUND(SUM(H32:H37),2) -> 405.93
A39: =ORÇAMENTO!A56 -> 4.4 | B39: 104942/1 | C39: BRISE DE MADEIRA ECOLOGICO, INCLUSO PINTURA VERNIZ - FORNECIMENTO E INSTALAÇÃO | E39: UNIDADE | F39: M2
A40: TIPO | B40: CODIGO | D40: DESCRIÇÃO | E40: UNID | F40: ÍNDICE | G40: UNIT. (R$) | H40: TOTAL
A42: INSUMO / COMPOSIÇÃO | B42: FONTE | C42: CÓDIGO | D42: DESCRIÇÃO | E42: UN. | F42: COEF. | G42: CUSTO UNITÁRIO | H42: SUBTOTAL
A43: INSUMO | B43: SINAPI | C43: 96112 | D43: FORRO EM MADEIRA PINUS, PARA AMBIENTES RESIDENCIAIS, INCLUSIVE ESTRUTURA UNIDIRECIONAL DE FIXAÇÃO. AF_08/2023 | E43: M2 | F43: 1.05 | G43: 168.76 | H43: =G43*F43 -> 177.198
A44: INSUMO | B44: SINAPI-I | C44: 10481 | D44: VERNIZ MARITIMO PREMIUM PARA MADEIRA, COM FILTRO SOLAR, BRILHANTE, USO INTERNO E EXTERNO | E44: L | F44: 0.125 | G44: 36.55 | H44: =G44*F44 -> 4.56875
A45: COMPOSIÇÃO | B45: SINAPI | C45: 88243 | D45: AJUDANTE ESPECIALIZADO COM ENCARGOS COMPLEMENTARES | E45: H | F45: 0.30759 | G45: 32.46 | H45: =G45*F45 -> 9.9843714
A46: COMPOSIÇÃO | B46: SINAPI | C46: 88273 | D46: MARCENEIRO COM ENCARGOS COMPLEMENTARES | E46: H | F46: 0.43062 | G46: 35.24 | H46: =G46*F46 -> 15.175049
...

Sheet MEMORIA DE CÁLCULO
A2: MEMÓRIA DE CÁLCULO
A3: =ORÇAMENTO!A3 -> OBRA: PROJETO VILLA DO BOI | L3: =ORÇAMENTO!H3 -> DATA: | M3: =ORÇAMENTO!I3 -> 46134
A4: =ORÇAMENTO!A4 -> LOCAL: RUA GUARDA MOR LUSTOSA, S/Nº - CENTRO, OURO FINO - MG | L4: FORMA DE EXECUÇÃO:
A5: =ORÇAMENTO!A5 -> REGIÃO/MÊS DE REF.: SICOR SUL - OUT/2025 SEM DESONERAÇÃO / SINAPI JAN/2026 NÃO DESONERADO | L5: INDIRETA
A6: =ORÇAMENTO!A6 -> PRAZO DE EXECUÇÃO: 6 MESES | L6: BDI | M6: =ORÇAMENTO!I6 -> 0.2341
A7: =ORÇAMENTO!A7 -> VALOR ESTIMADO DA OBRA: | D7: =ORÇAMENTO!D7 -> 1004805.6
A9: Item | C9: =ORÇAMENTO!B10 -> SERVIÇOS PRELIMINARES
A11: =ORÇAMENTO!A11 -> 1.1 | C11: =ORÇAMENTO!D11 -> FORNECIMENTO E INSTALAÇÃO DE PLACA DE OBRA COM CHAPA GALVANIZADA E ESTRUTURA DE MADEIRA. AF_03/2022_PS | M11: =ORÇAMENTO!E11 -> M2
B13: Quantidade | D13: = | E13: 1.5 | F13: x | G13: 3 | L13: = | M13: =E13*G13 -> 4.5
B14: praça | E14: comprimento | G14: altura
B16: TOTAL | L16: = | M16: =M13 -> 4.5
A18: =ORÇAMENTO!A12 -> 1.2 | C18: =ORÇAMENTO!D12 -> TAPUME COM TELHA METÁLICA. AF_03/2024 | M18: =ORÇAMENTO!E12 -> M2
B20: Perimetro | D20: = | E20: =98.0128+17.9111 -> 115.9239 | F20: x | G20: 1.8 | I20: PROJ. ARQUITETONICO | L20: = | M20: =E20*G20 -> 208.66302
B21: praça | E21: comprimento | G21: altura
B23: TOTAL | I23: medidas retiradas do autocad | L23: = | M23: =SUM(M20:M22) -> 208.66302
A25: =ORÇAMENTO!A13 -> 1.3 | C25: =ORÇAMENTO!D13 -> PORTÃO PARA TAPUME FIXO DE PROTEÇÃO COM FECHAMENTO DE OBRA EM CHAPA DE COMPENSADO, ESP. 12MM, COM MÓDULO NA DIMENSÃO DE (110X220)CM, INCLUSIVE FERRAGENS E PINTURA LÁTEX (PVA) COM DUAS (2) DEMÃOS | M25: =ORÇAMENTO!E13 -> M2
B27: Quantidade | D27: = | E27: 2.5 | F27: x | G27: 1.8 | L27: = | M27: =E27*G27 -> 4.5
B28: Escola | E28: perimetro | G28: altura
B30: TOTAL | L30: = | M30: =M27 -> 4.5
A32: =ORÇAMENTO!A14 -> 1.4 | C32: =ORÇAMENTO!D14 -> ENTRADA DE ENERGIA ELÉTRICA, AÉREA, TRIFÁSICA, COM CAIXA DE EMBUTIR, CABO DE 35 MM2 E DISJUNTOR DIN 50A (NÃO INCLUSO O POSTE DE CONCRETO). AF_12/2025 | M32: =ORÇAMENTO!E14 -> UN
B34: Quantidade | D34: = | E34: 1 | L34: = | M34: =E34 -> 1
B35: praça | E35: Quantidade
B37: TOTAL | L37: = | M37: =M34 -> 1
A39: =ORÇAMENTO!A15 -> 1.5 | C39: =ORÇAMENTO!D15 -> LOCAÇÃO DE CONTAINER COM ISOLAMENTO TÉRMICO, TIPO 3, PARA DEPÓSITO/FERRAMENTARIA DE OBRA, COM MEDIDAS REFERENCIAIS DE (6) METROS COMPRIMENTO, (2,3) METROS LARGURA E (2,5) METROS ALTURA ÚTIL INTERNA, INCLUSIVE LIGAÇÕES ELÉTRICAS INTERNAS, EXCLUSIVE MOBILIZAÇÃO/DESMOBILIZAÇÃO E LIGAÇÕES PROVISÓRIAS EXTERNAS | M39: =ORÇAMENTO!E15 -> MÊS
B41: Quantidade | D41: = | E41: 6 | L41: = | M41: =E41 -> 6
B42: praça | E42: mês
B44: TOTAL | L44: = | M44: =M41 -> 6
A46: =ORÇAMENTO!A16 -> 1.6 | C46: =ORÇAMENTO!D16 -> LIGAÇÕES PROVISÓRIAS PARA CONTAINER TIPO 3 (CORRESPONDENTE AO CÓDIGO ED-16350) | M46: =ORÇAMENTO!E16 -> UN
B48: Quantidade | D48: = | E48: 1 | L48: = | M48: =E48 -> 1
B49: Escola | E49: Quantidade
B51: TOTAL | L51: = | M51: =M48 -> 1
A53: =ORÇAMENTO!A17 -> 1.7 | C53: =ORÇAMENTO!D17 -> LOCAÇÃO DE OBRA COM GABARITO DE TÁBUAS CORRIDAS PONTALETADAS A CADA 2,00M, REAPROVEITAMENTO (2X), INCLUSIVE ACOMPANHAMENTO DE EQUIPE TOPOGRÁFICA PARA MARCAÇÃO DE PONTO TOPOGRÁFICO | M53: =ORÇAMENTO!E17 -> M
B55: Quantidade | D55: = | E55: =48.6792+31.4329+41.78+69.2451 -> 191.1372 | I55: PROJ. ARQUITETONICO | L55: = | M55: =E55 -> 191.1372
B56: praça | E56: perimetro
B58: TOTAL | E58: 0,50m Ddo eixo | I58: medidas retiradas do autocad | L58: = | M58: =M55 -> 191.1372
A60: =ORÇAMENTO!A18 -> 1.8 | C60: =ORÇAMENTO!D18 -> ENGENHEIRO CIVIL DE OBRA JUNIOR COM ENCARGOS COMPLEMENTARES | M60: =ORÇAMENTO!E18 -> H
B62: Quantidade | D62: = | E62: 2 | F62: x | G62: 2 | I62: 4 | K62: =M44 -> 6 | L62: = | M62: =E62*G62*I62*K62 -> 96
B63: praça | E63: hora | G63: dia | I63: semanas | K63: meses
B65: TOTAL | L65: = | M65: =M62 -> 96
A67: =ORÇAMENTO!A19 -> 1.9 | C67: =ORÇAMENTO!D19 -> MESTRE DE OBRAS COM ENCARGOS COMPLEMENTARES | M67: =ORÇAMENTO!E19 -> H
...

Sheet BDI
A2: CALCULO DO BDI
A3: =ORÇAMENTO!A3 -> OBRA: PROJETO VILLA DO BOI | I3: =ORÇAMENTO!H3 -> DATA: | J3: =ORÇAMENTO!I3 -> 46134
A4: =ORÇAMENTO!A4 -> LOCAL: RUA GUARDA MOR LUSTOSA, S/Nº - CENTRO, OURO FINO - MG
A5: =ORÇAMENTO!A5 -> REGIÃO/MÊS DE REF.: SICOR SUL - OUT/2025 SEM DESONERAÇÃO / SINAPI JAN/2026 NÃO DESONERADO
A6: =ORÇAMENTO!A6 -> PRAZO DE EXECUÇÃO: 6 MESES
A7: =ORÇAMENTO!A7 -> VALOR ESTIMADO DA OBRA: | D7: =ORÇAMENTO!D7 -> 1004805.6
A10: Conforme legislação tributária municipal, definir estimativa de percentual da base de cálculo para o ISS: | I10: 1
A11: Sobre a base de cálculo, definir a respectiva alíquota do ISS (entre 2% e 5%): | I11: 0.05
A14: BDI
A16: TIPO DE OBRA
A18: Construção e Reforma de Edifícios
A21: Itens | I21: Siglas | J21: % Adotado
A23: Administração Central | I23: AC | J23: 0.03
A24: Seguro e Garantia | I24: SG | J24: 0.008
A25: Risco | I25: R | J25: 0.0097
A26: Despesas Financeiras | I26: DF | J26: 0.0059
A27: Lucro | I27: L | J27: 0.0616
A28: Tributos (impostos COFINS 3%, e PIS 0,65%) | I28: CP | J28: 0.0365
A29: Tributos (ISS, variável de acordo com o município) | I29: ISS | J29: 0.05
A30: Tributos (Contribuição Previdenciária sobre a Receita Bruta - 0% ou 4,5% - Desoneração) | I30: CPRB
A31: BDI SEM desoneração (Fórmula Acórdão TCU) | I31: BDI PAD | J31: 0.2341
A35: Os valores de BDI foram calculados com o emprego da fórmula:
D36: BDI = | E36: (1+AC + S + R + G)*(1 + DF)*(1+L) | H36: - 1
E37: (1-CP-ISS-CRPB)
A42: Declaro para os devidos fins que, conforme legislação tributária municipal, a base de cálculo deste tipo de obra corresponde à 100%, com a respectiva alíquota de 5%.
A46: Declaro para os devidos fins que o regime de Contribuição Previdenciária sobre a Receita Bruta adotado para elaboração do orçamento foi SEM Desoneração, e que esta é a alternativa mais adequada para a Administração Pública.
A55: _______________________________________
A56: Responsável Técnico: Daniel Teixeira
A57: Engenheiro Civil - CREA MG 88325/D
