Workbook

Sheet BDI 1 
A1: PREFEITURA MUNICIPAL DE CAMBUÍ ESTADO DE MINAS GERAIS GESTÃO 2025 / 2028
A2: BDI (CONFORME ACÓRDÃO Nº 2622 / 13 e LEI Nº13.161 DE 31/08/15
A3: OBRA: | D3: FORNECIMENTO DE INSUMOS E MÃO-DE-OBRA ESPECIALIZADA PARA EXECUÇÃO DE UMA EDIFICAÇÃO COM SANITÁRIOS, DEPÓSITO E LANCHONETE.
A4: LOCAL: | D4: ESTÁDIO EDMUNDO PACEAU, RUA FELIPE DOS SANTOS, CENTRO, CAMBUÍ, MG
A5: ÁREA CONSTRUÍDA COBERTA:* | D5: 115,47 m² - ÁREA DA EDIFICAÇÃO
A7: TIPO DE SERVIÇO | C7: OBRA DE EDIFICAÇÃO
A8: ISS | C8: 0.03
C16: CUSTO DIRETO | D16: CD | E16: 1 | H16: ¹ - QUANTO AO ISS O TCU ORIENTA OBSERVAR A LEGISLAÇÃO DO MUNICÍPIO. NO REFERIDO ACÓRDÃO O TCU PARTIU DA PREMISSA DE INCIDÊNCIA DO ISS EM 50% DO PREÇO DE VENDA, COM PERCENTUAIS DE 2%, 3%, 4% E 5%.
C17: ADMINISTRAÇÃO CENTRAL | D17: AC | E17: 0.055
C18: LUCRO BRUTO | D18: L | E18: 0.075
C19: DESPESAS FINANCEIRAS | D19: DF | E19: 0.0105
C20: SEGUROS GARANTIAS E RISCOS | E20: 0.0227
C21: SEGUROS + GARANTIAS | D21: S | E21: 0.01
C22: RISCO | D22: R | E22: 0.0127
C23: TRIBUTOS | D23: I | E23: 0.0515
C24: ISS | D24: ISS ¹ | E24: 0.015
C25: PIS | D25: PIS | E25: 0.0065
C26: COFINS | D26: - | E26: 0.03
C27: CPRB (FOLHA DESONERADA) | D27: INSS
C29: BDI | E29: =(((1+(E17+E21+E22))*(1+E19)*(1+E18)/(1-E23))-1)-0.01% -> 0.23415623
D35: Mateus Pedro da Silva | J35: Leonardo Mesquita Reis Belico
D36: Engenheiro Civil | J36: Arquiteto e Urbanista

Sheet BDI 2 
A1: PREFEITURA MUNICIPAL DE CAMBUÍ ESTADO DE MINAS GERAIS GESTÃO 2025 / 2028
A2: BDI (CONFORME ACÓRDÃO Nº 2622 / 13 e LEI Nº13.161 DE 31/08/15
A3: OBRA:
A4: LOCAL:
A5: ÁREA CONSTRUÍDA COBERTA:*
A7: TIPO DE SERVIÇO | C7: OBRA RODOVIÁRIA
A8: ISS | C8: 0.03
C16: CUSTO DIRETO | D16: CD | E16: 1 | H16: ¹ - QUANTO AO ISS O TCU ORIENTA OBSERVAR A LEGISLAÇÃO DO MUNICÍPIO. NO REFERIDO ACÓRDÃO O TCU PARTIU DA PREMISSA DE INCIDÊNCIA DO ISS EM 50% DO PREÇO DE VENDA, COM PERCENTUAIS DE 2%, 3%, 4% E 5%.
C17: ADMINISTRAÇÃO CENTRAL | D17: AC | E17: 0.0467
C18: LUCRO BRUTO | D18: L | E18: 0.0753
C19: DESPESAS FINANCEIRAS | D19: DF | E19: 0.0105
C20: SEGUROS GARANTIAS E RISCOS | E20: 0.0171
C21: SEGUROS + GARANTIAS | D21: S | E21: 0.0074
C22: RISCO | D22: R | E22: 0.0097
C23: TRIBUTOS | D23: I | E23: 0.0575
C24: ISS | D24: ISS ¹ | E24: 0.021
C25: PIS | D25: PIS | E25: 0.0065
C26: COFINS | D26: - | E26: 0.03
C27: CPRB (FOLHA DESONERADA) | D27: INSS
C29: BDI | E29: =((1+(E17+E21+E22))*(1+E19)*(1+E18)/(1-E23))-1 -> 0.22643515
D39: Mateus Pedro da Silva | J39: Leonardo Mesquita Reis Belico
D40: Engenheiro Civil | J40: Arquiteto e Urbanista

Sheet COMPOSIÇÕES UNITÁRIAS
A2: PREFEITURA MUNICIPAL DE CAMBUÍ ESTADO DE MINAS GERAIS GESTÃO 2025 / 2028
A3: COMPOSIÇÕES DE CUSTO UNITÁRIO
A4: OBRA: | D4: FORNECIMENTO DE INSUMOS E MÃO-DE-OBRA ESPECIALIZADA PARA EXECUÇÃO DE UMA EDIFICAÇÃO COM SANITÁRIOS, DEPÓSITO E LANCHONETE.
A5: LOCAL: | D5: ESTÁDIO EDMUNDO PACEAU, RUA FELIPE DOS SANTOS, CENTRO, CAMBUÍ, MG
A6: ÁREA CONSTRUÍDA COBERTA:* | D6: 115,47 m² - ÁREA DA EDIFICAÇÃO
A7: SINAPI | C7: 45962
A8: SICRO | C8: 45931 | E8: CONSTRUÇÃO DE EDIFÍCIOS | I8: BDI 1 | J8: 0.2312
A9: SEINFRA | C9: 45931 | J9: =J8+1 -> 1.2312
A10: CDHU | C10: 45870 | E10: NÃO SE APLICA | I10: BDI 2 | J10: 0
A11: ORSE | C11: 10/2025 - 1 | J11: =J10+1 -> 1
A12: Preços sem desoneração
B13: FONTE | C13: CÓDIGO | D13: DESCRIÇÃO | E13: UNIDADE | F13: VALOR UNITÁRIO | G13: COEFICIENTE | J13: VALOR TOTAL
B15: PRÓPRIA | C15: CPU 001 | D15: ADMINISTRAÇÃO LOCAL | E15: MÊS | J15: =J16 -> 3007.18
B16: SINAPI | C16: 90778 | D16: ENGENHEIRO CIVIL DE OBRA PLENO COM ENCARGOS COMPLEMENTARES | E16: H | F16: 136.69 | G16: 22 | J16: =ROUND(F16*G16,2) -> 3007.18
B18: PRÓPRIA | C18: CPU 002 | D18: TRAMA DE MADEIRA COMPOSTA POR TERÇAS PARA TELHADOS DE ATÉ 2 ÁGUAS PARA TELHA ONDULADA DE FIBROCIMENTO, METÁLICA, PLÁSTICA OU TERMOACÚSTICA, INCLUSO TRANSPORTE VERTICAL. | E18: M2 | J18: =ROUND(SUM(J19:J22),2) -> 68.21
B19: SINAPI | C19: 88262 | D19: CARPINTEIRO DE FORMAS COM ENCARGOS COMPLEMENTARES | E19: H | F19: 30.96 | G19: 0.118 | J19: =ROUND(F19*G19,2) -> 3.65
B20: SINAPI | C20: 88239 | D20: AJUDANTE DE CARPINTEIRO COM ENCARGOS COMPLEMENTARES | E20: H | F20: 25.54 | G20: 0.065 | J20: =ROUND(F20*G20,2) -> 1.66
B21: SINAPI - MATERIAL | C21: 40568 | D21: PREGO DE ACO POLIDO COM CABECA 22 X 48 (4 1/4 X 5) | E21: KG | F21: 17.7 | G21: 0.03 | J21: =ROUND(F21*G21,2) -> 0.53
B22: SINAPI - MATERIAL | C22: 20211 | D22: VIGA APARELHADA *6 X 16* CM, EM MACARANDUBA/MASSARANDUBA, ANGELIM OU EQUIVALENTE DA REGIAO | E22: M | F22: 47.98 | G22: 1.3 | J22: =ROUND(F22*G22,2) -> 62.37
B24: PRÓPRIA | C24: CPU 003 | D24: LAJE DE CONCRETO ARMADO PARA COBERTURA DE ABRIGO DE GÁS | E24: M2 | J24: =ROUND(SUM(J25:J27),2) -> 366.52
B25: SEINFRA | C25: ED-29550 | D25: CORTE, DOBRA E MONTAGEM DE AÇO CA-50, DIÂMETRO 8MM, INCLUSIVE ESPAÇADOR | E25: Kg | F25: 13.94 | G25: 5.53 | J25: =ROUND(F25*G25,2) -> 77.09
B26: SEINFRA | C26: ED-49786 | D26: FORNECIMENTO DE CONCRETO ESTRUTURAL, PREPARADO EM OBRA COM BETONEIRA, COM FCK 20MPA, INCLUSIVE LANÇAMENTO, ADENSAMENTO E ACABAMENTO (FUNDAÇÃO) | E26: m3 | F26: 786.11 | G26: 0.07 | J26: =ROUND(F26*G26,2) -> 55.03
B27: SINAPI | C27: 92448 | D27: MONTAGEM E DESMONTAGEM DE FÔRMA DE VIGA, ESCORAMENTO COM PONTALETE DE MADEIRA, PÉ-DIREITO SIMPLES, EM MADEIRA SERRADA, 4 UTILIZAÇÕES. AF_09/2020 | E27: M2 | F27: 193.72 | G27: 1.21 | J27: =ROUND(F27*G27,2) -> 234.4
B29: PRÓPRIA | C29: CPU 004 | D29: RODAPÉ DE 10 CM DE ALTURA, EM PORCELANATO, COM PLACAS TIPO ESMALTADA DE DIMENSÕES 60X60CM. | E29: M2 | J29: =SUM(J30:J34) -> 24.24
B30: SINAPI | C30: 88256 | D30: AZULEJISTA OU LADRILHEIRO COM ENCARGOS COMPLEMENTARES | E30: H | F30: 33.56 | G30: 0.1244 | J30: =ROUND(F30*G30,2) -> 4.17
B31: SINAPI | C31: 88316 | D31: SERVENTE COM ENCARGOS COMPLEMENTARES | E31: H | F31: 23.58 | G31: 0.0466 | J31: =ROUND(F31*G31,2) -> 1.1
B32: SINAPI - MATERIAL | C32: 34357 | D32: REJUNTE CIMENTICIO, QUALQUER COR | E32: KG | F32: 3.99 | G32: 0.1271 | J32: =ROUND(F32*G32,2) -> 0.51
B33: SINAPI - MATERIAL | C33: 1381 | D33: ARGAMASSA COLANTE AC I PARA CERAMICAS | E33: KG | F33: 0.68 | G33: 0.9129 | J33: =ROUND(F33*G33,2) -> 0.62
B34: SINAPI - MATERIAL | C34: 45190 | D34: PISO EM PORCELANATO, RETIFICADO, LISO, MONOCOLOR, ACETINADO OU POLIDO, FORMATO MAIOR QUE 2500 ATE 6400 CM2 | E34: M2 | F34: 67.25 | G34: 0.2653 | J34: =ROUND(F34*G34,2) -> 17.84
B36: PRÓPRIA | C36: CPU 005 | D36: EXECUÇÃO DE ESTACA TIPO HÉLICE CONTÍNUA, DIÂMETRO 25CM, INCLUSIVE AFASTAMENTO LATERAL, EXCLUSIVE ARMAÇÃO, CONCRETO ESTRUTURAL, TRANSPORTE E RETIRADA DO MATERIAL ESCAVADO | E36: M | J36: =SUM(J37:J38) -> 44.86
B37: SEINFRA | C37: EQED-26495 | D37: PERFURATRIZ HIDRÁULICA (TIPO: SOBRE ESTEIRAS|POTÊNCIA: 283-300KW | COMBUSTÍVEL: DIESEL | REFERÊNCIA: E9516 OU EQUIVALENTE | PESO*: 65.000KG|OPERADOR: INCLUSO)* VALORES REFERENCIAIS APROXIMADOS | E37: M | F37: 25.17 | G37: 1 | J37: =ROUND(F37*G37,2) -> 25.17
B38: SEINFRA | C38: ED-50367 | D38: SERVENTE COM ENCARGOS COMPLEMENTARES | E38: hora | F38: 22.66 | G38: 0.8689883 | J38: =ROUND(F38*G38,2) -> 19.69
B40: PRÓPRIA | C40: CPU 006 | D40: REVESTIMENTO COM LADRILHO HIDRÁULICO APLICADO EM PISO COM JUNTA SECA, NA COR NATURAL, TIPO MILANO ASSENTAMENTO COM ARGAMASSA INDUSTRIALIZADA | E40: M | J40: =SUM(J41:J44) -> 144.54
B41: SINAPI - MATERIAL | C41: 38138 | D41: LADRILHO HIDRAULICO, *30 X 30* CM, E= 2 CM, PADRAO MILANO, COR NATURAL | E41: M2 | F41: 102.96 | G41: 1.05 | J41: =ROUND(F41*G41,2) -> 108.11
B42: SEINFRA | C42: MATED-12352 | D42: ARGAMASSA COLANTE (TIPO: AC-III|UTILIZAÇÃO: AMBIENTES INTERNOS E EXTERNOS) | E42: Kg | F42: 1.8 | G42: 4.5 | J42: =ROUND(F42*G42,2) -> 8.1
B43: SEINFRA | C43: ED-50367 | D43: SERVENTE COM ENCARGOS COMPLEMENTARES | E43: hora | F43: 22.66 | G43: 0.3188406 | J43: =ROUND(F43*G43,2) -> 7.22
B44: SEINFRA | C44: ED-50379 | D44: LADRILHISTA COM ENCARGOS COMPLEMENTARES | E44: hora | F44: 33.11 | G44: 0.6376812 | J44: =ROUND(F44*G44,2) -> 21.11
B46: PRÓPRIA | C46: CPU 007 | D46: PORTAO DE ABRIR / GIRO, EM GRADIL DE METALON QUADRADO DE 40X40MM VERTICAL, COM REQUADRO, ACABAMENTO NATURAL - COMPLETO | E46: M2 | J46: =SUM(J47:J51) -> 661.73
B47: SINAPI - MATERIAL | C47: 4948 | D47: PORTAO DE ABRIR / GIRO, EM GRADIL DE METALON REDONDO DE 3/4" VERTICAL, COM REQUADRO, ACABAMENTO NATURAL - COMPLETO | E47: M2 | F47: 501.59 | G47: 1.01 | J47: =ROUND(F47*G47,2) -> 506.61
B48: SINAPI - MÃO DE OBRA | C48: 6110 | D48: SERRALHEIRO (HORISTA) | E48: H | F48: 25.86 | G48: 0.05 | J48: =ROUND(F48*G48,2) -> 1.29
...

Sheet P.O.
B1: PREFEITURA MUNICIPAL DE CAMBUÍ ESTADO DE MINAS GERAIS GESTÃO 2025 / 2028
B2: PLANILHA ORÇAMENTÁRIA
B3: OBRA: | E3: FORNECIMENTO DE INSUMOS E MÃO-DE-OBRA ESPECIALIZADA PARA EXECUÇÃO DE UMA EDIFICAÇÃO COM SANITÁRIOS, DEPÓSITO E LANCHONETE.
B4: LOCAL: | E4: ESTÁDIO EDMUNDO PACEAU, RUA FELIPE DOS SANTOS, CENTRO, CAMBUÍ, MG
B5: ÁREA CONSTRUÍDA COBERTA:* | E5: 115,47 m² - ÁREA DA EDIFICAÇÃO
B6: SINAPI | D6: 46023 | F6: CONSTRUÇÃO DE EDIFÍCIOS | J6: BDI 1 | K6: 0.2342
B7: SICRO | D7: 45931 | K7: =K6+1 -> 1.2342
B8: SEINFRA | D8: 45931 | F8: NÃO SE APLICA | J8: BDI 2 | K8: 0
B9: CDHU | D9: 45992 | K9: =K8+1 -> 1
B10: ORSE | D10: 01/2026 - 1 | F10: VALOR TOTAL DA OBRA: | J10: =ROUND((SUM(L:L)),2) -> 646717.3
B11: Preços sem desoneração
B12: ITEM | C12: FONTE | D12: CÓDIGO | E12: DESCRIÇÃO DO ITEM | F12: UNIDADE | G12: PREÇO REFERÊNCIA | H12: QUANTIDADE | I12: BDI | J12: PREÇO UNITÁRIO | K12: PREÇO TOTAL | L12: Subtotais dos Eventos:
A14: E | B14: 1 | E14: SERVIÇOS PRELIMINARES | L14: =ROUND(SUM(K15:K19),2) -> 6478.56
A15: S | B15: 1.1 | C15: SINAPI | D15: 103689 | E15: FORNECIMENTO E INSTALAÇÃO DE PLACA DE OBRA COM CHAPA GALVANIZADA E ESTRUTURA DE MADEIRA. AF_03/2022_PS | F15: M2 | G15: 427.4 | H15: 4.5 | I15: =$K$6 -> 0.2342 | J15: =ROUND((G15*$K$7),2) -> 527.5 | K15: =ROUND((H15*J15),2) -> 2373.75
A16: S | B16: 1.2 | C16: SINAPI | D16: 103694 | E16: FORNECIMENTO E INSTALAÇÃO DE SUPORTE DE MADEIRA PARA PLACAS DE SINALIZAÇÃO, EM SOLO, COM H= DE 2,5 M E SEÇÃO DE 7,5 X 7,5 CM. AF_03/2022 | F16: UN | G16: 116.47 | H16: 2 | I16: =$K$6 -> 0.2342 | J16: =ROUND((G16*$K$7),2) -> 143.75 | K16: =ROUND((H16*J16),2) -> 287.5
A17: S | B17: 1.3 | C17: SEINFRA | D17: ED-50151 | E17: LIGAÇÃO PROVISÓRIA COM ENTRADA DE ENERGIA AÉREA, PADRÃO CEMIG, CARGA INSTALADA DE 15,1KVA ATÉ 30KVA, TRIFÁSICO, COM SAÍDA SUBTERRÂNEA, INCLUSIVE POSTE, CAIXA PARA MEDIDOR, DISJUNTOR, BARRAMENTO, ATERRAMENTO E ACESSÓRIOS | F17: un | G17: 830.96 | H17: 1 | I17: =$K$6 -> 0.2342 | J17: =ROUND((G17*$K$7),2) -> 1025.57 | K17: =ROUND((H17*J17),2) -> 1025.57
A18: S | B18: 1.4 | C18: SEINFRA | D18: ED-50150 | E18: LIGAÇÃO DE ÁGUA PROVISÓRIA PARA CANTEIRO, INCLUSIVE HIDRÔMETRO E CAVALETE PARA MEDIÇÃO DE ÁGUA - ENTRADA PRINCIPAL, EM AÇO GALVANIZADO DN 20MM (1/2") - PADRÃO CONCESSIONÁRIA | F18: un | G18: 593.02 | H18: 1 | I18: =$K$6 -> 0.2342 | J18: =ROUND((G18*$K$7),2) -> 731.91 | K18: =ROUND((H18*J18),2) -> 731.91
A19: S | B19: 1.5 | C19: SEINFRA | D19: ED-50137 | E19: MOBILIZAÇÃO E DESMOBILIZAÇÃO DE CONTAINER, INCLUSIVE CARGA, DESCARGA E TRANSPORTE EM CAMINHÃO CARROCERIA COM GUINDAUTO (MUNCK), EXCLUSIVE LOCAÇÃO DO CONTAINER | F19: un | G19: 1668.96 | H19: 1 | I19: =$K$6 -> 0.2342 | J19: =ROUND((G19*$K$7),2) -> 2059.83 | K19: =ROUND((H19*J19),2) -> 2059.83
A21: E | B21: 2 | E21: ISOLAMENTO DA OBRA | L21: =ROUND(SUM(K22:K23),2) -> 16975.76
A22: S | B22: 2.1 | C22: SEINFRA | D22: ED-29823 | E22: TAPUME FIXO DE PROTEÇÃO PARA FECHAMENTO DE OBRA EM TELHA METÁLICA GALVANIZADA, TIPO TRAPEZOIDAL, ESP. 0,5MM, COM MÓDULO NA DIMENSÃO DE (300X220)CM, COM REAPROVEITAMENTO, EXCLUSIVE PINTURA ESMALTE, INCLUSIVE PONTALETE E FIXAÇÃO | F22: m2 | G22: 67.23 | H22: 170.04 | I22: =$K$6 -> 0.2342 | J22: =ROUND((G22*$K$7),2) -> 82.98 | K22: =ROUND((H22*J22),2) -> 14109.92
A23: S | B23: 2.2 | C23: SEINFRA | D23: ED-14457 | E23: PORTÃO PARA TAPUME FIXO DE PROTEÇÃO COM FECHAMENTO DE OBRA EM TELHA METÁLICA GALVANIZADA, TIPO TRAPEZOIDAL ESP. 0,5MM, COM MÓDULO NA DIMENSÃO DE (300X220)CM, EXCLUSIVE PINTURA ESMALTE | F23: m2 | G23: 193.5 | H23: 12 | I23: =$K$6 -> 0.2342 | J23: =ROUND((G23*$K$7),2) -> 238.82 | K23: =ROUND((H23*J23),2) -> 2865.84
A25: E | B25: 3 | E25: LOCAÇÕES DE EQUIPAMENTOS | L25: =ROUND(SUM(K26:K27),2) -> 31776.78
A26: S | B26: 3.1 | C26: SEINFRA | D26: ED-50155 | E26: LOCAÇÃO DE BANHEIRO QUÍMICO, DIMENSÃO (110X120X230)CM, LINHA PADRÃO, CONTENDO UMA (1) PIA/HIGIENIZADOR DE MÃOS, INCLUSIVE MANUTENÇÃO E MOBILIZAÇÃO/DESMOBILIZAÇÃO | F26: mês | G26: 1050 | H26: 14 | I26: =$K$6 -> 0.2342 | J26: =ROUND((G26*$K$7),2) -> 1295.91 | K26: =ROUND((H26*J26),2) -> 18142.74
A27: S | B27: 3.2 | C27: SINAPI - EQUIPAMENTO (LOCAÇÃO) | D27: 10776 | E27: LOCACAO DE CONTAINER 2,30 X 6,00 M, ALT. 2,50 M, PARA ESCRITORIO, SEM DIVISORIAS INTERNAS E SEM SANITARIO (NAO INCLUI MOBILIZACAO/DESMOBILIZACAO) | F27: MES | G27: 789.06 | H27: 14 | I27: =$K$6 -> 0.2342 | J27: =ROUND((G27*$K$7),2) -> 973.86 | K27: =ROUND((H27*J27),2) -> 13634.04
A29: E | B29: 4 | E29: LOCAÇÃO DE OBRAS | L29: =ROUND(SUM(K30:K31),2) -> 8597.07
A30: S | B30: 4.1 | C30: SINAPI | D30: 99059 | E30: LOCAÇÃO CONVENCIONAL DE OBRA, UTILIZANDO GABARITO DE TÁBUAS CORRIDAS PONTALETADAS A CADA 2,00M - 2 UTILIZAÇÕES. AF_03/2024 | F30: M | G30: 74.82 | H30: 59.77 | I30: =$K$6 -> 0.2342 | J30: =ROUND((G30*$K$7),2) -> 92.34 | K30: =ROUND((H30*J30),2) -> 5519.16
A31: S | B31: 4.2 | C31: SEINFRA | D31: ED-50275 | E31: LOCAÇÃO TOPOGRÁFICA DE VINTE UM (21) ATÉ CINQUENTA (50) PONTOS REFERENCIAIS, INCLUSIVE ESTACA (PIQUETE) DE MARCAÇÃO | F31: un | G31: 75.57 | H31: 33 | I31: =$K$6 -> 0.2342 | J31: =ROUND((G31*$K$7),2) -> 93.27 | K31: =ROUND((H31*J31),2) -> 3077.91
A33: E | B33: 5 | E33: ADMINISTRAÇÃO LOCAL | L33: =ROUND(SUM(K34),2) -> 51960.44
A34: S | B34: 5.1 | C34: PRÓPRIA | D34: CPU 001 | E34: ADMINISTRAÇÃO LOCAL | F34: MÊS | G34: 3007.18 | H34: 14 | I34: =$K$6 -> 0.2342 | J34: =ROUND((G34*$K$7),2) -> 3711.46 | K34: =ROUND((H34*J34),2) -> 51960.44
A36: E | B36: 6 | E36: FUNDAÇÃO - ESTACAS | L36: =ROUND(SUM(K37:K43),2) -> 22965.33
A37: S | B37: 6.1 | C37: PRÓPRIA | D37: CPU 005 | E37: EXECUÇÃO DE ESTACA TIPO HÉLICE CONTÍNUA, DIÂMETRO 25CM, INCLUSIVE AFASTAMENTO LATERAL, EXCLUSIVE ARMAÇÃO, CONCRETO ESTRUTURAL, TRANSPORTE E RETIRADA DO MATERIAL ESCAVADO | F37: m | G37: 44.86 | H37: 165 | I37: =$K$6 -> 0.2342 | J37: =ROUND((G37*$K$7),2) -> 55.37 | K37: =ROUND((H37*J37),2) -> 9136.05
A38: S | B38: 6.2 | C38: SEINFRA | D38: ED-29550 | E38: CORTE, DOBRA E MONTAGEM DE AÇO CA-50, DIÂMETRO 8MM, INCLUSIVE ESPAÇADOR | F38: Kg | G38: 13.94 | H38: 195.3 | I38: =$K$6 -> 0.2342 | J38: =ROUND((G38*$K$7),2) -> 17.2 | K38: =ROUND((H38*J38),2) -> 3359.16
A39: S | B39: 6.3 | C39: SEINFRA | D39: ED-29548 | E39: CORTE, DOBRA E MONTAGEM DE AÇO CA-60, DIÂMETRO 5MM, INCLUSIVE ESPAÇADOR | F39: Kg | G39: 14.28 | H39: 42.4 | I39: =$K$6 -> 0.2342 | J39: =ROUND((G39*$K$7),2) -> 17.62 | K39: =ROUND((H39*J39),2) -> 747.09
A40: S | B40: 6.4 | C40: SEINFRA | D40: ED-32124 | E40: FORNECIMENTO DE CONCRETO ESTRUTURAL, USINADO BOMBEADO, COM FCK 30MPA, CONSUMO MÍNIMO DE CIMENTO DE 400KG/M3, INCLUSIVE LANÇAMENTO, ADENSAMENTO E ACABAMENTO (FUNDAÇÃO) | F40: m3 | G40: 731.98 | H40: 10.23 | I40: =$K$6 -> 0.2342 | J40: =ROUND((G40*$K$7),2) -> 903.41 | K40: =ROUND((H40*J40),2) -> 9241.88
A41: S | B41: 6.5 | C41: SICRO | D41: 2306247 | E41: Arrasamento de estacas de concreto com seção de até 900 cm² | F41: m³ | G41: 268.43 | H41: 0.65 | I41: =$K$6 -> 0.2342 | J41: =ROUND((G41*$K$7),2) -> 331.3 | K41: =ROUND((H41*J41),2) -> 215.35
A42: S | B42: 6.6 | C42: SINAPI | D42: 100981 | E42: CARGA, MANOBRA E DESCARGA DE ENTULHO EM CAMINHÃO BASCULANTE 6 M³ - CARGA COM ESCAVADEIRA HIDRÁULICA (CAÇAMBA DE 0,80 M³ / 111 HP) E DESCARGA LIVRE (UNIDADE: M3). AF_07/2020 | F42: M3 | G42: 9.75 | H42: 10.88 | I42: =$K$6 -> 0.2342 | J42: =ROUND((G42*$K$7),2) -> 12.03 | K42: =ROUND((H42*J42),2) -> 130.89
A43: S | B43: 6.7 | C43: SEINFRA | D43: ED-29232 | E43: TRANSPORTE DE MATERIAL DE QUALQUER NATUREZA EM CAMINHÃO, DISTÂNCIA MAIOR QUE 5KM E MENOR OU IGUAL A 10KM, DENTRO DO PERÍMETRO URBANO, EXCLUSIVE CARGA, INCLUSIVE DESCARGA | F43: M3xKM | G43: 2.01 | H43: 54.4 | I43: =$K$6 -> 0.2342 | J43: =ROUND((G43*$K$7),2) -> 2.48 | K43: =ROUND((H43*J43),2) -> 134.91
A45: E | B45: 7 | E45: BLOCOS DE COROAMENTO, VIGAS BALDRAMES E ARRANQUES DE PILARES - PAV. TÉRREO | L45: =ROUND(SUM(K46:K54),2) -> 26748.35
A46: S | B46: 7.1 | C46: SEINFRA | D46: ED-29552 | E46: CORTE, DOBRA E MONTAGEM DE AÇO CA-50, DIÂMETRO 12,5MM, INCLUSIVE ESPAÇADOR | F46: Kg | G46: 12.99 | H46: 28.3 | I46: 0.2312 | J46: =ROUND((G46*$K$7),2) -> 16.03 | K46: =ROUND((H46*J46),2) -> 453.65
A47: S | B47: 7.2 | C47: SEINFRA | D47: ED-29551 | E47: CORTE, DOBRA E MONTAGEM DE AÇO CA-50, DIÂMETRO 10MM, INCLUSIVE ESPAÇADOR | F47: Kg | G47: 13.52 | H47: 123.1 | I47: 0.2312 | J47: =ROUND((G47*$K$7),2) -> 16.69 | K47: =ROUND((H47*J47),2) -> 2054.54
...

Sheet RESUMO DOS EVENTOS
B1: PREFEITURA MUNICIPAL DE CAMBUÍ ESTADO DE MINAS GERAIS GESTÃO 2025 / 2028
B2: RESUMO DOS EVENTOS
B3: OBRA: | E3: FORNECIMENTO DE INSUMOS E MÃO-DE-OBRA ESPECIALIZADA PARA EXECUÇÃO DE UMA EDIFICAÇÃO COM SANITÁRIOS, DEPÓSITO E LANCHONETE.
B4: LOCAL: | E4: ESTÁDIO EDMUNDO PACEAU, RUA FELIPE DOS SANTOS, CENTRO, CAMBUÍ, MG
B5: ÁREA CONSTRUÍDA COBERTA:* | E5: 115,47 m² - ÁREA DA EDIFICAÇÃO
B6: SINAPI | D6: 45962 | F6: CONSTRUÇÃO DE EDIFÍCIOS | J6: BDI 1 | K6: 0.2312
B7: SICRO | D7: 45931 | K7: =K6+1 -> 1.2312
B8: SEINFRA | D8: 45931 | F8: NÃO SE APLICA | J8: BDI 2 | K8: 0
B9: CDHU | D9: 45870 | K9: =K8+1 -> 1
B10: ORSE | D10: 10/2025 - 1 | F10: VALOR TOTAL DA OBRA: | J10: =P.O.!J10 -> 646717.3
B11: Preços sem desoneração
B12: ITEM | C12: FONTE | D12: CÓDIGO | E12: DESCRIÇÃO DO ITEM | F12: UNIDADE | G12: PREÇO REFERÊNCIA | H12: QUANTIDADE | I12: BDI | J12: PREÇO UNITÁRIO | K12: PREÇO TOTAL | L12: Subtotais dos Eventos:
A13: =P.O.!A14 -> E | B13: =P.O.!B14 -> 1 | C13: =P.O.!C14 -> 0 | D13: =P.O.!D14 -> 0 | E13: =P.O.!E14 -> SERVIÇOS PRELIMINARES | F13: =P.O.!F14 -> 0 | G13: =P.O.!G14 -> 0 | H13: =P.O.!H14 -> 0 | ... L13: =P.O.!L14 -> 6478.56
A14: =P.O.!A15 -> S | B14: =P.O.!B15 -> 1.1 | C14: =P.O.!C15 -> SINAPI | D14: =P.O.!D15 -> 103689 | E14: =P.O.!E15 -> FORNECIMENTO E INSTALAÇÃO DE PLACA DE OBRA COM CHAPA GALVANIZADA E ESTRUTURA DE MADEIRA. AF_03/2022_PS | F14: =P.O.!F15 -> M2 | G14: =P.O.!G15 -> 427.4 | H14: =P.O.!H15 -> 4.5 | ... L14: =P.O.!L15 -> 0
A15: =P.O.!A16 -> S | B15: =P.O.!B16 -> 1.2 | C15: =P.O.!C16 -> SINAPI | D15: =P.O.!D16 -> 103694 | E15: =P.O.!E16 -> FORNECIMENTO E INSTALAÇÃO DE SUPORTE DE MADEIRA PARA PLACAS DE SINALIZAÇÃO, EM SOLO, COM H= DE 2,5 M E SEÇÃO DE 7,5 X 7,5 CM. AF_03/2022 | F15: =P.O.!F16 -> UN | G15: =P.O.!G16 -> 116.47 | H15: =P.O.!H16 -> 2 | ... L15: =P.O.!L16 -> 0
A16: =P.O.!A17 -> S | B16: =P.O.!B17 -> 1.3 | C16: =P.O.!C17 -> SEINFRA | D16: =P.O.!D17 -> ED-50151 | E16: =P.O.!E17 -> LIGAÇÃO PROVISÓRIA COM ENTRADA DE ENERGIA AÉREA, PADRÃO CEMIG, CARGA INSTALADA DE 15,1KVA ATÉ 30KVA, TRIFÁSICO, COM SAÍDA SUBTERRÂNEA, INCLUSIVE POSTE, CAIXA PARA MEDIDOR, DISJUNTOR, BARRAMENTO, ATERRAMENTO E ACESSÓRIOS | F16: =P.O.!F17 -> un | G16: =P.O.!G17 -> 830.96 | H16: =P.O.!H17 -> 1 | ... L16: =P.O.!L17 -> 0
A17: =P.O.!A18 -> S | B17: =P.O.!B18 -> 1.4 | C17: =P.O.!C18 -> SEINFRA | D17: =P.O.!D18 -> ED-50150 | E17: =P.O.!E18 -> LIGAÇÃO DE ÁGUA PROVISÓRIA PARA CANTEIRO, INCLUSIVE HIDRÔMETRO E CAVALETE PARA MEDIÇÃO DE ÁGUA - ENTRADA PRINCIPAL, EM AÇO GALVANIZADO DN 20MM (1/2") - PADRÃO CONCESSIONÁRIA | F17: =P.O.!F18 -> un | G17: =P.O.!G18 -> 593.02 | H17: =P.O.!H18 -> 1 | ... L17: =P.O.!L18 -> 0
A18: =P.O.!A19 -> S | B18: =P.O.!B19 -> 1.5 | C18: =P.O.!C19 -> SEINFRA | D18: =P.O.!D19 -> ED-50137 | E18: =P.O.!E19 -> MOBILIZAÇÃO E DESMOBILIZAÇÃO DE CONTAINER, INCLUSIVE CARGA, DESCARGA E TRANSPORTE EM CAMINHÃO CARROCERIA COM GUINDAUTO (MUNCK), EXCLUSIVE LOCAÇÃO DO CONTAINER | F18: =P.O.!F19 -> un | G18: =P.O.!G19 -> 1668.96 | H18: =P.O.!H19 -> 1 | ... L18: =P.O.!L19 -> 0
A19: =P.O.!A20 -> 0 | B19: =P.O.!B20 -> 0 | C19: =P.O.!C20 -> 0 | D19: =P.O.!D20 -> 0 | E19: =P.O.!E20 -> 0 | F19: =P.O.!F20 -> 0 | G19: =P.O.!G20 -> 0 | H19: =P.O.!H20 -> 0 | ... L19: =P.O.!L20 -> 0
A20: =P.O.!A21 -> E | B20: =P.O.!B21 -> 2 | C20: =P.O.!C21 -> 0 | D20: =P.O.!D21 -> 0 | E20: =P.O.!E21 -> ISOLAMENTO DA OBRA | F20: =P.O.!F21 -> 0 | G20: =P.O.!G21 -> 0 | H20: =P.O.!H21 -> 0 | ... L20: =P.O.!L21 -> 16975.76
A21: =P.O.!A22 -> S | B21: =P.O.!B22 -> 2.1 | C21: =P.O.!C22 -> SEINFRA | D21: =P.O.!D22 -> ED-29823 | E21: =P.O.!E22 -> TAPUME FIXO DE PROTEÇÃO PARA FECHAMENTO DE OBRA EM TELHA METÁLICA GALVANIZADA, TIPO TRAPEZOIDAL, ESP. 0,5MM, COM MÓDULO NA DIMENSÃO DE (300X220)CM, COM REAPROVEITAMENTO, EXCLUSIVE PINTURA ESMALTE, INCLUSIVE PONTALETE E FIXAÇÃO | F21: =P.O.!F22 -> m2 | G21: =P.O.!G22 -> 67.23 | H21: =P.O.!H22 -> 170.04 | ... L21: =P.O.!L22 -> 0
A22: =P.O.!A23 -> S | B22: =P.O.!B23 -> 2.2 | C22: =P.O.!C23 -> SEINFRA | D22: =P.O.!D23 -> ED-14457 | E22: =P.O.!E23 -> PORTÃO PARA TAPUME FIXO DE PROTEÇÃO COM FECHAMENTO DE OBRA EM TELHA METÁLICA GALVANIZADA, TIPO TRAPEZOIDAL ESP. 0,5MM, COM MÓDULO NA DIMENSÃO DE (300X220)CM, EXCLUSIVE PINTURA ESMALTE | F22: =P.O.!F23 -> m2 | G22: =P.O.!G23 -> 193.5 | H22: =P.O.!H23 -> 12 | ... L22: =P.O.!L23 -> 0
A23: =P.O.!A24 -> 0 | B23: =P.O.!B24 -> 0 | C23: =P.O.!C24 -> 0 | D23: =P.O.!D24 -> 0 | E23: =P.O.!E24 -> 0 | F23: =P.O.!F24 -> 0 | G23: =P.O.!G24 -> 0 | H23: =P.O.!H24 -> 0 | ... L23: =P.O.!L24 -> 0
A24: =P.O.!A25 -> E | B24: =P.O.!B25 -> 3 | C24: =P.O.!C25 -> 0 | D24: =P.O.!D25 -> 0 | E24: =P.O.!E25 -> LOCAÇÕES DE EQUIPAMENTOS | F24: =P.O.!F25 -> 0 | G24: =P.O.!G25 -> 0 | H24: =P.O.!H25 -> 0 | ... L24: =P.O.!L25 -> 31776.78
... A251: =P.O.!A252 -> S | B251: =P.O.!B252 -> 28.3 | C251: =P.O.!C252 -> SINAPI - MATERIAL | D251: =P.O.!D252 -> 3521 | E251: =P.O.!E252 -> JOELHO PVC, SOLDAVEL COM ROSCA, 90 GRAUS, 20 MM X 1/2", COR MARROM, PARA AGUA FRIA PREDIAL | F251: =P.O.!F252 -> UN | G251: =P.O.!G252 -> 2.06 | H251: =P.O.!H252 -> 1 | ... L251: =P.O.!L252 -> 0
A252: =#REF! -> #REF! | B252: =#REF! -> #REF! | C252: =#REF! -> #REF! | D252: =#REF! -> #REF! | E252: =#REF! -> #REF! | F252: =#REF! -> #REF! | G252: =#REF! -> #REF! | H252: =#REF! -> #REF! | ... L252: =#REF! -> #REF!
A253: =P.O.!A253 -> S | B253: =P.O.!B253 -> 28.4 | C253: =P.O.!C253 -> SINAPI | D253: =P.O.!D253 -> 94783 | E253: =P.O.!E253 -> ADAPTADOR COM FLANGE E ANEL DE VEDAÇÃO, PVC, SOLDÁVEL, DN 20 MM X 1/2", INSTALADO EM RESERVAÇÃO PREDIAL DE ÁGUA - FORNECIMENTO E INSTALAÇÃO. AF_04/2024 | F253: =P.O.!F253 -> UN | G253: =P.O.!G253 -> 19.64 | H253: =P.O.!H253 -> 1 | ... L253: =P.O.!L253 -> 0
A254: =P.O.!A254 -> S | B254: =P.O.!B254 -> 28.5 | C254: =P.O.!C254 -> SINAPI | D254: =P.O.!D254 -> 89376 | E254: =P.O.!E254 -> ADAPTADOR CURTO COM BOLSA E ROSCA PARA REGISTRO, PVC, SOLDÁVEL, DN 20MM X 1/2, INSTALADO EM RAMAL OU SUB-RAMAL DE ÁGUA - FORNECIMENTO E INSTALAÇÃO. AF_06/2022 | F254: =P.O.!F254 -> UN | G254: =P.O.!G254 -> 6.32 | H254: =P.O.!H254 -> 1 | ... L254: =P.O.!L254 -> 0
A255: =P.O.!A255 -> S | B255: =P.O.!B255 -> 28.6 | C255: =P.O.!C255 -> SINAPI | D255: =P.O.!D255 -> 89360 | E255: =P.O.!E255 -> CURVA 90 GRAUS, PVC, SOLDÁVEL, DN 20MM, INSTALADO EM RAMAL OU SUB-RAMAL DE ÁGUA - FORNECIMENTO E INSTALAÇÃO. AF_06/2022 | F255: =P.O.!F255 -> UN | G255: =P.O.!G255 -> 10.54 | H255: =P.O.!H255 -> 10 | ... L255: =P.O.!L255 -> 0
A256: =P.O.!A256 -> S | B256: =P.O.!B256 -> 28.7 | C256: =P.O.!C256 -> SINAPI | D256: =P.O.!D256 -> 89371 | E256: =P.O.!E256 -> LUVA, PVC, SOLDÁVEL, DN 20MM, INSTALADO EM RAMAL OU SUB-RAMAL DE ÁGUA - FORNECIMENTO E INSTALAÇÃO. AF_06/2022 | F256: =P.O.!F256 -> UN | G256: =P.O.!G256 -> 6.67 | H256: =P.O.!H256 -> 1 | ... L256: =P.O.!L256 -> 0
A257: =P.O.!A257 -> S | B257: =P.O.!B257 -> 28.8 | C257: =P.O.!C257 -> SINAPI | D257: =P.O.!D257 -> 94795 | E257: =P.O.!E257 -> TORNEIRA DE BOIA PARA CAIXA D'ÁGUA, ROSCÁVEL, 1/2" - FORNECIMENTO E INSTALAÇÃO. AF_08/2021 | F257: =P.O.!F257 -> UN | G257: =P.O.!G257 -> 32.45 | H257: =P.O.!H257 -> 1 | ... L257: =P.O.!L257 -> 0
A258: =P.O.!A258 -> S | B258: =P.O.!B258 -> 28.9 | C258: =P.O.!C258 -> SINAPI | D258: =P.O.!D258 -> 89401 | E258: =P.O.!E258 -> TUBO, PVC, SOLDÁVEL, DE 20MM, INSTALADO EM RAMAL DE DISTRIBUIÇÃO DE ÁGUA - FORNECIMENTO E INSTALAÇÃO. AF_06/2022 | F258: =P.O.!F258 -> M | G258: =P.O.!G258 -> 11.83 | H258: =P.O.!H258 -> 15.9 | ... L258: =P.O.!L258 -> 0
A259: =P.O.!A259 -> S | B259: =P.O.!B259 -> 28.10 | C259: =P.O.!C259 -> SINAPI | D259: =P.O.!D259 -> 95676 | E259: =P.O.!E259 -> CAIXA EM CONCRETO PRÉ-MOLDADO PARA ABRIGO DE HIDRÔMETRO COM DN 20 MM - FORNECIMENTO E INSTALAÇÃO. AF_03/2024 | F259: =P.O.!F259 -> UN | G259: =P.O.!G259 -> 135.34 | H259: =P.O.!H259 -> 1 | ... L259: =P.O.!L259 -> 0
A260: =P.O.!A260 -> S | B260: =P.O.!B260 -> 28.11 | C260: =P.O.!C260 -> SINAPI | D260: =P.O.!D260 -> 95674 | E260: =P.O.!E260 -> HIDRÔMETRO DN 1/2", 3,0 M3/H - FORNECIMENTO E INSTALAÇÃO. AF_03/2024 | F260: =P.O.!F260 -> UN | G260: =P.O.!G260 -> 171.84 | H260: =P.O.!H260 -> 1 | ... L260: =P.O.!L260 -> 0
A261: =P.O.!A261 -> S | B261: =P.O.!B261 -> 28.12 | C261: =P.O.!C261 -> SINAPI | D261: =P.O.!D261 -> 93358 | E261: =P.O.!E261 -> ESCAVAÇÃO MANUAL DE VALA. AF_09/2024 | F261: =P.O.!F261 -> M3 | G261: =P.O.!G261 -> 93.27 | H261: =P.O.!H261 -> 0.16 | ... L261: =P.O.!L261 -> 0
A262: =P.O.!A262 -> S | B262: =P.O.!B262 -> 28.13 | C262: =P.O.!C262 -> SEINFRA | D262: =P.O.!D262 -> ED-51121 | E262: =P.O.!E262 -> REATERRO MANUAL DE VALA, INCLUSIVE ESPALHAMENTO E COMPACTAÇÃO MECANIZADA COM PLACA VIBRATÓRIA | F262: =P.O.!F262 -> m3 | G262: =P.O.!G262 -> 48.41 | H262: =P.O.!H262 -> 0.21 | ... L262: =P.O.!L262 -> 0
A263: =P.O.!A263 -> 0 | B263: =P.O.!B263 -> 0 | C263: =P.O.!C263 -> 0 | D263: =P.O.!D263 -> 0 | E263: =P.O.!E263 -> 0 | F263: =P.O.!F263 -> 0 | G263: =P.O.!G263 -> 0 | H263: =P.O.!H263 -> 0 | ... L263: =P.O.!L263 -> 0
A264: =P.O.!A264 -> E | B264: =P.O.!B264 -> 29 | C264: =P.O.!C264 -> 0 | D264: =P.O.!D264 -> 0 | E264: =P.O.!E264 -> INSTALAÇÕES HIDRÁULICAS - ÁGUA FRIA | F264: =P.O.!F264 -> 0 | G264: =P.O.!G264 -> 0 | H264: =P.O.!H264 -> 0 | ... L264: =P.O.!L264 -> 16424.11
... A323: =P.O.!A323 -> S | B323: =P.O.!B323 -> 31.6 | C323: =P.O.!C323 -> SEINFRA | D323: =P.O.!D323 -> ED-50667 | E323: =P.O.!E323 -> CHAPIM EM CHAPA GALVANIZADA, COM PINGADEIRA, ESP. 0,65MM (GSG-24), COM DESENVOLVIMENTO DE 35CM, INCLUSIVE IÇAMENTO MANUAL VERTICAL | F323: =P.O.!F323 -> m | G323: =P.O.!G323 -> 48.37 | H323: =P.O.!H323 -> 25.12 | ... L323: =P.O.!L323 -> 0
A324: =P.O.!A325 -> E | B324: =P.O.!B325 -> 32 | C324: =P.O.!C325 -> 0 | D324: =P.O.!D325 -> 0 | E324: =P.O.!E325 -> ARGAMASSA DE REVESTIMENTO DE PAREDES EXTERNAS DA EDIFICAÇÃO | F324: =P.O.!F325 -> 0 | G324: =P.O.!G325 -> 0 | H324: =P.O.!H325 -> 0 | ... L324: =P.O.!L325 -> 10411.37
...

Sheet CRON.LEV. EVENTOS
B1: PREFEITURA MUNICIPAL DE CAMBUÍ ESTADO DE MINAS GERAIS GESTÃO 2025 / 2028
B2: CRONOGRAMA POR LEVANTAMENTO POR EVENTOS
B3: OBRA: | E3: FORNECIMENTO DE INSUMOS E MÃO-DE-OBRA ESPECIALIZADA PARA EXECUÇÃO DE UMA EDIFICAÇÃO COM SANITÁRIOS, DEPÓSITO E LANCHONETE.
B4: LOCAL: | E4: ESTÁDIO EDMUNDO PACEAU, RUA FELIPE DOS SANTOS, CENTRO, CAMBUÍ, MG
B5: ÁREA CONSTRUÍDA COBERTA:* | E5: 115,47 m² - ÁREA DA EDIFICAÇÃO
G7: CONSTRUÇÃO DE EDIFÍCIOS | K7: BDI 1 | L7: 0.2312
L8: =L7+1 -> 1.2312
G9: NÃO SE APLICA | K9: BDI 2 | L9: 0
L10: =L9+1 -> 1
G11: VALOR TOTAL DA OBRA: | K11: =P.O.!J10 -> 646717.3
E13: FRENTES DA OBRA | F13: EDIFICAÇÃO
E14: Nº DA FRENTE | F14: 1
A15: Nº DO EVENTO | B15: TÍTULO DO EVENTO | F15: MÊS 01 | G15: MÊS 02 | H15: MÊS 03 | I15: MÊS 04 | J15: MÊS 05 | K15: MÊS 06 | L15: MÊS 07 | M15: MÊS 08 | N15: MÊS 09 | O15: MÊS 10 | P15: MÊS 11 | Q15: MÊS 12 | R15: MÊS 13 | S15: MÊS 14
A16: 1 | B16: SERVIÇOS PRELIMINARES | F16: 1 | T16: 6882.69 | U16: 1
A17: 2 | B17: ISOLAMENTO DA OBRA | F17: 1 | T17: 16975.76 | U17: 2
A18: 3 | B18: LOCAÇÕES DE EQUIPAMENTOS | F18: 1 | G18: 2 | H18: 3 | I18: 4 | J18: 5 | K18: 6 | L18: 7 | M18: 8 | N18: 9 | O18: 10 | P18: 11 | Q18: 12 | R18: 13 | S18: 14 | T18: 31776.78 | U18: 3
A19: 4 | B19: LOCAÇÃO DE OBRAS | F19: 1 | T19: 8499.05 | U19: 4
A20: 5 | B20: ADMINISTRAÇÃO LOCAL | F20: 1 | G20: 2 | H20: 3 | I20: 4 | J20: 5 | K20: 6 | L20: 7 | M20: 8 | N20: 9 | O20: 10 | P20: 11 | Q20: 12 | R20: 13 | S20: 14 | T20: 51603.16 | U20: 5
A21: 6 | B21: FUNDAÇÃO - ESTACAS | F21: 1 | T21: 22965.54 | U21: 6
A22: 7 | B22: BLOCOS DE COROAMENTO, VIGAS BALDRAMES E ARRANQUES DE PILARES - PAV. TÉRREO | G22: 2 | T22: 26662.03 | U22: 7
A23: 8 | B23: PILARES DO PAV. COBERTURA | H23: 3 | T23: 14700.28 | U23: 8
A24: 9 | B24: VIGAS E LAJES DO PAV. COBERTURA | I24: 4 | T24: 37775.89 | U24: 9
A25: 10 | B25: PILARES DO RESPALDO (CAIXA D'ÁGUA) | J25: 5 | T25: 2083.93 | U25: 10
A26: 11 | B26: VIGAS DO RESPALDO (CAIXA D'ÁGUA) | J26: 5 | T26: 3095.51 | U26: 11
A27: 12 | B27: ESTRUTURA DOS MUROS DE DIVISA - ESTACAS | G27: 2 | T27: 1414.58 | U27: 12
A28: 13 | B28: ESTRUTURA DOS MUROS DE DIVISA - BLOCOS, VIGAS E ARRANQUES | G28: 2 | T28: 3985.66 | U28: 13
A29: 14 | B29: ESTRUTURA DOS MUROS DE DIVISA - PILARES E VIGAS | H29: 3 | T29: 3447.39 | U29: 14
A30: 15 | B30: COMPACTAÇÃO DE SOLO | J30: 5 | T30: 1304.24 | U30: 15
A31: 16 | B31: ALVENARIA EDIFICAÇÃO ATÉ ALTURA DE 1,50M | G31: 2 | T31: 12145.33 | U31: 16
A32: 17 | B32: ALVENARIA EDIFICAÇÃO FINAL | H32: 3 | T32: 21429.14 | U32: 17
A33: 18 | B33: ALVENARIA BANCO ORNAMENTAL | I33: 4 | T33: 2918.31 | U33: 18
A34: 19 | B34: ALVENARIA PALCO | I34: 4 | T34: 351.11 | U34: 19
A35: 20 | B35: ALVENARIA CASA DE GÁS | I35: 4 | T35: 2500.16 | U35: 20
A36: 21 | B36: ALVENARIA MURO DE FECHAMENTO | H36: 3 | T36: 2076.22 | U36: 21
A37: 22 | B37: INSTALAÇÕES SANITÁRIAS - ESGOTO | K37: 6 | T37: 17659.84 | U37: 22
A38: 23 | B38: INSTALAÇÕES SANITÁRIAS - VENTILAÇÃO DE ESGOTO | K38: 6 | T38: 2012.53 | U38: 23
A39: 24 | B39: INSTALAÇÕES PLUVIAIS | K39: 6 | T39: 654.17 | U39: 24
A40: 25 | B40: INSTALAÇÕES DE GÁS | K40: 6 | T40: 3269.87 | U40: 25
A41: 26 | B41: INSTALAÇÕES ELÉTRICAS | R41: 13 | T41: 19695.03 | U41: 26
A42: 27 | B42: CABEAMENTO | R42: 13 | T42: 992.66 | U42: 27
...

Sheet ABC
B1: PREFEITURA MUNICIPAL DE CAMBUÍ ESTADO DE MINAS GERAIS GESTÃO 2025 / 2028
B2: RELAÇÃO DE ITENS CURVA ABC
B4: OBRA: | E4: FORNECIMENTO DE INSUMOS E MÃO-DE-OBRA ESPECIALIZADA PARA EXECUÇÃO DE UMA EDIFICAÇÃO COM SANITÁRIOS, DEPÓSITO E LANCHONETE.
B5: LOCAL: | E5: =P.O.!E4 -> ESTÁDIO EDMUNDO PACEAU, RUA FELIPE DOS SANTOS, CENTRO, CAMBUÍ, MG
B6: ÁREA CONSTRUÍDA COBERTA:* | E6: =P.O.!E5 -> 115,47 m² - ÁREA DA EDIFICAÇÃO
F8: CONSTRUÇÃO DE EDIFÍCIOS | J8: BDI 1 | K8: 0.2312
K9: =K8+1 -> 1.2312
B10: FAIXAS DA CURVA ABC: | F10: NÃO SE APLICA | J10: BDI 2 | K10: 0
B11: A | C11: 0.8 | D11: Itens cujo % acumulado representam até 80% do valor global. | K11: =K10+1 -> 1
B12: B | C12: 0.95 | D12: Itens cujo % acumulado representam até 15% do valor global.
B13: C | C13: 1 | D13: Itens cujo % acumulado representam até 5% do valor global. | F13: VALOR TOTAL DA OBRA: | J13: =P.O.!J10 -> 646717.3
B15: FONTE | C15: CÓDIGO | D15: DESCRIÇÃO DO ITEM | E15: QTD | F15: UND | G15: VALOR UNITÁRIO | H15: PREÇO TOTAL | I15: VALOR TOTAL | J15: % ITEM | K15: % ACUMUL | L15: ABC
A16: =P.O.!A34 -> S | B16: =P.O.!C34 -> PRÓPRIA | C16: =P.O.!D34 -> CPU 001 | D16: =P.O.!E34 -> ADMINISTRAÇÃO LOCAL | E16: =P.O.!H34 -> 14 | F16: =P.O.!F34 -> MÊS | G16: =P.O.!J34 -> 3711.46 | I16: =P.O.!K34 -> 51960.44 | J16: =I16/$J$13 -> 0.080344905 | K16: =J16 -> 0.080344905 | L16: =IF(K16<$C$11,$B$11,IF(K16<$C$12,$B$12,$B$13)) -> A
A17: =P.O.!A319 -> S | B17: =P.O.!C319 -> PRÓPRIA | C17: =P.O.!D319 -> CPU 014 | D17: =P.O.!E319 -> TELHA TRAPEZOIDAL EM GALVALUME TIPO SANDUÍCHE, NÚCLEO EM PIR 30MM, UMA FACE PINTADA ACABAMENTO RAL 9003, ACABAMENTO INFERIOR EM FORRO EM AÇO GALVALUME ACABAMENTO AMADEIRADO, COM TODOS OS ACESSÓRIOS DE INSTALAÇÃO E MÃO DE OBRA | E17: =P.O.!H319 -> 137.37 | F17: =P.O.!F319 -> M2 | G17: =P.O.!J319 -> 283.95 | I17: =P.O.!K319 -> 39006.21 | J17: =I17/$J$13 -> 0.060314159 | K17: =J17+K16 -> 0.14065906 | L17: =IF(K17<$C$11,$B$11,IF(K17<$C$12,$B$12,$B$13)) -> A
A18: =P.O.!A356 -> S | B18: =P.O.!C356 -> PRÓPRIA | C18: =P.O.!D356 -> CPU 006 | D18: =P.O.!E356 -> REVESTIMENTO COM LADRILHO HIDRÁULICO APLICADO EM PISO COM JUNTA SECA, NA COR NATURAL, TIPO MILANO ASSENTAMENTO COM ARGAMASSA INDUSTRIALIZADA | E18: =P.O.!H356 -> 136.19 | F18: =P.O.!F356 -> M2 | G18: =P.O.!J356 -> 178.39 | I18: =P.O.!K356 -> 24294.93 | J18: =I18/$J$13 -> 0.037566538 | K18: =J18+K17 -> 0.1782256 | L18: =IF(K18<$C$11,$B$11,IF(K18<$C$12,$B$12,$B$13)) -> A
A19: =P.O.!A112 -> S | B19: =P.O.!C112 -> SINAPI | C19: =P.O.!D112 -> 103318 | D19: =P.O.!E112 -> ALVENARIA DE VEDAÇÃO DE BLOCOS VAZADOS DE CONCRETO DE 14X19X39 CM (ESPESSURA 14 CM) E ARGAMASSA DE ASSENTAMENTO COM PREPARO EM BETONEIRA. AF_12/2021 | E19: =P.O.!H112 -> 159.36 | F19: =P.O.!F112 -> M2 | G19: =P.O.!J112 -> 135.71 | I19: =P.O.!K112 -> 21626.75 | J19: =I19/$J$13 -> 0.033440809 | K19: =J19+K18 -> 0.21166641 | L19: =IF(K19<$C$11,$B$11,IF(K19<$C$12,$B$12,$B$13)) -> A
A20: =P.O.!A312 -> S | B20: =P.O.!C312 -> SINAPI | C20: =P.O.!D312 -> 94992 | D20: =P.O.!E312 -> EXECUÇÃO DE PASSEIO (CALÇADA) OU PISO DE CONCRETO COM CONCRETO MOLDADO IN LOCO, FEITO EM OBRA, ACABAMENTO CONVENCIONAL, ESPESSURA 6 CM, ARMADO. AF_08/2022 | E20: =P.O.!H312 -> 205.18 | F20: =P.O.!F312 -> M2 | G20: =P.O.!J312 -> 104.82 | I20: =P.O.!K312 -> 21506.97 | J20: =I20/$J$13 -> 0.033255597 | K20: =J20+K19 -> 0.24492201 | L20: =IF(K20<$C$11,$B$11,IF(K20<$C$12,$B$12,$B$13)) -> A
A21: =P.O.!A332 -> S | B21: =P.O.!C332 -> SEINFRA | C21: =P.O.!D332 -> ED-6282 | D21: =P.O.!E332 -> REBOCO COM ARGAMASSA, TRAÇO 1:2:8 (CIMENTO, CAL E AREIA), ESP. 25MM, APLICAÇÃO MANUAL, INCLUSIVE ARGAMASSA COM PREPARO MECANIZADO | E21: =P.O.!H332 -> 347.32 | F21: =P.O.!F332 -> m2 | G21: =P.O.!J332 -> 55.98 | I21: =P.O.!K332 -> 19442.97 | J21: =I21/$J$13 -> 0.030064094 | K21: =J21+K20 -> 0.2749861 | L21: =IF(K21<$C$11,$B$11,IF(K21<$C$12,$B$12,$B$13)) -> A
A22: =P.O.!A26 -> S | B22: =P.O.!C26 -> SEINFRA | C22: =P.O.!D26 -> ED-50155 | D22: =P.O.!E26 -> LOCAÇÃO DE BANHEIRO QUÍMICO, DIMENSÃO (110X120X230)CM, LINHA PADRÃO, CONTENDO UMA (1) PIA/HIGIENIZADOR DE MÃOS, INCLUSIVE MANUTENÇÃO E MOBILIZAÇÃO/DESMOBILIZAÇÃO | E22: =P.O.!H26 -> 14 | F22: =P.O.!F26 -> mês | G22: =P.O.!J26 -> 1295.91 | I22: =P.O.!K26 -> 18142.74 | J22: =I22/$J$13 -> 0.028053587 | K22: =J22+K21 -> 0.30303969 | L22: =IF(K22<$C$11,$B$11,IF(K22<$C$12,$B$12,$B$13)) -> A
A23: =P.O.!A373 -> S | B23: =P.O.!C373 -> SEINFRA | C23: =P.O.!D373 -> ED-48235 | D23: =P.O.!E373 -> ALVENARIA DE ELEMENTO VAZADO DE VIDRO, BLOCO DE VIDRO (10X20)CM, ESP. 10CM, TIPO CAPELA, INCLUSIVE ARGAMASSA PARA ASSENTAMENTO E REJUNTAMENTO | E23: =P.O.!H373 -> 6.95 | F23: =P.O.!F373 -> m2 | G23: =P.O.!J373 -> 2422.31 | I23: =P.O.!K373 -> 16835.05 | J23: =I23/$J$13 -> 0.026031544 | K23: =J23+K22 -> 0.32907123 | L23: =IF(K23<$C$11,$B$11,IF(K23<$C$12,$B$12,$B$13)) -> A
A24: =P.O.!A364 -> S | B24: =P.O.!C364 -> SEINFRA | C24: =P.O.!D364 -> ED-48533 | D24: =P.O.!E364 -> DIVISÓRIA EM GRANITO CINZA ANDORINHA, ESP. 3CM, INCLUSIVE INSTALAÇÃO, FERRAGENS EM LATÃO CROMADO E ACESSÓRIOS | E24: =P.O.!H364 -> 17.01 | F24: =P.O.!F364 -> m2 | G24: =P.O.!J364 -> 854.28 | I24: =P.O.!K364 -> 14531.3 | J24: =I24/$J$13 -> 0.022469323 | K24: =J24+K23 -> 0.35154056 | L24: =IF(K24<$C$11,$B$11,IF(K24<$C$12,$B$12,$B$13)) -> A
A25: =P.O.!A22 -> S | B25: =P.O.!C22 -> SEINFRA | C25: =P.O.!D22 -> ED-29823 | D25: =P.O.!E22 -> TAPUME FIXO DE PROTEÇÃO PARA FECHAMENTO DE OBRA EM TELHA METÁLICA GALVANIZADA, TIPO TRAPEZOIDAL, ESP. 0,5MM, COM MÓDULO NA DIMENSÃO DE (300X220)CM, COM REAPROVEITAMENTO, EXCLUSIVE PINTURA ESMALTE, INCLUSIVE PONTALETE E FIXAÇÃO | E25: =P.O.!H22 -> 170.04 | F25: =P.O.!F22 -> m2 | G25: =P.O.!J22 -> 82.98 | I25: =P.O.!K22 -> 14109.92 | J25: =I25/$J$13 -> 0.021817756 | K25: =J25+K24 -> 0.37335831 | L25: =IF(K25<$C$11,$B$11,IF(K25<$C$12,$B$12,$B$13)) -> A
A26: =P.O.!A27 -> S | B26: =P.O.!C27 -> SINAPI - EQUIPAMENTO (LOCAÇÃO) | C26: =P.O.!D27 -> 10776 | D26: =P.O.!E27 -> LOCACAO DE CONTAINER 2,30 X 6,00 M, ALT. 2,50 M, PARA ESCRITORIO, SEM DIVISORIAS INTERNAS E SEM SANITARIO (NAO INCLUI MOBILIZACAO/DESMOBILIZACAO) | E26: =P.O.!H27 -> 14 | F26: =P.O.!F27 -> MES | G26: =P.O.!J27 -> 973.86 | I26: =P.O.!K27 -> 13634.04 | J26: =I26/$J$13 -> 0.021081916 | K26: =J26+K25 -> 0.39444023 | L26: =IF(K26<$C$11,$B$11,IF(K26<$C$12,$B$12,$B$13)) -> A
A27: =P.O.!A67 -> S | B27: =P.O.!C67 -> SINAPI | C27: =P.O.!D67 -> 92452 | D27: =P.O.!E67 -> MONTAGEM E DESMONTAGEM DE FÔRMA DE VIGA, ESCORAMENTO METÁLICO, PÉ-DIREITO SIMPLES, EM CHAPA DE MADEIRA RESINADA, 2 UTILIZAÇÕES. AF_09/2020 | E27: =P.O.!H67 -> 55.35 | F27: =P.O.!F67 -> M2 | G27: =P.O.!J67 -> 231.83 | I27: =P.O.!K67 -> 12831.79 | J27: =I27/$J$13 -> 0.019841421 | K27: =J27+K26 -> 0.41428165 | L27: =IF(K27<$C$11,$B$11,IF(K27<$C$12,$B$12,$B$13)) -> A
A28: =P.O.!A69 -> S | B28: =P.O.!C69 -> CDHU - SERVIÇOS | C28: =P.O.!D69 -> 13.01.130 | D28: =P.O.!E69 -> Laje pré-fabricada mista vigota treliçada/lajota cerâmica - LT 12 (8+4) e capa com concreto de 25 MPa | E28: =P.O.!H69 -> 65.95 | F28: =P.O.!F69 -> M2 | G28: =P.O.!J69 -> 189.71 | I28: =P.O.!K69 -> 12511.37 | J28: =I28/$J$13 -> 0.019345965 | K28: =J28+K27 -> 0.43362761 | L28: =IF(K28<$C$11,$B$11,IF(K28<$C$12,$B$12,$B$13)) -> A
A29: =P.O.!A400 -> S | B29: =P.O.!C400 -> PRÓPRIA | C29: =P.O.!D400 -> CPU 011 | D29: =P.O.!E400 -> PORTA METÁLICA, TIPO DE ABRIR, COM UMA (1) FOLHA, EM CHAPA GALVANIZADA LAMBRIL, MODELO QUADRADO, INCLUSIVE PINTURA ANTICORROSIVA A BASE DE ÓXIDO DE FERRO (ZARCÃO), UMA (1) DEMÃO, FORNECIMENTO E ASSENTAMENTO, FECHADURA E DOBRADIÇA COM ESTRUTURA EM TUBO DE AÇO GALVANIZADO TUBULAR 100 X 30MM, E=2,0 MM. | E29: =P.O.!H400 -> 16.55 | F29: =P.O.!F400 -> M2 | G29: =P.O.!J400 -> 752.47 | I29: =P.O.!K400 -> 12453.38 | J29: =I29/$J$13 -> 0.019256296 | K29: =J29+K28 -> 0.45288391 | L29: =IF(K29<$C$11,$B$11,IF(K29<$C$12,$B$12,$B$13)) -> A
A30: =P.O.!A109 -> S | B30: =P.O.!C109 -> SINAPI | C30: =P.O.!D109 -> 103318 | D30: =P.O.!E109 -> ALVENARIA DE VEDAÇÃO DE BLOCOS VAZADOS DE CONCRETO DE 14X19X39 CM (ESPESSURA 14 CM) E ARGAMASSA DE ASSENTAMENTO COM PREPARO EM BETONEIRA. AF_12/2021 | E30: =P.O.!H109 -> 90.32 | F30: =P.O.!F109 -> M2 | G30: =P.O.!J109 -> 135.71 | I30: =P.O.!K109 -> 12257.33 | J30: =I30/$J$13 -> 0.01895315 | K30: =J30+K29 -> 0.47183706 | L30: =IF(K30<$C$11,$B$11,IF(K30<$C$12,$B$12,$B$13)) -> A
A31: =P.O.!A360 -> S | B31: =P.O.!C360 -> SEINFRA | C31: =P.O.!D360 -> ED-9081 | D31: =P.O.!E360 -> REVESTIMENTO COM CERÂMICA APLICADO EM PAREDE, ACABAMENTO ESMALTADO, AMBIENTE INTERNO/EXTERNO, PADRÃO EXTRA, DIMENSÃO DA PEÇA ATÉ 2025 CM2, PEI III, ASSENTAMENTO COM ARGAMASSA INDUSTRIALIZADA, INCLUSIVE REJUNTAMENTO | E31: =P.O.!H360 -> 125.16 | F31: =P.O.!F360 -> m2 | G31: =P.O.!J360 -> 97.59 | I31: =P.O.!K360 -> 12214.36 | J31: =I31/$J$13 -> 0.018886707 | K31: =J31+K30 -> 0.49072377 | L31: =IF(K31<$C$11,$B$11,IF(K31<$C$12,$B$12,$B$13)) -> A
A32: =P.O.!A353 -> S | B32: =P.O.!C353 -> SEINFRA | C32: =P.O.!D353 -> ED-50568 | D32: =P.O.!E353 -> CONTRAPISO DESEMPENADO COM ARGAMASSA, TRAÇO 1:3 (CIMENTO E AREIA), ESP. 30MM, INCLUSIVE ARGAMASSA COM PREPARO MECANIZADO | E32: =P.O.!H353 -> 205.18 | F32: =P.O.!F353 -> m2 | G32: =P.O.!J353 -> 58.56 | I32: =P.O.!K353 -> 12015.34 | J32: =I32/$J$13 -> 0.018578968 | K32: =J32+K31 -> 0.50930274 | L32: =IF(K32<$C$11,$B$11,IF(K32<$C$12,$B$12,$B$13)) -> A
A33: =P.O.!A52 -> S | B33: =P.O.!C52 -> SINAPI | C33: =P.O.!D52 -> 96531 | D33: =P.O.!E52 -> FABRICAÇÃO, MONTAGEM E DESMONTAGEM DE FÔRMA PARA BLOCO DE COROAMENTO, EM MADEIRA SERRADA, E=25 MM, 2 UTILIZAÇÕES. AF_01/2024 | E33: =P.O.!H52 -> 86.16 | F33: =P.O.!F52 -> M2 | G33: =P.O.!J52 -> 134.29 | I33: =P.O.!K52 -> 11570.43 | J33: =I33/$J$13 -> 0.017891017 | K33: =J33+K32 -> 0.52719375 | L33: =IF(K33<$C$11,$B$11,IF(K33<$C$12,$B$12,$B$13)) -> A
A34: =P.O.!A318 -> S | B34: =P.O.!C318 -> PRÓPRIA | C34: =P.O.!D318 -> CPU 002 | D34: =P.O.!E318 -> TRAMA DE MADEIRA COMPOSTA POR TERÇAS PARA TELHADOS DE ATÉ 2 ÁGUAS PARA TELHA ONDULADA DE FIBROCIMENTO, METÁLICA, PLÁSTICA OU TERMOACÚSTICA, INCLUSO TRANSPORTE VERTICAL. | E34: =P.O.!H318 -> 137.37 | F34: =P.O.!F318 -> M2 | G34: =P.O.!J318 -> 84.18 | I34: =P.O.!K318 -> 11563.81 | J34: =I34/$J$13 -> 0.01788078 | K34: =J34+K33 -> 0.54507453 | L34: =IF(K34<$C$11,$B$11,IF(K34<$C$12,$B$12,$B$13)) -> A
A35: =P.O.!A40 -> S | B35: =P.O.!C40 -> SEINFRA | C35: =P.O.!D40 -> ED-32124 | D35: =P.O.!E40 -> FORNECIMENTO DE CONCRETO ESTRUTURAL, USINADO BOMBEADO, COM FCK 30MPA, CONSUMO MÍNIMO DE CIMENTO DE 400KG/M3, INCLUSIVE LANÇAMENTO, ADENSAMENTO E ACABAMENTO (FUNDAÇÃO) | E35: =P.O.!H40 -> 10.23 | F35: =P.O.!F40 -> m3 | G35: =P.O.!J40 -> 903.41 | I35: =P.O.!K40 -> 9241.88 | J35: =I35/$J$13 -> 0.014290448 | K35: =J35+K34 -> 0.55936498 | L35: =IF(K35<$C$11,$B$11,IF(K35<$C$12,$B$12,$B$13)) -> A
A36: =P.O.!A37 -> S | B36: =P.O.!C37 -> PRÓPRIA | C36: =P.O.!D37 -> CPU 005 | D36: =P.O.!E37 -> EXECUÇÃO DE ESTACA TIPO HÉLICE CONTÍNUA, DIÂMETRO 25CM, INCLUSIVE AFASTAMENTO LATERAL, EXCLUSIVE ARMAÇÃO, CONCRETO ESTRUTURAL, TRANSPORTE E RETIRADA DO MATERIAL ESCAVADO | E36: =P.O.!H37 -> 165 | F36: =P.O.!F37 -> m | G36: =P.O.!J37 -> 55.37 | I36: =P.O.!K37 -> 9136.05 | J36: =I36/$J$13 -> 0.014126806 | K36: =J36+K35 -> 0.57349179 | L36: =IF(K36<$C$11,$B$11,IF(K36<$C$12,$B$12,$B$13)) -> A
A37: =P.O.!A354 -> S | B37: =P.O.!C354 -> SEINFRA | C37: =P.O.!D354 -> ED-50754 | D37: =P.O.!E354 -> REVESTIMENTO COM PORCELANATO APLICADO EM PISO, ACABAMENTO POLÍDO, AMBIENTE INTERNO, PADRÃO EXTRA, BORDA RETIFICADA, DIMENSÃO DA PEÇA (60X60)CM, ASSENTAMENTO COM ARGAMASSA INDUSTRIALIZADA, INCLUSIVE REJUNTAMENTO | E37: =P.O.!H354 -> 70.4 | F37: =P.O.!F354 -> m2 | G37: =P.O.!J354 -> 129.04 | I37: =P.O.!K354 -> 9084.42 | J37: =I37/$J$13 -> 0.014046972 | K37: =J37+K36 -> 0.58753876 | L37: =IF(K37<$C$11,$B$11,IF(K37<$C$12,$B$12,$B$13)) -> A
A38: =P.O.!A397 -> S | B38: =P.O.!C397 -> PRÓPRIA | C38: =P.O.!D397 -> CPU 008 | D38: =P.O.!E397 -> PORTÃO DE FERRO, ABERTURA ESTILO PORTA CAMARÃO, COM ARMAÇÃO DE METALON, DETALHES EM CHAPA DE AÇO GALVANIZADO E BARRAS CHATA, COMPLETO, COM FECHADURA E DOBRADIÇAS | E38: =P.O.!H397 -> 9.98 | F38: =P.O.!F397 -> M2 | G38: =P.O.!J397 -> 861.37 | I38: =P.O.!K397 -> 8596.47 | J38: =I38/$J$13 -> 0.01329247 | K38: =J38+K37 -> 0.60083123 | L38: =IF(K38<$C$11,$B$11,IF(K38<$C$12,$B$12,$B$13)) -> A
A39: =P.O.!A327 -> S | B39: =P.O.!C327 -> SEINFRA | C39: =P.O.!D327 -> ED-6282 | D39: =P.O.!E327 -> REBOCO COM ARGAMASSA, TRAÇO 1:2:8 (CIMENTO, CAL E AREIA), ESP. 25MM, APLICAÇÃO MANUAL, INCLUSIVE ARGAMASSA COM PREPARO MECANIZADO | E39: =P.O.!H327 -> 152.92 | F39: =P.O.!F327 -> m2 | G39: =P.O.!J327 -> 55.98 | I39: =P.O.!K327 -> 8560.46 | J39: =I39/$J$13 -> 0.013236788 | K39: =J39+K38 -> 0.61406802 | L39: =IF(K39<$C$11,$B$11,IF(K39<$C$12,$B$12,$B$13)) -> A
A40: =P.O.!A412 -> S | B40: =P.O.!C412 -> SEINFRA | C40: =P.O.!D412 -> ED-50451 | D40: =P.O.!E412 -> PINTURA ACRÍLICA EM PAREDE, DUAS (2) DEMÃOS, COM APLICAÇÃO MANUAL, EXCLUSIVE SELADOR ACRÍLICO E MASSA ACRÍLICA/CORRIDA (PVA) | E40: =P.O.!H412 -> 375.08 | F40: =P.O.!F412 -> m2 | G40: =P.O.!J412 -> 20.45 | I40: =P.O.!K412 -> 7670.39 | J40: =I40/$J$13 -> 0.011860499 | K40: =J40+K39 -> 0.62592852 | L40: =IF(K40<$C$11,$B$11,IF(K40<$C$12,$B$12,$B$13)) -> A
A41: =P.O.!A60 -> S | B41: =P.O.!C60 -> SEINFRA | C41: =P.O.!D60 -> ED-31566 | D41: =P.O.!E60 -> FÔRMA E DESFORMA PARA PILAR COM CHAPA DE COMPENSADO RESINADO, ESP. 14MM, REAPROVEITAMENTO (3X), EXCLUSIVE ESCORAMENTO | E41: =P.O.!H60 -> 58.66 | F41: =P.O.!F60 -> m2 | G41: =P.O.!J60 -> 117.08 | I41: =P.O.!K60 -> 6867.91 | J41: =I41/$J$13 -> 0.010619648 | K41: =J41+K40 -> 0.63654816 | L41: =IF(K41<$C$11,$B$11,IF(K41<$C$12,$B$12,$B$13)) -> A
A42: =P.O.!A415 -> S | B42: =P.O.!C415 -> SINAPI | C42: =P.O.!D415 -> 100758 | D42: =P.O.!E415 -> PINTURA COM TINTA ALQUÍDICA DE ACABAMENTO (ESMALTE SINTÉTICO ACETINADO) APLICADA A ROLO OU PINCEL SOBRE SUPERFÍCIES METÁLICAS (EXCETO PERFIL) EXECUTADO EM OBRA (02 DEMÃOS). AF_01/2020 | E42: =P.O.!H415 -> 91.46 | F42: =P.O.!F415 -> M2 | G42: =P.O.!J415 -> 73.26 | I42: =P.O.!K415 -> 6700.36 | J42: =I42/$J$13 -> 0.01036057 | K42: =J42+K41 -> 0.64690873 | L42: =IF(K42<$C$11,$B$11,IF(K42<$C$12,$B$12,$B$13)) -> A
A43: =P.O.!A53 -> S | B43: =P.O.!C53 -> SEINFRA | C43: =P.O.!D53 -> ED-49806 | D43: =P.O.!E53 -> FORNECIMENTO DE CONCRETO ESTRUTURAL, USINADO BOMBEADO, COM FCK 30MPA, INCLUSIVE LANÇAMENTO, ADENSAMENTO E ACABAMENTO (FUNDAÇÃO) | E43: =P.O.!H53 -> 7.53 | F43: =P.O.!F53 -> m3 | G43: =P.O.!J53 -> 865.47 | I43: =P.O.!K53 -> 6516.99 | J43: =I43/$J$13 -> 0.010077031 | K43: =J43+K42 -> 0.65698576 | L43: =IF(K43<$C$11,$B$11,IF(K43<$C$12,$B$12,$B$13)) -> A
...

Sheet GRÁFICO ABC
A1: PREFEITURA MUNICIPAL DE CAMBUÍ ESTADO DE MINAS GERAIS GESTÃO 2025 / 2028
A2: GRÁFICO CURVA ABC
A4: OBRA: | C4: FORNECIMENTO DE INSUMOS E MÃO-DE-OBRA ESPECIALIZADA PARA EXECUÇÃO DE UMA EDIFICAÇÃO COM SANITÁRIOS, DEPÓSITO E LANCHONETE.
A5: LOCAL: | C5: =P.O.!E4 -> ESTÁDIO EDMUNDO PACEAU, RUA FELIPE DOS SANTOS, CENTRO, CAMBUÍ, MG
A6: ÁREA CONSTRUÍDA COBERTA:* | C6: =P.O.!E5 -> 115,47 m² - ÁREA DA EDIFICAÇÃO
E8: CONSTRUÇÃO DE EDIFÍCIOS | I8: BDI 1 | J8: 0.2312
J9: =J8+1 -> 1.2312
A10: FAIXAS DA CURVA ABC: | E10: NÃO SE APLICA | I10: BDI 2 | J10: 0
A11: A | B11: 0.8 | C11: Itens cujo % acumulado representam até 80% do valor global. | J11: =J10+1 -> 1
A12: B | B12: 0.95 | C12: Itens cujo % acumulado representam até 15% do valor global.
A13: C | B13: 1 | C13: Itens cujo % acumulado representam até 5% do valor global. | E13: VALOR TOTAL DA OBRA: | I13: =P.O.!J10 -> 646717.3
C35: Mateus Pedro da Silva | F35: Leonardo Mesquita Reis Belico
C36: Engenheiro Civil | F36: Arquiteto e Urbanista

Sheet MEM. CÁLCULO
B1: PREFEITURA MUNICIPAL DE CAMBUÍ ESTADO DE MINAS GERAIS GESTÃO 2025 / 2028
B2: MEMÓRIA DE CÁLCULO
B3: OBRA: | E3: FORNECIMENTO DE INSUMOS E MÃO-DE-OBRA ESPECIALIZADA PARA EXECUÇÃO DE UMA EDIFICAÇÃO COM SANITÁRIOS, DEPÓSITO E LANCHONETE.
B4: LOCAL: | E4: ESTÁDIO EDMUNDO PACEAU, RUA FELIPE DOS SANTOS, CENTRO, CAMBUÍ, MG
B5: ÁREA CONSTRUÍDA COBERTA:* | E5: 115,47 m² - ÁREA DA EDIFICAÇÃO
F6: CONSTRUÇÃO DE EDIFÍCIOS | J6: BDI 1 | K6: 0.2312
K7: =K6+1 -> 1.2312
F8: NÃO SE APLICA | J8: BDI 2 | K8: 0
K9: =K8+1 -> 1
F10: VALOR TOTAL DA OBRA: | J10: =P.O.!J10 -> 646717.3
B12: ITEM | C12: FONTE | D12: CÓDIGO | E12: DESCRIÇÃO DO ITEM | F12: UNIDADE | G12: MEMÓRIA DE CÁLCULO | M12: CONFERÊNCIAS
A13: =P.O.!A14 -> E | B13: =P.O.!B14 -> 1 | C13: =P.O.!C14 -> 0 | D13: =P.O.!D14 -> 0 | E13: =P.O.!E14 -> SERVIÇOS PRELIMINARES | F13: =P.O.!F14 -> 0
A14: =P.O.!A15 -> S | B14: =P.O.!B15 -> 1.1 | C14: =P.O.!C15 -> SINAPI | D14: =P.O.!D15 -> 103689 | E14: =P.O.!E15 -> FORNECIMENTO E INSTALAÇÃO DE PLACA DE OBRA COM CHAPA GALVANIZADA E ESTRUTURA DE MADEIRA. AF_03/2022_PS | F14: =P.O.!F15 -> M2 | G14: 1,50*3,00 = 4,50 | M14: 4.5
A15: =P.O.!A16 -> S | B15: =P.O.!B16 -> 1.2 | C15: =P.O.!C16 -> SINAPI | D15: =P.O.!D16 -> 103694 | E15: =P.O.!E16 -> FORNECIMENTO E INSTALAÇÃO DE SUPORTE DE MADEIRA PARA PLACAS DE SINALIZAÇÃO, EM SOLO, COM H= DE 2,5 M E SEÇÃO DE 7,5 X 7,5 CM. AF_03/2022 | F15: =P.O.!F16 -> UN | G15: 2 SUPORTES | M15: 2
A16: =P.O.!A17 -> S | B16: =P.O.!B17 -> 1.3 | C16: =P.O.!C17 -> SEINFRA | D16: =P.O.!D17 -> ED-50151 | E16: =P.O.!E17 -> LIGAÇÃO PROVISÓRIA COM ENTRADA DE ENERGIA AÉREA, PADRÃO CEMIG, CARGA INSTALADA DE 15,1KVA ATÉ 30KVA, TRIFÁSICO, COM SAÍDA SUBTERRÂNEA, INCLUSIVE POSTE, CAIXA PARA MEDIDOR, DISJUNTOR, BARRAMENTO, ATERRAMENTO E ACESSÓRIOS | F16: =P.O.!F17 -> un | G16: 1 | M16: 1
A17: =P.O.!A18 -> S | B17: =P.O.!B18 -> 1.4 | C17: =P.O.!C18 -> SEINFRA | D17: =P.O.!D18 -> ED-50150 | E17: =P.O.!E18 -> LIGAÇÃO DE ÁGUA PROVISÓRIA PARA CANTEIRO, INCLUSIVE HIDRÔMETRO E CAVALETE PARA MEDIÇÃO DE ÁGUA - ENTRADA PRINCIPAL, EM AÇO GALVANIZADO DN 20MM (1/2") - PADRÃO CONCESSIONÁRIA | F17: =P.O.!F18 -> un | G17: 1 | M17: 1
A18: =P.O.!A19 -> S | B18: =P.O.!B19 -> 1.5 | C18: =P.O.!C19 -> SEINFRA | D18: =P.O.!D19 -> ED-50137 | E18: =P.O.!E19 -> MOBILIZAÇÃO E DESMOBILIZAÇÃO DE CONTAINER, INCLUSIVE CARGA, DESCARGA E TRANSPORTE EM CAMINHÃO CARROCERIA COM GUINDAUTO (MUNCK), EXCLUSIVE LOCAÇÃO DO CONTAINER | F18: =P.O.!F19 -> un | G18: 1 | M18: 1
A19: =P.O.!A20 -> 0 | B19: =P.O.!B20 -> 0 | C19: =P.O.!C20 -> 0 | D19: =P.O.!D20 -> 0 | E19: =P.O.!E20 -> 0 | F19: =P.O.!F20 -> 0
A20: =P.O.!A21 -> E | B20: =P.O.!B21 -> 2 | C20: =P.O.!C21 -> 0 | D20: =P.O.!D21 -> 0 | E20: =P.O.!E21 -> ISOLAMENTO DA OBRA | F20: =P.O.!F21 -> 0
A21: =P.O.!A22 -> S | B21: =P.O.!B22 -> 2.1 | C21: =P.O.!C22 -> SEINFRA | D21: =P.O.!D22 -> ED-29823 | E21: =P.O.!E22 -> TAPUME FIXO DE PROTEÇÃO PARA FECHAMENTO DE OBRA EM TELHA METÁLICA GALVANIZADA, TIPO TRAPEZOIDAL, ESP. 0,5MM, COM MÓDULO NA DIMENSÃO DE (300X220)CM, COM REAPROVEITAMENTO, EXCLUSIVE PINTURA ESMALTE, INCLUSIVE PONTALETE E FIXAÇÃO | F21: =P.O.!F22 -> m2 | G21: 3*(18,32+1,34+7,93+3,09+0,65+10,2+3,42+11,73) = 170,04 | M21: =3*(18.32+1.34+7.93+3.09+0.65+10.2+3.42+11.73) -> 170.04
A22: =P.O.!A23 -> S | B22: =P.O.!B23 -> 2.2 | C22: =P.O.!C23 -> SEINFRA | D22: =P.O.!D23 -> ED-14457 | E22: =P.O.!E23 -> PORTÃO PARA TAPUME FIXO DE PROTEÇÃO COM FECHAMENTO DE OBRA EM TELHA METÁLICA GALVANIZADA, TIPO TRAPEZOIDAL ESP. 0,5MM, COM MÓDULO NA DIMENSÃO DE (300X220)CM, EXCLUSIVE PINTURA ESMALTE | F22: =P.O.!F23 -> m2 | G22: 2*(2*3) = 12 | M22: =2*(2*3) -> 12
A23: =P.O.!A24 -> 0 | B23: =P.O.!B24 -> 0 | C23: =P.O.!C24 -> 0 | D23: =P.O.!D24 -> 0 | E23: =P.O.!E24 -> 0 | F23: =P.O.!F24 -> 0
A24: =P.O.!A25 -> E | B24: =P.O.!B25 -> 3 | C24: =P.O.!C25 -> 0 | D24: =P.O.!D25 -> 0 | E24: =P.O.!E25 -> LOCAÇÕES DE EQUIPAMENTOS | F24: =P.O.!F25 -> 0
A25: =P.O.!A26 -> S | B25: =P.O.!B26 -> 3.1 | C25: =P.O.!C26 -> SEINFRA | D25: =P.O.!D26 -> ED-50155 | E25: =P.O.!E26 -> LOCAÇÃO DE BANHEIRO QUÍMICO, DIMENSÃO (110X120X230)CM, LINHA PADRÃO, CONTENDO UMA (1) PIA/HIGIENIZADOR DE MÃOS, INCLUSIVE MANUTENÇÃO E MOBILIZAÇÃO/DESMOBILIZAÇÃO | F25: =P.O.!F26 -> mês | G25: 14 | M25: 14
A26: =P.O.!A27 -> S | B26: =P.O.!B27 -> 3.2 | C26: =P.O.!C27 -> SINAPI - EQUIPAMENTO (LOCAÇÃO) | D26: =P.O.!D27 -> 10776 | E26: =P.O.!E27 -> LOCACAO DE CONTAINER 2,30 X 6,00 M, ALT. 2,50 M, PARA ESCRITORIO, SEM DIVISORIAS INTERNAS E SEM SANITARIO (NAO INCLUI MOBILIZACAO/DESMOBILIZACAO) | F26: =P.O.!F27 -> MES | G26: 14 | M26: 14
A27: =P.O.!A28 -> 0 | B27: =P.O.!B28 -> 0 | C27: =P.O.!C28 -> 0 | D27: =P.O.!D28 -> 0 | E27: =P.O.!E28 -> 0 | F27: =P.O.!F28 -> 0
A28: =P.O.!A29 -> E | B28: =P.O.!B29 -> 4 | C28: =P.O.!C29 -> 0 | D28: =P.O.!D29 -> 0 | E28: =P.O.!E29 -> LOCAÇÃO DE OBRAS | F28: =P.O.!F29 -> 0
A29: =P.O.!A30 -> S | B29: =P.O.!B30 -> 4.1 | C29: =P.O.!C30 -> SINAPI | D29: =P.O.!D30 -> 99059 | E29: =P.O.!E30 -> LOCAÇÃO CONVENCIONAL DE OBRA, UTILIZANDO GABARITO DE TÁBUAS CORRIDAS PONTALETADAS A CADA 2,00M - 2 UTILIZAÇÕES. AF_03/2024 | F29: =P.O.!F30 -> M | G29: 13,02+8,94+8,34+5,54+7,08+3,74+3,74+1,08+1,08+3,71+1,7+1,8 = 59,77 | M29: =13.02+8.94+8.34+5.54+7.08+3.74+3.74+1.08+1.08+3.71+1.7+1.8 -> 59.77
A30: =P.O.!A31 -> S | B30: =P.O.!B31 -> 4.2 | C30: =P.O.!C31 -> SEINFRA | D30: =P.O.!D31 -> ED-50275 | E30: =P.O.!E31 -> LOCAÇÃO TOPOGRÁFICA DE VINTE UM (21) ATÉ CINQUENTA (50) PONTOS REFERENCIAIS, INCLUSIVE ESTACA (PIQUETE) DE MARCAÇÃO | F30: =P.O.!F31 -> un | G30: 33 PONTOS DE ESTACAS | M30: 33
A31: =P.O.!A32 -> 0 | B31: =P.O.!B32 -> 0 | C31: =P.O.!C32 -> 0 | D31: =P.O.!D32 -> 0 | E31: =P.O.!E32 -> 0 | F31: =P.O.!F32 -> 0
A32: =P.O.!A33 -> E | B32: =P.O.!B33 -> 5 | C32: =P.O.!C33 -> 0 | D32: =P.O.!D33 -> 0 | E32: =P.O.!E33 -> ADMINISTRAÇÃO LOCAL | F32: =P.O.!F33 -> 0
A33: =P.O.!A34 -> S | B33: =P.O.!B34 -> 5.1 | C33: =P.O.!C34 -> PRÓPRIA | D33: =P.O.!D34 -> CPU 001 | E33: =P.O.!E34 -> ADMINISTRAÇÃO LOCAL | F33: =P.O.!F34 -> MÊS | G33: 14 | M33: 14
A34: =P.O.!A35 -> 0 | B34: =P.O.!B35 -> 0 | C34: =P.O.!C35 -> 0 | D34: =P.O.!D35 -> 0 | E34: =P.O.!E35 -> 0 | F34: =P.O.!F35 -> 0
A35: =P.O.!A36 -> E | B35: =P.O.!B36 -> 6 | C35: =P.O.!C36 -> 0 | D35: =P.O.!D36 -> 0 | E35: =P.O.!E36 -> FUNDAÇÃO - ESTACAS | F35: =P.O.!F36 -> 0
A36: =P.O.!A37 -> S | B36: =P.O.!B37 -> 6.1 | C36: =P.O.!C37 -> PRÓPRIA | D36: =P.O.!D37 -> CPU 005 | E36: =P.O.!E37 -> EXECUÇÃO DE ESTACA TIPO HÉLICE CONTÍNUA, DIÂMETRO 25CM, INCLUSIVE AFASTAMENTO LATERAL, EXCLUSIVE ARMAÇÃO, CONCRETO ESTRUTURAL, TRANSPORTE E RETIRADA DO MATERIAL ESCAVADO | F36: =P.O.!F37 -> m | G36: 33 estacas de 5 m = 165 m | M36: 165
A37: =P.O.!A38 -> S | B37: =P.O.!B38 -> 6.2 | C37: =P.O.!C38 -> SEINFRA | D37: =P.O.!D38 -> ED-29550 | E37: =P.O.!E38 -> CORTE, DOBRA E MONTAGEM DE AÇO CA-50, DIÂMETRO 8MM, INCLUSIVE ESPAÇADOR | F37: =P.O.!F38 -> Kg | G37: Conforme projeto estrutural | M37: 195.3
A38: =P.O.!A39 -> S | B38: =P.O.!B39 -> 6.3 | C38: =P.O.!C39 -> SEINFRA | D38: =P.O.!D39 -> ED-29548 | E38: =P.O.!E39 -> CORTE, DOBRA E MONTAGEM DE AÇO CA-60, DIÂMETRO 5MM, INCLUSIVE ESPAÇADOR | F38: =P.O.!F39 -> Kg | G38: Conforme projeto estrutural | M38: 42.4
A39: =P.O.!A40 -> S | B39: =P.O.!B40 -> 6.4 | C39: =P.O.!C40 -> SEINFRA | D39: =P.O.!D40 -> ED-32124 | E39: =P.O.!E40 -> FORNECIMENTO DE CONCRETO ESTRUTURAL, USINADO BOMBEADO, COM FCK 30MPA, CONSUMO MÍNIMO DE CIMENTO DE 400KG/M3, INCLUSIVE LANÇAMENTO, ADENSAMENTO E ACABAMENTO (FUNDAÇÃO) | F39: =P.O.!F40 -> m3 | G39: Conforme projeto estrutural | M39: 10.23
A40: =P.O.!A41 -> S | B40: =P.O.!B41 -> 6.5 | C40: =P.O.!C41 -> SICRO | D40: =P.O.!D41 -> 2306247 | E40: =P.O.!E41 -> Arrasamento de estacas de concreto com seção de até 900 cm² | F40: =P.O.!F41 -> m³ | G40: 33*0,125*0,125*3,1415*0,40 = 0,65 m³ | M40: 0.65
A41: =P.O.!A42 -> S | B41: =P.O.!B42 -> 6.6 | C41: =P.O.!C42 -> SINAPI | D41: =P.O.!D42 -> 100981 | E41: =P.O.!E42 -> CARGA, MANOBRA E DESCARGA DE ENTULHO EM CAMINHÃO BASCULANTE 6 M³ - CARGA COM ESCAVADEIRA HIDRÁULICA (CAÇAMBA DE 0,80 M³ / 111 HP) E DESCARGA LIVRE (UNIDADE: M3). AF_07/2020 | F41: =P.O.!F42 -> M3 | G41: 10,23 + 0,65 = 10,88 m³ | M41: 10.88
...
