Workbook
Name DADOS_COMPOSICAO: [1]CPU!$A:$M
Name DADOS_COTACAO: [1]COT!$A:$L
Name DADOS_SETOP: [1]SETOP!$A:$D
Name DADOS_SICRO: [1]SICRO!$A:$D
Name DADOS_SINAPI: [1]SINAPI!$A:$D
Name DADOS_SUDECAP: [1]SUDECAP!$A:$D
Name EMPRESAS: OFFSET(#REF!,1,0):OFFSET(#REF!,-1,0)
Name INDICES: OFFSET(#REF!,1,0):OFFSET(#REF!,-1,0)
Name NCOTACOES: 8
Name NEMPRESAS: 6

Sheet DADOS
B1: DADOS PARA O ORÇAMENTO
B2: Revisão: | C2: R00
B3: Projeto: | C3: BACIA DE RETENÇÃO DO PARQUE DA CIDADE
B4: Data: | C4: =TODAY() -> 46154
B5: BDI 1: | C5: 0.2423
B6: BDI 2:
B7: Data base: | C7: SINAPI: 09/2023 Minas Gerais SETOP: 04/2023 Minas Gerais SICRO : 07/2023 Minas Gerais SUDECAP: 07/2023 Minas Gerais
B8: Engenheiro(a) responsável: | C8: Eng. Aloisio Caetano Ferreira
B9: Crea: | C9: MG- 187.842/D
B12: Logo de Pouso Alegre
B15: Logo de Santa Rita do Sapucaí

Sheet MEMORIA DE CALCULO
A1: MEMORIAL DE CÁLCULO | F1: Revisão: | G1: =DADOS!C2 -> R00
F2: Data: | G2: =DADOS!C4 -> 46154
A3: Empresa projetista: | C3: Projeto: | F3: Cliente:
C4: =DADOS!C3 -> BACIA DE RETENÇÃO DO PARQUE DA CIDADE
A6: =A1&" DE PROJETO EXECUTIVO - "&C4 -> MEMORIAL DE CÁLCULO DE PROJETO EXECUTIVO - BACIA DE RETENÇÃO DO PARQUE DA CIDADE
A8: 1 | B8: ADMINISTRAÇÃO DA OBRA
A9: 1.1 | B9: ADMINISTRAÇÃO DA OBRA - INCLUSIVE ENGENHEIRO PLENO E VIGIA -COMPOSIÇÃO DO ITEM
B11: ENGENHEIRO CIVIL PLENO DE OBRA
B12: Total | C12: 8 | D12: meses
B13: VIGIA NOTURNO
B14: Total | C14: 8 | D14: meses
B15: ENCARREGADO GERAL
B16: Total | C16: 8 | D16: meses
B17: TÉCNICO DE SEGURANÇA
B18: Total | C18: 8 | D18: meses
B19: TOPOGRÁFO
B20: Total | C20: 2 | D20: meses
A22: 2 | B22: CANTEIRO DE OBRAS
A23: 2.1 | B23: CANTEIRO DE OBRAS - COMPOSIÇÃO DO ITEM
B25: LOCAÇÃO DE CONTAINER PARA ESCRITÓRIO
B26: Total | C26: 8 | D26: meses
B27: LOCAÇÃO DE CONTAINER PARA SANITÁRIO
B28: Total | C28: 8 | D28: meses | O28: =3000000 -> 3000000 | Q28: =25000/5 -> 5000
B29: MOBILIZAÇÃO E DESMOBILIZAÇÃO DE CONTAINER | O29: 25000
B30: Total | C30: 2 | D30: u | O30: =O28/O29 -> 120
B31: LIGAÇÃO PROVISÓRIA DE LUZ E FORÇA-PADRÃO PROVISÓRIO 30KVA
B32: Total | C32: 1 | D32: u
B33: PLACA DE OBRA EM CHAPA GALVANIZADA
B34: Largura | C34: 4 | D34: m
B35: Altura | C35: 3 | D35: m
B36: Total | C36: =C34*C35 -> 12 | D36: m²
A38: 3 | B38: LIMPEZA E DEMOLIÇÃO
A39: 3.1 | B39: REMOÇÃO DA CAMADA VEGETAL
E40: PROJETO DE DEMOLIÇÃO
B41: Total | C41: 30962.7 | D41: m² | E41: 21 ÁRVORES COM DN<20 INCLUSAS
A43: 3.2 | B43: REMOÇÃO DE ÁRVORE 20 < DN < 40 cm
B45: Total | C45: 12 | D45: u
A47: 3.3 | B47: REMOÇÃO DE RAIZ DE ÁRVORE 20 < DN < 40 cm
B49: Total | C49: =C45 -> 12 | D49: u
A51: 3.4 | B51: REMOÇÃO DE ÁRVORE 40 < DN < 60 cm
B53: Total | C53: 3 | D53: u
A55: 3.5 | B55: REMOÇÃO DE RAIZ DE ÁRVORE 40 < DN < 60 cm
B57: Total | C57: =C53 -> 3 | D57: u
A59: 3.6 | B59: REMOÇÃO DE ÁRVORE DN > 60 cm
B61: Total | C61: 6 | D61: u
A63: 3.7 | B63: REMOÇÃO DE RAIZ DE ÁRVORE DN > 60 cm
B65: Total | C65: =C61 -> 6 | D65: u
A67: 3.8 | B67: DEMOLIÇÃO DE CONSTRUÇÃO
B69: Total | C69: 1 | D69: u
A71: 3.9 | B71: REMOÇÃO DE CERCA
B73: Total | C73: 260 | D73: m
A75: 3.10 | B75: DEMOLIÇÃO DE PONTE DE MADEIRA
B77: Total | C77: 1 | D77: u
A79: 3.11 | B79: CARGA
B81: Área de remoção da camada vegetal | C81: =C41 -> 30962.7 | D81: m² | E81: ="ITEM "&A39 -> ITEM 3.1
B82: Espessura | C82: 0.15 | D82: m
B83: Quantidade de árvores DN < 20 | C83: 21 | D83: u
B84: Volume estimado | C84: 0.4 | D84: m³/u
B85: Quantidade de árvores 20 < DN < 40 | C85: =C45 -> 12 | D85: u | E85: ="ITEM "&A43 -> ITEM 3.2
B86: Volume estimado | C86: 0.6 | D86: m³/u
B87: Quantidade de árvores 40< DN < 60 | C87: =C53 -> 3 | D87: u | E87: ="ITEM "&A51 -> ITEM 3.4
B88: Volume estimado | C88: 0.8 | D88: m³/u
B89: Quantidade de árvores DN > 60 | C89: =C61 -> 6 | D89: u | E89: ="ITEM "&A59 -> ITEM 3.6
B90: Volume estimado | C90: 1 | D90: m³/u
B91: Quantidade de construções | C91: =C69 -> 1 | D91: u | E91: ="ITEM "&A67 -> ITEM 3.8
B92: Volume de demolição da construção | C92: 33.1 | D92: m³
B93: Comprimento de cerca | C93: =C73 -> 260 | D93: m | E93: ="ITEM "&A71 -> ITEM 3.9
B94: Volume estimado | C94: 0.3 | D94: m³/m
B95: Quantidade de ponte de madeira | C95: =C77 -> 1 | D95: u | E95: ="ITEM "&A75 -> ITEM 3.10
B96: Volume estimado | C96: =6.86*0.2 -> 1.372 | D96: m³ | E96: ÁREA DA PONTE X 0,20 M DE ESPESSURA ESTIMADO
B97: Empolamento | C97: 30 | D97: %
B98: Total | C98: =(C81*C82+C83*C84+C85*C86+C87*C88+C89*C90+C91*C92+C93*C94+C95*C96)*((C97+100)/100) -> 6215.1401 | D98: m³
A100: 3.12 | B100: TRANSPORTE
B102: Volume de carga | C102: =C98 -> 6215.1401 | D102: m³ | E102: ="ITEM "&A79 -> ITEM 3.11
B103: Distância - Bota-fora de resíduos | C103: 10.1 | D103: km
B104: Total | C104: =C102*C103 -> 62772.915 | D104: m³ x km
A106: 3.13 | B106: ESPALHAMENTO DO MATERIAL
B108: Volume de carga | C108: =C98 -> 6215.1401 | D108: m³ | E108: ="ITEM "&A79 -> ITEM 3.11
A110: 4 | B110: TERRAPLENAGEM
A111: 4.1 | B111: CORTE
A112: 4.1.1 | B112: ESCAVAÇÃO
B114: Volume | C114: 33652.16 | D114: m³ | E114: PROJETO DE TERRAPLENAGEM
A116: 4.1.2 | B116: TRANSPORTE
B118: Volume de escavação | C118: =C114 -> 33652.16 | D118: m² | E118: ="ITEM "&A112 -> ITEM 4.1.1
B119: Empolamento | C119: 30 | D119: %
B120: SUB TOTAL - Volume de carga | C120: =C118*((C119+100)/100) -> 43747.808 | D120: m³
B121: Distância - Bota-fora de resíduos | C121: 6.6 | D121: km
B122: Total | C122: =C120*C121 -> 288735.53 | D122: m³ x km
A124: 4.1.3 | B124: ESPALHAMENTO DO MATERIAL
B126: Volume de carga | C126: =C120 -> 43747.808 | D126: m³ | E126: ="SUB TOTAL DO ITEM "&A116 -> SUB TOTAL DO ITEM 4.1.2
A128: 4.2 | B128: ATERRO
A129: 4.2.1 | B129: EXECUÇÃO DE ATERRO
B131: Volume | C131: 25204.08 | D131: m³ | E131: PROJETO DE TERRAPLENAGEM
A133: 4.2.2 | B133: ARGILA
B135: Volume de aterro | C135: =C131 -> 25204.08 | D135: m² | E135: ="ITEM "&A129 -> ITEM 4.2.1
B136: Coeficiente de contração | C136: 0.9
B137: Total | C137: =C135/C136 -> 28004.533 | D137: m³
A139: 4.2.3 | B139: CARGA
B141: Volume de argila | C141: =C137 -> 28004.533 | D141: m² | E141: ="ITEM "&A133 -> ITEM 4.2.2
B142: Empolamento | C142: 30 | D142: %
...
