Workbook
Name DADOS_COMPOSICAO: [1]CPU!$A:$M
Name DADOS_COTACAO: [1]COT!$A:$L
Name DADOS_SETOP: [1]SETOP!$A:$D
Name DADOS_SICRO: [1]SICRO!$A:$D
Name DADOS_SINAPI: [1]SINAPI!$A:$D
Name DADOS_SUDECAP: [1]SUDECAP!$A:$D
Name EMPRESAS: OFFSET(#REF!,1,0):OFFSET(#REF!,-1,0)
Name INDICES: OFFSET(#REF!,1,0):OFFSET(#REF!,-1,0)
Name NCOTACOES: 8
Name NEMPRESAS: 6

Sheet DADOS
B1: DADOS PARA O ORÇAMENTO
B2: Revisão: | C2: R00
B3: Projeto: | C3: BACIA DE RETENÇÃO DO PARQUE DA CIDADE
B4: Data: | C4: =TODAY() -> 46154
B5: BDI 1: | C5: 0.2423
B6: BDI 2:
B7: Data base: | C7: SINAPI: 09/2023 Minas Gerais SETOP: 04/2023 Minas Gerais SICRO : 07/2023 Minas Gerais SUDECAP: 07/2023 Minas Gerais
B8: Engenheiro(a) responsável: | C8: Eng. Aloisio Caetano Ferreira
B9: Crea: | C9: MG- 187.842/D
B12: Logo de Pouso Alegre
B15: Logo de Santa Rita do Sapucaí

Sheet MEMORIA DE CALCULO
A1: MEMORIAL DE CÁLCULO | F1: Revisão: | G1: =DADOS!C2 -> R00
F2: Data: | G2: =DADOS!C4 -> 46154
A3: Empresa projetista: | C3: Projeto: | F3: Cliente:
C4: =DADOS!C3 -> BACIA DE RETENÇÃO DO PARQUE DA CIDADE
A6: =A1&" DE PROJETO EXECUTIVO - "&C4 -> MEMORIAL DE CÁLCULO DE PROJETO EXECUTIVO - BACIA DE RETENÇÃO DO PARQUE DA CIDADE
A8: 1 | B8: ADMINISTRAÇÃO DA OBRA
A9: 1.1 | B9: ADMINISTRAÇÃO DA OBRA - INCLUSIVE ENGENHEIRO PLENO E VIGIA -COMPOSIÇÃO DO ITEM
B11: ENGENHEIRO CIVIL PLENO DE OBRA
B12: Total | C12: 8 | D12: meses
B13: VIGIA NOTURNO
B14: Total | C14: 8 | D14: meses
B15: ENCARREGADO GERAL
B16: Total | C16: 8 | D16: meses
B17: TÉCNICO DE SEGURANÇA
B18: Total | C18: 8 | D18: meses
B19: TOPOGRÁFO
B20: Total | C20: 2 | D20: meses
A22: 2 | B22: CANTEIRO DE OBRAS
A23: 2.1 | B23: CANTEIRO DE OBRAS - COMPOSIÇÃO DO ITEM
B25: LOCAÇÃO DE CONTAINER PARA ESCRITÓRIO
B26: Total | C26: 8 | D26: meses
B27: LOCAÇÃO DE CONTAINER PARA SANITÁRIO
B28: Total | C28: 8 | D28: meses | O28: =3000000 -> 3000000 | Q28: =25000/5 -> 5000
B29: MOBILIZAÇÃO E DESMOBILIZAÇÃO DE CONTAINER | O29: 25000
B30: Total | C30: 2 | D30: u | O30: =O28/O29 -> 120
B31: LIGAÇÃO PROVISÓRIA DE LUZ E FORÇA-PADRÃO PROVISÓRIO 30KVA
B32: Total | C32: 1 | D32: u
B33: PLACA DE OBRA EM CHAPA GALVANIZADA
B34: Largura | C34: 4 | D34: m
B35: Altura | C35: 3 | D35: m
B36: Total | C36: =C34*C35 -> 12 | D36: m²
A38: 3 | B38: LIMPEZA E DEMOLIÇÃO
A39: 3.1 | B39: REMOÇÃO DA CAMADA VEGETAL
E40: PROJETO DE DEMOLIÇÃO
B41: Total | C41: 30962.7 | D41: m² | E41: 21 ÁRVORES COM DN<20 INCLUSAS
A43: 3.2 | B43: REMOÇÃO DE ÁRVORE 20 < DN < 40 cm
B45: Total | C45: 12 | D45: u
A47: 3.3 | B47: REMOÇÃO DE RAIZ DE ÁRVORE 20 < DN < 40 cm
B49: Total | C49: =C45 -> 12 | D49: u
A51: 3.4 | B51: REMOÇÃO DE ÁRVORE 40 < DN < 60 cm
...
