Workbook

Sheet PLANILHA
B1: SECRETARIA DE ESTADO DE EDUCAÇÃO - SUPERINTENDÊNCIA DE INFRAESTRUTURA E LOGÍSTICA - DIRETORIA DE GESTÃO DE PARCERIAS E FISCALIZAÇÃO PLANILHA DE SERVIÇOS - SEM DESONERAÇÃO
A2: ESCOLA ESTADUAL / MUNICIPAL: ESCOLA MUNICIPAL PROFESSORA MARIA BARBOSA | C2: COD ESCOLA: | E2: 60879 | F2: S.R.E.: | G2: POUSO ALEGRE
A3: MUNICÍPIO: POUSO ALEGRE / MG | C3: ISS | D3: 0.03 | E3: SERVIÇOS: | F3: REFORMA
A4: ITEM | B4: DESCRIÇÃO | C4: UN | D4: ANALISADO | G4: =G87 -> 393966.68 | H4: LOCAL DE INTERVENÇÃO
D5: QUANT. | E5: P. UNIT. (S/BDI) | F5: P. UNIT. (C/BDI) | G5: P. TOTAL (C/BDI) | H5: MEMÓRIA DE CALCULO
A6: 010000 | B6: INSTALAÇÃO DOS SERVIÇOS DE ENGENHARIA
A7: 010003 | B7: Fornecimento e colocação de placa dos serviços de engenharia em chapa galvanizada (3,00 X 1,50m) - Governo do Estado - (Ampliação e / ou Reforma acima de R$ 30.000,00) | C7: UN | D7: 1 | E7: 1230.21 | F7: =ROUND(E7*(1+C$86),2) -> 1514.63 | G7: =ROUND(D7*F7,2) -> 1514.63 | H7: 1 Unidade | I7: Fachada Escola
B8: Será medido por unidade de placa instalada (UN). O item remunera as placas de obras que deverão ser confeccionadas em chapa galvanizada 0,26. As chapas serão afixadas com rebites 540 e parafusos 3/8, em uma estrutura metálica com viga U 2” enrijecida e Metalon 20x20. O suporte para a instalação deverá ser em Eucalipto Autoclavado. As placas serão pintadas na frente e no verso com fundo anticorrosivo e tinta automotiva. FORMATO: 3,00 x 1,50m. O tamanho da placa é definido em função do local da sua instalação e/ou do valor dos serviços acima de R$ 30.000,00, obedecendo à proporção de 6,00 x 3,00m e o manual de identidade visual do Governo de Minas.
A10: ED-16350 (SICOR OUT/2024) | B10: LOCAÇÃO DE CONTAINER COM ISOLAMENTO TÉRMICO, TIPO 3, PARA DEPÓSITO/FERRAMENTARIA DE OBRA, COM MEDIDAS REFERENCIAIS DE (6) METROS COMPRIMENTO, (2,3) METROS LARGURA E (2,5) METROS ALTURA ÚTIL INTERNA, INCLUSIVE LIGAÇÕES ELÉTRICAS INTERNAS, EXCLUSIVE MOBILIZAÇÃO/DESMOBILIZAÇÃO E LIGAÇÕES PROVISÓRIAS EXTERNAS | C10: MÊS | D10: 3 | E10: 801.89 | F10: =ROUND(E10*(1+C$86),2) -> 987.29 | G10: =ROUND(D10*F10,2) -> 2961.87 | H10: 1 Unidade x Duração da Obra (3 meses) | I10: Local definido em obra
A12: ED-16358 (SICOR OUT/2024) | B12: LIGAÇÕES PROVISÓRIAS PARA CONTAINER TIPO 3 (CORRESPONDENTE AO CÓDIGO ED-16350) | C12: UN | D12: 1 | E12: 297.63 | F12: =ROUND(E12*(1+C$86),2) -> 366.44 | G12: =ROUND(D12*F12,2) -> 366.44 | H12: 1 Unidade | I12: Referente ao container
A14: ED-50137 (SICOR OUT/2024) | B14: MOBILIZAÇÃO E DESMOBILIZAÇÃO DE CONTAINER, INCLUSIVE CARGA, DESCARGA E TRANSPORTE EM CAMINHÃO CARROCERIA COM GUINDAUTO (MUNCK), EXCLUSIVE LOCAÇÃO DO CONTAINER) | C14: UN | D14: 1 | E14: 1487.24 | F14: =ROUND(E14*(1+C$86),2) -> 1831.09 | G14: =ROUND(D14*F14,2) -> 1831.09 | H14: 1 Unidade | I14: Referente ao container
A16: ED-50155 (SICOR OUT/2024) | B16: LOCAÇÃO DE BANHEIRO QUÍMICO, DIMENSÃO (110X120X230)CM, LINHA PADRÃO, CONTENDO UMA (1) PIA/HIGIENIZADOR DE MÃOS, INCLUSIVE MANUTENÇÃO E MOBILIZAÇÃO/DESMOBILIZAÇÃO | C16: MÊS | D16: 6 | E16: 900 | F16: =ROUND(E16*(1+C$86),2) -> 1108.08 | G16: =ROUND(D16*F16,2) -> 6648.48 | H16: 2 Unidades (feminino e masculino) x Duração da Obra (3 meses) | I16: Local definido em obra
C18: SUB-TOTAL = | G18: =ROUND(SUM(G7:G17),2) -> 13322.51
A19: 020000 | B19: DEMOLIÇÕES E REMOÇÕES
A20: 020022 | B20: Demolição de piso cimentado inclusive a base sobre lastro de concreto. | C20: M² | D20: 574.75 | E20: 18.07 | F20: =ROUND(E20*(1+C$86),2) -> 22.25 | G20: =ROUND(D20*F20,2) -> 12788.19
B21: Será medido por área real de piso cimentado, inclusive a base, demolido, medida no projeto ou aferida antes da demolição (m²). O item remunera o fornecimento da mão-de-obra necessária e ferramentas adequadas para a execução dos serviços: demolição, fragmentação de pisos cimentados, inclusive a base de assentamento, manualmente; a seleção e acomodação manual do entulho em lotes. A execução dos serviços deverá cumprir todas as exigências e determinações previstas na legislação: Resolução nº 307, de 5 de julho de 2002, pelo Conselho Nacional do Meio Ambiente ( CONAMA ), NBR 15112, NBR 15113, NBR 15114 e outras vigentes à época da execução dos serviços. | H21: Comprimento dos tubos (100 mm: 154,40 m + 150 mm: 178,00 m + 200 mm: 132,77 m + 250 mm: 96,47 m + 300 mm: 13,11 m) x largura média da vala (1,00 m) = 574,75 m². | I21: Todo perímetro da escola (local de passagem das tubulações de drenagem conforme Projeto)
C23: SUB-TOTAL = | G23: =ROUND(SUM(G19:G22),2) -> 12788.19
A24: 030000 | B24: TRABALHOS EM TERRA
A25: 030002 | B25: Escavação manual de vala em solo de 1ª e 2ª categoria, profundidade em até 2,00m | C25: M3 | D25: 459.8 | E25: 69.65 | F25: =ROUND(E25*(1+C$86),2) -> 85.75 | G25: =ROUND(D25*F25,2) -> 39427.85
B26: Será medido pelo volume escavado, considerando-se um acréscimo para cada lado, no plano horizontal, em relação às dimensões de cada peça, de 20 cm (m³). O item remunera o fornecimento da mão-de-obra necessária para a escavação manual em solo de 1ª e 2ª categorias em valas ou cavas até 2,00 m de profundidade. | H26: Comprimento dos tubos (100 mm: 154,40 m + 150 mm: 178,00 m + 200 mm: 132,77 m + 250 mm: 96,47 m + 300 mm: 13,11 m) x largura média da vala (1,00 m) x profundidade média da vala (0,80)= 459,80 m³. | I26: Todo perímetro da escola (local de passagem das tubulações de drenagem conforme Projeto)
A28: 030006 | B28: Reaterro Compactado mecanizado empregando compactador de placa vibratória, em camadas de 20 a 40 cm. | C28: M3 | D28: =D25 -> 459.8 | E28: 49 | F28: =ROUND(E28*(1+C$86),2) -> 60.33 | G28: =ROUND(D28*F28,2) -> 27739.73
B29: Será medido pelo volume de reaterro em valas, poços ou cavas executado (m³). O item remunera o fornecimento da mão-de-obra, ferramentas e equipamentos necessários para a execução dos serviços de reaterro com compactador de placa, com material existente ou importado, sem controle de compactação. | H29: Comprimento dos tubos (100 mm: 154,40 m + 150 mm: 178,00 m + 200 mm: 132,77 m + 250 mm: 96,47 m + 300 mm: 13,11 m) x largura média da vala (1,00 m) x profundidade média da vala (0,80)= 459,80 m³. | I29: Todo perímetro da escola (local de passagem das tubulações de drenagem conforme Projeto)
C31: SUB-TOTAL = | G31: =ROUND(SUM(G25:G30),2) -> 67167.58
A32: 050000 | B32: SUPERESTRUTURA
A33: ED-9207 (SICOR OUT/2024) | B33: TUBO DE CONCRETO ARMADO, CLASSE PA1, DIÂMETRO DE 400MM, INCLUSIVE CARGA E DESCARGA MECÂNICA EM CAMINHÃO, ASSENTAMENTO E REJUNTAMENTO, EXCLUSIVE ESCAVAÇÃO E TRANSPORTE | C33: M | D33: 10.47 | E33: 201.14 | F33: =ROUND(E33*(1+C$86),2) -> 247.64 | G33: =ROUND(D33*F33,2) -> 2592.79 | H33: Conforme Projeto de Drenagem Pluvial | I33: Encaminhamento pluvial no piso
C35: SUB-TOTAL = | G35: =ROUND(SUM(G32:G34),2) -> 2592.79
A36: 070000 | B36: COBERTURA E FORRO
A37: 070400 | B37: Instalação de Calhas e rufos:
B38: Será medido por comprimento instalado (m). Os itens remuneram o fornecimento e instalação de calhas ou rufos em chapa galvanizada nº 24, com desenvolvimento descrito no item, inclusive materiais acessórios para emendas, junção em outras peças, vedação e fixação.
A40: 070403 | B40: Calha de chapa galvanizada, nº 24 desenvolvimento 60 cm | C40: M | D40: 620.25 | E40: 81.24 | F40: =ROUND(E40*(1+C$86),2) -> 100.02 | G40: =ROUND(D40*F40,2) -> 62037.41 | H40: Conforme Projeto de Drenagem Pluvial | I40: Telhados
A42: 070500 | B42: Condutor de água pluvial e buzinotes
B43: Será medido por comprimento instalado (m). O item remunera o fornecimento de materiais e mão de obra para instalação de tubo na cor branca (condutores) verticais e executadas com PVC reforçado com as juntas com bolsa e anel de borracha, inclusive materiais acessórios para emendas, suportes, junção em outras peças, vedação e fixação.
A45: 070502 | B45: Condutor de água (tubo de PVC branco, com conexões, ponta bolsa e virola, diâmetro da seção 100mm) | C45: M | D45: 392.98 | E45: 84.45 | F45: =ROUND(E45*(1+C$86),2) -> 103.97 | G45: =ROUND(D45*F45,2) -> 40858.13 | H45: Conforme Projeto de Drenagem Pluvial | I45: Água de calha e do piso
A47: 104166 (SINAPI OUT/2024) | B47: TUBO PVC, SÉRIE R, ÁGUA PLUVIAL, DN 150 MM, FORNECIDO E INSTALADO EM RAMAL DE ENCAMINHAMENTO. AF_06/2022 | C47: M | D47: 178 | E47: 73.63 | F47: =ROUND(E47*(1+C$86),2) -> 90.65 | G47: =ROUND(D47*F47,2) -> 16135.7 | H47: Conforme Projeto de Drenagem Pluvial | I47: Encaminhamento pluvial no piso
C49: SUB-TOTAL = | G49: =ROUND(SUM(G37:G48),2) -> 119031.24
A50: 090000 | B50: INSTALAÇÕES SANITÁRIAS
A51: 090100 | B51: Execução de:
A52: 090102 | B52: Caixa de Inspeção ou passagem em alvenaria 60 X 60 X 60 cm, inclusive tampa em grelha de aço, escavação, reaterro e bota-fora | C52: UN | D52: 26 | E52: 795.67 | F52: =ROUND(E52*(1+C$86),2) -> 979.63 | G52: =ROUND(D52*F52,2) -> 25470.38 | H52: Conforme Projeto de Drenagem Pluvial | I52: Caixas Pluviais
B53: Será medido por unidade de caixa executado (un). O item remunera o fornecimento de materiais e mão-de-obra necessários para a execução do caixa de inspeção com dimensões descritas, constituído por: alvenaria de tijolo comum com revestimento em argamassa: fundo de concreto e cinta de amarração superior para apoio do tampão em grelha de aço; remunera também os serviços de escavação, escoramento da vala, reaterro e disposição das sobras e impermeabilização interna através de pintura de proteção asfáltica em duas demãos..
A55: ED-49926 (SICOR OUT/2024) | B55: CAIXA DE DRENAGEM DE INSPEÇÃO/PASSAGEM EM ALVENARIA (80X80X140CM), REVESTIMENTO EM ARGAMASSA COM ADITIVO IMPERMEABILIZANTE, COM TAMPA EM GRELHA, INCLUSIVE ESCAVAÇÃO, REATERRO E TRANSPORTE COM RETIRADA DO MATERIAL ESCAVADO (EM CAÇAMBA) | C55: UN | D55: 16 | E55: 1871.56 | F55: =ROUND(E55*(1+C$86),2) -> 2304.26 | G55: =ROUND(D55*F55,2) -> 36868.16 | H55: Conforme Projeto de Drenagem Pluvial | I55: Caixas Pluviais
...

Sheet MEMORIAL DE CÁLCULO
B1: SECRETARIA DE ESTADO DE EDUCAÇÃO - SUPERINTENDÊNCIA DE INFRAESTRUTURA E LOGÍSTICA - DIRETORIA DE GESTÃO DE PARCERIAS E FISCALIZAÇÃO MEMÓRIA DE CÁLCULO - SEM DESONERAÇÃO
A2: ESCOLA ESTADUAL / MUNICIPAL: ESCOLA MUNICIPAL PROFESSORA MARIA BARBOSA | C2: COD ESCOLA: | E2: 60879 | F2: S.R.E.: | G2: POUSO ALEGRE
A3: MUNICÍPIO: POUSO ALEGRE / MG | C3: ISS | D3: 0.03 | E3: SERVIÇOS: | F3: REFORMA
A4: ITEM | B4: DESCRIÇÃO | C4: UN | D4: ANALISADO | G4: =G87 -> 393966.68 | H4: LOCAL DE INTERVENÇÃO
D5: QUANT. | E5: P. UNIT. (S/BDI) | F5: P. UNIT. (C/BDI) | G5: P. TOTAL (C/BDI) | H5: MEMÓRIA DE CALCULO
A6: 010000 | B6: INSTALAÇÃO DOS SERVIÇOS DE ENGENHARIA
A7: 010003 | B7: Fornecimento e colocação de placa dos serviços de engenharia em chapa galvanizada (3,00 X 1,50m) - Governo do Estado - (Ampliação e / ou Reforma acima de R$ 30.000,00) | C7: UN | D7: 1 | E7: 1230.21 | F7: =ROUND(E7*(1+C$86),2) -> 1514.63 | G7: =ROUND(D7*F7,2) -> 1514.63 | H7: 1 Unidade | I7: Fachada Escola
B8: Será medido por unidade de placa instalada (UN). O item remunera as placas de obras que deverão ser confeccionadas em chapa galvanizada 0,26. As chapas serão afixadas com rebites 540 e parafusos 3/8, em uma estrutura metálica com viga U 2” enrijecida e Metalon 20x20. O suporte para a instalação deverá ser em Eucalipto Autoclavado. As placas serão pintadas na frente e no verso com fundo anticorrosivo e tinta automotiva. FORMATO: 3,00 x 1,50m. O tamanho da placa é definido em função do local da sua instalação e/ou do valor dos serviços acima de R$ 30.000,00, obedecendo à proporção de 6,00 x 3,00m e o manual de identidade visual do Governo de Minas.
A10: ED-16350 (SICOR OUT/2024) | B10: LOCAÇÃO DE CONTAINER COM ISOLAMENTO TÉRMICO, TIPO 3, PARA DEPÓSITO/FERRAMENTARIA DE OBRA, COM MEDIDAS REFERENCIAIS DE (6) METROS COMPRIMENTO, (2,3) METROS LARGURA E (2,5) METROS ALTURA ÚTIL INTERNA, INCLUSIVE LIGAÇÕES ELÉTRICAS INTERNAS, EXCLUSIVE MOBILIZAÇÃO/DESMOBILIZAÇÃO E LIGAÇÕES PROVISÓRIAS EXTERNAS | C10: MÊS | D10: 3 | E10: 801.89 | F10: =ROUND(E10*(1+C$86),2) -> 987.29 | G10: =ROUND(D10*F10,2) -> 2961.87 | H10: 1 Unidade x Duração da Obra (3 meses) | I10: Local definido em obra
A12: ED-16358 (SICOR OUT/2024) | B12: LIGAÇÕES PROVISÓRIAS PARA CONTAINER TIPO 3 (CORRESPONDENTE AO CÓDIGO ED-16350) | C12: UN | D12: 1 | E12: 297.63 | F12: =ROUND(E12*(1+C$86),2) -> 366.44 | G12: =ROUND(D12*F12,2) -> 366.44 | H12: 1 Unidade | I12: Referente ao container
A14: ED-50137 (SICOR OUT/2024) | B14: MOBILIZAÇÃO E DESMOBILIZAÇÃO DE CONTAINER, INCLUSIVE CARGA, DESCARGA E TRANSPORTE EM CAMINHÃO CARROCERIA COM GUINDAUTO (MUNCK), EXCLUSIVE LOCAÇÃO DO CONTAINER) | C14: UN | D14: 1 | E14: 1487.24 | F14: =ROUND(E14*(1+C$86),2) -> 1831.09 | G14: =ROUND(D14*F14,2) -> 1831.09 | H14: 1 Unidade | I14: Referente ao container
A16: ED-50155 (SICOR OUT/2024) | B16: LOCAÇÃO DE BANHEIRO QUÍMICO, DIMENSÃO (110X120X230)CM, LINHA PADRÃO, CONTENDO UMA (1) PIA/HIGIENIZADOR DE MÃOS, INCLUSIVE MANUTENÇÃO E MOBILIZAÇÃO/DESMOBILIZAÇÃO | C16: MÊS | D16: 6 | E16: 900 | F16: =ROUND(E16*(1+C$86),2) -> 1108.08 | G16: =ROUND(D16*F16,2) -> 6648.48 | H16: 2 Unidades (feminino e masculino) x Duração da Obra (3 meses) | I16: Local definido em obra
C18: SUB-TOTAL = | G18: =ROUND(SUM(G7:G17),2) -> 13322.51
A19: 020000 | B19: DEMOLIÇÕES E REMOÇÕES
A20: 020022 | B20: Demolição de piso cimentado inclusive a base sobre lastro de concreto. | C20: M² | D20: 574.75 | E20: 18.07 | F20: =ROUND(E20*(1+C$86),2) -> 22.25 | G20: =ROUND(D20*F20,2) -> 12788.19
B21: Será medido por área real de piso cimentado, inclusive a base, demolido, medida no projeto ou aferida antes da demolição (m²). O item remunera o fornecimento da mão-de-obra necessária e ferramentas adequadas para a execução dos serviços: demolição, fragmentação de pisos cimentados, inclusive a base de assentamento, manualmente; a seleção e acomodação manual do entulho em lotes. A execução dos serviços deverá cumprir todas as exigências e determinações previstas na legislação: Resolução nº 307, de 5 de julho de 2002, pelo Conselho Nacional do Meio Ambiente ( CONAMA ), NBR 15112, NBR 15113, NBR 15114 e outras vigentes à época da execução dos serviços. | H21: Comprimento dos tubos (100 mm: 154,40 m + 150 mm: 178,00 m + 200 mm: 132,77 m + 250 mm: 96,47 m + 300 mm: 13,11 m) x largura média da vala (1,00 m) = 574,75 m². | I21: Todo perímetro da escola (local de passagem das tubulações de drenagem conforme Projeto)
C23: SUB-TOTAL = | G23: =ROUND(SUM(G19:G22),2) -> 12788.19
A24: 030000 | B24: TRABALHOS EM TERRA
A25: 030002 | B25: Escavação manual de vala em solo de 1ª e 2ª categoria, profundidade em até 2,00m | C25: M3 | D25: 459.8 | E25: 69.65 | F25: =ROUND(E25*(1+C$86),2) -> 85.75 | G25: =ROUND(D25*F25,2) -> 39427.85
B26: Será medido pelo volume escavado, considerando-se um acréscimo para cada lado, no plano horizontal, em relação às dimensões de cada peça, de 20 cm (m³). O item remunera o fornecimento da mão-de-obra necessária para a escavação manual em solo de 1ª e 2ª categorias em valas ou cavas até 2,00 m de profundidade. | H26: Comprimento dos tubos (100 mm: 154,40 m + 150 mm: 178,00 m + 200 mm: 132,77 m + 250 mm: 96,47 m + 300 mm: 13,11 m) x largura média da vala (1,00 m) x profundidade média da vala (0,80)= 459,80 m³. | I26: Todo perímetro da escola (local de passagem das tubulações de drenagem conforme Projeto)
A28: 030006 | B28: Reaterro Compactado mecanizado empregando compactador de placa vibratória, em camadas de 20 a 40 cm. | C28: M3 | D28: =D25 -> 459.8 | E28: 49 | F28: =ROUND(E28*(1+C$86),2) -> 60.33 | G28: =ROUND(D28*F28,2) -> 27739.73
B29: Será medido pelo volume de reaterro em valas, poços ou cavas executado (m³). O item remunera o fornecimento da mão-de-obra, ferramentas e equipamentos necessários para a execução dos serviços de reaterro com compactador de placa, com material existente ou importado, sem controle de compactação. | H29: Comprimento dos tubos (100 mm: 154,40 m + 150 mm: 178,00 m + 200 mm: 132,77 m + 250 mm: 96,47 m + 300 mm: 13,11 m) x largura média da vala (1,00 m) x profundidade média da vala (0,80)= 459,80 m³. | I29: Todo perímetro da escola (local de passagem das tubulações de drenagem conforme Projeto)
C31: SUB-TOTAL = | G31: =ROUND(SUM(G25:G30),2) -> 67167.58
A32: 050000 | B32: SUPERESTRUTURA
A33: ED-9207 (SICOR OUT/2024) | B33: TUBO DE CONCRETO ARMADO, CLASSE PA1, DIÂMETRO DE 400MM, INCLUSIVE CARGA E DESCARGA MECÂNICA EM CAMINHÃO, ASSENTAMENTO E REJUNTAMENTO, EXCLUSIVE ESCAVAÇÃO E TRANSPORTE | C33: M | D33: 10.47 | E33: 201.14 | F33: =ROUND(E33*(1+C$86),2) -> 247.64 | G33: =ROUND(D33*F33,2) -> 2592.79 | H33: Conforme Projeto de Drenagem Pluvial | I33: Encaminhamento pluvial no piso
C35: SUB-TOTAL = | G35: =ROUND(SUM(G32:G34),2) -> 2592.79
A36: 070000 | B36: COBERTURA E FORRO
A37: 070400 | B37: Instalação de Calhas e rufos:
B38: Será medido por comprimento instalado (m). Os itens remuneram o fornecimento e instalação de calhas ou rufos em chapa galvanizada nº 24, com desenvolvimento descrito no item, inclusive materiais acessórios para emendas, junção em outras peças, vedação e fixação.
A40: 070403 | B40: Calha de chapa galvanizada, nº 24 desenvolvimento 60 cm | C40: M | D40: 620.25 | E40: 81.24 | F40: =ROUND(E40*(1+C$86),2) -> 100.02 | G40: =ROUND(D40*F40,2) -> 62037.41 | H40: Conforme Projeto de Drenagem Pluvial | I40: Telhados
A42: 070500 | B42: Condutor de água pluvial e buzinotes
B43: Será medido por comprimento instalado (m). O item remunera o fornecimento de materiais e mão de obra para instalação de tubo na cor branca (condutores) verticais e executadas com PVC reforçado com as juntas com bolsa e anel de borracha, inclusive materiais acessórios para emendas, suportes, junção em outras peças, vedação e fixação.
A45: 070502 | B45: Condutor de água (tubo de PVC branco, com conexões, ponta bolsa e virola, diâmetro da seção 100mm) | C45: M | D45: 392.98 | E45: 84.45 | F45: =ROUND(E45*(1+C$86),2) -> 103.97 | G45: =ROUND(D45*F45,2) -> 40858.13 | H45: Conforme Projeto de Drenagem Pluvial | I45: Água de calha e do piso
A47: 104166 (SINAPI OUT/2024) | B47: TUBO PVC, SÉRIE R, ÁGUA PLUVIAL, DN 150 MM, FORNECIDO E INSTALADO EM RAMAL DE ENCAMINHAMENTO. AF_06/2022 | C47: M | D47: 178 | E47: 73.63 | F47: =ROUND(E47*(1+C$86),2) -> 90.65 | G47: =ROUND(D47*F47,2) -> 16135.7 | H47: Conforme Projeto de Drenagem Pluvial | I47: Encaminhamento pluvial no piso
C49: SUB-TOTAL = | G49: =ROUND(SUM(G37:G48),2) -> 119031.24
A50: 090000 | B50: INSTALAÇÕES SANITÁRIAS
A51: 090100 | B51: Execução de:
A52: 090102 | B52: Caixa de Inspeção ou passagem em alvenaria 60 X 60 X 60 cm, inclusive tampa em grelha de aço, escavação, reaterro e bota-fora | C52: UN | D52: 26 | E52: 795.67 | F52: =ROUND(E52*(1+C$86),2) -> 979.63 | G52: =ROUND(D52*F52,2) -> 25470.38 | H52: Conforme Projeto de Drenagem Pluvial | I52: Caixas Pluviais
B53: Será medido por unidade de caixa executado (un). O item remunera o fornecimento de materiais e mão-de-obra necessários para a execução do caixa de inspeção com dimensões descritas, constituído por: alvenaria de tijolo comum com revestimento em argamassa: fundo de concreto e cinta de amarração superior para apoio do tampão em grelha de aço; remunera também os serviços de escavação, escoramento da vala, reaterro e disposição das sobras e impermeabilização interna através de pintura de proteção asfáltica em duas demãos..
A55: ED-49926 (SICOR OUT/2024) | B55: CAIXA DE DRENAGEM DE INSPEÇÃO/PASSAGEM EM ALVENARIA (80X80X140CM), REVESTIMENTO EM ARGAMASSA COM ADITIVO IMPERMEABILIZANTE, COM TAMPA EM GRELHA, INCLUSIVE ESCAVAÇÃO, REATERRO E TRANSPORTE COM RETIRADA DO MATERIAL ESCAVADO (EM CAÇAMBA) | C55: UN | D55: 16 | E55: 1871.56 | F55: =ROUND(E55*(1+C$86),2) -> 2304.26 | G55: =ROUND(D55*F55,2) -> 36868.16 | H55: Conforme Projeto de Drenagem Pluvial | I55: Caixas Pluviais
...

Sheet CRONOGRAMA
A1: CRONOGRAMA FÍSICO-FINANCEIRO
B2: ESCOLA ESTADUAL / MUNICIPAL: ESCOLA MUNICIPAL PROFESSORA MARIA BARBOSA | I2: SRE: POUSO ALEGRE
B3: MUNICÍPIO / DISTRITO: POUSO ALEGRE/MG | I3: ENDEREÇO: RODOVIA BR381 KM807
B4: SERVIÇOS: REFORMA
A5: ITEM | B5: DESCRIÇÃO | C5: TOTAL GERAL (C/ BDI) | D5: % INC. | E5: 1º MÊS | G5: 2º MÊS | I5: 3º MÊS | K5: TOTAL
E6: % | F6: VALOR | G6: % | H6: VALOR | I6: % | J6: VALOR
A7: ="01" -> 01 | B7: =PLANILHA!B6 -> INSTALAÇÃO DOS SERVIÇOS DE ENGENHARIA | C7: =PLANILHA!G18 -> 13322.51 | D7: =C7/$C$16 -> 0.033816337 | E7: 0.33 | F7: =C7*E7 -> 4396.4283 | G7: 0.33 | H7: =C7*G7 -> 4396.4283 | I7: 0.34 | J7: =C7*I7 -> 4529.6534 | K7: =F7+H7+J7 -> 13322.51
A8: ="02" -> 02 | B8: =PLANILHA!B19 -> DEMOLIÇÕES E REMOÇÕES | C8: =PLANILHA!G23 -> 12788.19 | D8: =C8/$C$16 -> 0.03246008 | F8: =C8*E8 -> 0 | G8: 0.5 | H8: =C8*G8 -> 6394.095 | I8: 0.5 | J8: =C8*I8 -> 6394.095 | K8: =F8+H8+J8 -> 12788.19
A9: ="03" -> 03 | B9: =PLANILHA!B24 -> TRABALHOS EM TERRA | C9: =PLANILHA!G31 -> 67167.58 | D9: =C9/$C$16 -> 0.17049051 | E9: 0.33 | F9: =C9*E9 -> 22165.301 | G9: 0.33 | H9: =C9*G9 -> 22165.301 | I9: 0.34 | J9: =C9*I9 -> 22836.977 | K9: =F9+H9+J9 -> 67167.58
A10: ="05" -> 05 | B10: =PLANILHA!B32 -> SUPERESTRUTURA | C10: =PLANILHA!G35 -> 2592.79 | D10: =C10/$C$16 -> 0.0065812418 | F10: =C10*E10 -> 0 | H10: =C10*G10 -> 0 | I10: 1 | J10: =C10*I10 -> 2592.79 | K10: =F10+H10+J10 -> 2592.79
A11: ="07" -> 07 | B11: =PLANILHA!B36 -> COBERTURA E FORRO | C11: =PLANILHA!G49 -> 119031.24 | D11: =C11/$C$16 -> 0.3021353 | F11: =C11*E11 -> 0 | G11: 0.5 | H11: =C11*G11 -> 59515.62 | I11: 0.5 | J11: =C11*I11 -> 59515.62 | K11: =F11+H11+J11 -> 119031.24
A12: ="09" -> 09 | B12: =PLANILHA!B50 -> INSTALAÇÕES SANITÁRIAS | C12: =PLANILHA!G65 -> 110456.41 | D12: =C12/$C$16 -> 0.28036993 | F12: =C12*E12 -> 0 | H12: =C12*G12 -> 0 | I12: 1 | J12: =C12*I12 -> 110456.41 | K12: =F12+H12+J12 -> 110456.41
A13: 15 | B13: =PLANILHA!B66 -> PISOS E RODAPÉS | C13: =PLANILHA!G71 -> 53296.57 | D13: =C13/$C$16 -> 0.13528192 | F13: =C13*E13 -> 0 | H13: =C13*G13 -> 0 | I13: 1 | J13: =C13*I13 -> 53296.57 | K13: =F13+H13+J13 -> 53296.57
A14: 23 | B14: =PLANILHA!B72 -> LIMPEZA | C14: =PLANILHA!G83 -> 15311.39 | D14: =C14/$C$16 -> 0.038864683 | F14: =C14*E14 -> 0 | H14: =C14*G14 -> 0 | I14: 1 | J14: =C14*I14 -> 15311.39 | K14: =F14+H14+J14 -> 15311.39
A15: TOTAL MENSAL | E15: =F15/C16 -> 0.067421259 | F15: =SUM(F7:F14) -> 26561.73 | G15: =H15/C16 -> 0.23471895 | H15: =SUM(H7:H13) -> 92471.445 | I15: =J15/C16 -> 0.65899511 | J15: =SUM(J7:J13) -> 259622.12 | K15: =SUM(K7:K14) -> 393966.68
A16: TOTAL ACUMULADO | C16: =SUM(C7:C14) -> 393966.68 | D16: =SUM(D7:D15) -> 1 | E16: =F16/C16 -> 0.067421259 | F16: =F15 -> 26561.73 | G16: =H16/C16 -> 0.30214021 | H16: =F16+H15 -> 119033.17 | I16: =J16/C16 -> 0.96113532 | J16: =H16+J15 -> 378655.29 | K16: =K15 -> 393966.68
A17: LOCAL / DATA: Pouso Alegre - MG
A18: RESPONSÁVEL TÉCNICO: Aloisio Caetano Ferreira (CREA - MG 97.132/D)
A19: REPRESENTANTE LEGAL: José Dimas da Silva Fonseca
