Workbook
Name CLIENTES: OFFSET(CLIENTES!$B$1,0,0,COUNTA(CLIENTES!$B:$B),1)
Name DADOS_COMPOSICAO: CPU!$A:$M
Name DADOS_COTACAO: COT!$A:$L
Name DADOS_SETOP: SETOP!$A:$D
Name DADOS_SICRO: SICRO!$A:$D
Name DADOS_SINAPI: SINAPI!$A:$D
Name DADOS_SUDECAP: SUDECAP!$A:$D
Name logo_ABC: INDIRECT("CLIENTES!C"&DADOS!$E$4)
Name LOGOS: INDIRECT("CLIENTES!C"&DADOS!$E$4)

Sheet CAPA

Sheet CLIENTES
B1: PREFEITURA MUNICIPAL DE POUSO ALEGRE
B2: PREFEITURA MUNICIPAL DE CACHOEIRA DE MINAS
B3: PREFEITURA MUNICIPAL DE ITAJUBÁ
B4: PREFEITURA MUNICIPAL DE SANTA RITA DO SAPUCAÍ
B5: RYZA
B6: FAPEPE
B7: PREFEITURA MUNICIPAL DE DELFIM MOREIRA
B8: PREFEITURA MUNICIPAL DE PIRANGUINHO
B9: -

Sheet DADOS
B2: DATA | D2: =TODAY() -> 46170
B4: CLIENTE | E4: 1
B6: REVISÃO | D6: R03
B8: PROJETO | D8: REFORMA DO MURO DE FECHAMENTO DO CEMITÉRIO MUNICIPAL
B10: BDI TIPO 1 | D10: 0.2652
B12: BDI TIPO 2 | D12: -
B14: BANCOS DE DADOS | D14: SINAPI: 12/2025 Minas Gerais SETOP: 10/2025 Minas Gerais SICRO : 10/2025 Minas Gerais SUDECAP: 09/2025 Minas Gerais
B16: RESPONSÁVEL | D16: ALOISIO CAETANO FERREIRA
B18: CREA | D18: CREA - MG 97.132/D
B20: TIPO | D20: PROJETO EXECUTIVO

Sheet ORC
A3: 1000 | D3: A | E3: ADMINISTRAÇÃO DE OBRA | M3: =SUMIF(A:A,D3,M:M) -> 0 | N3: =SUMIF(A:A,D3,N:N) -> 0
D4: A.B | M4: =IFERROR(SUMIFS(M:M,A:A,LEFT(D4,SEARCH(".",D4)-1),B:B,RIGHT(D4,LEN(D4)-SEARCH(".",D4))),"") -> 0 | N4: =IFERROR(SUMIFS(N:N,A:A,LEFT(D4,SEARCH(".",D4)-1),B:B,RIGHT(D4,LEN(D4)-SEARCH(".",D4))),"") -> 0
D5: A.B.C | M5: =IFERROR(SUMIFS(M:M,A:A,LEFT(D5,SEARCH(".",D5)-1),B:B,LEFT(RIGHT(D5,LEN(D5)-SEARCH(".",D5)),SEARCH(".",RIGHT(D5,LEN(D5)-SEARCH(".",D5)))-1),C:C,RIGHT(D5,LEN(D5)-SEARCH(".",D5,SEARCH(".",D5)+1))),"") -> 0 | N5: =IFERROR(SUMIFS(N:N,A:A,LEFT(D5,SEARCH(".",D5)-1),B:B,LEFT(RIGHT(D5,LEN(D5)-SEARCH(".",D5)),SEARCH(".",RIGHT(D5,LEN(D5)-SEARCH(".",D5)))-1),C:C,RIGHT(D5,LEN(D5)-SEARCH(".",D5,SEARCH(".",D5)+1))),"") -> 0
A6: =IFERROR(LEFT(D6,SEARCH(".",D6)-1),"") -> a | B6: =IFERROR(LEFT(RIGHT(D6,LEN(D6)-SEARCH(".",D6)),SEARCH(".",RIGHT(D6,LEN(D6)-SEARCH(".",D6)))-1),"") -> a/a | C6: =IFERROR(IF(LEN(D6)-LEN(SUBSTITUTE(D6,".",""))<>3,"",MID(D6,SEARCH(".",D6,SEARCH(".",D6)+1)+1,LEN(D6)-SEARCH(".",D6,SEARCH(".",D6)+1)-(LEN(D6)-(SEARCH(".",D6,SEARCH(".",D6,SEARCH(".",D6)+1)+1)-1)))),"") | D6: a.a/a.a.a/a.a.a.a | E6: =IF($G6="SINAPI",VLOOKUP($F6,DADOS_SINAPI,2,0),IF(G6="SETOP",VLOOKUP($F6,DADOS_SETOP,2,0),IF(G6="CPU",VLOOKUP($F6,DADOS_COMPOSICAO,2,0),IF(G6="SICRO",VLOOKUP($F6,DADOS_SICRO,2,0),IF(G6="SUDECAP",VLOOKUP(F6,DADOS_SUDECAP,2,0),IF(G6="COTAÇÃO",VLOOKUP($F6,DADOS_COTACAO,2,0),"")))))) | H6: =IF(G6="SINAPI",VLOOKUP($F6,DADOS_SINAPI,3,0),IF(G6="SETOP",VLOOKUP($F6,DADOS_SETOP,3,0),IF(G6="CPU",VLOOKUP($F6,DADOS_COMPOSICAO,10,0),IF(G6="SICRO",VLOOKUP($F6,DADOS_SICRO,3,0),IF(G6="SUDECAP",VLOOKUP(F6,DADOS_SUDECAP,3,0),IF(G6="COTAÇÃO",VLOOKUP($F6,DADOS_COTACAO,9,0),"")))))) | J6: =ROUND(IF(G6="SINAPI",VLOOKUP($F6,DADOS_SINAPI,4,0),IF(G6="SETOP",VLOOKUP($F6,DADOS_SETOP,4,0),IF(G6="CPU",VLOOKUP($F6,DADOS_COMPOSICAO,13,0),IF(G6="SICRO",VLOOKUP($F6,DADOS_SICRO,4,0),IF(G6="SUDECAP",VLOOKUP(F6,DADOS_SUDECAP,4,0),IF(G6="COTAÇÃO",VLOOKUP(F6,DADOS_COTACAO,12,0),"")))))),2) -> #VALUE! | K6: BDI 1 | L6: =ROUND(J6*(1+$N$17),2) -> #VALUE! | M6: =IFERROR(ROUND(I6*J6,2),"") | N6: =IFERROR(ROUND(L6*I6,2),"")
A7: =IFERROR(LEFT(D7,SEARCH(".",D7)-1),"") -> a | B7: =IFERROR(LEFT(RIGHT(D7,LEN(D7)-SEARCH(".",D7)),SEARCH(".",RIGHT(D7,LEN(D7)-SEARCH(".",D7)))-1),"") -> a/a | C7: =IFERROR(IF(LEN(D7)-LEN(SUBSTITUTE(D7,".",""))<>3,"",MID(D7,SEARCH(".",D7,SEARCH(".",D7)+1)+1,LEN(D7)-SEARCH(".",D7,SEARCH(".",D7)+1)-(LEN(D7)-(SEARCH(".",D7,SEARCH(".",D7,SEARCH(".",D7)+1)+1)-1)))),"") | D7: a.a/a.a.a/a.a.a.a | E7: =VLOOKUP($F7,DADOS_COTACAO,2,0) -> #N/A | G7: COTAÇÃO | H7: =VLOOKUP($F7,DADOS_COTACAO,9,0) -> #N/A | J7: =ROUND(VLOOKUP($F7,DADOS_COTACAO,12,0),4) -> #N/A | K7: BDI 2 | L7: =ROUND(J7*(1+$N$18),4) -> #N/A | M7: =IFERROR(ROUND(I7*J7,2),"") | N7: =IFERROR(ROUND(L7*I7,2),"")
A8: 2000
E11: PLANILHA ORÇAMENTÁRIA | M11: Revisão: | N11: =DADOS!D6 -> R03 | O11: a
M12: Data: | N12: =DADOS!D2 -> 46170
D13: Projeto: | E13: =DADOS!D8 -> REFORMA DO MURO DE FECHAMENTO DO CEMITÉRIO MUNICIPAL | M13: Bancos:
D14: Responsável: | F14: Cliente: | M14: =DADOS!D14 -> SINAPI: 12/2025 Minas Gerais SETOP: 10/2025 Minas Gerais SICRO : 10/2025 Minas Gerais SUDECAP: 09/2025 Minas Gerais
M17: BDI 1: | N17: =DADOS!D10 -> 0.2652
M18: BDI 2: | N18: =DADOS!D12 -> -
D20: =E11&" DE "&DADOS!D20&" - "&E13 -> PLANILHA ORÇAMENTÁRIA DE PROJETO EXECUTIVO - REFORMA DO MURO DE FECHAMENTO DO CEMITÉRIO MUNICIPAL
D22: Item | E22: Descrição | F22: Código | G22: Banco | H22: Unidade | I22: Quantidade | J22: Valor Unitário | K22: BDI | L22: Valor Unit. com BDI | M22: Total | N22: Total com BDI
M23: =ROUND(I23*J23,2) -> 0 | N23: =ROUND(L23*I23,2) -> 0
A24: 1000 | D24: 1 | E24: ADMINISTRAÇÃO DE OBRA | M24: =SUMIF(A:A,D24,M:M) -> 31616.64 | N24: =SUMIF(A:A,D24,N:N) -> 40001.28
A25: =IFERROR(LEFT(D25,SEARCH(".",D25)-1),"") -> 1 | B25: =IFERROR(LEFT(RIGHT(D25,LEN(D25)-SEARCH(".",D25)),SEARCH(".",RIGHT(D25,LEN(D25)-SEARCH(".",D25)))-1),"") | C25: =IFERROR(IF(LEN(D25)-LEN(SUBSTITUTE(D25,".",""))<>3,"",MID(D25,SEARCH(".",D25,SEARCH(".",D25)+1)+1,LEN(D25)-SEARCH(".",D25,SEARCH(".",D25)+1)-(LEN(D25)-(SEARCH(".",D25,SEARCH(".",D25,SEARCH(".",D25)+1)+1)-1)))),"") | D25: 1.1 | E25: =IF($G25="SINAPI",VLOOKUP($F25,DADOS_SINAPI,2,0),IF(G25="SETOP",VLOOKUP($F25,DADOS_SETOP,2,0),IF(G25="CPU",VLOOKUP($F25,DADOS_COMPOSICAO,2,0),IF(G25="SICRO",VLOOKUP($F25,DADOS_SICRO,2,0),IF(G25="SUDECAP",VLOOKUP(F25,DADOS_SUDECAP,2,0),IF(G25="COTAÇÃO",VLOOKUP($F25,DADOS_COTACAO,2,0),"")))))) -> ENGENHEIRO CIVIL DE OBRA JUNIOR COM ENCARGOS COMPLEMENTARES | F25: 90777 | G25: SINAPI | H25: =IF(G25="SINAPI",VLOOKUP($F25,DADOS_SINAPI,3,0),IF(G25="SETOP",VLOOKUP($F25,DADOS_SETOP,3,0),IF(G25="CPU",VLOOKUP($F25,DADOS_COMPOSICAO,10,0),IF(G25="SICRO",VLOOKUP($F25,DADOS_SICRO,3,0),IF(G25="SUDECAP",VLOOKUP(F25,DADOS_SUDECAP,3,0),IF(G25="COTAÇÃO",VLOOKUP($F25,DADOS_COTACAO,9,0),"")))))) -> H | I25: =ROUND(F30,2) -> 264 | J25: =ROUND(IF(G25="SINAPI",VLOOKUP($F25,DADOS_SINAPI,4,0),IF(G25="SETOP",VLOOKUP($F25,DADOS_SETOP,4,0),IF(G25="CPU",VLOOKUP($F25,DADOS_COMPOSICAO,13,0),IF(G25="SICRO",VLOOKUP($F25,DADOS_SICRO,4,0),IF(G25="SUDECAP",VLOOKUP(F25,DADOS_SUDECAP,4,0),IF(G25="COTAÇÃO",VLOOKUP(F25,DADOS_COTACAO,12,0),"")))))),2) -> 119.76 | K25: BDI 1 | L25: =ROUND(J25*(1+$N$17),2) -> 151.52 | M25: =IFERROR(ROUND(I25*J25,2),"") -> 31616.64 | N25: =IFERROR(ROUND(L25*I25,2),"") -> 40001.28
A26: 2000
A27: 2000 | E27: Horas | F27: 2 | G27: h
A28: 2000 | E28: Dias | F28: 22 | G28: dia
A29: 2000 | E29: Meses | F29: 6 | G29: mês
A30: 2000 | E30: Total | F30: =F27*F28*F29 -> 264 | G30: h
A31: 2000
A32: 1000 | D32: 2 | E32: CANTEIRO DE OBRAS | M32: =SUMIF(A:A,D32,M:M) -> 40250.93 | N32: =SUMIF(A:A,D32,N:N) -> 50923.28
D33: 2.1 | E33: CONTAINER | M33: =IFERROR(SUMIFS(M:M,A:A,LEFT(D33,SEARCH(".",D33)-1),B:B,RIGHT(D33,LEN(D33)-SEARCH(".",D33))),"") -> 6783.3 | N33: =IFERROR(SUMIFS(N:N,A:A,LEFT(D33,SEARCH(".",D33)-1),B:B,RIGHT(D33,LEN(D33)-SEARCH(".",D33))),"") -> 8582.22
A34: =IFERROR(LEFT(D34,SEARCH(".",D34)-1),"") -> 2 | B34: =IFERROR(LEFT(RIGHT(D34,LEN(D34)-SEARCH(".",D34)),SEARCH(".",RIGHT(D34,LEN(D34)-SEARCH(".",D34)))-1),"") -> 1 | C34: =IFERROR(IF(LEN(D34)-LEN(SUBSTITUTE(D34,".",""))<>3,"",MID(D34,SEARCH(".",D34,SEARCH(".",D34)+1)+1,LEN(D34)-SEARCH(".",D34,SEARCH(".",D34)+1)-(LEN(D34)-(SEARCH(".",D34,SEARCH(".",D34,SEARCH(".",D34)+1)+1)-1)))),"") | D34: 2.1.1 | E34: =IF($G34="SINAPI",VLOOKUP($F34,DADOS_SINAPI,2,0),IF(G34="SETOP",VLOOKUP($F34,DADOS_SETOP,2,0),IF(G34="CPU",VLOOKUP($F34,DADOS_COMPOSICAO,2,0),IF(G34="SICRO",VLOOKUP($F34,DADOS_SICRO,2,0),IF(G34="SUDECAP",VLOOKUP(F34,DADOS_SUDECAP,2,0),IF(G34="COTAÇÃO",VLOOKUP($F34,DADOS_COTACAO,2,0),"")))))) -> LOCAÇÃO DE CONTAINER COM ISOLAMENTO TÉRMICO, TIPO 3, PARA DEPÓSITO/FERRAMENTARIA DE OBRA, COM MEDIDAS REFERENCIAIS DE (6) METROS COMPRIMENTO, (2,3) METROS LARGURA E (2,5) METROS ALTURA ÚTIL INTERNA, INCLUSIVE LIGAÇÕES ELÉTRICAS INTERNAS, EXCLUSIVE MOBILIZAÇÃO/DESMOBILIZAÇÃO E LIGAÇÕES PROVISÓRIAS EXTERNAS | F34: ED-16350 | G34: SETOP | H34: =IF(G34="SINAPI",VLOOKUP($F34,DADOS_SINAPI,3,0),IF(G34="SETOP",VLOOKUP($F34,DADOS_SETOP,3,0),IF(G34="CPU",VLOOKUP($F34,DADOS_COMPOSICAO,10,0),IF(G34="SICRO",VLOOKUP($F34,DADOS_SICRO,3,0),IF(G34="SUDECAP",VLOOKUP(F34,DADOS_SUDECAP,3,0),IF(G34="COTAÇÃO",VLOOKUP($F34,DADOS_COTACAO,9,0),"")))))) -> mês | I34: =ROUND(F36,2) -> 6 | J34: =ROUND(IF(G34="SINAPI",VLOOKUP($F34,DADOS_SINAPI,4,0),IF(G34="SETOP",VLOOKUP($F34,DADOS_SETOP,4,0),IF(G34="CPU",VLOOKUP($F34,DADOS_COMPOSICAO,13,0),IF(G34="SICRO",VLOOKUP($F34,DADOS_SICRO,4,0),IF(G34="SUDECAP",VLOOKUP(F34,DADOS_SUDECAP,4,0),IF(G34="COTAÇÃO",VLOOKUP(F34,DADOS_COTACAO,12,0),"")))))),2) -> 858.68 | K34: BDI 1 | L34: =ROUND(J34*(1+$N$17),2) -> 1086.4 | M34: =IFERROR(ROUND(I34*J34,2),"") -> 5152.08 | N34: =IFERROR(ROUND(L34*I34,2),"") -> 6518.4
A35: 2000
A36: 2000 | E36: Duração da obra | F36: 6 | G36: meses
A37: 2000
A38: =IFERROR(LEFT(D38,SEARCH(".",D38)-1),"") -> 2 | B38: =IFERROR(LEFT(RIGHT(D38,LEN(D38)-SEARCH(".",D38)),SEARCH(".",RIGHT(D38,LEN(D38)-SEARCH(".",D38)))-1),"") -> 1 | C38: =IFERROR(IF(LEN(D38)-LEN(SUBSTITUTE(D38,".",""))<>3,"",MID(D38,SEARCH(".",D38,SEARCH(".",D38)+1)+1,LEN(D38)-SEARCH(".",D38,SEARCH(".",D38)+1)-(LEN(D38)-(SEARCH(".",D38,SEARCH(".",D38,SEARCH(".",D38)+1)+1)-1)))),"") | D38: 2.1.2 | E38: =IF($G38="SINAPI",VLOOKUP($F38,DADOS_SINAPI,2,0),IF(G38="SETOP",VLOOKUP($F38,DADOS_SETOP,2,0),IF(G38="CPU",VLOOKUP($F38,DADOS_COMPOSICAO,2,0),IF(G38="SICRO",VLOOKUP($F38,DADOS_SICRO,2,0),IF(G38="SUDECAP",VLOOKUP(F38,DADOS_SUDECAP,2,0),IF(G38="COTAÇÃO",VLOOKUP($F38,DADOS_COTACAO,2,0),"")))))) -> MOBILIZAÇÃO E DESMOBILIZAÇÃO DE CONTAINER, INCLUSIVE CARGA, DESCARGA E TRANSPORTE EM CAMINHÃO CARROCERIA COM GUINDAUTO (MUNCK), EXCLUSIVE LOCAÇÃO DO CONTAINER | F38: ED-50137 | G38: SETOP | H38: =IF(G38="SINAPI",VLOOKUP($F38,DADOS_SINAPI,3,0),IF(G38="SETOP",VLOOKUP($F38,DADOS_SETOP,3,0),IF(G38="CPU",VLOOKUP($F38,DADOS_COMPOSICAO,10,0),IF(G38="SICRO",VLOOKUP($F38,DADOS_SICRO,3,0),IF(G38="SUDECAP",VLOOKUP(F38,DADOS_SUDECAP,3,0),IF(G38="COTAÇÃO",VLOOKUP($F38,DADOS_COTACAO,9,0),"")))))) -> un | I38: =ROUND(F40,2) -> 1 | J38: =ROUND(IF(G38="SINAPI",VLOOKUP($F38,DADOS_SINAPI,4,0),IF(G38="SETOP",VLOOKUP($F38,DADOS_SETOP,4,0),IF(G38="CPU",VLOOKUP($F38,DADOS_COMPOSICAO,13,0),IF(G38="SICRO",VLOOKUP($F38,DADOS_SICRO,4,0),IF(G38="SUDECAP",VLOOKUP(F38,DADOS_SUDECAP,4,0),IF(G38="COTAÇÃO",VLOOKUP(F38,DADOS_COTACAO,12,0),"")))))),2) -> 1631.22 | K38: BDI 1 | L38: =ROUND(J38*(1+$N$17),2) -> 2063.82 | M38: =IFERROR(ROUND(I38*J38,2),"") -> 1631.22 | N38: =IFERROR(ROUND(L38*I38,2),"") -> 2063.82
A39: 2000
A40: 2000 | E40: Quantidade | F40: 1 | G40: un
A41: 2000
D42: 2.2 | E42: INSTALAÇÕES PROVISÓRIAS | M42: =IFERROR(SUMIFS(M:M,A:A,LEFT(D42,SEARCH(".",D42)-1),B:B,RIGHT(D42,LEN(D42)-SEARCH(".",D42))),"") -> 6634.67 | N42: =IFERROR(SUMIFS(N:N,A:A,LEFT(D42,SEARCH(".",D42)-1),B:B,RIGHT(D42,LEN(D42)-SEARCH(".",D42))),"") -> 8394.18
A43: =IFERROR(LEFT(D43,SEARCH(".",D43)-1),"") -> 2 | B43: =IFERROR(LEFT(RIGHT(D43,LEN(D43)-SEARCH(".",D43)),SEARCH(".",RIGHT(D43,LEN(D43)-SEARCH(".",D43)))-1),"") -> 2 | C43: =IFERROR(IF(LEN(D43)-LEN(SUBSTITUTE(D43,".",""))<>3,"",MID(D43,SEARCH(".",D43,SEARCH(".",D43)+1)+1,LEN(D43)-SEARCH(".",D43,SEARCH(".",D43)+1)-(LEN(D43)-(SEARCH(".",D43,SEARCH(".",D43,SEARCH(".",D43)+1)+1)-1)))),"") | D43: 2.2.1 | E43: =IF($G43="SINAPI",VLOOKUP($F43,DADOS_SINAPI,2,0),IF(G43="SETOP",VLOOKUP($F43,DADOS_SETOP,2,0),IF(G43="CPU",VLOOKUP($F43,DADOS_COMPOSICAO,2,0),IF(G43="SICRO",VLOOKUP($F43,DADOS_SICRO,2,0),IF(G43="SUDECAP",VLOOKUP(F43,DADOS_SUDECAP,2,0),IF(G43="COTAÇÃO",VLOOKUP($F43,DADOS_COTACAO,2,0),"")))))) -> LIGAÇÕES PROVISÓRIAS PARA CONTAINER TIPO 3 (CORRESPONDENTE AO CÓDIGO ED-16350) | F43: ED-16358 | G43: SETOP | H43: =IF(G43="SINAPI",VLOOKUP($F43,DADOS_SINAPI,3,0),IF(G43="SETOP",VLOOKUP($F43,DADOS_SETOP,3,0),IF(G43="CPU",VLOOKUP($F43,DADOS_COMPOSICAO,10,0),IF(G43="SICRO",VLOOKUP($F43,DADOS_SICRO,3,0),IF(G43="SUDECAP",VLOOKUP(F43,DADOS_SUDECAP,3,0),IF(G43="COTAÇÃO",VLOOKUP($F43,DADOS_COTACAO,9,0),"")))))) -> un | I43: =ROUND(F45,2) -> 1 | J43: =ROUND(IF(G43="SINAPI",VLOOKUP($F43,DADOS_SINAPI,4,0),IF(G43="SETOP",VLOOKUP($F43,DADOS_SETOP,4,0),IF(G43="CPU",VLOOKUP($F43,DADOS_COMPOSICAO,13,0),IF(G43="SICRO",VLOOKUP($F43,DADOS_SICRO,4,0),IF(G43="SUDECAP",VLOOKUP(F43,DADOS_SUDECAP,4,0),IF(G43="COTAÇÃO",VLOOKUP(F43,DADOS_COTACAO,12,0),"")))))),2) -> 334.67 | K43: BDI 1 | L43: =ROUND(J43*(1+$N$17),2) -> 423.42 | M43: =IFERROR(ROUND(I43*J43,2),"") -> 334.67 | N43: =IFERROR(ROUND(L43*I43,2),"") -> 423.42
A44: 2000
A45: 2000 | E45: Quantidade | F45: 1 | G45: un
A46: 2000
A47: =IFERROR(LEFT(D47,SEARCH(".",D47)-1),"") -> 2 | B47: =IFERROR(LEFT(RIGHT(D47,LEN(D47)-SEARCH(".",D47)),SEARCH(".",RIGHT(D47,LEN(D47)-SEARCH(".",D47)))-1),"") -> 2 | C47: =IFERROR(IF(LEN(D47)-LEN(SUBSTITUTE(D47,".",""))<>3,"",MID(D47,SEARCH(".",D47,SEARCH(".",D47)+1)+1,LEN(D47)-SEARCH(".",D47,SEARCH(".",D47)+1)-(LEN(D47)-(SEARCH(".",D47,SEARCH(".",D47,SEARCH(".",D47)+1)+1)-1)))),"") | D47: 2.2.2 | E47: =IF($G47="SINAPI",VLOOKUP($F47,DADOS_SINAPI,2,0),IF(G47="SETOP",VLOOKUP($F47,DADOS_SETOP,2,0),IF(G47="CPU",VLOOKUP($F47,DADOS_COMPOSICAO,2,0),IF(G47="SICRO",VLOOKUP($F47,DADOS_SICRO,2,0),IF(G47="SUDECAP",VLOOKUP(F47,DADOS_SUDECAP,2,0),IF(G47="COTAÇÃO",VLOOKUP($F47,DADOS_COTACAO,2,0),"")))))) -> LOCAÇÃO DE BANHEIRO QUÍMICO, DIMENSÃO (110X120X230)CM, LINHA PADRÃO, CONTENDO UMA (1) PIA/HIGIENIZADOR DE MÃOS, INCLUSIVE MANUTENÇÃO E MOBILIZAÇÃO/DESMOBILIZAÇÃO | F47: ED-50155 | G47: SETOP | H47: =IF(G47="SINAPI",VLOOKUP($F47,DADOS_SINAPI,3,0),IF(G47="SETOP",VLOOKUP($F47,DADOS_SETOP,3,0),IF(G47="CPU",VLOOKUP($F47,DADOS_COMPOSICAO,10,0),IF(G47="SICRO",VLOOKUP($F47,DADOS_SICRO,3,0),IF(G47="SUDECAP",VLOOKUP(F47,DADOS_SUDECAP,3,0),IF(G47="COTAÇÃO",VLOOKUP($F47,DADOS_COTACAO,9,0),"")))))) -> mês | I47: =ROUND(F49,2) -> 6 | J47: =ROUND(IF(G47="SINAPI",VLOOKUP($F47,DADOS_SINAPI,4,0),IF(G47="SETOP",VLOOKUP($F47,DADOS_SETOP,4,0),IF(G47="CPU",VLOOKUP($F47,DADOS_COMPOSICAO,13,0),IF(G47="SICRO",VLOOKUP($F47,DADOS_SICRO,4,0),IF(G47="SUDECAP",VLOOKUP(F47,DADOS_SUDECAP,4,0),IF(G47="COTAÇÃO",VLOOKUP(F47,DADOS_COTACAO,12,0),"")))))),2) -> 1050 | K47: BDI 1 | L47: =ROUND(J47*(1+$N$17),2) -> 1328.46 | M47: =IFERROR(ROUND(I47*J47,2),"") -> 6300 | N47: =IFERROR(ROUND(L47*I47,2),"") -> 7970.76
A48: 2000
...

Sheet ABC
A2: CURVA ABC DE SERVIÇOS | H2: Revisão: | I2: =DADOS!D6 -> R03
H3: Data: | I3: =DADOS!D2 -> 46170
A4: Projeto: | C4: Responsável: | D4: Cliente: | H4: Bancos:
A5: =DADOS!D8 -> REFORMA DO MURO DE FECHAMENTO DO CEMITÉRIO MUNICIPAL | H5: =DADOS!D14 -> SINAPI: 12/2025 Minas Gerais SETOP: 10/2025 Minas Gerais SICRO : 10/2025 Minas Gerais SUDECAP: 09/2025 Minas Gerais
H8: BDI 1: | I8: =DADOS!D10 -> 0.2652
H9: BDI 2: | I9: =DADOS!D12 -> -
A11: =A2&" DE "&DADOS!D20&" - "&A5 -> CURVA ABC DE SERVIÇOS DE PROJETO EXECUTIVO - REFORMA DO MURO DE FECHAMENTO DO CEMITÉRIO MUNICIPAL
A13: Código | B13: Banco | C13: Descrição | D13: Unidade | E13: Quantidade | F13: Valor Unitário | G13: Total | H13: Peso (%) | I13: Peso Acumulado (%)
A15: ED-48196 | B15: SETOP | C15: ALVENARIA DE VEDAÇÃO COM BLOCO DE CONCRETO, ESP. 19CM, INCLUSIVE ARGAMASSA PARA ASSENTAMENTO | D15: m2 | E15: 751.92 | F15: 112.51 | G15: 84598.52 | H15: 0.08348049 | I15: 0.08348049
A16: 87529 | B16: SINAPI | C16: MASSA ÚNICA, EM ARGAMASSA TRAÇO 1:2:8, PREPARO MECÂNICO, APLICADA MANUALMENTE EM PAREDES INTERNAS DE AMBIENTES COM ÁREA ENTRE 5M² E 10M², E = 17,5MM, COM TALISCAS. AF_03/2024 | D16: M2 | E16: 1563.6 | F16: 50.95 | G16: 79665.42 | H16: 0.078612584 | I16: 0.16209307
A17: ED-48298 | B17: SETOP | C17: CORTE, DOBRA E MONTAGEM DE AÇO CA-50/60, INCLUSIVE ESPAÇADOR | D17: Kg | E17: 3902.02 | F17: 16.9 | G17: 65944.14 | H17: 0.065072641 | I17: 0.22716572
A18: DAC-7.2 | B18: CPU | C18: INSTALAÇÃO DE MOLDURAS EM EPS | D18: M | E18: 2005.7 | F18: 32.24 | G18: 64663.77 | H18: 0.063809192 | I18: 0.29097491
A19: 101174 | B19: SINAPI | C19: ESTACA BROCA DE CONCRETO, DIÂMETRO DE 25CM, ESCAVAÇÃO MANUAL COM TRADO CONCHA, COM ARMADURA DE ARRANQUE. AF_05/2020 | D19: M | E19: 488 | F19: 115.89 | G19: 56554.32 | H19: 0.055806914 | I19: 0.34678182
A20: DAC-7.1 | B20: CPU | C20: LIGAÇÃO ENTRE ALVENARIA E PILAR COM TELA METÁLICA EM AÇO GALVANIZADO | D20: M2 | E20: 273 | F20: 157.42 | G20: 42975.66 | H20: 0.042407706 | I20: 0.38918953
A21: 96130 | B21: SINAPI | C21: APLICAÇÃO MANUAL DE MASSA ACRÍLICA EM PAREDES EXTERNAS DE CASAS, UMA DEMÃO. AF_03/2024 | D21: M2 | E21: 1563.6 | F21: 25.92 | G21: 40528.51 | H21: 0.039992897 | I21: 0.42918242
A22: 90777 | B22: SINAPI | C22: ENGENHEIRO CIVIL DE OBRA JUNIOR COM ENCARGOS COMPLEMENTARES | D22: H | E22: 264 | F22: 151.52 | G22: 40001.28 | H22: 0.039472634 | I22: 0.46865506
A23: 94993 | B23: SINAPI | C23: EXECUÇÃO DE PASSEIO (CALÇADA) OU PISO DE CONCRETO COM CONCRETO MOLDADO IN LOCO, USINADO, ACABAMENTO CONVENCIONAL, ESPESSURA 6 CM, ARMADO. AF_08/2022 | D23: M2 | E23: 400 | F23: 96.5 | G23: 38600 | H23: 0.038089873 | I23: 0.50674493
A24: 95626 | B24: SINAPI | C24: APLICAÇÃO MANUAL DE TINTA LÁTEX ACRÍLICA EM PAREDE EXTERNAS DE CASAS, DUAS DEMÃOS. AF_03/2024 | D24: M2 | E24: 1563.6 | F24: 21.63 | G24: 33820.67 | H24: 0.033373706 | I24: 0.54011864
A25: ED-51139 | B25: SETOP | C25: GUIA DE MEIO-FIO, EM CONCRETO COM FCK 20MPA, PRÉ-MOLDADA, MFC-01 PADRÃO DER-MG, DIMENSÕES (12X16,7X35)CM, EXCLUSIVE SARJETA, INCLUSIVE ESCAVAÇÃO, APILOAMENTO E TRANSPORTE COM RETIRADA DO MATERIAL ESCAVADO (EM CAÇAMBA) | D25: m | E25: 304 | F25: 96.81 | G25: 29430.24 | H25: 0.029041298 | I25: 0.56915994
A26: ED-29823 | B26: SETOP | C26: TAPUME FIXO DE PROTEÇÃO PARA FECHAMENTO DE OBRA EM TELHA METÁLICA GALVANIZADA, TIPO TRAPEZOIDAL, ESP. 0,5MM, COM MÓDULO NA DIMENSÃO DE (300X220)CM, COM REAPROVEITAMENTO, EXCLUSIVE PINTURA ESMALTE, INCLUSIVE PONTALETE E FIXAÇÃO | D26: m2 | E26: 352 | F26: 82.55 | G26: 29057.6 | H26: 0.028673583 | I26: 0.59783352
A27: ED-49810 | B27: SETOP | C27: FÔRMA E DESFORMA PARA VIGA-CINTA/BLOCO COM TÁBUA E SARRAFO, REAPROVEITAMENTO (3X) (FUNDAÇÃO) | D27: m2 | E27: 275.8 | F27: 96.94 | G27: 26736.05 | H27: 0.026382714 | I27: 0.62421623
A28: 92443 | B28: SINAPI | C28: MONTAGEM E DESMONTAGEM DE FÔRMA DE PILARES RETANGULARES E ESTRUTURAS SIMILARES, PÉ-DIREITO SIMPLES, EM CHAPA DE MADEIRA COMPENSADA PLASTIFICADA, 18 UTILIZAÇÕES. AF_09/2020 | D28: M2 | E28: 387.7 | F28: 64.35 | G28: 24948.5 | H28: 0.024618788 | I28: 0.64883502
A29: ED-17989 | B29: SETOP | C29: LOCAÇÃO DE OBRA COM GABARITO DE TÁBUAS CORRIDAS PONTALETADAS A CADA 2,00M, REAPROVEITAMENTO (2X), INCLUSIVE ACOMPANHAMENTO DE EQUIPE TOPOGRÁFICA PARA MARCAÇÃO DE PONTO TOPOGRÁFICO | D29: m | E29: 296 | F29: 76.28 | G29: 22578.88 | H29: 0.022280484 | I29: 0.6711155
A30: ED-49638 | B30: SETOP | C30: FORNECIMENTO DE CONCRETO ESTRUTURAL, USINADO BOMBEADO, COM FCK 25MPA, INCLUSIVE LANÇAMENTO, ADENSAMENTO E ACABAMENTO | D30: m3 | E30: 25.6 | F30: 877.44 | G30: 22462.47 | H30: 0.022165612 | I30: 0.69328112
A31: 98554 | B31: SINAPI | C31: IMPERMEABILIZAÇÃO DE SUPERFÍCIE COM MEMBRANA À BASE DE RESINA ACRÍLICA, 3 DEMÃOS. AF_09/2023 | D31: M2 | E31: 347.04 | F31: 57.55 | G31: 19972.15 | H31: 0.019708204 | I31: 0.71298932
A32: ED-48392 | B32: SETOP | C32: CINTA DE AMARRAÇÃO DE ALVENARIA COM BLOCO DE CONCRETO ESTRUTURAL, CANALETA TIPO "U", ESP. 19CM, (FBK 4,5MPA), INCLUSIVE ARGAMASSA PARA ASSENTAMENTO, EXCLUSIVE GRAUTE E ARMAÇÃO | D32: m | E32: 578.4 | F32: 32.07 | G32: 18549.29 | H32: 0.018304148 | I32: 0.73129347
A33: ED-50270 | B33: SETOP | C33: LIMPEZA PERMANENTE DA OBRA - 01 SERVENTE X 4 HORAS DIÁRIAS | D33: mês | E33: 6 | F33: 2914.26 | G33: 17485.56 | H33: 0.017254476 | I33: 0.74854794
A34: ED-50667 | B34: SETOP | C34: CHAPIM EM CHAPA GALVANIZADA, COM PINGADEIRA, ESP. 0,65MM (GSG-24), COM DESENVOLVIMENTO DE 35CM, INCLUSIVE IÇAMENTO MANUAL VERTICAL | D34: m | E34: 296 | F34: 58.87 | G34: 17425.52 | H34: 0.017195229 | I34: 0.76574317
A35: 87885 | B35: SINAPI | C35: CHAPISCO APLICADO NO TETO OU EM ALVENARIA E ESTRUTURA, COM ROLO PARA TEXTURA ACRÍLICA. ARGAMASSA INDUSTRIALIZADA COM PREPARO EM MISTURADOR 300 KG. AF_10/2022 | D35: M2 | E35: 1563.6 | F35: 10.51 | G35: 16433.44 | H35: 0.01621626 | I35: 0.78195943
A36: ED-14762 | B36: SETOP | C36: SARJETA DE CONCRETO URBANO (SCU), TIPO 1, COM FCK 15 MPA, LARGURA DE 50CM COM INCLINAÇÃO DE 3%, ESP. 7CM, PADRÃO DER-MG, EXCLUSIVE MEIO-FIO, INCLUSIVE ESCAVAÇÃO, APILAOMENTO E TRANSPORTE COM RETIRADA DO MATERIAL ESCAVADO (EM CAÇAMBA) | D36: m | E36: 304 | F36: 53.68 | G36: 16318.72 | H36: 0.016103056 | I36: 0.79806249
A37: ED-49805 | B37: SETOP | C37: FORNECIMENTO DE CONCRETO ESTRUTURAL, USINADO BOMBEADO, COM FCK 25MPA, INCLUSIVE LANÇAMENTO, ADENSAMENTO E ACABAMENTO (FUNDAÇÃO) | D37: m3 | E37: 16.5 | F37: 858.83 | G37: 14170.7 | H37: 0.013983424 | I37: 0.81204591
A38: ED-49806 | B38: SETOP | C38: FORNECIMENTO DE CONCRETO ESTRUTURAL, USINADO BOMBEADO, COM FCK 30MPA, INCLUSIVE LANÇAMENTO, ADENSAMENTO E ACABAMENTO (FUNDAÇÃO) | D38: m3 | E38: 15.6 | F38: 883.97 | G38: 13789.93 | H38: 0.013607686 | I38: 0.8256536
A39: ED-50680 | B39: SETOP | C39: RUFO E CONTRARRUFO EM CHAPA GALVANIZADA, ESP. 0,65MM (GSG-24), COM DESENVOLVIMENTO DE 60CM, INCLUSIVE IÇAMENTO MANUAL VERTICAL | D39: m | E39: 138 | F39: 96.89 | G39: 13370.82 | H39: 0.013194115 | I39: 0.83884772
A40: ED-51125 | B40: SETOP | C40: TRANSPORTE DE MATERIAL DEMOLIDO EM CAÇAMBA, EXCLUSIVE CARGA MANUAL OU MECÂNICA | D40: m3 | E40: 171.6 | F40: 75.91 | G40: 13026.16 | H40: 0.01285401 | I40: 0.85170173
A41: 97624 | B41: SINAPI | C41: DEMOLIÇÃO DE ALVENARIA DE TIJOLO MACIÇO, DE FORMA MANUAL, SEM REAPROVEITAMENTO. AF_09/2023 | D41: M3 | E41: 90 | F41: 142.3 | G41: 12807 | H41: 0.012637746 | I41: 0.86433947
A42: 105127 | B42: SINAPI | C42: INSTALAÇÃO DE CONCERTINA DUPLA CLIPADA, ESPIRAL DE 300 MM. AF_03/2024 | D42: M | E42: 296 | F42: 34.44 | G42: 10194.24 | H42: 0.010059516 | I42: 0.87439899
A43: 88485 | B43: SINAPI | C43: FUNDO SELADOR ACRÍLICO, APLICAÇÃO MANUAL EM PAREDE, UMA DEMÃO. AF_04/2023 | D43: M2 | E43: 1563.6 | F43: 6 | G43: 9381.6 | H43: 0.0092576154 | I43: 0.8836566
A44: ED-51134 | B44: SETOP | C44: TRANSPORTE DE MATERIAL DE QUALQUER NATUREZA COM CARRINHO DE MÃO, COM DISTÂNCIAS MAIORES QUE 50M E MENORES OU IGUAIS A 100M, INCLUSIVE CARGA/DESGARGA | D44: m3 | E44: 171.6 | F44: 52.51 | G44: 9010.72 | H44: 0.0088916369 | I44: 0.89254824
A45: ED-50155 | B45: SETOP | C45: LOCAÇÃO DE BANHEIRO QUÍMICO, DIMENSÃO (110X120X230)CM, LINHA PADRÃO, CONTENDO UMA (1) PIA/HIGIENIZADOR DE MÃOS, INCLUSIVE MANUTENÇÃO E MOBILIZAÇÃO/DESMOBILIZAÇÃO | D45: mês | E45: 6 | F45: 1328.46 | G45: 7970.76 | H45: 0.0078654207 | I45: 0.90041366
A46: 90278 | B46: SINAPI | C46: GRAUTE FGK=15 MPA; TRAÇO 1:0,04:2,2:2,5 (EM MASSA SECA DE CIMENTO/CAL/AREIA GROSSA/BRITA 0) - PREPARO MECÂNICO COM BETONEIRA 400 L. AF_09/2021 | D46: M3 | E46: 10.4 | F46: 738.03 | G46: 7675.51 | H46: 0.0075740726 | I46: 0.90798773
...

Sheet Auxiliar_ABC
A1: ED-48196 | B1: SETOP | C1: ALVENARIA DE VEDAÇÃO COM BLOCO DE CONCRETO, ESP. 19CM, INCLUSIVE ARGAMASSA PARA ASSENTAMENTO | D1: m2 | E1: 751.92 | F1: 112.51 | G1: 84598.52 | H1: 0.08348049 | I1: 0.08348049 | R1: QUANTIDADE TOTAL | V1: VALOR TOTAL | W1: % | X1: =W1 -> %
A2: 87529 | B2: SINAPI | C2: MASSA ÚNICA, EM ARGAMASSA TRAÇO 1:2:8, PREPARO MECÂNICO, APLICADA MANUALMENTE EM PAREDES INTERNAS DE AMBIENTES COM ÁREA ENTRE 5M² E 10M², E = 17,5MM, COM TALISCAS. AF_03/2024 | D2: M2 | E2: 1563.6 | F2: 50.95 | G2: 79665.42 | H2: 0.078612584 | I2: 0.16209307 | R2: =SUMIF(ORC!$F:$F,O2,ORC!$I:$I) -> 0 | V2: =SUMIF(ORC!$F:$F,O2,ORC!$N:$N) -> 0 | W2: =V2/SUM($I:$I) -> 0 | X2: =W2+X1 -> #VALUE!
A3: ED-48298 | B3: SETOP | C3: CORTE, DOBRA E MONTAGEM DE AÇO CA-50/60, INCLUSIVE ESPAÇADOR | D3: Kg | E3: 3902.02 | F3: 16.9 | G3: 65944.14 | H3: 0.065072641 | I3: 0.22716572
A4: DAC-7.2 | B4: CPU | C4: INSTALAÇÃO DE MOLDURAS EM EPS | D4: M | E4: 2005.7 | F4: 32.24 | G4: 64663.77 | H4: 0.063809192 | I4: 0.29097491
A5: 101174 | B5: SINAPI | C5: ESTACA BROCA DE CONCRETO, DIÂMETRO DE 25CM, ESCAVAÇÃO MANUAL COM TRADO CONCHA, COM ARMADURA DE ARRANQUE. AF_05/2020 | D5: M | E5: 488 | F5: 115.89 | G5: 56554.32 | H5: 0.055806914 | I5: 0.34678182
A6: DAC-7.1 | B6: CPU | C6: LIGAÇÃO ENTRE ALVENARIA E PILAR COM TELA METÁLICA EM AÇO GALVANIZADO | D6: M2 | E6: 273 | F6: 157.42 | G6: 42975.66 | H6: 0.042407706 | I6: 0.38918953
A7: 96130 | B7: SINAPI | C7: APLICAÇÃO MANUAL DE MASSA ACRÍLICA EM PAREDES EXTERNAS DE CASAS, UMA DEMÃO. AF_03/2024 | D7: M2 | E7: 1563.6 | F7: 25.92 | G7: 40528.51 | H7: 0.039992897 | I7: 0.42918242
A8: 90777 | B8: SINAPI | C8: ENGENHEIRO CIVIL DE OBRA JUNIOR COM ENCARGOS COMPLEMENTARES | D8: H | E8: 264 | F8: 151.52 | G8: 40001.28 | H8: 0.039472634 | I8: 0.46865506
A9: 94993 | B9: SINAPI | C9: EXECUÇÃO DE PASSEIO (CALÇADA) OU PISO DE CONCRETO COM CONCRETO MOLDADO IN LOCO, USINADO, ACABAMENTO CONVENCIONAL, ESPESSURA 6 CM, ARMADO. AF_08/2022 | D9: M2 | E9: 400 | F9: 96.5 | G9: 38600 | H9: 0.038089873 | I9: 0.50674493
A10: 95626 | B10: SINAPI | C10: APLICAÇÃO MANUAL DE TINTA LÁTEX ACRÍLICA EM PAREDE EXTERNAS DE CASAS, DUAS DEMÃOS. AF_03/2024 | D10: M2 | E10: 1563.6 | F10: 21.63 | G10: 33820.67 | H10: 0.033373706 | I10: 0.54011864
A11: ED-51139 | B11: SETOP | C11: GUIA DE MEIO-FIO, EM CONCRETO COM FCK 20MPA, PRÉ-MOLDADA, MFC-01 PADRÃO DER-MG, DIMENSÕES (12X16,7X35)CM, EXCLUSIVE SARJETA, INCLUSIVE ESCAVAÇÃO, APILOAMENTO E TRANSPORTE COM RETIRADA DO MATERIAL ESCAVADO (EM CAÇAMBA) | D11: m | E11: 304 | F11: 96.81 | G11: 29430.24 | H11: 0.029041298 | I11: 0.56915994
A12: ED-29823 | B12: SETOP | C12: TAPUME FIXO DE PROTEÇÃO PARA FECHAMENTO DE OBRA EM TELHA METÁLICA GALVANIZADA, TIPO TRAPEZOIDAL, ESP. 0,5MM, COM MÓDULO NA DIMENSÃO DE (300X220)CM, COM REAPROVEITAMENTO, EXCLUSIVE PINTURA ESMALTE, INCLUSIVE PONTALETE E FIXAÇÃO | D12: m2 | E12: 352 | F12: 82.55 | G12: 29057.6 | H12: 0.028673583 | I12: 0.59783352
A13: ED-49810 | B13: SETOP | C13: FÔRMA E DESFORMA PARA VIGA-CINTA/BLOCO COM TÁBUA E SARRAFO, REAPROVEITAMENTO (3X) (FUNDAÇÃO) | D13: m2 | E13: 275.8 | F13: 96.94 | G13: 26736.05 | H13: 0.026382714 | I13: 0.62421623
A14: 92443 | B14: SINAPI | C14: MONTAGEM E DESMONTAGEM DE FÔRMA DE PILARES RETANGULARES E ESTRUTURAS SIMILARES, PÉ-DIREITO SIMPLES, EM CHAPA DE MADEIRA COMPENSADA PLASTIFICADA, 18 UTILIZAÇÕES. AF_09/2020 | D14: M2 | E14: 387.7 | F14: 64.35 | G14: 24948.5 | H14: 0.024618788 | I14: 0.64883502
A15: ED-17989 | B15: SETOP | C15: LOCAÇÃO DE OBRA COM GABARITO DE TÁBUAS CORRIDAS PONTALETADAS A CADA 2,00M, REAPROVEITAMENTO (2X), INCLUSIVE ACOMPANHAMENTO DE EQUIPE TOPOGRÁFICA PARA MARCAÇÃO DE PONTO TOPOGRÁFICO | D15: m | E15: 296 | F15: 76.28 | G15: 22578.88 | H15: 0.022280484 | I15: 0.6711155
A16: ED-49638 | B16: SETOP | C16: FORNECIMENTO DE CONCRETO ESTRUTURAL, USINADO BOMBEADO, COM FCK 25MPA, INCLUSIVE LANÇAMENTO, ADENSAMENTO E ACABAMENTO | D16: m3 | E16: 25.6 | F16: 877.44 | G16: 22462.47 | H16: 0.022165612 | I16: 0.69328112
A17: 98554 | B17: SINAPI | C17: IMPERMEABILIZAÇÃO DE SUPERFÍCIE COM MEMBRANA À BASE DE RESINA ACRÍLICA, 3 DEMÃOS. AF_09/2023 | D17: M2 | E17: 347.04 | F17: 57.55 | G17: 19972.15 | H17: 0.019708204 | I17: 0.71298932
A18: ED-48392 | B18: SETOP | C18: CINTA DE AMARRAÇÃO DE ALVENARIA COM BLOCO DE CONCRETO ESTRUTURAL, CANALETA TIPO "U", ESP. 19CM, (FBK 4,5MPA), INCLUSIVE ARGAMASSA PARA ASSENTAMENTO, EXCLUSIVE GRAUTE E ARMAÇÃO | D18: m | E18: 578.4 | F18: 32.07 | G18: 18549.29 | H18: 0.018304148 | I18: 0.73129347
A19: ED-50270 | B19: SETOP | C19: LIMPEZA PERMANENTE DA OBRA - 01 SERVENTE X 4 HORAS DIÁRIAS | D19: mês | E19: 6 | F19: 2914.26 | G19: 17485.56 | H19: 0.017254476 | I19: 0.74854794
A20: ED-50667 | B20: SETOP | C20: CHAPIM EM CHAPA GALVANIZADA, COM PINGADEIRA, ESP. 0,65MM (GSG-24), COM DESENVOLVIMENTO DE 35CM, INCLUSIVE IÇAMENTO MANUAL VERTICAL | D20: m | E20: 296 | F20: 58.87 | G20: 17425.52 | H20: 0.017195229 | I20: 0.76574317
A21: 87885 | B21: SINAPI | C21: CHAPISCO APLICADO NO TETO OU EM ALVENARIA E ESTRUTURA, COM ROLO PARA TEXTURA ACRÍLICA. ARGAMASSA INDUSTRIALIZADA COM PREPARO EM MISTURADOR 300 KG. AF_10/2022 | D21: M2 | E21: 1563.6 | F21: 10.51 | G21: 16433.44 | H21: 0.01621626 | I21: 0.78195943
A22: ED-14762 | B22: SETOP | C22: SARJETA DE CONCRETO URBANO (SCU), TIPO 1, COM FCK 15 MPA, LARGURA DE 50CM COM INCLINAÇÃO DE 3%, ESP. 7CM, PADRÃO DER-MG, EXCLUSIVE MEIO-FIO, INCLUSIVE ESCAVAÇÃO, APILAOMENTO E TRANSPORTE COM RETIRADA DO MATERIAL ESCAVADO (EM CAÇAMBA) | D22: m | E22: 304 | F22: 53.68 | G22: 16318.72 | H22: 0.016103056 | I22: 0.79806249
A23: ED-49805 | B23: SETOP | C23: FORNECIMENTO DE CONCRETO ESTRUTURAL, USINADO BOMBEADO, COM FCK 25MPA, INCLUSIVE LANÇAMENTO, ADENSAMENTO E ACABAMENTO (FUNDAÇÃO) | D23: m3 | E23: 16.5 | F23: 858.83 | G23: 14170.7 | H23: 0.013983424 | I23: 0.81204591
A24: ED-49806 | B24: SETOP | C24: FORNECIMENTO DE CONCRETO ESTRUTURAL, USINADO BOMBEADO, COM FCK 30MPA, INCLUSIVE LANÇAMENTO, ADENSAMENTO E ACABAMENTO (FUNDAÇÃO) | D24: m3 | E24: 15.6 | F24: 883.97 | G24: 13789.93 | H24: 0.013607686 | I24: 0.8256536
A25: ED-50680 | B25: SETOP | C25: RUFO E CONTRARRUFO EM CHAPA GALVANIZADA, ESP. 0,65MM (GSG-24), COM DESENVOLVIMENTO DE 60CM, INCLUSIVE IÇAMENTO MANUAL VERTICAL | D25: m | E25: 138 | F25: 96.89 | G25: 13370.82 | H25: 0.013194115 | I25: 0.83884772
A26: ED-51125 | B26: SETOP | C26: TRANSPORTE DE MATERIAL DEMOLIDO EM CAÇAMBA, EXCLUSIVE CARGA MANUAL OU MECÂNICA | D26: m3 | E26: 171.6 | F26: 75.91 | G26: 13026.16 | H26: 0.01285401 | I26: 0.85170173
A27: 97624 | B27: SINAPI | C27: DEMOLIÇÃO DE ALVENARIA DE TIJOLO MACIÇO, DE FORMA MANUAL, SEM REAPROVEITAMENTO. AF_09/2023 | D27: M3 | E27: 90 | F27: 142.3 | G27: 12807 | H27: 0.012637746 | I27: 0.86433947
A28: 105127 | B28: SINAPI | C28: INSTALAÇÃO DE CONCERTINA DUPLA CLIPADA, ESPIRAL DE 300 MM. AF_03/2024 | D28: M | E28: 296 | F28: 34.44 | G28: 10194.24 | H28: 0.010059516 | I28: 0.87439899
A29: 88485 | B29: SINAPI | C29: FUNDO SELADOR ACRÍLICO, APLICAÇÃO MANUAL EM PAREDE, UMA DEMÃO. AF_04/2023 | D29: M2 | E29: 1563.6 | F29: 6 | G29: 9381.6 | H29: 0.0092576154 | I29: 0.8836566
A30: ED-51134 | B30: SETOP | C30: TRANSPORTE DE MATERIAL DE QUALQUER NATUREZA COM CARRINHO DE MÃO, COM DISTÂNCIAS MAIORES QUE 50M E MENORES OU IGUAIS A 100M, INCLUSIVE CARGA/DESGARGA | D30: m3 | E30: 171.6 | F30: 52.51 | G30: 9010.72 | H30: 0.0088916369 | I30: 0.89254824
A31: ED-50155 | B31: SETOP | C31: LOCAÇÃO DE BANHEIRO QUÍMICO, DIMENSÃO (110X120X230)CM, LINHA PADRÃO, CONTENDO UMA (1) PIA/HIGIENIZADOR DE MÃOS, INCLUSIVE MANUTENÇÃO E MOBILIZAÇÃO/DESMOBILIZAÇÃO | D31: mês | E31: 6 | F31: 1328.46 | G31: 7970.76 | H31: 0.0078654207 | I31: 0.90041366
A32: 90278 | B32: SINAPI | C32: GRAUTE FGK=15 MPA; TRAÇO 1:0,04:2,2:2,5 (EM MASSA SECA DE CIMENTO/CAL/AREIA GROSSA/BRITA 0) - PREPARO MECÂNICO COM BETONEIRA 400 L. AF_09/2021 | D32: M3 | E32: 10.4 | F32: 738.03 | G32: 7675.51 | H32: 0.0075740726 | I32: 0.90798773
A33: 98557 | B33: SINAPI | C33: IMPERMEABILIZAÇÃO DE SUPERFÍCIE COM EMULSÃO ASFÁLTICA, 2 DEMÃOS. AF_09/2023 | D33: M2 | E33: 141.7 | F33: 51.27 | G33: 7264.96 | H33: 0.0071689484 | I33: 0.91515668
A34: ED-50982 | B34: SETOP | C34: PORTÃO EM CHAPA DE AÇO GALVANIZADO, TIPO LAMBRIL, ESP. 1,25MM (GSG-18), COM REQUADRO EM TUBO DE AÇO (50X30)MM, ESP. 1,25MM, EXCLUSIVE CADEADO E PINTURA | D34: m2 | E34: 11.4 | F34: 605.8 | G34: 6906.12 | H34: 0.0068148507 | I34: 0.92197153
A35: ED-16350 | B35: SETOP | C35: LOCAÇÃO DE CONTAINER COM ISOLAMENTO TÉRMICO, TIPO 3, PARA DEPÓSITO/FERRAMENTARIA DE OBRA, COM MEDIDAS REFERENCIAIS DE (6) METROS COMPRIMENTO, (2,3) METROS LARGURA E (2,5) METROS ALTURA ÚTIL INTERNA, INCLUSIVE LIGAÇÕES ELÉTRICAS INTERNAS, EXCLUSIVE MOBILIZAÇÃO/DESMOBILIZAÇÃO E LIGAÇÕES PROVISÓRIAS EXTERNAS | D35: mês | E35: 6 | F35: 1086.4 | G35: 6518.4 | H35: 0.0064322547 | I35: 0.92840379
A36: 96527 | B36: SINAPI | C36: ESCAVAÇÃO MANUAL PARA VIGA BALDRAME OU SAPATA CORRIDA (INCLUINDO ESCAVAÇÃO PARA COLOCAÇÃO DE FÔRMAS). AF_01/2024 | D36: M3 | E36: 46.3 | F36: 137.91 | G36: 6385.23 | H36: 0.0063008446 | I36: 0.93470463
A37: ED-49813 | B37: SETOP | C37: LASTRO DE BRITA COM PEDRA BRITADA NÚMERO 2 E 3, INCLUSIVE ADENSAMENTO E APILOAMENTO MANUAL | D37: m3 | E37: 22.7 | F37: 264.19 | G37: 5997.11 | H37: 0.0059178539 | I37: 0.94062249
A38: 104796 | B38: SINAPI | C38: DEMOLIÇÃO DE GUIAS, SARJETAS OU SARJETÕES, DE FORMA MECANIZADA, SEM REAPROVEITAMENTO. AF_09/2023 | D38: M | E38: 304 | F38: 18.4 | G38: 5593.6 | H38: 0.0055196766 | I38: 0.94614216
A39: 103689 | B39: SINAPI | C39: FORNECIMENTO E INSTALAÇÃO DE PLACA DE OBRA COM CHAPA GALVANIZADA E ESTRUTURA DE MADEIRA. AF_03/2022_PS | D39: M2 | E39: 8 | F39: 632.99 | G39: 5063.92 | H39: 0.0049969967 | I39: 0.95113916
A40: ED-50166 | B40: SETOP | C40: REMANEJAMENTO DE TAPUME FIXO DE PROTEÇÃO PARA FECHAMENTO DE OBRA, INCLUSIVE ESCAVAÇÃO MANUAL E REATERRO COMPACTADO | D40: m2 | E40: 352 | F40: 13.89 | G40: 4889.28 | H40: 0.0048246647 | I40: 0.95596382
...

Sheet Auxiliar_ABC2
A1: 1 | D1: 1.1 | E1: ENGENHEIRO CIVIL DE OBRA JUNIOR COM ENCARGOS COMPLEMENTARES | F1: 90777 | G1: SINAPI | H1: H | I1: 264 | J1: 119.76 | K1: BDI 1 | L1: 151.52 | M1: 31616.64 | N1: 40001.28
A2: 2 | B2: 1 | D2: 2.1.1 | E2: LOCAÇÃO DE CONTAINER COM ISOLAMENTO TÉRMICO, TIPO 3, PARA DEPÓSITO/FERRAMENTARIA DE OBRA, COM MEDIDAS REFERENCIAIS DE (6) METROS COMPRIMENTO, (2,3) METROS LARGURA E (2,5) METROS ALTURA ÚTIL INTERNA, INCLUSIVE LIGAÇÕES ELÉTRICAS INTERNAS, EXCLUSIVE MOBILIZAÇÃO/DESMOBILIZAÇÃO E LIGAÇÕES PROVISÓRIAS EXTERNAS | F2: ED-16350 | G2: SETOP | H2: mês | I2: 6 | J2: 858.68 | K2: BDI 1 | L2: 1086.4 | M2: 5152.08 | N2: 6518.4
A3: 2 | B3: 1 | D3: 2.1.2 | E3: MOBILIZAÇÃO E DESMOBILIZAÇÃO DE CONTAINER, INCLUSIVE CARGA, DESCARGA E TRANSPORTE EM CAMINHÃO CARROCERIA COM GUINDAUTO (MUNCK), EXCLUSIVE LOCAÇÃO DO CONTAINER | F3: ED-50137 | G3: SETOP | H3: un | I3: 1 | J3: 1631.22 | K3: BDI 1 | L3: 2063.82 | M3: 1631.22 | N3: 2063.82
A4: 2 | B4: 2 | D4: 2.2.1 | E4: LIGAÇÕES PROVISÓRIAS PARA CONTAINER TIPO 3 (CORRESPONDENTE AO CÓDIGO ED-16350) | F4: ED-16358 | G4: SETOP | H4: un | I4: 1 | J4: 334.67 | K4: BDI 1 | L4: 423.42 | M4: 334.67 | N4: 423.42
A5: 2 | B5: 2 | D5: 2.2.2 | E5: LOCAÇÃO DE BANHEIRO QUÍMICO, DIMENSÃO (110X120X230)CM, LINHA PADRÃO, CONTENDO UMA (1) PIA/HIGIENIZADOR DE MÃOS, INCLUSIVE MANUTENÇÃO E MOBILIZAÇÃO/DESMOBILIZAÇÃO | F5: ED-50155 | G5: SETOP | H5: mês | I5: 6 | J5: 1050 | K5: BDI 1 | L5: 1328.46 | M5: 6300 | N5: 7970.76
A6: 2 | B6: 3 | D6: 2.3.1 | E6: TAPUME FIXO DE PROTEÇÃO PARA FECHAMENTO DE OBRA EM TELHA METÁLICA GALVANIZADA, TIPO TRAPEZOIDAL, ESP. 0,5MM, COM MÓDULO NA DIMENSÃO DE (300X220)CM, COM REAPROVEITAMENTO, EXCLUSIVE PINTURA ESMALTE, INCLUSIVE PONTALETE E FIXAÇÃO | F6: ED-29823 | G6: SETOP | H6: m2 | I6: 352 | J6: 65.25 | K6: BDI 1 | L6: 82.55 | M6: 22968 | N6: 29057.6
A7: 2 | B7: 3 | D7: 2.3.2 | E7: REMANEJAMENTO DE TAPUME FIXO DE PROTEÇÃO PARA FECHAMENTO DE OBRA, INCLUSIVE ESCAVAÇÃO MANUAL E REATERRO COMPACTADO | F7: ED-50166 | G7: SETOP | H7: m2 | I7: 352 | J7: 10.98 | K7: BDI 1 | L7: 13.89 | M7: 3864.96 | N7: 4889.28
A8: 3 | B8: 1 | D8: 3.1.1 | E8: FORNECIMENTO E INSTALAÇÃO DE PLACA DE OBRA COM CHAPA GALVANIZADA E ESTRUTURA DE MADEIRA. AF_03/2022_PS | F8: 103689 | G8: SINAPI | H8: M2 | I8: 8 | J8: 500.31 | K8: BDI 1 | L8: 632.99 | M8: 4002.48 | N8: 5063.92
A9: 3 | B9: 2 | D9: 3.2.1 | E9: LOCAÇÃO DE OBRA COM GABARITO DE TÁBUAS CORRIDAS PONTALETADAS A CADA 2,00M, REAPROVEITAMENTO (2X), INCLUSIVE ACOMPANHAMENTO DE EQUIPE TOPOGRÁFICA PARA MARCAÇÃO DE PONTO TOPOGRÁFICO | F9: ED-17989 | G9: SETOP | H9: m | I9: 296 | J9: 60.29 | K9: BDI 1 | L9: 76.28 | M9: 17845.84 | N9: 22578.88
A10: 4 | B10: 1 | D10: 4.1.1 | E10: PONTALETE ROLICO SEM TRATAMENTO, D = 8 A 11 CM, H = 3 M, EM EUCALIPTO OU EQUIVALENTE DA REGIAO - BRUTA (PARA ESCORAMENTO) | F10: 2745 | G10: SINAPI | H10: M | I10: 1080 | J10: 3.23 | K10: BDI 1 | L10: 4.09 | M10: 3488.4 | N10: 4417.2
A11: 4 | B11: 1 | D11: 4.1.2 | E11: DEMOLIÇÃO DE ALVENARIA DE TIJOLO MACIÇO, DE FORMA MANUAL, SEM REAPROVEITAMENTO. AF_09/2023 | F11: 97624 | G11: SINAPI | H11: M3 | I11: 90 | J11: 112.47 | K11: BDI 1 | L11: 142.3 | M11: 10122.3 | N11: 12807
A12: 4 | B12: 1 | D12: 4.1.3 | E12: DEMOLIÇÃO DE PISO DE CONCRETO SIMPLES, DE FORMA MECANIZADA COM MARTELETE, SEM REAPROVEITAMENTO. AF_09/2023 | F12: 104790 | G12: SINAPI | H12: M3 | I12: 22 | J12: 109.61 | K12: BDI 1 | L12: 138.68 | M12: 2411.42 | N12: 3050.96
A13: 4 | B13: 1 | D13: 4.1.4 | E13: DEMOLIÇÃO DE GUIAS, SARJETAS OU SARJETÕES, DE FORMA MECANIZADA, SEM REAPROVEITAMENTO. AF_09/2023 | F13: 104796 | G13: SINAPI | H13: M | I13: 304 | J13: 14.54 | K13: BDI 1 | L13: 18.4 | M13: 4420.16 | N13: 5593.6
A14: 4 | B14: 2 | D14: 4.2.1 | E14: REMOÇÃO DE RAÍZES REMANESCENTES DE TRONCO DE ÁRVORE COM DIÂMETRO MAIOR OU IGUAL A 0,20 M E MENOR QUE 0,40 M. AF_03/2024 | F14: 98526 | G14: SINAPI | H14: UN | I14: 13 | J14: 141.45 | K14: BDI 1 | L14: 178.96 | M14: 1838.85 | N14: 2326.48
A15: 4 | B15: 2 | D15: 4.2.2 | E15: REMOÇÃO DE RAÍZES REMANESCENTES DE TRONCO DE ÁRVORE COM DIÂMETRO MAIOR OU IGUAL A 0,40 M E MENOR QUE 0,60 M. AF_03/2024 | F15: 98527 | G15: SINAPI | H15: UN | I15: 8 | J15: 234.76 | K15: BDI 1 | L15: 297.02 | M15: 1878.08 | N15: 2376.16
A16: 4 | B16: 3 | D16: 4.3.1 | E16: TRANSPORTE DE MATERIAL DE QUALQUER NATUREZA COM CARRINHO DE MÃO, COM DISTÂNCIAS MAIORES QUE 50M E MENORES OU IGUAIS A 100M, INCLUSIVE CARGA/DESGARGA | F16: ED-51134 | G16: SETOP | H16: m3 | I16: 171.6 | J16: 41.5 | K16: BDI 1 | L16: 52.51 | M16: 7121.4 | N16: 9010.72
A17: 4 | B17: 3 | D17: 4.3.2 | E17: TRANSPORTE DE MATERIAL DEMOLIDO EM CAÇAMBA, EXCLUSIVE CARGA MANUAL OU MECÂNICA | F17: ED-51125 | G17: SETOP | H17: m3 | I17: 171.6 | J17: 60 | K17: BDI 1 | L17: 75.91 | M17: 10296 | N17: 13026.16
A18: 4 | B18: 3 | D18: 4.3.3 | E18: TRANSPORTE COM CAMINHÃO CARROCERIA COM GUINDAUTO (MUNCK), MOMENTO MÁXIMO DE CARGA 11,7 TM, EM VIA URBANA PAVIMENTADA, DMT ATÉ 30KM (UNIDADE: TXKM). AF_07/2020 | F18: 100952 | G18: SINAPI | H18: TXKM | I18: 1304.16 | J18: 2.85 | K18: BDI 1 | L18: 3.61 | M18: 3716.86 | N18: 4708.02
A19: 4 | B19: 4 | D19: 4.4.1 | E19: ESPALHAMENTO DE MATERIAL COM TRATOR DE ESTEIRAS. AF_09/2024 | F19: 100574 | G19: SINAPI | H19: M3 | I19: 171.6 | J19: 1.45 | K19: BDI 1 | L19: 1.83 | M19: 248.82 | N19: 314.03
A20: 5 | B20: 1 | D20: 5.1.1 | E20: ESCAVAÇÃO MANUAL PARA BLOCO DE COROAMENTO OU SAPATA (INCLUINDO ESCAVAÇÃO PARA COLOCAÇÃO DE FÔRMAS). AF_01/2024 | F20: 96523 | G20: SINAPI | H20: M3 | I20: 34.3 | J20: 99.14 | K20: BDI 1 | L20: 125.43 | M20: 3400.5 | N20: 4302.25
A21: 5 | B21: 1 | D21: 5.1.2 | E21: ESCAVAÇÃO MANUAL PARA VIGA BALDRAME OU SAPATA CORRIDA (INCLUINDO ESCAVAÇÃO PARA COLOCAÇÃO DE FÔRMAS). AF_01/2024 | F21: 96527 | G21: SINAPI | H21: M3 | I21: 46.3 | J21: 109 | K21: BDI 1 | L21: 137.91 | M21: 5046.7 | N21: 6385.23
A22: 5 | B22: 1 | D22: 5.1.3 | E22: REATERRO MANUAL DE VALAS, COM COMPACTADOR DE SOLOS DE PERCUSSÃO. AF_08/2023 | F22: 93382 | G22: SINAPI | H22: M3 | I22: 63.05 | J22: 27.67 | K22: BDI 1 | L22: 35.01 | M22: 1744.59 | N22: 2207.38
A23: 5 | B23: 1 | D23: 5.1.4 | E23: CARGA, MANOBRA E DESCARGA DE SOLOS E MATERIAIS GRANULARES EM CAMINHÃO BASCULANTE 10 M³ - CARGA COM ESCAVADEIRA HIDRÁULICA (CAÇAMBA DE 1,20 M³ / 155 HP) E DESCARGA LIVRE (UNIDADE: M3). AF_07/2020 | F23: 100978 | G23: SINAPI | H23: M3 | I23: 41.73 | J23: 7.04 | K23: BDI 1 | L23: 8.91 | M23: 293.78 | N23: 371.81
A24: 5 | B24: 2 | D24: 5.2.1 | E24: TRANSPORTE COM CAMINHÃO BASCULANTE DE 10 M³, EM VIA URBANA PAVIMENTADA, DMT ATÉ 30 KM (UNIDADE: M3XKM). AF_07/2020 | F24: 95875 | G24: SINAPI | H24: M3XKM | I24: 158.57 | J24: 2.49 | K24: BDI 1 | L24: 3.15 | M24: 394.84 | N24: 499.5
A25: 5 | B25: 3 | D25: 5.3.1 | E25: ESPALHAMENTO DE MATERIAL COM TRATOR DE ESTEIRAS. AF_09/2024 | F25: 100574 | G25: SINAPI | H25: M3 | I25: 41.73 | J25: 1.45 | K25: BDI 1 | L25: 1.83 | M25: 60.51 | N25: 76.37
A26: 6 | B26: 1 | C26: 1 | D26: 6.1.1.1 | E26: ESTACA BROCA DE CONCRETO, DIÂMETRO DE 25CM, ESCAVAÇÃO MANUAL COM TRADO CONCHA, COM ARMADURA DE ARRANQUE. AF_05/2020 | F26: 101174 | G26: SINAPI | H26: M | I26: 488 | J26: 91.6 | K26: BDI 1 | L26: 115.89 | M26: 44700.8 | N26: 56554.32
A27: 6 | B27: 1 | C27: 1 | D27: 6.1.1.2 | E27: CORTE, DOBRA E MONTAGEM DE AÇO CA-50/60, INCLUSIVE ESPAÇADOR | F27: ED-48298 | G27: SETOP | H27: Kg | I27: 181.12 | J27: 13.36 | K27: BDI 1 | L27: 16.9 | M27: 2419.76 | N27: 3060.93
A28: 6 | B28: 1 | C28: 2 | D28: 6.1.2.1 | E28: LASTRO DE CONCRETO MAGRO, INCLUSIVE TRANSPORTE, LANÇAMENTO E ADENSAMENTO | F28: ED-49812 | G28: SETOP | H28: m3 | I28: 1.9 | J28: 599.74 | K28: BDI 1 | L28: 758.79 | M28: 1139.51 | N28: 1441.7
A29: 6 | B29: 1 | C29: 2 | D29: 6.1.2.2 | E29: CORTE, DOBRA E MONTAGEM DE AÇO CA-50/60, INCLUSIVE ESPAÇADOR | F29: ED-48298 | G29: SETOP | H29: Kg | I29: 459.6 | J29: 13.36 | K29: BDI 1 | L29: 16.9 | M29: 6140.26 | N29: 7767.24
A30: 6 | B30: 1 | C30: 2 | D30: 6.1.2.3 | E30: FÔRMA E DESFORMA PARA VIGA-CINTA/BLOCO COM TÁBUA E SARRAFO, REAPROVEITAMENTO (3X) (FUNDAÇÃO) | F30: ED-49810 | G30: SETOP | H30: m2 | I30: 102.3 | J30: 76.62 | K30: BDI 1 | L30: 96.94 | M30: 7838.23 | N30: 9916.96
A31: 6 | B31: 1 | C31: 2 | D31: 6.1.2.4 | E31: FORNECIMENTO DE CONCRETO ESTRUTURAL, USINADO BOMBEADO, COM FCK 30MPA, INCLUSIVE LANÇAMENTO, ADENSAMENTO E ACABAMENTO (FUNDAÇÃO) | F31: ED-49806 | G31: SETOP | H31: m3 | I31: 15.6 | J31: 698.68 | K31: BDI 1 | L31: 883.97 | M31: 10899.41 | N31: 13789.93
A32: 6 | B32: 1 | C32: 3 | D32: 6.1.3.1 | E32: LASTRO DE BRITA COM PEDRA BRITADA NÚMERO 2 E 3, INCLUSIVE ADENSAMENTO E APILOAMENTO MANUAL | F32: ED-49813 | G32: SETOP | H32: m3 | I32: 2.7 | J32: 208.81 | K32: BDI 1 | L32: 264.19 | M32: 563.79 | N32: 713.31
A33: 6 | B33: 1 | C33: 3 | D33: 6.1.3.2 | E33: CORTE, DOBRA E MONTAGEM DE AÇO CA-50/60, INCLUSIVE ESPAÇADOR | F33: ED-48298 | G33: SETOP | H33: Kg | I33: 808.3 | J33: 13.36 | K33: BDI 1 | L33: 16.9 | M33: 10798.89 | N33: 13660.27
A34: 6 | B34: 1 | C34: 3 | D34: 6.1.3.3 | E34: FÔRMA E DESFORMA PARA VIGA-CINTA/BLOCO COM TÁBUA E SARRAFO, REAPROVEITAMENTO (3X) (FUNDAÇÃO) | F34: ED-49810 | G34: SETOP | H34: m2 | I34: 173.5 | J34: 76.62 | K34: BDI 1 | L34: 96.94 | M34: 13293.57 | N34: 16819.09
A35: 6 | B35: 1 | C35: 3 | D35: 6.1.3.4 | E35: FORNECIMENTO DE CONCRETO ESTRUTURAL, USINADO BOMBEADO, COM FCK 25MPA, INCLUSIVE LANÇAMENTO, ADENSAMENTO E ACABAMENTO (FUNDAÇÃO) | F35: ED-49805 | G35: SETOP | H35: m3 | I35: 16.5 | J35: 678.81 | K35: BDI 1 | L35: 858.83 | M35: 11200.37 | N35: 14170.7
A36: 6 | B36: 1 | C36: 3 | D36: 6.1.3.5 | E36: IMPERMEABILIZAÇÃO DE SUPERFÍCIE COM EMULSÃO ASFÁLTICA, 2 DEMÃOS. AF_09/2023 | F36: 98557 | G36: SINAPI | H36: M2 | I36: 141.7 | J36: 40.52 | K36: BDI 1 | L36: 51.27 | M36: 5741.68 | N36: 7264.96
A37: 6 | B37: 2 | C37: 1 | D37: 6.2.1.1 | E37: CORTE, DOBRA E MONTAGEM DE AÇO CA-50/60, INCLUSIVE ESPAÇADOR | F37: ED-48298 | G37: SETOP | H37: Kg | I37: 526.2 | J37: 13.36 | K37: BDI 1 | L37: 16.9 | M37: 7030.03 | N37: 8892.78
A38: 6 | B38: 2 | C38: 1 | D38: 6.2.1.2 | E38: CINTA DE AMARRAÇÃO DE ALVENARIA COM BLOCO DE CONCRETO ESTRUTURAL, CANALETA TIPO "U", ESP. 19CM, (FBK 4,5MPA), INCLUSIVE ARGAMASSA PARA ASSENTAMENTO, EXCLUSIVE GRAUTE E ARMAÇÃO | F38: ED-48392 | G38: SETOP | H38: m | I38: 578.4 | J38: 25.35 | K38: BDI 1 | L38: 32.07 | M38: 14662.44 | N38: 18549.29
A39: 6 | B39: 2 | C39: 1 | D39: 6.2.1.3 | E39: GRAUTE FGK=15 MPA; TRAÇO 1:0,04:2,2:2,5 (EM MASSA SECA DE CIMENTO/CAL/AREIA GROSSA/BRITA 0) - PREPARO MECÂNICO COM BETONEIRA 400 L. AF_09/2021 | F39: 90278 | G39: SINAPI | H39: M3 | I39: 10.4 | J39: 583.33 | K39: BDI 1 | L39: 738.03 | M39: 6066.63 | N39: 7675.51
A40: 6 | B40: 2 | C40: 1 | D40: 6.2.1.4 | E40: VERGA PRÉ-MOLDADA COM ATÉ 1,5 M DE VÃO, ESPESSURA DE *20* CM. AF_03/2024 | F40: 93184 | G40: SINAPI | H40: M | I40: 1.4 | J40: 31.7 | K40: BDI 1 | L40: 40.11 | M40: 44.38 | N40: 56.15
...

Sheet CPU
A2: COMPOSIÇÕES DE CUSTO | L2: Revisão: | M2: =DADOS!D6 -> R03
L3: Data: | M3: =DADOS!D2 -> 46170
A4: Projeto: | D4: Cliente: | H4: Cliente: | L4: Bancos:
A5: =DADOS!D8 -> REFORMA DO MURO DE FECHAMENTO DO CEMITÉRIO MUNICIPAL | L5: =DADOS!D14 -> SINAPI: 12/2025 Minas Gerais SETOP: 10/2025 Minas Gerais SICRO : 10/2025 Minas Gerais SUDECAP: 09/2025 Minas Gerais
L8: BDI 1: | M8: =DADOS!D10 -> 0.2652
L9: BDI 2: | M9: =DADOS!D12 -> -
A11: =A2&" DE "&DADOS!D20&" - "&A5 -> COMPOSIÇÕES DE CUSTO DE PROJETO EXECUTIVO - REFORMA DO MURO DE FECHAMENTO DO CEMITÉRIO MUNICIPAL
A13: CÓDIGO | B13: DESCRIÇÃO | I13: Banco | J13: Unid. | K13: Coeficiente | L13: Preço Unit. | M13: Total
A15: 7 | B15: =VLOOKUP(A15,ORC!$D$24:$N$410,2,0) -> ALVENARIA E REVESTIMENTO
A16: DAC-7.1 | B16: LIGAÇÃO ENTRE ALVENARIA E PILAR COM TELA METÁLICA EM AÇO GALVANIZADO | I16: CPU | J16: M2 | M16: =SUM(M17:M18) -> 124.42393
B17: 88316 | C17: =IF(I17="SINAPI",VLOOKUP(B17,DADOS_SINAPI,2,0),IF(I17="SETOP",VLOOKUP(B17,DADOS_SETOP,2,0),IF(I17="SICRO",VLOOKUP(B17,DADOS_SICRO,2,0),IF(I17="SUDECAP",VLOOKUP(B17,DADOS_SUDECAP,2,0),IF(I17="COTAÇÃO",VLOOKUP(B17,DADOS_COTACAO,2,0),VLOOKUP(B17,DADOS_COMPOSICAO,2,0)))))) -> SERVENTE COM ENCARGOS COMPLEMENTARES | I17: SINAPI | J17: =IF(I17="SINAPI",VLOOKUP(B17,DADOS_SINAPI,3,0),IF(I17="SETOP",VLOOKUP(B17,DADOS_SETOP,3,0),IF(I17="SICRO",VLOOKUP(B17,DADOS_SICRO,3,0),IF(I17="SUDECAP",VLOOKUP(B17,DADOS_SUDECAP,3,0),IF(I17="COTAÇÃO",VLOOKUP(B17,DADOS_COTACAO,9,0),VLOOKUP(B17,DADOS_COMPOSICAO,10,0)))))) -> H | K17: 0.38596 | L17: =IF(I17="SINAPI",VLOOKUP(B17,DADOS_SINAPI,4,0),IF(I17="SETOP",VLOOKUP(B17,DADOS_SETOP,4,0),IF(I17="SICRO",VLOOKUP(B17,DADOS_SICRO,4,0),IF(I17="SUDECAP",VLOOKUP(B17,DADOS_SUDECAP,4,0),IF(I17="COTAÇÃO",VLOOKUP(B17,DADOS_COTACAO,12,0),VLOOKUP(B17,DADOS_COMPOSICAO,13,0)))))) -> 22.37 | M17: =K17*L17 -> 8.6339252
B18: COT-EST-001 | C18: =IF(I18="SINAPI",VLOOKUP(B18,DADOS_SINAPI,2,0),IF(I18="SETOP",VLOOKUP(B18,DADOS_SETOP,2,0),IF(I18="SICRO",VLOOKUP(B18,DADOS_SICRO,2,0),IF(I18="SUDECAP",VLOOKUP(B18,DADOS_SUDECAP,2,0),IF(I18="COTAÇÃO",VLOOKUP(B18,DADOS_COTACAO,2,0),VLOOKUP(B18,DADOS_COMPOSICAO,2,0)))))) -> TELA METÁLICA DE AÇO GALVANIZADO PARA REFORÇO CONTRA FISSURAÇÃO, MALHA 04 | I18: COTAÇÃO | J18: =IF(I18="SINAPI",VLOOKUP(B18,DADOS_SINAPI,3,0),IF(I18="SETOP",VLOOKUP(B18,DADOS_SETOP,3,0),IF(I18="SICRO",VLOOKUP(B18,DADOS_SICRO,3,0),IF(I18="SUDECAP",VLOOKUP(B18,DADOS_SUDECAP,3,0),IF(I18="COTAÇÃO",VLOOKUP(B18,DADOS_COTACAO,9,0),VLOOKUP(B18,DADOS_COMPOSICAO,10,0)))))) -> M2 | K18: 1 | L18: =IF(I18="SINAPI",VLOOKUP(B18,DADOS_SINAPI,4,0),IF(I18="SETOP",VLOOKUP(B18,DADOS_SETOP,4,0),IF(I18="SICRO",VLOOKUP(B18,DADOS_SICRO,4,0),IF(I18="SUDECAP",VLOOKUP(B18,DADOS_SUDECAP,4,0),IF(I18="COTAÇÃO",VLOOKUP(B18,DADOS_COTACAO,12,0),VLOOKUP(B18,DADOS_COMPOSICAO,13,0)))))) -> 115.79 | M18: =K18*L18 -> 115.79
A20: DAC-7.2 | B20: INSTALAÇÃO DE MOLDURAS EM EPS | I20: CPU | J20: M | M20: =SUM(M21:M22) -> 25.48379
B21: 88309 | C21: =IF(I21="SINAPI",VLOOKUP(B21,DADOS_SINAPI,2,0),IF(I21="SETOP",VLOOKUP(B21,DADOS_SETOP,2,0),IF(I21="SICRO",VLOOKUP(B21,DADOS_SICRO,2,0),IF(I21="SUDECAP",VLOOKUP(B21,DADOS_SUDECAP,2,0),IF(I21="COTAÇÃO",VLOOKUP(B21,DADOS_COTACAO,2,0),VLOOKUP(B21,DADOS_COMPOSICAO,2,0)))))) -> PEDREIRO COM ENCARGOS COMPLEMENTARES | I21: SINAPI | J21: =IF(I21="SINAPI",VLOOKUP(B21,DADOS_SINAPI,3,0),IF(I21="SETOP",VLOOKUP(B21,DADOS_SETOP,3,0),IF(I21="SICRO",VLOOKUP(B21,DADOS_SICRO,3,0),IF(I21="SUDECAP",VLOOKUP(B21,DADOS_SUDECAP,3,0),IF(I21="COTAÇÃO",VLOOKUP(B21,DADOS_COTACAO,9,0),VLOOKUP(B21,DADOS_COMPOSICAO,10,0)))))) -> H | K21: 0.4808 | L21: =IF(I21="SINAPI",VLOOKUP(B21,DADOS_SINAPI,4,0),IF(I21="SETOP",VLOOKUP(B21,DADOS_SETOP,4,0),IF(I21="SICRO",VLOOKUP(B21,DADOS_SICRO,4,0),IF(I21="SUDECAP",VLOOKUP(B21,DADOS_SUDECAP,4,0),IF(I21="COTAÇÃO",VLOOKUP(B21,DADOS_COTACAO,12,0),VLOOKUP(B21,DADOS_COMPOSICAO,13,0)))))) -> 30.25 | M21: =K21*L21 -> 14.5442
B22: COT-EST-002 | C22: =IF(I22="SINAPI",VLOOKUP(B22,DADOS_SINAPI,2,0),IF(I22="SETOP",VLOOKUP(B22,DADOS_SETOP,2,0),IF(I22="SICRO",VLOOKUP(B22,DADOS_SICRO,2,0),IF(I22="SUDECAP",VLOOKUP(B22,DADOS_SUDECAP,2,0),IF(I22="COTAÇÃO",VLOOKUP(B22,DADOS_COTACAO,2,0),VLOOKUP(B22,DADOS_COMPOSICAO,2,0)))))) -> FORNECIMENTO DE MATERIAL PARA INSTALAÇÃO DE MOLDURAS EM EPS | I22: COTAÇÃO | J22: =IF(I22="SINAPI",VLOOKUP(B22,DADOS_SINAPI,3,0),IF(I22="SETOP",VLOOKUP(B22,DADOS_SETOP,3,0),IF(I22="SICRO",VLOOKUP(B22,DADOS_SICRO,3,0),IF(I22="SUDECAP",VLOOKUP(B22,DADOS_SUDECAP,3,0),IF(I22="COTAÇÃO",VLOOKUP(B22,DADOS_COTACAO,9,0),VLOOKUP(B22,DADOS_COMPOSICAO,10,0)))))) -> M | K22: 0.0005 | L22: =IF(I22="SINAPI",VLOOKUP(B22,DADOS_SINAPI,4,0),IF(I22="SETOP",VLOOKUP(B22,DADOS_SETOP,4,0),IF(I22="SICRO",VLOOKUP(B22,DADOS_SICRO,4,0),IF(I22="SUDECAP",VLOOKUP(B22,DADOS_SUDECAP,4,0),IF(I22="COTAÇÃO",VLOOKUP(B22,DADOS_COTACAO,12,0),VLOOKUP(B22,DADOS_COMPOSICAO,13,0)))))) -> 21879.18 | M22: =K22*L22 -> 10.93959
D34: RESPONSÁVEL TÉCNICO: | G34: =DADOS!D16 -> ALOISIO CAETANO FERREIRA
G35: =DADOS!D18 -> CREA - MG 97.132/D

Sheet COT
A2: PLANILHA DE COTAÇÕES | K2: Revisão: | L2: =DADOS!D6 -> R03
K3: Data: | L3: =DADOS!D2 -> 46170
A4: Projeto: | D4: Responsável: | G4: Cliente: | K4: Bancos:
A5: =DADOS!D8 -> REFORMA DO MURO DE FECHAMENTO DO CEMITÉRIO MUNICIPAL | D5: =DADOS!G8 -> 0 | K5: =DADOS!D14 -> SINAPI: 12/2025 Minas Gerais SETOP: 10/2025 Minas Gerais SICRO : 10/2025 Minas Gerais SUDECAP: 09/2025 Minas Gerais
K8: BDI 1: | L8: =DADOS!D10 -> 0.2652
K9: BDI 2: | L9: =DADOS!D12 -> -
A11: =A2&" DE "&DADOS!D20&" - "&A5 -> PLANILHA DE COTAÇÕES DE PROJETO EXECUTIVO - REFORMA DO MURO DE FECHAMENTO DO CEMITÉRIO MUNICIPAL
A13: COT-EST-001 | B13: TELA METÁLICA DE AÇO GALVANIZADO PARA REFORÇO CONTRA FISSURAÇÃO, MALHA 04 | I13: M2 | L13: =MEDIAN(L15:XFD17) -> 115.79
A14: EMPRESA | B14: CIDADE | C14: LOCAL / LINK | G14: CNPJ | H14: CONTATO | I14: UN | J14: VALOR | K14: FRETE | L14: TOTAL
A15: COMERCIAL KLOCK | B15: Venâncio Aires - RS | C15: https://www.comercialklock.com.br/1m-tela-metal-galvanizada-peneira-n4-60cm-altura | G15: 87.269.171/0001-07 | H15: (51)3741-1427 | I15: M2 | J15: 91.35 | K15: 24.44 | L15: =J15+K15 -> 115.79
A16: FERRAMENTAS GERAIS | B16: Porto Alegre -RS | C16: https://www.fg.com.br/tela-peneira-para-cafe-malha-04-fio-22---telas-mm/p | G16: 92.664.028/0001-41 | I16: M2 | J16: =499.99/12.5 -> 39.9992 | K16: 71.62 | L16: =J16+K16 -> 111.6192
A17: ALINOX TELAS | B17: Miraí -MG | C17: https://www.alinoxtelas.com.br/tela-inox-304-malha-40-fio-020mm-10m-x-10m-440-microns | G17: 34.646.551/0001-49 | H17: (32) 99139-9956 | I17: M2 | J17: 189.9 | K17: 50.75 | L17: =J17+K17 -> 240.65
A19: COT-EST-002 | B19: FORNECIMENTO DE MATERIAL PARA INSTALAÇÃO DE MOLDURAS EM EPS | I19: M | L19: =MEDIAN(L21:XFD23) -> 21879.18
A20: EMPRESA | B20: CIDADE | C20: LOCAL / LINK | G20: CNPJ | H20: CONTATO | I20: UN | J20: VALOR | K20: FRETE | L20: TOTAL
A21: BURLAMAQUI MOLDURAS | B21: São Paulo - SP | C21: https://www.burlamaquimolduras.com/ | G21: 30.744.930/0001-10 | H21: (11) 981183952 | I21: M | J21: 20879.18 | K21: 1000 | L21: =J21+K21 -> 21879.18
A22: ART IN EPS ARTEFATOS EM ISOPOR | B22: Ribeirão Preto - SP | C22: https://www.facebook.com/moldurasisopor/ | G22: 40.800.049/0001-43 | H22: (16) 992688424 | I22: M | J22: 19035.7 | K22: 1200 | L22: =J22+K22 -> 20235.7
A23: DIV TERM TECNOMOLDURAS LTDA | B23: São Paulo - SP | C23: https://www.tecnomoldura.com.br/molduras | G23: 66.023.425/0001-24 | H23: (11) 3662-0288 | I23: M | J23: 29581.04 | L23: =J23+K23 -> 29581.04
C32: RESPONSÁVEL TÉCNICO: | F32: =DADOS!D16 -> ALOISIO CAETANO FERREIRA
F33: =DADOS!D18 -> CREA - MG 97.132/D

Sheet SINAPI
B1: SINAPI DEZEMBRO 2025
A2: CÓDIGO | B2: DESCRIÇÃO | C2: UNIDADE | D2: PREÇO
A3: 104658 | B3: PISO PODOTÁTIL DE ALERTA OU DIRECIONAL, DE CONCRETO, ASSENTADO SOBRE ARGAMASSA. AF_03/2024 | C3: M2 | D3: 159.77
A4: 105002 | B4: RAMPA DE ACESSIBILIDADE EM CONCRETO MOLDADO IN LOCO, EM CALÇADA NOVA COM LARGURA MAIOR OU IGUAL À 3,00 M, FCK 25MPA, COM PISO PODOTÁTIL. AF_03/2024 | C4: UN | D4: 757.62
A5: 105004 | B5: RAMPA DE ACESSIBILIDADE EM CONCRETO MOLDADO IN LOCO, EM CALÇADA NOVA COM LARGURA MENOR À 3,00 M, FCK 25MPA, COM PISO PODOTÁTIL. AF_03/2024 | C5: M2 | D5: 129.88
A6: 105003 | B6: RAMPA DE ACESSIBILIDADE EM CONCRETO MOLDADO IN LOCO, EM CALÇADA PRÉ EXISTENTE COM LARGURA MAIOR OU IGUAL À 3,00 M, FCK 25MPA, COM PISO PODOTÁTIL. AF_03/2024 | C6: UN | D6: 1199.43
A7: 105005 | B7: RAMPA DE ACESSIBILIDADE EM CONCRETO MOLDADO IN LOCO, EM CALÇADA PRÉ EXISTENTE COM LARGURA MENOR À 3,00 M, FCK 25MPA, COM PISO PODOTÁTIL. AF_03/2024 | C7: M2 | D7: 211.7
A8: 105006 | B8: RAMPA DE ACESSIBILIDADE EM CONCRETO PRÉ MOLDADO, EM CALÇADA NOVA COM LARGURA MAIOR OU IGUAL À 3,00 M, FCK 25MPA, COM PISO PODOTÁTIL. AF_03/2024 | C8: UN | D8: 0
A9: 104999 | B9: RAMPA DE ACESSIBILIDADE EM CONCRETO PRÉ MOLDADO, EM CALÇADA PRÉ EXISTENTE COM LARGURA MAIOR OU IGUAL À 3,00 M, FCK 25MPA, COM PISO PODOTÁTIL. AF_03/2024 | C9: UN | D9: 0
A10: 105000 | B10: RAMPA DE ACESSIBILIDADE PARA ACESSO A EDIFICAÇÕES COM INCLINAÇÃO DE 8,33% EM CONCRETO MOLDADO IN LOCO, COM LARGURA DE 1,20M, FCK 25MPA, NÃO ARMADA, COM JUNTA A CADA 2M COM CORTE À SECO. AF_03/2024 | C10: M | D10: 1370.87
A11: 105001 | B11: RAMPA DE ACESSIBILIDADE PARA ACESSO A EDIFICAÇÕES COM INCLINAÇÃO DE 8,33% EM CONCRETO MOLDADO IN LOCO, COM LARGURA DE 1,50M, FCK 25MPA, NÃO ARMADA, COM JUNTA A CADA 2M COM CORTE À SECO. AF_03/2024 | C11: M | D11: 1404.15
A12: 89306 | B12: ALVENARIA ESTRUTURAL DE BLOCOS CERÂMICOS 14X19X29, (ESPESSURA DE 14 CM), UTILIZANDO COLHER DE PEDREIRO E ARGAMASSA DE ASSENTAMENTO COM PREPARO EM BETONEIRA. AF_03/2023 | C12: M2 | D12: 100.43
A13: 89307 | B13: ALVENARIA ESTRUTURAL DE BLOCOS CERÂMICOS 14X19X29, (ESPESSURA DE 14 CM), UTILIZANDO COLHER DE PEDREIRO E ARGAMASSA DE ASSENTAMENTO COM PREPARO MANUAL. AF_03/2023 | C13: M2 | D13: 102.52
A14: 89290 | B14: ALVENARIA ESTRUTURAL DE BLOCOS CERÂMICOS 14X19X29, (ESPESSURA DE 14 CM), UTILIZANDO PALHETA E ARGAMASSA DE ASSENTAMENTO COM PREPARO EM BETONEIRA. AF_03/2023 | C14: M2 | D14: 82.99
... A10187: 36246 | B10187: ACABAMENTO SIMPLES/CONVENCIONAL PARA FORRO PVC, TIPO "U" OU "C", COR BRANCA, COMPRIMENTO 6 M | C10187: M | D10187: 3.9
A10188: 37600 | B10188: ACESSORIO DE LIGACAO NAO ELETRICO PARA CARGAS EXPLOSIVAS, TUBO DE 6 M | C10188: UN
A10189: 37599 | B10189: ACESSORIO INICIADOR NAO ELETRICO, TUBO DE 6 M, TEMPO DE RETARDO DE *160* MS | C10189: UN
A10190: 1 | B10190: ACETILENO - RECARGA DE GAS PARA CILINDRO (NAO INCLUI TROCA/MANUTENCAO DO CILINDRO) | C10190: KG | D10190: 80
A10191: 3 | B10191: ACIDO CLORIDRICO / ACIDO MURIATICO, DILUICAO 10% A 12% PARA USO EM LIMPEZA | C10191: L | D10191: 21.47
A10192: 43054 | B10192: ACO CA-25, 10,0 MM, OU 12,5 MM, OU 16,0 MM, OU 20,0 MM, OU 25,0 MM, VERGALHAO | C10192: KG | D10192: 8.25
A10193: 42402 | B10193: ACO CA-25, 16,0 MM, BARRA DE TRANSFERENCIA | C10193: KG | D10193: 7.88
A10194: 42403 | B10194: ACO CA-25, 20,0 MM, BARRA DE TRANSFERENCIA | C10194: KG | D10194: 10.11
A10195: 42404 | B10195: ACO CA-25, 25,0 MM, BARRA DE TRANSFERENCIA | C10195: KG | D10195: 10.05
A10196: 42405 | B10196: ACO CA-25, 32,0 MM, BARRA DE TRANSFERENCIA | C10196: KG | D10196: 10.71
A10197: 34341 | B10197: ACO CA-25, 32,0 MM, VERGALHAO | C10197: KG | D10197: 9.3
A10198: 43053 | B10198: ACO CA-25, 6,3 MM OU 8,0 MM, VERGALHAO | C10198: KG | D10198: 7.37
A10199: 43058 | B10199: ACO CA-50, 10,0 MM, OU 12,5 MM, OU 16,0 MM, OU 20,0 MM, DOBRADO E CORTADO | C10199: KG | D10199: 7.64
A10200: 34 | B10200: ACO CA-50, 10,0 MM, VERGALHAO | C10200: KG | D10200: 7.68
A10201: 43055 | B10201: ACO CA-50, 12,5 MM OU 16,0 MM, VERGALHAO | C10201: KG | D10201: 6.65
... A10210: 43060 | B10210: ACO CA-60, 8,0 MM OU 9,5 MM, VERGALHAO | C10210: KG | D10210: 6.33
A10211: 40410 | B10211: ACOPLAMENTO RIGIDO EM FERRO FUNDIDO PARA SISTEMA DE TUBULACAO RANHURADA, DN 50 MM (2") | C10211: UN
A10212: 40411 | B10212: ACOPLAMENTO RIGIDO EM FERRO FUNDIDO PARA SISTEMA DE TUBULACAO RANHURADA, DN 65 MM (2 1/2") | C10212: UN
A10213: 40412 | B10213: ACOPLAMENTO RIGIDO EM FERRO FUNDIDO PARA SISTEMA DE TUBULACAO RANHURADA, DN 80 MM (3") | C10213: UN
A10214: 44254 | B10214: ADAPTADOR CPVC, ROSCAVEL, COM FLANGES E ANEL DE VEDACAO, 15 MM, CAIXA D'AGUA PARA AGUA QUENTE | C10214: UN | D10214: 30.45
A10215: 44255 | B10215: ADAPTADOR CPVC, ROSCAVEL, COM FLANGES E ANEL DE VEDACAO, 22 MM, CAIXA D'AGUA PARA AGUA QUENTE | C10215: UN | D10215: 33.75
A10216: 44256 | B10216: ADAPTADOR CPVC, ROSCAVEL, COM FLANGES E ANEL DE VEDACAO, 28 MM, CAIXA D'AGUA PARA AGUA QUENTE | C10216: UN | D10216: 38.12
A10217: 44257 | B10217: ADAPTADOR CPVC, ROSCAVEL, COM FLANGES E ANEL DE VEDACAO, 35 MM, CAIXA D'AGUA PARA AGUA QUENTE | C10217: UN | D10217: 60.31
A10218: 44258 | B10218: ADAPTADOR CPVC, ROSCAVEL, COM FLANGES E ANEL DE VEDACAO, 42 MM, CAIXA D'AGUA PARA AGUA QUENTE | C10218: UN | D10218: 68.92
A10219: 44259 | B10219: ADAPTADOR CPVC, ROSCAVEL, COM FLANGES E ANEL DE VEDACAO, 54 MM, CAIXA D'AGUA PARA AGUA QUENTE | C10219: UN | D10219: 94.6
A10220: 37997 | B10220: ADAPTADOR CPVC, SOLDAVEL, 15 MM, PARA AGUA QUENTE | C10220: UN | D10220: 18.14
...

Sheet SETOP
B1: SETOP OUTUBRO 2025
A2: CÓDIGO | B2: DESCRIÇÃO | C2: UNIDADE | D2: PREÇO
A3: 8663 | B3: SERVIÇOS PRELIMINARES
A4: 8702 | B4: LIMPEZA DO TERRENO
A5: ED-50701 | B5: CAPINA MANUAL DO TERRENO, EXCLUSIVE RASTELAMENTO E QUEIMA | C5: m2 | D5: 1.4
A6: ED-28163 | B6: DESTOCAMENTO E AFASTAMENTO DE REMANESCENTE ARBÓREO, INCLUSIVE TRANSPORTE COM RETIRADA DO MATERIAL DESTOCADO (EM CAÇAMBA) | C6: un | D6: 411.23
A7: ED-50703 | B7: LIMPEZA DE TERRENO, INCLUSIVE CAPINA, RASTELAMENTO COM AFASTAMENTO ATÉ VINTE (20) METROS E QUEIMA CONTROLADA | C7: m2 | D7: 2.48
A8: ED-8143 | B8: RASTELAMENTO DE ÁREA COM AFASTAMENTO DE ATÉ VINTE (20) METROS, EXCLUSIVE CAPINA OU ROÇADA MANUAL | C8: m2 | D8: 0.93
A9: ED-28162 | B9: ROÇADA MANUAL DE TERRENO COM ROÇADEIRA COSTAL, EXCLUSIVE RASTELAMENTO E QUEIMA | C9: m2 | D9: 0.28
A10: 8703 | B10: DESMATAMENTO E DESTOCAMENTO
A11: ED-50702 | B11: DESMATAMENTO, DESTOCAMENTO E LIMPEZA, INCLUSIVE TRANSPORTE ATÉ CINQUENTA (50) METROS | C11: m2 | D11: 0.56
A12: 8704 | B12: SUPRESSÃO DE ÁRVORE
A13: ED-50699 | B13: CORTE DE ÁRVORE COM MOTOSSERRA, DIÂMETRO DO TRONCO ACIMA DE TRINTA (30) CENTÍMETROS ATÉ CINQUENTA (50) CENTÍMETROS, EXCLUSIVE DESTOCAMENTO E AFASTAMENTO | C13: un | D13: 97.16
A14: ED-50697 | B14: CORTE DE ÁRVORE COM MOTOSSERRA, DIÂMETRO DO TRONCO DE QUINZE (15) CENTÍMETROS ATÉ TRINTA (30) CENTÍMETROS, EXCLUSIVE DESTOCAMENTO E AFASTAMENTO | C14: un | D14: 58.29
A15: 8706 | B15: REMOÇÃO DE TELHADO
A16: ED-48438 | B16: REMOÇÃO DE CALHA EM CHAPA GALVANIZADA OU EM PVC, COM REAPROVEITAMENTO, INCLUSIVE AFASTAMENTO E EMPILHAMENTO, EXCLUSIVE TRANSPORTE E RETIRADA DO MATERIAL REMOVIDO NÃO REAPROVEITÁVEL | C16: m | D16: 4.84
A17: ED-48446 | B17: REMOÇÃO MANUAL DE CONDUTOR EM PVC OU METÁLICO, COM REAPROVEITAMENTO, INCLUSIVE AFASTAMENTO E EMPILHAMENTO, EXCLUSIVE TRANSPORTE E RETIRADA DO MATERIAL REMOVIDO NÃO REAPROVEITÁVEL | C17: m | D17: 5.82
A18: ED-48455 | B18: REMOÇÃO MANUAL DE ENGRADAMENTO PARA TELHA TIPO CALHA ESTRUTURAL EM FIBROCIMENTO, COM REAPROVEITAMENTO, INCLUSIVE AFASTAMENTO E EMPILHAMENTO, EXCLUSIVE TRANSPORTE E RETIRADA DO MATERIAL REMOVIDO NÃO REAPROVEITÁVEL | C18: m2 | D18: 11.64
A19: ED-48457 | B19: REMOÇÃO MANUAL DE ENGRADAMENTO PARA TELHA TIPO CERÂMICA OU CONCRETO, INCLUSIVE AFASTAMENTO E EMPILHAMENTO, EXCLUSIVE TRANSPORTE E RETIRADA DO MATERIAL REMOVIDO NÃO REAPROVEITÁVEL | C19: m2 | D19: 23.29
A20: ED-48454 | B20: REMOÇÃO MANUAL DE ENGRADAMENTO PARA TELHA TIPO METÁLICA, PVC OU FIBROCIMENTO, COM REAPROVEITAMENTO, INCLUSIVE AFASTAMENTO E EMPILHAMENTO, EXCLUSIVE TRANSPORTE E RETIRADA DO MATERIAL REMOVIDO NÃO REAPROVEITÁVEL | C20: m2 | D20: 15.53
A21: ED-48506 | B21: REMOÇÃO MANUAL DE RUFO METÁLICO, COM REAPROVEITAMENTO, INCLUSIVE AFASTAMENTO E EMPILHAMENTO, EXCLUSIVE TRANSPORTE E RETIRADA DO MATERIAL REMOVIDO NÃO REAPROVEITÁVEL | C21: m | D21: 7.11
A22: ED-48512 | B22: REMOÇÃO MANUAL DE TELHA EM FIBROCIMENTO, TIPO ONDULADA, COM REAPROVEITAMENTO, INCLUSIVE AFASTAMENTO E EMPILHAMENTO, EXCLUSIVE TRANSPORTE E RETIRADA DO MATERIAL REMOVIDO NÃO REAPROVEITÁVEL | C22: m2 | D22: 13.31
