Workbook

Sheet PLANILHA ORÇAMENTÁRIA
A2: PLANILHA ORÇAMENTÁRIA DE CUSTOS
A3: =CRONOGRAMA!A3 -> PREFEITURA MUNICIPAL DE ITAPEVA M.G. | H3: FOLHA N°: 01/01
A4: PAVIMENTAÇÃO ASFÁLTICA SOBRE SOLO | H4: DATA:16/08/2025
A5: LOCAL: RUA PROJETADA ( RUA DA ESCOLA MUNICIPAL EDILAMAR)
A6: REGIÃO / MÊS / REFERÊNCIA:-SINAPI JUNHO 2.025 ( LANÇADA EM JULHO 2.025 ) | G6: DIRETA | H6: ( X ) INDIRETA
A7: COMPOSIÇÃO/DEMONSTRATIVO DE BDI - EM ANEXO - ISS MUNICIPAL 2,00% | H7: BDI (%) | I7: 0.196
A9: ITEM | B9: FONTE | C9: CÓDIGO | D9: DESCRIÇÃO | E9: UNID. | F9: QTDADE | G9: PREÇO UNITÁRIO S/ BDI | H9: PREÇO UNIT. COM BDI | I9: TOTAL COM BDI
A10: 1 | D10: SERVIÇOS PRELIMINARES
A11: 1.1 | B11: SINAPI | C11: 103689 | D11: =[1]ORÇAMENTO!$R$20 -> FORNECIMENTO E INSTALAÇÃO DE PLACA DE OBRA COM CHAPA GALVANIZADA E ESTRUTURA DE MADEIRA. AF_03/2022_PS | E11: M2 | F11: =ROUNDUP(3*1.5,2) -> 4.5 | G11: 506.22 | H11: =ROUNDUP(G11*(1+$I$7),2) -> 605.44 | I11: =ROUND(F11*H11,2) -> 2724.48
D12: TOTAL DE ITEM 1: | I12: =SUBTOTAL(9,I11:I11) -> 2724.48
A14: 2 | D14: EXECUÇÃO DE BASE
A15: 2.1 | B15: SINAPI | C15: 105727 | D15: =[1]ORÇAMENTO!$R$35 -> CONSTRUÇÃO DE BASE E SUB-BASE PARA PAVIMENTAÇÃO DE BRITA GRADUADA SIMPLES, COM ESPESSURA DE 10 CM - EXCLUSIVE CARGA E TRANSPORTE. AF_09/2024 | E15: M3 | F15: =ROUNDUP(65*7.4*0.1,2) -> 48.1 | G15: 224.96 | H15: =ROUNDUP(G15*(1+$I$7),2) -> 269.06 | I15: =ROUND(F15*H15,2) -> 12941.79
A16: 2.2 | B16: SINAPI | C16: 100975 | D16: =[1]ORÇAMENTO!$R$36 -> CARGA, MANOBRA E DESCARGA DE SOLOS E MATERIAIS GRANULARES EM CAMINHÃO BASCULANTE 10 M³ - CARGA COM ESCAVADEIRA HIDRÁULICA (CAÇAMBA DE 1,20 M³ / 155 HP) E DESCARGA LIVRE (UNIDADE: T). AF_07/2020 | E16: TON | F16: =ROUNDUP(F15*1.6,2) -> 76.96 | G16: 4.74 | H16: =ROUNDUP(G16*(1+$I$7),2) -> 5.67 | I16: =ROUND(F16*H16,2) -> 436.36
A17: 2.3 | B17: SINAPI | C17: 95879 | D17: =[1]ORÇAMENTO!$R$37 -> TRANSPORTE COM CAMINHÃO BASCULANTE DE 14 M³, EM VIA URBANA PAVIMENTADA, DMT ATÉ 30 KM (UNIDADE: TXKM). AF_07/2020 | E17: TXKM | F17: =ROUNDUP(76.96*30,2) -> 2308.8 | G17: 1.46 | H17: =ROUNDUP(G17*(1+$I$7),2) -> 1.75 | I17: =ROUND(F17*H17,2) -> 4040.4
A18: 2.4 | B18: SINAPI | C18: 93599 | D18: =[1]ORÇAMENTO!$R$38 -> TRANSPORTE COM CAMINHÃO BASCULANTE DE 14 M³, EM VIA URBANA PAVIMENTADA, ADICIONAL PARA DMT EXCEDENTE A 30 KM (UNIDADE: TXKM). AF_07/2020 | E18: TXKM | F18: =ROUNDUP(76.96*8.87,2) -> 682.64 | G18: 0.58 | H18: =ROUNDUP(G18*(1+$I$7),2) -> 0.7 | I18: =ROUND(F18*H18,2) -> 477.85
D19: TOTAL DE ITEM 2: | I19: =I15+I16+I17+I18 -> 17896.4
A21: 3 | D21: DRENAGEM SUPERFICIAL
A22: 3.1 | B22: SINAPI | C22: 94267 | D22: GUIA (MEIO-FIO) E SARJETA CONJUGADOS DE CONCRETO, MOLDADA IN LOCO EM TRECHO RETO COM EXTRUSORA, 45 CM BASE (15 CM BASE DA GUIA + 30 CM BASE DA SARJETA) X 22 CM ALTURA. AF_06/2016 | E22: M | F22: =ROUNDUP(65*2,2) -> 130 | G22: 60.69 | H22: =ROUNDUP(G22*(1+$I$7),2) -> 72.59 | I22: =F22*H22 -> 9436.7
D23: TOTAL DE ITEM 2: | I23: =I22 -> 9436.7
A25: 4 | D25: PAVIMENTAÇÃO ASFÁLTICA CBUQ
A26: 4.1 | B26: composição | C26: SINAPI + ANP | D26: Pintura de ligação (Execução e fornecimento do material betuminoso, exclusive transporte do material betuminoso) | E26: M2 | F26: =ROUNDUP(65*7.4,2) -> 481 | G26: =1.77 -> 1.77 | H26: =ROUNDUP(G26*(1+$I$7),2) -> 2.12 | I26: =ROUND(F26*H26,2) -> 1019.72
A27: 4.2 | B27: SINAPI | C27: 102332 | D27: =[1]ORÇAMENTO!$R$44 -> TRANSPORTE COM CAMINHÃO TANQUE DE TRANSPORTE DE MATERIAL ASFÁLTICO DE 20000 L, EM VIA URBANA PAVIMENTADA, DMT ATÉ 30KM (UNIDADE: TXKM). AF_07/2020 | E27: TXKM | F27: =ROUNDUP(F26*0.0005*30,2) -> 7.22 | G27: 1.84 | H27: =ROUNDUP(G27*(1+$I$7),2) -> 2.21 | I27: =F27*H27 -> 15.9562
A28: 4.3 | B28: SINAPI | C28: 102333 | D28: =[1]ORÇAMENTO!$R$45 -> TRANSPORTE COM CAMINHÃO TANQUE DE TRANSPORTE DE MATERIAL ASFÁLTICO DE 20000 L, EM VIA URBANA PAVIMENTADA, ADICIONAL PARA DMT EXCEDENTE A 30 KM (UNIDADE: TXKM). AF_07/2020 | E28: TXKM | F28: =ROUNDUP(F26*0.0005*8.87,2) -> 2.14 | G28: 0.73 | H28: =ROUNDUP(G28*(1+$I$7),2) -> 0.88 | I28: =F28*H28 -> 1.8832
A29: 4.4 | B29: SINAPI | C29: 95995 | D29: =[1]ORÇAMENTO!$R$46 -> EXECUÇÃO DE PAVIMENTO COM APLICAÇÃO DE CONCRETO ASFÁLTICO, CAMADA DE ROLAMENTO - EXCLUSIVE CARGA E TRANSPORTE. AF_11/2019 | E29: M3 | F29: =ROUNDUP(F26*0.04,2) -> 19.24 | G29: 1981.63 | H29: =ROUNDUP(G29*(1+$I$7),2) -> 2370.03 | I29: =F29*H29 -> 45599.377
A30: 4.5 | B30: SICRO | C30: 5914649 | D30: CARGA, MANOBRA E DESCARGA DE MISTURA BETUMINOSA A QUENTE EM CAMINHÃO BASCULANTE. CARGA EM USINA DE ASFALTO, DESCARGA EM VIBROACABADORA | E30: TON | F30: =ROUNDUP(F29*2.4,2) -> 46.18 | G30: 7.69 | H30: =ROUNDUP(G30*(1+$I$7),2) -> 9.2 | I30: =F30*H30 -> 424.856
A31: 4.6 | B31: SINAPI | C31: 95879 | D31: =[1]ORÇAMENTO!$R$48 -> TRANSPORTE COM CAMINHÃO BASCULANTE DE 14 M³, EM VIA URBANA PAVIMENTADA, DMT ATÉ 30 KM (UNIDADE: TXKM). AF_07/2020 | E31: TXKM | F31: =ROUNDUP(1385.4,2) -> 1385.4 | G31: =G17 -> 1.46 | H31: =ROUNDUP(G31*(1+$I$7),2) -> 1.75 | I31: =F31*H31 -> 2424.45
A32: 4.7 | B32: SINAPI | C32: 93599 | D32: =[1]ORÇAMENTO!$R$49 -> TRANSPORTE COM CAMINHÃO BASCULANTE DE 14 M³, EM VIA URBANA PAVIMENTADA, ADICIONAL PARA DMT EXCEDENTE A 30 KM (UNIDADE: TXKM). AF_07/2020 | E32: TXKM | F32: 459.03 | G32: =G18 -> 0.58 | H32: =ROUNDUP(G32*(1+$I$7),2) -> 0.7 | I32: =F32*H32 -> 321.321
D33: TOTAL DE ITEM 4: | I33: =I26+I27+I28+I29+I30+I31+I32 -> 49807.564
A35: 5 | D35: URBANIZAÇÃO ( CALÇADA E RAMPA DE ACESSIBILIDADE )
A36: 5.1 | B36: SINAPI | C36: 94991 | D36: =[1]ORÇAMENTO!$R$51 -> EXECUÇÃO DE PASSEIO (CALÇADA) OU PISO DE CONCRETO COM CONCRETO MOLDADO IN LOCO, USINADO C20, ACABAMENTO CONVENCIONAL, NÃO ARMADO. AF_08/2022 | E36: M3 | F36: =ROUNDUP(65*1.4*0.05*2,2) -> 9.1 | G36: 762.86 | H36: =ROUNDUP(G36*(1+$I$7),2) -> 912.39 | I36: =ROUND(F36*H36,2) -> 8302.75
A37: 5.2 | B37: SINAPI | C37: 105004 | D37: =[1]ORÇAMENTO!$R$52 -> RAMPA DE ACESSIBILIDADE EM CONCRETO MOLDADO IN LOCO, EM CALÇADA NOVA COM LARGURA MENOR À 3,00 M, FCK 25MPA, COM PISO PODOTÁTIL. AF_03/2024 | E37: M2 | F37: =ROUNDUP(4.8*1.4*4,2) -> 26.88 | G37: 131.33 | H37: =ROUNDUP(G37*(1+$I$7),2) -> 157.08 | I37: =F37*H37 -> 4222.3104
D38: TOTAL DE ITEM 5: | I38: =I36+I37 -> 12525.06
A40: 6 | D40: SINALIZAÇÃO HORIZONTAL / VERTICAL
A41: 6.1 | B41: SINAPI | C41: 102512 | D41: =[1]ORÇAMENTO!$R$55 -> PINTURA DE EIXO VIÁRIO SOBRE ASFALTO COM TINTA RETRORREFLETIVA A BASE DE RESINA ACRÍLICA COM MICROESFERAS DE VIDRO, E = 10 CM, APLICAÇÃO MECÂNICA COM DEMARCADORA AUTOPROPELIDA. AF_05/2021 | E41: M | F41: 32.6 | G41: 6.8 | H41: =ROUNDUP(G41*(1+$I$7),2) -> 8.14 | I41: =F41*H41 -> 265.364
A42: 6.2 | B42: SINAPI | C42: 102509 | D42: =[1]ORÇAMENTO!$R$56 -> PINTURA DE FAIXA DE PEDESTRE OU ZEBRADA TINTA RETRORREFLETIVA A BASE DE RESINA ACRÍLICA COM MICROESFERAS DE VIDRO, E = 30 CM, APLICAÇÃO MANUAL. AF_05/2021 | E42: M2 | F42: =ROUNDUP(2*7*0.3*4,2) -> 16.8 | G42: 16.8 | H42: =ROUNDUP(G42*(1+$I$7),2) -> 20.1 | I42: =F42*H42 -> 337.68
A43: 6.3 | B43: SICRO | C43: 5213440 | D43: =[1]ORÇAMENTO!$R$57 -> Placa de regulamentação em aço D = 0,60 m - película retrorrefletiva tipo I + SI - fornecimento e implantação | E43: UN | F43: 2 | G43: 271.88 | H43: =ROUNDUP(G43*(1+$I$7),2) -> 325.17 | I43: =F43*H43 -> 650.34
A44: 6.4 | B44: SICRO | C44: 5213464 | D44: =[1]ORÇAMENTO!$R$58 -> Placa de advertência em aço, lado de 0,60 m - película retrorrefletiva tipo I + SI - fornecimento e implantação | E44: UN | F44: 4 | G44: 271.91 | H44: =ROUNDUP(G44*(1+$I$7),2) -> 325.21 | I44: =F44*H44 -> 1300.84
A45: 6.5 | B45: SINAPI | C45: 103696 | D45: =[1]ORÇAMENTO!$R$59 -> FORNECIMENTO E INSTALAÇÃO DE SUPORTE DE MADEIRA PARA PLACAS DE SINALIZAÇÃO EM CONCRETO, COM H= DE 2,5 M E SEÇÃO DE 7,5 X 7,5 CM. AF_03/2022 | E45: UN | F45: =F43+F44 -> 6 | G45: 147.74 | H45: =ROUNDUP(G45*(1+$I$7),2) -> 176.7 | I45: =F45*H45 -> 1060.2
D46: TOTAL DE ITEM 6: | I46: =SUM(I41:I45) -> 3614.424
D48: TOTAL GERAL DA PLANILHA
...

Sheet CRONOGRAMA
A2: CRONOGRAMA FÍSICO-FINANCEIRO
A3: PREFEITURA MUNICIPAL DE ITAPEVA M.G. | C3: VALOR DA OBRA: | D3: ='PLANILHA ORÇAMENTÁRIA'!I49 -> 96004.628 | E3: DATA: | G3: 45521 | H3: FOLHA Nº: 01/01
A4: OBRA: PAVIMENTAÇÃO CBUQ SOBRE SOLO | E4: PREVISÃO DE EXECUÇÃO DAS OBRAS: 01 MÊS
A5: LOCAL: : RUA DA ESCOLA
A6: ITENS | B6: ETAPAS/DESCRIÇÃO | C6: FÍSICO/ FINANCEIRO | D6: TOTAL ETAPAS | E6: MÊS 1 | F6: MÊS 2 | G6: MÊS 3 | H6: MÊS 4 | I6: MÊS 5
A7: 1.0 | B7: ='PLANILHA ORÇAMENTÁRIA'!D10 -> SERVIÇOS PRELIMINARES | C7: Físico % | D7: =D8/D20 -> 0.028378632 | E7: 1
C8: Financeiro | D8: ='PLANILHA ORÇAMENTÁRIA'!I12 -> 2724.48 | E8: =E7*D8 -> 2724.48
A9: 2.0 | B9: ='PLANILHA ORÇAMENTÁRIA'!D14 -> EXECUÇÃO DE BASE | C9: Físico % | D9: =D10/D20 -> 0.18641185 | E9: 1
C10: Financeiro | D10: ='PLANILHA ORÇAMENTÁRIA'!I19 -> 17896.4 | E10: =D10*E9 -> 17896.4
A11: 3.0 | B11: ='PLANILHA ORÇAMENTÁRIA'!D21 -> DRENAGEM SUPERFICIAL | C11: Físico % | D11: =D12/D20 -> 0.09829422 | E11: 1
C12: Financeiro | D12: ='PLANILHA ORÇAMENTÁRIA'!I23 -> 9436.7 | E12: =E11*D12 -> 9436.7
A13: 4.0 | B13: ='PLANILHA ORÇAMENTÁRIA'!D25 -> PAVIMENTAÇÃO ASFÁLTICA CBUQ | C13: Físico % | D13: =D14/D20 -> 0.51880378 | E13: 1
C14: Financeiro | D14: ='PLANILHA ORÇAMENTÁRIA'!I33 -> 49807.564 | E14: =E13*D14 -> 49807.564
A15: 5.0 | B15: ='PLANILHA ORÇAMENTÁRIA'!D35 -> URBANIZAÇÃO ( CALÇADA E RAMPA DE ACESSIBILIDADE ) | C15: Físico % | D15: =D16/D20 -> 0.13046309 | E15: 1
C16: Financeiro | D16: ='PLANILHA ORÇAMENTÁRIA'!I38 -> 12525.06 | E16: =E15*D16 -> 12525.06
A17: 6.0 | B17: ='PLANILHA ORÇAMENTÁRIA'!D40 -> SINALIZAÇÃO HORIZONTAL / VERTICAL | C17: Físico % | D17: =D18/D20 -> 0.037648435 | E17: 1
C18: Financeiro | D18: ='PLANILHA ORÇAMENTÁRIA'!I46 -> 3614.424 | E18: =E17*D18 -> 3614.424
A19: TOTAL | C19: Físico % | D19: =D7+D9+D11+D13+D15+D17 -> 1 | E19: 1
C20: Financeiro | D20: =D8+D10+D12+D14+D16+D18 -> 96004.628 | E20: =E8+E10+E12+E14+E16+E18 -> 96004.628
G21: Observações:
B23: ='PLANILHA ORÇAMENTÁRIA'!D51 -> CASSIA MARIA BARBOSA EKLUND ALENCAR
B24: Engenheira Civil
B25: ='PLANILHA ORÇAMENTÁRIA'!D53 -> CREA/MG: 75656//D
B28: {='PLANILHA ORÇAMENTÁRIA'!F51:H51} -> DANIEL PEREIRA DO COUTO | C28: 0 | D28: 0
B29: Prefeito Municipal

Sheet MEMÓRIA DE CÁLCULO
A1: MEMÓRIA DE CÁLCULO DE QUANTITATIVOS
A2: =[2]CRONOGRAMA!A2 -> CRONOGRAMA FÍSICO-FINANCEIRO
A3: OBRA: PAVIMENTAÇÃO EM ASFALTO, CBUQ SOBRE SOLO | F3: FOLHA Nº: | G3: 01/01.
A4: LOCAL: RUA DA ESCOLA | F4: DATA: | G4: 45463
A6: 1.0 | C6: SERVIÇOS PRELIMINARES
A7: ITEM | B7: CÓDIGO | C7: DESCRIÇÃO | D7: UNIDADE | E7: QUANTIDADE | F7: FÓRMULA DO CÁLCULO
A8: 1.2 | C8: ='PLANILHA ORÇAMENTÁRIA'!D11 -> FORNECIMENTO E INSTALAÇÃO DE PLACA DE OBRA COM CHAPA GALVANIZADA E ESTRUTURA DE MADEIRA. AF_03/2022_PS | D8: ='[2]PLANILHA ORÇAMENTÁRIA'!E11 -> UN | E8: ='PLANILHA ORÇAMENTÁRIA'!F11 -> 4.5 | F8: 3,00 X1,50
A10: 2.0 | C10: EXECUÇÃO DE BASE
A11: ITEM | B11: CÓDIGO | C11: DESCRIÇÃO | D11: UNIDADE | E11: SEPARAÇÃO | F11: FÓRMULA DO CÁLCULO
A12: 2.1 | B12: ='[2]PLANILHA ORÇAMENTÁRIA'!C15 -> 0 | C12: ='PLANILHA ORÇAMENTÁRIA'!D15 -> CONSTRUÇÃO DE BASE E SUB-BASE PARA PAVIMENTAÇÃO DE BRITA GRADUADA SIMPLES, COM ESPESSURA DE 10 CM - EXCLUSIVE CARGA E TRANSPORTE. AF_09/2024 | D12: M2 | E12: BASE DE BRITA | F12: COMPRIMENTO | G12: LARGURA c/ SARJETA | H12: ÁREA | I12: VOLUME
F13: (m) | G13: (m) | H13: (m²) | I13: (m³)
E14: RUA DA ESCOLA | F14: 65 | G14: 7.4 | H14: =F14*G14 -> 481 | I14: =H14*0.1 -> 48.1
E15: TOTAL | I15: =I14 -> 48.1
A17: 2.2 | B17: ='[2]PLANILHA ORÇAMENTÁRIA'!C16 -> RO-00269 | C17: ='PLANILHA ORÇAMENTÁRIA'!D16 -> CARGA, MANOBRA E DESCARGA DE SOLOS E MATERIAIS GRANULARES EM CAMINHÃO BASCULANTE 10 M³ - CARGA COM ESCAVADEIRA HIDRÁULICA (CAÇAMBA DE 1,20 M³ / 155 HP) E DESCARGA LIVRE (UNIDADE: T). AF_07/2020 | D17: TON | E17: BASE | F17: VOLUME X PESO DO MATERIAL
F18: VOLME | G18: PESO | H18: PESO TOTAL
F19: (m3) | G19: TN | H19: TN
F20: =I15 -> 48.1 | G20: 1.6 | H20: =F20*G20 -> 76.96
A22: 2.3 | B22: ='[2]PLANILHA ORÇAMENTÁRIA'!C17 -> RO-00345 | C22: ='PLANILHA ORÇAMENTÁRIA'!D17 -> TRANSPORTE COM CAMINHÃO BASCULANTE DE 14 M³, EM VIA URBANA PAVIMENTADA, DMT ATÉ 30 KM (UNIDADE: TXKM). AF_07/2020 | D22: TON X KM | E22: BASE | F22: PESO X DISTÂNCIA A MINERADORA
F23: PESO | G23: DISTÂNCIA | H23: TRANSP.
F24: TON | G24: (Km) | H24: (TONxkm)
F25: =H20 -> 76.96 | G25: 30 | H25: =F25*G25 -> 2308.8
F26: TOTAL | H26: =H25 -> 2308.8
A29: 2.4 | B29: RO-51229 | C29: ='PLANILHA ORÇAMENTÁRIA'!D18 -> TRANSPORTE COM CAMINHÃO BASCULANTE DE 14 M³, EM VIA URBANA PAVIMENTADA, ADICIONAL PARA DMT EXCEDENTE A 30 KM (UNIDADE: TXKM). AF_07/2020 | D29: TON X KM | E29: BASE | F29: PESO | G29: DISTÂNCIA | H29: TRANSP.
F30: TON | G30: (Km) | H30: (TONxkm)
F31: =H20 -> 76.96 | G31: 8.87 | H31: =F31*G31 -> 682.6352
D32: TOTAL | H32: =SUM(H31:I31) -> 682.6352
A34: 3.0 | C34: DRENAGEM SUPERFICIAL
A35: 3.1 | C35: ='PLANILHA ORÇAMENTÁRIA'!D22 -> GUIA (MEIO-FIO) E SARJETA CONJUGADOS DE CONCRETO, MOLDADA IN LOCO EM TRECHO RETO COM EXTRUSORA, 45 CM BASE (15 CM BASE DA GUIA + 30 CM BASE DA SARJETA) X 22 CM ALTURA. AF_06/2016 | D35: M | F35: COMPRIMENTO (m ) | G35: QUANT. DE LADOS | H35: ( M )
B36: CÓDIGO | F36: 65 | G36: 2 | H36: =F36*G36 -> 130
F37: TOTAL | H37: =H36 -> 130
A39: 4.0 | C39: PAVIMENTAÇÃO ASFÁLTICA
A40: 4.1 | B40: RO-41376 | C40: ='PLANILHA ORÇAMENTÁRIA'!D26 -> Pintura de ligação (Execução e fornecimento do material betuminoso, exclusive transporte do material betuminoso) | D40: M2 | E40: CBUQ SOBRE SOLO
F41: COMPRIMENTO | G41: LARGURA
F42: M | G42: M | H42: M2
F43: 65 | G43: 7.4 | H43: =F43*G43 -> 481
A46: 4.2 | B46: ED-7623 | C46: ='PLANILHA ORÇAMENTÁRIA'!D27 -> TRANSPORTE COM CAMINHÃO TANQUE DE TRANSPORTE DE MATERIAL ASFÁLTICO DE 20000 L, EM VIA URBANA PAVIMENTADA, DMT ATÉ 30KM (UNIDADE: TXKM). AF_07/2020 | D46: TON X KM | E46: CBUQ SOBRE SOLO | F46: ÁREA DE PAVIMENTAÇÃO X 0,0005TN * 30KM
F47: AREA | G47: PESO
F48: (m2) | G48: TON | H48: TON *KM
F49: =H43 -> 481 | G49: =F49*0.0005 -> 0.2405 | H49: =G49*30 -> 7.215
E50: TOTAL | H50: =H49 -> 7.215
...
