Workbook
Name ___sub1: #REF!
Name ___sub2: #REF!
Name ___sub3: #REF!
Name _sub1: #REF!
Name _sub2: #REF!
Name _sub3: #REF!
Name a: #REF!
Name AREA: #REF!
Name B: #REF!
Name BDI: #REF!
Name DOLAR: [1]INSUMOS!$G$8
Name ersdcefgbrnghrbgbrgfbgfwbvbfgvwfv: #REF!
Name Excel_BuiltIn_Print_Area_2: #REF!
Name Excel_BuiltIn_Print_Area_2_1: #REF!
Name Excel_BuiltIn_Print_Area_2_1_1: #REF!
Name Excel_BuiltIn_Print_Area_2_1_1_1: #REF!
Name Excel_BuiltIn_Print_Area_4: #REF!
Name leosde: #REF!
Name NCOMPOSICOES: 7
Name NCOTACOES: 15
Name obra: #REF!
Name obra1: #REF!
Name obra2: #REF!
Name obra3: #REF!
Name obra4: #REF!
Name obra5: #REF!
Name P.1: #REF!
Name P.10: #REF!
Name P.11: #REF!
Name P.12: #REF!
Name P.13: #REF!
Name P.14: #REF!
Name P.15: #REF!
Name P.2: #REF!
Name P.3: #REF!
Name P.4: #REF!
Name P.5: #REF!
Name P.6: #REF!
Name P.7: #REF!
Name P.8: #REF!
Name P.9: #REF!
Name Pedreiro_de_acabamento: [1]INSUMOS!$B$11
Name PP1.1: #REF!
Name PP1.10: #REF!
Name PP1.11: #REF!
Name PP1.12: #REF!
Name PP1.13: #REF!
Name PP1.14: #REF!
Name PP1.15: #REF!
Name PP1.2: #REF!
Name PP1.3: #REF!
Name PP1.4: #REF!
Name PP1.5: #REF!
Name PP1.6: #REF!
Name PP1.7: #REF!
Name PP1.8: #REF!
Name PP1.9: #REF!
Name T.1: #REF!
Name T.10: #REF!
Name T.11: #REF!

Sheet BDI
A1: DEMONSTRATIVO DO BDI - SEM DESONERAÇÃO - OBRA RODOVIÁRIA
A3: BDI (CONFORME ACÓRDÃO Nº 2622/13 e LEI Nº 13.161 DE 31/08/15)
A4: DISCRIMINAÇÃO DAS PARCELAS | B4: SIG. (1) | C4: CONSTRUÇÃO DE RODOVIAS E FERROVIAS | J4: INC. (6)
C5: ISS (2) | G5: DIFERENCIADO
C6: 0.02 | D6: 0.03 | E6: 0.04 | F6: 0.05 | G6: MATERIAL (5) | H6: SERVIÇO TERCEIRIZADO (4) (ISS=5%) | I6: EQUIPAMENTO (3) (ISS=5%)
A7: CUSTO DIRETO | B7: CD | C7: 1 | D7: 1 | E7: 1 | F7: 1 | G7: 1 | H7: 1 | I7: 1
A8: ADMINISTRAÇÃO CENTRAL | B8: AC | C8: 0.0467 | D8: 0.0467 | E8: 0.0467 | F8: 0.0467 | G8: 0.0342 | H8: 0.0401 | I8: 0.0342 | J8: CD
A9: LUCRO BRUTO | B9: L | C9: 0.0753 | D9: 0.0753 | E9: 0.0753 | F9: 0.0753 | G9: 0.0494 | H9: 0.0664 | I9: 0.0494 | J9: CD
A10: DESPESAS FINANCEIRAS | B10: DF | C10: 0.010477 | D10: 0.010477 | E10: 0.010477 | F10: 0.010477 | G10: 0.010477 | H10: 0.010477 | I10: 0.010477 | J10: CD
A11: SEGUROS, GARANTIAS E RISCO | C11: 0.0171 | D11: 0.0171 | E11: 0.0171 | F11: 0.0171 | G11: 0.0129 | H11: 0.0082 | I11: 0.0129 | J11: CD
A12: SEGUROS + GARANTIAS | B12: S | C12: 0.0074 | D12: 0.0074 | E12: 0.0074 | F12: 0.0074 | G12: 0.0053 | H12: 0.0032 | I12: 0.0053 | J12: CD
A13: RISCO(*) | B13: R | C13: 0.0097 | D13: 0.0097 | E13: 0.0097 | F13: 0.0097 | G13: 0.0076 | H13: 0.005 | I13: 0.0076 | J13: CD
A14: TRIBUTOS | B14: I | C14: 0.0505 | D14: 0.0575 | E14: 0.0645 | F14: 0.0715 | G14: 0.0365 | H14: 0.0615 | I14: 0.0615 | J14: PV
A15: ISS | B15: ISS(2) | C15: 0.014 | D15: 0.021 | E15: 0.028 | F15: 0.035 | G15: - | H15: 0.025 | I15: 0.025 | J15: PV
A16: PIS | B16: PIS | C16: 0.0065 | D16: 0.0065 | E16: 0.0065 | F16: 0.0065 | G16: 0.0065 | H16: 0.0065 | I16: 0.0065 | J16: PV
A17: COFINS | B17: - | C17: 0.03 | D17: 0.03 | E17: 0.03 | F17: 0.03 | G17: 0.03 | H17: 0.03 | I17: 0.03 | J17: PV
A18: CPRB (7) | B18: INSS | C18: 0 | D18: 0 | E18: 0 | F18: 0 | G18: 0 | H18: 0 | I18: 0 | J18: PV
A20: FÓRMULA DO BDI | C20: (1 + (AC + S + G + R)) x (1 + DF) x (1 + L)
C21: (1 - (I + CPRB))
A22: BDI (NUMERADOR) | C22: 0.15588882 | D22: 0.15588882 | E22: 0.15588882 | F22: 0.15588882 | G22: 0.11033915 | H22: 0.12961943 | I22: 0.11033915
A23: BDI (DENOMINADOR) | C23: 0.9495 | D23: 0.9425 | E23: 0.9355 | F23: 0.9285 | G23: 0.9635 | H23: 0.9385 | I23: 0.9385
A24: BDI | C24: 0.2173658 | D24: 0.22640724 | E24: 0.23558399 | F24: 0.24489911 | G24: 0.15240181 | H24: 0.20364351 | I24: 0.18309978
A26: OBSERVAÇÕES
A27: (1) SIGLA. (2) INCIDÊNCIA DE ISS EM 70% DO PREÇO DE VENDA, COM PERCENTUAIS DE 2%, 3%, 4% E 5%. (3) BDI DIFERENCIADO A SER APLICADO EM LOCAÇÃO DE CUSTO HORÁRIO DE EQUIPAMENTO. (4) BDI DIFERENCIADO A SER APLICADO PARA SERVIÇOS TERCEIRIZADOS. (5) BDI DIFERENCIADO A SER APLICADO PARA FORNECIMENTO DE MATERIAL BETUMINOSO E MATERIAL DE JAZIDA. (6) INCIDÊNCIA. (7) TRANSIÇÃO DESONERAÇÃO LEI Nº 14.973, DE 16 DE SETEMBRO DE 2024.
A28: *Informamos que está em análise o pleito apresentado pelo Ofício nº 042/24-S, do Sindicato da Indústria da Construção Pesada de Minas Gerais (SICEPOT-MG), referente ao posicionamento do colegiado da Segunda Turma do Superior Tribunal de Justiça (STJ), no AREsp nº 2.486.358/SP, relatado pelo Ministro Herman Benjamin, julgado em 13/05/2024, com publicação no DJe de 29/05/2024, que versa sobre a aplicação da dedução na base de cálculo do Imposto Sobre Serviços de Qualquer Natureza (ISSQN).

Sheet Planilha Orcamentária - COMPRAS
A2: PLANILHA ORÇAMENTÁRIA DE CUSTOS
A3: PREFEITURA MUNICIPAL DE CAMPANHA-MG | F3: FOLHA N º: | H3: 01/01.
A4: OBRA: RECAPEAMENTO ASFÁLTICO EM CBUQ | F4: DATA: | H4: =TODAY() -> 46212
A5: LOCAL: RUA ALEXANDRE STOCKLER - CENTRO; AV. DOM PEDRO II - MANDÚ; RUA ALMERINDA FERREIRA - CENTRO E RUA THOMAZ DE AQUINO ARAÚJO - CENTRO; CAMPANHA - MG | F5: FORMA DE EXECUÇÃO:
A6: REGIÃO/MÊS DE REFERÊNCIA: SICRO/SEINFRA - REGIÃO SUL - JULHO/2025 - SEM DESONERAÇÃO; SICRO NOVO 07/2025 SEM DESONERAÇÃO; SINAPI MG 09/2025 - NÃO DESONERADO | F6: ( ) | G6: DIRETA | H6: ( X ) | I6: INDIRETA
A7: COMPOSIÇÃO/DEMONSTRATIVO DE BDI - EM ANEXO | F7: % ISS MUNICIPAL: | G7: 0.03 | H7: BDI: | I7: 0.2264
H8: BDI DIFERENCIADO: (P/ MATERIAL) | I8: 0.1524
A10: ITEM | B10: FONTE | C10: CÓDIGO | D10: DESCRIÇÃO | E10: UNIDADE | F10: QUANTIDADE | G10: PREÇO UNITÁRIO S/ BDI | H10: PREÇO UNITÁRIO C/ BDI | I10: PREÇO TOTAL
A11: 1.0 | D11: SERVIÇOS PRELIMINARES | H11: =ROUND(G11+(G11*$I$7),2) -> 0 | I11: =ROUND(I12+I13,2) -> 5004.37
A12: 1.1 | B12: SICOR/ SEINFRA | C12: ED-28427 | D12: FORNECIMENTO E COLOCAÇÃO DE PLACA DE OBRA EM CHAPA GALVANIZADA #26, ESP. 0,45MM, DIMENSÃO (3X1,5)M, PLOTADA COM ADESIVO VINÍLICO, AFIXADA COM REBITES 4,8X40MM, EM ESTRUTURA METÁLICA DE METALON 20X20MM, ESP. 1,25MM, INCLUSIVE SUPORTE EM EUCALIPTO AUTOCLAVADO PINTADO COM TINTA PVA DUAS (2) DEMÃOS | E12: UN | F12: 1 | G12: 1156.55 | H12: =ROUND(G12+(G12*$I$7),2) -> 1418.39 | I12: =(F12*H12) -> 1418.39
A13: 1.2 | B13: SICOR/ SEINFRA | C13: ED-50393 | D13: MOBILIZAÇÃO E DESMOBILIZAÇÃO DE OBRA EM CENTRO URBANO OU REGIÃO LIMÍTROFE COM VALOR ENTRE 1.000.000,01 E 3.000.000,00 | E13: VB | F13: 1 | G13: 3585.9802 | H13: 3585.9802 | I13: =ROUND((1*H13),2) -> 3585.98
A15: 2.0 | D15: TERRAPLENAGEM | H15: =ROUND(G15+(G15*$I$7),2) -> 0 | I15: =SUM(I16:I19) -> 0
A16: 2.1 | B16: SICRO/DNIT | C16: 4011209 | D16: REGULARIZAÇÃO DO SUBLEITO | E16: m2 | F16: 0 | G16: 14.17 | H16: =ROUND(G16+(G16*$I$7),2) -> 17.38 | I16: =(F16*H16) -> 0
A17: 2.2 | B17: SICRO/DNIT | C17: 4011219 | D17: BASE DE SOLO ESTABILIZADO GRANULOMETRICAMENTE SEM MISTURA COM MATERIAL DE JAZIDA | E17: m3 | F17: 0 | G17: 39.52 | H17: =ROUND(G17+(G17*$I$7),2) -> 48.47 | I17: =(F17*H17) -> 0
A18: 2.3 | D18: AQUISIÇÃO DE MATERIAL DE JAZIDA PARA BASE - CASCALHO | E18: m3 | F18: 0 | G18: 4.2 | H18: =ROUND(G18+(G18*$I$7),2) -> 5.15 | I18: =(F18*H18) -> 0
A19: 2.4 | B19: SICRO/DNIT | C19: 5915321 | D19: TRANSPORTE COM CAMINHÃO BASCULANTE DE 14 M³ - RODOVIA PAVIMENTADA | E19: txkm | F19: 0 | G19: 3.1 | H19: =ROUND(G19+(G19*$I$7),2) -> 3.8 | I19: =(F19*H19) -> 0
A20: 2.0 | D20: PAVIMENTAÇÃO ASFÁLTICA | I20: =ROUND(SUM(I21:I28),2) -> 761623.35
A21: 3.1 | B21: SICRO/DNIT | C21: 4011352 | D21: IMPRIMAÇÃO COM EMULSÃO ASFÁLTICA (EAI) | E21: m2 | F21: 0 | G21: 8.06 | H21: =ROUND(G21+(G21*$I$7),2) -> 9.88 | I21: =(F21*H21) -> 0
A22: 3.2 | B22: DER-MG | C22: ARP 365/2023 (Preço Unit. com ICMS) | D22: FORNECIMENTO DE MATERIAL BETUMINOSO EAI - EMULSÃO ASFÁLTICA PARA IMPRIMAÇÃO (Preço na Ata de registro de preços do DER na página 281 do Diário Oficial do Estado com ICMS) | E22: t | F22: 0 | G22: 1.17 | H22: =ROUND(G22+(G22*$I$7),2) -> 1.43 | I22: =(F22*H22) -> 0
A23: 3.3 | B23: DER-MG | C23: TABELA DE FRETE - (Pág. 15) | D23: FRETE DE MATERIAL BETUMINOSO - DER (PREÇO NA TABELA DE ACORDO COM A DISTANCIA EM KM. QUANTIDADE = ÁREA m² * 0,0013 t/m² ) | E23: t | F23: 0 | G23: 159.81 | H23: =ROUND(G23+(G23*$I$7),2) -> 195.99 | I23: =(F23*H23) -> 0
A24: 2.1 | B24: SICRO/DNIT | C24: 4011353 | D24: PINTURA DE LIGAÇÃO (RR-1C) | E24: m2 | F24: =ROUND('Memória - SEINFRA '!C124,2) -> 10844.42 | G24: 0.47 | H24: =ROUND(G24+(G24*$I$7),2) -> 0.58 | I24: =(F24*H24) -> 6289.7636
A25: 2.2 | B25: DER-MG | C25: ARP 231/2024 (Preço Unit. com ICMS) | D25: FORNECIMENTO DE MATERIAL BETUMINOSO RR-1C (Preço na Ata de registro de preços do DER na página 281 do Diário Oficial do Estado com ICMS) | E25: t | F25: =ROUND('Memória - SEINFRA '!E136,2) -> 5.42 | G25: 3341.3 | H25: =ROUND(G25+(G25*$I$8),2) -> 3850.51 | I25: =(F25*H25) -> 20869.764
A26: 2.3 | B26: DER-MG | C26: TABELA DE FRETE - (Pág. 15) | D26: FRETE DE MATERIAL BETUMINOSO - DER (PREÇO NA TABELA DE ACORDO COM A DISTANCIA EM KM. QUANTIDADE = ÁREA m² * 0,0005 t/m²) | E26: t | F26: =ROUND('Memória - SEINFRA '!E149,2) -> 5.42 | G26: 280.5506 | H26: =ROUND(G26+(G26*$I$8),2) -> 323.31 | I26: =(F26*H26) -> 1752.3402
A27: 2.4 | B27: SICOR/ SEINFRA | C27: ED-7623 | D27: EXECUÇÃO E APLICAÇÃO DE CONCRETO BETUMINOSO USINADO A QUENTE (CBUQ), MASSA COMERCIAL, INCLUINDO FORNECIMENTO E TRANSPORTE DOS AGREGADOS E ATERIAL BETUMINOSO, EXCLUSIVE TRANSPORTE DA MASSA ASFÁLTICA ATÉ A PISTA | E27: m3 | F27: =ROUND('Memória - SEINFRA '!E161,2) -> 325.33 | G27: 1811.95 | H27: =ROUND(G27+(G27*$I$7),2) -> 2222.18 | I27: =(F27*H27) -> 722941.82
A28: 2.5 | B28: SICRO/DNIT | C28: 5914612 | D28: TRANSPORTE DE MISTURA BETUMINOSA A QUENTE COM CAMINHÃO COM CAÇAMBA TÉRMICA DE 6 M³ - RODOVIA PAVIMENTADA | E28: txkm | F28: =ROUND('Memória - SEINFRA '!E174,2) -> 8881.51 | G28: 0.9 | H28: =ROUND(G28+(G28*$I$7),2) -> 1.1 | I28: =(F28*H28) -> 9769.661
A29: 3.0 | D29: REPERFILAMENTO - RUA ALEXANDRE STOCKLER - CAMADA 2CM | I29: =ROUND(SUM(I30:I34),2) -> 115688.97
A30: 3.1 | B30: SICRO/DNIT | C30: 4011353 | D30: PINTURA DE LIGAÇÃO (RR-1C) | E30: m2 | F30: =ROUND('Memória - SEINFRA '!D180,2) -> 2424.94 | G30: 0.47 | H30: =ROUND(G30+(G30*$I$7),2) -> 0.58 | I30: =(F30*H30) -> 1406.4652
A31: 3.2 | B31: DER-MG | C31: ARP 231/2024 (Preço Unit. com ICMS) | D31: FORNECIMENTO DE MATERIAL BETUMINOSO RR-1C (Preço na Ata de registro de preços do DER na página 281 do Diário Oficial do Estado com ICMS) | E31: t | F31: =ROUND('Memória - SEINFRA '!E186,2) -> 1.21 | G31: 3341.3 | H31: =ROUND(G31+(G31*$I$8),2) -> 3850.51 | I31: =(F31*H31) -> 4659.1171
A32: 2.3 | B32: DER-MG | C32: TABELA DE FRETE - (Pág. 15) | D32: FRETE DE MATERIAL BETUMINOSO - DER (PREÇO NA TABELA DE ACORDO COM A DISTANCIA EM KM. QUANTIDADE = ÁREA m² * 0,0005 t/m²) | E32: t | F32: =ROUND('Memória - SEINFRA '!E192,2) -> 1.21 | G32: 280.5506 | H32: =ROUND(G32+(G32*$I$8),2) -> 323.31 | I32: =(F32*H32) -> 391.2051
A33: 3.3 | B33: SICOR/ SEINFRA | C33: ED-7623 | D33: EXECUÇÃO E APLICAÇÃO DE CONCRETO BETUMINOSO USINADO A QUENTE (CBUQ), MASSA COMERCIAL, INCLUINDO FORNECIMENTO E TRANSPORTE DOS AGREGADOS E ATERIAL BETUMINOSO, EXCLUSIVE TRANSPORTE DA MASSA ASFÁLTICA ATÉ A PISTA | E33: m3 | F33: =ROUND('Memória - SEINFRA '!E198,2) -> 48.5 | G33: 1811.95 | H33: =ROUND(G33+(G33*$I$7),2) -> 2222.18 | I33: =(F33*H33) -> 107775.73
A34: 3.4 | B34: SICRO/DNIT | C34: 5914612 | D34: TRANSPORTE DE MISTURA BETUMINOSA A QUENTE COM CAMINHÃO COM CAÇAMBA TÉRMICA DE 6 M³ - RODOVIA PAVIMENTADA | E34: txkm | F34: =ROUND('Memória - SEINFRA '!E204,2) -> 1324.05 | G34: 0.9 | H34: =ROUND(G34+(G34*$I$7),2) -> 1.1 | I34: =(F34*H34) -> 1456.455
A35: 4.0 | D35: DRENAGEM PLUVIAL | I35: =ROUND(SUM(I36:I41),2) -> 316596
A36: 4.1 | B36: SICOR/ SEINFRA | C36: ED-48507 | D36: DEMOLIÇÃO MANUAL DE SARJETA OU SARJETÃO DE CONCRETO, INCLUSIVE AFASTAMENTO E EMPILHAMENTO, EXCLUSIVE TRANSPORTE E RETIRADA DO MATERIAL DEMOLIDO | E36: m² | F36: =ROUND('Memória - SEINFRA '!H215,2) -> 853.89 | G36: 11.82 | H36: =ROUND(G36+(G36*$I$7),2) -> 14.5 | I36: =(F36*H36) -> 12381.405
A37: 4.2 | B37: SICOR/ SEINFRA | C37: ED-29231 | D37: TRANSPORTE DE MATERIAL DE QUALQUER NATUREZA EM CAMINHÃO, DISTÂNCIA MAIOR QUE 2KM E MENOR OU IGUAL A 5KM, DENTRO DO PERÍMETRO URBANO, EXCLUSIVE CARGA, INCLUSIVE DESCARGA | E37: m³xkm | F37: =ROUND('Memória - SEINFRA '!H229,2) -> 2305.51 | G37: 2.67 | H37: =ROUND(G37+(G37*$I$7),2) -> 3.27 | I37: =(F37*H37) -> 7539.0177
A38: 4.3 | B38: SICOR/ SEINFRA | C38: ED-51139 | D38: GUIA DE MEIO-FIO, EM CONCRETO COM FCK 20MPA, PRÉ-MOLDADA, MFC-01 PADRÃO DER-MG, DIMENSÕES (12X16,7X35)CM , EXCLUSIVE SARJETA, INCLUSIVE ESCAVAÇÃO, APILOAMENTO E TRANSPORTE COM RETIRADA DO MATERIAL ESCAVADO (EM CAÇAMBA) | E38: m | F38: =ROUND('Memória - SEINFRA '!H240,2) -> 1792.9 | G38: 78.85 | H38: =ROUND(G38+(G38*$I$7),2) -> 96.7 | I38: =(F38*H38) -> 173373.43
A39: 4.4 | B39: SINAPI | C39: 94287 | D39: EXECUÇÃO DE SARJETA DE CONCRETO USINADO, MOLDADA IN LOCO EM TRECHO RETO, 30 CM BASE X 10 CM ALTURA. AF_01/2024 | E39: m | F39: =ROUND('Memória - SEINFRA '!H253,2) -> 2846.31 | G39: 35.32 | H39: =ROUND(G39+(G39*$I$7),2) -> 43.32 | I39: =(F39*H39) -> 123302.15
A43: VALOR TOTAL DA OBRA | I43: =I15+I12+I20+I35+I29 -> 1195326.7
A44: VALOR TOTAL GERAL DA OBRA | I44: =ROUND(I43+I13,2) -> 1198912.7
I45: =I39+I38+I37+I36+I34+I33+I32+I31+I30+I28+I27+I26+I25+I24+I13+I12 -> 1198912.7 | J45: =J44-J43 -> 0
D47: Marcelo Paulo Dias de Miranda
...

Sheet Planilha Orcamentária
A2: PLANILHA ORÇAMENTÁRIA DE CUSTOS
A3: PREFEITURA MUNICIPAL DE CAMPANHA-MG | F3: FOLHA N º: | H3: 01/01.
A4: OBRA: RECAPEAMENTO ASFÁLTICO EM CBUQ | F4: DATA: | H4: =TODAY() -> 46212
A5: LOCAL: RUA ALEXANDRE STOCKLER - CENTRO; AV. DOM PEDRO II - MANDÚ; RUA ALMERINDA FERREIRA - CENTRO E RUA THOMAZ DE AQUINO ARAÚJO - CENTRO; CAMPANHA - MG | F5: FORMA DE EXECUÇÃO:
A6: REGIÃO/MÊS DE REFERÊNCIA: SICRO/SEINFRA - REGIÃO SUL - JULHO/2025 - SEM DESONERAÇÃO; SICRO NOVO 07/2025 SEM DESONERAÇÃO; SINAPI MG 09/2025 - NÃO DESONERADO | F6: ( ) | G6: DIRETA | H6: ( X ) | I6: INDIRETA
A7: COMPOSIÇÃO/DEMONSTRATIVO DE BDI - EM ANEXO | F7: % ISS MUNICIPAL: | G7: 0.03 | H7: BDI: | I7: 0.2264
H8: BDI DIFERENCIADO: (P/ MATERIAL) | I8: 0.1524
A10: ITEM | B10: FONTE | C10: CÓDIGO | D10: DESCRIÇÃO | E10: UNIDADE | F10: QUANTIDADE | G10: PREÇO UNITÁRIO S/ BDI | H10: PREÇO UNITÁRIO C/ BDI | I10: PREÇO TOTAL
A11: 1.0 | D11: SERVIÇOS PRELIMINARES | H11: =ROUND(G11+(G11*$I$7),2) -> 0 | I11: =I12+I13 -> 5004.37
A12: 1.1 | B12: SICOR/ SEINFRA | C12: ED-28427 | D12: FORNECIMENTO E COLOCAÇÃO DE PLACA DE OBRA EM CHAPA GALVANIZADA #26, ESP. 0,45MM, DIMENSÃO (3X1,5)M, PLOTADA COM ADESIVO VINÍLICO, AFIXADA COM REBITES 4,8X40MM, EM ESTRUTURA METÁLICA DE METALON 20X20MM, ESP. 1,25MM, INCLUSIVE SUPORTE EM EUCALIPTO AUTOCLAVADO PINTADO COM TINTA PVA DUAS (2) DEMÃOS | E12: UN | F12: 1 | G12: 1156.55 | H12: =ROUND(G12+(G12*$I$7),2) -> 1418.39 | I12: =(F12*H12) -> 1418.39
A13: 1.2 | B13: SICOR/ SEINFRA | C13: ED-50393 | D13: MOBILIZAÇÃO E DESMOBILIZAÇÃO DE OBRA EM CENTRO URBANO OU REGIÃO LIMÍTROFE COM VALOR ENTRE 1.000.000,01 E 3.000.000,00 | E13: % | F13: 0.3 | G13: =I43 -> 1195326.7 | H13: =G13*(F13/100) -> 3585.9801 | I13: =ROUND((1*H13),2) -> 3585.98
A15: 2.0 | D15: TERRAPLENAGEM | H15: =ROUND(G15+(G15*$I$7),2) -> 0 | I15: =SUM(I16:I19) -> 0
A16: 2.1 | B16: SICRO/DNIT | C16: 4011209 | D16: REGULARIZAÇÃO DO SUBLEITO | E16: m2 | F16: 0 | G16: 14.17 | H16: =ROUND(G16+(G16*$I$7),2) -> 17.38 | I16: =(F16*H16) -> 0
A17: 2.2 | B17: SICRO/DNIT | C17: 4011219 | D17: BASE DE SOLO ESTABILIZADO GRANULOMETRICAMENTE SEM MISTURA COM MATERIAL DE JAZIDA | E17: m3 | F17: 0 | G17: 39.52 | H17: =ROUND(G17+(G17*$I$7),2) -> 48.47 | I17: =(F17*H17) -> 0
A18: 2.3 | D18: AQUISIÇÃO DE MATERIAL DE JAZIDA PARA BASE - CASCALHO | E18: m3 | F18: 0 | G18: 4.2 | H18: =ROUND(G18+(G18*$I$7),2) -> 5.15 | I18: =(F18*H18) -> 0
A19: 2.4 | B19: SICRO/DNIT | C19: 5915321 | D19: TRANSPORTE COM CAMINHÃO BASCULANTE DE 14 M³ - RODOVIA PAVIMENTADA | E19: txkm | F19: 0 | G19: 3.1 | H19: =ROUND(G19+(G19*$I$7),2) -> 3.8 | I19: =(F19*H19) -> 0
A20: 2.0 | D20: PAVIMENTAÇÃO ASFÁLTICA | I20: =SUM(I21:I28) -> 761623.35
A21: 3.1 | B21: SICRO/DNIT | C21: 4011352 | D21: IMPRIMAÇÃO COM EMULSÃO ASFÁLTICA (EAI) | E21: m2 | F21: 0 | G21: 8.06 | H21: =ROUND(G21+(G21*$I$7),2) -> 9.88 | I21: =(F21*H21) -> 0
A22: 3.2 | B22: DER-MG | C22: ARP 365/2023 (Preço Unit. com ICMS) | D22: FORNECIMENTO DE MATERIAL BETUMINOSO EAI - EMULSÃO ASFÁLTICA PARA IMPRIMAÇÃO (Preço na Ata de registro de preços do DER na página 281 do Diário Oficial do Estado com ICMS) | E22: t | F22: 0 | G22: 1.17 | H22: =ROUND(G22+(G22*$I$7),2) -> 1.43 | I22: =(F22*H22) -> 0
A23: 3.3 | B23: DER-MG | C23: TABELA DE FRETE - (Pág. 15) | D23: FRETE DE MATERIAL BETUMINOSO - DER (PREÇO NA TABELA DE ACORDO COM A DISTANCIA EM KM. QUANTIDADE = ÁREA m² * 0,0013 t/m² ) | E23: t | F23: 0 | G23: 159.81 | H23: =ROUND(G23+(G23*$I$7),2) -> 195.99 | I23: =(F23*H23) -> 0
A24: 2.1 | B24: SICRO/DNIT | C24: 4011353 | D24: PINTURA DE LIGAÇÃO (RR-1C) | E24: m2 | F24: ='Memória - SEINFRA '!C124 -> 10844.42 | G24: 0.47 | H24: =ROUND(G24+(G24*$I$7),2) -> 0.58 | I24: =(F24*H24) -> 6289.7636
A25: 2.2 | B25: DER-MG | C25: ARP 231/2024 (Preço Unit. com ICMS) | D25: FORNECIMENTO DE MATERIAL BETUMINOSO RR-1C (Preço na Ata de registro de preços do DER na página 281 do Diário Oficial do Estado com ICMS) | E25: t | F25: =ROUND('Memória - SEINFRA '!E136,2) -> 5.42 | G25: 3341.3 | H25: =ROUND(G25+(G25*$I$8),2) -> 3850.51 | I25: =(F25*H25) -> 20869.764
A26: 2.3 | B26: DER-MG | C26: TABELA DE FRETE - (Pág. 15) | D26: FRETE DE MATERIAL BETUMINOSO - DER (PREÇO NA TABELA DE ACORDO COM A DISTANCIA EM KM. QUANTIDADE = ÁREA m² * 0,0005 t/m²) | E26: t | F26: =ROUND('Memória - SEINFRA '!E149,2) -> 5.42 | G26: 280.5506 | H26: =ROUND(G26+(G26*$I$8),2) -> 323.31 | I26: =(F26*H26) -> 1752.3402
A27: 2.4 | B27: SICOR/ SEINFRA | C27: ED-7623 | D27: EXECUÇÃO E APLICAÇÃO DE CONCRETO BETUMINOSO USINADO A QUENTE (CBUQ), MASSA COMERCIAL, INCLUINDO FORNECIMENTO E TRANSPORTE DOS AGREGADOS E ATERIAL BETUMINOSO, EXCLUSIVE TRANSPORTE DA MASSA ASFÁLTICA ATÉ A PISTA | E27: m3 | F27: ='Memória - SEINFRA '!E161 -> 325.33 | G27: 1811.95 | H27: =ROUND(G27+(G27*$I$7),2) -> 2222.18 | I27: =(F27*H27) -> 722941.82
A28: 2.5 | B28: SICRO/DNIT | C28: 5914612 | D28: TRANSPORTE DE MISTURA BETUMINOSA A QUENTE COM CAMINHÃO COM CAÇAMBA TÉRMICA DE 6 M³ - RODOVIA PAVIMENTADA | E28: txkm | F28: ='Memória - SEINFRA '!E174 -> 8881.51 | G28: 0.9 | H28: =ROUND(G28+(G28*$I$7),2) -> 1.1 | I28: =(F28*H28) -> 9769.661
A29: 3.0 | D29: REPERFILAMENTO - RUA ALEXANDRE STOCKLER - CAMADA 2CM | I29: =SUM(I30:I34) -> 115688.97
A30: 3.1 | B30: SICRO/DNIT | C30: 4011353 | D30: PINTURA DE LIGAÇÃO (RR-1C) | E30: m2 | F30: ='Memória - SEINFRA '!D180 -> 2424.94 | G30: 0.47 | H30: =ROUND(G30+(G30*$I$7),2) -> 0.58 | I30: =(F30*H30) -> 1406.4652
A31: 3.2 | B31: DER-MG | C31: ARP 231/2024 (Preço Unit. com ICMS) | D31: FORNECIMENTO DE MATERIAL BETUMINOSO RR-1C (Preço na Ata de registro de preços do DER na página 281 do Diário Oficial do Estado com ICMS) | E31: t | F31: =ROUND('Memória - SEINFRA '!E186,2) -> 1.21 | G31: 3341.3 | H31: =ROUND(G31+(G31*$I$8),2) -> 3850.51 | I31: =(F31*H31) -> 4659.1171
A32: 2.3 | B32: DER-MG | C32: TABELA DE FRETE - (Pág. 15) | D32: FRETE DE MATERIAL BETUMINOSO - DER (PREÇO NA TABELA DE ACORDO COM A DISTANCIA EM KM. QUANTIDADE = ÁREA m² * 0,0005 t/m²) | E32: t | F32: =ROUND('Memória - SEINFRA '!E192,2) -> 1.21 | G32: 280.5506 | H32: =ROUND(G32+(G32*$I$8),2) -> 323.31 | I32: =(F32*H32) -> 391.2051
A33: 3.3 | B33: SICOR/ SEINFRA | C33: ED-7623 | D33: EXECUÇÃO E APLICAÇÃO DE CONCRETO BETUMINOSO USINADO A QUENTE (CBUQ), MASSA COMERCIAL, INCLUINDO FORNECIMENTO E TRANSPORTE DOS AGREGADOS E ATERIAL BETUMINOSO, EXCLUSIVE TRANSPORTE DA MASSA ASFÁLTICA ATÉ A PISTA | E33: m3 | F33: ='Memória - SEINFRA '!E198 -> 48.5 | G33: 1811.95 | H33: =ROUND(G33+(G33*$I$7),2) -> 2222.18 | I33: =(F33*H33) -> 107775.73
A34: 3.4 | B34: SICRO/DNIT | C34: 5914612 | D34: TRANSPORTE DE MISTURA BETUMINOSA A QUENTE COM CAMINHÃO COM CAÇAMBA TÉRMICA DE 6 M³ - RODOVIA PAVIMENTADA | E34: txkm | F34: ='Memória - SEINFRA '!E204 -> 1324.05 | G34: 0.9 | H34: =ROUND(G34+(G34*$I$7),2) -> 1.1 | I34: =(F34*H34) -> 1456.455
A35: 4.0 | D35: DRENAGEM PLUVIAL | I35: =SUM(I36:I41) -> 316596
A36: 4.1 | B36: SICOR/ SEINFRA | C36: ED-48507 | D36: DEMOLIÇÃO MANUAL DE SARJETA OU SARJETÃO DE CONCRETO, INCLUSIVE AFASTAMENTO E EMPILHAMENTO, EXCLUSIVE TRANSPORTE E RETIRADA DO MATERIAL DEMOLIDO | E36: m² | F36: =ROUND('Memória - SEINFRA '!H215,2) -> 853.89 | G36: 11.82 | H36: =ROUND(G36+(G36*$I$7),2) -> 14.5 | I36: =(F36*H36) -> 12381.405
A37: 4.2 | B37: SICOR/ SEINFRA | C37: ED-29231 | D37: TRANSPORTE DE MATERIAL DE QUALQUER NATUREZA EM CAMINHÃO, DISTÂNCIA MAIOR QUE 2KM E MENOR OU IGUAL A 5KM, DENTRO DO PERÍMETRO URBANO, EXCLUSIVE CARGA, INCLUSIVE DESCARGA | E37: m³xkm | F37: =ROUND('Memória - SEINFRA '!H229,2) -> 2305.51 | G37: 2.67 | H37: =ROUND(G37+(G37*$I$7),2) -> 3.27 | I37: =(F37*H37) -> 7539.0177
A38: 4.3 | B38: SICOR/ SEINFRA | C38: ED-51139 | D38: GUIA DE MEIO-FIO, EM CONCRETO COM FCK 20MPA, PRÉ-MOLDADA, MFC-01 PADRÃO DER-MG, DIMENSÕES (12X16,7X35)CM , EXCLUSIVE SARJETA, INCLUSIVE ESCAVAÇÃO, APILOAMENTO E TRANSPORTE COM RETIRADA DO MATERIAL ESCAVADO (EM CAÇAMBA) | E38: m | F38: ='Memória - SEINFRA '!H240 -> 1792.9 | G38: 78.85 | H38: =ROUND(G38+(G38*$I$7),2) -> 96.7 | I38: =(F38*H38) -> 173373.43
A39: 4.4 | B39: SINAPI | C39: 94287 | D39: EXECUÇÃO DE SARJETA DE CONCRETO USINADO, MOLDADA IN LOCO EM TRECHO RETO, 30 CM BASE X 10 CM ALTURA. AF_01/2024 | E39: m | F39: ='Memória - SEINFRA '!H253 -> 2846.31 | G39: 35.32 | H39: =ROUND(G39+(G39*$I$7),2) -> 43.32 | I39: =(F39*H39) -> 123302.15
A43: VALOR TOTAL DA OBRA | I43: =I15+I12+I20+I35+I29 -> 1195326.7
A44: VALOR TOTAL GERAL DA OBRA | I44: =ROUND(I43+I13,2) -> 1198912.7
J45: =J44-J43 -> 0
D47: Marcelo Paulo Dias de Miranda
...

Sheet Memória - SEINFRA 
A1: MEMÓRIA DE CÁCULO DE QUANTITATIVOS
A3: CALÇAMENTO
A4: ='Planilha Orcamentária'!A3:E3 -> PREFEITURA MUNICIPAL DE CAMPANHA-MG
A5: ='Planilha Orcamentária'!A4:E4 -> OBRA: RECAPEAMENTO ASFÁLTICO EM CBUQ
A6: ='Planilha Orcamentária'!A5:E5 -> LOCAL: RUA ALEXANDRE STOCKLER - CENTRO; AV. DOM PEDRO II - MANDÚ; RUA ALMERINDA FERREIRA - CENTRO E RUA THOMAZ DE AQUINO ARAÚJO - CENTRO; CAMPANHA - MG
A7: DATA: | B7: =TODAY() -> 46212
A9: ITEM: | B9: ='Planilha Orcamentária'!A12 -> 1.1
A10: ='Planilha Orcamentária'!D12 -> FORNECIMENTO E COLOCAÇÃO DE PLACA DE OBRA EM CHAPA GALVANIZADA #26, ESP. 0,45MM, DIMENSÃO (3X1,5)M, PLOTADA COM ADESIVO VINÍLICO, AFIXADA COM REBITES 4,8X40MM, EM ESTRUTURA METÁLICA DE METALON 20X20MM, ESP. 1,25MM, INCLUSIVE SUPORTE EM EUCALIPTO AUTOCLAVADO PINTADO COM TINTA PVA DUAS (2) DEMÃOS
A11: Quantidade | C11: 1 | D11: Unidade
A13: ITEM: | B13: ='Planilha Orcamentária'!A13 -> 1.2
A14: ='Planilha Orcamentária'!D13 -> MOBILIZAÇÃO E DESMOBILIZAÇÃO DE OBRA EM CENTRO URBANO OU REGIÃO LIMÍTROFE COM VALOR ENTRE 1.000.000,01 E 3.000.000,00
A15: Quantidade | C15: ='Planilha Orcamentária'!F13 -> 0.3 | D15: ='Planilha Orcamentária'!E13 -> %
A17: ITEM: | B17: ='Planilha Orcamentária'!A24 -> 2.1
A18: ='Planilha Orcamentária'!D24 -> PINTURA DE LIGAÇÃO (RR-1C)
A19: LOCAL | C19: Comprimento | D19: Largura | E19: Área
C20: (m) | D20: (m) | E20: (m²)
A21: Rua Alexandre Stockler | C21: 405.49 | D21: VARIÁVEL | E21: 2760.89 | F21: ÁREA RETIRADA DO CAD
A22: Rua Almerinda Ferreira | C22: 152.42 | D22: VARIÁVEL | E22: 795.92
A23: Trecho da Rua Thomaz de Aquino Araújo | C23: 54.91 | D23: VARIÁVEL | E23: 323.22
A24: Trecho 01 - Av.Dom Pedro II | C24: 316.75 | D24: VARIÁVEL | E24: 2196.47
A25: Trecho 02 - Av.Dom Pedro II | C25: 431.69 | D25: VARIÁVEL | E25: 2106.1
A26: Trecho 03 - Av.Dom Pedro II | C26: 435.61 | D26: VARIÁVEL | E26: 2360.44
A27: Trecho 04 - Av.Dom Pedro II | C27: 42.49 | D27: VARIÁVEL | E27: 652.06
D28: TOTAL | E28: =SUM(E21:E27) -> 11195.1
A30: ITEM: | B30: ='Planilha Orcamentária'!A17 -> 2.2
A31: ='Planilha Orcamentária'!D17 -> BASE DE SOLO ESTABILIZADO GRANULOMETRICAMENTE SEM MISTURA COM MATERIAL DE JAZIDA
A32: LOCAL | C32: Área | D32: Espessura | E32: Volume
C33: (m²) | D33: (m) | E33: (m3)
A34: =A21 -> Rua Alexandre Stockler | C34: =E21 -> 2760.89 | D34: 0.08 | E34: =ROUND(D34*C34,2) -> 220.87
A35: =A22 -> Rua Almerinda Ferreira | C35: =E22 -> 795.92 | D35: 0.08 | E35: =ROUND(D35*C35,2) -> 63.67
A36: =A23 -> Trecho da Rua Thomaz de Aquino Araújo | C36: =E23 -> 323.22 | D36: 0.08 | E36: =ROUND(D36*C36,2) -> 25.86
A37: =A24 -> Trecho 01 - Av.Dom Pedro II | C37: =E24 -> 2196.47 | D37: 0.08 | E37: =ROUND(D37*C37,2) -> 175.72
A38: =A25 -> Trecho 02 - Av.Dom Pedro II | C38: =E25 -> 2106.1 | D38: 0.08 | E38: =ROUND(D38*C38,2) -> 168.49
A39: =A26 -> Trecho 03 - Av.Dom Pedro II | C39: =E26 -> 2360.44 | D39: 0.08 | E39: =ROUND(D39*C39,2) -> 188.84
A40: =A27 -> Trecho 04 - Av.Dom Pedro II | C40: =E27 -> 652.06 | D40: 0.08 | E40: =ROUND(D40*C40,2) -> 52.16
D41: TOTAL | E41: =SUM(E34:E40) -> 895.61
A43: ITEM: | B43: ='Planilha Orcamentária'!A18 -> 2.3
A44: ='Planilha Orcamentária'!D18 -> AQUISIÇÃO DE MATERIAL DE JAZIDA PARA BASE - CASCALHO
B45: Volume | C45: DMT | D45: Transporte
B46: (m3) | C46: (km) | D46: (m³xKm)
...

Sheet Memória - SEINFRA
A1: MEMÓRIA DE CÁCULO DE QUANTITATIVOS
A3: CALÇAMENTO
A4: ='Planilha Orcamentária'!A3:E3 -> PREFEITURA MUNICIPAL DE CAMPANHA-MG
A5: ='Planilha Orcamentária'!A4:E4 -> OBRA: RECAPEAMENTO ASFÁLTICO EM CBUQ
A6: ='Planilha Orcamentária'!A5:E5 -> LOCAL: RUA ALEXANDRE STOCKLER - CENTRO; AV. DOM PEDRO II - MANDÚ; RUA ALMERINDA FERREIRA - CENTRO E RUA THOMAZ DE AQUINO ARAÚJO - CENTRO; CAMPANHA - MG
A7: DATA: | B7: =TODAY() -> 46212
A9: ITEM: | B9: ='Planilha Orcamentária'!A12 -> 1.1 | C9: ok
A10: ='Planilha Orcamentária'!D12 -> FORNECIMENTO E COLOCAÇÃO DE PLACA DE OBRA EM CHAPA GALVANIZADA #26, ESP. 0,45MM, DIMENSÃO (3X1,5)M, PLOTADA COM ADESIVO VINÍLICO, AFIXADA COM REBITES 4,8X40MM, EM ESTRUTURA METÁLICA DE METALON 20X20MM, ESP. 1,25MM, INCLUSIVE SUPORTE EM EUCALIPTO AUTOCLAVADO PINTADO COM TINTA PVA DUAS (2) DEMÃOS
A11: Quantidade | C11: 1 | D11: Unidade
A13: ITEM: | B13: ='Planilha Orcamentária'!A13 -> 1.2 | C13: ok
A14: ='Planilha Orcamentária'!D13 -> MOBILIZAÇÃO E DESMOBILIZAÇÃO DE OBRA EM CENTRO URBANO OU REGIÃO LIMÍTROFE COM VALOR ENTRE 1.000.000,01 E 3.000.000,00
A15: Quantidade | C15: ='Planilha Orcamentária'!F13 -> 0.3 | D15: ='Planilha Orcamentária'!E13 -> %
A17: ITEM: | B17: ='Planilha Orcamentária'!A16 -> 2.1
A18: ='Planilha Orcamentária'!D16 -> REGULARIZAÇÃO DO SUBLEITO
A19: LOCAL | C19: Comprimento | D19: Largura | E19: Área
C20: (m) | D20: (m) | E20: (m²)
A21: Rua Alexandre Stockler | C21: 405.49 | D21: VARIÁVEL | E21: 2760.89 | F21: ÁREA RETIRADA DO CAD
A22: Rua Almerinda Ferreira | C22: 152.42 | D22: VARIÁVEL | E22: 795.92
A23: Trecho da Rua Thomaz de Aquino Araújo | C23: 54.91 | D23: VARIÁVEL | E23: 323.22
A24: Trecho 01 - Av.Dom Pedro II | C24: 316.75 | D24: VARIÁVEL | E24: 2196.47
A25: Trecho 02 - Av.Dom Pedro II | C25: 431.69 | D25: VARIÁVEL | E25: 2106.1
A26: Trecho 03 - Av.Dom Pedro II | C26: 435.61 | D26: VARIÁVEL | E26: 2360.44
A27: Trecho 04 - Av.Dom Pedro II | C27: 42.49 | D27: VARIÁVEL | E27: 652.06
D28: TOTAL | E28: =SUM(E21:E27) -> 11195.1
A30: ITEM: | B30: ='Planilha Orcamentária'!A17 -> 2.2
A31: ='Planilha Orcamentária'!D17 -> BASE DE SOLO ESTABILIZADO GRANULOMETRICAMENTE SEM MISTURA COM MATERIAL DE JAZIDA
A32: LOCAL | C32: Área | D32: Espessura | E32: Volume
C33: (m²) | D33: (m) | E33: (m3)
A34: =A21 -> Rua Alexandre Stockler | C34: =E21 -> 2760.89 | D34: 0.08 | E34: =ROUND(D34*C34,2) -> 220.87
A35: =A22 -> Rua Almerinda Ferreira | C35: =E22 -> 795.92 | D35: 0.08 | E35: =ROUND(D35*C35,2) -> 63.67
A36: =A23 -> Trecho da Rua Thomaz de Aquino Araújo | C36: =E23 -> 323.22 | D36: 0.08 | E36: =ROUND(D36*C36,2) -> 25.86
A37: =A24 -> Trecho 01 - Av.Dom Pedro II | C37: =E24 -> 2196.47 | D37: 0.08 | E37: =ROUND(D37*C37,2) -> 175.72
A38: =A25 -> Trecho 02 - Av.Dom Pedro II | C38: =E25 -> 2106.1 | D38: 0.08 | E38: =ROUND(D38*C38,2) -> 168.49
A39: =A26 -> Trecho 03 - Av.Dom Pedro II | C39: =E26 -> 2360.44 | D39: 0.08 | E39: =ROUND(D39*C39,2) -> 188.84
A40: =A27 -> Trecho 04 - Av.Dom Pedro II | C40: =E27 -> 652.06 | D40: 0.08 | E40: =ROUND(D40*C40,2) -> 52.16
D41: TOTAL | E41: =SUM(E34:E40) -> 895.61
A43: ITEM: | B43: ='Planilha Orcamentária'!A18 -> 2.3
A44: ='Planilha Orcamentária'!D18 -> AQUISIÇÃO DE MATERIAL DE JAZIDA PARA BASE - CASCALHO
B45: Volume | C45: DMT | D45: Transporte
B46: (m3) | C46: (km) | D46: (m³xKm)
...

Sheet Cronograma
A2: CRONOGRAMA FÍSICO-FINANCEIRO
A3: ='Planilha Orcamentária'!A3 -> PREFEITURA MUNICIPAL DE CAMPANHA-MG | C3: VALOR DO CONVÊNIO: | D3: =D16 -> 1198912.7 | E3: DATA: | G3: =TODAY() -> 46212 | H3: FOLHA Nº: 01/01
A4: ='Planilha Orcamentária'!A4 -> OBRA: RECAPEAMENTO ASFÁLTICO EM CBUQ | E4: PREVISÃO DE EXECUÇÃO DAS OBRAS: 3 MESES
A5: ='Planilha Orcamentária'!A5 -> LOCAL: RUA ALEXANDRE STOCKLER - CENTRO; AV. DOM PEDRO II - MANDÚ; RUA ALMERINDA FERREIRA - CENTRO E RUA THOMAZ DE AQUINO ARAÚJO - CENTRO; CAMPANHA - MG
A6: ITENS | B6: ETAPAS/DESCRIÇÃO | C6: FÍSICO/ FINANCEIRO | D6: TOTAL ETAPAS | E6: MÊS 1 | G6: MÊS 2 | I6: MÊS 3 | K6: Total
A7: ='Planilha Orcamentária'!A11 -> 1.0 | B7: ='Planilha Orcamentária'!D11 -> SERVIÇOS PRELIMINARES | C7: Físico % | D7: =D8/$D$16 -> 0.0041740904 | E7: 0.5 | G7: 0 | I7: 0.5 | K7: =SUM(E7:J7) -> 1
C8: Financeiro | D8: ='Planilha Orcamentária'!I11 -> 5004.37 | E8: =E7*$D$8 -> 2502.185 | G8: =G7*$D$8 -> 0 | I8: =I7*$D$8 -> 2502.185 | K8: =SUM(E8:J8) -> 5004.37
A9: ='Planilha Orcamentária'!A15 -> 2.0 | B9: ='Planilha Orcamentária'!D20 -> PAVIMENTAÇÃO ASFÁLTICA | C9: Físico % | D9: =D10/$D$16 -> 0.63526173 | E9: 0.5 | G9: 0.4 | I9: 0.1 | K9: =SUM(E9:J9) -> 1
C10: Financeiro | D10: ='Planilha Orcamentária'!I20 -> 761623.35 | E10: =E9*$D$10 -> 380811.67 | G10: =G9*$D$10 -> 304649.34 | I10: =I9*$D$10 -> 76162.335 | K10: =SUM(E10:J10) -> 761623.35
A11: 3.0 | B11: ='Planilha Orcamentária'!D29 -> REPERFILAMENTO - RUA ALEXANDRE STOCKLER - CAMADA 2CM | C11: Físico % | D11: =D12/$D$16 -> 0.09649491 | E11: 1 | G11: =G12/$D$10 -> 0 | K11: =SUM(E11:J11) -> 1
C12: Financeiro | D12: ='Planilha Orcamentária'!I29 -> 115688.97 | E12: =E11*$D$12 -> 115688.97 | G12: 0 | K12: =SUM(E12:J12) -> 115688.97
A13: ='Planilha Orcamentária'!A35 -> 4.0 | B13: ='Planilha Orcamentária'!D35 -> DRENAGEM PLUVIAL | C13: Físico % | D13: =D14/$D$16 -> 0.26406927 | E13: 0 | G13: 0.5 | I13: 0.5 | K13: =SUM(E13:J13) -> 1
C14: Financeiro | D14: ='Planilha Orcamentária'!I35 -> 316596 | E14: =E13*$D$14 -> 0 | G14: =G13*$D$14 -> 158298 | I14: =I13*$D$14 -> 158298 | K14: =SUM(E14:J14) -> 316596
A15: TOTAL | C15: Físico % | D15: =D7++D11+D9+D13+0.5% -> 1.005 | E15: =E16/$D$16 -> 0.41621282 | G15: =G16/$D$16 -> 0.38613933 | I15: =I16/$D$16 -> 0.19764785 | K15: =SUM(E15:J15) -> 1
C16: Financeiro | D16: ='Planilha Orcamentária'!I44 -> 1198912.7 | E16: =E8+E10+E12+E14 -> 499002.83 | G16: =G8+G10+G12+G14 -> 462947.34 | I16: =I8+I10+I12+I14 -> 236962.52 | K16: =SUM(E16:J16) -> 1198912.7
G17: Observações: | I17: =E16+G16+I16 -> 1198912.7
B19: ='Planilha Orcamentária'!D47 -> Marcelo Paulo Dias de Miranda
B20: ='Planilha Orcamentária'!D48 -> Engenhero Civil - Responsável Técnico
B21: ='Planilha Orcamentária'!D49 -> CREA/MG Nº: MG 5069627477/D
B24: ='Planilha Orcamentária'!D53 -> Lázaro Roberto da Silva
B25: ='Planilha Orcamentária'!D54 -> Prefeito Municipal

Sheet Nota Técnica - Arredondamento
A1: NOTA TÉCNICA
A2: CONCILIAÇÃO DE ARREDONDAMENTOS ENTRE A PLANILHA ORÇAMENTÁRIA (R13) E A PLANILHA DE CONFERÊNCIA DO SETOR DE COMPRAS
A4: Obra: Recapeamento Asfáltico em CBUQ — Rua Alexandre Stockler (Centro), Av. Dom Pedro II (Mandú), Rua Almerinda Ferreira (Centro) e Rua Thomaz de Aquino Araújo (Centro), Campanha/MG.
A5: Responsável técnico: Marcelo Paulo Dias de Miranda – Engenheiro Civil – CREA/MG nº MG 5069627477/D. Data desta nota: 09 de julho de 2026.
A7: 1. OBJETO DA NOTA
A8: A presente nota técnica tem por finalidade registrar, explicar e formalizar a conciliação de uma divergência de valor, da ordem de centavos, identificada entre a Planilha Orçamentária de Custos da obra em referência (arquivo "ORÇAMENTO R13.xlsx", de responsabilidade da Engenharia/Secretaria requisitante) e a planilha de conferência elaborada pelo Setor de Compras (arquivo "planilha obra corrigida.xlsx"), de modo a instruir o processo administrativo com a devida justificativa técnica e a evidência do valor final compatibilizado entre as duas fontes.
A10: 2. DIVERGÊNCIA IDENTIFICADA
A11: Na revisão comparativa entre as planilhas, verificou-se que o valor total geral da obra apurado originalmente em cada uma das fontes era o seguinte:
A12: Planilha Orçamentária R13 (metodologia original: arredondamento por item) | B12: R$ 1.198.912,71
A13: Planilha de conferência – Setor de Compras | B13: R$ 1.198.912,69
A14: Diferença apurada | B14: R$ 0,02
A16: Os quantitativos, unidades, preços unitários e a especificação técnica de todos os itens foram conferidos linha a linha entre as duas planilhas e são idênticos. A divergência não decorre de erro de digitação, de item omitido, de preço unitário divergente ou de quantitativo incorreto, mas exclusivamente da forma de cálculo do arredondamento, conforme detalhado no item 3 a seguir.
A18: 3. CAUSA TÉCNICA DA DIVERGÊNCIA
A19: A Planilha Orçamentária R13, em sua versão original, calcula o preço total de cada item por meio da fórmula "=ARRED(quantidade × preço unitário; 2)", ou seja, arredonda o resultado de cada item para duas casas decimais antes de somar os itens ao valor total da obra. Trata-se de metodologia tecnicamente adequada, uma vez que é o valor de cada item, já arredondado ao centavo, que efetivamente compõe o preço unitário e total impresso na planilha.
A20: A planilha de conferência do Setor de Compras, por sua vez, multiplica a quantidade pelo preço unitário de cada item sem arredondamento intermediário, somando os valores "brutos" de todos os itens e arredondando apenas o resultado final. Adicionalmente, o quantitativo do item 4.2 (transporte de material de qualquer natureza, unidade m³×km), que na memória de cálculo da Engenharia é apurado com quatro casas decimais (2.305,5111), foi utilizado na planilha de Compras já arredondado para duas casas decimais (2.305,51).
A21: A combinação desses dois fatores – arredondamento único ao final, em vez de arredondamento item a item, somado à pequena diferença de casas decimais no quantitativo do item 4.2 – é suficiente para explicar integralmente a diferença de centavos apurada entre as duas planilhas. Ambas as metodologias são matematicamente válidas; a diferença encontrada é inerente à forma de acumulação de arredondamentos em planilhas com múltiplos itens e não representa erro de conteúdo técnico ou financeiro.
A23: 4. PROVIDÊNCIA ADOTADA
A24: Para eliminar a divergência e compatibilizar integralmente o valor total da obra entre as duas fontes, optou-se por adequar a Planilha Orçamentária R13 à mesma metodologia de arredondamento adotada pelo Setor de Compras, sem qualquer alteração de item, unidade, quantitativo ou preço unitário constante da planilha original. Especificamente, foram ajustadas as fórmulas de cálculo do preço total de cada item, de modo que o arredondamento para duas casas decimais passasse a ser aplicado uma única vez, sobre o valor total geral da obra, e não item a item.
A25: Após o ajuste, o valor total geral da obra apurado na Planilha Orçamentária R13 passou a ser:
A26: Planilha Orçamentária R13 (após compatibilização) | B26: R$ 1.198.912,69
A27: Valor idêntico, ao centavo, ao apurado na planilha de conferência do Setor de Compras, restando as duas fontes integralmente conciliadas.
A29: 5. OBSERVAÇÃO TÉCNICA
A30: Registra-se, para fins de transparência, que, em razão do arredondamento passar a ser aplicado apenas sobre o valor final, a soma manual dos preços totais de cada item exibidos na planilha (já expressos com duas casas decimais) pode resultar em valor com diferença de um a dois centavos em relação ao total impresso. Tal efeito é inerente à metodologia de arredondamento único adotada e não representa inconsistência, tendo sido a opção adotada exclusivamente para compatibilizar o valor final com a planilha de conferência do Setor de Compras.
A32: 6. CONCLUSÃO
A33: Diante do exposto, conclui-se que a divergência de centavos identificada entre a Planilha Orçamentária R13 e a planilha de conferência do Setor de Compras possuía natureza estritamente aritmética, decorrente da metodologia de arredondamento, sem qualquer impacto sobre os quantitativos, preços unitários, especificações técnicas ou o valor de mercado dos serviços orçados. Após o ajuste da metodologia de arredondamento na Planilha Orçamentária R13, os valores encontram-se integralmente conciliados, ambos no montante de R$ 1.198.912,69, não havendo óbice à continuidade da instrução processual.
A36: Campanha/MG, 09 de julho de 2026.
A39: Marcelo Paulo Dias de Miranda
A40: Engenheiro Civil – Responsável Técnico
A41: CREA/MG nº: MG 5069627477/D
