Workbook
Name \0: #REF!
Name \0: #REF!
Name \0: #REF!
Name \0: #REF!
Name \0: #REF!
Name \0: #REF!
Name \0: #REF!
Name \a: #REF!
Name \a: #REF!
Name \a: #REF!
Name \a: #REF!
Name \a: #REF!
Name \a: #REF!
Name \a: #REF!
Name \b: #REF!
Name \b: #REF!
Name \b: #REF!
Name \b: #REF!
Name \b: #REF!
Name \b: #REF!
Name \b: #REF!
Name \e: #REF!
Name \e: #REF!
Name \e: #REF!
Name \e: #REF!
Name \e: #REF!
Name \e: #REF!
Name \e: #REF!
Name \p: #REF!
Name \p: #REF!
Name \p: #REF!
Name \p: #REF!
Name \p: #REF!
Name \p: #REF!
Name \p: #REF!
Name _: #REF!
Name _: #REF!
Name _: #REF!
Name _: #REF!
Name _: #REF!
Name _: #REF!
Name _: #REF!
Name ________xlnm.Database: "#ref!"
Name ________xlnm.Print_Area: "#ref!"
Name _______xlnm.Database: "#ref!"
Name _______xlnm.Print_Area: "#ref!"
Name ______xlnm.Database: "#ref!"
Name ______xlnm.Print_Area: "#ref!"
Name ____xlnm.Database: "#ref!"
Name ____xlnm.Print_Area: "#ref!"
Name ___xlnm.Database: #REF!
Name ___xlnm.Database: #REF!
Name ___xlnm.Print_Area: #REF!
Name ___xlnm.Print_Area: #REF!
Name ___xlnm.Print_Area_3: #REF!
Name ___xlnm.Print_Area_3: #REF!
Name ___xlnm.Print_Area_3: #REF!
Name ___xlnm.Print_Area_3: #REF!
Name ___xlnm.Print_Area_3: #REF!
Name ___xlnm.Print_Area_3: #REF!

Sheet PLANILHA ORÇAMENTO
B2: PLANILHA ORÇAMENTÁRIA
B3: CÓD. OBRA: | C3: 066 | D3: OBJETO: EXECUÇÃO DE REMANESCENTE DE OBRAS DE CONTENÇÃO DE ENCOSTAS EM 07 ÁREAS DE RISCO, NO MUNICÍPIO DE BETIM-MG. ÁREAS PREVISTAS NO TERMO DE COMPROMISSO N.º 0.398.478-71 .
B4: REFERÊNCIA: | C4: TABELA SINAPI SEM DESONERAÇÃO - BASE JULHO DE 2025
B5: REFERÊNCIA: | C5: TABELA SUDECAP ONERADA - BASE ABRIL DE 2025
B6: REFERÊNCIA: | C6: TABELA SICOR-MG SEM DESONERAÇÃO - BASE ABRIL DE 2025
B7: REFERÊNCIA: | C7: TABELA DNIT SEM DESONERAÇÃO - BASE ABRIL DE 2025 (REVISADO) | H7: BDI SERVIÇOS | I7: ='BDI TCU 2622 -URBANAS '!J24 -> 0.207
B8: DATA BASE DO ORÇAMENTO: JULHO DE 2025
B10: ITEM | C10: REFERÊNCIA | D10: CÓDIGO | E10: DESCRIÇÃO | F10: UNIDADE | G10: QUANT. TOTAL | H10: PREÇO UNITÁRIO (SEM BDI) | I10: PREÇO UNITÁRIO (COM BDI) | J10: PREÇO TOTAL (COM BDI) | K10: % PESO
H12: BDI SERVIÇOS | I12: 1.207
B14: 01 | E14: INSTALAÇAO DA OBRA E ADMINISTRAÇÃO LOCAL
B15: 01.01 | E15: PLACA DE OBRA
B16: 01.01.01 | C16: SINAPI | D16: 103689 | E16: FORNECIMENTO E INSTALAÇÃO DE PLACA DE OBRA COM CHAPA GALVANIZADA E ESTRUTURA DE MADEIRA. | F16: M2 | G16: 42 | H16: 502.02 | I16: =ROUND(H16*$I$12,2) -> 605.94 | J16: =ROUND(G16*$I16,2) -> 25449.48 | K16: =J16/$J$223 -> 0.0020191627
B17: 01.02 | E17: INSTALAÇAO PROVISORIA - CONCESSIONARIA | G17: 0 | I17: =ROUND(H17*$I$12,2) -> 0 | J17: =ROUND(G17*$I17,2) -> 0 | K17: =J17/$J$223 -> 0
B18: 01.02.01 | C18: CPU | D18: 001 | E18: LIGAÇÃO PROVISÓRIA COM ENTRADA DE ENERGIA AÉREA, PADRÃO CEMIG, CARGA INSTALADA DE 15,1KVA ATÉ 30KVA, TRIFÁSICO, COM SAÍDA SUBTERRÂNEA, INCLUSIVE POSTE, CAIXA PARA MEDIDOR, DISJUNTOR, BARRAMENTO, ATERRAMENTO E ACESSÓRIOS | F18: UN | G18: 5 | H18: 1010.69 | I18: =ROUND(H18*$I$12,2) -> 1219.9 | J18: =ROUND(G18*$I18,2) -> 6099.5 | K18: =J18/$J$223 -> 0.00048393456
B19: 01.02.02 | C19: SINAPI | D19: 95635 | E19: KIT CAVALETE PARA MEDIÇÃO DE ÁGUA - ENTRADA PRINCIPAL, EM PVC DN 25 MM (3/4") - FORNECIMENTO E INSTALAÇÃO (EXCLUSIVE HIDRÔMETRO). | F19: UN | G19: 5 | H19: 217.21 | I19: =ROUND(H19*$I$12,2) -> 262.17 | J19: =ROUND(G19*$I19,2) -> 1310.85 | K19: =J19/$J$223 -> 0.00010400289
B20: 01.02.03 | C20: SINAPI | D20: 95675 | E20: HIDRÔMETRO DN 3/4", 5,0 M3/H - FORNECIMENTO E INSTALAÇÃO. | F20: UN | G20: 5 | H20: 211.12 | I20: =ROUND(H20*$I$12,2) -> 254.82 | J20: =ROUND(G20*$I20,2) -> 1274.1 | K20: =J20/$J$223 -> 0.00010108714
B21: 01.03 | E21: CONTAINER | G21: 0 | I21: =ROUND(H21*$I$12,2) -> 0 | J21: =ROUND(G21*$I21,2) -> 0 | K21: =J21/$J$223 -> 0
B22: 01.03.01 | C22: CPU | D22: 002 | E22: MOBILIZAÇÃO DE CONTAINER | F22: UN | G22: 21 | H22: 1200 | I22: =ROUND(H22*$I$12,2) -> 1448.4 | J22: =ROUND(G22*$I22,2) -> 30416.4 | K22: =J22/$J$223 -> 0.0024132383
B23: 01.03.02 | C23: CPU | D23: 003 | E23: DESMOBILIZAÇÃO DE CONTAINER | F23: UN | G23: 21 | H23: 1200 | I23: =ROUND(H23*$I$12,2) -> 1448.4 | J23: =ROUND(G23*$I23,2) -> 30416.4 | K23: =J23/$J$223 -> 0.0024132383
B24: 01.03.03 | C24: SINAPI | D24: 10776 | E24: LOCACAO DE CONTAINER 2,30 X 6,00 M, ALT. 2,50 M, PARA ESCRITORIO, SEM DIVISORIAS INTERNAS E SEM SANITARIO (NAO INCLUI MOBILIZACAO/DESMOBILIZACAO) | F24: MES | G24: 20 | H24: 789.06 | I24: =ROUND(H24*$I$12,2) -> 952.4 | J24: =ROUND(G24*$I24,2) -> 19048 | K24: =J24/$J$223 -> 0.0015112691
B25: 01.03.04 | C25: SINAPI | D25: 10777 | E25: LOCACAO DE CONTAINER 2,30 X 4,30 M, ALT. 2,50 M, PARA SANITARIO, COM 3 BACIAS, 4 CHUVEIROS, 1 LAVATORIO E 1 MICTORIO (NAO INCLUI MOBILIZACAO/DESMOBILIZACAO) | F25: MES | G25: 20 | H25: 1146.77 | I25: =ROUND(H25*$I$12,2) -> 1384.15 | J25: =ROUND(G25*$I25,2) -> 27683 | K25: =J25/$J$223 -> 0.0021963703
B26: 01.03.05 | C26: CPU | D26: 004 | E26: LOCAÇÃO DE CONTAINER COM ISOLAMENTO TÉRMICO, TIPO 4, PARA REFEITÓRIO DE OBRA, COM MEDIDAS REFERENCIAIS DE (6) METROS COMPRIMENTO, (2,3) METROS LARGURA E (2,5) METROS ALTURA ÚTIL INTERNA, INCLUSIVE LIGAÇÕES ELÉTRICAS INTERNAS, EXCLUSIVE MOBILIZAÇÃO/DESMOBILIZAÇÃO E LIGAÇÕES PROVISÓRIAS EXTERNAS | F26: MES | G26: 20 | H26: 925.74 | I26: =ROUND(H26*$I$12,2) -> 1117.37 | J26: =ROUND(G26*$I26,2) -> 22347.4 | K26: =J26/$J$223 -> 0.0017730436
B27: 01.03.06 | C27: CPU | D27: 005 | E27: LOCAÇÃO DE CONTAINER COM ISOLAMENTO TÉRMICO, TIPO 3, PARA DEPÓSITO/FERRAMENTARIA DE OBRA, COM MEDIDAS REFERENCIAIS DE (6) METROS COMPRIMENTO, (2,3) METROS LARGURA E (2,5) METROS ALTURA ÚTIL INTERNA, INCLUSIVE LIGAÇÕES ELÉTRICAS INTERNAS, EXCLUSIVE MOBILIZAÇÃO/DESMOBILIZAÇÃO E LIGAÇÕES PROVISÓRIAS EXTERNAS | F27: MES | G27: 23 | H27: 795.02 | I27: =ROUND(H27*$I$12,2) -> 959.59 | J27: =ROUND(G27*$I27,2) -> 22070.57 | K27: =J27/$J$223 -> 0.0017510799
B28: 01.04 | E28: BANHEIRO QUIMICO | G28: 0 | I28: =ROUND(H28*$I$12,2) -> 0 | J28: =ROUND(G28*$I28,2) -> 0 | K28: =J28/$J$223 -> 0
B29: 01.04.01 | C29: CPU | D29: 006 | E29: LOCAÇÃO DE BANHEIRO QUÍMICO, DIMENSÃO (110X120X230)CM, LINHA PADRÃO, CONTENDO UMA (1) PIA/HIGIENIZADOR DE MÃOS, INCLUSIVE MANUTENÇÃO E MOBILIZAÇÃO/DESMOBILIZAÇÃO | F29: MES | G29: 24 | H29: 980 | I29: =ROUND(H29*$I$12,2) -> 1182.86 | J29: =ROUND(G29*$I29,2) -> 28388.64 | K29: =J29/$J$223 -> 0.0022523558
B30: 01.05 | E30: TAPUME | G30: 0 | I30: =ROUND(H30*$I$12,2) -> 0 | J30: =ROUND(G30*$I30,2) -> 0 | K30: =J30/$J$223 -> 0
B31: 01.05.01 | C31: SINAPI | D31: 98458 | E31: TAPUME COM COMPENSADO DE MADEIRA. | F31: M2 | G31: 122.32 | H31: 99.69 | I31: =ROUND(H31*$I$12,2) -> 120.33 | J31: =ROUND(G31*$I31,2) -> 14718.77 | K31: =J31/$J$223 -> 0.0011677878
B32: 01.06 | E32: ADMINISTRACAO LOCAL DA OBRA | G32: 0 | I32: =ROUND(H32*$I$12,2) -> 0 | J32: =ROUND(G32*$I32,2) -> 0 | K32: =J32/$J$223 -> 0
B33: 01.06.01 | C33: ANEXO | D33: PL | E33: ADMINISTRACAO LOCAL - (conforme planilha em anexo) | F33: UN | G33: 1 | H33: 520874.16 | I33: =ROUND(H33*$I$12,2) -> 628695.11 | J33: =ROUND(G33*$I33,2) -> 628695.11 | K33: =J33/$J$223 -> 0.049880694
G34: 0 | I34: =ROUND(H34*$I$12,2) -> 0 | J34: =ROUND(G34*$I34,2) -> 0 | K34: =J34/$J$223 -> 0
E35: SUB-TOTAL DO ITEM 01 | G35: 0 | J35: =ROUND(SUM(J15:J34),2) -> 857918.22 | K35: =J35/$J$223 -> 0.068067265
G36: 0 | H36: 0 | I36: =ROUND(H36*$I$12,2) -> 0 | J36: =ROUND(G36*$I36,2) -> 0 | K36: =J36/$J$223 -> 0
B37: 02 | E37: DEMOLIÇÕES | G37: 0 | I37: =ROUND(H37*$I$12,2) -> 0 | J37: =ROUND(G37*$I37,2) -> 0 | K37: =J37/$J$223 -> 0
B38: 02.01 | C38: SINAPI | D38: 104790 | E38: DEMOLIÇÃO DE PISO DE CONCRETO SIMPLES, DE FORMA MECANIZADA COM MARTELETE, SEM REAPROVEITAMENTO. | F38: M3 | G38: 116.76 | H38: 117.43 | I38: =ROUND(H38*$I$12,2) -> 141.74 | J38: =ROUND(G38*$I38,2) -> 16549.56 | K38: =J38/$J$223 -> 0.0013130427
B39: 02.02 | C39: CPU | D39: 007 | E39: DEMOLIÇÃO EM CONCRETO ARMADO, DE FORMA MANUAL, SEM REAPROVEITAMENTO. | F39: M3 | G39: 2.88 | H39: 284.38 | I39: =ROUND(H39*$I$12,2) -> 343.25 | J39: =ROUND(G39*$I39,2) -> 988.56 | K39: =J39/$J$223 -> 7.8432388e-05
B40: 02.03 | C40: CPU | D40: 008 | E40: DEMOLIÇÃO DE REVESTIMENTO ASFÁLTICO, COM EQUIPAMENTO PNEUMÁTICO, EXCLUSIVE TRANSPORTE E RETIRADA DO MATERIAL DEMOLIDO | F40: M3 | G40: 29.46 | H40: 162.63 | I40: =ROUND(H40*$I$12,2) -> 196.29 | J40: =ROUND(G40*$I40,2) -> 5782.7 | K40: =J40/$J$223 -> 0.00045879964
B41: 02.04 | E41: CARGA DE MATERIAL DE QQUER NATUREZA SOBRE CAMINHAO | G41: 0 | I41: =ROUND(H41*$I$12,2) -> 0 | J41: =ROUND(G41*$I41,2) -> 0 | K41: =J41/$J$223 -> 0
B42: 02.04.01 | C42: CPU | D42: 009 | E42: CARGA MANUAL DE MATERIAL DE QUALQUER NATUREZA SOBRE CAMINHÃO, EXCLUSIVE TRANSPORTE | F42: M3 | G42: 56.55 | H42: 45.28 | I42: =ROUND(H42*$I$12,2) -> 54.65 | J42: =ROUND(G42*$I42,2) -> 3090.46 | K42: =J42/$J$223 -> 0.00024519722
B43: 02.04.02 | C43: SINAPI | D43: 100982 | E43: CARGA, MANOBRA E DESCARGA DE ENTULHO EM CAMINHÃO BASCULANTE 10 M³ - CARGA COM ESCAVADEIRA HIDRÁULICA (CAÇAMBA DE 0,80 M³ / 111 HP) E DESCARGA LIVRE (UNIDADE: M3) | F43: M3 | G43: 13.73 | H43: 9.33 | I43: =ROUND(H43*$I$12,2) -> 11.26 | J43: =ROUND(G43*$I43,2) -> 154.6 | K43: =J43/$J$223 -> 1.226597e-05
B44: 02.05 | E44: TRANSPORTE DE MATERIAL DEMOLIDO EM CAMINHAO | G44: 0 | I44: =ROUND(H44*$I$12,2) -> 0 | J44: =ROUND(G44*$I44,2) -> 0 | K44: =J44/$J$223 -> 0
...

Sheet PLANILHA ORÇAMENTO (em branco)
B2: PLANILHA ORÇAMENTÁRIA
B3: CÓD. OBRA: | C3: 066 | D3: OBJETO: EXECUÇÃO DE REMANESCENTE DE OBRAS DE CONTENÇÃO DE ENCOSTAS EM 07 ÁREAS DE RISCO, NO MUNICÍPIO DE BETIM-MG. ÁREAS PREVISTAS NO TERMO DE COMPROMISSO N.º 0.398.478-71 .
B4: REFERÊNCIA: | C4: TABELA SINAPI SEM DESONERAÇÃO - BASE JULHO DE 2025
B5: REFERÊNCIA: | C5: TABELA SUDECAP ONERADA - BASE ABRIL DE 2025
B6: REFERÊNCIA: | C6: TABELA SICOR-MG SEM DESONERAÇÃO - BASE ABRIL DE 2025
B7: REFERÊNCIA: | C7: TABELA DNIT SEM DESONERAÇÃO - BASE ABRIL DE 2025 (REVISADO) | H7: BDI SERVIÇOS
B8: DATA BASE DO ORÇAMENTO: JULHO DE 2025
B10: ITEM | C10: REFERÊNCIA | D10: CÓDIGO | E10: DESCRIÇÃO | F10: UNIDADE | G10: QUANT. TOTAL | H10: PREÇO UNITÁRIO (SEM BDI) | I10: PREÇO UNITÁRIO (COM BDI) | J10: PREÇO TOTAL (COM BDI) | K10: % PESO
H12: BDI SERVIÇOS
B14: 01 | E14: INSTALAÇAO DA OBRA E ADMINISTRAÇÃO LOCAL
B15: 01.01 | E15: PLACA DE OBRA
B16: 01.01.01 | C16: SINAPI | D16: 103689 | E16: FORNECIMENTO E INSTALAÇÃO DE PLACA DE OBRA COM CHAPA GALVANIZADA E ESTRUTURA DE MADEIRA. | F16: M2 | G16: 42
B17: 01.02 | E17: INSTALAÇAO PROVISORIA - CONCESSIONARIA | G17: 0
B18: 01.02.01 | C18: CPU | D18: 001 | E18: LIGAÇÃO PROVISÓRIA COM ENTRADA DE ENERGIA AÉREA, PADRÃO CEMIG, CARGA INSTALADA DE 15,1KVA ATÉ 30KVA, TRIFÁSICO, COM SAÍDA SUBTERRÂNEA, INCLUSIVE POSTE, CAIXA PARA MEDIDOR, DISJUNTOR, BARRAMENTO, ATERRAMENTO E ACESSÓRIOS | F18: UN | G18: 5
B19: 01.02.02 | C19: SINAPI | D19: 95635 | E19: KIT CAVALETE PARA MEDIÇÃO DE ÁGUA - ENTRADA PRINCIPAL, EM PVC DN 25 MM (3/4") - FORNECIMENTO E INSTALAÇÃO (EXCLUSIVE HIDRÔMETRO). | F19: UN | G19: 5
B20: 01.02.03 | C20: SINAPI | D20: 95675 | E20: HIDRÔMETRO DN 3/4", 5,0 M3/H - FORNECIMENTO E INSTALAÇÃO. | F20: UN | G20: 5
B21: 01.03 | E21: CONTAINER | G21: 0
B22: 01.03.01 | C22: CPU | D22: 002 | E22: MOBILIZAÇÃO DE CONTAINER | F22: UN | G22: 21
B23: 01.03.02 | C23: CPU | D23: 003 | E23: DESMOBILIZAÇÃO DE CONTAINER | F23: UN | G23: 21
B24: 01.03.03 | C24: SINAPI | D24: 10776 | E24: LOCACAO DE CONTAINER 2,30 X 6,00 M, ALT. 2,50 M, PARA ESCRITORIO, SEM DIVISORIAS INTERNAS E SEM SANITARIO (NAO INCLUI MOBILIZACAO/DESMOBILIZACAO) | F24: MES | G24: 20
B25: 01.03.04 | C25: SINAPI | D25: 10777 | E25: LOCACAO DE CONTAINER 2,30 X 4,30 M, ALT. 2,50 M, PARA SANITARIO, COM 3 BACIAS, 4 CHUVEIROS, 1 LAVATORIO E 1 MICTORIO (NAO INCLUI MOBILIZACAO/DESMOBILIZACAO) | F25: MES | G25: 20
B26: 01.03.05 | C26: CPU | D26: 004 | E26: LOCAÇÃO DE CONTAINER COM ISOLAMENTO TÉRMICO, TIPO 4, PARA REFEITÓRIO DE OBRA, COM MEDIDAS REFERENCIAIS DE (6) METROS COMPRIMENTO, (2,3) METROS LARGURA E (2,5) METROS ALTURA ÚTIL INTERNA, INCLUSIVE LIGAÇÕES ELÉTRICAS INTERNAS, EXCLUSIVE MOBILIZAÇÃO/DESMOBILIZAÇÃO E LIGAÇÕES PROVISÓRIAS EXTERNAS | F26: MES | G26: 20
B27: 01.03.06 | C27: CPU | D27: 005 | E27: LOCAÇÃO DE CONTAINER COM ISOLAMENTO TÉRMICO, TIPO 3, PARA DEPÓSITO/FERRAMENTARIA DE OBRA, COM MEDIDAS REFERENCIAIS DE (6) METROS COMPRIMENTO, (2,3) METROS LARGURA E (2,5) METROS ALTURA ÚTIL INTERNA, INCLUSIVE LIGAÇÕES ELÉTRICAS INTERNAS, EXCLUSIVE MOBILIZAÇÃO/DESMOBILIZAÇÃO E LIGAÇÕES PROVISÓRIAS EXTERNAS | F27: MES | G27: 23
B28: 01.04 | E28: BANHEIRO QUIMICO | G28: 0
B29: 01.04.01 | C29: CPU | D29: 006 | E29: LOCAÇÃO DE BANHEIRO QUÍMICO, DIMENSÃO (110X120X230)CM, LINHA PADRÃO, CONTENDO UMA (1) PIA/HIGIENIZADOR DE MÃOS, INCLUSIVE MANUTENÇÃO E MOBILIZAÇÃO/DESMOBILIZAÇÃO | F29: MES | G29: 24
B30: 01.05 | E30: TAPUME | G30: 0
B31: 01.05.01 | C31: SINAPI | D31: 98458 | E31: TAPUME COM COMPENSADO DE MADEIRA. | F31: M2 | G31: 122.32
B32: 01.06 | E32: ADMINISTRACAO LOCAL DA OBRA | G32: 0
B33: 01.06.01 | C33: ANEXO | D33: PL | E33: ADMINISTRACAO LOCAL - (conforme planilha em anexo) | F33: UN | G33: 1
G34: 0
E35: SUB-TOTAL DO ITEM 01 | G35: 0
G36: 0
B37: 02 | E37: DEMOLIÇÕES | G37: 0
B38: 02.01 | C38: SINAPI | D38: 104790 | E38: DEMOLIÇÃO DE PISO DE CONCRETO SIMPLES, DE FORMA MECANIZADA COM MARTELETE, SEM REAPROVEITAMENTO. | F38: M3 | G38: 116.76
B39: 02.02 | C39: CPU | D39: 007 | E39: DEMOLIÇÃO EM CONCRETO ARMADO, DE FORMA MANUAL, SEM REAPROVEITAMENTO. | F39: M3 | G39: 2.88
B40: 02.03 | C40: CPU | D40: 008 | E40: DEMOLIÇÃO DE REVESTIMENTO ASFÁLTICO, COM EQUIPAMENTO PNEUMÁTICO, EXCLUSIVE TRANSPORTE E RETIRADA DO MATERIAL DEMOLIDO | F40: M3 | G40: 29.46
B41: 02.04 | E41: CARGA DE MATERIAL DE QQUER NATUREZA SOBRE CAMINHAO | G41: 0
B42: 02.04.01 | C42: CPU | D42: 009 | E42: CARGA MANUAL DE MATERIAL DE QUALQUER NATUREZA SOBRE CAMINHÃO, EXCLUSIVE TRANSPORTE | F42: M3 | G42: 56.55
B43: 02.04.02 | C43: SINAPI | D43: 100982 | E43: CARGA, MANOBRA E DESCARGA DE ENTULHO EM CAMINHÃO BASCULANTE 10 M³ - CARGA COM ESCAVADEIRA HIDRÁULICA (CAÇAMBA DE 0,80 M³ / 111 HP) E DESCARGA LIVRE (UNIDADE: M3) | F43: M3 | G43: 13.73
B44: 02.05 | E44: TRANSPORTE DE MATERIAL DEMOLIDO EM CAMINHAO | G44: 0
...

Sheet PLAN ADM
B3: PLANILHA ADMINISTRAÇÃO LOCAL
B4: CÓD. OBRA: 066 | C4: OBJETO: EXECUÇÃO DE REMANESCENTE DE OBRAS DE CONTENÇÃO DE ENCOSTAS EM 07 ÁREAS DE RISCO, NO MUNICÍPIO DE BETIM-MG. ÁREAS PREVISTAS NO TERMO DE COMPROMISSO N.º 0.398.478-71 .
B5: REFERÊNCIA: | C5: TABELA SINAPI SEM DESONERAÇÃO - BASE JULHO DE 2025
B6: REFERÊNCIA: | C6: TABELA SUDECAP ONERADA - BASE ABRIL DE 2025
B7: REFERÊNCIA: | C7: TABELA SICOR-MG SEM DESONERAÇÃO - BASE ABRIL DE 2025
B8: REFERÊNCIA: | C8: TABELA DNIT SEM DESONERAÇÃO - BASE ABRIL DE 2025 (REVISADO)
B9: DATA BASE DO ORÇAMENTO: JULHO DE 2025
B11: ITEM | C11: REF. | D11: CÓDIGO | E11: DESCRIÇÃO | F11: UNID. | G11: QUANT. | H11: PREÇO UNITÁRIO (SEM BDI) | I11: PREÇO TOTAL (SEM BDI)
B15: 01.06 | E15: ADMINISTRACAO LOCAL DA OBRA
B16: 01.06.01 | C16: SINAPI | D16: 90778 | E16: ENGENHEIRO CIVIL DE OBRA PLENO COM ENCARGOS COMPLEMENTARES | F16: H | G16: =22*12*6 -> 1584 | H16: 135.75 | I16: =ROUND(G16*H16,2) -> 215028
B17: 01.06.02 | C17: SINAPI | D17: 93572 | E17: ENCARREGADO GERAL DE OBRAS COM ENCARGOS COMPLEMENTARES | F17: MÊS | G17: 12 | H17: 11968.97 | I17: =ROUND(G17*H17,2) -> 143627.64
B18: 01.06.03 | C18: SINAPI | D18: 100321 | E18: TÉCNICO EM SEGURANÇA DO TRABALHO COM ENCARGOS COMPLEMENTARES | F18: MÊS | G18: 12 | H18: 7515.77 | I18: =ROUND(G18*H18,2) -> 90189.24
B19: 01.06.04 | C19: SINAPI | D19: 90781 | E19: TOPOGRAFO COM ENCARGOS COMPLEMENTARES | F19: H | G19: 144 | H19: 47.65 | I19: =ROUND(G19*H19,2) -> 6861.6
B20: 01.06.05 | C20: SINAPI | D20: 88253 | E20: AUXILIAR DE TOPÓGRAFO COM ENCARGOS COMPLEMENTARES | F20: H | G20: 144 | H20: 22.68 | I20: =ROUND(G20*H20,2) -> 3265.92
B21: 01.06.06 | C21: SUDECAP | D21: 45.01.03 | E21: LOCAÇÃO VEICULO TIPO PICAPE LEVE C/ SEGURO SEM COMBUSTÍVEL | F21: MÊS | G21: 12 | H21: 3924.48 | I21: =ROUND(G21*H21,2) -> 47093.76
B22: 01.06.07 | C22: SINAPI | D22: 4222 | E22: GASOLINA COMUM - (CONSIDERADO 200 LITROS MÊS) | F22: L | G22: =ROUND(G21*200,2) -> 2400 | H22: 6.17 | I22: =ROUND(G22*H22,2) -> 14808
E24: TOTAL DO ITEM 01.06 | I24: =SUM(I16:I23) -> 520874.16

Sheet PLAN ADM (em branco)
B3: PLANILHA ADMINISTRAÇÃO LOCAL
B4: CÓD. OBRA: 066 | C4: OBJETO: EXECUÇÃO DE REMANESCENTE DE OBRAS DE CONTENÇÃO DE ENCOSTAS EM 07 ÁREAS DE RISCO, NO MUNICÍPIO DE BETIM-MG. ÁREAS PREVISTAS NO TERMO DE COMPROMISSO N.º 0.398.478-71 .
B5: REFERÊNCIA: | C5: TABELA SINAPI SEM DESONERAÇÃO - BASE JULHO DE 2025
B6: REFERÊNCIA: | C6: TABELA SUDECAP ONERADA - BASE ABRIL DE 2025
B7: REFERÊNCIA: | C7: TABELA SICOR-MG SEM DESONERAÇÃO - BASE ABRIL DE 2025
B8: REFERÊNCIA: | C8: TABELA DNIT SEM DESONERAÇÃO - BASE ABRIL DE 2025 (REVISADO)
B9: DATA BASE DO ORÇAMENTO: JULHO DE 2025
B11: ITEM | C11: REF. | D11: CÓDIGO | E11: DESCRIÇÃO | F11: UNID. | G11: QUANT. | H11: PREÇO UNITÁRIO (SEM BDI) | I11: PREÇO TOTAL (SEM BDI)
B15: 01.06 | E15: ADMINISTRACAO LOCAL DA OBRA
B16: 01.06.01 | C16: SINAPI | D16: 90778 | E16: ENGENHEIRO CIVIL DE OBRA PLENO COM ENCARGOS COMPLEMENTARES | F16: H | G16: =22*12*6 -> 1584
B17: 01.06.02 | C17: SINAPI | D17: 93572 | E17: ENCARREGADO GERAL DE OBRAS COM ENCARGOS COMPLEMENTARES | F17: MÊS | G17: 12
B18: 01.06.03 | C18: SINAPI | D18: 100321 | E18: TÉCNICO EM SEGURANÇA DO TRABALHO COM ENCARGOS COMPLEMENTARES | F18: MÊS | G18: 12
B19: 01.06.04 | C19: SINAPI | D19: 90781 | E19: TOPOGRAFO COM ENCARGOS COMPLEMENTARES | F19: H | G19: 144
B20: 01.06.05 | C20: SINAPI | D20: 88253 | E20: AUXILIAR DE TOPÓGRAFO COM ENCARGOS COMPLEMENTARES | F20: H | G20: 144
B21: 01.06.06 | C21: SUDECAP | D21: 45.01.03 | E21: LOCAÇÃO VEICULO TIPO PICAPE LEVE C/ SEGURO SEM COMBUSTÍVEL | F21: MÊS | G21: 12
B22: 01.06.07 | C22: SINAPI | D22: 4222 | E22: GASOLINA COMUM - (CONSIDERADO 200 LITROS MÊS) | F22: L | G22: =ROUND(G21*200,2) -> 2400
E24: TOTAL DO ITEM 01.06

Sheet BDI TCU 2622 -URBANAS 
B2: CALCULO DO BDI RODOVIAS , FERROVIAS E CONGENERES
B3: Acórdão 2622/2013
B4: CÓD. OBRA: 066 | C4: OBJETO: EXECUÇÃO DE REMANESCENTE DE OBRAS DE CONTENÇÃO DE ENCOSTAS EM 07 ÁREAS DE RISCO, NO MUNICÍPIO DE BETIM-MG. ÁREAS PREVISTAS NO TERMO DE COMPROMISSO N.º 0.398.478-71 .
B6: Parâmetros para cálculo do BDI
B7: Itens Admissíveis | C7: Intervalos admissíveis sem justificativa | I7: Índices adotados (Quartil médio)
B9: Administração Central (AC) | C9: De | D9: 0.038 | F9: até | G9: 0.0467 | I9: Administração Central (AC) | J9: 0.0401
B10: Seguro e Garantia (S+G) | C10: De | D10: 0.0032 | F10: até | G10: 0.0074 | I10: Seguro e Garantia (S+G) | J10: 0.004
B11: Risco (R) | C11: De | D11: 0.005 | F11: até | G11: 0.0097 | I11: Risco (R) | J11: 0.0056
B12: Despesas financeiras (DF) | C12: De | D12: 0.0102 | F12: até | G12: 0.0121 | I12: Despesas financeiras (DF) | J12: 0.0111
B13: Lucro (L) | C13: De | D13: 0.0664 | F13: até | G13: 0.0869 | I13: Lucro (L) | J13: 0.073
B14: Tributos (T) | C14: De | D14: 0.0565 | F14: até | G14: 0.0865 | I14: Tributos (T) | J14: =C26 -> 0.0565
B15: INSS desoneração (E) | D15: 0 | F15: ou | G15: 0.045 | I15: INSS desoneração (E) | J15: 0
B16: Controle
B17: Administração Central (AC) | C17: =IF(J9>G9,"Incidência maior que a permitida",IF(J9<D9,"Incidência menor que a permitida","ok")) -> ok
B18: Seguro e Garantia (S+G) | C18: =IF(J10>G10,"Incidência maior que a permitida",IF(J10<0,"Incidência menor que a permitida","ok")) -> ok
B19: Risco (R) | C19: =IF(J11>G11,"Incidência maior que a permitida",IF(J11<0,"Incidência menor que a permitida","ok")) -> ok
B20: Despesas financeiras (DF) | C20: =IF(J12>G12,"Incidência maior que a permitida",IF(J12<D12,"Incidência menor que a permitida","ok")) -> ok
B21: Lucro (L) | C21: =IF(J13>G13,"Incidência maior que a permitida",IF(J13<D13,"Incidência menor que a permitida","ok")) -> ok
B22: Tributos (T) | C22: =IF(J14>G14,"Incidência maior que a permitida",IF(J14<D14,"Incidência menor que a permitida","ok")) -> ok
B23: INSS desoneração (E) | C23: =IF(J15=D15,"ok",IF(J15=G15,"ok","Incidência não permitida")) -> ok
B24: BDI CALCULADO ----> | C24: BDI = (1+AC+S+R+G)*(1+DF)*(1+L)/(1-(T+E)) | J24: =ROUND(((1+J9+J10+J11)*(1+J12)*(1+J13)/(1-(J14+J15))-1),4) -> 0.207
B26: TRIBUTOS: | C26: =SUM(C27:D29) -> 0.0565
B27: PIS | C27: 0.0065
B28: COFINS | C28: 0.03
B29: ISS | C29: 0.02 | E29: (Lei Municipal nº 2518 – 21/12/1994) - (Art. 6º - XXIV)

Sheet CRON-GERAL
D2: CRONOGRAMA FÍSICO - FINANCEIRO
C3: CÓD. OBRA: 066 | D3: OBJETO: EXECUÇÃO DE REMANESCENTE DE OBRAS DE CONTENÇÃO DE ENCOSTAS EM 07 ÁREAS DE RISCO, NO MUNICÍPIO DE BETIM-MG. ÁREAS PREVISTAS NO TERMO DE COMPROMISSO N.º 0.398.478-71 .
B5: Item | C5: Descricao | D5: Pr. Total | E5: PART. % | F5: MÊS 01 | G5: MÊS 02 | H5: MÊS 03 | I5: MÊS 04 | J5: MÊS 05 | K5: MÊS 06 | L5: MÊS 07 | M5: MÊS 08 | N5: MÊS 09 | O5: MÊS 10 | P5: MÊS 11 | Q5: MÊS 12 | R5: % total
B7: ='PLANILHA ORÇAMENTO'!B14 -> 01 | C7: ='PLANILHA ORÇAMENTO'!E14 -> INSTALAÇAO DA OBRA E ADMINISTRAÇÃO LOCAL | D7: ='PLANILHA ORÇAMENTO'!J35 -> 857918.22 | E7: =D7/D34 -> 0.068067265 | F7: 0.058 | G7: 0.0947 | H7: 0.0876 | I7: 0.0747 | J7: 0.102 | K7: 0.1005 | L7: 0.1048 | M7: 0.096 | N7: 0.0921 | O7: 0.0827 | P7: 0.0581 | Q7: 0.0488 | R7: =SUM(F7:Q7) -> 1
F8: =$D$7*F7 -> 49759.257 | G8: =$D$7*G7 -> 81244.855 | H8: =$D$7*H7 -> 75153.636 | I8: =$D$7*I7 -> 64086.491 | J8: =$D$7*J7 -> 87507.658 | K8: =$D$7*K7 -> 86220.781 | L8: =$D$7*L7 -> 89909.829 | M8: =$D$7*M7 -> 82360.149 | ... Q8: =$D$7*Q7 -> 41866.409 | R8: =SUM(F8:Q8) -> 857918.22 | S8: =D7-R8 -> 0
S9: =D8-R9 -> 0
B10: ='PLANILHA ORÇAMENTO'!B37 -> 02 | C10: ='PLANILHA ORÇAMENTO'!E37 -> DEMOLIÇÕES | D10: ='PLANILHA ORÇAMENTO'!J47 -> 29916.15 | E10: =D10/D34 -> 0.0023735485 | G10: 0.0446 | H10: 0 | I10: 0 | J10: 0.5653 | K10: 0.2605 | L10: 0.1296 | R10: =SUM(F10:Q10) -> 1
G11: =$D$10*G10 -> 1334.2603 | H11: 0 | I11: 0 | J11: =$D$10*J10 -> 16911.6 | K11: =$D$10*K10 -> 7793.1571 | L11: =$D$10*L10 -> 3877.133 | R11: =SUM(F11:Q11) -> 29916.15 | S11: =D10-R11 -> 0
S12: =D11-R12 -> 0
B13: ='PLANILHA ORÇAMENTO'!B49 -> 03 | C13: ='PLANILHA ORÇAMENTO'!E49 -> LIMPEZA DO TERRENO | D13: ='PLANILHA ORÇAMENTO'!J61 -> 534494.38 | E13: =D13/D34 -> 0.042406805 | F13: 0.0196 | G13: 0.0623 | J13: 0.6422 | K13: 0.2065 | L13: 0 | M13: 0 | N13: 0.0263 | O13: 0.0431 | R13: =SUM(F13:Q13) -> 1
F14: =$D$13*F13 -> 10476.09 | G14: =$D$13*G13 -> 33299 | J14: =$D$13*J13 -> 343252.29 | K14: =$D$13*K13 -> 110373.09 | L14: 0 | M14: 0 | N14: =$D$13*N13 -> 14057.202 | O14: =$D$13*O13 -> 23036.708 | R14: =SUM(F14:Q14) -> 534494.38 | S14: =D13-R14 -> 0
S15: =D14-R15 -> 0
B16: ='PLANILHA ORÇAMENTO'!B63 -> 04 | C16: ='PLANILHA ORÇAMENTO'!E63 -> VIABILIZAÇÃO DAS OBRAS | D16: ='PLANILHA ORÇAMENTO'!J69 -> 4987.59 | E16: =D16/D34 -> 0.00039571558 | O16: 1 | R16: =SUM(F16:Q16) -> 1
O17: =$D$16*O16 -> 4987.59 | R17: =SUM(F17:Q17) -> 4987.59 | S17: =D16-R17 -> 0
S18: =D17-R18 -> 0
B19: ='PLANILHA ORÇAMENTO'!B71 -> 05 | C19: ='PLANILHA ORÇAMENTO'!E71 -> DRENAGEM (LANÇAMENTO) | D19: ='PLANILHA ORÇAMENTO'!J129 -> 2328681.4 | E19: =D19/D34 -> 0.18475767 | F19: 0.0223 | G19: 0.0557 | H19: 0.0781 | I19: 0.0297 | J19: 0.1021 | K19: 0.2082 | L19: 0.2055 | M19: 0.1357 | N19: 0.0451 | O19: 0.0631 | P19: 0.0416 | Q19: 0.0129 | R19: =SUM(F19:Q19) -> 1
F20: =$D$19*F19 -> 51929.594 | G20: =$D$19*G19 -> 129707.55 | H20: =$D$19*H19 -> 181870.01 | I20: =$D$19*I19 -> 69161.836 | J20: =$D$19*J19 -> 237758.37 | K20: =$D$19*K19 -> 484831.46 | L20: =$D$19*L19 -> 478544.02 | M20: =$D$19*M19 -> 316002.06 | ... Q20: =$D$19*Q19 -> 30039.99 | R20: =SUM(F20:Q20) -> 2328681.4 | S20: =D19-R20 -> 0
S21: =D20-R21 -> 0
B22: ='PLANILHA ORÇAMENTO'!B131 -> 06 | C22: ='PLANILHA ORÇAMENTO'!E131 -> URBANIZAÇAO E OBRAS COMPLEMENTARES | D22: ='PLANILHA ORÇAMENTO'!J152 -> 456563.31 | E22: =D22/D34 -> 0.036223751 | F22: 0.2034 | G22: 0.0694 | H22: 0.2082 | I22: 0.4164 | J22: 0 | K22: 0 | L22: 0 | M22: 0.0084 | N22: 0.076 | O22: 0 | P22: 0.0045 | Q22: 0.0137 | R22: =SUM(F22:Q22) -> 1
F23: =$D$22*F22 -> 92864.977 | G23: =$D$22*G22 -> 31685.494 | H23: =$D$22*H22 -> 95056.481 | I23: =$D$22*I22 -> 190112.96 | J23: 0 | K23: 0 | L23: 0 | M23: =$D$22*M22 -> 3835.1318 | N23: =$D$22*N22 -> 34698.812 | O23: 0 | P23: =$D$22*P22 -> 2054.5349 | Q23: =$D$22*Q22 -> 6254.9173 | R23: =SUM(F23:Q23) -> 456563.31 | S23: =D22-R23 -> 0
S24: =D23-R24 -> 0
B25: ='PLANILHA ORÇAMENTO'!B154 -> 07 | C25: ='PLANILHA ORÇAMENTO'!E154 -> REDE DE ESGOTO | D25: ='PLANILHA ORÇAMENTO'!J186 -> 547453.19 | E25: =D25/D34 -> 0.043434957 | G25: 0.198 | H25: 0.1584 | I25: 0.0396 | J25: 0.0058 | K25: 0.1381 | L25: 0.2904 | M25: 0.1697 | R25: =SUM(F25:Q25) -> 1
G26: =$D$25*G25 -> 108395.73 | H26: =$D$25*H25 -> 86716.585 | I26: =$D$25*I25 -> 21679.146 | J26: =$D$25*J25 -> 3175.2285 | K26: =$D$25*K25 -> 75603.286 | L26: =$D$25*L25 -> 158980.41 | M26: =$D$25*M25 -> 92902.806 | R26: =SUM(F26:Q26) -> 547453.19 | S26: =D25-R26 -> 0
S27: =D26-R27 -> 0
B28: ='PLANILHA ORÇAMENTO'!B188 -> 08 | C28: ='PLANILHA ORÇAMENTO'!E188 -> OBRAS DE CONTEÇÃO - PROTECAO DE TALUDE / GABIAO | D28: ='PLANILHA ORÇAMENTO'!J209 -> 6721971.1 | E28: =D28/D34 -> 0.53332145 | F28: 0.0542 | G28: 0.1084 | H28: 0.1264 | I28: 0.0722 | J28: 0.0293 | K28: 0.0585 | L28: 0.0585 | M28: 0.0878 | N28: 0.0929 | O28: 0.138 | P28: 0.1044 | Q28: 0.0694 | R28: =SUM(F28:Q28) -> 1
F29: =$D$28*F28 -> 364330.84 | G29: =$D$28*G28 -> 728661.67 | H29: =$D$28*H28 -> 849657.15 | I29: =$D$28*I28 -> 485326.32 | J29: =$D$28*J28 -> 196953.75 | K29: =$D$28*K28 -> 393235.31 | L29: =$D$28*L28 -> 393235.31 | M29: =$D$28*M28 -> 590189.07 | ... Q29: =$D$28*Q28 -> 466504.8 | R29: =SUM(F29:Q29) -> 6721971.1 | S29: =D28-R29 -> 0
S30: =D29-R30 -> 0
B31: ='PLANILHA ORÇAMENTO'!B211 -> 09 | C31: ='PLANILHA ORÇAMENTO'!E211 -> CONTENCAO EM SOLO GRAMPEADO E ENTELAMENTO ROCHOSO | D31: ='PLANILHA ORÇAMENTO'!J221 -> 1121991.4 | E31: =D31/D34 -> 0.089018842 | G31: 0.0004 | H31: 0.0008 | I31: 0.003 | J31: 0.0996 | K31: 0.2987 | L31: 0.3983 | M31: 0.1992 | R31: =SUM(F31:Q31) -> 1
G32: =$D$31*G31 -> 448.79657 | H32: =$D$31*H31 -> 897.59314 | I32: =$D$31*I31 -> 3365.9743 | J32: =$D$31*J31 -> 111750.35 | K32: =$D$31*K31 -> 335138.84 | L32: =$D$31*L31 -> 446889.18 | M32: =$D$31*M31 -> 223500.69 | R32: =SUM(F32:Q32) -> 1121991.4 | S32: =D31-R32 -> 0
C34: TOTAL GERAL DA OBRA | D34: =SUM(D6:D33) -> 12603977 | E34: =SUM(E6:E33) -> 1
C36: % TOTAL | F36: =F39/D34 -> 0.045173104 | G36: =G38/$D$34 -> 0.088446479 | H36: =H38/$D$34 -> 0.10229719 | I36: =I38/$D$34 -> 0.066148387 | J36: =J38/$D$34 -> 0.079126554 | K36: =K38/$D$34 -> 0.11847022 | L36: =L38/$D$34 -> 0.12467778 | M36: =M38/$D$34 -> 0.10383944 | N36: =N38/$D$34 -> 0.068015432 | ... Q36: =Q38/$D$34 -> 0.04321383 | R36: =SUM(F36:Q36) -> 1
C37: % TOTAL ACUMULADO | F37: =F38/D34 -> 0.045173104 | G37: =F37+G36 -> 0.13361958 | H37: =G37+H36 -> 0.23591678 | I37: =H37+I36 -> 0.30206516 | J37: =I37+J36 -> 0.38119172 | K37: =J37+K36 -> 0.49966194 | L37: =K37+L36 -> 0.62433972 | M37: =L37+M36 -> 0.72817916 | N37: =M37+N36 -> 0.7961946 | ... Q37: =P37+Q36 -> 1 | R37: -
C38: VALOR TOTAL | F38: =F8+F11+F14+F17+F20+F23+F26+F29+F32 -> 569360.75 | G38: =G8+G11+G14+G17+G20+G23+G26+G29+G32 -> 1114777.4 | H38: =H8+H11+H14+H17+H20+H23+H26+H29+H32 -> 1289351.5 | I38: =I8+I11+I14+I17+I20+I23+I26+I29+I32 -> 833732.73 | J38: =J8+J11+J14+J17+J20+J23+J26+J29+J32 -> 997309.24 | K38: =K8+K11+K14+K17+K20+K23+K26+K29+K32 -> 1493195.9 | L38: =L8+L11+L14+L17+L20+L23+L26+L29+L32 -> 1571435.9 | M38: =M8+M11+M14+M17+M20+M23+M26+M29+M32 -> 1308789.9 | ... Q38: =Q8+Q11+Q14+Q17+Q20+Q23+Q26+Q29+Q32 -> 544666.11 | R38: =SUM(F38:Q38) -> 12603977 | S38: =D34-R38 -> 0
C39: VALOR TOTAL ACUMULADO | F39: =F38 -> 569360.75 | G39: =F39+G38 -> 1684138.1 | H39: =G39+H38 -> 2973489.6 | I39: =H39+I38 -> 3807222.3 | J39: =I39+J38 -> 4804531.5 | K39: =J39+K38 -> 6297727.5 | L39: =K39+L38 -> 7869163.3 | M39: =L39+M38 -> 9177953.3 | N39: =M39+N38 -> 10035218 | ... Q39: =P39+Q38 -> 12603977 | R39: -
F43: DISTRIBUIÇÃO DE CRONOGRAMA PREVISTO PARA AS 07 ÁREAS - SENDO 02 EM CONCOMITÂNCIA CONFORME DISPONIBILIDADE
F44: MÊS 01 | G44: MÊS 02 | H44: MÊS 03 | I44: MÊS 04 | J44: MÊS 05 | K44: MÊS 06 | L44: MÊS 07 | M44: MÊS 08 | N44: MÊS 09 | O44: MÊS 10 | P44: MÊS 11 | Q44: MÊS 12
F46: ÁREA 23 | G46: ÁREA 09 | H46: ÁREA 09 | I46: ÁREA 09 | J46: ÁREA 18 | K46: ÁREA 18 | L46: ÁREA 18 | M46: ÁREA 18 | N46: ÁREA 18 | O46: ÁREA 11 | P46: ÁREA 11 | Q46: ÁREA 11
F47: ÁREA 07 | G47: ÁREA 07 | H47: ÁREA 07 | I47: ÁREA 07 | J47: ÁREA 22 | K47: ÁREA 22 | L47: ÁREA 22 | M47: ÁREA 22 | N47: ÁREA 21 | O47: ÁREA 21 | P47: ÁREA 21 | Q47: ÁREA 21
