Workbook
Name \0: #REF!
Name \0: #REF!
Name \0: #REF!
Name \0: #REF!
Name \0: #REF!
Name \0: #REF!
Name \0: #REF!
Name \0: #REF!
Name \0: #REF!
Name \0: #REF!
Name \0: #REF!
Name \0: #REF!
Name \0: #REF!
Name \0: #REF!
Name \0: #REF!
Name \0: #REF!
Name \0: #REF!
Name \0: #REF!
Name \0: "#ref!"
Name \0: #REF!
Name \0: #REF!
Name \a: #REF!
Name \a: #REF!
Name \a: #REF!
Name \a: #REF!
Name \a: #REF!
Name \a: #REF!
Name \a: #REF!
Name \a: #REF!
Name \a: #REF!
Name \a: #REF!
Name \a: #REF!
Name \a: #REF!
Name \a: #REF!
Name \a: #REF!
Name \a: #REF!
Name \a: #REF!
Name \a: #REF!
Name \a: #REF!
Name \a: #REF!
Name \a: #REF!
Name \b: '[1]Quilometragem de Setor'!#REF!
Name \b: '[2]Quilometragem de Setor'!#REF!
Name \b: '[3]Quilometragem de Setor'!#REF!
Name \b: '[3]Quilometragem de Setor'!#REF!
Name \b: '[3]Quilometragem de Setor'!#REF!
Name \b: '[3]Quilometragem de Setor'!#REF!
Name \b: '[3]Quilometragem de Setor'!#REF!
Name \b: '[3]Quilometragem de Setor'!#REF!
Name \b: '[3]Quilometragem de Setor'!#REF!
Name \b: '[3]Quilometragem de Setor'!#REF!
Name \b: '[3]Quilometragem de Setor'!#REF!
Name \b: '[3]Quilometragem de Setor'!#REF!
Name \b: '[1]Quilometragem de Setor'!#REF!
Name \b: '[3]Quilometragem de Setor'!#REF!
Name \b: '[3]Quilometragem de Setor'!#REF!
Name \b: '[1]Quilometragem de Setor'!#REF!
Name \b: '[3]Quilometragem de Setor'!#REF!
Name \b: '[3]Quilometragem de Setor'!#REF!
Name \b: '[3]Quilometragem de Setor'!#REF!

Sheet PLAN RESUMO
B3: RESUMO GERAL DAS ÁREAS
B4: OBJETO: EXECUÇÃO DE REMANESCENTE DE OBRAS DE CONTENÇÃO DE ENCOSTAS EM 07 ÁREAS DE RISCO, NO MUNICÍPIO DE BETIM-MG. ÁREAS PREVISTAS NO TERMO DE COMPROMISSO N.º 0.398.478-71 .
B6: ÁREAS | C6: VALORES
B7: AREA -07 | C7: ='PLANILHA ORÇAMENTO 29.05.25'!Q223 -> 2688763 | D7: ok
B8: AREA -09 | C8: ='PLANILHA ORÇAMENTO 29.05.25'!R223 -> 1009486.3 | D8: ok
B9: AREA -11 | C9: ='PLANILHA ORÇAMENTO 29.05.25'!S223 -> 73607.87 | D9: ok
B10: AREA -18 | C10: ='PLANILHA ORÇAMENTO 29.05.25'!T223 -> 4635241.3 | D10: ok
B11: AREA -21 | C11: ='PLANILHA ORÇAMENTO 29.05.25'!U223 -> 2778828.2 | D11: ok
B12: AREA -22 | C12: ='PLANILHA ORÇAMENTO 29.05.25'!V223 -> 1312535.5 | D12: ok
B13: AREA -23 | C13: ='PLANILHA ORÇAMENTO 29.05.25'!W223 -> 105514.59 | D13: ok
B16: TOTAL DA PLANILHA GERAL | C16: ='PLANILHA ORÇAMENTO 29.05.25'!X223 -> 12603977

Sheet PLANILHA ORÇAMENTO 29.05.25
B2: PLANILHA ORÇAMENTÁRIA
B3: CÓD. OBRA: | C3: 066 | D3: OBJETO: EXECUÇÃO DE REMANESCENTE DE OBRAS DE CONTENÇÃO DE ENCOSTAS EM 07 ÁREAS DE RISCO, NO MUNICÍPIO DE BETIM-MG. ÁREAS PREVISTAS NO TERMO DE COMPROMISSO N.º 0.398.478-71 .
B4: REFERÊNCIA: | C4: TABELA SINAPI SEM DESONERAÇÃO - BASE JULHO DE 2025
B5: REFERÊNCIA: | C5: TABELA SUDECAP ONERADA - BASE ABRIL DE 2025
B6: REFERÊNCIA: | C6: TABELA SICOR-MG SEM DESONERAÇÃO - BASE ABRIL DE 2025
B7: REFERÊNCIA: | C7: TABELA DNIT SEM DESONERAÇÃO - BASE ABRIL DE 2025 (REVISADO) | O7: BDI SERVIÇOS | P7: ='BDI TCU 2622 -URBANAS '!J24 -> 0.207
B8: DATA BASE DO ORÇAMENTO: JULHO DE 2025
B10: ITEM | C10: REFERÊNCIA | D10: CÓDIGO | E10: DESCRIÇÃO | F10: UNIDADE | G10: QUANTIDADE POR ÁREA | N10: QUANT. TOTAL | O10: PREÇO UNITÁRIO (SEM BDI) | P10: PREÇO UNITÁRIO (COM BDI) | Q10: PREÇO TOTAL (COM BDI) POR ÁREA | X10: PREÇO TOTAL (COM BDI) | Y10: % PESO POR ÁREA | AF10: % PESO
G11: ÁREA 07 | H11: ÁREA 09 | I11: ÁREA 11 | J11: ÁREA 18 | K11: ÁREA 21 | L11: ÁREA 22 | M11: ÁREA 23 | Q11: ÁREA 07 | R11: ÁREA 09 | S11: ÁREA 11 | T11: ÁREA 18 | U11: ÁREA 21 | V11: ÁREA 22 | W11: ÁREA 23 | Y11: ÁREA 07 | Z11: ÁREA 09 | AA11: ÁREA 11 | AB11: ÁREA 18 | AC11: ÁREA 21 | AD11: ÁREA 22 | AE11: ÁREA 23
O12: BDI SERVIÇOS | P12: 1.207
B14: 01 | E14: INSTALAÇAO DA OBRA E ADMINISTRAÇÃO LOCAL
B15: 01.01 | E15: PLACA DE OBRA
B16: 01.01.01 | C16: SINAPI | D16: 103689 | E16: FORNECIMENTO E INSTALAÇÃO DE PLACA DE OBRA COM CHAPA GALVANIZADA E ESTRUTURA DE MADEIRA. | F16: M2 | G16: ='MEMO A-07'!I18 -> 6 | H16: ='MEMO A-09'!I18 -> 6 | I16: ='MEMO A-11'!I18 -> 6 | J16: ='MEMO A-18'!I17 -> 6 | K16: ='MEMO A-21'!I18 -> 6 | L16: ='MEMO A-22'!I19 -> 6 | M16: ='MEMO A-23'!I18 -> 6 | N16: =ROUND(SUM(G16:M16),2) -> 42 | O16: 502.02 | P16: =ROUND(O16*$P$12,2) -> 605.94 | Q16: =ROUND(G16*$P16,2) -> 3635.64 | R16: =ROUND(H16*$P16,2) -> 3635.64 | S16: =ROUND(I16*$P16,2) -> 3635.64 | T16: =ROUND(J16*$P16,2) -> 3635.64 | U16: =ROUND(K16*$P16,2) -> 3635.64 | V16: =ROUND(L16*$P16,2) -> 3635.64 | W16: =ROUND(M16*$P16,2) -> 3635.64 | X16: =ROUND(N16*$P16,2) -> 25449.48 | Y16: =Q16/$Q$223 -> 0.0013521608 | Z16: =R16/$R$223 -> 0.0036014754 | AA16: =S16/$S$223 -> 0.049392001 | AB16: =T16/$T$223 -> 0.00078434752 | AC16: =U16/$U$223 -> 0.0013083356 | AD16: =V16/$V$223 -> 0.0027699366 | AE16: =W16/$W$223 -> 0.034456278 | AF16: =X16/$X$223 -> 0.0020191627
B17: 01.02 | E17: INSTALAÇAO PROVISORIA - CONCESSIONARIA | I17: 0 | K17: 0 | M17: 0 | N17: =ROUND(SUM(G17:M17),2) -> 0 | P17: =ROUND(O17*$P$12,2) -> 0 | Q17: =ROUND(G17*$P17,2) -> 0 | R17: =ROUND(H17*$P17,2) -> 0 | S17: =ROUND(I17*$P17,2) -> 0 | T17: =ROUND(J17*$P17,2) -> 0 | U17: =ROUND(K17*$P17,2) -> 0 | V17: =ROUND(L17*$P17,2) -> 0 | W17: =ROUND(M17*$P17,2) -> 0 | X17: =ROUND(N17*$P17,2) -> 0 | Y17: =Q17/$Q$223 -> 0 | Z17: =R17/$R$223 -> 0 | AA17: =S17/$S$223 -> 0 | AB17: =T17/$T$223 -> 0 | AC17: =U17/$U$223 -> 0 | AD17: =V17/$V$223 -> 0 | AE17: =W17/$W$223 -> 0 | AF17: =X17/$X$223 -> 0
B18: 01.02.01 | C18: CPU | D18: 001 | E18: LIGAÇÃO PROVISÓRIA COM ENTRADA DE ENERGIA AÉREA, PADRÃO CEMIG, CARGA INSTALADA DE 15,1KVA ATÉ 30KVA, TRIFÁSICO, COM SAÍDA SUBTERRÂNEA, INCLUSIVE POSTE, CAIXA PARA MEDIDOR, DISJUNTOR, BARRAMENTO, ATERRAMENTO E ACESSÓRIOS | F18: UN | G18: ='MEMO A-07'!I23 -> 1 | H18: ='MEMO A-09'!I23 -> 1 | J18: ='MEMO A-18'!I21 -> 1 | K18: ='MEMO A-21'!I22 -> 1 | L18: ='MEMO A-22'!I23 -> 1 | N18: =ROUND(SUM(G18:M18),2) -> 5 | O18: =CPUS!I40 -> 1010.69 | P18: =ROUND(O18*$P$12,2) -> 1219.9 | Q18: =ROUND(G18*$P18,2) -> 1219.9 | R18: =ROUND(H18*$P18,2) -> 1219.9 | S18: =ROUND(I18*$P18,2) -> 0 | T18: =ROUND(J18*$P18,2) -> 1219.9 | U18: =ROUND(K18*$P18,2) -> 1219.9 | V18: =ROUND(L18*$P18,2) -> 1219.9 | W18: =ROUND(M18*$P18,2) -> 0 | X18: =ROUND(N18*$P18,2) -> 6099.5 | Y18: =Q18/$Q$223 -> 0.00045370306 | Z18: =R18/$R$223 -> 0.0012084364 | AA18: =S18/$S$223 -> 0 | AB18: =T18/$T$223 -> 0.00026317939 | AC18: =U18/$U$223 -> 0.00043899799 | AD18: =V18/$V$223 -> 0.00092942251 | AE18: =W18/$W$223 -> 0 | AF18: =X18/$X$223 -> 0.00048393456
B19: 01.02.02 | C19: SINAPI | D19: 95635 | E19: KIT CAVALETE PARA MEDIÇÃO DE ÁGUA - ENTRADA PRINCIPAL, EM PVC DN 25 MM (3/4") - FORNECIMENTO E INSTALAÇÃO (EXCLUSIVE HIDRÔMETRO). | F19: UN | G19: ='MEMO A-07'!I27 -> 1 | H19: ='MEMO A-09'!I26 -> 1 | J19: ='MEMO A-18'!I24 -> 1 | K19: ='MEMO A-21'!I25 -> 1 | L19: ='MEMO A-22'!I26 -> 1 | N19: =ROUND(SUM(G19:M19),2) -> 5 | O19: 217.21 | P19: =ROUND(O19*$P$12,2) -> 262.17 | Q19: =ROUND(G19*$P19,2) -> 262.17 | R19: =ROUND(H19*$P19,2) -> 262.17 | S19: =ROUND(I19*$P19,2) -> 0 | T19: =ROUND(J19*$P19,2) -> 262.17 | U19: =ROUND(K19*$P19,2) -> 262.17 | V19: =ROUND(L19*$P19,2) -> 262.17 | W19: =ROUND(M19*$P19,2) -> 0 | X19: =ROUND(N19*$P19,2) -> 1310.85 | Y19: =Q19/$Q$223 -> 9.7505804e-05 | Z19: =R19/$R$223 -> 0.00025970635 | AA19: =S19/$S$223 -> 0 | AB19: =T19/$T$223 -> 5.6560162e-05 | AC19: =U19/$U$223 -> 9.4345522e-05 | AD19: =V19/$V$223 -> 0.00019974317 | AE19: =W19/$W$223 -> 0 | AF19: =X19/$X$223 -> 0.00010400289
B20: 01.02.03 | C20: SINAPI | D20: 95675 | E20: HIDRÔMETRO DN 3/4", 5,0 M3/H - FORNECIMENTO E INSTALAÇÃO. | F20: UN | G20: ='MEMO A-07'!I31 -> 1 | H20: ='MEMO A-09'!I29 -> 1 | J20: ='MEMO A-18'!I27 -> 1 | K20: ='MEMO A-21'!I28 -> 1 | L20: ='MEMO A-22'!I29 -> 1 | N20: =ROUND(SUM(G20:M20),2) -> 5 | O20: 211.12 | P20: =ROUND(O20*$P$12,2) -> 254.82 | Q20: =ROUND(G20*$P20,2) -> 254.82 | R20: =ROUND(H20*$P20,2) -> 254.82 | S20: =ROUND(I20*$P20,2) -> 0 | T20: =ROUND(J20*$P20,2) -> 254.82 | U20: =ROUND(K20*$P20,2) -> 254.82 | V20: =ROUND(L20*$P20,2) -> 254.82 | W20: =ROUND(M20*$P20,2) -> 0 | X20: =ROUND(N20*$P20,2) -> 1274.1 | Y20: =Q20/$Q$223 -> 9.4772205e-05 | Z20: =R20/$R$223 -> 0.00025242542 | AA20: =S20/$S$223 -> 0 | AB20: =T20/$T$223 -> 5.4974484e-05 | AC20: =U20/$U$223 -> 9.1700523e-05 | AD20: =V20/$V$223 -> 0.00019414333 | AE20: =W20/$W$223 -> 0 | AF20: =X20/$X$223 -> 0.00010108714
B21: 01.03 | E21: CONTAINER | I21: 0 | K21: 0 | N21: =ROUND(SUM(G21:M21),2) -> 0 | P21: =ROUND(O21*$P$12,2) -> 0 | Q21: =ROUND(G21*$P21,2) -> 0 | R21: =ROUND(H21*$P21,2) -> 0 | S21: =ROUND(I21*$P21,2) -> 0 | T21: =ROUND(J21*$P21,2) -> 0 | U21: =ROUND(K21*$P21,2) -> 0 | V21: =ROUND(L21*$P21,2) -> 0 | W21: =ROUND(M21*$P21,2) -> 0 | X21: =ROUND(N21*$P21,2) -> 0 | Y21: =Q21/$Q$223 -> 0 | Z21: =R21/$R$223 -> 0 | AA21: =S21/$S$223 -> 0 | AB21: =T21/$T$223 -> 0 | AC21: =U21/$U$223 -> 0 | AD21: =V21/$V$223 -> 0 | AE21: =W21/$W$223 -> 0 | AF21: =X21/$X$223 -> 0
B22: 01.03.01 | C22: CPU | D22: 002 | E22: MOBILIZAÇÃO DE CONTAINER | F22: UN | G22: ='MEMO A-07'!I36 -> 4 | H22: ='MEMO A-09'!I33 -> 4 | I22: ='MEMO A-11'!I22 -> 1 | J22: ='MEMO A-18'!I31 -> 4 | K22: ='MEMO A-21'!I32 -> 4 | L22: ='MEMO A-22'!I33 -> 4 | N22: =ROUND(SUM(G22:M22),2) -> 21 | O22: =CPUS!I74 -> 1200 | P22: =ROUND(O22*$P$12,2) -> 1448.4 | Q22: =ROUND(G22*$P22,2) -> 5793.6 | R22: =ROUND(H22*$P22,2) -> 5793.6 | S22: =ROUND(I22*$P22,2) -> 1448.4 | T22: =ROUND(J22*$P22,2) -> 5793.6 | U22: =ROUND(K22*$P22,2) -> 5793.6 | V22: =ROUND(L22*$P22,2) -> 5793.6 | W22: =ROUND(M22*$P22,2) -> 0 | X22: =ROUND(N22*$P22,2) -> 30416.4 | Y22: =Q22/$Q$223 -> 0.0021547455 | Z22: =R22/$R$223 -> 0.0057391567 | AA22: =S22/$S$223 -> 0.019677244 | AB22: =T22/$T$223 -> 0.0012499026 | AC22: =U22/$U$223 -> 0.0020849076 | AD22: =V22/$V$223 -> 0.0044140522 | AE22: =W22/$W$223 -> 0 | AF22: =X22/$X$223 -> 0.0024132383
B23: 01.03.02 | C23: CPU | D23: 003 | E23: DESMOBILIZAÇÃO DE CONTAINER | F23: UN | G23: ='MEMO A-07'!I39 -> 4 | H23: ='MEMO A-09'!I36 -> 4 | I23: ='MEMO A-11'!I25 -> 1 | J23: ='MEMO A-18'!I34 -> 4 | K23: ='MEMO A-21'!I35 -> 4 | L23: ='MEMO A-22'!I36 -> 4 | N23: =ROUND(SUM(G23:M23),2) -> 21 | O23: =CPUS!I108 -> 1200 | P23: =ROUND(O23*$P$12,2) -> 1448.4 | Q23: =ROUND(G23*$P23,2) -> 5793.6 | R23: =ROUND(H23*$P23,2) -> 5793.6 | S23: =ROUND(I23*$P23,2) -> 1448.4 | T23: =ROUND(J23*$P23,2) -> 5793.6 | U23: =ROUND(K23*$P23,2) -> 5793.6 | V23: =ROUND(L23*$P23,2) -> 5793.6 | W23: =ROUND(M23*$P23,2) -> 0 | X23: =ROUND(N23*$P23,2) -> 30416.4 | Y23: =Q23/$Q$223 -> 0.0021547455 | Z23: =R23/$R$223 -> 0.0057391567 | AA23: =S23/$S$223 -> 0.019677244 | AB23: =T23/$T$223 -> 0.0012499026 | AC23: =U23/$U$223 -> 0.0020849076 | AD23: =V23/$V$223 -> 0.0044140522 | AE23: =W23/$W$223 -> 0 | AF23: =X23/$X$223 -> 0.0024132383
B24: 01.03.03 | C24: SINAPI | D24: 10776 | E24: LOCACAO DE CONTAINER 2,30 X 6,00 M, ALT. 2,50 M, PARA ESCRITORIO, SEM DIVISORIAS INTERNAS E SEM SANITARIO (NAO INCLUI MOBILIZACAO/DESMOBILIZACAO) | F24: MES | G24: ='MEMO A-07'!I42 -> 4 | H24: ='MEMO A-09'!I39 -> 3 | I24: ='MEMO A-11'!I28 -> 0 | J24: ='MEMO A-18'!I37 -> 5 | K24: ='MEMO A-21'!I38 -> 4 | L24: ='MEMO A-22'!I39 -> 4 | N24: =ROUND(SUM(G24:M24),2) -> 20 | O24: 789.06 | P24: =ROUND(O24*$P$12,2) -> 952.4 | Q24: =ROUND(G24*$P24,2) -> 3809.6 | R24: =ROUND(H24*$P24,2) -> 2857.2 | S24: =ROUND(I24*$P24,2) -> 0 | T24: =ROUND(J24*$P24,2) -> 4762 | U24: =ROUND(K24*$P24,2) -> 3809.6 | V24: =ROUND(L24*$P24,2) -> 3809.6 | W24: =ROUND(M24*$P24,2) -> 0 | X24: =ROUND(N24*$P24,2) -> 19048 | Y24: =Q24/$Q$223 -> 0.0014168597 | Z24: =R24/$R$223 -> 0.0028303505 | AA24: =S24/$S$223 -> 0 | AB24: =T24/$T$223 -> 0.0010273467 | AC24: =U24/$U$223 -> 0.0013709376 | AD24: =V24/$V$223 -> 0.002902474 | AE24: =W24/$W$223 -> 0 | AF24: =X24/$X$223 -> 0.0015112691
B25: 01.03.04 | C25: SINAPI | D25: 10777 | E25: LOCACAO DE CONTAINER 2,30 X 4,30 M, ALT. 2,50 M, PARA SANITARIO, COM 3 BACIAS, 4 CHUVEIROS, 1 LAVATORIO E 1 MICTORIO (NAO INCLUI MOBILIZACAO/DESMOBILIZACAO) | F25: MES | G25: ='MEMO A-07'!I45 -> 4 | H25: ='MEMO A-09'!I42 -> 3 | I25: ='MEMO A-11'!I31 -> 0 | J25: ='MEMO A-18'!I40 -> 5 | K25: ='MEMO A-21'!I41 -> 4 | L25: ='MEMO A-22'!I42 -> 4 | N25: =ROUND(SUM(G25:M25),2) -> 20 | O25: 1146.77 | P25: =ROUND(O25*$P$12,2) -> 1384.15 | Q25: =ROUND(G25*$P25,2) -> 5536.6 | R25: =ROUND(H25*$P25,2) -> 4152.45 | S25: =ROUND(I25*$P25,2) -> 0 | T25: =ROUND(J25*$P25,2) -> 6920.75 | U25: =ROUND(K25*$P25,2) -> 5536.6 | V25: =ROUND(L25*$P25,2) -> 5536.6 | W25: =ROUND(M25*$P25,2) -> 0 | X25: =ROUND(N25*$P25,2) -> 27683 | Y25: =Q25/$Q$223 -> 0.0020591625 | Z25: =R25/$R$223 -> 0.0041134288 | AA25: =S25/$S$223 -> 0 | AB25: =T25/$T$223 -> 0.0014930722 | AC25: =U25/$U$223 -> 0.0019924225 | AD25: =V25/$V$223 -> 0.0042182479 | AE25: =W25/$W$223 -> 0 | AF25: =X25/$X$223 -> 0.0021963703
B26: 01.03.05 | C26: CPU | D26: 004 | E26: LOCAÇÃO DE CONTAINER COM ISOLAMENTO TÉRMICO, TIPO 4, PARA REFEITÓRIO DE OBRA, COM MEDIDAS REFERENCIAIS DE (6) METROS COMPRIMENTO, (2,3) METROS LARGURA E (2,5) METROS ALTURA ÚTIL INTERNA, INCLUSIVE LIGAÇÕES ELÉTRICAS INTERNAS, EXCLUSIVE MOBILIZAÇÃO/DESMOBILIZAÇÃO E LIGAÇÕES PROVISÓRIAS EXTERNAS | F26: MES | G26: ='MEMO A-07'!I48 -> 4 | H26: ='MEMO A-09'!I45 -> 3 | I26: ='MEMO A-11'!I34 -> 0 | J26: ='MEMO A-18'!I43 -> 5 | K26: ='MEMO A-21'!I44 -> 4 | L26: ='MEMO A-22'!I45 -> 4 | N26: =ROUND(SUM(G26:M26),2) -> 20 | O26: =CPUS!I144 -> 925.74 | P26: =ROUND(O26*$P$12,2) -> 1117.37 | Q26: =ROUND(G26*$P26,2) -> 4469.48 | R26: =ROUND(H26*$P26,2) -> 3352.11 | S26: =ROUND(I26*$P26,2) -> 0 | T26: =ROUND(J26*$P26,2) -> 5586.85 | U26: =ROUND(K26*$P26,2) -> 4469.48 | V26: =ROUND(L26*$P26,2) -> 4469.48 | W26: =ROUND(M26*$P26,2) -> 0 | X26: =ROUND(N26*$P26,2) -> 22347.4 | Y26: =Q26/$Q$223 -> 0.0016622811 | Z26: =R26/$R$223 -> 0.0033206097 | AA26: =S26/$S$223 -> 0 | AB26: =T26/$T$223 -> 0.0012052986 | AC26: =U26/$U$223 -> 0.0016084046 | AD26: =V26/$V$223 -> 0.0034052261 | AE26: =W26/$W$223 -> 0 | AF26: =X26/$X$223 -> 0.0017730436
B27: 01.03.06 | C27: CPU | D27: 005 | E27: LOCAÇÃO DE CONTAINER COM ISOLAMENTO TÉRMICO, TIPO 3, PARA DEPÓSITO/FERRAMENTARIA DE OBRA, COM MEDIDAS REFERENCIAIS DE (6) METROS COMPRIMENTO, (2,3) METROS LARGURA E (2,5) METROS ALTURA ÚTIL INTERNA, INCLUSIVE LIGAÇÕES ELÉTRICAS INTERNAS, EXCLUSIVE MOBILIZAÇÃO/DESMOBILIZAÇÃO E LIGAÇÕES PROVISÓRIAS EXTERNAS | F27: MES | G27: ='MEMO A-07'!I51 -> 4 | H27: ='MEMO A-09'!I48 -> 3 | I27: ='MEMO A-11'!I37 -> 3 | J27: ='MEMO A-18'!I46 -> 5 | K27: ='MEMO A-21'!I47 -> 4 | L27: ='MEMO A-22'!I48 -> 4 | N27: =ROUND(SUM(G27:M27),2) -> 23 | O27: =CPUS!I180 -> 795.02 | P27: =ROUND(O27*$P$12,2) -> 959.59 | Q27: =ROUND(G27*$P27,2) -> 3838.36 | R27: =ROUND(H27*$P27,2) -> 2878.77 | S27: =ROUND(I27*$P27,2) -> 2878.77 | T27: =ROUND(J27*$P27,2) -> 4797.95 | U27: =ROUND(K27*$P27,2) -> 3838.36 | V27: =ROUND(L27*$P27,2) -> 3838.36 | W27: =ROUND(M27*$P27,2) -> 0 | X27: =ROUND(N27*$P27,2) -> 22070.57 | Y27: =Q27/$Q$223 -> 0.0014275561 | Z27: =R27/$R$223 -> 0.0028517178 | AA27: =S27/$S$223 -> 0.039109541 | AB27: =T27/$T$223 -> 0.0010351025 | AC27: =U27/$U$223 -> 0.0013812873 | AD27: =V27/$V$223 -> 0.0029243858 | AE27: =W27/$W$223 -> 0 | AF27: =X27/$X$223 -> 0.0017510799
B28: 01.04 | E28: BANHEIRO QUIMICO | I28: 0 | K28: 0 | N28: =ROUND(SUM(G28:M28),2) -> 0 | P28: =ROUND(O28*$P$12,2) -> 0 | Q28: =ROUND(G28*$P28,2) -> 0 | R28: =ROUND(H28*$P28,2) -> 0 | S28: =ROUND(I28*$P28,2) -> 0 | T28: =ROUND(J28*$P28,2) -> 0 | U28: =ROUND(K28*$P28,2) -> 0 | V28: =ROUND(L28*$P28,2) -> 0 | W28: =ROUND(M28*$P28,2) -> 0 | X28: =ROUND(N28*$P28,2) -> 0 | Y28: =Q28/$Q$223 -> 0 | Z28: =R28/$R$223 -> 0 | AA28: =S28/$S$223 -> 0 | AB28: =T28/$T$223 -> 0 | AC28: =U28/$U$223 -> 0 | AD28: =V28/$V$223 -> 0 | AE28: =W28/$W$223 -> 0 | AF28: =X28/$X$223 -> 0
B29: 01.04.01 | C29: CPU | D29: 006 | E29: LOCAÇÃO DE BANHEIRO QUÍMICO, DIMENSÃO (110X120X230)CM, LINHA PADRÃO, CONTENDO UMA (1) PIA/HIGIENIZADOR DE MÃOS, INCLUSIVE MANUTENÇÃO E MOBILIZAÇÃO/DESMOBILIZAÇÃO | F29: MES | G29: ='MEMO A-07'!I55 -> 4 | H29: ='MEMO A-09'!I52 -> 3 | I29: ='MEMO A-11'!I41 -> 3 | J29: ='MEMO A-18'!I50 -> 5 | K29: ='MEMO A-21'!I51 -> 4 | L29: ='MEMO A-22'!I52 -> 4 | M29: ='MEMO A-23'!I23 -> 1 | N29: =ROUND(SUM(G29:M29),2) -> 24 | O29: =CPUS!I213 -> 980 | P29: =ROUND(O29*$P$12,2) -> 1182.86 | Q29: =ROUND(G29*$P29,2) -> 4731.44 | R29: =ROUND(H29*$P29,2) -> 3548.58 | S29: =ROUND(I29*$P29,2) -> 3548.58 | T29: =ROUND(J29*$P29,2) -> 5914.3 | U29: =ROUND(K29*$P29,2) -> 4731.44 | V29: =ROUND(L29*$P29,2) -> 4731.44 | W29: =ROUND(M29*$P29,2) -> 1182.86 | X29: =ROUND(N29*$P29,2) -> 28388.64 | Y29: =Q29/$Q$223 -> 0.0017597088 | Z29: =R29/$R$223 -> 0.0035152335 | AA29: =S29/$S$223 -> 0.048209247 | AB29: =T29/$T$223 -> 0.0012759422 | AC29: =U29/$U$223 -> 0.0017026745 | AD29: =V29/$V$223 -> 0.0036048093 | AE29: =W29/$W$223 -> 0.011210393 | AF29: =X29/$X$223 -> 0.0022523558
B30: 01.05 | E30: TAPUME | I30: 0 | K30: 0 | N30: =ROUND(SUM(G30:M30),2) -> 0 | P30: =ROUND(O30*$P$12,2) -> 0 | Q30: =ROUND(G30*$P30,2) -> 0 | R30: =ROUND(H30*$P30,2) -> 0 | S30: =ROUND(I30*$P30,2) -> 0 | T30: =ROUND(J30*$P30,2) -> 0 | U30: =ROUND(K30*$P30,2) -> 0 | V30: =ROUND(L30*$P30,2) -> 0 | W30: =ROUND(M30*$P30,2) -> 0 | X30: =ROUND(N30*$P30,2) -> 0 | Y30: =Q30/$Q$223 -> 0 | Z30: =R30/$R$223 -> 0 | AA30: =S30/$S$223 -> 0 | AB30: =T30/$T$223 -> 0 | AC30: =U30/$U$223 -> 0 | AD30: =V30/$V$223 -> 0 | AE30: =W30/$W$223 -> 0 | AF30: =X30/$X$223 -> 0
B31: 01.05.01 | C31: SINAPI | D31: 98458 | E31: TAPUME COM COMPENSADO DE MADEIRA. | F31: M2 | H31: ='MEMO A-09'!I56 -> 28.16 | I31: ='MEMO A-11'!I45 -> 0 | J31: ='MEMO A-18'!I54 -> 28.16 | K31: ='MEMO A-21'!I55 -> 66 | N31: =ROUND(SUM(G31:M31),2) -> 122.32 | O31: 99.69 | P31: =ROUND(O31*$P$12,2) -> 120.33 | Q31: =ROUND(G31*$P31,2) -> 0 | R31: =ROUND(H31*$P31,2) -> 3388.49 | S31: =ROUND(I31*$P31,2) -> 0 | T31: =ROUND(J31*$P31,2) -> 3388.49 | U31: =ROUND(K31*$P31,2) -> 7941.78 | V31: =ROUND(L31*$P31,2) -> 0 | W31: =ROUND(M31*$P31,2) -> 0 | X31: =ROUND(N31*$P31,2) -> 14718.77 | Y31: =Q31/$Q$223 -> 0 | Z31: =R31/$R$223 -> 0.0033566479 | AA31: =S31/$S$223 -> 0 | AB31: =T31/$T$223 -> 0.00073102775 | AC31: =U31/$U$223 -> 0.00285796 | AD31: =V31/$V$223 -> 0 | AE31: =W31/$W$223 -> 0 | AF31: =X31/$X$223 -> 0.0011677878
B32: 01.06 | E32: ADMINISTRACAO LOCAL DA OBRA | I32: 0 | K32: 0 | M32: 0 | N32: =ROUND(SUM(G32:M32),2) -> 0 | P32: =ROUND(O32*$P$12,2) -> 0 | Q32: =ROUND(G32*$P32,2) -> 0 | R32: =ROUND(H32*$P32,2) -> 0 | S32: =ROUND(I32*$P32,2) -> 0 | T32: =ROUND(J32*$P32,2) -> 0 | U32: =ROUND(K32*$P32,2) -> 0 | V32: =ROUND(L32*$P32,2) -> 0 | W32: =ROUND(M32*$P32,2) -> 0 | X32: =ROUND(N32*$P32,2) -> 0 | Y32: =Q32/$Q$223 -> 0 | Z32: =R32/$R$223 -> 0 | AA32: =S32/$S$223 -> 0 | AB32: =T32/$T$223 -> 0 | AC32: =U32/$U$223 -> 0 | AD32: =V32/$V$223 -> 0 | AE32: =W32/$W$223 -> 0 | AF32: =X32/$X$223 -> 0
B33: 01.06.01 | C33: ANEXO | D33: PL | E33: ADMINISTRACAO LOCAL - (conforme planilha em anexo) | F33: UN | G33: ='MEMO A-07'!I59 -> 0.21332645 | H33: ='MEMO A-09'!I60 -> 0.080092681 | I33: ='MEMO A-11'!I49 -> 0.005840051 | J33: ='MEMO A-18'!I58 -> 0.36776022 | K33: ='MEMO A-21'!I60 -> 0.22047234 | L33: ='MEMO A-22'!I56 -> 0.10413661 | M33: ='MEMO A-23'!I28 -> 0.008371532 | N33: =ROUND(SUM(G33:M33),2) -> 1 | O33: ='PLAN ADM'!I24 -> 520874.16 | P33: =ROUND(O33*$P$12,2) -> 628695.11 | Q33: =ROUND(G33*$P33,2) -> 134117.3 | R33: =ROUND(H33*$P33,2) -> 50353.88 | S33: =ROUND(I33*$P33,2) -> 3671.61 | T33: =ROUND(J33*$P33,2) -> 231209.05 | U33: =ROUND(K33*$P33,2) -> 138609.88 | V33: =ROUND(L33*$P33,2) -> 65470.18 | W33: =ROUND(M33*$P33,2) -> 5263.14 | X33: =ROUND(N33*$P33,2) -> 628695.11 | Y33: =Q33/$Q$223 -> 0.04988067 | Z33: =R33/$R$223 -> 0.049880697 | AA33: =S33/$S$223 -> 0.049880672 | AB33: =T33/$T$223 -> 0.049880693 | AC33: =U33/$U$223 -> 0.049880694 | AD33: =V33/$V$223 -> 0.049880694 | AE33: =W33/$W$223 -> 0.049880685 | AF33: =X33/$X$223 -> 0.049880694
I34: 0 | K34: 0 | M34: 0 | N34: =ROUND(SUM(G34:M34),2) -> 0 | P34: =ROUND(O34*$P$12,2) -> 0 | Q34: =ROUND(G34*$P34,2) -> 0 | R34: =ROUND(H34*$P34,2) -> 0 | S34: =ROUND(I34*$P34,2) -> 0 | T34: =ROUND(J34*$P34,2) -> 0 | U34: =ROUND(K34*$P34,2) -> 0 | V34: =ROUND(L34*$P34,2) -> 0 | W34: =ROUND(M34*$P34,2) -> 0 | X34: =ROUND(N34*$P34,2) -> 0 | Y34: =Q34/$Q$223 -> 0 | Z34: =R34/$R$223 -> 0 | AA34: =S34/$S$223 -> 0 | AB34: =T34/$T$223 -> 0 | AC34: =U34/$U$223 -> 0 | AD34: =V34/$V$223 -> 0 | AE34: =W34/$W$223 -> 0 | AF34: =X34/$X$223 -> 0
E35: SUB-TOTAL DO ITEM 01 | I35: 0 | K35: 0 | M35: 0 | N35: =ROUND(SUM(G35:M35),2) -> 0 | Q35: =ROUND(SUM(Q15:Q34),2) -> 173462.51 | R35: =ROUND(SUM(R15:R34),2) -> 87491.21 | S35: =ROUND(SUM(S15:S34),2) -> 16631.4 | T35: =ROUND(SUM(T15:T34),2) -> 279539.12 | U35: =ROUND(SUM(U15:U34),2) -> 185896.87 | V35: =ROUND(SUM(V15:V34),2) -> 104815.39 | W35: =ROUND(SUM(W15:W34),2) -> 10081.64 | X35: =ROUND(SUM(X15:X34),2) -> 857918.22 | Y35: =Q35/$Q$223 -> 0.064513871 | Z35: =R35/$R$223 -> 0.086669042 | AA35: =S35/$S$223 -> 0.22594595 | AB35: =T35/$T$223 -> 0.06030735 | AC35: =U35/$U$223 -> 0.066897575 | AD35: =V35/$V$223 -> 0.079857187 | AE35: =W35/$W$223 -> 0.095547355 | AF35: =X35/$X$223 -> 0.068067265
I36: 0 | K36: 0 | M36: 0 | N36: =ROUND(SUM(G36:M36),2) -> 0 | O36: =ROUND(N36*$P$12,2) -> 0 | P36: =ROUND(O36*$P$12,2) -> 0 | Q36: =ROUND(G36*$P36,2) -> 0 | R36: =ROUND(H36*$P36,2) -> 0 | S36: =ROUND(I36*$P36,2) -> 0 | T36: =ROUND(J36*$P36,2) -> 0 | U36: =ROUND(K36*$P36,2) -> 0 | V36: =ROUND(L36*$P36,2) -> 0 | W36: =ROUND(M36*$P36,2) -> 0 | X36: =ROUND(N36*$P36,2) -> 0 | Y36: =Q36/$Q$223 -> 0 | Z36: =R36/$R$223 -> 0 | AA36: =S36/$S$223 -> 0 | AB36: =T36/$T$223 -> 0 | AC36: =U36/$U$223 -> 0 | AD36: =V36/$V$223 -> 0 | AE36: =W36/$W$223 -> 0 | AF36: =X36/$X$223 -> 0
B37: 02 | E37: DEMOLIÇÕES | I37: 0 | K37: 0 | M37: 0 | N37: =ROUND(SUM(G37:M37),2) -> 0 | P37: =ROUND(O37*$P$12,2) -> 0 | Q37: =ROUND(G37*$P37,2) -> 0 | R37: =ROUND(H37*$P37,2) -> 0 | S37: =ROUND(I37*$P37,2) -> 0 | T37: =ROUND(J37*$P37,2) -> 0 | U37: =ROUND(K37*$P37,2) -> 0 | V37: =ROUND(L37*$P37,2) -> 0 | W37: =ROUND(M37*$P37,2) -> 0 | X37: =ROUND(N37*$P37,2) -> 0 | Y37: =Q37/$Q$223 -> 0 | Z37: =R37/$R$223 -> 0 | AA37: =S37/$S$223 -> 0 | AB37: =T37/$T$223 -> 0 | AC37: =U37/$U$223 -> 0 | AD37: =V37/$V$223 -> 0 | AE37: =W37/$W$223 -> 0 | AF37: =X37/$X$223 -> 0
B38: 02.01 | C38: SINAPI | D38: 104790 | E38: DEMOLIÇÃO DE PISO DE CONCRETO SIMPLES, DE FORMA MECANIZADA COM MARTELETE, SEM REAPROVEITAMENTO. | F38: M3 | I38: 0 | J38: ='MEMO A-18'!I62 -> 11.16 | K38: 0 | L38: ='MEMO A-22'!I60 -> 105.6 | M38: 0 | N38: =ROUND(SUM(G38:M38),2) -> 116.76 | O38: 117.43 | P38: =ROUND(O38*$P$12,2) -> 141.74 | Q38: =ROUND(G38*$P38,2) -> 0 | R38: =ROUND(H38*$P38,2) -> 0 | S38: =ROUND(I38*$P38,2) -> 0 | T38: =ROUND(J38*$P38,2) -> 1581.82 | U38: =ROUND(K38*$P38,2) -> 0 | V38: =ROUND(L38*$P38,2) -> 14967.74 | W38: =ROUND(M38*$P38,2) -> 0 | X38: =ROUND(N38*$P38,2) -> 16549.56 | Y38: =Q38/$Q$223 -> 0 | Z38: =R38/$R$223 -> 0 | AA38: =S38/$S$223 -> 0 | AB38: =T38/$T$223 -> 0.00034125947 | AC38: =U38/$U$223 -> 0 | AD38: =V38/$V$223 -> 0.011403684 | AE38: =W38/$W$223 -> 0 | AF38: =X38/$X$223 -> 0.0013130427 | AH38: AS | AI38: 0.24
B39: 02.02 | C39: CPU | D39: 007 | E39: DEMOLIÇÃO EM CONCRETO ARMADO, DE FORMA MANUAL, SEM REAPROVEITAMENTO. | F39: M3 | H39: ='MEMO A-09'!I64 -> 2.88 | I39: 0 | K39: 0 | M39: 0 | N39: =ROUND(SUM(G39:M39),2) -> 2.88 | O39: =CPUS!I243 -> 284.38 | P39: =ROUND(O39*$P$12,2) -> 343.25 | Q39: =ROUND(G39*$P39,2) -> 0 | R39: =ROUND(H39*$P39,2) -> 988.56 | S39: =ROUND(I39*$P39,2) -> 0 | T39: =ROUND(J39*$P39,2) -> 0 | U39: =ROUND(K39*$P39,2) -> 0 | V39: =ROUND(L39*$P39,2) -> 0 | W39: =ROUND(M39*$P39,2) -> 0 | X39: =ROUND(N39*$P39,2) -> 988.56 | Y39: =Q39/$Q$223 -> 0 | Z39: =R39/$R$223 -> 0.00097927036 | AA39: =S39/$S$223 -> 0 | AB39: =T39/$T$223 -> 0 | AC39: =U39/$U$223 -> 0 | AD39: =V39/$V$223 -> 0 | AE39: =W39/$W$223 -> 0 | AF39: =X39/$X$223 -> 7.8432388e-05
B40: 02.03 | C40: CPU | D40: 008 | E40: DEMOLIÇÃO DE REVESTIMENTO ASFÁLTICO, COM EQUIPAMENTO PNEUMÁTICO, EXCLUSIVE TRANSPORTE E RETIRADA DO MATERIAL DEMOLIDO | F40: M3 | I40: 0 | J40: ='MEMO A-18'!I65 -> 29.46 | K40: 0 | M40: 0 | N40: =ROUND(SUM(G40:M40),2) -> 29.46 | O40: =CPUS!I276 -> 162.63 | P40: =ROUND(O40*$P$12,2) -> 196.29 | Q40: =ROUND(G40*$P40,2) -> 0 | R40: =ROUND(H40*$P40,2) -> 0 | S40: =ROUND(I40*$P40,2) -> 0 | T40: =ROUND(J40*$P40,2) -> 5782.7 | U40: =ROUND(K40*$P40,2) -> 0 | V40: =ROUND(L40*$P40,2) -> 0 | W40: =ROUND(M40*$P40,2) -> 0 | X40: =ROUND(N40*$P40,2) -> 5782.7 | Y40: =Q40/$Q$223 -> 0 | Z40: =R40/$R$223 -> 0 | AA40: =S40/$S$223 -> 0 | AB40: =T40/$T$223 -> 0.001247551 | AC40: =U40/$U$223 -> 0 | AD40: =V40/$V$223 -> 0 | AE40: =W40/$W$223 -> 0 | AF40: =X40/$X$223 -> 0.00045879964
B41: 02.04 | E41: CARGA DE MATERIAL DE QQUER NATUREZA SOBRE CAMINHAO | I41: 0 | K41: 0 | M41: 0 | N41: =ROUND(SUM(G41:M41),2) -> 0 | P41: =ROUND(O41*$P$12,2) -> 0 | Q41: =ROUND(G41*$P41,2) -> 0 | R41: =ROUND(H41*$P41,2) -> 0 | S41: =ROUND(I41*$P41,2) -> 0 | T41: =ROUND(J41*$P41,2) -> 0 | U41: =ROUND(K41*$P41,2) -> 0 | V41: =ROUND(L41*$P41,2) -> 0 | W41: =ROUND(M41*$P41,2) -> 0 | X41: =ROUND(N41*$P41,2) -> 0 | Y41: =Q41/$Q$223 -> 0 | Z41: =R41/$R$223 -> 0 | AA41: =S41/$S$223 -> 0 | AB41: =T41/$T$223 -> 0 | AC41: =U41/$U$223 -> 0 | AD41: =V41/$V$223 -> 0 | AE41: =W41/$W$223 -> 0 | AF41: =X41/$X$223 -> 0
B42: 02.04.01 | C42: CPU | D42: 009 | E42: CARGA MANUAL DE MATERIAL DE QUALQUER NATUREZA SOBRE CAMINHÃO, EXCLUSIVE TRANSPORTE | F42: M3 | H42: ='MEMO A-09'!I68 -> 3.74 | I42: 0 | J42: ='MEMO A-18'!I69 -> 52.81 | K42: 0 | M42: 0 | N42: =ROUND(SUM(G42:M42),2) -> 56.55 | O42: =CPUS!I311 -> 45.28 | P42: =ROUND(O42*$P$12,2) -> 54.65 | Q42: =ROUND(G42*$P42,2) -> 0 | R42: =ROUND(H42*$P42,2) -> 204.39 | S42: =ROUND(I42*$P42,2) -> 0 | T42: =ROUND(J42*$P42,2) -> 2886.07 | U42: =ROUND(K42*$P42,2) -> 0 | V42: =ROUND(L42*$P42,2) -> 0 | W42: =ROUND(M42*$P42,2) -> 0 | X42: =ROUND(N42*$P42,2) -> 3090.46 | Y42: =Q42/$Q$223 -> 0 | Z42: =R42/$R$223 -> 0.00020246932 | AA42: =S42/$S$223 -> 0 | AB42: =T42/$T$223 -> 0.00062263641 | AC42: =U42/$U$223 -> 0 | AD42: =V42/$V$223 -> 0 | AE42: =W42/$W$223 -> 0 | AF42: =X42/$X$223 -> 0.00024519722
B43: 02.04.02 | C43: SINAPI | D43: 100982 | E43: CARGA, MANOBRA E DESCARGA DE ENTULHO EM CAMINHÃO BASCULANTE 10 M³ - CARGA COM ESCAVADEIRA HIDRÁULICA (CAÇAMBA DE 0,80 M³ / 111 HP) E DESCARGA LIVRE (UNIDADE: M3) | F43: M3 | I43: 0 | K43: 0 | L43: ='MEMO A-22'!I64 -> 13.73 | M43: 0 | N43: =ROUND(SUM(G43:M43),2) -> 13.73 | O43: 9.33 | P43: =ROUND(O43*$P$12,2) -> 11.26 | Q43: =ROUND(G43*$P43,2) -> 0 | R43: =ROUND(H43*$P43,2) -> 0 | S43: =ROUND(I43*$P43,2) -> 0 | T43: =ROUND(J43*$P43,2) -> 0 | U43: =ROUND(K43*$P43,2) -> 0 | V43: =ROUND(L43*$P43,2) -> 154.6 | W43: =ROUND(M43*$P43,2) -> 0 | X43: =ROUND(N43*$P43,2) -> 154.6 | Y43: =Q43/$Q$223 -> 0 | Z43: =R43/$R$223 -> 0 | AA43: =S43/$S$223 -> 0 | AB43: =T43/$T$223 -> 0 | AC43: =U43/$U$223 -> 0 | AD43: =V43/$V$223 -> 0.00011778729 | AE43: =W43/$W$223 -> 0 | AF43: =X43/$X$223 -> 1.226597e-05
...

Sheet BDI TCU 2622 -URBANAS 
B2: CALCULO DO BDI RODOVIAS , FERROVIAS E CONGENERES
B3: Acórdão 2622/2013
B4: CÓD. OBRA: 066 | C4: OBJETO: EXECUÇÃO DE REMANESCENTE DE OBRAS DE CONTENÇÃO DE ENCOSTAS EM 07 ÁREAS DE RISCO, NO MUNICÍPIO DE BETIM-MG. ÁREAS PREVISTAS NO TERMO DE COMPROMISSO N.º 0.398.478-71 .
B6: Parâmetros para cálculo do BDI
B7: Itens Admissíveis | C7: Intervalos admissíveis sem justificativa | I7: Índices adotados (Quartil médio)
B9: Administração Central (AC) | C9: De | D9: 0.038 | F9: até | G9: 0.0467 | I9: Administração Central (AC) | J9: 0.0401
B10: Seguro e Garantia (S+G) | C10: De | D10: 0.0032 | F10: até | G10: 0.0074 | I10: Seguro e Garantia (S+G) | J10: 0.004
B11: Risco (R) | C11: De | D11: 0.005 | F11: até | G11: 0.0097 | I11: Risco (R) | J11: 0.0056
B12: Despesas financeiras (DF) | C12: De | D12: 0.0102 | F12: até | G12: 0.0121 | I12: Despesas financeiras (DF) | J12: 0.0111
B13: Lucro (L) | C13: De | D13: 0.0664 | F13: até | G13: 0.0869 | I13: Lucro (L) | J13: 0.073
B14: Tributos (T) | C14: De | D14: 0.0565 | F14: até | G14: 0.0865 | I14: Tributos (T) | J14: =C26 -> 0.0565
B15: INSS desoneração (E) | D15: 0 | F15: ou | G15: 0.045 | I15: INSS desoneração (E) | J15: 0
B16: Controle
B17: Administração Central (AC) | C17: =IF(J9>G9,"Incidência maior que a permitida",IF(J9<D9,"Incidência menor que a permitida","ok")) -> ok
B18: Seguro e Garantia (S+G) | C18: =IF(J10>G10,"Incidência maior que a permitida",IF(J10<0,"Incidência menor que a permitida","ok")) -> ok
B19: Risco (R) | C19: =IF(J11>G11,"Incidência maior que a permitida",IF(J11<0,"Incidência menor que a permitida","ok")) -> ok
B20: Despesas financeiras (DF) | C20: =IF(J12>G12,"Incidência maior que a permitida",IF(J12<D12,"Incidência menor que a permitida","ok")) -> ok
B21: Lucro (L) | C21: =IF(J13>G13,"Incidência maior que a permitida",IF(J13<D13,"Incidência menor que a permitida","ok")) -> ok
B22: Tributos (T) | C22: =IF(J14>G14,"Incidência maior que a permitida",IF(J14<D14,"Incidência menor que a permitida","ok")) -> ok
B23: INSS desoneração (E) | C23: =IF(J15=D15,"ok",IF(J15=G15,"ok","Incidência não permitida")) -> ok
B24: BDI CALCULADO ----> | C24: BDI = (1+AC+S+R+G)*(1+DF)*(1+L)/(1-(T+E)) | J24: =ROUND(((1+J9+J10+J11)*(1+J12)*(1+J13)/(1-(J14+J15))-1),4) -> 0.207
B26: TRIBUTOS: | C26: =SUM(C27:D29) -> 0.0565
B27: PIS | C27: 0.0065
B28: COFINS | C28: 0.03
B29: ISS | C29: 0.02 | E29: (Lei Municipal nº 2518 – 21/12/1994) - (Art. 6º - XXIV)

Sheet PLAN ADM
B3: PLANILHA ADMINISTRAÇÃO LOCAL
B4: CÓD. OBRA: 066 | C4: OBJETO: EXECUÇÃO DE REMANESCENTE DE OBRAS DE CONTENÇÃO DE ENCOSTAS EM 07 ÁREAS DE RISCO, NO MUNICÍPIO DE BETIM-MG. ÁREAS PREVISTAS NO TERMO DE COMPROMISSO N.º 0.398.478-71 .
B5: REFERÊNCIA: | C5: TABELA SINAPI SEM DESONERAÇÃO - BASE JULHO DE 2025
B6: REFERÊNCIA: | C6: TABELA SUDECAP ONERADA - BASE ABRIL DE 2025
B7: REFERÊNCIA: | C7: TABELA SICOR-MG SEM DESONERAÇÃO - BASE ABRIL DE 2025
B8: REFERÊNCIA: | C8: TABELA DNIT SEM DESONERAÇÃO - BASE ABRIL DE 2025 (REVISADO)
B9: DATA BASE DO ORÇAMENTO: JULHO DE 2025
B11: ITEM | C11: REF. | D11: CÓDIGO | E11: DESCRIÇÃO | F11: UNID. | G11: QUANT. | H11: PREÇO UNITÁRIO (SEM BDI) | I11: PREÇO TOTAL (SEM BDI) | L11: memória
L13: quant. mês | M13: quant. dias | N13: quant. horas | O13: quant. efetivo mês | P13: quant. total
B15: 01.06 | E15: ADMINISTRACAO LOCAL DA OBRA
B16: 01.06.01 | C16: SINAPI | D16: 90778 | E16: ENGENHEIRO CIVIL DE OBRA PLENO COM ENCARGOS COMPLEMENTARES | F16: H | G16: =22*12*6 -> 1584 | H16: 135.75 | I16: =ROUND(G16*H16,2) -> 215028 | L16: 12 | M16: 22 | N16: 6 | P16: =ROUND(L16*M16*N16,2) -> 1584
B17: 01.06.02 | C17: SINAPI | D17: 93572 | E17: ENCARREGADO GERAL DE OBRAS COM ENCARGOS COMPLEMENTARES | F17: MÊS | G17: 12 | H17: 11968.97 | I17: =ROUND(G17*H17,2) -> 143627.64 | L17: 12 | O17: 1 | P17: =ROUND(L17*O17,2) -> 12
B18: 01.06.03 | C18: SINAPI | D18: 100321 | E18: TÉCNICO EM SEGURANÇA DO TRABALHO COM ENCARGOS COMPLEMENTARES | F18: MÊS | G18: 12 | H18: 7515.77 | I18: =ROUND(G18*H18,2) -> 90189.24 | L18: 12 | O18: 1 | P18: =ROUND(L18*O18,2) -> 12
B19: 01.06.04 | C19: SINAPI | D19: 90781 | E19: TOPOGRAFO COM ENCARGOS COMPLEMENTARES | F19: H | G19: 144 | H19: 47.65 | I19: =ROUND(G19*H19,2) -> 6861.6 | L19: 6 | M19: 3 | N19: 8 | P19: =ROUND(L19*M19*N19,2) -> 144
B20: 01.06.05 | C20: SINAPI | D20: 88253 | E20: AUXILIAR DE TOPÓGRAFO COM ENCARGOS COMPLEMENTARES | F20: H | G20: 144 | H20: 22.68 | I20: =ROUND(G20*H20,2) -> 3265.92 | L20: 6 | M20: 3 | N20: 8 | P20: =ROUND(L20*M20*N20,2) -> 144
B21: 01.06.06 | C21: SUDECAP | D21: 45.01.03 | E21: LOCAÇÃO VEICULO TIPO PICAPE LEVE C/ SEGURO SEM COMBUSTÍVEL | F21: MÊS | G21: 12 | H21: 3924.48 | I21: =ROUND(G21*H21,2) -> 47093.76 | L21: 12 | P21: =L21 -> 12
B22: 01.06.07 | C22: SINAPI | D22: 4222 | E22: GASOLINA COMUM - (CONSIDERADO 200 LITROS MÊS) | F22: L | G22: =ROUND(G21*200,2) -> 2400 | H22: 6.17 | I22: =ROUND(G22*H22,2) -> 14808 | P22: =P21*200 -> 2400
E24: TOTAL DO ITEM 01.06 | I24: =SUM(I16:I23) -> 520874.16 | J24: OK

Sheet CPUS
B3: COMPOSIÇÃO DE PREÇO UNITÁRIO
B5: CÓD. OBRA: 066 | C5: OBJETO: EXECUÇÃO DE REMANESCENTE DE OBRAS DE CONTENÇÃO DE ENCOSTAS EM 07 ÁREAS DE RISCO, NO MUNICÍPIO DE BETIM-MG. ÁREAS PREVISTAS NO TERMO DE COMPROMISSO N.º 0.398.478-71 .
B6: Serviço: | C6: ='PLANILHA ORÇAMENTO 29.05.25'!E18 -> LIGAÇÃO PROVISÓRIA COM ENTRADA DE ENERGIA AÉREA, PADRÃO CEMIG, CARGA INSTALADA DE 15,1KVA ATÉ 30KVA, TRIFÁSICO, COM SAÍDA SUBTERRÂNEA, INCLUSIVE POSTE, CAIXA PARA MEDIDOR, DISJUNTOR, BARRAMENTO, ATERRAMENTO E ACESSÓRIOS | I6: UN
B7: Item | C7: ='PLANILHA ORÇAMENTO 29.05.25'!B18 -> 01.02.01 | H7: CPU | I7: 001
B8: MÃO-DE-OBRA | C8: DESCRIÇÃO | D8: REFERÊNCIA | E8: CÓDIGO | F8: UNIDADE | G8: QUANTIDADE | H8: CUSTO HORÁRIO | I8: CUSTO
C9: AUXILIAR DE ELETRICISTA COM ENCARGOS COMPLEMENTARES | D9: SINAPI | E9: 88247 | F9: H | G9: 3.6666667 | H9: 25.52 | I9: =ROUND(G9*H9,2) -> 93.57
C10: ELETRICISTA COM ENCARGOS COMPLEMENTARES | D10: SINAPI | E10: 88264 | F10: H | G10: 3.6666667 | H10: 31.63 | I10: =ROUND(G10*H10,2) -> 115.98
I12: 0
C13: 1. TOTAL DE MÃO-DE-OBRA | H13: ð | I13: =ROUND(SUM(I9:I12),2) -> 209.55
B14: EQUIPAMENTOS | C14: DESCRIÇÃO | D14: REFERÊNCIA | E14: CÓDIGO | F14: UNIDADE | G14: QUANTIDADE | H14: CUSTO HORÁRIO | I14: CUSTO
I15: =ROUND(G15*H15,2) -> 0
I16: =ROUND(G16*H16,2) -> 0
I17: =G17*H17 -> 0
C18: 2. TOTAL DE EQUIPAMENTOS | H18: ð | I18: =ROUND(SUM(I15:I17),2) -> 0
B19: MATERIAL - SERVIÇO | C19: DESCRIÇÃO | D19: REFERÊNCIA | E19: CÓDIGO | F19: UNIDADE | G19: QUANTIDADE | H19: CUSTO UNTÁRIO | I19: CUSTO
C20: CABO DE COBRE NU 10 MM2 MEIO-DURO | D20: SINAPI | E20: 862 | F20: M | G20: 1.3333333 | H20: 11.22 | I20: =ROUND(G20*H20,2) -> 14.96
C21: CONECTOR METALICO TIPO PARAFUSO FENDIDO (SPLIT BOLT), COM SEPARADOR DE CABOS BIMETALICOS, PARA CABOS ATE 25 MM2 | D21: SINAPI | E21: 11821 | F21: UN | G21: 0.3333333 | H21: 13.95 | I21: =ROUND(G21*H21,2) -> 4.65
C22: DISJUNTOR TERMOMAGNETICO PARA TRILHO DIN (IEC), TRIPOLAR, 63 A | D22: SINAPI | E22: 34714 | F22: UN | G22: 0.3333333 | H22: 93.97 | I22: =ROUND(G22*H22,2) -> 31.32
C23: BARRA CHATA (MATERIAL: COBRE ELETROLÍTICO|APLICAÇÃO: BARRAMENTO) | D23: SICOR-MG | E23: MATED-19556 | F23: KG | G23: 0.0012903 | H23: 104.88 | I23: =ROUND(G23*H23,2) -> 0.14
C24: ARAME GALVANIZADO 12 BWG, D = 2,76 MM (0,048 KG/M) OU 14 BWG, D = 2,11 MM (0,026 KG/M) | D24: SINAPI | E24: 43130 | F24: KG | G24: 0.5 | H24: 20.5 | I24: =ROUND(G24*H24,2) -> 10.25
C25: POSTE PARA ENTRADA DE ENERGIA EM AÇO GALVANIZADO, TIPO PA-2 OU PA-4, DIÂMETRO NOMINAL DE 102MM, ESP. 2MM, INCLUSIVE TAMPÃO - FORNECIMENTO, EXCLUSIVE MONTAGEM E INSTALAÇÃO | D25: SICOR-MG | E25: ED-20648 | F25: UN | G25: 0.3333333 | H25: 425.67 | I25: =ROUND(G25*H25,2) -> 141.89
C26: CAIXA PARA PROTEÇÃO GERAL, TIPO CM-8, DIMENSÕES CONFORME PADRÃO CEMIG, EXCLUSIVE BARRAMENTO E DISJUNTOR, INCLUSIVE INSTALAÇÃO | D26: SICOR-MG | E26: ED-28593 | F26: UN | G26: 0.3333333 | H26: 341.47 | I26: =ROUND(G26*H26,2) -> 113.82
C27: HASTE DE ATERRAMENTO, DIÂMETRO 5/8", COM 3 METROS - FORNECIMENTO E INSTALAÇÃO. AF_08/2023 | D27: SINAPI | E27: 96985 | F27: UN | G27: 0.5 | H27: 116.95 | I27: =ROUND(G27*H27,2) -> 58.48
C28: CONECTOR GRAMPO METÁLICO TIPO OLHAL, PARA SPDA, PARA HASTE DE ATERRAMENTO DE 5/8'' E CABOS DE 10 A 50 MM2 - FORNECIMENTO E INSTALAÇÃO. AF_08/2023 | D28: SINAPI | E28: 104750 | F28: UN | G28: 0.5 | H28: 20.39 | I28: =ROUND(G28*H28,2) -> 10.2
C29: ABRAÇADEIRA AJUSTÁVEL PARA POSTE, EM AÇO GALVANIZADO, COMPRIMENTO 80CM, INCLUSIVE INSTALAÇÃO | D29: SICOR-MG | E29: ED-48704 | F29: UN | G29: 1 | H29: 10.61 | I29: =ROUND(G29*H29,2) -> 10.61
C30: CABEÇOTE DE ALUMÍNIO PARA POSTE, DIÂMETRO 1.1/4", EXCLUSIVE ELETRODUTO, INCLUSIVE INSTALAÇÃO | D30: SICOR-MG | E30: ED-49064 | F30: UN | G30: 0.6666667 | H30: 7.16 | I30: =ROUND(G30*H30,2) -> 4.77
C31: ELETRODUTO RÍGIDO SOLDÁVEL, PVC, DN 25 MM (3/4''), APARENTE - FORNECIMENTO E INSTALAÇÃO. AF_10/2022 | D31: SINAPI | E31: 95727 | F31: M | G31: 1 | H31: 20.96 | I31: =ROUND(G31*H31,2) -> 20.96
C32: ELETRODUTO RÍGIDO SOLDÁVEL, PVC, DN 32 MM (1''), APARENTE - FORNECIMENTO E INSTALAÇÃO. AF_10/2022 | D32: SINAPI | E32: 95728 | F32: M | G32: 6 | H32: 27.51 | I32: =ROUND(G32*H32,2) -> 165.06
C33: ARMAÇÃO SECUNDÁRIA, COM 1 ESTRIBO, SEM ISOLADOR - FORNECIMENTO E INSTALAÇÃO. AF_07/2020 | D33: SINAPI | E33: 101542 | F33: UN | G33: 1.3333333 | H33: 33.21 | I33: =ROUND(G33*H33,2) -> 44.28 | J33: AS | K33: 0.63
C34: ISOLADOR, TIPO ROLDANA, PARA BAIXA TENSÃO - FORNECIMENTO E INSTALAÇÃO. AF_07/2020 | D34: SINAPI | E34: 101548 | F34: UN | G34: 1.3333333 | H34: 8.04 | I34: =ROUND(G34*H34,2) -> 10.72
C35: CAIXA DE INSPEÇÃO EM PVC, DIÂMETRO DE 30CM, ALTURA DE 30CM, COM TAMPA EM FERRO FUNDIDO, EXCLUSIVE HASTE DE ATERRAMENTO, INCLUSIVE INSTALAÇÃO | D35: SICOR-MG | E35: ED-51055 | F35: UN | G35: 1 | H35: 159.03 | I35: =ROUND(G35*H35,2) -> 159.03
C37: 3. TOTAL DE MATERIAIS | H37: ð | I37: =ROUND(SUM(I20:I36),2) -> 801.14
C38: PREÇO TOTAL ( 1 ) + ( 2 ) + ( 3 ) | H38: ð | I38: =ROUND(I13+I18+I37,2) -> 1010.69
C39: BDI | H39: ð | I39: =G39 -> 0
C40: PREÇO UNTÁRIO FINAL | H40: ð | I40: =ROUND(I38*(1+I39),2) -> 1010.69 | J40: =(I23+I25+I26+I29+I30+I35)/I40 -> 0.42570917 | K40: DEMAIS TABELAS
J41: =100%-J40 -> 0.57429083 | K41: SINAPI
B42: OBS.: | C42: BASEADO CÓDIGO ED-50151 DA TABELA SICOR-MG BASE ABRIL DE 2025, SUBSTITUINDO A MÃO DE OBRA, EQUIPAMENTOS, MATERIAIS - SERVIÇOS, POR ITENS CONSTANTES NA TABELA SINAPI BASE JULHO/2025.
B46: COMPOSIÇÃO DE PREÇO UNITÁRIO
B48: CÓD. OBRA: 066 | C48: OBJETO: EXECUÇÃO DE REMANESCENTE DE OBRAS DE CONTENÇÃO DE ENCOSTAS EM 07 ÁREAS DE RISCO, NO MUNICÍPIO DE BETIM-MG. ÁREAS PREVISTAS NO TERMO DE COMPROMISSO N.º 0.398.478-71 .
B49: Serviço: | C49: ='PLANILHA ORÇAMENTO 29.05.25'!E22 -> MOBILIZAÇÃO DE CONTAINER | I49: UN
...

Sheet ITENS SINAPI AS
B2: RELAÇÃO DOS ITENS COM %AS (PORCENTAGEM ATRIBUÍDO SÃO PAULO)
B3: ITEM | C3: REF. | D3: CÓDIGO | E3: DESCRIÇÃO | F3: UNIDADE | G3: PREÇO UNITÁRIO | H3: % AS NO PREÇO UNITÁRIO DO ITEM | J3: VALOR TOTAL DO ITEM NO ORÇAMENTÁRIA | K3: % PESO COM RELAÇÃO AO VALOR TOTAL DO ORÇAMENTO
B4: 02.01 | C4: SINAPI | D4: 104790 | E4: DEMOLIÇÃO DE PISO DE CONCRETO SIMPLES, DE FORMA MECANIZADA COM MARTELETE, SEM REAPROVEITAMENTO. | F4: M3 | G4: ='PLANILHA ORÇAMENTO 29.05.25'!O38 -> 117.43 | H4: ='PLANILHA ORÇAMENTO 29.05.25'!AI38 -> 0.24 | J4: ='PLANILHA ORÇAMENTO 29.05.25'!X38 -> 16549.56 | K4: ='PLANILHA ORÇAMENTO 29.05.25'!AF38 -> 0.0013130427
B5: 06.02.01 | C5: SINAPI | D5: 100576 | E5: REGULARIZAÇÃO E COMPACTAÇÃO DE SUBLEITO DE SOLO PREDOMINANTEMENTE ARGILOSO. | F5: M2 | G5: ='PLANILHA ORÇAMENTO 29.05.25'!O135 -> 2.86 | H5: ='PLANILHA ORÇAMENTO 29.05.25'!AI135 -> 0.18 | J5: ='PLANILHA ORÇAMENTO 29.05.25'!X135 -> 677.58 | K5: ='PLANILHA ORÇAMENTO 29.05.25'!AF135 -> 5.3759223e-05
B6: 06.02.02 | C6: SINAPI | D6: 96396 | E6: EXECUÇÃO E COMPACTAÇÃO DE BASE E OU SUB BASE PARA PAVIMENTAÇÃO DE BRITA GRADUADA SIMPLES - EXCLUSIVE CARGA E TRANSPORTE. | F6: M3 | G6: ='PLANILHA ORÇAMENTO 29.05.25'!O136 -> 214.43 | H6: ='PLANILHA ORÇAMENTO 29.05.25'!AI136 -> 0.03 | J6: ='PLANILHA ORÇAMENTO 29.05.25'!X136 -> 7624.84 | K6: ='PLANILHA ORÇAMENTO 29.05.25'!AF136 -> 0.0006049551
B7: 06.02.07 | C7: SINAPI | D7: 95995 | E7: EXECUÇÃO DE PAVIMENTO COM APLICAÇÃO DE CONCRETO ASFÁLTICO, CAMADA DE ROLAMENTO - EXCLUSIVE CARGA E TRANSPORTE. | F7: M3 | G7: ='PLANILHA ORÇAMENTO 29.05.25'!O141 -> 1961.03 | H7: ='PLANILHA ORÇAMENTO 29.05.25'!AI141 -> 0.02 | J7: ='PLANILHA ORÇAMENTO 29.05.25'!X141 -> 23243.55 | K7: ='PLANILHA ORÇAMENTO 29.05.25'!AF141 -> 0.0018441442
J8: =SUM(J4:J7) -> 48095.53 | K8: =SUM(K4:K7) -> 0.0038159012

Sheet CRON-GERAL
D2: CRONOGRAMA FÍSICO - FINANCEIRO
C3: CÓD. OBRA: 066 | D3: OBJETO: EXECUÇÃO DE REMANESCENTE DE OBRAS DE CONTENÇÃO DE ENCOSTAS EM 07 ÁREAS DE RISCO, NO MUNICÍPIO DE BETIM-MG. ÁREAS PREVISTAS NO TERMO DE COMPROMISSO N.º 0.398.478-71 .
B5: Item | C5: Descricao | D5: Pr. Total | E5: PART. % | F5: MÊS 01 | G5: MÊS 02 | H5: MÊS 03 | I5: MÊS 04 | J5: MÊS 05 | K5: MÊS 06 | L5: MÊS 07 | M5: MÊS 08 | N5: MÊS 09 | O5: MÊS 10 | P5: MÊS 11 | Q5: MÊS 12 | R5: % total
B7: ='PLANILHA ORÇAMENTO 29.05.25'!B14 -> 01 | C7: ='PLANILHA ORÇAMENTO 29.05.25'!E14 -> INSTALAÇAO DA OBRA E ADMINISTRAÇÃO LOCAL | D7: ='PLANILHA ORÇAMENTO 29.05.25'!X35 -> 857918.22 | E7: =D7/D34 -> 0.068067265 | F7: 0.058 | G7: 0.0947 | H7: 0.0876 | I7: 0.0747 | J7: 0.102 | K7: 0.1005 | L7: 0.1048 | M7: 0.096 | N7: 0.0921 | O7: 0.0827 | P7: 0.0581 | Q7: 0.0488 | R7: =SUM(F7:Q7) -> 1
F8: =$D$7*F7 -> 49759.257 | G8: =$D$7*G7 -> 81244.855 | H8: =$D$7*H7 -> 75153.636 | I8: =$D$7*I7 -> 64086.491 | J8: =$D$7*J7 -> 87507.658 | K8: =$D$7*K7 -> 86220.781 | L8: =$D$7*L7 -> 89909.829 | M8: =$D$7*M7 -> 82360.149 | ... Q8: =$D$7*Q7 -> 41866.409 | R8: =SUM(F8:Q8) -> 857918.22 | S8: =D7-R8 -> 0
S9: =D8-R9 -> 0
B10: ='PLANILHA ORÇAMENTO 29.05.25'!B37 -> 02 | C10: ='PLANILHA ORÇAMENTO 29.05.25'!E37 -> DEMOLIÇÕES | D10: ='PLANILHA ORÇAMENTO 29.05.25'!X47 -> 29916.15 | E10: =D10/D34 -> 0.0023735485 | F10: =F11/$D$10 -> 0 | G10: 0.0446 | H10: 0 | I10: 0 | J10: 0.5653 | K10: 0.2605 | L10: 0.1296 | M10: =M11/$D$10 -> 0 | N10: =N11/$D$10 -> 0 | O10: =O11/$D$10 -> 0 | P10: =P11/$D$10 -> 0 | Q10: =Q11/$D$10 -> 0 | R10: =SUM(F10:Q10) -> 1
F11: ='CRON-07'!F11+'CRON-09'!F11+'CRON-11'!F11+'CRON-18'!F11+'CRON-21'!F11+'CRON-22'!F11+'CRON-23'!F11 -> 0 | G11: =$D$10*G10 -> 1334.2603 | H11: 0 | I11: 0 | J11: =$D$10*J10 -> 16911.6 | K11: =$D$10*K10 -> 7793.1571 | L11: =$D$10*L10 -> 3877.133 | M11: ='CRON-07'!M11+'CRON-09'!M11+'CRON-11'!M11+'CRON-18'!M11+'CRON-21'!M11+'CRON-22'!M11+'CRON-23'!M11 -> 0 | N11: ='CRON-07'!N11+'CRON-09'!N11+'CRON-11'!N11+'CRON-18'!N11+'CRON-21'!N11+'CRON-22'!N11+'CRON-23'!N11 -> 0 | O11: ='CRON-07'!O11+'CRON-09'!O11+'CRON-11'!O11+'CRON-18'!O11+'CRON-21'!O11+'CRON-22'!O11+'CRON-23'!O11 -> 0 | P11: ='CRON-07'!P11+'CRON-09'!P11+'CRON-11'!P11+'CRON-18'!P11+'CRON-21'!P11+'CRON-22'!P11+'CRON-23'!P11 -> 0 | Q11: ='CRON-07'!Q11+'CRON-09'!Q11+'CRON-11'!Q11+'CRON-18'!Q11+'CRON-21'!Q11+'CRON-22'!Q11+'CRON-23'!Q11 -> 0 | R11: =SUM(F11:Q11) -> 29916.15 | S11: =D10-R11 -> 0
S12: =D11-R12 -> 0
B13: ='PLANILHA ORÇAMENTO 29.05.25'!B49 -> 03 | C13: ='PLANILHA ORÇAMENTO 29.05.25'!E49 -> LIMPEZA DO TERRENO | D13: ='PLANILHA ORÇAMENTO 29.05.25'!X61 -> 534494.38 | E13: =D13/D34 -> 0.042406805 | F13: 0.0196 | G13: 0.0623 | J13: 0.6422 | K13: 0.2065 | L13: 0 | M13: 0 | N13: 0.0263 | O13: 0.0431 | P13: =P14/$D$13 -> 0 | Q13: =Q14/$D$13 -> 0 | R13: =SUM(F13:Q13) -> 1
F14: =$D$13*F13 -> 10476.09 | G14: =$D$13*G13 -> 33299 | J14: =$D$13*J13 -> 343252.29 | K14: =$D$13*K13 -> 110373.09 | L14: 0 | M14: 0 | N14: =$D$13*N13 -> 14057.202 | O14: =$D$13*O13 -> 23036.708 | P14: ='CRON-07'!P14+'CRON-09'!P14+'CRON-11'!P14+'CRON-18'!P14+'CRON-21'!P14+'CRON-22'!P14+'CRON-23'!P14 -> 0 | Q14: ='CRON-07'!Q14+'CRON-09'!Q14+'CRON-11'!Q14+'CRON-18'!Q14+'CRON-21'!Q14+'CRON-22'!Q14+'CRON-23'!Q14 -> 0 | R14: =SUM(F14:Q14) -> 534494.38 | S14: =D13-R14 -> 0
S15: =D14-R15 -> 0
B16: ='PLANILHA ORÇAMENTO 29.05.25'!B63 -> 04 | C16: ='PLANILHA ORÇAMENTO 29.05.25'!E63 -> VIABILIZAÇÃO DAS OBRAS | D16: ='PLANILHA ORÇAMENTO 29.05.25'!X69 -> 4987.59 | E16: =D16/D34 -> 0.00039571558 | F16: =F17/$D$16 -> 0 | G16: =G17/$D$16 -> 0 | H16: =H17/$D$16 -> 0 | I16: =I17/$D$16 -> 0 | J16: =J17/$D$16 -> 0 | K16: =K17/$D$16 -> 0 | L16: =L17/$D$16 -> 0 | M16: =M17/$D$16 -> 0 | N16: =N17/$D$16 -> 0 | O16: 1 | P16: =P17/$D$16 -> 0 | Q16: =Q17/$D$16 -> 0 | R16: =SUM(F16:Q16) -> 1
F17: ='CRON-07'!F17+'CRON-09'!F17+'CRON-11'!F17+'CRON-18'!F17+'CRON-21'!F17+'CRON-22'!F17+'CRON-23'!F17 -> 0 | G17: ='CRON-07'!G17+'CRON-09'!G17+'CRON-11'!G17+'CRON-18'!G17+'CRON-21'!G17+'CRON-22'!G17+'CRON-23'!G17 -> 0 | H17: ='CRON-07'!H17+'CRON-09'!H17+'CRON-11'!H17+'CRON-18'!H17+'CRON-21'!H17+'CRON-22'!H17+'CRON-23'!H17 -> 0 | I17: ='CRON-07'!I17+'CRON-09'!I17+'CRON-11'!I17+'CRON-18'!I17+'CRON-21'!I17+'CRON-22'!I17+'CRON-23'!I17 -> 0 | J17: ='CRON-07'!J17+'CRON-09'!J17+'CRON-11'!J17+'CRON-18'!J17+'CRON-21'!J17+'CRON-22'!J17+'CRON-23'!J17 -> 0 | K17: ='CRON-07'!K17+'CRON-09'!K17+'CRON-11'!K17+'CRON-18'!K17+'CRON-21'!K17+'CRON-22'!K17+'CRON-23'!K17 -> 0 | L17: ='CRON-07'!L17+'CRON-09'!L17+'CRON-11'!L17+'CRON-18'!L17+'CRON-21'!L17+'CRON-22'!L17+'CRON-23'!L17 -> 0 | M17: ='CRON-07'!M17+'CRON-09'!M17+'CRON-11'!M17+'CRON-18'!M17+'CRON-21'!M17+'CRON-22'!M17+'CRON-23'!M17 -> 0 | N17: ='CRON-07'!N17+'CRON-09'!N17+'CRON-11'!N17+'CRON-18'!N17+'CRON-21'!N17+'CRON-22'!N17+'CRON-23'!N17 -> 0 | O17: =$D$16*O16 -> 4987.59 | P17: ='CRON-07'!P17+'CRON-09'!P17+'CRON-11'!P17+'CRON-18'!P17+'CRON-21'!P17+'CRON-22'!P17+'CRON-23'!P17 -> 0 | Q17: ='CRON-07'!Q17+'CRON-09'!Q17+'CRON-11'!Q17+'CRON-18'!Q17+'CRON-21'!Q17+'CRON-22'!Q17+'CRON-23'!Q17 -> 0 | R17: =SUM(F17:Q17) -> 4987.59 | S17: =D16-R17 -> 0
S18: =D17-R18 -> 0
B19: ='PLANILHA ORÇAMENTO 29.05.25'!B71 -> 05 | C19: ='PLANILHA ORÇAMENTO 29.05.25'!E71 -> DRENAGEM (LANÇAMENTO) | D19: ='PLANILHA ORÇAMENTO 29.05.25'!X129 -> 2328681.4 | E19: =D19/D34 -> 0.18475767 | F19: 0.0223 | G19: 0.0557 | H19: 0.0781 | I19: 0.0297 | J19: 0.1021 | K19: 0.2082 | L19: 0.2055 | M19: 0.1357 | N19: 0.0451 | O19: 0.0631 | P19: 0.0416 | Q19: 0.0129 | R19: =SUM(F19:Q19) -> 1
F20: =$D$19*F19 -> 51929.594 | G20: =$D$19*G19 -> 129707.55 | H20: =$D$19*H19 -> 181870.01 | I20: =$D$19*I19 -> 69161.836 | J20: =$D$19*J19 -> 237758.37 | K20: =$D$19*K19 -> 484831.46 | L20: =$D$19*L19 -> 478544.02 | M20: =$D$19*M19 -> 316002.06 | ... Q20: =$D$19*Q19 -> 30039.99 | R20: =SUM(F20:Q20) -> 2328681.4 | S20: =D19-R20 -> 0
S21: =D20-R21 -> 0
B22: ='PLANILHA ORÇAMENTO 29.05.25'!B131 -> 06 | C22: ='PLANILHA ORÇAMENTO 29.05.25'!E131 -> URBANIZAÇAO E OBRAS COMPLEMENTARES | D22: ='PLANILHA ORÇAMENTO 29.05.25'!X152 -> 456563.31 | E22: =D22/D34 -> 0.036223751 | F22: 0.2034 | G22: 0.0694 | H22: 0.2082 | I22: 0.4164 | J22: 0 | K22: 0 | L22: 0 | M22: 0.0084 | N22: 0.076 | O22: 0 | P22: 0.0045 | Q22: 0.0137 | R22: =SUM(F22:Q22) -> 1
F23: =$D$22*F22 -> 92864.977 | G23: =$D$22*G22 -> 31685.494 | H23: =$D$22*H22 -> 95056.481 | I23: =$D$22*I22 -> 190112.96 | J23: 0 | K23: 0 | L23: 0 | M23: =$D$22*M22 -> 3835.1318 | N23: =$D$22*N22 -> 34698.812 | O23: 0 | P23: =$D$22*P22 -> 2054.5349 | Q23: =$D$22*Q22 -> 6254.9173 | R23: =SUM(F23:Q23) -> 456563.31 | S23: =D22-R23 -> 0
S24: =D23-R24 -> 0
B25: ='PLANILHA ORÇAMENTO 29.05.25'!B154 -> 07 | C25: ='PLANILHA ORÇAMENTO 29.05.25'!E154 -> REDE DE ESGOTO | D25: ='PLANILHA ORÇAMENTO 29.05.25'!X186 -> 547453.19 | E25: =D25/D34 -> 0.043434957 | F25: =F26/$D$25 -> 0 | G25: 0.198 | H25: 0.1584 | I25: 0.0396 | J25: 0.0058 | K25: 0.1381 | L25: 0.2904 | M25: 0.1697 | N25: =N26/$D$25 -> 0 | O25: =O26/$D$25 -> 0 | P25: =P26/$D$25 -> 0 | Q25: =Q26/$D$25 -> 0 | R25: =SUM(F25:Q25) -> 1
F26: ='CRON-07'!F26+'CRON-09'!F26+'CRON-11'!F26+'CRON-18'!F26+'CRON-21'!F26+'CRON-22'!F26+'CRON-23'!F26 -> 0 | G26: =$D$25*G25 -> 108395.73 | H26: =$D$25*H25 -> 86716.585 | I26: =$D$25*I25 -> 21679.146 | J26: =$D$25*J25 -> 3175.2285 | K26: =$D$25*K25 -> 75603.286 | L26: =$D$25*L25 -> 158980.41 | M26: =$D$25*M25 -> 92902.806 | N26: ='CRON-07'!N26+'CRON-09'!N26+'CRON-11'!N26+'CRON-18'!N26+'CRON-21'!N26+'CRON-22'!N26+'CRON-23'!N26 -> 0 | O26: ='CRON-07'!O26+'CRON-09'!O26+'CRON-11'!O26+'CRON-18'!O26+'CRON-21'!O26+'CRON-22'!O26+'CRON-23'!O26 -> 0 | P26: ='CRON-07'!P26+'CRON-09'!P26+'CRON-11'!P26+'CRON-18'!P26+'CRON-21'!P26+'CRON-22'!P26+'CRON-23'!P26 -> 0 | Q26: ='CRON-07'!Q26+'CRON-09'!Q26+'CRON-11'!Q26+'CRON-18'!Q26+'CRON-21'!Q26+'CRON-22'!Q26+'CRON-23'!Q26 -> 0 | R26: =SUM(F26:Q26) -> 547453.19 | S26: =D25-R26 -> 0
S27: =D26-R27 -> 0
B28: ='PLANILHA ORÇAMENTO 29.05.25'!B188 -> 08 | C28: ='PLANILHA ORÇAMENTO 29.05.25'!E188 -> OBRAS DE CONTEÇÃO - PROTECAO DE TALUDE / GABIAO | D28: ='PLANILHA ORÇAMENTO 29.05.25'!X209 -> 6721971.1 | E28: =D28/D34 -> 0.53332145 | F28: 0.0542 | G28: 0.1084 | H28: 0.1264 | I28: 0.0722 | J28: 0.0293 | K28: 0.0585 | L28: 0.0585 | M28: 0.0878 | N28: 0.0929 | O28: 0.138 | P28: 0.1044 | Q28: 0.0694 | R28: =SUM(F28:Q28) -> 1
F29: =$D$28*F28 -> 364330.84 | G29: =$D$28*G28 -> 728661.67 | H29: =$D$28*H28 -> 849657.15 | I29: =$D$28*I28 -> 485326.32 | J29: =$D$28*J28 -> 196953.75 | K29: =$D$28*K28 -> 393235.31 | L29: =$D$28*L28 -> 393235.31 | M29: =$D$28*M28 -> 590189.07 | ... Q29: =$D$28*Q28 -> 466504.8 | R29: =SUM(F29:Q29) -> 6721971.1 | S29: =D28-R29 -> 0
S30: =D29-R30 -> 0
B31: ='PLANILHA ORÇAMENTO 29.05.25'!B211 -> 09 | C31: ='PLANILHA ORÇAMENTO 29.05.25'!E211 -> CONTENCAO EM SOLO GRAMPEADO E ENTELAMENTO ROCHOSO | D31: ='PLANILHA ORÇAMENTO 29.05.25'!X221 -> 1121991.4 | E31: =D31/D34 -> 0.089018842 | F31: =F32/$D$31 -> 0 | G31: 0.0004 | H31: 0.0008 | I31: 0.003 | J31: 0.0996 | K31: 0.2987 | L31: 0.3983 | M31: 0.1992 | N31: =N32/$D$31 -> 0 | O31: =O32/$D$31 -> 0 | P31: =P32/$D$31 -> 0 | Q31: =Q32/$D$31 -> 0 | R31: =SUM(F31:Q31) -> 1
F32: ='CRON-07'!F32+'CRON-09'!F32+'CRON-11'!F32+'CRON-18'!F32+'CRON-21'!F32+'CRON-22'!F32+'CRON-23'!F32 -> 0 | G32: =$D$31*G31 -> 448.79657 | H32: =$D$31*H31 -> 897.59314 | I32: =$D$31*I31 -> 3365.9743 | J32: =$D$31*J31 -> 111750.35 | K32: =$D$31*K31 -> 335138.84 | L32: =$D$31*L31 -> 446889.18 | M32: =$D$31*M31 -> 223500.69 | N32: ='CRON-07'!N32+'CRON-09'!N32+'CRON-11'!N32+'CRON-18'!N32+'CRON-21'!N32+'CRON-22'!N32+'CRON-23'!N32 -> 0 | O32: ='CRON-07'!O32+'CRON-09'!O32+'CRON-11'!O32+'CRON-18'!O32+'CRON-21'!O32+'CRON-22'!O32+'CRON-23'!O32 -> 0 | P32: ='CRON-07'!P32+'CRON-09'!P32+'CRON-11'!P32+'CRON-18'!P32+'CRON-21'!P32+'CRON-22'!P32+'CRON-23'!P32 -> 0 | Q32: ='CRON-07'!Q32+'CRON-09'!Q32+'CRON-11'!Q32+'CRON-18'!Q32+'CRON-21'!Q32+'CRON-22'!Q32+'CRON-23'!Q32 -> 0 | R32: =SUM(F32:Q32) -> 1121991.4 | S32: =D31-R32 -> 0
C34: TOTAL GERAL DA OBRA | D34: =SUM(D6:D33) -> 12603977 | E34: =SUM(E6:E33) -> 1
C36: % TOTAL | F36: =F39/D34 -> 0.045173104 | G36: =G38/$D$34 -> 0.088446479 | H36: =H38/$D$34 -> 0.10229719 | I36: =I38/$D$34 -> 0.066148387 | J36: =J38/$D$34 -> 0.079126554 | K36: =K38/$D$34 -> 0.11847022 | L36: =L38/$D$34 -> 0.12467778 | M36: =M38/$D$34 -> 0.10383944 | N36: =N38/$D$34 -> 0.068015432 | ... Q36: =Q38/$D$34 -> 0.04321383 | R36: =SUM(F36:Q36) -> 1
C37: % TOTAL ACUMULADO | F37: =F38/D34 -> 0.045173104 | G37: =F37+G36 -> 0.13361958 | H37: =G37+H36 -> 0.23591678 | I37: =H37+I36 -> 0.30206516 | J37: =I37+J36 -> 0.38119172 | K37: =J37+K36 -> 0.49966194 | L37: =K37+L36 -> 0.62433972 | M37: =L37+M36 -> 0.72817916 | N37: =M37+N36 -> 0.7961946 | ... Q37: =P37+Q36 -> 1 | R37: -
C38: VALOR TOTAL | F38: =F8+F11+F14+F17+F20+F23+F26+F29+F32 -> 569360.75 | G38: =G8+G11+G14+G17+G20+G23+G26+G29+G32 -> 1114777.4 | H38: =H8+H11+H14+H17+H20+H23+H26+H29+H32 -> 1289351.5 | I38: =I8+I11+I14+I17+I20+I23+I26+I29+I32 -> 833732.73 | J38: =J8+J11+J14+J17+J20+J23+J26+J29+J32 -> 997309.24 | K38: =K8+K11+K14+K17+K20+K23+K26+K29+K32 -> 1493195.9 | L38: =L8+L11+L14+L17+L20+L23+L26+L29+L32 -> 1571435.9 | M38: =M8+M11+M14+M17+M20+M23+M26+M29+M32 -> 1308789.9 | ... Q38: =Q8+Q11+Q14+Q17+Q20+Q23+Q26+Q29+Q32 -> 544666.11 | R38: =SUM(F38:Q38) -> 12603977 | S38: =D34-R38 -> 0
C39: VALOR TOTAL ACUMULADO | F39: =F38 -> 569360.75 | G39: =F39+G38 -> 1684138.1 | H39: =G39+H38 -> 2973489.6 | I39: =H39+I38 -> 3807222.3 | J39: =I39+J38 -> 4804531.5 | K39: =J39+K38 -> 6297727.5 | L39: =K39+L38 -> 7869163.3 | M39: =L39+M38 -> 9177953.3 | N39: =M39+N38 -> 10035218 | ... Q39: =P39+Q38 -> 12603977 | R39: -
F43: DISTRIBUIÇÃO DE CRONOGRAMA PREVISTO PARA AS 07 ÁREAS - SENDO 02 EM CONCOMITÂNCIA CONFORME DISPONIBILIDADE
F44: MÊS 01 | G44: MÊS 02 | H44: MÊS 03 | I44: MÊS 04 | J44: MÊS 05 | K44: MÊS 06 | L44: MÊS 07 | M44: MÊS 08 | N44: MÊS 09 | O44: MÊS 10 | P44: MÊS 11 | Q44: MÊS 12
F46: ÁREA 23 | G46: ÁREA 09 | H46: ÁREA 09 | I46: ÁREA 09 | J46: ÁREA 18 | K46: ÁREA 18 | L46: ÁREA 18 | M46: ÁREA 18 | N46: ÁREA 18 | O46: ÁREA 11 | P46: ÁREA 11 | Q46: ÁREA 11
F47: ÁREA 07 | G47: ÁREA 07 | H47: ÁREA 07 | I47: ÁREA 07 | J47: ÁREA 22 | K47: ÁREA 22 | L47: ÁREA 22 | M47: ÁREA 22 | N47: ÁREA 21 | O47: ÁREA 21 | P47: ÁREA 21 | Q47: ÁREA 21

Sheet CRON-07
D2: CRONOGRAMA FÍSICO - FINANCEIRO - ÁREA 07
C3: CÓD. OBRA: 066 | D3: OBJETO: EXECUÇÃO DE REMANESCENTE DE OBRAS DE CONTENÇÃO DE ENCOSTAS EM 07 ÁREAS DE RISCO, NO MUNICÍPIO DE BETIM-MG. ÁREAS PREVISTAS NO TERMO DE COMPROMISSO N.º 0.398.478-71 .
B5: Item | C5: Descricao | D5: Pr. Total | E5: PART. % | F5: MÊS 01 | G5: MÊS 02 | H5: MÊS 03 | I5: MÊS 04 | J5: MÊS 05 | K5: MÊS 06 | L5: MÊS 07 | M5: MÊS 08 | N5: MÊS 09 | O5: MÊS 10 | P5: MÊS 11 | Q5: MÊS 12 | R5: % total
A7: ='PLANILHA ORÇAMENTO 29.05.25'!Q33 -> 134117.3 | B7: ='PLANILHA ORÇAMENTO 29.05.25'!B14 -> 01 | C7: ='PLANILHA ORÇAMENTO 29.05.25'!E14 -> INSTALAÇAO DA OBRA E ADMINISTRAÇÃO LOCAL | D7: ='PLANILHA ORÇAMENTO 29.05.25'!Q35 -> 173462.51 | E7: =D7/D34 -> 0.064513871 | F7: =F8/$D$7 -> 0.22923316 | G7: =G8/$D$7 -> 0.26233744 | H7: =H8/$D$7 -> 0.29279174 | I7: =I8/$D$7 -> 0.21563806 | R7: =SUM(F7:Q7) -> 1.0000004
A8: =D7-A7 -> 39345.21 | F8: =16762.5+F45 -> 39763.36 | G8: =5596.37+G45 -> 45505.71 | H8: =5596.37+H45 -> 50788.39 | I8: =11389.97+I45 -> 37405.12 | R8: =SUM(F8:Q8) -> 173462.58 | S8: =R8-D7 -> 0.07
A10: =(D34-A7) -> 2554645.7 | B10: ='PLANILHA ORÇAMENTO 29.05.25'!B37 -> 02 | C10: ='PLANILHA ORÇAMENTO 29.05.25'!E37 -> DEMOLIÇÕES | E10: =D10/D34 -> 0 | R10: =SUM(F10:Q10) -> 0
A11: =A7/A10 -> 0.052499374 | F11: =$D10*F10 -> 0 | G11: =$D10*G10 -> 0 | H11: =$D10*H10 -> 0 | I11: =$D10*I10 -> 0 | R11: =SUM(F11:Q11) -> 0
B13: ='PLANILHA ORÇAMENTO 29.05.25'!B49 -> 03 | C13: ='PLANILHA ORÇAMENTO 29.05.25'!E49 -> LIMPEZA DO TERRENO | D13: ='PLANILHA ORÇAMENTO 29.05.25'!Q61 -> 14942.08 | E13: =D13/D34 -> 0.005557232 | F13: 0.7 | G13: 0.3 | R13: =SUM(F13:Q13) -> 1
F14: =$D13*F13 -> 10459.456 | G14: =$D13*G13 -> 4482.624 | H14: =$D13*H13 -> 0 | I14: =$D13*I13 -> 0 | R14: =SUM(F14:Q14) -> 14942.08
B16: ='PLANILHA ORÇAMENTO 29.05.25'!B63 -> 04 | C16: ='PLANILHA ORÇAMENTO 29.05.25'!E63 -> VIABILIZAÇÃO DAS OBRAS | E16: =D16/D34 -> 0 | R16: =SUM(F16:Q16) -> 0
F17: =$D16*F16 -> 0 | G17: =$D16*G16 -> 0 | H17: =$D16*H16 -> 0 | I17: =$D16*I16 -> 0 | R17: =SUM(F17:Q17) -> 0
B19: ='PLANILHA ORÇAMENTO 29.05.25'!B71 -> 05 | C19: ='PLANILHA ORÇAMENTO 29.05.25'!E71 -> DRENAGEM (LANÇAMENTO) | D19: ='PLANILHA ORÇAMENTO 29.05.25'!Q129 -> 79646.62 | E19: =D19/D34 -> 0.02962203 | F19: 0.6 | G19: 0.3 | H19: 0.1 | R19: =SUM(F19:Q19) -> 1
F20: =$D19*F19 -> 47787.972 | G20: =$D19*G19 -> 23893.986 | H20: =$D19*H19 -> 7964.662 | I20: =$D19*I19 -> 0 | R20: =SUM(F20:Q20) -> 79646.62
B22: ='PLANILHA ORÇAMENTO 29.05.25'!B131 -> 06 | C22: ='PLANILHA ORÇAMENTO 29.05.25'!E131 -> URBANIZAÇAO E OBRAS COMPLEMENTARES | E22: =D22/D34 -> 0 | R22: =SUM(F22:Q22) -> 0
F23: =$D22*F22 -> 0 | G23: =$D22*G22 -> 0 | H23: =$D22*H22 -> 0 | I23: =$D22*I22 -> 0 | R23: =SUM(F23:Q23) -> 0
B25: ='PLANILHA ORÇAMENTO 29.05.25'!B154 -> 07 | C25: ='PLANILHA ORÇAMENTO 29.05.25'!E154 -> REDE DE ESGOTO | E25: =D25/D34 -> 0 | R25: =SUM(F25:Q25) -> 0
F26: =$D25*F25 -> 0 | G26: =$D25*G25 -> 0 | H26: =$D25*H25 -> 0 | I26: =$D25*I25 -> 0 | R26: =SUM(F26:Q26) -> 0
B28: ='PLANILHA ORÇAMENTO 29.05.25'!B188 -> 08 | C28: ='PLANILHA ORÇAMENTO 29.05.25'!E188 -> OBRAS DE CONTEÇÃO - PROTECAO DE TALUDE / GABIAO | D28: ='PLANILHA ORÇAMENTO 29.05.25'!Q209 -> 2420711.8 | E28: =D28/D34 -> 0.90030687 | F28: 0.15 | G28: 0.3 | H28: 0.35 | I28: 0.2 | R28: =SUM(F28:Q28) -> 1
F29: =$D28*F28 -> 363106.77 | G29: =$D28*G28 -> 726213.54 | H29: =$D28*H28 -> 847249.13 | I29: =$D28*I28 -> 484142.36 | R29: =SUM(F29:Q29) -> 2420711.8
B31: ='PLANILHA ORÇAMENTO 29.05.25'!B211 -> 09 | C31: ='PLANILHA ORÇAMENTO 29.05.25'!E211 -> CONTENCAO EM SOLO GRAMPEADO E ENTELAMENTO ROCHOSO | E31: =D31/D34 -> 0 | R31: =SUM(F31:Q31) -> 0
F32: =$D31*F31 -> 0 | G32: =$D31*G31 -> 0 | H32: =$D31*H31 -> 0 | I32: =$D31*I31 -> 0 | J32: =$D31*J31 -> 0 | K32: =$D31*K31 -> 0 | L32: =$D31*L31 -> 0 | M32: =$D31*M31 -> 0 | ... Q32: =$D31*Q31 -> 0 | R32: =SUM(F32:Q32) -> 0
C34: TOTAL GERAL DA OBRA | D34: =SUM(D6:D33) -> 2688763 | E34: =SUM(E6:E33) -> 1
C36: % TOTAL | F36: =F39/D34 -> 0.17149803 | G36: =G38/$D$34 -> 0.29757024 | H36: =H38/$D$34 -> 0.33695873 | I36: =I38/$D$34 -> 0.19397302 | J36: =J38/$D$34 -> 0 | K36: =K38/$D$34 -> 0 | L36: =L38/$D$34 -> 0 | M36: =M38/$D$34 -> 0 | N36: =N38/$D$34 -> 0 | ... Q36: =Q38/$D$34 -> 0 | R36: =SUM(F36:Q36) -> 1
C37: % TOTAL ACUMULADO | F37: =F38/D34 -> 0.17149803 | G37: =F37+G36 -> 0.46906827 | H37: =G37+H36 -> 0.80602701 | I37: =H37+I36 -> 1 | R37: -
C38: VALOR TOTAL | F38: =F8+F11+F14+F17+F20+F23+F26+F29+F32 -> 461117.56 | G38: =G8+G11+G14+G17+G20+G23+G26+G29+G32 -> 800095.86 | H38: =H8+H11+H14+H17+H20+H23+H26+H29+H32 -> 906002.19 | I38: =I8+I11+I14+I17+I20+I23+I26+I29+I32 -> 521547.48 | R38: =SUM(F38:Q38) -> 2688763.1 | S38: =D34-R38 -> -0.07
C39: VALOR TOTAL ACUMULADO | F39: =F38 -> 461117.56 | G39: =F39+G38 -> 1261213.4 | H39: =G39+H38 -> 2167215.6 | I39: =H39+I38 -> 2688763.1 | R39: -
F43: 438116.7 | G43: 760186.52 | H43: 860810.17 | I43: 495532.33
F44: 0.052499401 | G44: 0.052499401 | H44: 0.052499401 | I44: 0.052499401
F45: =ROUND(F43*F44,2) -> 23000.86 | G45: =ROUND(G43*G44,2) -> 39909.34 | H45: =ROUND(H43*H44,2) -> 45192.02 | I45: =ROUND(I43*I44,2) -> 26015.15

Sheet CRON-09
D2: CRONOGRAMA FÍSICO - FINANCEIRO - ÁREA 09
C3: CÓD. OBRA: 066 | D3: OBJETO: EXECUÇÃO DE REMANESCENTE DE OBRAS DE CONTENÇÃO DE ENCOSTAS EM 07 ÁREAS DE RISCO, NO MUNICÍPIO DE BETIM-MG. ÁREAS PREVISTAS NO TERMO DE COMPROMISSO N.º 0.398.478-71 .
B5: Item | C5: Descricao | D5: Pr. Total | E5: PART. % | F5: MÊS 01 | G5: MÊS 02 | H5: MÊS 03 | I5: MÊS 04 | J5: MÊS 05 | K5: MÊS 06 | L5: MÊS 07 | M5: MÊS 08 | N5: MÊS 09 | O5: MÊS 10 | P5: MÊS 11 | Q5: MÊS 12 | R5: % total
A7: ='PLANILHA ORÇAMENTO 29.05.25'!R33 -> 50353.88 | B7: ='PLANILHA ORÇAMENTO 29.05.25'!B14 -> 01 | C7: ='PLANILHA ORÇAMENTO 29.05.25'!E14 -> INSTALAÇAO DA OBRA E ADMINISTRAÇÃO LOCAL | D7: ='PLANILHA ORÇAMENTO 29.05.25'!R35 -> 87491.21 | E7: =D7/D34 -> 0.086669042 | G7: =G8/$D$7 -> 0.40852024 | H7: =H8/$D$7 -> 0.28304729 | I7: =I8/$D$7 -> 0.30843247 | R7: =SUM(F7:Q7) -> 1
A8: =D7-A7 -> 37137.33 | G8: =20150.99+G45 -> 35741.93 | H8: =5596.37+H45 -> 24764.15 | I8: =11389.97+I45+0.01 -> 26985.13 | R8: =SUM(F8:Q8) -> 87491.21
A10: =(D34-A7) -> 959132.41 | B10: ='PLANILHA ORÇAMENTO 29.05.25'!B37 -> 02 | C10: ='PLANILHA ORÇAMENTO 29.05.25'!E37 -> DEMOLIÇÕES | D10: ='PLANILHA ORÇAMENTO 29.05.25'!R47 -> 1334.41 | E10: =D10/D34 -> 0.0013218704 | G10: 1 | R10: =SUM(F10:Q10) -> 1
A11: =A7/A10 -> 0.052499404 | G11: =$D10*G10 -> 1334.41 | H11: =$D10*H10 -> 0 | I11: =$D10*I10 -> 0 | R11: =SUM(F11:Q11) -> 1334.41
B13: ='PLANILHA ORÇAMENTO 29.05.25'!B49 -> 03 | C13: ='PLANILHA ORÇAMENTO 29.05.25'!E49 -> LIMPEZA DO TERRENO | D13: ='PLANILHA ORÇAMENTO 29.05.25'!R61 -> 28838.69 | E13: =D13/D34 -> 0.028567689 | G13: 1 | R13: =SUM(F13:Q13) -> 1
G14: =$D13*G13 -> 28838.69 | H14: =$D13*H13 -> 0 | I14: =$D13*I13 -> 0 | R14: =SUM(F14:Q14) -> 28838.69
B16: ='PLANILHA ORÇAMENTO 29.05.25'!B63 -> 04 | C16: ='PLANILHA ORÇAMENTO 29.05.25'!E63 -> VIABILIZAÇÃO DAS OBRAS | E16: =D16/D34 -> 0 | R16: =SUM(F16:Q16) -> 0
G17: =$D16*G16 -> 0 | H17: =$D16*H16 -> 0 | I17: =$D16*I16 -> 0 | R17: =SUM(F17:Q17) -> 0
B19: ='PLANILHA ORÇAMENTO 29.05.25'!B71 -> 05 | C19: ='PLANILHA ORÇAMENTO 29.05.25'!E71 -> DRENAGEM (LANÇAMENTO) | D19: ='PLANILHA ORÇAMENTO 29.05.25'!R129 -> 353763.35 | E19: =D19/D34 -> 0.35043898 | G19: 0.3 | H19: 0.5 | I19: 0.2 | R19: =SUM(F19:Q19) -> 1
G20: =$D19*G19 -> 106129 | H20: =$D19*H19 -> 176881.67 | I20: =$D19*I19 -> 70752.67 | R20: =SUM(F20:Q20) -> 353763.35
B22: ='PLANILHA ORÇAMENTO 29.05.25'!B131 -> 06 | C22: ='PLANILHA ORÇAMENTO 29.05.25'!E131 -> URBANIZAÇAO E OBRAS COMPLEMENTARES | D22: ='PLANILHA ORÇAMENTO 29.05.25'!R152 -> 316576.51 | E22: =D22/D34 -> 0.31360159 | G22: 0.1 | H22: 0.3 | I22: 0.6 | R22: =SUM(F22:Q22) -> 1
G23: =$D22*G22 -> 31657.651 | H23: =$D22*H22 -> 94972.953 | I23: =$D22*I22 -> 189945.91 | R23: =SUM(F23:Q23) -> 316576.51
B25: ='PLANILHA ORÇAMENTO 29.05.25'!B154 -> 07 | C25: ='PLANILHA ORÇAMENTO 29.05.25'!E154 -> REDE DE ESGOTO | D25: ='PLANILHA ORÇAMENTO 29.05.25'!R186 -> 216786.82 | E25: =D25/D34 -> 0.21474964 | G25: 0.5 | H25: 0.4 | I25: 0.1 | R25: =SUM(F25:Q25) -> 1
G26: =$D25*G25 -> 108393.41 | H26: =$D25*H25 -> 86714.728 | I26: =$D25*I25 -> 21678.682 | R26: =SUM(F26:Q26) -> 216786.82
