Workbook
Name ___sub1: #REF!
Name ___sub2: #REF!
Name ___sub3: #REF!
Name _sub1: #REF!
Name _sub2: #REF!
Name _sub3: #REF!
Name a: #REF!
Name AREA: #REF!
Name B: #REF!
Name BDI: #REF!
Name CCCC: #REF!
Name DOLAR: [2]INSUMOS!$G$8
Name ersdcefgbrnghrbgbrgfbgfwbvbfgvwfv: #REF!
Name Excel_BuiltIn_Print_Area_2: #REF!
Name Excel_BuiltIn_Print_Area_2_1: #REF!
Name Excel_BuiltIn_Print_Area_2_1_1: #REF!
Name Excel_BuiltIn_Print_Area_2_1_1_1: #REF!
Name Excel_BuiltIn_Print_Area_4: #REF!
Name FIM: #REF!
Name IGUAÇU: #REF!
Name leosde: #REF!
Name MAYSA: #REF!
Name MM: #REF!
Name NCOMPOSICOES: 7
Name NCOTACOES: 15
Name obra: #REF!
Name obra1: #REF!
Name obra2: #REF!
Name obra3: #REF!
Name obra4: #REF!
Name obra5: #REF!
Name over: #REF!
Name P.1: #REF!
Name P.10: #REF!
Name P.11: #REF!
Name P.12: #REF!
Name P.13: #REF!
Name P.14: #REF!
Name P.15: #REF!
Name P.2: #REF!
Name P.3: #REF!
Name P.4: #REF!
Name P.5: #REF!
Name P.6: #REF!
Name P.7: #REF!
Name P.8: #REF!
Name P.9: #REF!
Name Pedreiro_de_acabamento: [2]INSUMOS!$B$11
Name PMI: #REF!
Name PP1.1: #REF!
Name PP1.10: #REF!
Name PP1.11: #REF!
Name PP1.12: #REF!
Name PP1.13: #REF!
Name PP1.14: #REF!
Name PP1.15: #REF!
Name PP1.2: #REF!
Name PP1.3: #REF!
Name PP1.4: #REF!
Name PP1.5: #REF!

Sheet Planilha Orçamentária
A2: PLANILHA ORÇAMENTÁRIA DE CUSTOS
A3: PREFEITURA MUNICIPAL DE JABOTICATUBAS
A4: OBRA: CALÇAMENTO EM PAVIMENTO INTERTRAVADO | F4: DATA: | J4: =TODAY() -> 46056
A5: LOCAL: RUA ARARA DA SERRA - DISTRITO DE SÃO JOSÉ DA SERRA, R. PEDRO MARQUES DE MORAIS - BAIRRO SANTO ANTÔNIO E ALAMEDA DOS AÇAÍS - BOSQUE DOS COQUEIROS
A6: REGIÃO/MÊS DE REFERÊNCIA: SICOR-SEINFRA-CENTRAL-JULHO DE 2025; SICRO/MG - JULHO DE 2025; SINAPI/MG - SETEMBRO DE 2025 - SEM DESONERAÇÃO; | F6: % ISS MUNICIPAL: | G6: ( ) | I6: DIRETA | J6: ( X ) | K6: INDIRETA
A7: *DEMONSTRATIVO DE BDI EXTRAÍDO DA TABELA DE REFERÊNCIA (SEINFRA/DER-MG - JULHO DE 2025) - PÁG. 16 | F7: 0.04 | G7: BDI: | I7: =IF(F7=2%,'BDI-SEM DESONERAÇÃO'!C24,IF(F7=3%,'BDI-SEM DESONERAÇÃO'!D24,IF(F7=4%,'BDI-SEM DESONERAÇÃO'!E24,IF(F7=5%,'BDI-SEM DESONERAÇÃO'!F24)))) -> 0.2356 | J7: BDI DIFERENCIADO (MAT.): | K7: -
A9: ITEM | B9: FONTE | C9: CÓDIGO | D9: DESCRIÇÃO | E9: UNIDADE | F9: QUANTIDADE | G9: PREÇO UNITÁRIO S/ BDI | H9: PREÇO TOTAL S/ BDI | I9: BDI APLICADO | J9: PREÇO UNITÁRIO C/ BDI | K9: PREÇO TOTAL
A10: 1.0 | D10: SERVIÇOS PRELIMINARES | H10: =ROUND(SUM(H11:H15),2) -> 21951.96 | K10: =ROUND(SUM(K11:K15),2) -> 27123.82
A11: 1.1 | B11: SICOR-SEINFRA | C11: ED-28427 | D11: =IFERROR(VLOOKUP($C11,SICOR_JULHO2025[],2,FALSE),IFERROR(VLOOKUP($C11,SICRO_JULHO2025[],2,FALSE),IFERROR(VLOOKUP($C11,SINAPI_SERV_SET2025[],2,FALSE),IFERROR(VLOOKUP($C11,SINAPI_INSUMOS_SET2025[],2,FALSE),IFERROR(VLOOKUP($C11,SUDECAP_SERVICOS_JUL2025[],2,FALSE),IFERROR(VLOOKUP($C11,SUDECAP_INSUMOS_JUL2025[],2,FALSE),"NÃO ENCONTRADO")))))) -> FORNECIMENTO E COLOCAÇÃO DE PLACA DE OBRA EM CHAPA GALVANIZADA #26, ESP. 0,45MM, DIMENSÃO (3X1,5)M, PLOTADA COM ADESIVO VINÍLICO, AFIXADA COM REBITES 4,8X40MM, EM ESTRUTURA METÁLICA DE METALON 20X20MM, ESP. 1,25MM, INCLUSIVE SUPORTE EM EUCALIPTO AUTOCLAVADO PINTADO COM TINTA PVA DUAS (2) DEMÃOS | E11: =IFERROR(VLOOKUP($C11,SICOR_JULHO2025[],3,FALSE),IFERROR(VLOOKUP($C11,SICRO_JULHO2025[],3,FALSE),IFERROR(VLOOKUP($C11,SINAPI_SERV_SET2025[],3,FALSE),IFERROR(VLOOKUP($C11,SINAPI_INSUMOS_SET2025[],3,FALSE),IFERROR(VLOOKUP($C11,SUDECAP_SERVICOS_JUL2025[],3,FALSE),IFERROR(VLOOKUP($C11,SUDECAP_INSUMOS_JUL2025[],3,FALSE),"NÃO ENCONTRADO")))))) -> UN | F11: ='Memória de Cálculo'!F9 -> 3 | G11: =IFERROR(VLOOKUP($C11,SICOR_JULHO2025[],4,FALSE),IFERROR(VLOOKUP($C11,SICRO_JULHO2025[],4,FALSE),IFERROR(VLOOKUP($C11,SINAPI_SERV_SET2025[],4,FALSE),IFERROR(VLOOKUP($C11,SINAPI_INSUMOS_SET2025[],4,FALSE),IFERROR(VLOOKUP($C11,SUDECAP_SERVICOS_JUL2025[],4,FALSE),IFERROR(VLOOKUP($C11,SUDECAP_INSUMOS_JUL2025[],4,FALSE),"NÃO ENCONTRADO")))))) -> 1156.55 | H11: =ROUND(F11*G11,2) -> 3469.65 | I11: =$I$7 -> 0.2356 | J11: =ROUND(G11+(G11*I11),2) -> 1429.03 | K11: =ROUND(F11*J11,2) -> 4287.09
A12: 1.2 | B12: SICOR-SEINFRA | C12: ED-50137 | D12: =IFERROR(VLOOKUP($C12,SICOR_JULHO2025[],2,FALSE),IFERROR(VLOOKUP($C12,SICRO_JULHO2025[],2,FALSE),IFERROR(VLOOKUP($C12,SINAPI_SERV_SET2025[],2,FALSE),IFERROR(VLOOKUP($C12,SINAPI_INSUMOS_SET2025[],2,FALSE),IFERROR(VLOOKUP($C12,SUDECAP_SERVICOS_JUL2025[],2,FALSE),IFERROR(VLOOKUP($C12,SUDECAP_INSUMOS_JUL2025[],2,FALSE),"NÃO ENCONTRADO")))))) -> MOBILIZAÇÃO E DESMOBILIZAÇÃO DE CONTAINER, INCLUSIVE CARGA, DESCARGA E TRANSPORTE EM CAMINHÃO CARROCERIA COM GUINDAUTO (MUNCK), EXCLUSIVE LOCAÇÃO DO CONTAINER | E12: =IFERROR(VLOOKUP($C12,SICOR_JULHO2025[],3,FALSE),IFERROR(VLOOKUP($C12,SICRO_JULHO2025[],3,FALSE),IFERROR(VLOOKUP($C12,SINAPI_SERV_SET2025[],3,FALSE),IFERROR(VLOOKUP($C12,SINAPI_INSUMOS_SET2025[],3,FALSE),IFERROR(VLOOKUP($C12,SUDECAP_SERVICOS_JUL2025[],3,FALSE),IFERROR(VLOOKUP($C12,SUDECAP_INSUMOS_JUL2025[],3,FALSE),"NÃO ENCONTRADO")))))) -> UN | F12: ='Memória de Cálculo'!F10 -> 3 | G12: =IFERROR(VLOOKUP($C12,SICOR_JULHO2025[],4,FALSE),IFERROR(VLOOKUP($C12,SICRO_JULHO2025[],4,FALSE),IFERROR(VLOOKUP($C12,SINAPI_SERV_SET2025[],4,FALSE),IFERROR(VLOOKUP($C12,SINAPI_INSUMOS_SET2025[],4,FALSE),IFERROR(VLOOKUP($C12,SUDECAP_SERVICOS_JUL2025[],4,FALSE),IFERROR(VLOOKUP($C12,SUDECAP_INSUMOS_JUL2025[],4,FALSE),"NÃO ENCONTRADO")))))) -> 1671.8 | H12: =ROUND(F12*G12,2) -> 5015.4 | I12: =$I$7 -> 0.2356 | J12: =ROUND(G12+(G12*I12),2) -> 2065.68 | K12: =ROUND(F12*J12,2) -> 6197.04
A13: 1.3 | B13: SICOR-SEINFRA | C13: ED-16350 | D13: =IFERROR(VLOOKUP($C13,SICOR_JULHO2025[],2,FALSE),IFERROR(VLOOKUP($C13,SICRO_JULHO2025[],2,FALSE),IFERROR(VLOOKUP($C13,SINAPI_SERV_SET2025[],2,FALSE),IFERROR(VLOOKUP($C13,SINAPI_INSUMOS_SET2025[],2,FALSE),IFERROR(VLOOKUP($C13,SUDECAP_SERVICOS_JUL2025[],2,FALSE),IFERROR(VLOOKUP($C13,SUDECAP_INSUMOS_JUL2025[],2,FALSE),"NÃO ENCONTRADO")))))) -> LOCAÇÃO DE CONTAINER COM ISOLAMENTO TÉRMICO, TIPO 3, PARA DEPÓSITO/FERRAMENTARIA DE OBRA, COM MEDIDAS REFERENCIAIS DE (6) METROS COMPRIMENTO, (2,3) METROS LARGURA E (2,5) METROS ALTURA ÚTIL INTERNA, INCLUSIVE LIGAÇÕES ELÉTRICAS INTERNAS, EXCLUSIVE MOBILIZAÇÃO/DESMOBILIZAÇÃO E LIGAÇÕES PROVISÓRIAS EXTERNAS | E13: =IFERROR(VLOOKUP($C13,SICOR_JULHO2025[],3,FALSE),IFERROR(VLOOKUP($C13,SICRO_JULHO2025[],3,FALSE),IFERROR(VLOOKUP($C13,SINAPI_SERV_SET2025[],3,FALSE),IFERROR(VLOOKUP($C13,SINAPI_INSUMOS_SET2025[],3,FALSE),IFERROR(VLOOKUP($C13,SUDECAP_SERVICOS_JUL2025[],3,FALSE),IFERROR(VLOOKUP($C13,SUDECAP_INSUMOS_JUL2025[],3,FALSE),"NÃO ENCONTRADO")))))) -> MÊS | F13: ='Memória de Cálculo'!F11 -> 7 | G13: =IFERROR(VLOOKUP($C13,SICOR_JULHO2025[],4,FALSE),IFERROR(VLOOKUP($C13,SICRO_JULHO2025[],4,FALSE),IFERROR(VLOOKUP($C13,SINAPI_SERV_SET2025[],4,FALSE),IFERROR(VLOOKUP($C13,SINAPI_INSUMOS_SET2025[],4,FALSE),IFERROR(VLOOKUP($C13,SUDECAP_SERVICOS_JUL2025[],4,FALSE),IFERROR(VLOOKUP($C13,SUDECAP_INSUMOS_JUL2025[],4,FALSE),"NÃO ENCONTRADO")))))) -> 794.71 | H13: =ROUND(F13*G13,2) -> 5562.97 | I13: =$I$7 -> 0.2356 | J13: =ROUND(G13+(G13*I13),2) -> 981.94 | K13: =ROUND(F13*J13,2) -> 6873.58
A14: 1.4 | B14: SICOR-SEINFRA | C14: ED-16358 | D14: =IFERROR(VLOOKUP($C14,SICOR_JULHO2025[],2,FALSE),IFERROR(VLOOKUP($C14,SICRO_JULHO2025[],2,FALSE),IFERROR(VLOOKUP($C14,SINAPI_SERV_SET2025[],2,FALSE),IFERROR(VLOOKUP($C14,SINAPI_INSUMOS_SET2025[],2,FALSE),IFERROR(VLOOKUP($C14,SUDECAP_SERVICOS_JUL2025[],2,FALSE),IFERROR(VLOOKUP($C14,SUDECAP_INSUMOS_JUL2025[],2,FALSE),"NÃO ENCONTRADO")))))) -> LIGAÇÕES PROVISÓRIAS PARA CONTAINER TIPO 3 (CORRESPONDENTE AO CÓDIGO ED-16350) | E14: =IFERROR(VLOOKUP($C14,SICOR_JULHO2025[],3,FALSE),IFERROR(VLOOKUP($C14,SICRO_JULHO2025[],3,FALSE),IFERROR(VLOOKUP($C14,SINAPI_SERV_SET2025[],3,FALSE),IFERROR(VLOOKUP($C14,SINAPI_INSUMOS_SET2025[],3,FALSE),IFERROR(VLOOKUP($C14,SUDECAP_SERVICOS_JUL2025[],3,FALSE),IFERROR(VLOOKUP($C14,SUDECAP_INSUMOS_JUL2025[],3,FALSE),"NÃO ENCONTRADO")))))) -> UN | F14: ='Memória de Cálculo'!F12 -> 3 | G14: =IFERROR(VLOOKUP($C14,SICOR_JULHO2025[],4,FALSE),IFERROR(VLOOKUP($C14,SICRO_JULHO2025[],4,FALSE),IFERROR(VLOOKUP($C14,SINAPI_SERV_SET2025[],4,FALSE),IFERROR(VLOOKUP($C14,SINAPI_INSUMOS_SET2025[],4,FALSE),IFERROR(VLOOKUP($C14,SUDECAP_SERVICOS_JUL2025[],4,FALSE),IFERROR(VLOOKUP($C14,SUDECAP_INSUMOS_JUL2025[],4,FALSE),"NÃO ENCONTRADO")))))) -> 347.98 | H14: =ROUND(F14*G14,2) -> 1043.94 | I14: =$I$7 -> 0.2356 | J14: =ROUND(G14+(G14*I14),2) -> 429.96 | K14: =ROUND(F14*J14,2) -> 1289.88
A15: 1.5 | B15: SICOR-SEINFRA | C15: ED-50155 | D15: =IFERROR(VLOOKUP($C15,SICOR_JULHO2025[],2,FALSE),IFERROR(VLOOKUP($C15,SICRO_JULHO2025[],2,FALSE),IFERROR(VLOOKUP($C15,SINAPI_SERV_SET2025[],2,FALSE),IFERROR(VLOOKUP($C15,SINAPI_INSUMOS_SET2025[],2,FALSE),IFERROR(VLOOKUP($C15,SUDECAP_SERVICOS_JUL2025[],2,FALSE),IFERROR(VLOOKUP($C15,SUDECAP_INSUMOS_JUL2025[],2,FALSE),"NÃO ENCONTRADO")))))) -> LOCAÇÃO DE BANHEIRO QUÍMICO, DIMENSÃO (110X120X230)CM, LINHA PADRÃO, CONTENDO UMA (1) PIA/HIGIENIZADOR DE MÃOS, INCLUSIVE MANUTENÇÃO E MOBILIZAÇÃO/DESMOBILIZAÇÃO | E15: =IFERROR(VLOOKUP($C15,SICOR_JULHO2025[],3,FALSE),IFERROR(VLOOKUP($C15,SICRO_JULHO2025[],3,FALSE),IFERROR(VLOOKUP($C15,SINAPI_SERV_SET2025[],3,FALSE),IFERROR(VLOOKUP($C15,SINAPI_INSUMOS_SET2025[],3,FALSE),IFERROR(VLOOKUP($C15,SUDECAP_SERVICOS_JUL2025[],3,FALSE),IFERROR(VLOOKUP($C15,SUDECAP_INSUMOS_JUL2025[],3,FALSE),"NÃO ENCONTRADO")))))) -> MÊS | F15: ='Memória de Cálculo'!F13 -> 7 | G15: =IFERROR(VLOOKUP($C15,SICOR_JULHO2025[],4,FALSE),IFERROR(VLOOKUP($C15,SICRO_JULHO2025[],4,FALSE),IFERROR(VLOOKUP($C15,SINAPI_SERV_SET2025[],4,FALSE),IFERROR(VLOOKUP($C15,SINAPI_INSUMOS_SET2025[],4,FALSE),IFERROR(VLOOKUP($C15,SUDECAP_SERVICOS_JUL2025[],4,FALSE),IFERROR(VLOOKUP($C15,SUDECAP_INSUMOS_JUL2025[],4,FALSE),"NÃO ENCONTRADO")))))) -> 980 | H15: =ROUND(F15*G15,2) -> 6860 | I15: =$I$7 -> 0.2356 | J15: =ROUND(G15+(G15*I15),2) -> 1210.89 | K15: =ROUND(F15*J15,2) -> 8476.23
A16: 2.0 | D16: TERRAPLENAGEM | H16: =SUM(H17:H20) -> 77069.52 | K16: =SUM(K17:K20) -> 95246.02
A17: 2.1 | B17: SICRO-DNIT | C17: 4413986 | D17: =IFERROR(VLOOKUP($C17,SICOR_JULHO2025[],2,FALSE),IFERROR(VLOOKUP($C17,SICRO_JULHO2025[],2,FALSE),IFERROR(VLOOKUP($C17,SINAPI_SERV_SET2025[],2,FALSE),IFERROR(VLOOKUP($C17,SINAPI_INSUMOS_SET2025[],2,FALSE),IFERROR(VLOOKUP($C17,SUDECAP_SERVICOS_JUL2025[],2,FALSE),IFERROR(VLOOKUP($C17,SUDECAP_INSUMOS_JUL2025[],2,FALSE),"NÃO ENCONTRADO")))))) -> REGULARIZAÇÃO DE SUPERFÍCIE COM MOTONIVELADORA | E17: =IFERROR(VLOOKUP($C17,SICOR_JULHO2025[],3,FALSE),IFERROR(VLOOKUP($C17,SICRO_JULHO2025[],3,FALSE),IFERROR(VLOOKUP($C17,SINAPI_SERV_SET2025[],3,FALSE),IFERROR(VLOOKUP($C17,SINAPI_INSUMOS_SET2025[],3,FALSE),IFERROR(VLOOKUP($C17,SUDECAP_SERVICOS_JUL2025[],3,FALSE),IFERROR(VLOOKUP($C17,SUDECAP_INSUMOS_JUL2025[],3,FALSE),"NÃO ENCONTRADO")))))) -> M2 | F17: ='Memória de Cálculo'!F15 -> 4377.281 | G17: =IFERROR(VLOOKUP($C17,SICOR_JULHO2025[],4,FALSE),IFERROR(VLOOKUP($C17,SICRO_JULHO2025[],4,FALSE),IFERROR(VLOOKUP($C17,SINAPI_SERV_SET2025[],4,FALSE),IFERROR(VLOOKUP($C17,SINAPI_INSUMOS_SET2025[],4,FALSE),IFERROR(VLOOKUP($C17,SUDECAP_SERVICOS_JUL2025[],4,FALSE),IFERROR(VLOOKUP($C17,SUDECAP_INSUMOS_JUL2025[],4,FALSE),"NÃO ENCONTRADO")))))) -> 0.08 | H17: =ROUND(F17*G17,2) -> 350.18 | I17: =$I$7 -> 0.2356 | J17: =ROUND(G17+(G17*I17),2) -> 0.1 | K17: =ROUND(F17*J17,2) -> 437.73
A18: 2.2 | B18: SICRO-DNIT | C18: 4011209 | D18: =IFERROR(VLOOKUP($C18,SICOR_JULHO2025[],2,FALSE),IFERROR(VLOOKUP($C18,SICRO_JULHO2025[],2,FALSE),IFERROR(VLOOKUP($C18,SINAPI_SERV_SET2025[],2,FALSE),IFERROR(VLOOKUP($C18,SINAPI_INSUMOS_SET2025[],2,FALSE),IFERROR(VLOOKUP($C18,SUDECAP_SERVICOS_JUL2025[],2,FALSE),IFERROR(VLOOKUP($C18,SUDECAP_INSUMOS_JUL2025[],2,FALSE),"NÃO ENCONTRADO")))))) -> REGULARIZAÇÃO DO SUBLEITO - 100% PROCTOR INTERMEDIÁRIO | E18: =IFERROR(VLOOKUP($C18,SICOR_JULHO2025[],3,FALSE),IFERROR(VLOOKUP($C18,SICRO_JULHO2025[],3,FALSE),IFERROR(VLOOKUP($C18,SINAPI_SERV_SET2025[],3,FALSE),IFERROR(VLOOKUP($C18,SINAPI_INSUMOS_SET2025[],3,FALSE),IFERROR(VLOOKUP($C18,SUDECAP_SERVICOS_JUL2025[],3,FALSE),IFERROR(VLOOKUP($C18,SUDECAP_INSUMOS_JUL2025[],3,FALSE),"NÃO ENCONTRADO")))))) -> M2 | F18: ='Memória de Cálculo'!F16 -> 4377.281 | G18: =IFERROR(VLOOKUP($C18,SICOR_JULHO2025[],4,FALSE),IFERROR(VLOOKUP($C18,SICRO_JULHO2025[],4,FALSE),IFERROR(VLOOKUP($C18,SINAPI_SERV_SET2025[],4,FALSE),IFERROR(VLOOKUP($C18,SINAPI_INSUMOS_SET2025[],4,FALSE),IFERROR(VLOOKUP($C18,SUDECAP_SERVICOS_JUL2025[],4,FALSE),IFERROR(VLOOKUP($C18,SUDECAP_INSUMOS_JUL2025[],4,FALSE),"NÃO ENCONTRADO")))))) -> 1.81 | H18: =ROUND(F18*G18,2) -> 7922.88 | I18: =$I$7 -> 0.2356 | J18: =ROUND(G18+(G18*I18),2) -> 2.24 | K18: =ROUND(F18*J18,2) -> 9805.11
A19: 2.3 | B19: SICRO-DNIT | C19: 4011320 | D19: =IFERROR(VLOOKUP($C19,SICOR_JULHO2025[],2,FALSE),IFERROR(VLOOKUP($C19,SICRO_JULHO2025[],2,FALSE),IFERROR(VLOOKUP($C19,SINAPI_SERV_SET2025[],2,FALSE),IFERROR(VLOOKUP($C19,SINAPI_INSUMOS_SET2025[],2,FALSE),IFERROR(VLOOKUP($C19,SUDECAP_SERVICOS_JUL2025[],2,FALSE),IFERROR(VLOOKUP($C19,SUDECAP_INSUMOS_JUL2025[],2,FALSE),"NÃO ENCONTRADO")))))) -> BASE OU SUB-BASE ESTABILIZADA GRANULOMETRICAMENTE COM MISTURA SOLO BRITA (70% - 30%) NA PISTA COM MATERIAL DE JAZIDA E BRITA COMERCIAL - 100% PROCTOR MODIFICADO | E19: =IFERROR(VLOOKUP($C19,SICOR_JULHO2025[],3,FALSE),IFERROR(VLOOKUP($C19,SICRO_JULHO2025[],3,FALSE),IFERROR(VLOOKUP($C19,SINAPI_SERV_SET2025[],3,FALSE),IFERROR(VLOOKUP($C19,SINAPI_INSUMOS_SET2025[],3,FALSE),IFERROR(VLOOKUP($C19,SUDECAP_SERVICOS_JUL2025[],3,FALSE),IFERROR(VLOOKUP($C19,SUDECAP_INSUMOS_JUL2025[],3,FALSE),"NÃO ENCONTRADO")))))) -> M3 | F19: ='Memória de Cálculo'!F17 -> 656.59215 | G19: =IFERROR(VLOOKUP($C19,SICOR_JULHO2025[],4,FALSE),IFERROR(VLOOKUP($C19,SICRO_JULHO2025[],4,FALSE),IFERROR(VLOOKUP($C19,SINAPI_SERV_SET2025[],4,FALSE),IFERROR(VLOOKUP($C19,SINAPI_INSUMOS_SET2025[],4,FALSE),IFERROR(VLOOKUP($C19,SUDECAP_SERVICOS_JUL2025[],4,FALSE),IFERROR(VLOOKUP($C19,SUDECAP_INSUMOS_JUL2025[],4,FALSE),"NÃO ENCONTRADO")))))) -> 87.17 | H19: =ROUND(F19*G19,2) -> 57235.14 | I19: =$I$7 -> 0.2356 | J19: =ROUND(G19+(G19*I19),2) -> 107.71 | K19: =ROUND(F19*J19,2) -> 70721.54
A20: 2.4 | B20: SICRO-DNIT | C20: 5915321 | D20: =IFERROR(VLOOKUP($C20,SICOR_JULHO2025[],2,FALSE),IFERROR(VLOOKUP($C20,SICRO_JULHO2025[],2,FALSE),IFERROR(VLOOKUP($C20,SINAPI_SERV_SET2025[],2,FALSE),IFERROR(VLOOKUP($C20,SINAPI_INSUMOS_SET2025[],2,FALSE),IFERROR(VLOOKUP($C20,SUDECAP_SERVICOS_JUL2025[],2,FALSE),IFERROR(VLOOKUP($C20,SUDECAP_INSUMOS_JUL2025[],2,FALSE),"NÃO ENCONTRADO")))))) -> TRANSPORTE COM CAMINHÃO BASCULANTE DE 14 M3 - RODOVIA PAVIMENTADA | E20: =IFERROR(VLOOKUP($C20,SICOR_JULHO2025[],3,FALSE),IFERROR(VLOOKUP($C20,SICRO_JULHO2025[],3,FALSE),IFERROR(VLOOKUP($C20,SINAPI_SERV_SET2025[],3,FALSE),IFERROR(VLOOKUP($C20,SINAPI_INSUMOS_SET2025[],3,FALSE),IFERROR(VLOOKUP($C20,SUDECAP_SERVICOS_JUL2025[],3,FALSE),IFERROR(VLOOKUP($C20,SUDECAP_INSUMOS_JUL2025[],3,FALSE),"NÃO ENCONTRADO")))))) -> TKM | F20: ='Memória de Cálculo'!F18 -> 17001.948 | G20: =IFERROR(VLOOKUP($C20,SICOR_JULHO2025[],4,FALSE),IFERROR(VLOOKUP($C20,SICRO_JULHO2025[],4,FALSE),IFERROR(VLOOKUP($C20,SINAPI_SERV_SET2025[],4,FALSE),IFERROR(VLOOKUP($C20,SINAPI_INSUMOS_SET2025[],4,FALSE),IFERROR(VLOOKUP($C20,SUDECAP_SERVICOS_JUL2025[],4,FALSE),IFERROR(VLOOKUP($C20,SUDECAP_INSUMOS_JUL2025[],4,FALSE),"NÃO ENCONTRADO")))))) -> 0.68 | H20: =ROUND(F20*G20,2) -> 11561.32 | I20: =$I$7 -> 0.2356 | J20: =ROUND(G20+(G20*I20),2) -> 0.84 | K20: =ROUND(F20*J20,2) -> 14281.64
A21: 3.0 | D21: PAVIMENTO INTERTRAVADO | H21: =SUM(H22:H26) -> 366938.04 | K21: =SUM(K22:K26) -> 453427.28
A22: 3.1 | B22: SICOR-SEINFRA | C22: ED-8916 | D22: =IFERROR(VLOOKUP($C22,SICOR_JULHO2025[],2,FALSE),IFERROR(VLOOKUP($C22,SICRO_JULHO2025[],2,FALSE),IFERROR(VLOOKUP($C22,SINAPI_SERV_SET2025[],2,FALSE),IFERROR(VLOOKUP($C22,SINAPI_INSUMOS_SET2025[],2,FALSE),IFERROR(VLOOKUP($C22,SUDECAP_SERVICOS_JUL2025[],2,FALSE),IFERROR(VLOOKUP($C22,SUDECAP_INSUMOS_JUL2025[],2,FALSE),"NÃO ENCONTRADO")))))) -> EXECUÇÃO DE PAVIMENTO COM PISO INTERTRAVADO, TIPO RETANGULAR, ESP. 8CM, COM FCK DE 35MPA, INCLUSIVE COLCHÃO DE AREIA, ESP. 6CM, PARA ASSENTAMENTO, COMPACTAÇÃO MECANIZADA, CARGA E DESCARGA MECÂNICA EM CAMINHÃO, EXCLUSIVE TRANSPORTE DE PISO INTERTRAVADO | E22: =IFERROR(VLOOKUP($C22,SICOR_JULHO2025[],3,FALSE),IFERROR(VLOOKUP($C22,SICRO_JULHO2025[],3,FALSE),IFERROR(VLOOKUP($C22,SINAPI_SERV_SET2025[],3,FALSE),IFERROR(VLOOKUP($C22,SINAPI_INSUMOS_SET2025[],3,FALSE),IFERROR(VLOOKUP($C22,SUDECAP_SERVICOS_JUL2025[],3,FALSE),IFERROR(VLOOKUP($C22,SUDECAP_INSUMOS_JUL2025[],3,FALSE),"NÃO ENCONTRADO")))))) -> M2 | F22: ='Memória de Cálculo'!F20 -> 1566.72 | G22: =IFERROR(VLOOKUP($C22,SICOR_JULHO2025[],4,FALSE),IFERROR(VLOOKUP($C22,SICRO_JULHO2025[],4,FALSE),IFERROR(VLOOKUP($C22,SINAPI_SERV_SET2025[],4,FALSE),IFERROR(VLOOKUP($C22,SINAPI_INSUMOS_SET2025[],4,FALSE),IFERROR(VLOOKUP($C22,SUDECAP_SERVICOS_JUL2025[],4,FALSE),IFERROR(VLOOKUP($C22,SUDECAP_INSUMOS_JUL2025[],4,FALSE),"NÃO ENCONTRADO")))))) -> 104.95 | H22: =ROUND(F22*G22,2) -> 164427.26 | I22: =$I$7 -> 0.2356 | J22: =ROUND(G22+(G22*I22),2) -> 129.68 | K22: =ROUND(F22*J22,2) -> 203172.25
A23: 3.2 | B23: SICOR-SEINFRA | C23: ED-8914 | D23: =IFERROR(VLOOKUP($C23,SICOR_JULHO2025[],2,FALSE),IFERROR(VLOOKUP($C23,SICRO_JULHO2025[],2,FALSE),IFERROR(VLOOKUP($C23,SINAPI_SERV_SET2025[],2,FALSE),IFERROR(VLOOKUP($C23,SINAPI_INSUMOS_SET2025[],2,FALSE),IFERROR(VLOOKUP($C23,SUDECAP_SERVICOS_JUL2025[],2,FALSE),IFERROR(VLOOKUP($C23,SUDECAP_INSUMOS_JUL2025[],2,FALSE),"NÃO ENCONTRADO")))))) -> EXECUÇÃO DE PAVIMENTO COM PISO INTERTRAVADO, TIPO SEXTAVADO, ESP. 8CM, COM FCK DE 35MPA, INCLUSIVE COLCHÃO DE AREIA, ESP. 6CM, PARA ASSENTAMENTO, COMPACTAÇÃO MECANIZADA, CARGA E DESCARGA MECÂNICA EM CAMINHÃO, EXCLUSIVE TRANSPORTE DE PISO INTERTRAVADO | E23: =IFERROR(VLOOKUP($C23,SICOR_JULHO2025[],3,FALSE),IFERROR(VLOOKUP($C23,SICRO_JULHO2025[],3,FALSE),IFERROR(VLOOKUP($C23,SINAPI_SERV_SET2025[],3,FALSE),IFERROR(VLOOKUP($C23,SINAPI_INSUMOS_SET2025[],3,FALSE),IFERROR(VLOOKUP($C23,SUDECAP_SERVICOS_JUL2025[],3,FALSE),IFERROR(VLOOKUP($C23,SUDECAP_INSUMOS_JUL2025[],3,FALSE),"NÃO ENCONTRADO")))))) -> M2 | F23: ='Memória de Cálculo'!F21 -> 1950 | G23: =IFERROR(VLOOKUP($C23,SICOR_JULHO2025[],4,FALSE),IFERROR(VLOOKUP($C23,SICRO_JULHO2025[],4,FALSE),IFERROR(VLOOKUP($C23,SINAPI_SERV_SET2025[],4,FALSE),IFERROR(VLOOKUP($C23,SINAPI_INSUMOS_SET2025[],4,FALSE),IFERROR(VLOOKUP($C23,SUDECAP_SERVICOS_JUL2025[],4,FALSE),IFERROR(VLOOKUP($C23,SUDECAP_INSUMOS_JUL2025[],4,FALSE),"NÃO ENCONTRADO")))))) -> 96.52 | H23: =ROUND(F23*G23,2) -> 188214 | I23: =$I$7 -> 0.2356 | J23: =ROUND(G23+(G23*I23),2) -> 119.26 | K23: =ROUND(F23*J23,2) -> 232557
A24: 3.3 | B24: SICOR-SEINFRA | C24: ED-7423 | D24: =IFERROR(VLOOKUP($C24,SICOR_JULHO2025[],2,FALSE),IFERROR(VLOOKUP($C24,SICRO_JULHO2025[],2,FALSE),IFERROR(VLOOKUP($C24,SINAPI_SERV_SET2025[],2,FALSE),IFERROR(VLOOKUP($C24,SINAPI_INSUMOS_SET2025[],2,FALSE),IFERROR(VLOOKUP($C24,SUDECAP_SERVICOS_JUL2025[],2,FALSE),IFERROR(VLOOKUP($C24,SUDECAP_INSUMOS_JUL2025[],2,FALSE),"NÃO ENCONTRADO")))))) -> TRANSPORTE DE PISO INTERTRAVADO, EM CAMINHÃO, TRAÇÃO 6X2, TIPO TRUCADO, PESO BRUTO TOTAL (PBT) DE 23.000KG, COM GUINDASTE ARTICULADO, MOMENTO DE CARGA MÁXIMO DE 10TXM, E CARROCERIA DE CARGA SECA, COM CAPACIDADE DE 14T, EM RODOVIA COM LEITO NATURAL, EXCLUSIVE MANOBRA, CARGA E DESCARGA | E24: =IFERROR(VLOOKUP($C24,SICOR_JULHO2025[],3,FALSE),IFERROR(VLOOKUP($C24,SICRO_JULHO2025[],3,FALSE),IFERROR(VLOOKUP($C24,SINAPI_SERV_SET2025[],3,FALSE),IFERROR(VLOOKUP($C24,SINAPI_INSUMOS_SET2025[],3,FALSE),IFERROR(VLOOKUP($C24,SUDECAP_SERVICOS_JUL2025[],3,FALSE),IFERROR(VLOOKUP($C24,SUDECAP_INSUMOS_JUL2025[],3,FALSE),"NÃO ENCONTRADO")))))) -> TXKM | F24: ='Memória de Cálculo'!F22 -> 6429.8189 | G24: =IFERROR(VLOOKUP($C24,SICOR_JULHO2025[],4,FALSE),IFERROR(VLOOKUP($C24,SICRO_JULHO2025[],4,FALSE),IFERROR(VLOOKUP($C24,SINAPI_SERV_SET2025[],4,FALSE),IFERROR(VLOOKUP($C24,SINAPI_INSUMOS_SET2025[],4,FALSE),IFERROR(VLOOKUP($C24,SUDECAP_SERVICOS_JUL2025[],4,FALSE),IFERROR(VLOOKUP($C24,SUDECAP_INSUMOS_JUL2025[],4,FALSE),"NÃO ENCONTRADO")))))) -> 1.38 | H24: =ROUND(F24*G24,2) -> 8873.15 | I24: =$I$7 -> 0.2356 | J24: =ROUND(G24+(G24*I24),2) -> 1.71 | K24: =ROUND(F24*J24,2) -> 10994.99
A25: 3.4 | B25: SICOR-SEINFRA | C25: ED-7425 | D25: =IFERROR(VLOOKUP($C25,SICOR_JULHO2025[],2,FALSE),IFERROR(VLOOKUP($C25,SICRO_JULHO2025[],2,FALSE),IFERROR(VLOOKUP($C25,SINAPI_SERV_SET2025[],2,FALSE),IFERROR(VLOOKUP($C25,SINAPI_INSUMOS_SET2025[],2,FALSE),IFERROR(VLOOKUP($C25,SUDECAP_SERVICOS_JUL2025[],2,FALSE),IFERROR(VLOOKUP($C25,SUDECAP_INSUMOS_JUL2025[],2,FALSE),"NÃO ENCONTRADO")))))) -> TRANSPORTE DE PISO INTERTRAVADO, EM CAMINHÃO, TRAÇÃO 6X2, TIPO TRUCADO, PESO BRUTO TOTAL (PBT) DE 23.000KG, COM GUINDASTE ARTICULADO, MOMENTO DE CARGA MÁXIMO DE 10TXM, E CARROCERIA DE CARGA SECA, COM CAPACIDADE DE 14T, EM RODOVIA PAVIMENTADA, EXCLUSIVE MANOBRA, CARGA E DESCARGA | E25: =IFERROR(VLOOKUP($C25,SICOR_JULHO2025[],3,FALSE),IFERROR(VLOOKUP($C25,SICRO_JULHO2025[],3,FALSE),IFERROR(VLOOKUP($C25,SINAPI_SERV_SET2025[],3,FALSE),IFERROR(VLOOKUP($C25,SINAPI_INSUMOS_SET2025[],3,FALSE),IFERROR(VLOOKUP($C25,SUDECAP_SERVICOS_JUL2025[],3,FALSE),IFERROR(VLOOKUP($C25,SUDECAP_INSUMOS_JUL2025[],3,FALSE),"NÃO ENCONTRADO")))))) -> TXKM | F25: ='Memória de Cálculo'!F23 -> 582.12 | G25: =IFERROR(VLOOKUP($C25,SICOR_JULHO2025[],4,FALSE),IFERROR(VLOOKUP($C25,SICRO_JULHO2025[],4,FALSE),IFERROR(VLOOKUP($C25,SINAPI_SERV_SET2025[],4,FALSE),IFERROR(VLOOKUP($C25,SINAPI_INSUMOS_SET2025[],4,FALSE),IFERROR(VLOOKUP($C25,SUDECAP_SERVICOS_JUL2025[],4,FALSE),IFERROR(VLOOKUP($C25,SUDECAP_INSUMOS_JUL2025[],4,FALSE),"NÃO ENCONTRADO")))))) -> 0.92 | H25: =ROUND(F25*G25,2) -> 535.55 | I25: =$I$7 -> 0.2356 | J25: =ROUND(G25+(G25*I25),2) -> 1.14 | K25: =ROUND(F25*J25,2) -> 663.62
A26: 3.5 | B26: SICOR-SEINFRA | C26: ED-51139 | D26: =IFERROR(VLOOKUP($C26,SICOR_JULHO2025[],2,FALSE),IFERROR(VLOOKUP($C26,SICRO_JULHO2025[],2,FALSE),IFERROR(VLOOKUP($C26,SINAPI_SERV_SET2025[],2,FALSE),IFERROR(VLOOKUP($C26,SINAPI_INSUMOS_SET2025[],2,FALSE),IFERROR(VLOOKUP($C26,SUDECAP_SERVICOS_JUL2025[],2,FALSE),IFERROR(VLOOKUP($C26,SUDECAP_INSUMOS_JUL2025[],2,FALSE),"NÃO ENCONTRADO")))))) -> GUIA DE MEIO-FIO, EM CONCRETO COM FCK 20MPA, PRÉ-MOLDADA, MFC-01 PADRÃO DER-MG, DIMENSÕES (12X16,7X35)CM, EXCLUSIVE SARJETA, INCLUSIVE ESCAVAÇÃO, APILOAMENTO E TRANSPORTE COM RETIRADA DO MATERIAL ESCAVADO (EM CAÇAMBA) | E26: =IFERROR(VLOOKUP($C26,SICOR_JULHO2025[],3,FALSE),IFERROR(VLOOKUP($C26,SICRO_JULHO2025[],3,FALSE),IFERROR(VLOOKUP($C26,SINAPI_SERV_SET2025[],3,FALSE),IFERROR(VLOOKUP($C26,SINAPI_INSUMOS_SET2025[],3,FALSE),IFERROR(VLOOKUP($C26,SUDECAP_SERVICOS_JUL2025[],3,FALSE),IFERROR(VLOOKUP($C26,SUDECAP_INSUMOS_JUL2025[],3,FALSE),"NÃO ENCONTRADO")))))) -> M | F26: ='Memória de Cálculo'!F24 -> 62 | G26: =IFERROR(VLOOKUP($C26,SICOR_JULHO2025[],4,FALSE),IFERROR(VLOOKUP($C26,SICRO_JULHO2025[],4,FALSE),IFERROR(VLOOKUP($C26,SINAPI_SERV_SET2025[],4,FALSE),IFERROR(VLOOKUP($C26,SINAPI_INSUMOS_SET2025[],4,FALSE),IFERROR(VLOOKUP($C26,SUDECAP_SERVICOS_JUL2025[],4,FALSE),IFERROR(VLOOKUP($C26,SUDECAP_INSUMOS_JUL2025[],4,FALSE),"NÃO ENCONTRADO")))))) -> 78.84 | H26: =ROUND(F26*G26,2) -> 4888.08 | I26: =$I$7 -> 0.2356 | J26: =ROUND(G26+(G26*I26),2) -> 97.41 | K26: =ROUND(F26*J26,2) -> 6039.42
A27: 4.0 | D27: MEIO-FIO E SARJETA | H27: =SUM(H28:H29) -> 165135.04 | K27: =SUM(K28:K29) -> 204032.4
A28: 4.1 | B28: SICOR-SEINFRA | C28: ED-51139 | D28: =IFERROR(VLOOKUP($C28,SICOR_JULHO2025[],2,FALSE),IFERROR(VLOOKUP($C28,SICRO_JULHO2025[],2,FALSE),IFERROR(VLOOKUP($C28,SINAPI_SERV_SET2025[],2,FALSE),IFERROR(VLOOKUP($C28,SINAPI_INSUMOS_SET2025[],2,FALSE),IFERROR(VLOOKUP($C28,SUDECAP_SERVICOS_JUL2025[],2,FALSE),IFERROR(VLOOKUP($C28,SUDECAP_INSUMOS_JUL2025[],2,FALSE),"NÃO ENCONTRADO")))))) -> GUIA DE MEIO-FIO, EM CONCRETO COM FCK 20MPA, PRÉ-MOLDADA, MFC-01 PADRÃO DER-MG, DIMENSÕES (12X16,7X35)CM, EXCLUSIVE SARJETA, INCLUSIVE ESCAVAÇÃO, APILOAMENTO E TRANSPORTE COM RETIRADA DO MATERIAL ESCAVADO (EM CAÇAMBA) | E28: =IFERROR(VLOOKUP($C28,SICOR_JULHO2025[],3,FALSE),IFERROR(VLOOKUP($C28,SICRO_JULHO2025[],3,FALSE),IFERROR(VLOOKUP($C28,SINAPI_SERV_SET2025[],3,FALSE),IFERROR(VLOOKUP($C28,SINAPI_INSUMOS_SET2025[],3,FALSE),IFERROR(VLOOKUP($C28,SUDECAP_SERVICOS_JUL2025[],3,FALSE),IFERROR(VLOOKUP($C28,SUDECAP_INSUMOS_JUL2025[],3,FALSE),"NÃO ENCONTRADO")))))) -> M | F28: ='Memória de Cálculo'!F26 -> 1323.94 | G28: =IFERROR(VLOOKUP($C28,SICOR_JULHO2025[],4,FALSE),IFERROR(VLOOKUP($C28,SICRO_JULHO2025[],4,FALSE),IFERROR(VLOOKUP($C28,SINAPI_SERV_SET2025[],4,FALSE),IFERROR(VLOOKUP($C28,SINAPI_INSUMOS_SET2025[],4,FALSE),IFERROR(VLOOKUP($C28,SUDECAP_SERVICOS_JUL2025[],4,FALSE),IFERROR(VLOOKUP($C28,SUDECAP_INSUMOS_JUL2025[],4,FALSE),"NÃO ENCONTRADO")))))) -> 78.84 | H28: =ROUND(F28*G28,2) -> 104379.43 | I28: =$I$7 -> 0.2356 | J28: =ROUND(G28+(G28*I28),2) -> 97.41 | K28: =ROUND(F28*J28,2) -> 128965
A29: 4.2 | B29: SICOR-SEINFRA | C29: ED-14762 | D29: =IFERROR(VLOOKUP($C29,SICOR_JULHO2025[],2,FALSE),IFERROR(VLOOKUP($C29,SICRO_JULHO2025[],2,FALSE),IFERROR(VLOOKUP($C29,SINAPI_SERV_SET2025[],2,FALSE),IFERROR(VLOOKUP($C29,SINAPI_INSUMOS_SET2025[],2,FALSE),IFERROR(VLOOKUP($C29,SUDECAP_SERVICOS_JUL2025[],2,FALSE),IFERROR(VLOOKUP($C29,SUDECAP_INSUMOS_JUL2025[],2,FALSE),"NÃO ENCONTRADO")))))) -> SARJETA DE CONCRETO URBANO (SCU), TIPO 1, COM FCK 15 MPA, LARGURA DE 50CM COM INCLINAÇÃO DE 3%, ESP. 7CM, PADRÃO DER-MG, EXCLUSIVE MEIO-FIO, INCLUSIVE ESCAVAÇÃO, APILAOMENTO E TRANSPORTE COM RETIRADA DO MATERIAL ESCAVADO (EM CAÇAMBA) | E29: =IFERROR(VLOOKUP($C29,SICOR_JULHO2025[],3,FALSE),IFERROR(VLOOKUP($C29,SICRO_JULHO2025[],3,FALSE),IFERROR(VLOOKUP($C29,SINAPI_SERV_SET2025[],3,FALSE),IFERROR(VLOOKUP($C29,SINAPI_INSUMOS_SET2025[],3,FALSE),IFERROR(VLOOKUP($C29,SUDECAP_SERVICOS_JUL2025[],3,FALSE),IFERROR(VLOOKUP($C29,SUDECAP_INSUMOS_JUL2025[],3,FALSE),"NÃO ENCONTRADO")))))) -> M | F29: ='Memória de Cálculo'!F27 -> 1323.94 | G29: =IFERROR(VLOOKUP($C29,SICOR_JULHO2025[],4,FALSE),IFERROR(VLOOKUP($C29,SICRO_JULHO2025[],4,FALSE),IFERROR(VLOOKUP($C29,SINAPI_SERV_SET2025[],4,FALSE),IFERROR(VLOOKUP($C29,SINAPI_INSUMOS_SET2025[],4,FALSE),IFERROR(VLOOKUP($C29,SUDECAP_SERVICOS_JUL2025[],4,FALSE),IFERROR(VLOOKUP($C29,SUDECAP_INSUMOS_JUL2025[],4,FALSE),"NÃO ENCONTRADO")))))) -> 45.89 | H29: =ROUND(F29*G29,2) -> 60755.61 | I29: =$I$7 -> 0.2356 | J29: =ROUND(G29+(G29*I29),2) -> 56.7 | K29: =ROUND(F29*J29,2) -> 75067.4
A30: 5.0 | D30: SINALIZAÇÃO VERTICAL | H30: =SUM(H31:H33) -> 4624.38 | K30: =SUM(K31:K33) -> 5713.89
A31: 5.1 | B31: SICRO-DNIT | C31: 5213447 | D31: =IFERROR(VLOOKUP($C31,SICOR_JULHO2025[],2,FALSE),IFERROR(VLOOKUP($C31,SICRO_JULHO2025[],2,FALSE),IFERROR(VLOOKUP($C31,SINAPI_SERV_SET2025[],2,FALSE),IFERROR(VLOOKUP($C31,SINAPI_INSUMOS_SET2025[],2,FALSE),IFERROR(VLOOKUP($C31,SUDECAP_SERVICOS_JUL2025[],2,FALSE),IFERROR(VLOOKUP($C31,SUDECAP_INSUMOS_JUL2025[],2,FALSE),"NÃO ENCONTRADO")))))) -> PLACA DE REGULAMENTAÇÃO EM AÇO, R1 LADO 0,497 M - PELÍCULA RETRORREFLETIVA TIPO III + SI - FORNECIMENTO E IMPLANTAÇÃO | E31: =IFERROR(VLOOKUP($C31,SICOR_JULHO2025[],3,FALSE),IFERROR(VLOOKUP($C31,SICRO_JULHO2025[],3,FALSE),IFERROR(VLOOKUP($C31,SINAPI_SERV_SET2025[],3,FALSE),IFERROR(VLOOKUP($C31,SINAPI_INSUMOS_SET2025[],3,FALSE),IFERROR(VLOOKUP($C31,SUDECAP_SERVICOS_JUL2025[],3,FALSE),IFERROR(VLOOKUP($C31,SUDECAP_INSUMOS_JUL2025[],3,FALSE),"NÃO ENCONTRADO")))))) -> UN | F31: ='Memória de Cálculo'!F29 -> 3 | G31: =IFERROR(VLOOKUP($C31,SICOR_JULHO2025[],4,FALSE),IFERROR(VLOOKUP($C31,SICRO_JULHO2025[],4,FALSE),IFERROR(VLOOKUP($C31,SINAPI_SERV_SET2025[],4,FALSE),IFERROR(VLOOKUP($C31,SINAPI_INSUMOS_SET2025[],4,FALSE),IFERROR(VLOOKUP($C31,SUDECAP_SERVICOS_JUL2025[],4,FALSE),IFERROR(VLOOKUP($C31,SUDECAP_INSUMOS_JUL2025[],4,FALSE),"NÃO ENCONTRADO")))))) -> 1070.74 | H31: =ROUND(F31*G31,2) -> 3212.22 | I31: =$I$7 -> 0.2356 | J31: =ROUND(G31+(G31*I31),2) -> 1323.01 | K31: =ROUND(F31*J31,2) -> 3969.03
A32: 5.2 | B32: SICRO-DNIT | C32: 5213858 | D32: =IFERROR(VLOOKUP($C32,SICOR_JULHO2025[],2,FALSE),IFERROR(VLOOKUP($C32,SICRO_JULHO2025[],2,FALSE),IFERROR(VLOOKUP($C32,SINAPI_SERV_SET2025[],2,FALSE),IFERROR(VLOOKUP($C32,SINAPI_INSUMOS_SET2025[],2,FALSE),IFERROR(VLOOKUP($C32,SUDECAP_SERVICOS_JUL2025[],2,FALSE),IFERROR(VLOOKUP($C32,SUDECAP_INSUMOS_JUL2025[],2,FALSE),"NÃO ENCONTRADO")))))) -> SUPORTE METÁLICO GALVANIZADO PARA PLACA DE REGULAMENTAÇÃO - R1 - LADO DE 0,497 M - FORNECIMENTO E IMPLANTAÇÃO | E32: =IFERROR(VLOOKUP($C32,SICOR_JULHO2025[],3,FALSE),IFERROR(VLOOKUP($C32,SICRO_JULHO2025[],3,FALSE),IFERROR(VLOOKUP($C32,SINAPI_SERV_SET2025[],3,FALSE),IFERROR(VLOOKUP($C32,SINAPI_INSUMOS_SET2025[],3,FALSE),IFERROR(VLOOKUP($C32,SUDECAP_SERVICOS_JUL2025[],3,FALSE),IFERROR(VLOOKUP($C32,SUDECAP_INSUMOS_JUL2025[],3,FALSE),"NÃO ENCONTRADO")))))) -> UN | F32: ='Memória de Cálculo'!F30 -> 3 | G32: =IFERROR(VLOOKUP($C32,SICOR_JULHO2025[],4,FALSE),IFERROR(VLOOKUP($C32,SICRO_JULHO2025[],4,FALSE),IFERROR(VLOOKUP($C32,SINAPI_SERV_SET2025[],4,FALSE),IFERROR(VLOOKUP($C32,SINAPI_INSUMOS_SET2025[],4,FALSE),IFERROR(VLOOKUP($C32,SUDECAP_SERVICOS_JUL2025[],4,FALSE),IFERROR(VLOOKUP($C32,SUDECAP_INSUMOS_JUL2025[],4,FALSE),"NÃO ENCONTRADO")))))) -> 470.72 | H32: =ROUND(F32*G32,2) -> 1412.16 | I32: =$I$7 -> 0.2356 | J32: =ROUND(G32+(G32*I32),2) -> 581.62 | K32: =ROUND(F32*J32,2) -> 1744.86
A33: 5.3 | B33: - | C33: CPU-001 | D33: PLACA DE IDENTIFICAÇÃO DE LOGRADOURO | E33: UN | F33: ='Memória de Cálculo'!F31 -> 6 | G33: A CARGO DA PREFEITURA | K33: =ROUND(F33*J33,2) -> 0
A34: 6.0 | D34: MOBILIZAÇÃO E DESMOBILIZAÇÃO DE OBRA | H34: =SUM(H35) -> 3178.5947 | K34: =K35 -> 3927.47
A35: 6.1 | B35: SICOR-SEINFRA | C35: ED-50392 | D35: MOBILIZAÇÃO E DESMOBILIZAÇÃO DE OBRA EM CENTRO URBANO OU REGIÃO LIMÍTROFE COM VALOR ATÉ 1.000.000,00 | E35: % | F35: 0.005 | H35: =F35*(H10+H16+H21+H27+H30) -> 3178.5947 | I35: =$I$7 -> 0.2356 | J35: =ROUND(H35+(H35*I35),2) -> 3927.47 | K35: =J35 -> 3927.47
A36: TOTAL | H36: =ROUND(H10+H16+H21+H27+H30+H34,2) -> 638897.53 | K36: =ROUND(K10+K16+K21+K27+K30+K34,2) -> 789470.88
A37: TOTAL DA OBRA C/ BDI | K37: =K36 -> 789470.88
L39: =89470.88/K37 -> 0.11333018
D42: RICARDO SANTOS SOARES | G42: RACLY ARAUJO ANDRADE
D43: CREA 160878/D | G43: Prefeito Municipal de Jaboticatubas

Sheet Memória de Cálculo
A2: MEMÓRIA DE CÁLCULO
A3: PREFEITURA MUNICIPAL DE JABOTICATUBAS
A4: OBRA: CALÇAMENTO EM PAVIMENTO INTERTRAVADO | F4: DATA:
A5: LOCAL: RUA ARARA DA SERRA - DISTRITO DE SÃO JOSÉ DA SERRA, R. PEDRO MARQUES DE MORAIS - BAIRRO SANTO ANTÔNIO E ALAMEDA DOS AÇAÍS - BOSQUE DOS COQUEIROS
A7: ITEM | B7: FONTE | C7: CÓDIGO | D7: DESCRIÇÃO | E7: UNIDADE | F7: QUANTIDADE | G7: CÁLCULO
A8: 1.0 | D8: SERVIÇOS PRELIMINARES
A9: 1.1 | B9: SICOR-SEINFRA | C9: ED-28427 | D9: =IFERROR(VLOOKUP($C9,SICOR_JULHO2025[],2,FALSE),IFERROR(VLOOKUP($C9,SICRO_JULHO2025[],2,FALSE),IFERROR(VLOOKUP($C9,SINAPI_SERV_SET2025[],2,FALSE),IFERROR(VLOOKUP($C9,SINAPI_INSUMOS_SET2025[],2,FALSE),IFERROR(VLOOKUP($C9,SUDECAP_SERVICOS_JUL2025[],2,FALSE),IFERROR(VLOOKUP($C9,SUDECAP_INSUMOS_JUL2025[],2,FALSE),"NÃO ENCONTRADO")))))) -> FORNECIMENTO E COLOCAÇÃO DE PLACA DE OBRA EM CHAPA GALVANIZADA #26, ESP. 0,45MM, DIMENSÃO (3X1,5)M, PLOTADA COM ADESIVO VINÍLICO, AFIXADA COM REBITES 4,8X40MM, EM ESTRUTURA METÁLICA DE METALON 20X20MM, ESP. 1,25MM, INCLUSIVE SUPORTE EM EUCALIPTO AUTOCLAVADO PINTADO COM TINTA PVA DUAS (2) DEMÃOS | E9: =IFERROR(VLOOKUP($C9,SICOR_JULHO2025[],3,FALSE),IFERROR(VLOOKUP($C9,SICRO_JULHO2025[],3,FALSE),IFERROR(VLOOKUP($C9,SINAPI_SERV_SET2025[],3,FALSE),IFERROR(VLOOKUP($C9,SINAPI_INSUMOS_SET2025[],3,FALSE),IFERROR(VLOOKUP($C9,SUDECAP_SERVICOS_JUL2025[],3,FALSE),IFERROR(VLOOKUP($C9,SUDECAP_INSUMOS_JUL2025[],3,FALSE),"NÃO ENCONTRADO")))))) -> UN | F9: 3 | G9: 1,0 PLACA (RUA ARARA DA SERRA) + 1,0 PLACA (R. PEDRO MARQUES DE MORAIS) + 1,0 PLACA (ALAMEDA DOS AÇAÍS)
A10: 1.2 | B10: SICOR-SEINFRA | C10: ED-50137 | D10: =IFERROR(VLOOKUP($C10,SICOR_JULHO2025[],2,FALSE),IFERROR(VLOOKUP($C10,SICRO_JULHO2025[],2,FALSE),IFERROR(VLOOKUP($C10,SINAPI_SERV_SET2025[],2,FALSE),IFERROR(VLOOKUP($C10,SINAPI_INSUMOS_SET2025[],2,FALSE),IFERROR(VLOOKUP($C10,SUDECAP_SERVICOS_JUL2025[],2,FALSE),IFERROR(VLOOKUP($C10,SUDECAP_INSUMOS_JUL2025[],2,FALSE),"NÃO ENCONTRADO")))))) -> MOBILIZAÇÃO E DESMOBILIZAÇÃO DE CONTAINER, INCLUSIVE CARGA, DESCARGA E TRANSPORTE EM CAMINHÃO CARROCERIA COM GUINDAUTO (MUNCK), EXCLUSIVE LOCAÇÃO DO CONTAINER | E10: =IFERROR(VLOOKUP($C10,SICOR_JULHO2025[],3,FALSE),IFERROR(VLOOKUP($C10,SICRO_JULHO2025[],3,FALSE),IFERROR(VLOOKUP($C10,SINAPI_SERV_SET2025[],3,FALSE),IFERROR(VLOOKUP($C10,SINAPI_INSUMOS_SET2025[],3,FALSE),IFERROR(VLOOKUP($C10,SUDECAP_SERVICOS_JUL2025[],3,FALSE),IFERROR(VLOOKUP($C10,SUDECAP_INSUMOS_JUL2025[],3,FALSE),"NÃO ENCONTRADO")))))) -> UN | F10: 3 | G10: 1,0 (RUA ARARA DA SERRA) + 1,0 (R. PEDRO MARQUES DE MORAIS) + 1,0 (ALAMEDA DOS AÇAÍS)
A11: 1.3 | B11: SICOR-SEINFRA | C11: ED-16350 | D11: =IFERROR(VLOOKUP($C11,SICOR_JULHO2025[],2,FALSE),IFERROR(VLOOKUP($C11,SICRO_JULHO2025[],2,FALSE),IFERROR(VLOOKUP($C11,SINAPI_SERV_SET2025[],2,FALSE),IFERROR(VLOOKUP($C11,SINAPI_INSUMOS_SET2025[],2,FALSE),IFERROR(VLOOKUP($C11,SUDECAP_SERVICOS_JUL2025[],2,FALSE),IFERROR(VLOOKUP($C11,SUDECAP_INSUMOS_JUL2025[],2,FALSE),"NÃO ENCONTRADO")))))) -> LOCAÇÃO DE CONTAINER COM ISOLAMENTO TÉRMICO, TIPO 3, PARA DEPÓSITO/FERRAMENTARIA DE OBRA, COM MEDIDAS REFERENCIAIS DE (6) METROS COMPRIMENTO, (2,3) METROS LARGURA E (2,5) METROS ALTURA ÚTIL INTERNA, INCLUSIVE LIGAÇÕES ELÉTRICAS INTERNAS, EXCLUSIVE MOBILIZAÇÃO/DESMOBILIZAÇÃO E LIGAÇÕES PROVISÓRIAS EXTERNAS | E11: =IFERROR(VLOOKUP($C11,SICOR_JULHO2025[],3,FALSE),IFERROR(VLOOKUP($C11,SICRO_JULHO2025[],3,FALSE),IFERROR(VLOOKUP($C11,SINAPI_SERV_SET2025[],3,FALSE),IFERROR(VLOOKUP($C11,SINAPI_INSUMOS_SET2025[],3,FALSE),IFERROR(VLOOKUP($C11,SUDECAP_SERVICOS_JUL2025[],3,FALSE),IFERROR(VLOOKUP($C11,SUDECAP_INSUMOS_JUL2025[],3,FALSE),"NÃO ENCONTRADO")))))) -> MÊS | F11: 7 | G11: PRAZO TOTAL DA OBRA
A12: 1.4 | B12: SICOR-SEINFRA | C12: ED-16358 | D12: =IFERROR(VLOOKUP($C12,SICOR_JULHO2025[],2,FALSE),IFERROR(VLOOKUP($C12,SICRO_JULHO2025[],2,FALSE),IFERROR(VLOOKUP($C12,SINAPI_SERV_SET2025[],2,FALSE),IFERROR(VLOOKUP($C12,SINAPI_INSUMOS_SET2025[],2,FALSE),IFERROR(VLOOKUP($C12,SUDECAP_SERVICOS_JUL2025[],2,FALSE),IFERROR(VLOOKUP($C12,SUDECAP_INSUMOS_JUL2025[],2,FALSE),"NÃO ENCONTRADO")))))) -> LIGAÇÕES PROVISÓRIAS PARA CONTAINER TIPO 3 (CORRESPONDENTE AO CÓDIGO ED-16350) | E12: =IFERROR(VLOOKUP($C12,SICOR_JULHO2025[],3,FALSE),IFERROR(VLOOKUP($C12,SICRO_JULHO2025[],3,FALSE),IFERROR(VLOOKUP($C12,SINAPI_SERV_SET2025[],3,FALSE),IFERROR(VLOOKUP($C12,SINAPI_INSUMOS_SET2025[],3,FALSE),IFERROR(VLOOKUP($C12,SUDECAP_SERVICOS_JUL2025[],3,FALSE),IFERROR(VLOOKUP($C12,SUDECAP_INSUMOS_JUL2025[],3,FALSE),"NÃO ENCONTRADO")))))) -> UN | F12: 3 | G12: 1,0 (RUA ARARA DA SERRA) + 1,0 (R. PEDRO MARQUES DE MORAIS) + 1,0 (ALAMEDA DOS AÇAÍS)
A13: 1.5 | B13: SICOR-SEINFRA | C13: ED-50155 | D13: =IFERROR(VLOOKUP($C13,SICOR_JULHO2025[],2,FALSE),IFERROR(VLOOKUP($C13,SICRO_JULHO2025[],2,FALSE),IFERROR(VLOOKUP($C13,SINAPI_SERV_SET2025[],2,FALSE),IFERROR(VLOOKUP($C13,SINAPI_INSUMOS_SET2025[],2,FALSE),IFERROR(VLOOKUP($C13,SUDECAP_SERVICOS_JUL2025[],2,FALSE),IFERROR(VLOOKUP($C13,SUDECAP_INSUMOS_JUL2025[],2,FALSE),"NÃO ENCONTRADO")))))) -> LOCAÇÃO DE BANHEIRO QUÍMICO, DIMENSÃO (110X120X230)CM, LINHA PADRÃO, CONTENDO UMA (1) PIA/HIGIENIZADOR DE MÃOS, INCLUSIVE MANUTENÇÃO E MOBILIZAÇÃO/DESMOBILIZAÇÃO | E13: =IFERROR(VLOOKUP($C13,SICOR_JULHO2025[],3,FALSE),IFERROR(VLOOKUP($C13,SICRO_JULHO2025[],3,FALSE),IFERROR(VLOOKUP($C13,SINAPI_SERV_SET2025[],3,FALSE),IFERROR(VLOOKUP($C13,SINAPI_INSUMOS_SET2025[],3,FALSE),IFERROR(VLOOKUP($C13,SUDECAP_SERVICOS_JUL2025[],3,FALSE),IFERROR(VLOOKUP($C13,SUDECAP_INSUMOS_JUL2025[],3,FALSE),"NÃO ENCONTRADO")))))) -> MÊS | F13: 7 | G13: PRAZO TOTAL DA OBRA | H13: =1566.72+(543.94*0.65) -> 1920.281
A14: 2.0 | D14: TERRAPLENAGEM
A15: 2.1 | B15: SICRO-DNIT | C15: 4413986 | D15: =IFERROR(VLOOKUP($C15,SICOR_JULHO2025[],2,FALSE),IFERROR(VLOOKUP($C15,SICRO_JULHO2025[],2,FALSE),IFERROR(VLOOKUP($C15,SINAPI_SERV_SET2025[],2,FALSE),IFERROR(VLOOKUP($C15,SINAPI_INSUMOS_SET2025[],2,FALSE),IFERROR(VLOOKUP($C15,SUDECAP_SERVICOS_JUL2025[],2,FALSE),IFERROR(VLOOKUP($C15,SUDECAP_INSUMOS_JUL2025[],2,FALSE),"NÃO ENCONTRADO")))))) -> REGULARIZAÇÃO DE SUPERFÍCIE COM MOTONIVELADORA | E15: =IFERROR(VLOOKUP($C15,SICOR_JULHO2025[],3,FALSE),IFERROR(VLOOKUP($C15,SICRO_JULHO2025[],3,FALSE),IFERROR(VLOOKUP($C15,SINAPI_SERV_SET2025[],3,FALSE),IFERROR(VLOOKUP($C15,SINAPI_INSUMOS_SET2025[],3,FALSE),IFERROR(VLOOKUP($C15,SUDECAP_SERVICOS_JUL2025[],3,FALSE),IFERROR(VLOOKUP($C15,SUDECAP_INSUMOS_JUL2025[],3,FALSE),"NÃO ENCONTRADO")))))) -> M2 | F15: =(298*6.3)+(92*6.3)+(1566.72+(543.94*0.65)) -> 4377.281 | G15: ALAMEDA DOS AÇAÍS: 298,0X 6,30 = 1877,40 RUA PEDRO MARQUES DE MORAIS: 92,0X 6,30 =579,60 RUA ARARAS DA SERRA: 1566,72+(543,94X0,65) =1920,28 | H15: =131+88+16+67 -> 302 | I15: =131+86+13+64 -> 294 | J15: =(H15+I15)/2 -> 298
A16: 2.2 | B16: SICRO-DNIT | C16: 4011209 | D16: =IFERROR(VLOOKUP($C16,SICOR_JULHO2025[],2,FALSE),IFERROR(VLOOKUP($C16,SICRO_JULHO2025[],2,FALSE),IFERROR(VLOOKUP($C16,SINAPI_SERV_SET2025[],2,FALSE),IFERROR(VLOOKUP($C16,SINAPI_INSUMOS_SET2025[],2,FALSE),IFERROR(VLOOKUP($C16,SUDECAP_SERVICOS_JUL2025[],2,FALSE),IFERROR(VLOOKUP($C16,SUDECAP_INSUMOS_JUL2025[],2,FALSE),"NÃO ENCONTRADO")))))) -> REGULARIZAÇÃO DO SUBLEITO - 100% PROCTOR INTERMEDIÁRIO | E16: =IFERROR(VLOOKUP($C16,SICOR_JULHO2025[],3,FALSE),IFERROR(VLOOKUP($C16,SICRO_JULHO2025[],3,FALSE),IFERROR(VLOOKUP($C16,SINAPI_SERV_SET2025[],3,FALSE),IFERROR(VLOOKUP($C16,SINAPI_INSUMOS_SET2025[],3,FALSE),IFERROR(VLOOKUP($C16,SUDECAP_SERVICOS_JUL2025[],3,FALSE),IFERROR(VLOOKUP($C16,SUDECAP_INSUMOS_JUL2025[],3,FALSE),"NÃO ENCONTRADO")))))) -> M2 | F16: =F15 -> 4377.281 | G16: ALAMEDA DOS AÇAÍS: 298,0X 6,30 = 1877,40 RUA PEDRO MARQUES DE MORAIS: 92,0X 6,30 =579,60 RUA ARARAS DA SERRA: 1566,72+(543,94X0,65) =1920,28 | H16: =44+50.62 -> 94.62 | I16: =39.3+47.19 -> 86.49 | J16: =(H16+I16)/2 -> 90.555
A17: 2.3 | B17: SICRO-DNIT | C17: 4011320 | D17: =IFERROR(VLOOKUP($C17,SICOR_JULHO2025[],2,FALSE),IFERROR(VLOOKUP($C17,SICRO_JULHO2025[],2,FALSE),IFERROR(VLOOKUP($C17,SINAPI_SERV_SET2025[],2,FALSE),IFERROR(VLOOKUP($C17,SINAPI_INSUMOS_SET2025[],2,FALSE),IFERROR(VLOOKUP($C17,SUDECAP_SERVICOS_JUL2025[],2,FALSE),IFERROR(VLOOKUP($C17,SUDECAP_INSUMOS_JUL2025[],2,FALSE),"NÃO ENCONTRADO")))))) -> BASE OU SUB-BASE ESTABILIZADA GRANULOMETRICAMENTE COM MISTURA SOLO BRITA (70% - 30%) NA PISTA COM MATERIAL DE JAZIDA E BRITA COMERCIAL - 100% PROCTOR MODIFICADO | E17: =IFERROR(VLOOKUP($C17,SICOR_JULHO2025[],3,FALSE),IFERROR(VLOOKUP($C17,SICRO_JULHO2025[],3,FALSE),IFERROR(VLOOKUP($C17,SINAPI_SERV_SET2025[],3,FALSE),IFERROR(VLOOKUP($C17,SINAPI_INSUMOS_SET2025[],3,FALSE),IFERROR(VLOOKUP($C17,SUDECAP_SERVICOS_JUL2025[],3,FALSE),IFERROR(VLOOKUP($C17,SUDECAP_INSUMOS_JUL2025[],3,FALSE),"NÃO ENCONTRADO")))))) -> M3 | F17: =F16*0.15 -> 656.59215 | G17: ALAMEDA DOS AÇAÍS: 298,0X 6,30 = 1877,40 X 0,15 = 281,61 RUA PEDRO MARQUES DE MORAIS: 92,0X 6,30 =579,60 X 0,15 = 86,94 RUA ARARAS DA SERRA: 1566,72+(543,94X0,65) =1920,28 X 0,15 = 288,04 | H17: EM PROJETO A ESPESSURA DA BASE É 15CM
A18: 2.4 | B18: SICRO-DNIT | C18: 5915321 | D18: =IFERROR(VLOOKUP($C18,SICOR_JULHO2025[],2,FALSE),IFERROR(VLOOKUP($C18,SICRO_JULHO2025[],2,FALSE),IFERROR(VLOOKUP($C18,SINAPI_SERV_SET2025[],2,FALSE),IFERROR(VLOOKUP($C18,SINAPI_INSUMOS_SET2025[],2,FALSE),IFERROR(VLOOKUP($C18,SUDECAP_SERVICOS_JUL2025[],2,FALSE),IFERROR(VLOOKUP($C18,SUDECAP_INSUMOS_JUL2025[],2,FALSE),"NÃO ENCONTRADO")))))) -> TRANSPORTE COM CAMINHÃO BASCULANTE DE 14 M3 - RODOVIA PAVIMENTADA | E18: =IFERROR(VLOOKUP($C18,SICOR_JULHO2025[],3,FALSE),IFERROR(VLOOKUP($C18,SICRO_JULHO2025[],3,FALSE),IFERROR(VLOOKUP($C18,SINAPI_SERV_SET2025[],3,FALSE),IFERROR(VLOOKUP($C18,SINAPI_INSUMOS_SET2025[],3,FALSE),IFERROR(VLOOKUP($C18,SUDECAP_SERVICOS_JUL2025[],3,FALSE),IFERROR(VLOOKUP($C18,SUDECAP_INSUMOS_JUL2025[],3,FALSE),"NÃO ENCONTRADO")))))) -> TKM | F18: =(281.61*0.3*1.4*55.6)+(86.94*0.3*1.4*54.6)+(288.04*0.3*1.4*69.7) -> 17001.948 | G18: ALAMEDA DOS AÇAÍS: 281,61 X 0,30 X 1,4 X 55,6 = 6.576,15672 RUA PEDRO MARQUES DE MORAIS: 86,94 X 0,30 X 1,4 X 54,60 = 1.993,70808 RUA ARARAS DA SERRA: 288,04 X 0,30 X 1,40 X 69,70 = 8.432,08296
A19: 3.0 | D19: PAVIMENTO INTERTRAVADO
A20: 3.1 | B20: SICOR-SEINFRA | C20: ED-8916 | D20: =IFERROR(VLOOKUP($C20,SICOR_JULHO2025[],2,FALSE),IFERROR(VLOOKUP($C20,SICRO_JULHO2025[],2,FALSE),IFERROR(VLOOKUP($C20,SINAPI_SERV_SET2025[],2,FALSE),IFERROR(VLOOKUP($C20,SINAPI_INSUMOS_SET2025[],2,FALSE),IFERROR(VLOOKUP($C20,SUDECAP_SERVICOS_JUL2025[],2,FALSE),IFERROR(VLOOKUP($C20,SUDECAP_INSUMOS_JUL2025[],2,FALSE),"NÃO ENCONTRADO")))))) -> EXECUÇÃO DE PAVIMENTO COM PISO INTERTRAVADO, TIPO RETANGULAR, ESP. 8CM, COM FCK DE 35MPA, INCLUSIVE COLCHÃO DE AREIA, ESP. 6CM, PARA ASSENTAMENTO, COMPACTAÇÃO MECANIZADA, CARGA E DESCARGA MECÂNICA EM CAMINHÃO, EXCLUSIVE TRANSPORTE DE PISO INTERTRAVADO | E20: =IFERROR(VLOOKUP($C20,SICOR_JULHO2025[],3,FALSE),IFERROR(VLOOKUP($C20,SICRO_JULHO2025[],3,FALSE),IFERROR(VLOOKUP($C20,SINAPI_SERV_SET2025[],3,FALSE),IFERROR(VLOOKUP($C20,SINAPI_INSUMOS_SET2025[],3,FALSE),IFERROR(VLOOKUP($C20,SUDECAP_SERVICOS_JUL2025[],3,FALSE),IFERROR(VLOOKUP($C20,SUDECAP_INSUMOS_JUL2025[],3,FALSE),"NÃO ENCONTRADO")))))) -> M2 | F20: 1566.72 | G20: RUA ARARAS DA SERRA - LEVANTAMENTO EM AUTOCAD
A21: 3.2 | B21: SICOR-SEINFRA | C21: ED-8914 | D21: =IFERROR(VLOOKUP($C21,SICOR_JULHO2025[],2,FALSE),IFERROR(VLOOKUP($C21,SICRO_JULHO2025[],2,FALSE),IFERROR(VLOOKUP($C21,SINAPI_SERV_SET2025[],2,FALSE),IFERROR(VLOOKUP($C21,SINAPI_INSUMOS_SET2025[],2,FALSE),IFERROR(VLOOKUP($C21,SUDECAP_SERVICOS_JUL2025[],2,FALSE),IFERROR(VLOOKUP($C21,SUDECAP_INSUMOS_JUL2025[],2,FALSE),"NÃO ENCONTRADO")))))) -> EXECUÇÃO DE PAVIMENTO COM PISO INTERTRAVADO, TIPO SEXTAVADO, ESP. 8CM, COM FCK DE 35MPA, INCLUSIVE COLCHÃO DE AREIA, ESP. 6CM, PARA ASSENTAMENTO, COMPACTAÇÃO MECANIZADA, CARGA E DESCARGA MECÂNICA EM CAMINHÃO, EXCLUSIVE TRANSPORTE DE PISO INTERTRAVADO | E21: =IFERROR(VLOOKUP($C21,SICOR_JULHO2025[],3,FALSE),IFERROR(VLOOKUP($C21,SICRO_JULHO2025[],3,FALSE),IFERROR(VLOOKUP($C21,SINAPI_SERV_SET2025[],3,FALSE),IFERROR(VLOOKUP($C21,SINAPI_INSUMOS_SET2025[],3,FALSE),IFERROR(VLOOKUP($C21,SUDECAP_SERVICOS_JUL2025[],3,FALSE),IFERROR(VLOOKUP($C21,SUDECAP_INSUMOS_JUL2025[],3,FALSE),"NÃO ENCONTRADO")))))) -> M2 | F21: =(298*5)+(92*5) -> 1950 | G21: ALAMEDA DOS AÇAÍS: 298,0x5,00 = 1490,00 R. PEDRO MARQUES DE MORAIS: 92,0x5,00= 460,0
A22: 3.3 | B22: SICOR-SEINFRA | C22: ED-7423 | D22: =IFERROR(VLOOKUP($C22,SICOR_JULHO2025[],2,FALSE),IFERROR(VLOOKUP($C22,SICRO_JULHO2025[],2,FALSE),IFERROR(VLOOKUP($C22,SINAPI_SERV_SET2025[],2,FALSE),IFERROR(VLOOKUP($C22,SINAPI_INSUMOS_SET2025[],2,FALSE),IFERROR(VLOOKUP($C22,SUDECAP_SERVICOS_JUL2025[],2,FALSE),IFERROR(VLOOKUP($C22,SUDECAP_INSUMOS_JUL2025[],2,FALSE),"NÃO ENCONTRADO")))))) -> TRANSPORTE DE PISO INTERTRAVADO, EM CAMINHÃO, TRAÇÃO 6X2, TIPO TRUCADO, PESO BRUTO TOTAL (PBT) DE 23.000KG, COM GUINDASTE ARTICULADO, MOMENTO DE CARGA MÁXIMO DE 10TXM, E CARROCERIA DE CARGA SECA, COM CAPACIDADE DE 14T, EM RODOVIA COM LEITO NATURAL, EXCLUSIVE MANOBRA, CARGA E DESCARGA | E22: =IFERROR(VLOOKUP($C22,SICOR_JULHO2025[],3,FALSE),IFERROR(VLOOKUP($C22,SICRO_JULHO2025[],3,FALSE),IFERROR(VLOOKUP($C22,SINAPI_SERV_SET2025[],3,FALSE),IFERROR(VLOOKUP($C22,SINAPI_INSUMOS_SET2025[],3,FALSE),IFERROR(VLOOKUP($C22,SUDECAP_SERVICOS_JUL2025[],3,FALSE),IFERROR(VLOOKUP($C22,SUDECAP_INSUMOS_JUL2025[],3,FALSE),"NÃO ENCONTRADO")))))) -> TXKM | F22: =F20*0.18*22.8 -> 6429.8189 | G22: RUA ARARAS DA SERRA : ((1566,72x0,18) x 22,8 = 6429,82 | H22: DE ACORDO COM OS CROQUIS A DMT MEDIANA SERIA 22,8; A MÉDIA SERIA 22,5; NÃO ENCONTRAMOS O VALOR DE 22 ADOTADO PELO MUNICÍPIO
A23: 3.4 | B23: SICOR-SEINFRA | C23: ED-7425 | D23: =IFERROR(VLOOKUP($C23,SICOR_JULHO2025[],2,FALSE),IFERROR(VLOOKUP($C23,SICRO_JULHO2025[],2,FALSE),IFERROR(VLOOKUP($C23,SINAPI_SERV_SET2025[],2,FALSE),IFERROR(VLOOKUP($C23,SINAPI_INSUMOS_SET2025[],2,FALSE),IFERROR(VLOOKUP($C23,SUDECAP_SERVICOS_JUL2025[],2,FALSE),IFERROR(VLOOKUP($C23,SUDECAP_INSUMOS_JUL2025[],2,FALSE),"NÃO ENCONTRADO")))))) -> TRANSPORTE DE PISO INTERTRAVADO, EM CAMINHÃO, TRAÇÃO 6X2, TIPO TRUCADO, PESO BRUTO TOTAL (PBT) DE 23.000KG, COM GUINDASTE ARTICULADO, MOMENTO DE CARGA MÁXIMO DE 10TXM, E CARROCERIA DE CARGA SECA, COM CAPACIDADE DE 14T, EM RODOVIA PAVIMENTADA, EXCLUSIVE MANOBRA, CARGA E DESCARGA | E23: =IFERROR(VLOOKUP($C23,SICOR_JULHO2025[],3,FALSE),IFERROR(VLOOKUP($C23,SICRO_JULHO2025[],3,FALSE),IFERROR(VLOOKUP($C23,SINAPI_SERV_SET2025[],3,FALSE),IFERROR(VLOOKUP($C23,SINAPI_INSUMOS_SET2025[],3,FALSE),IFERROR(VLOOKUP($C23,SUDECAP_SERVICOS_JUL2025[],3,FALSE),IFERROR(VLOOKUP($C23,SUDECAP_INSUMOS_JUL2025[],3,FALSE),"NÃO ENCONTRADO")))))) -> TXKM | F23: =(1490*0.18*1.8)+(460*0.18*1.2) -> 582.12 | G23: ALAMEDA DOS AÇAÍS: 1490,00 X 0,18 X 1,80 = 482,76 R. PEDRO MARQUES DE MORAIS: 460,0 X 0,18 X 1,20 = 99,36 | H23: SUGERE-SE A ADOÇÃO DA DMT MEDIANA OU DA MENOR
A24: 3.5 | B24: SICOR-SEINFRA | C24: ED-51139 | D24: =IFERROR(VLOOKUP($C24,SICOR_JULHO2025[],2,FALSE),IFERROR(VLOOKUP($C24,SICRO_JULHO2025[],2,FALSE),IFERROR(VLOOKUP($C24,SINAPI_SERV_SET2025[],2,FALSE),IFERROR(VLOOKUP($C24,SINAPI_INSUMOS_SET2025[],2,FALSE),IFERROR(VLOOKUP($C24,SUDECAP_SERVICOS_JUL2025[],2,FALSE),IFERROR(VLOOKUP($C24,SUDECAP_INSUMOS_JUL2025[],2,FALSE),"NÃO ENCONTRADO")))))) -> GUIA DE MEIO-FIO, EM CONCRETO COM FCK 20MPA, PRÉ-MOLDADA, MFC-01 PADRÃO DER-MG, DIMENSÕES (12X16,7X35)CM, EXCLUSIVE SARJETA, INCLUSIVE ESCAVAÇÃO, APILOAMENTO E TRANSPORTE COM RETIRADA DO MATERIAL ESCAVADO (EM CAÇAMBA) | E24: =IFERROR(VLOOKUP($C24,SICOR_JULHO2025[],3,FALSE),IFERROR(VLOOKUP($C24,SICRO_JULHO2025[],3,FALSE),IFERROR(VLOOKUP($C24,SINAPI_SERV_SET2025[],3,FALSE),IFERROR(VLOOKUP($C24,SINAPI_INSUMOS_SET2025[],3,FALSE),IFERROR(VLOOKUP($C24,SUDECAP_SERVICOS_JUL2025[],3,FALSE),IFERROR(VLOOKUP($C24,SUDECAP_INSUMOS_JUL2025[],3,FALSE),"NÃO ENCONTRADO")))))) -> M | F24: =12.6+12.6+36.8 -> 62 | G24: ALAMEDA DOS AÇAÍS: 2 X 6,30 = 12,60 R. PEDRO MARQUES DE MORAIS:2 X 6,30 = 12,60 R. ARARAS DA SERRA: 6,30+6,30+6,30+8,00+6,30+6,30 = 36,80
A25: 4.0 | D25: MEIO-FIO E SARJETA
A26: 4.1 | B26: SICOR-SEINFRA | C26: ED-51139 | D26: =IFERROR(VLOOKUP($C26,SICOR_JULHO2025[],2,FALSE),IFERROR(VLOOKUP($C26,SICRO_JULHO2025[],2,FALSE),IFERROR(VLOOKUP($C26,SINAPI_SERV_SET2025[],2,FALSE),IFERROR(VLOOKUP($C26,SINAPI_INSUMOS_SET2025[],2,FALSE),IFERROR(VLOOKUP($C26,SUDECAP_SERVICOS_JUL2025[],2,FALSE),IFERROR(VLOOKUP($C26,SUDECAP_INSUMOS_JUL2025[],2,FALSE),"NÃO ENCONTRADO")))))) -> GUIA DE MEIO-FIO, EM CONCRETO COM FCK 20MPA, PRÉ-MOLDADA, MFC-01 PADRÃO DER-MG, DIMENSÕES (12X16,7X35)CM, EXCLUSIVE SARJETA, INCLUSIVE ESCAVAÇÃO, APILOAMENTO E TRANSPORTE COM RETIRADA DO MATERIAL ESCAVADO (EM CAÇAMBA) | E26: =IFERROR(VLOOKUP($C26,SICOR_JULHO2025[],3,FALSE),IFERROR(VLOOKUP($C26,SICRO_JULHO2025[],3,FALSE),IFERROR(VLOOKUP($C26,SINAPI_SERV_SET2025[],3,FALSE),IFERROR(VLOOKUP($C26,SINAPI_INSUMOS_SET2025[],3,FALSE),IFERROR(VLOOKUP($C26,SUDECAP_SERVICOS_JUL2025[],3,FALSE),IFERROR(VLOOKUP($C26,SUDECAP_INSUMOS_JUL2025[],3,FALSE),"NÃO ENCONTRADO")))))) -> M | F26: =596+184+543.94 -> 1323.94 | G26: ALAMEDA DOS AÇAÍS: 131,00+88,00+16,00+67,00+131,00+86,00+13,00+64,00 = 596 R. PEDRO MARQUES DE MORAIS: 44,00+51,00+41,00+48,00 = 184,00 R. ARARAS DA SERRA: 27,10+26,20+16,30+58,20+3,22+2,50+2,96+1,16+39,90+51,50+38,30+38,30+9,40+11,30+4,90+3,50+3,50+4,20+25,40+109,10++15,00+25,10+26,90 = 543,94
A27: 4.2 | B27: SICOR-SEINFRA | C27: ED-14762 | D27: =IFERROR(VLOOKUP($C27,SICOR_JULHO2025[],2,FALSE),IFERROR(VLOOKUP($C27,SICRO_JULHO2025[],2,FALSE),IFERROR(VLOOKUP($C27,SINAPI_SERV_SET2025[],2,FALSE),IFERROR(VLOOKUP($C27,SINAPI_INSUMOS_SET2025[],2,FALSE),IFERROR(VLOOKUP($C27,SUDECAP_SERVICOS_JUL2025[],2,FALSE),IFERROR(VLOOKUP($C27,SUDECAP_INSUMOS_JUL2025[],2,FALSE),"NÃO ENCONTRADO")))))) -> SARJETA DE CONCRETO URBANO (SCU), TIPO 1, COM FCK 15 MPA, LARGURA DE 50CM COM INCLINAÇÃO DE 3%, ESP. 7CM, PADRÃO DER-MG, EXCLUSIVE MEIO-FIO, INCLUSIVE ESCAVAÇÃO, APILAOMENTO E TRANSPORTE COM RETIRADA DO MATERIAL ESCAVADO (EM CAÇAMBA) | E27: =IFERROR(VLOOKUP($C27,SICOR_JULHO2025[],3,FALSE),IFERROR(VLOOKUP($C27,SICRO_JULHO2025[],3,FALSE),IFERROR(VLOOKUP($C27,SINAPI_SERV_SET2025[],3,FALSE),IFERROR(VLOOKUP($C27,SINAPI_INSUMOS_SET2025[],3,FALSE),IFERROR(VLOOKUP($C27,SUDECAP_SERVICOS_JUL2025[],3,FALSE),IFERROR(VLOOKUP($C27,SUDECAP_INSUMOS_JUL2025[],3,FALSE),"NÃO ENCONTRADO")))))) -> M | F27: =596+184+543.94 -> 1323.94 | G27: ALAMEDA DOS AÇAÍS: 131,00+88,00+16,00+67,00+131,00+86,00+13,00+64,00 = 596 R. PEDRO MARQUES DE MORAIS: 44,00+51,00+41,00+48,00 = 184,00 R. ARARAS DA SERRA: 27,10+26,20+16,30+58,20+3,22+2,50+2,96+1,16+39,90+51,50+38,30+38,30+9,40+11,30+4,90+3,50+3,50+4,20+25,40+109,10++15,00+25,10+26,90 = 543,94 | H27: =27.1+26.2+16.3+58.2+3.22+2.5+2.96+1.16+39.9+51.5+38.3+38.3+9.4+11.3+4.9+3.5+3.5+4.2+25.4+109.1+15+25.1+26.9 -> 543.94 | I27: =44+51+41+48 -> 184 | J27: =27.1+26.2+16.3+58.2+2.5+2.5+39.9+51.5+38.3+38.3+9.4+11.3+4.9+3.5+3.5+4.2+25.4+109.1+15+25.1+26.9 -> 539.1 | L27: =543.94*0.3 -> 163.182 | M27: 1566.7258 | N27: =L27+M27 -> 1729.9078
A28: 5.0 | D28: SINALIZAÇÃO VERTICAL
A29: 5.1 | B29: SICRO-DNIT | C29: 5213447 | D29: =IFERROR(VLOOKUP($C29,SICOR_JULHO2025[],2,FALSE),IFERROR(VLOOKUP($C29,SICRO_JULHO2025[],2,FALSE),IFERROR(VLOOKUP($C29,SINAPI_SERV_SET2025[],2,FALSE),IFERROR(VLOOKUP($C29,SINAPI_INSUMOS_SET2025[],2,FALSE),IFERROR(VLOOKUP($C29,SUDECAP_SERVICOS_JUL2025[],2,FALSE),IFERROR(VLOOKUP($C29,SUDECAP_INSUMOS_JUL2025[],2,FALSE),"NÃO ENCONTRADO")))))) -> PLACA DE REGULAMENTAÇÃO EM AÇO, R1 LADO 0,497 M - PELÍCULA RETRORREFLETIVA TIPO III + SI - FORNECIMENTO E IMPLANTAÇÃO | E29: =IFERROR(VLOOKUP($C29,SICOR_JULHO2025[],3,FALSE),IFERROR(VLOOKUP($C29,SICRO_JULHO2025[],3,FALSE),IFERROR(VLOOKUP($C29,SINAPI_SERV_SET2025[],3,FALSE),IFERROR(VLOOKUP($C29,SINAPI_INSUMOS_SET2025[],3,FALSE),IFERROR(VLOOKUP($C29,SUDECAP_SERVICOS_JUL2025[],3,FALSE),IFERROR(VLOOKUP($C29,SUDECAP_INSUMOS_JUL2025[],3,FALSE),"NÃO ENCONTRADO")))))) -> UN | F29: 3 | G29: 1,0 UNI. NA ALAMEDA DOS AÇAÍS, 1,0 UNI. NA R. PEDRO MARQUES DE MORAIS, 1,0 UNI. NA RUA ARARA DA SERRA
A30: 5.2 | B30: SICRO-DNIT | C30: 5213858 | D30: =IFERROR(VLOOKUP($C30,SICOR_JULHO2025[],2,FALSE),IFERROR(VLOOKUP($C30,SICRO_JULHO2025[],2,FALSE),IFERROR(VLOOKUP($C30,SINAPI_SERV_SET2025[],2,FALSE),IFERROR(VLOOKUP($C30,SINAPI_INSUMOS_SET2025[],2,FALSE),IFERROR(VLOOKUP($C30,SUDECAP_SERVICOS_JUL2025[],2,FALSE),IFERROR(VLOOKUP($C30,SUDECAP_INSUMOS_JUL2025[],2,FALSE),"NÃO ENCONTRADO")))))) -> SUPORTE METÁLICO GALVANIZADO PARA PLACA DE REGULAMENTAÇÃO - R1 - LADO DE 0,497 M - FORNECIMENTO E IMPLANTAÇÃO | E30: =IFERROR(VLOOKUP($C30,SICOR_JULHO2025[],3,FALSE),IFERROR(VLOOKUP($C30,SICRO_JULHO2025[],3,FALSE),IFERROR(VLOOKUP($C30,SINAPI_SERV_SET2025[],3,FALSE),IFERROR(VLOOKUP($C30,SINAPI_INSUMOS_SET2025[],3,FALSE),IFERROR(VLOOKUP($C30,SUDECAP_SERVICOS_JUL2025[],3,FALSE),IFERROR(VLOOKUP($C30,SUDECAP_INSUMOS_JUL2025[],3,FALSE),"NÃO ENCONTRADO")))))) -> UN | F30: 3 | G30: 1,0 UNI. NA ALAMEDA DOS AÇAÍS, 1,0 UNI. NA R. PEDRO MARQUES DE MORAIS, 1,0 UNI. NA RUA ARARA DA SERRA
A31: 5.3 | B31: - | C31: CPU-001 | D31: PLACA DE IDENTIFICAÇÃO DE LOGRADOURO | E31: UN | F31: 6 | G31: 2,0 UNI. NA ALAMEDA DOS AÇAÍS,2,0 UNI. NA R. PEDRO MARQUES DE MORAIS, 2,0 UNI. NA RUA ARARA DA SERRA
A32: 6.0 | D32: MOBILIZAÇÃO E DESMOBILIZAÇÃO DE OBRA
A33: 6.1 | B33: SICOR-SEINFRA | C33: ED-50392 | D33: MOBILIZAÇÃO E DESMOBILIZAÇÃO DE OBRA EM CENTRO URBANO OU REGIÃO LIMÍTROFE COM VALOR ATÉ 1.000.000,00 | E33: %
A34: TOTAL
A35: TOTAL DA OBRA C/ BDI
D40: ='Planilha Orçamentária'!D42 -> RICARDO SANTOS SOARES | G40: RACLY ARAUJO ANDRADE
D41: ='Planilha Orçamentária'!D43 -> CREA 160878/D | G41: Prefeito Municipal de Jaboticatubas

Sheet Cronograma
A2: CRONOGRAMA FÍSICO-FINANCEIRO | E2: DATA: | G2: =TODAY() -> 46056
A3: ='Planilha Orçamentária'!A3:K3 -> PREFEITURA MUNICIPAL DE JABOTICATUBAS | E3: VALOR DO CONVÊNIO: | G3: =D20 -> 789470.88
A4: ='Planilha Orçamentária'!A4:E4 -> OBRA: CALÇAMENTO EM PAVIMENTO INTERTRAVADO | E4: PRAZO PREVISTO PARA EXECUÇÃO DA OBRA:
A5: ='Planilha Orçamentária'!A5:K5 -> LOCAL: RUA ARARA DA SERRA - DISTRITO DE SÃO JOSÉ DA SERRA, R. PEDRO MARQUES DE MORAIS - BAIRRO SANTO ANTÔNIO E ALAMEDA DOS AÇAÍS - BOSQUE DOS COQUEIROS
A6: ITEM | B6: ETAPAS/DESCRIÇÃO | C6: FÍSICO/ FINANCEIRO | D6: TOTAL ETAPAS | E6: MÊS 1 | F6: MÊS 2 | G6: MÊS 3 | H6: MÊS 4 | I6: MÊS 5 | J6: MÊS 6 | K6: MÊS 7
A7: 1.0 | B7: ='Planilha Orçamentária'!D10 -> SERVIÇOS PRELIMINARES | C7: Físico % | D7: =D8/$D$20 -> 0.034356961 | E7: 0.5 | F7: 0.5 | G7: 0 | H7: 0 | I7: 0 | J7: 0 | K7: 0
C8: Financeiro | D8: ='Planilha Orçamentária'!K10 -> 27123.82 | E8: =E7*$D$8 -> 13561.91 | F8: =F7*$D$8 -> 13561.91 | G8: =G7*$D$8 -> 0 | H8: =H7*$D$8 -> 0 | I8: =I7*$D$8 -> 0 | J8: =J7*$D$8 -> 0 | K8: =K7*$D$8 -> 0
A9: 2.0 | B9: ='Planilha Orçamentária'!D16 -> TERRAPLENAGEM | C9: Físico % | D9: =D10/$D$20 -> 0.12064539 | E9: 0.2 | F9: 0.3 | G9: 0.3 | H9: 0.2
C10: Financeiro | D10: ='Planilha Orçamentária'!K16 -> 95246.02 | E10: =E9*$D$10 -> 19049.204 | F10: =F9*$D$10 -> 28573.806 | G10: =G9*$D$10 -> 28573.806 | H10: =H9*$D$10 -> 19049.204 | I10: =I9*$D$10 -> 0 | J10: =J9*$D$10 -> 0 | K10: =K9*$D$10 -> 0
A11: 3.0 | B11: ='Planilha Orçamentária'!D21 -> PAVIMENTO INTERTRAVADO | C11: Físico % | D11: =D12/$D$20 -> 0.57434326 | G11: 0.2 | H11: 0.2 | I11: 0.2 | J11: 0.2 | K11: 0.2
C12: Financeiro | D12: ='Planilha Orçamentária'!K21 -> 453427.28 | E12: =E11*$D$12 -> 0 | F12: =F11*$D$12 -> 0 | G12: =G11*$D$12 -> 90685.456 | H12: =H11*$D$12 -> 90685.456 | I12: =I11*$D$12 -> 90685.456 | J12: =J11*$D$12 -> 90685.456 | K12: =K11*$D$12 -> 90685.456
A13: 4.0 | B13: ='Planilha Orçamentária'!D27 -> MEIO-FIO E SARJETA | C13: Físico % | D13: =D14/$D$20 -> 0.25844196 | F13: 0.2 | G13: 0.2 | H13: 0.2 | I13: 0.2 | J13: 0.2
C14: Financeiro | D14: ='Planilha Orçamentária'!K27 -> 204032.4 | E14: =E13*$D$14 -> 0 | F14: =F13*$D$14 -> 40806.48 | G14: =G13*$D$14 -> 40806.48 | H14: =H13*$D$14 -> 40806.48 | I14: =I13*$D$14 -> 40806.48 | J14: =J13*$D$14 -> 40806.48 | K14: =K13*$D$14 -> 0
A15: 5.0 | B15: ='Planilha Orçamentária'!D30 -> SINALIZAÇÃO VERTICAL | C15: Físico % | D15: =D16/$D$20 -> 0.0072376197 | K15: 1
C16: Financeiro | D16: ='Planilha Orçamentária'!K30 -> 5713.89 | E16: =E15*$D$16 -> 0 | F16: =F15*$D$16 -> 0 | G16: =G15*$D$16 -> 0 | H16: =H15*$D$16 -> 0 | I16: =I15*$D$16 -> 0 | J16: =J15*$D$16 -> 0 | K16: =K15*$D$16 -> 5713.89
A17: 6.0 | B17: ='Planilha Orçamentária'!D34 -> MOBILIZAÇÃO E DESMOBILIZAÇÃO DE OBRA | C17: Físico % | D17: =D18/$D$20 -> 0.004974813 | E17: 1
C18: Financeiro | D18: ='Planilha Orçamentária'!K34 -> 3927.47 | E18: =E17*$D$18 -> 3927.47 | F18: =F17*$D$18 -> 0 | G18: =G17*$D$18 -> 0 | H18: =H17*$D$18 -> 0 | I18: =I17*$D$18 -> 0 | J18: =J17*$D$18 -> 0 | K18: =K17*$D$18 -> 0
A19: TOTAL | C19: Físico % | D19: =D7+D9+D11+D13+D15+D17 -> 1 | E19: =E20/$D$20 -> 0.046282371 | F19: =F20/$D$20 -> 0.10506049 | G19: =G20/$D$20 -> 0.20275066 | H19: =H20/$D$20 -> 0.19068612 | I19: =I20/$D$20 -> 0.16655704 | J19: =J20/$D$20 -> 0.16655704 | K19: =K20/$D$20 -> 0.12210627
C20: Financeiro | D20: =D8+D10+D12+D14+D16+D18 -> 789470.88 | E20: =E8+E10+E12+E14+E16+E18 -> 36538.584 | F20: =F8+F10+F12+F14+F16+F18 -> 82942.196 | G20: =G8+G10+G12+G14+G16+G18 -> 160065.74 | H20: =H8+H10+H12+H14+H16+H18 -> 150541.14 | I20: =I8+I10+I12+I14+I16+I18 -> 131491.94 | J20: =J8+J10+J12+J14+J16+J18 -> 131491.94 | K20: =K8+K10+K12+K14+K16+K18 -> 96399.346
B24: ='Planilha Orçamentária'!D42 -> RICARDO SANTOS SOARES
B25: ='Planilha Orçamentária'!D43 -> CREA 160878/D
B26: ='Planilha Orçamentária'!D44 -> 0
B30: RACLY ARAUJO ANDRADE
B31: Prefeito Municipal de Jaboticatubas

Sheet BDI-SEM DESONERAÇÃO
A1: DEMONSTRATIVO DO BDI - SEM DESONERAÇÃO - OBRA RODOVIÁRIA
A3: BDI (CONFORME ACÓRDÃO Nº 2622/13 e LEI Nº 13.161 DE 31/08/15)
A4: DISCRIMINAÇÃO DAS PARCELAS | B4: SIG. (1) | C4: CONSTRUÇÃO DE RODOVIAS E FERROVIAS | J4: INC. (6)
C5: ISS (2) | G5: DIFERENCIADO
C6: 0.02 | D6: 0.03 | E6: 0.04 | F6: 0.05 | G6: MATERIAL (5) | H6: SERVIÇO TERCEIRIZADO (4) (ISS=5%) | I6: EQUIPAMENTO (3) (ISS=5%)
A7: CUSTO DIRETO | B7: CD | C7: 1 | D7: 1 | E7: 1 | F7: 1 | G7: 1 | H7: 1 | I7: 1
A8: ADMINISTRAÇÃO CENTRAL | B8: AC | C8: 0.0467 | D8: 0.0467 | E8: 0.0467 | F8: 0.0467 | G8: 0.0342 | H8: 0.0401 | I8: 0.0342 | J8: CD
A9: LUCRO BRUTO | B9: L | C9: 0.0753 | D9: 0.0753 | E9: 0.0753 | F9: 0.0753 | G9: 0.0494 | H9: 0.0664 | I9: 0.0494 | J9: CD
A10: DESPESAS FINANCEIRAS | B10: DF | C10: 0.010477 | D10: 0.010477 | E10: 0.010477 | F10: 0.010477 | G10: 0.010477 | H10: 0.010477 | I10: 0.010477 | J10: CD
A11: SEGUROS, GARANTIAS E RISCO | C11: =SUM(C12:C13) -> 0.0171 | D11: =SUM(D12:D13) -> 0.0171 | E11: =SUM(E12:E13) -> 0.0171 | F11: =SUM(F12:F13) -> 0.0171 | G11: =SUM(G12:G13) -> 0.0129 | H11: =SUM(H12:H13) -> 0.0082 | I11: =SUM(I12:I13) -> 0.0129 | J11: CD
A12: SEGUROS + GARANTIAS | B12: S | C12: 0.0074 | D12: 0.0074 | E12: 0.0074 | F12: 0.0074 | G12: 0.0053 | H12: 0.0032 | I12: 0.0053 | J12: CD
A13: RISCO(*) | B13: R | C13: 0.0097 | D13: 0.0097 | E13: 0.0097 | F13: 0.0097 | G13: 0.0076 | H13: 0.005 | I13: 0.0076 | J13: CD
A14: TRIBUTOS | B14: I | C14: =SUM(C15:C17) -> 0.0505 | D14: =SUM(D15:D17) -> 0.0575 | E14: =SUM(E15:E17) -> 0.0645 | F14: =SUM(F15:F17) -> 0.0715 | G14: =SUM(G15:G17) -> 0.0365 | H14: =SUM(H15:H17) -> 0.0615 | I14: =SUM(I15:I17) -> 0.0615 | J14: PV
A15: ISS | B15: ISS(2) | C15: 0.014 | D15: 0.021 | E15: 0.028 | F15: 0.035 | G15: - | H15: 0.025 | I15: 0.025 | J15: PV
A16: PIS | B16: PIS | C16: 0.0065 | D16: 0.0065 | E16: 0.0065 | F16: 0.0065 | G16: 0.0065 | H16: 0.0065 | I16: 0.0065 | J16: PV
A17: COFINS | B17: - | C17: 0.03 | D17: 0.03 | E17: 0.03 | F17: 0.03 | G17: 0.03 | H17: 0.03 | I17: 0.03 | J17: PV
A18: CPRB (7) | B18: INSS | C18: 0 | D18: 0 | E18: 0 | F18: 0 | G18: 0 | H18: 0 | I18: 0 | J18: PV
A20: FÓRMULA DO BDI | C20: (1 + (AC + S + G + R)) x (1 + DF) x (1 + L)
C21: (1 - (I + CPRB))
A22: BDI (NUMERADOR) | C22: =(1+(C8+C11))*(1+C10)*(1+C9)-1 -> 0.15588882 | D22: =(1+(D8+D11))*(1+D10)*(1+D9)-1 -> 0.15588882 | E22: =(1+(E8+E11))*(1+E10)*(1+E9)-1 -> 0.15588882 | F22: =(1+(F8+F11))*(1+F10)*(1+F9)-1 -> 0.15588882 | G22: =(1+(G8+G11))*(1+G10)*(1+G9)-1 -> 0.11033915 | H22: =(1+(H8+H11))*(1+H10)*(1+H9)-1 -> 0.12961943 | I22: =(1+(I8+I11))*(1+I10)*(1+I9)-1 -> 0.11033915
A23: BDI (DENOMINADOR) | C23: =(1-(C14+C18)) -> 0.9495 | D23: =(1-(D14+D18)) -> 0.9425 | E23: =(1-(E14+E18)) -> 0.9355 | F23: =(1-(F14+F18)) -> 0.9285 | G23: =(1-(G14+G18)) -> 0.9635 | H23: =(1-(H14+H18)) -> 0.9385 | I23: =(1-(I14+I18)) -> 0.9385
A24: BDI | C24: =ROUND((1+C22)/C23-1,4) -> 0.2174 | D24: =ROUND((1+D22)/D23-1,4) -> 0.2264 | E24: =ROUND((1+E22)/E23-1,4) -> 0.2356 | F24: =ROUND((1+F22)/F23-1,4) -> 0.2449 | G24: =ROUND((1+G22)/G23-1,4) -> 0.1524 | H24: =(1+H22)/H23-1 -> 0.20364351 | I24: =(1+I22)/I23-1 -> 0.18309978
A25: OBSERVAÇÕES
A26: (1) SIGLA. (2) INCIDÊNCIA DE ISS EM 70% DO PREÇO DE VENDA, COM PERCENTUAIS DE 2%, 3%, 4% E 5%. (3) BDI DIFERENCIADO A SER APLICADO EM LOCAÇÃO DE CUSTO HORÁRIO DE EQUIPAMENTO. (4) BDI DIFERENCIADO A SER APLICADO PARA SERVIÇOS TERCEIRIZADOS. (5) BDI DIFERENCIADO A SER APLICADO PARA FORNECIMENTO DE MATERIAL BETUMINOSO E MATERIAL DE JAZIDA. (6) INCIDÊNCIA. (7) TRANSIÇÃO DESONERAÇÃO LEI Nº 14.973, DE 16 DE SETEMBRO DE 2024.
A27: *Informamos que está em análise o pleito apresentado pelo Ofício nº 042/24-S, do Sindicato da Indústria da Construção Pesada de Minas Gerais (SICEPOT-MG), referente ao posicionamento do colegiado da Segunda Turma do Superior Tribunal de Justiça (STJ), no AREsp nº 2.486.358/SP, relatado pelo Ministro Herman Benjamin, julgado em 13/05/2024, com publicação no DJe de 29/05/2024, que versa sobre a aplicação da dedução na base de cálculo do Imposto Sobre Serviços de Qualquer Natureza (ISSQN).

Sheet Aferição de Áreas 
A2: QUADRO DE AFERIÇÃO DE ÁREAS
A3: ='Planilha Orçamentária'!A3:K3 -> PREFEITURA MUNICIPAL DE JABOTICATUBAS
A4: ='Planilha Orçamentária'!A4:E4 -> OBRA: CALÇAMENTO EM PAVIMENTO INTERTRAVADO
