Workbook
Name _AA100000: #REF!
Name _Fill: #REF!
Name _LOC10: #REF!
Name _LOC11: #REF!
Name _LOC12: #REF!
Name _LOC13: #REF!
Name _LOC14: #REF!
Name _LOC15: #REF!
Name _LOC16: #REF!
Name _LOC17: #REF!
Name _LOC18: #REF!
Name _LOC19: #REF!
Name _LOC2: #REF!
Name _LOC20: #REF!
Name _LOC21: #REF!
Name _LOC22: #REF!
Name _LOC23: #REF!
Name _LOC24: #REF!
Name _LOC25: #REF!
Name _LOC26: #REF!
Name _LOC27: #REF!
Name _LOC28: #REF!
Name _LOC29: #REF!
Name _LOC3: #REF!
Name _LOC30: #REF!
Name _LOC31: #REF!
Name _LOC32: #REF!
Name _LOC33: #REF!
Name _LOC34: #REF!
Name _LOC35: #REF!
Name _LOC36: #REF!
Name _LOC37: #REF!
Name _LOC38: #REF!
Name _LOC39: #REF!
Name _LOC4: #REF!
Name _LOC40: #REF!
Name _LOC41: #REF!
Name _LOC42: #REF!
Name _LOC5: #REF!
Name _LOC6: #REF!
Name _LOC7: #REF!
Name _LOC8: #REF!
Name _LOC9: #REF!
Name _R: #REF!
Name AAA: #REF!
Name AC: #REF!
Name AL: #REF!
Name Área_impressão_IM: #REF!
Name B.01.05.10.10: #REF!
Name CD: #REF!
Name CP: #REF!
Name CS: #REF!
Name CT: #REF!
Name EV: #REF!
Name IC: #REF!
Name IMPR: #REF!
Name IMPR1: #REF!
Name IS: #REF!
Name LB: #REF!
Name MACROS: #REF!

Sheet Planilha Orcamentaria
A4: PLANILHA ORÇAMENTÁRIA DE CUSTOS
A6: PREFEITURA: PREFEITURA DE JABOTICATUBAS - MG | F6: FOLHA Nº: 01/01
A7: PROGRAMA: ESPORTE LED - SEDESE - MG | F7: DATA: 12/11/2025
A8: LOCAL: RUA ALCINO GONÇALVES – SÔ DUCA – CURRALINHO - ZONA RURAL – CEP: 35835-000 – DISTRITO DE SÃO JOSÉ DO ALMEIDA E AVENIDA DOM ORIONE, S/N – CAPÃO GROSSO – ZONA RURAL, MUNICÍPIO JABOTICATUBAS, MG, CEP: 35835-000 | E8: FORMA DE EXECUÇÃO:
A9: REGIÃO/MÊS DE REFERÊNCIA: SETOP Região Central/Julho 2025 (COM DESONERAÇÃO) | E9: ( ) | F9: DIRETA | G9: (X) | H9: INDIRETA
A10: PRAZO DE EXECUÇÃO: 03 meses | G10: BDI | H10: 0.2834
A12: ITEM | B12: CÓDIGO | C12: DESCRIÇÃO | D12: UNIDADE | E12: QUANTIDADE | F12: PREÇO UNITÁRIO S/ BDI | G12: PREÇO UNITÁRIO C/ BDI | H12: PREÇO TOTAL
B13: CAMPO DA COMUNIDADE DE CURRALINHO
A14: 1 | C14: SERVIÇOS PRELIMINARES | G14: =ROUND(F14+(F14*$H$10),2) -> 0 | H14: =ROUND((E14*G14),2) -> 0
A15: 1.1 | B15: ED-28429 | C15: FORNECIMENTO E COLOCAÇÃO DE PLACA DE OBRA EM CHAPA GALVANIZADA #26, ESP. 0,45MM, DIMENSÃO (6X3)M, PLOTADA COM ADESIVO VINÍLICO, AFIXADA COM REBITES 4,8X40MM, EM ESTRUTURA METÁLICA DE METALON 20X20MM, ESP. 1,25MM, INCLUSIVE SUPORTE EM EUCALIPTO AUTOCLAVADO PINTADO COM TINTA PVA DUAS (2) DEMÃOS | D15: Unidade | E15: 1 | F15: 4522.68 | G15: =ROUND(F15+(F15*$H$10),2) -> 5804.41 | H15: =ROUND((E15*G15),2) -> 5804.41 | J15: 0
C16: Total item 01 | G16: =ROUND(F16+(F16*$H$10),2) -> 0 | H16: =SUM(H15) -> 5804.41
A17: 2 | C17: EXECUÇÃO DA REDE ENTERRADA,E CAIXAS DE PASSAGEM | G17: =ROUND(F17+(F17*$H$10),2) -> 0 | H17: =ROUND((E17*G17),2) -> 0
A18: 2.1 | B18: ED-51110 | C18: ESCAVAÇÃO MANUAL DE TERRA (DESATERRO MANUAL), INCLUSIVE DESCARGA LATERAL, EXCLUSIVE RETIRADA E TRANSPORTE DO MATERIAL ESCAVADO | D18: M3 | E18: 44.86 | F18: 41.84 | G18: =ROUND(F18+(F18*$H$10),2) -> 53.7 | H18: =ROUND((E18*G18),2) -> 2408.98
A19: 2.2 | B19: ED-51094 | C19: APILOAMENTO MECANIZADO EM FUNDO DE VALA COM PLACA VIBRATÓRIA, EXCLUSIVE ESCAVAÇÃO | D19: M2 | E19: 64.08 | F19: 13.69 | G19: =ROUND(F19+(F19*$H$10),2) -> 17.57 | H19: =ROUND((E19*G19),2) -> 1125.89
A20: 2.3 | B20: ED-51121 | C20: REATERRO MANUAL DE VALA, INCLUSIVE ESPALHAMENTO E COMPACTAÇÃO MECANIZADA COM PLACA VIBRATÓRIA | D20: M3 | E20: 29.9 | F20: 46.38 | G20: =ROUND(F20+(F20*$H$10),2) -> 59.52 | H20: =ROUND((E20*G20),2) -> 1779.65
A21: 2.4 | B21: CPU 01 | C21: CAIXA DE PASSAGEM EM ALVENARIA E TAMPA DE CONCRETO, FUNDO DE BRITA, TIPO 0,50X0,4X0,4 CM, INCLUSIVE ESCAVAÇÃO, REATERRO E BOTA FORA | D21: Unidade | E21: 10 | F21: 134.85 | G21: =ROUND(F21+(F21*$H$10),2) -> 173.07 | H21: =ROUND((E21*G21),2) -> 1730.7
C22: Total item 02 | G22: =ROUND(F22+(F22*$H$10),2) -> 0 | H22: =SUM(H18:H21) -> 7045.22
A23: 3 | C23: INSTALAÇÕES ELÉTRICAS | G23: =ROUND(F23+(F23*$H$10),2) -> 0 | H23: =ROUND((E23*G23),2) -> 0
A24: 3.1 | B24: ED-34475 | C24: DISJUNTOR BIPOLAR TERMOMAGNÉTICO 5KA, DE 20A | D24: Unidade | E24: 6 | F24: 45.68 | G24: =ROUND(F24+(F24*$H$10),2) -> 58.63 | H24: =ROUND((E24*G24),2) -> 351.78
A25: 3.2 | B25: CPU 04 | C25: DISJUNTOR TRIPOLAR TERMOMAGNÉTICO 5KA, DE 125A | D25: Unidade | E25: 1 | F25: 490.64 | G25: =ROUND(F25+(F25*$H$10),2) -> 629.69 | H25: =ROUND((E25*G25),2) -> 629.69
A26: 3.3 | B26: ED-22383 | C26: POSTE DE CONCRETO, ALTURA LIVRE DE 10M, COM 10 REFLETORES DE LED, POTÊNCIA DE 300W CADA, INCLUSIVE FIAÇÃO, SUPORTE E FUNDAÇÃO | D26: Unidade | E26: 6 | F26: 5287.44 | G26: =ROUND(F26+(F26*$H$10),2) -> 6785.9 | H26: =ROUND((E26*G26),2) -> 40715.4
A27: 3.4 | B27: ED-48966 | C27: CABO DE COBRE FLEXÍVEL, CLASSE 5, ISOLAMENTO TIPO LSHF/ATOX, NÃO HALOGENADO, ANTICHAMA, TERMOPLÁSTICO, UNIPOLAR, SEÇÃO 10 MM2, 70°C, 450/750V | D27: M | E27: 1049.3 | F27: 14.95 | G27: =ROUND(F27+(F27*$H$10),2) -> 19.19 | H27: =ROUND((E27*G27),2) -> 20136.07
A28: 3.5 | B28: ED-49007 | C28: CABO UNIPOLAR DE COBRE FLEXÍVEL, CLASSE 5, ISOLAMENTO TIPO EPR/HEPR, NÃO HALOGENADO E ANTICHAMA, DIÂMETRO DA SEÇÃO DE 35MM2, TEMPERATURA DE TRABALHO 90°C, TENSÃO NOMINAL DE OPERAÇÃO 0,6/1KV | D28: M | E28: 72.4 | F28: 44.63 | G28: =ROUND(F28+(F28*$H$10),2) -> 57.28 | H28: =ROUND((E28*G28),2) -> 4147.07
A29: 3.6 | B29: ED-48961 | C29: CABO DE COBRE FLEXÍVEL, CLASSE 5, ISOLAMENTO TIPO LSHF/ATOX, NÃO HALOGENADO, ANTICHAMA, TERMOPLÁSTICO, UNIPOLAR, SEÇÃO 6 MM2, 70°C, 450/750V | D29: M | E29: =(24.3*4+12.2*2+23.7+34.7+17+1.5)*3+24.3*2 -> 644.1 | F29: 8.55 | G29: =ROUND(F29+(F29*$H$10),2) -> 10.97 | H29: =ROUND((E29*G29),2) -> 7065.78
A30: 3.7 | B30: ED-7252 | C30: ELETRODUTO FLEXÍVEL, EM AÇO GALVANIZADO, DIÂMETRO DE 50MM (2"), REVESTIDO EXTERNAMENTE COM PVC, NA COR PRETA, INCLUSIVE ACESSÓRIOS PARA FIXAÇÃO E CONEXÕES | D30: m | E30: 181.5 | F30: 42.62 | G30: =ROUND(F30+(F30*$H$10),2) -> 54.7 | H30: =ROUND((E30*G30),2) -> 9928.05
A31: 3.8 | B31: ED-7253 | C31: ELETRODUTO FLEXÍVEL, EM AÇO GALVANIZADO, DIÂMETRO DE 60MM (2.1/2"), REVESTIDO EXTERNAMENTE COM PVC, NA COR PRETA, INCLUSIVE ACESSÓRIOS PARA FIXAÇÃO E CONEXÕES | D31: m | E31: 36.6 | F31: 64.27 | G31: =ROUND(F31+(F31*$H$10),2) -> 82.48 | H31: =ROUND((E31*G31),2) -> 3018.77
A32: 3.9 | B32: ED-20582 | C32: ENTRADA DE ENERGIA AÉREA, TIPO C2, PADRÃO CEMIG, CARGA INSTALADA DE 15,1KVA ATÉ 23KVA, TRIFÁSICO, COM SAÍDA SUBTERRÂNEA, INCLUSIVE POSTE, CAIXA PARA MEDIDOR, DISJUNTOR, BARRAMENTO, ATERRAMENTO E ACESSÓRIOS | D32: Unidade | E32: 1 | F32: 2893.3 | G32: =ROUND(F32+(F32*$H$10),2) -> 3713.26 | H32: =ROUND((E32*G32),2) -> 3713.26
A33: 3.10 | B33: ED-14186 | C33: QUADRO DE DISTRIBUIÇÃO DE EMBUTIR EM CHAPA, PARA 16 DISJUNTORES DIN, INCLUSIVE BARRAMENTOS NEUTRO/TERRA E BARRAMENTO TRIFÁSICO DE 100A | D33: Unidade | E33: 1 | F33: 469.56 | G33: =ROUND(F33+(F33*$H$10),2) -> 602.63 | H33: =ROUND((E33*G33),2) -> 602.63
A34: 3.11 | B34: CPU 06 | C34: ESTRUTURA PARA INSTALAR O QUADRO DE DISTRIBUIÇÃO, EM ALVENARIA REVESTIDA, INCLUSIVE INSTALAÇÃO | D34: Unidade | E34: 1 | F34: 311.35 | G34: =ROUND(F34+(F34*$H$10),2) -> 399.59 | H34: =ROUND((E34*G34),2) -> 399.59
C35: Total item 03 | G35: =ROUND(F35+(F35*$H$10),2) -> 0 | H35: =SUM(H24:H34) -> 90708.09
A36: SUB TOTAL | H36: =SUM(H35,H22,H16) -> 103557.72
B37: CAMPO DA COMUNIDADE DE CAPÃO GROSSO
A38: 4 | C38: SERVIÇOS PRELIMINARES | G38: =ROUND(F38+(F38*$H$10),2) -> 0 | H38: =ROUND((E38*G38),2) -> 0
A39: 4.1 | B39: ED-28429 | C39: FORNECIMENTO E COLOCAÇÃO DE PLACA DE OBRA EM CHAPA GALVANIZADA #26, ESP. 0,45MM, DIMENSÃO (6X3)M, PLOTADA COM ADESIVO VINÍLICO, AFIXADA COM REBITES 4,8X40MM, EM ESTRUTURA METÁLICA DE METALON 20X20MM, ESP. 1,25MM, INCLUSIVE SUPORTE EM EUCALIPTO AUTOCLAVADO PINTADO COM TINTA PVA DUAS (2) DEMÃOS | D39: Unidade | E39: 1 | F39: 4522.68 | G39: =ROUND(F39+(F39*$H$10),2) -> 5804.41 | H39: =ROUND((E39*G39),2) -> 5804.41 | J39: 0
C40: Total item 04 | G40: =ROUND(F40+(F40*$H$10),2) -> 0 | H40: =SUM(H39) -> 5804.41
A41: 5 | C41: EXECUÇÃO DA REDE ENTERRADA,E CAIXAS DE PASSAGEM | G41: =ROUND(F41+(F41*$H$10),2) -> 0 | H41: =ROUND((E41*G41),2) -> 0
A42: 5.1 | B42: ED-51110 | C42: ESCAVAÇÃO MANUAL DE TERRA (DESATERRO MANUAL), INCLUSIVE DESCARGA LATERAL, EXCLUSIVE RETIRADA E TRANSPORTE DO MATERIAL ESCAVADO | D42: M3 | E42: =(27.1*4+13.6+14+27+25+24.8+22.9)*0.7*0.3 -> 49.497 | F42: 41.84 | G42: =ROUND(F42+(F42*$H$10),2) -> 53.7 | H42: =ROUND((E42*G42),2) -> 2657.99
A43: 5.2 | B43: ED-51094 | C43: APILOAMENTO MECANIZADO EM FUNDO DE VALA COM PLACA VIBRATÓRIA, EXCLUSIVE ESCAVAÇÃO | D43: M2 | E43: =(27.1*4+13.6+14+27+25+24.8+22.9)*0.3 -> 70.71 | F43: 13.69 | G43: =ROUND(F43+(F43*$H$10),2) -> 17.57 | H43: =ROUND((E43*G43),2) -> 1242.37
A44: 5.3 | B44: ED-51121 | C44: REATERRO MANUAL DE VALA, INCLUSIVE ESPALHAMENTO E COMPACTAÇÃO MECANIZADA COM PLACA VIBRATÓRIA | D44: M3 | E44: =(27.1*4+13.6+14+27+25+24.8+22.9)*0.2*0.7 -> 32.998 | F44: 46.38 | G44: =ROUND(F44+(F44*$H$10),2) -> 59.52 | H44: =ROUND((E44*G44),2) -> 1964.04
A45: 5.4 | B45: CPU 01 | C45: CAIXA DE PASSAGEM EM ALVENARIA E TAMPA DE CONCRETO, FUNDO DE BRITA, TIPO 0,50X0,4X0,4 CM, INCLUSIVE ESCAVAÇÃO, REATERRO E BOTA FORA | D45: Unidade | E45: 10 | F45: 134.85 | G45: =ROUND(F45+(F45*$H$10),2) -> 173.07 | H45: =ROUND((E45*G45),2) -> 1730.7
C46: Total item 05 | G46: =ROUND(F46+(F46*$H$10),2) -> 0 | H46: =SUM(H42:H45) -> 7595.1
A47: 6 | C47: INSTALAÇÕES ELÉTRICAS | G47: =ROUND(F47+(F47*$H$10),2) -> 0 | H47: =ROUND((E47*G47),2) -> 0
A48: 6.1 | B48: ED-34475 | C48: DISJUNTOR BIPOLAR TERMOMAGNÉTICO 5KA, DE 20A | D48: Unidade | E48: 6 | F48: 45.68 | G48: =ROUND(F48+(F48*$H$10),2) -> 58.63 | H48: =ROUND((E48*G48),2) -> 351.78
A49: 6.2 | B49: CPU 04 | C49: DISJUNTOR TRIPOLAR TERMOMAGNÉTICO 5KA, DE 125A | D49: Unidade | E49: 1 | F49: 490.64 | G49: =ROUND(F49+(F49*$H$10),2) -> 629.69 | H49: =ROUND((E49*G49),2) -> 629.69
A50: 6.3 | B50: ED-22383 | C50: POSTE DE CONCRETO, ALTURA LIVRE DE 10M, COM 10 REFLETORES DE LED, POTÊNCIA DE 300W CADA, INCLUSIVE FIAÇÃO, SUPORTE E FUNDAÇÃO | D50: Unidade | E50: 6 | F50: 5287.44 | G50: =ROUND(F50+(F50*$H$10),2) -> 6785.9 | H50: =ROUND((E50*G50),2) -> 40715.4
A51: 6.4 | B51: ED-48966 | C51: CABO DE COBRE FLEXÍVEL, CLASSE 5, ISOLAMENTO TIPO LSHF/ATOX, NÃO HALOGENADO, ANTICHAMA, TERMOPLÁSTICO, UNIPOLAR, SEÇÃO 10 MM2, 70°C, 450/750V | D51: M | E51: =(27.1*2+13.6+14+27+25+24.8+1.5)*7 -> 1120.7 | F51: 14.95 | G51: =ROUND(F51+(F51*$H$10),2) -> 19.19 | H51: =ROUND((E51*G51),2) -> 21506.23
A52: 6.5 | B52: ED-49007 | C52: CABO UNIPOLAR DE COBRE FLEXÍVEL, CLASSE 5, ISOLAMENTO TIPO EPR/HEPR, NÃO HALOGENADO E ANTICHAMA, DIÂMETRO DA SEÇÃO DE 35MM2, TEMPERATURA DE TRABALHO 90°C, TENSÃO NOMINAL DE OPERAÇÃO 0,6/1KV | D52: M | E52: =(22.9+1.5)*4 -> 97.6 | F52: 44.63 | G52: =ROUND(F52+(F52*$H$10),2) -> 57.28 | H52: =ROUND((E52*G52),2) -> 5590.53
A53: 6.6 | B53: ED-48961 | C53: CABO DE COBRE FLEXÍVEL, CLASSE 5, ISOLAMENTO TIPO LSHF/ATOX, NÃO HALOGENADO, ANTICHAMA, TERMOPLÁSTICO, UNIPOLAR, SEÇÃO 6 MM2, 70°C, 450/750V | D53: M | E53: =(27.1*2+13.6+14+27+25+24.8+1.5)*3+27.1*2 -> 534.5 | F53: 8.55 | G53: =ROUND(F53+(F53*$H$10),2) -> 10.97 | H53: =ROUND((E53*G53),2) -> 5863.47
A54: 6.7 | B54: ED-7252 | C54: ELETRODUTO FLEXÍVEL, EM AÇO GALVANIZADO, DIÂMETRO DE 50MM (2"), REVESTIDO EXTERNAMENTE COM PVC, NA COR PRETA, INCLUSIVE ACESSÓRIOS PARA FIXAÇÃO E CONEXÕES | D54: m | E54: =27.1*4+13.6+14+27+25+1.5 -> 189.5 | F54: 42.62 | G54: =ROUND(F54+(F54*$H$10),2) -> 54.7 | H54: =ROUND((E54*G54),2) -> 10365.65
A55: 6.8 | B55: ED-7253 | C55: ELETRODUTO FLEXÍVEL, EM AÇO GALVANIZADO, DIÂMETRO DE 60MM (2.1/2"), REVESTIDO EXTERNAMENTE COM PVC, NA COR PRETA, INCLUSIVE ACESSÓRIOS PARA FIXAÇÃO E CONEXÕES | D55: m | E55: 50.7 | F55: 64.27 | G55: =ROUND(F55+(F55*$H$10),2) -> 82.48 | H55: =ROUND((E55*G55),2) -> 4181.74
A56: 6.9 | B56: ED-20582 | C56: ENTRADA DE ENERGIA AÉREA, TIPO C2, PADRÃO CEMIG, CARGA INSTALADA DE 15,1KVA ATÉ 23KVA, TRIFÁSICO, COM SAÍDA SUBTERRÂNEA, INCLUSIVE POSTE, CAIXA PARA MEDIDOR, DISJUNTOR, BARRAMENTO, ATERRAMENTO E ACESSÓRIOS | D56: Unidade | E56: 1 | F56: 2893.3 | G56: =ROUND(F56+(F56*$H$10),2) -> 3713.26 | H56: =ROUND((E56*G56),2) -> 3713.26
A57: 6.10 | B57: ED-14186 | C57: QUADRO DE DISTRIBUIÇÃO DE EMBUTIR EM CHAPA, PARA 16 DISJUNTORES DIN, INCLUSIVE BARRAMENTOS NEUTRO/TERRA E BARRAMENTO TRIFÁSICO DE 100A | D57: Unidade | E57: 1 | F57: 469.56 | G57: =ROUND(F57+(F57*$H$10),2) -> 602.63 | H57: =ROUND((E57*G57),2) -> 602.63
A58: 6.11 | B58: CPU 06 | C58: ESTRUTURA PARA INSTALAR O QUADRO DE DISTRIBUIÇÃO, EM ALVENARIA REVESTIDA, INCLUSIVE INSTALAÇÃO | D58: Unidade | E58: 1 | F58: 311.35 | G58: =ROUND(F58+(F58*$H$10),2) -> 399.59 | H58: =ROUND((E58*G58),2) -> 399.59
C59: Total item 06 | G59: =ROUND(F59+(F59*$H$10),2) -> 0 | H59: =SUM(H48:H58) -> 93919.97
A60: 7 | C60: REFORMA DO VESTIÁRIO | G60: =ROUND(F60+(F60*$H$10),2) -> 0 | H60: =ROUND((E60*G60),2) -> 0
A61: 7.1 | B61: ED-50505 | C61: LIXAMENTO MANUAL EM PAREDE PARA REMOÇÃO DE TINTA | D61: m² | E61: 184.34 | F61: 3.13 | G61: =F61*(1+H$10) -> 4.017042 | H61: =ROUND(E61*G61,2) -> 740.5
A62: 7.2 | B62: ED-50507 | C62: LIXAMENTO MANUAL EM SUPERFÍCIE DE MADEIRA PARA REMOÇÃO DE TINTA E/OU VERNIZ | D62: m² | E62: =5*0.7*1.5*2 -> 10.5 | F62: 4.74 | G62: =F62*(1+H$10) -> 6.083316 | H62: =ROUND(E62*G62,2) -> 63.87
A63: 7.3 | B63: ED-50478 | C63: EMASSAMENTO EM PAREDE COM MASSA CORRIDA (PVA), DUAS (2) DEMÃOS, INCLUSIVE LIXAMENTO PARA PINTURA | D63: m² | E63: =E61 -> 184.34 | F63: 19.43 | G63: =F63*(1+H$10) -> 24.936462 | H63: =ROUND(E63*G63,2) -> 4596.79
A64: 7.4 | B64: ED-50451 | C64: PINTURA ACRÍLICA EM PAREDE, DUAS (2) DEMÃOS, COM APLICAÇÃO MANUAL, EXCLUSIVE SELADOR ACRÍLICO E MASSA ACRÍLICA/CORRIDA (PVA) | D64: m² | E64: =E63-E65 -> 139.14 | F64: 15.43 | G64: =F64*(1+H$10) -> 19.802862 | H64: =ROUND(E64*G64,2) -> 2755.37
A65: 7.5 | B65: ED-50452 | C65: PINTURA ACRÍLICA EM TETO, DUAS (2) DEMÃOS, COM APLICAÇÃO MANUAL, EXCLUSIVE SELADOR ACRÍLICO E MASSA ACRÍLICA/CORRIDA (PVA) | D65: m² | E65: =45.2 -> 45.2 | F65: 19.47 | G65: =F65*(1+H$10) -> 24.987798 | H65: =ROUND(E65*G65,2) -> 1129.45
A66: 7.6 | B66: ED-50527 | C66: PINTURA COM VERNIZ SINTÉTICO MARÍTIMO EM ESQUADRIAS DE MADEIRA, DUAS (2) DEMÃOS, ACABAMENTO TIPO ACETINADO (BRILHO SÚTIL), COM APLICAÇÃO MANUAL, INCLUSIVE PREPARAÇÃO DA SUPERFÍCIE COM LIXAMENTO | D66: m² | E66: =E62 -> 10.5 | F66: 22.87 | G66: =F66*(1+H$10) -> 29.351358 | H66: =ROUND(E66*G66,2) -> 308.19
A67: 7.7 | B67: ED-50514 | C67: PREPARAÇÃO PARA EMASSAMENTO OU PINTURA (LÁTEX/ACRÍLICA) EM PAREDE, INCLUSIVE UMA (1) DEMÃO DE SELADOR ACRÍLICO | D67: m² | E67: =E63 -> 184.34 | F67: 7.17 | G67: =F67*(1+H$10) -> 9.201978 | H67: =ROUND(E67*G67,2) -> 1696.29
A68: 7.8 | B68: ED-9934 | C68: PINTURA EPÓXI EM PISO, DUAS (2) DEMÃOS, COM APLICAÇÃO MANUAL, INCLUSIVE UMA (1) DEMÃO DE PRIMER EPÓXI | D68: m² | E68: 17.18 | F68: 55.49 | G68: =F68*(1+H$10) -> 71.215866 | H68: =ROUND(E68*G68,2) -> 1223.49
A69: 7.9 | B69: ED-50310 | C69: BRAÇO PARA CHUVEIRO, COMPRIMENTO 40 CM, DIÂMETRO NOMINAL DE 1/2" (20MM), INCLUSIVE ACABAMENTO | D69: Unidade | E69: =4*2 -> 8 | F69: 26.55 | G69: =ROUND(F69+(F69*$H$10),2) -> 34.07 | H69: =ROUND((E69*G69),2) -> 272.56
A70: 7.10 | B70: ED-16344 | C70: CHUVEIRO ELÉTRICO BRANCO, TENSÃO 127V/220V, POTÊNCIA 4600W/5500W, INCLUSIVE BRAÇO/CANO | D70: Unidade | E70: =E69 -> 8 | F70: 131.14 | G70: =ROUND(F70+(F70*$H$10),2) -> 168.31 | H70: =ROUND((E70*G70),2) -> 1346.48
A71: 7.11 | B71: ED-29479 | C71: PORTA VENEZIANA EM ALUMÍNIO COMPLETA, DIMENSÃO (80X210) CM, TIPO DE ABRIR, COM UMA (1) FOLHA, LINHA 25/SUPREMA, ACABAMENTO ANODIZADO NATURAL, INCLUSIVE PERFIS, FERRAGENS E INSTALAÇÃO | D71: Unidade | E71: 2 | F71: 1758.86 | G71: =ROUND(F71+(F71*$H$10),2) -> 2257.32 | H71: =ROUND((E71*G71),2) -> 4514.64
A72: 7.12 | B72: ED-49943 | C72: GRELHA EM FERRO FUNDIDO COM CAIXILHO, DIMENSÃO (15X15) CM, INCLUSIVE ASSENTAMENTO DE CAIXILHO, EXCLUSIVE CAIXA COLETORA | D72: Unidade | E72: 5 | F72: 48.19 | G72: =ROUND(F72+(F72*$H$10),2) -> 61.85 | H72: =ROUND((E72*G72),2) -> 309.25
A73: 7.13 | B73: ED-15446 | C73: BANCO EM CONCRETO APARENTE, SEM ENCOSTO, POLIDO COM ACABAMENTO EM VERNIZ, ESP. 8CM, COMPRIMENTO 200CM, LARGURA 40CM, ALTURA 55CM, INCLUSIVE CORTE NO PISO PARA FIXAÇÃO COM CONCRETO NÃO ESTRUTURAL, PREPARADO EM OBRA COM BETONEIRA, COM FCK 15 MPA | D73: Unidade | E73: 4 | F73: 377.37 | G73: =ROUND(F73+(F73*$H$10),2) -> 484.32 | H73: =ROUND((E73*G73),2) -> 1937.28
A74: 7.14 | B74: ED-51155 | C74: VIDRO COMUM TRANSPARENTE INCOLOR, ESP. 3MM, INCLUSIVE FIXAÇÃO E VEDAÇÃO COM GUARNIÇÃO/GAXETA DE BORRACHA NEOPRENE, FORNECIMENTO E INSTALAÇÃO, EXCLUSIVE CAIXILHO/PERFIL | D74: m² | E74: 8.4 | F74: 158.09 | G74: =ROUND(F74+(F74*$H$10),2) -> 202.89 | H74: =ROUND((E74*G74),2) -> 1704.28
A75: 7.15 | B75: ED-50266 | C75: LIMPEZA FINAL PARA ENTREGA DA OBRA | D75: m² | E75: =5.5*11 -> 60.5 | F75: 7.78 | G75: =ROUND(F75+(F75*$H$10),2) -> 9.98 | H75: =ROUND((E75*G75),2) -> 603.79
C76: Total item 07 | G76: =ROUND(F76+(F76*$H$10),2) -> 0 | H76: =SUM(H61:H75) -> 23202.23
A77: SUB TOTAL | H77: =SUM(H59,H46,H40,H76) -> 130521.71
A78: TOTAL | H78: =H36+H77 -> 234079.43
B81: Joaquim Sant'Ana Santos Ferreira | E81: CREA 161.352/D
B83: Engenheiro Civil
B86: Racly Andrade
B87: Prefeito Municipal

Sheet itens de maiores relevância
A4: PLANILHA ORÇAMENTÁRIA DE CUSTOS
A6: PREFEITURA: PREFEITURA DE JABOTICATUBAS - MG | F6: FOLHA Nº: 01/01
A7: PROGRAMA: ESPORTE LED - SEDESE - MG | F7: DATA: 12/11/2025
A8: LOCAL: RUA ALCINO GONÇALVES – SÔ DUCA – CURRALINHO - ZONA RURAL – CEP: 35835-000 – DISTRITO DE SÃO JOSÉ DO ALMEIDA E AVENIDA DOM ORIONE, S/N – CAPÃO GROSSO – ZONA RURAL, MUNICÍPIO JABOTICATUBAS, MG, CEP: 35835-000 | E8: FORMA DE EXECUÇÃO:
A9: REGIÃO/MÊS DE REFERÊNCIA: SETOP Região Central/Julho 2025 (COM DESONERAÇÃO) | E9: ( ) | F9: DIRETA | G9: (X) | H9: INDIRETA
A10: PRAZO DE EXECUÇÃO: 03 meses | G10: BDI | H10: 0.2834
A12: ITEM | B12: CÓDIGO | C12: DESCRIÇÃO | D12: UNIDADE | E12: QUANTIDADE | F12: PREÇO UNITÁRIO S/ BDI | G12: PREÇO UNITÁRIO C/ BDI | H12: PREÇO TOTAL
B13: CAMPO DA COMUNIDADE DE CURRALINHO
A14: 1 | C14: SERVIÇOS PRELIMINARES | G14: =ROUND(F14+(F14*$H$10),2) -> 0 | H14: =ROUND((E14*G14),2) -> 0
A15: 1.1 | B15: ED-28429 | C15: FORNECIMENTO E COLOCAÇÃO DE PLACA DE OBRA EM CHAPA GALVANIZADA #26, ESP. 0,45MM, DIMENSÃO (6X3)M, PLOTADA COM ADESIVO VINÍLICO, AFIXADA COM REBITES 4,8X40MM, EM ESTRUTURA METÁLICA DE METALON 20X20MM, ESP. 1,25MM, INCLUSIVE SUPORTE EM EUCALIPTO AUTOCLAVADO PINTADO COM TINTA PVA DUAS (2) DEMÃOS | D15: Unidade | E15: 1 | F15: 4522.68 | G15: =ROUND(F15+(F15*$H$10),2) -> 5804.41 | H15: =ROUND((E15*G15),2) -> 5804.41 | J15: 0
C16: Total item 01 | G16: =ROUND(F16+(F16*$H$10),2) -> 0 | H16: =SUM(H15) -> 5804.41
A17: 2 | C17: EXECUÇÃO DA REDE ENTERRADA,E CAIXAS DE PASSAGEM | G17: =ROUND(F17+(F17*$H$10),2) -> 0 | H17: =ROUND((E17*G17),2) -> 0
A18: 2.1 | B18: ED-51110 | C18: ESCAVAÇÃO MANUAL DE TERRA (DESATERRO MANUAL), INCLUSIVE DESCARGA LATERAL, EXCLUSIVE RETIRADA E TRANSPORTE DO MATERIAL ESCAVADO | D18: M3 | E18: 44.86 | F18: 41.84 | G18: =ROUND(F18+(F18*$H$10),2) -> 53.7 | H18: =ROUND((E18*G18),2) -> 2408.98
A19: 2.2 | B19: ED-51094 | C19: APILOAMENTO MECANIZADO EM FUNDO DE VALA COM PLACA VIBRATÓRIA, EXCLUSIVE ESCAVAÇÃO | D19: M2 | E19: 64.08 | F19: 13.69 | G19: =ROUND(F19+(F19*$H$10),2) -> 17.57 | H19: =ROUND((E19*G19),2) -> 1125.89
A20: 2.3 | B20: ED-51121 | C20: REATERRO MANUAL DE VALA, INCLUSIVE ESPALHAMENTO E COMPACTAÇÃO MECANIZADA COM PLACA VIBRATÓRIA | D20: M3 | E20: 29.9 | F20: 46.38 | G20: =ROUND(F20+(F20*$H$10),2) -> 59.52 | H20: =ROUND((E20*G20),2) -> 1779.65
A21: 2.4 | B21: CPU 01 | C21: CAIXA DE PASSAGEM EM ALVENARIA E TAMPA DE CONCRETO, FUNDO DE BRITA, TIPO 0,50X0,4X0,4 CM, INCLUSIVE ESCAVAÇÃO, REATERRO E BOTA FORA | D21: Unidade | E21: 10 | F21: 134.85 | G21: =ROUND(F21+(F21*$H$10),2) -> 173.07 | H21: =ROUND((E21*G21),2) -> 1730.7
C22: Total item 02 | G22: =ROUND(F22+(F22*$H$10),2) -> 0 | H22: =SUM(H18:H21) -> 7045.22
A23: 3 | C23: INSTALAÇÕES ELÉTRICAS | G23: =ROUND(F23+(F23*$H$10),2) -> 0 | H23: =ROUND((E23*G23),2) -> 0
A24: 3.1 | B24: ED-34475 | C24: DISJUNTOR BIPOLAR TERMOMAGNÉTICO 5KA, DE 20A | D24: Unidade | E24: 6 | F24: 45.68 | G24: =ROUND(F24+(F24*$H$10),2) -> 58.63 | H24: =ROUND((E24*G24),2) -> 351.78
A25: 3.2 | B25: CPU 04 | C25: DISJUNTOR TRIPOLAR TERMOMAGNÉTICO 5KA, DE 125A | D25: Unidade | E25: 1 | F25: 490.64 | G25: =ROUND(F25+(F25*$H$10),2) -> 629.69 | H25: =ROUND((E25*G25),2) -> 629.69
A26: 3.3 | B26: ED-22383 | C26: POSTE DE CONCRETO, ALTURA LIVRE DE 10M, COM 10 REFLETORES DE LED, POTÊNCIA DE 300W CADA, INCLUSIVE FIAÇÃO, SUPORTE E FUNDAÇÃO | D26: Unidade | E26: 6 | F26: 5287.44 | G26: =ROUND(F26+(F26*$H$10),2) -> 6785.9 | H26: =ROUND((E26*G26),2) -> 40715.4
A27: 3.4 | B27: ED-48966 | C27: CABO DE COBRE FLEXÍVEL, CLASSE 5, ISOLAMENTO TIPO LSHF/ATOX, NÃO HALOGENADO, ANTICHAMA, TERMOPLÁSTICO, UNIPOLAR, SEÇÃO 10 MM2, 70°C, 450/750V | D27: M | E27: 1049.3 | F27: 14.95 | G27: =ROUND(F27+(F27*$H$10),2) -> 19.19 | H27: =ROUND((E27*G27),2) -> 20136.07
A28: 3.5 | B28: ED-49007 | C28: CABO UNIPOLAR DE COBRE FLEXÍVEL, CLASSE 5, ISOLAMENTO TIPO EPR/HEPR, NÃO HALOGENADO E ANTICHAMA, DIÂMETRO DA SEÇÃO DE 35MM2, TEMPERATURA DE TRABALHO 90°C, TENSÃO NOMINAL DE OPERAÇÃO 0,6/1KV | D28: M | E28: 72.4 | F28: 44.63 | G28: =ROUND(F28+(F28*$H$10),2) -> 57.28 | H28: =ROUND((E28*G28),2) -> 4147.07
A29: 3.6 | B29: ED-48961 | C29: CABO DE COBRE FLEXÍVEL, CLASSE 5, ISOLAMENTO TIPO LSHF/ATOX, NÃO HALOGENADO, ANTICHAMA, TERMOPLÁSTICO, UNIPOLAR, SEÇÃO 6 MM2, 70°C, 450/750V | D29: M | E29: =(24.3*4+12.2*2+23.7+34.7+17+1.5)*3+24.3*2 -> 644.1 | F29: 8.55 | G29: =ROUND(F29+(F29*$H$10),2) -> 10.97 | H29: =ROUND((E29*G29),2) -> 7065.78
A30: 3.7 | B30: ED-7252 | C30: ELETRODUTO FLEXÍVEL, EM AÇO GALVANIZADO, DIÂMETRO DE 50MM (2"), REVESTIDO EXTERNAMENTE COM PVC, NA COR PRETA, INCLUSIVE ACESSÓRIOS PARA FIXAÇÃO E CONEXÕES | D30: m | E30: 181.5 | F30: 42.62 | G30: =ROUND(F30+(F30*$H$10),2) -> 54.7 | H30: =ROUND((E30*G30),2) -> 9928.05
A31: 3.8 | B31: ED-7253 | C31: ELETRODUTO FLEXÍVEL, EM AÇO GALVANIZADO, DIÂMETRO DE 60MM (2.1/2"), REVESTIDO EXTERNAMENTE COM PVC, NA COR PRETA, INCLUSIVE ACESSÓRIOS PARA FIXAÇÃO E CONEXÕES | D31: m | E31: 36.6 | F31: 64.27 | G31: =ROUND(F31+(F31*$H$10),2) -> 82.48 | H31: =ROUND((E31*G31),2) -> 3018.77
A32: 3.9 | B32: ED-20582 | C32: ENTRADA DE ENERGIA AÉREA, TIPO C2, PADRÃO CEMIG, CARGA INSTALADA DE 15,1KVA ATÉ 23KVA, TRIFÁSICO, COM SAÍDA SUBTERRÂNEA, INCLUSIVE POSTE, CAIXA PARA MEDIDOR, DISJUNTOR, BARRAMENTO, ATERRAMENTO E ACESSÓRIOS | D32: Unidade | E32: 1 | F32: 2893.3 | G32: =ROUND(F32+(F32*$H$10),2) -> 3713.26 | H32: =ROUND((E32*G32),2) -> 3713.26
A33: 3.10 | B33: ED-14186 | C33: QUADRO DE DISTRIBUIÇÃO DE EMBUTIR EM CHAPA, PARA 16 DISJUNTORES DIN, INCLUSIVE BARRAMENTOS NEUTRO/TERRA E BARRAMENTO TRIFÁSICO DE 100A | D33: Unidade | E33: 1 | F33: 469.56 | G33: =ROUND(F33+(F33*$H$10),2) -> 602.63 | H33: =ROUND((E33*G33),2) -> 602.63
A34: 3.11 | B34: CPU 06 | C34: ESTRUTURA PARA INSTALAR O QUADRO DE DISTRIBUIÇÃO, EM ALVENARIA REVESTIDA, INCLUSIVE INSTALAÇÃO | D34: Unidade | E34: 1 | F34: 311.35 | G34: =ROUND(F34+(F34*$H$10),2) -> 399.59 | H34: =ROUND((E34*G34),2) -> 399.59
C35: Total item 03 | G35: =ROUND(F35+(F35*$H$10),2) -> 0 | H35: =SUM(H24:H34) -> 90708.09
A36: SUB TOTAL | H36: =SUM(H35,H22,H16) -> 103557.72
B37: CAMPO DA COMUNIDADE DE CAPÃO GROSSO
A38: 4 | C38: SERVIÇOS PRELIMINARES | G38: =ROUND(F38+(F38*$H$10),2) -> 0 | H38: =ROUND((E38*G38),2) -> 0
A39: 4.1 | B39: ED-28429 | C39: FORNECIMENTO E COLOCAÇÃO DE PLACA DE OBRA EM CHAPA GALVANIZADA #26, ESP. 0,45MM, DIMENSÃO (6X3)M, PLOTADA COM ADESIVO VINÍLICO, AFIXADA COM REBITES 4,8X40MM, EM ESTRUTURA METÁLICA DE METALON 20X20MM, ESP. 1,25MM, INCLUSIVE SUPORTE EM EUCALIPTO AUTOCLAVADO PINTADO COM TINTA PVA DUAS (2) DEMÃOS | D39: Unidade | E39: 1 | F39: 4522.68 | G39: =ROUND(F39+(F39*$H$10),2) -> 5804.41 | H39: =ROUND((E39*G39),2) -> 5804.41 | J39: 0
C40: Total item 04 | G40: =ROUND(F40+(F40*$H$10),2) -> 0 | H40: =SUM(H39) -> 5804.41
A41: 5 | C41: EXECUÇÃO DA REDE ENTERRADA,E CAIXAS DE PASSAGEM | G41: =ROUND(F41+(F41*$H$10),2) -> 0 | H41: =ROUND((E41*G41),2) -> 0
A42: 5.1 | B42: ED-51110 | C42: ESCAVAÇÃO MANUAL DE TERRA (DESATERRO MANUAL), INCLUSIVE DESCARGA LATERAL, EXCLUSIVE RETIRADA E TRANSPORTE DO MATERIAL ESCAVADO | D42: M3 | E42: =(27.1*4+13.6+14+27+25+24.8+22.9)*0.7*0.3 -> 49.497 | F42: 41.84 | G42: =ROUND(F42+(F42*$H$10),2) -> 53.7 | H42: =ROUND((E42*G42),2) -> 2657.99
A43: 5.2 | B43: ED-51094 | C43: APILOAMENTO MECANIZADO EM FUNDO DE VALA COM PLACA VIBRATÓRIA, EXCLUSIVE ESCAVAÇÃO | D43: M2 | E43: =(27.1*4+13.6+14+27+25+24.8+22.9)*0.3 -> 70.71 | F43: 13.69 | G43: =ROUND(F43+(F43*$H$10),2) -> 17.57 | H43: =ROUND((E43*G43),2) -> 1242.37
A44: 5.3 | B44: ED-51121 | C44: REATERRO MANUAL DE VALA, INCLUSIVE ESPALHAMENTO E COMPACTAÇÃO MECANIZADA COM PLACA VIBRATÓRIA | D44: M3 | E44: =(27.1*4+13.6+14+27+25+24.8+22.9)*0.2*0.7 -> 32.998 | F44: 46.38 | G44: =ROUND(F44+(F44*$H$10),2) -> 59.52 | H44: =ROUND((E44*G44),2) -> 1964.04
A45: 5.4 | B45: CPU 01 | C45: CAIXA DE PASSAGEM EM ALVENARIA E TAMPA DE CONCRETO, FUNDO DE BRITA, TIPO 0,50X0,4X0,4 CM, INCLUSIVE ESCAVAÇÃO, REATERRO E BOTA FORA | D45: Unidade | E45: 10 | F45: 134.85 | G45: =ROUND(F45+(F45*$H$10),2) -> 173.07 | H45: =ROUND((E45*G45),2) -> 1730.7
C46: Total item 05 | G46: =ROUND(F46+(F46*$H$10),2) -> 0 | H46: =SUM(H42:H45) -> 7595.1
A47: 6 | C47: INSTALAÇÕES ELÉTRICAS | G47: =ROUND(F47+(F47*$H$10),2) -> 0 | H47: =ROUND((E47*G47),2) -> 0
A48: 6.1 | B48: ED-34475 | C48: DISJUNTOR BIPOLAR TERMOMAGNÉTICO 5KA, DE 20A | D48: Unidade | E48: 6 | F48: 45.68 | G48: =ROUND(F48+(F48*$H$10),2) -> 58.63 | H48: =ROUND((E48*G48),2) -> 351.78
A49: 6.2 | B49: CPU 04 | C49: DISJUNTOR TRIPOLAR TERMOMAGNÉTICO 5KA, DE 125A | D49: Unidade | E49: 1 | F49: 490.64 | G49: =ROUND(F49+(F49*$H$10),2) -> 629.69 | H49: =ROUND((E49*G49),2) -> 629.69
A50: 6.3 | B50: ED-22383 | C50: POSTE DE CONCRETO, ALTURA LIVRE DE 10M, COM 10 REFLETORES DE LED, POTÊNCIA DE 300W CADA, INCLUSIVE FIAÇÃO, SUPORTE E FUNDAÇÃO | D50: Unidade | E50: 6 | F50: 5287.44 | G50: =ROUND(F50+(F50*$H$10),2) -> 6785.9 | H50: =ROUND((E50*G50),2) -> 40715.4
A51: 6.4 | B51: ED-48966 | C51: CABO DE COBRE FLEXÍVEL, CLASSE 5, ISOLAMENTO TIPO LSHF/ATOX, NÃO HALOGENADO, ANTICHAMA, TERMOPLÁSTICO, UNIPOLAR, SEÇÃO 10 MM2, 70°C, 450/750V | D51: M | E51: =(27.1*2+13.6+14+27+25+24.8+1.5)*7 -> 1120.7 | F51: 14.95 | G51: =ROUND(F51+(F51*$H$10),2) -> 19.19 | H51: =ROUND((E51*G51),2) -> 21506.23
A52: 6.5 | B52: ED-49007 | C52: CABO UNIPOLAR DE COBRE FLEXÍVEL, CLASSE 5, ISOLAMENTO TIPO EPR/HEPR, NÃO HALOGENADO E ANTICHAMA, DIÂMETRO DA SEÇÃO DE 35MM2, TEMPERATURA DE TRABALHO 90°C, TENSÃO NOMINAL DE OPERAÇÃO 0,6/1KV | D52: M | E52: =(22.9+1.5)*4 -> 97.6 | F52: 44.63 | G52: =ROUND(F52+(F52*$H$10),2) -> 57.28 | H52: =ROUND((E52*G52),2) -> 5590.53
A53: 6.6 | B53: ED-48961 | C53: CABO DE COBRE FLEXÍVEL, CLASSE 5, ISOLAMENTO TIPO LSHF/ATOX, NÃO HALOGENADO, ANTICHAMA, TERMOPLÁSTICO, UNIPOLAR, SEÇÃO 6 MM2, 70°C, 450/750V | D53: M | E53: =(27.1*2+13.6+14+27+25+24.8+1.5)*3+27.1*2 -> 534.5 | F53: 8.55 | G53: =ROUND(F53+(F53*$H$10),2) -> 10.97 | H53: =ROUND((E53*G53),2) -> 5863.47
A54: 6.7 | B54: ED-7252 | C54: ELETRODUTO FLEXÍVEL, EM AÇO GALVANIZADO, DIÂMETRO DE 50MM (2"), REVESTIDO EXTERNAMENTE COM PVC, NA COR PRETA, INCLUSIVE ACESSÓRIOS PARA FIXAÇÃO E CONEXÕES | D54: m | E54: =27.1*4+13.6+14+27+25+1.5 -> 189.5 | F54: 42.62 | G54: =ROUND(F54+(F54*$H$10),2) -> 54.7 | H54: =ROUND((E54*G54),2) -> 10365.65
A55: 6.8 | B55: ED-7253 | C55: ELETRODUTO FLEXÍVEL, EM AÇO GALVANIZADO, DIÂMETRO DE 60MM (2.1/2"), REVESTIDO EXTERNAMENTE COM PVC, NA COR PRETA, INCLUSIVE ACESSÓRIOS PARA FIXAÇÃO E CONEXÕES | D55: m | E55: 50.7 | F55: 64.27 | G55: =ROUND(F55+(F55*$H$10),2) -> 82.48 | H55: =ROUND((E55*G55),2) -> 4181.74
A56: 6.9 | B56: ED-20582 | C56: ENTRADA DE ENERGIA AÉREA, TIPO C2, PADRÃO CEMIG, CARGA INSTALADA DE 15,1KVA ATÉ 23KVA, TRIFÁSICO, COM SAÍDA SUBTERRÂNEA, INCLUSIVE POSTE, CAIXA PARA MEDIDOR, DISJUNTOR, BARRAMENTO, ATERRAMENTO E ACESSÓRIOS | D56: Unidade | E56: 1 | F56: 2893.3 | G56: =ROUND(F56+(F56*$H$10),2) -> 3713.26 | H56: =ROUND((E56*G56),2) -> 3713.26
A57: 6.10 | B57: ED-14186 | C57: QUADRO DE DISTRIBUIÇÃO DE EMBUTIR EM CHAPA, PARA 16 DISJUNTORES DIN, INCLUSIVE BARRAMENTOS NEUTRO/TERRA E BARRAMENTO TRIFÁSICO DE 100A | D57: Unidade | E57: 1 | F57: 469.56 | G57: =ROUND(F57+(F57*$H$10),2) -> 602.63 | H57: =ROUND((E57*G57),2) -> 602.63
A58: 6.11 | B58: CPU 06 | C58: ESTRUTURA PARA INSTALAR O QUADRO DE DISTRIBUIÇÃO, EM ALVENARIA REVESTIDA, INCLUSIVE INSTALAÇÃO | D58: Unidade | E58: 1 | F58: 311.35 | G58: =ROUND(F58+(F58*$H$10),2) -> 399.59 | H58: =ROUND((E58*G58),2) -> 399.59
C59: Total item 06 | G59: =ROUND(F59+(F59*$H$10),2) -> 0 | H59: =SUM(H48:H58) -> 93919.97
A60: 7 | C60: REFORMA DO VESTIÁRIO | G60: =ROUND(F60+(F60*$H$10),2) -> 0 | H60: =ROUND((E60*G60),2) -> 0
A61: 7.1 | B61: ED-50505 | C61: LIXAMENTO MANUAL EM PAREDE PARA REMOÇÃO DE TINTA | D61: m² | E61: 184.34 | F61: 3.13 | G61: =F61*(1+H$10) -> 4.017042 | H61: =ROUND(E61*G61,2) -> 740.5
A62: 7.2 | B62: ED-50507 | C62: LIXAMENTO MANUAL EM SUPERFÍCIE DE MADEIRA PARA REMOÇÃO DE TINTA E/OU VERNIZ | D62: m² | E62: =5*0.7*1.5*2 -> 10.5 | F62: 4.74 | G62: =F62*(1+H$10) -> 6.083316 | H62: =ROUND(E62*G62,2) -> 63.87
A63: 7.3 | B63: ED-50478 | C63: EMASSAMENTO EM PAREDE COM MASSA CORRIDA (PVA), DUAS (2) DEMÃOS, INCLUSIVE LIXAMENTO PARA PINTURA | D63: m² | E63: =E61 -> 184.34 | F63: 19.43 | G63: =F63*(1+H$10) -> 24.936462 | H63: =ROUND(E63*G63,2) -> 4596.79
A64: 7.4 | B64: ED-50451 | C64: PINTURA ACRÍLICA EM PAREDE, DUAS (2) DEMÃOS, COM APLICAÇÃO MANUAL, EXCLUSIVE SELADOR ACRÍLICO E MASSA ACRÍLICA/CORRIDA (PVA) | D64: m² | E64: =E63-E65 -> 139.14 | F64: 15.43 | G64: =F64*(1+H$10) -> 19.802862 | H64: =ROUND(E64*G64,2) -> 2755.37
A65: 7.5 | B65: ED-50452 | C65: PINTURA ACRÍLICA EM TETO, DUAS (2) DEMÃOS, COM APLICAÇÃO MANUAL, EXCLUSIVE SELADOR ACRÍLICO E MASSA ACRÍLICA/CORRIDA (PVA) | D65: m² | E65: =45.2 -> 45.2 | F65: 19.47 | G65: =F65*(1+H$10) -> 24.987798 | H65: =ROUND(E65*G65,2) -> 1129.45
A66: 7.6 | B66: ED-50527 | C66: PINTURA COM VERNIZ SINTÉTICO MARÍTIMO EM ESQUADRIAS DE MADEIRA, DUAS (2) DEMÃOS, ACABAMENTO TIPO ACETINADO (BRILHO SÚTIL), COM APLICAÇÃO MANUAL, INCLUSIVE PREPARAÇÃO DA SUPERFÍCIE COM LIXAMENTO | D66: m² | E66: =E62 -> 10.5 | F66: 22.87 | G66: =F66*(1+H$10) -> 29.351358 | H66: =ROUND(E66*G66,2) -> 308.19
A67: 7.7 | B67: ED-50514 | C67: PREPARAÇÃO PARA EMASSAMENTO OU PINTURA (LÁTEX/ACRÍLICA) EM PAREDE, INCLUSIVE UMA (1) DEMÃO DE SELADOR ACRÍLICO | D67: m² | E67: =E63 -> 184.34 | F67: 7.17 | G67: =F67*(1+H$10) -> 9.201978 | H67: =ROUND(E67*G67,2) -> 1696.29
A68: 7.8 | B68: ED-9934 | C68: PINTURA EPÓXI EM PISO, DUAS (2) DEMÃOS, COM APLICAÇÃO MANUAL, INCLUSIVE UMA (1) DEMÃO DE PRIMER EPÓXI | D68: m² | E68: 17.18 | F68: 55.49 | G68: =F68*(1+H$10) -> 71.215866 | H68: =ROUND(E68*G68,2) -> 1223.49
A69: 7.9 | B69: ED-50310 | C69: BRAÇO PARA CHUVEIRO, COMPRIMENTO 40 CM, DIÂMETRO NOMINAL DE 1/2" (20MM), INCLUSIVE ACABAMENTO | D69: Unidade | E69: =4*2 -> 8 | F69: 26.55 | G69: =ROUND(F69+(F69*$H$10),2) -> 34.07 | H69: =ROUND((E69*G69),2) -> 272.56
A70: 7.10 | B70: ED-16344 | C70: CHUVEIRO ELÉTRICO BRANCO, TENSÃO 127V/220V, POTÊNCIA 4600W/5500W, INCLUSIVE BRAÇO/CANO | D70: Unidade | E70: =E69 -> 8 | F70: 131.14 | G70: =ROUND(F70+(F70*$H$10),2) -> 168.31 | H70: =ROUND((E70*G70),2) -> 1346.48
A71: 7.11 | B71: ED-29479 | C71: PORTA VENEZIANA EM ALUMÍNIO COMPLETA, DIMENSÃO (80X210) CM, TIPO DE ABRIR, COM UMA (1) FOLHA, LINHA 25/SUPREMA, ACABAMENTO ANODIZADO NATURAL, INCLUSIVE PERFIS, FERRAGENS E INSTALAÇÃO | D71: Unidade | E71: 2 | F71: 1758.86 | G71: =ROUND(F71+(F71*$H$10),2) -> 2257.32 | H71: =ROUND((E71*G71),2) -> 4514.64
A72: 7.12 | B72: ED-49943 | C72: GRELHA EM FERRO FUNDIDO COM CAIXILHO, DIMENSÃO (15X15) CM, INCLUSIVE ASSENTAMENTO DE CAIXILHO, EXCLUSIVE CAIXA COLETORA | D72: Unidade | E72: 5 | F72: 48.19 | G72: =ROUND(F72+(F72*$H$10),2) -> 61.85 | H72: =ROUND((E72*G72),2) -> 309.25
A73: 7.13 | B73: ED-15446 | C73: BANCO EM CONCRETO APARENTE, SEM ENCOSTO, POLIDO COM ACABAMENTO EM VERNIZ, ESP. 8CM, COMPRIMENTO 200CM, LARGURA 40CM, ALTURA 55CM, INCLUSIVE CORTE NO PISO PARA FIXAÇÃO COM CONCRETO NÃO ESTRUTURAL, PREPARADO EM OBRA COM BETONEIRA, COM FCK 15 MPA | D73: Unidade | E73: 4 | F73: 377.37 | G73: =ROUND(F73+(F73*$H$10),2) -> 484.32 | H73: =ROUND((E73*G73),2) -> 1937.28
A74: 7.14 | B74: ED-51155 | C74: VIDRO COMUM TRANSPARENTE INCOLOR, ESP. 3MM, INCLUSIVE FIXAÇÃO E VEDAÇÃO COM GUARNIÇÃO/GAXETA DE BORRACHA NEOPRENE, FORNECIMENTO E INSTALAÇÃO, EXCLUSIVE CAIXILHO/PERFIL | D74: m² | E74: 8.4 | F74: 158.09 | G74: =ROUND(F74+(F74*$H$10),2) -> 202.89 | H74: =ROUND((E74*G74),2) -> 1704.28
A75: 7.15 | B75: ED-50266 | C75: LIMPEZA FINAL PARA ENTREGA DA OBRA | D75: m² | E75: =5.5*11 -> 60.5 | F75: 7.78 | G75: =ROUND(F75+(F75*$H$10),2) -> 9.98 | H75: =ROUND((E75*G75),2) -> 603.79
C76: Total item 07 | G76: =ROUND(F76+(F76*$H$10),2) -> 0 | H76: =SUM(H61:H75) -> 23202.23
A77: SUB TOTAL | H77: =SUM(H59,H46,H40,H76) -> 130521.71
A78: TOTAL | H78: =H36+H77 -> 234079.43
B81: Joaquim Sant'Ana Santos Ferreira | E81: CREA 161.352/D
B83: Engenheiro Civil | J83: =H50+H26 -> 81430.8
J84: =J83/H78 -> 0.34787679
B86: Racly Andrade
B87: Prefeito Municipal

Sheet Cronograma
A2: CRONOGRAMA FÍSICO-FINANCEIRO
A3: ='Planilha Orcamentaria'!$A$6:$E$6 -> PREFEITURA: PREFEITURA DE JABOTICATUBAS - MG | D3: VALOR DO CONVÊNIO: | E3: 200000 | F3: DATA: 12/11/2025 | G3: FOLHA Nº: 01/01
A4: PROGRAMA: ESPORTE LED - SEDESE-MG | F4: ='Planilha Orcamentaria'!A10 -> PRAZO DE EXECUÇÃO: 03 meses
A5: ='Planilha Orcamentaria'!$A$8 -> LOCAL: RUA ALCINO GONÇALVES – SÔ DUCA – CURRALINHO - ZONA RURAL – CEP: 35835-000 – DISTRITO DE SÃO JOSÉ DO ALMEIDA E AVENIDA DOM ORIONE, S/N – CAPÃO GROSSO – ZONA RURAL, MUNICÍPIO JABOTICATUBAS, MG, CEP: 35835-000
A6: ITENS | B6: ETAPAS/DESCRIÇÃO | C6: FÍSICO/ FINANCEIRO | D6: TOTAL ETAPAS | E6: MÊS 1 | F6: MÊS 2 | G6: MÊS 3
B7: ='Planilha Orcamentaria'!B13:H13 -> CAMPO DA COMUNIDADE DE CURRALINHO
A8: 1 | B8: SERVIÇOS PRELIMINARES | C8: Físico % | D8: 0.0239 | E8: 1 | F8: 0 | G8: 0
C9: Financeiro | D9: ='Planilha Orcamentaria'!$H$16 -> 5804.41 | E9: =E8*D9 -> 5804.41 | F9: =F8*D9 -> 0 | G9: =G8*D9 -> 0
A10: 2 | B10: EXECUÇÃO DA REDE ENTERRADA,E CAIXAS DE PASSAGEM | C10: Físico % | D10: 0.0195 | E10: 1 | F10: 0 | G10: 0
C11: Financeiro | D11: ='Planilha Orcamentaria'!$H$22 -> 7045.22 | E11: =E10*D11 -> 7045.22 | F11: =F10*D11 -> 0 | G11: =G10*D11 -> 0
A12: 3 | B12: INSTALAÇÕES ELÉTRICAS | C12: Físico % | D12: 0.9567 | E12: 0.4 | F12: 0.6 | G12: 0
C13: Financeiro | D13: ='Planilha Orcamentaria'!$H$35 -> 90708.09 | E13: =E12*D13 -> 36283.236 | F13: =F12*D13 -> 54424.854 | G13: =G12*D13 -> 0
B14: ='Planilha Orcamentaria'!B37:H37 -> CAMPO DA COMUNIDADE DE CAPÃO GROSSO
A15: 4 | B15: SERVIÇOS PRELIMINARES | C15: Físico % | D15: 0.0239 | E15: 1 | F15: 0 | G15: 0
C16: Financeiro | D16: ='Planilha Orcamentaria'!H40 -> 5804.41 | E16: =E15*D16 -> 5804.41 | F16: =F15*D16 -> 0 | G16: =G15*D16 -> 0
A17: 5 | B17: EXECUÇÃO DA REDE ENTERRADA,E CAIXAS DE PASSAGEM | C17: Físico % | D17: 0.0195 | E17: 0 | F17: 0.3 | G17: 0.7
C18: Financeiro | D18: ='Planilha Orcamentaria'!H46 -> 7595.1 | E18: =E17*D18 -> 0 | F18: =F17*D18 -> 2278.53 | G18: =G17*D18 -> 5316.57
A19: 6 | B19: INSTALAÇÕES ELÉTRICAS | C19: Físico % | D19: 0.9567 | E19: 0 | F19: 0.4 | G19: 0.6
C20: Financeiro | D20: ='Planilha Orcamentaria'!H59 -> 93919.97 | E20: =E19*D20 -> 0 | F20: =F19*D20 -> 37567.988 | G20: =G19*D20 -> 56351.982
A21: 7 | B21: ='Planilha Orcamentaria'!C60 -> REFORMA DO VESTIÁRIO | C21: Físico % | D21: 0.9567 | E21: 0 | F21: 0.4 | G21: 0.6
C22: Financeiro | D22: ='Planilha Orcamentaria'!H76 -> 23202.23 | E22: =E21*D22 -> 0 | F22: =F21*D22 -> 9280.892 | G22: =G21*D22 -> 13921.338
A23: TOTAL | C23: Físico % | D23: 1 | E23: =E24/D24 -> 0.23469502 | F23: =F24/D24 -> 0.44238088 | G23: =G24/D24 -> 0.3229241
C24: Financeiro | D24: =D9+D11+D13+D16+D18+D20+D22 -> 234079.43 | E24: =E9+E11+E13+E16+E18+E20+E22 -> 54937.276 | F24: =F9+F11+F13+F16+F18+F20+F22 -> 103552.26 | G24: =G9+G11+G13+G16+G18+G20+G22 -> 75589.89
A25: Joaquim Sant'Ana Santos Ferreira Engenheiro Civil CREA 161.352/D RACLY ANDRADE PREFEITO MUNICIPAL
