Workbook
Name _AA100000: #REF!
Name _Fill: #REF!
Name _LOC10: #REF!
Name _LOC11: #REF!
Name _LOC12: #REF!
Name _LOC13: #REF!
Name _LOC14: #REF!
Name _LOC15: #REF!
Name _LOC16: #REF!
Name _LOC17: #REF!
Name _LOC18: #REF!
Name _LOC19: #REF!
Name _LOC2: #REF!
Name _LOC20: #REF!
Name _LOC21: #REF!
Name _LOC22: #REF!
Name _LOC23: #REF!
Name _LOC24: #REF!
Name _LOC25: #REF!
Name _LOC26: #REF!
Name _LOC27: #REF!
Name _LOC28: #REF!
Name _LOC29: #REF!
Name _LOC3: #REF!
Name _LOC30: #REF!
Name _LOC31: #REF!
Name _LOC32: #REF!
Name _LOC33: #REF!
Name _LOC34: #REF!
Name _LOC35: #REF!
Name _LOC36: #REF!
Name _LOC37: #REF!
Name _LOC38: #REF!
Name _LOC39: #REF!
Name _LOC4: #REF!
Name _LOC40: #REF!
Name _LOC41: #REF!
Name _LOC42: #REF!
Name _LOC5: #REF!
Name _LOC6: #REF!
Name _LOC7: #REF!
Name _LOC8: #REF!
Name _LOC9: #REF!
Name _R: #REF!
Name AAA: #REF!
Name AC: #REF!
Name AL: #REF!
Name Área_impressão_IM: #REF!
Name B.01.05.10.10: #REF!
Name CD: #REF!
Name CP: #REF!
Name CS: #REF!
Name CT: #REF!
Name EV: #REF!
Name IC: #REF!
Name IMPR: #REF!
Name IMPR1: #REF!
Name IS: #REF!
Name LB: #REF!
Name MACROS: #REF!

Sheet Planilha Orcamentaria
A4: PLANILHA ORÇAMENTÁRIA DE CUSTOS
A6: PREFEITURA: PREFEITURA DE JABOTICATUBAS - MG | F6: FOLHA Nº: 01/01
A7: PROGRAMA: ESPORTE LED - SEDESE - MG | F7: DATA: 12/11/2025
A8: LOCAL: RUA ALCINO GONÇALVES – SÔ DUCA – CURRALINHO - ZONA RURAL – CEP: 35835-000 – DISTRITO DE SÃO JOSÉ DO ALMEIDA E AVENIDA DOM ORIONE, S/N – CAPÃO GROSSO – ZONA RURAL, MUNICÍPIO JABOTICATUBAS, MG, CEP: 35835-000 | E8: FORMA DE EXECUÇÃO:
A9: REGIÃO/MÊS DE REFERÊNCIA: SETOP Região Central/Julho 2025 (COM DESONERAÇÃO) | E9: ( ) | F9: DIRETA | G9: (X) | H9: INDIRETA
A10: PRAZO DE EXECUÇÃO: 03 meses | G10: BDI | H10: 0.2834
A12: ITEM | B12: CÓDIGO | C12: DESCRIÇÃO | D12: UNIDADE | E12: QUANTIDADE | F12: PREÇO UNITÁRIO S/ BDI | G12: PREÇO UNITÁRIO C/ BDI | H12: PREÇO TOTAL
B13: CAMPO DA COMUNIDADE DE CURRALINHO
A14: 1 | C14: SERVIÇOS PRELIMINARES | G14: =ROUND(F14+(F14*$H$10),2) -> 0 | H14: =ROUND((E14*G14),2) -> 0
A15: 1.1 | B15: ED-28429 | C15: FORNECIMENTO E COLOCAÇÃO DE PLACA DE OBRA EM CHAPA GALVANIZADA #26, ESP. 0,45MM, DIMENSÃO (6X3)M, PLOTADA COM ADESIVO VINÍLICO, AFIXADA COM REBITES 4,8X40MM, EM ESTRUTURA METÁLICA DE METALON 20X20MM, ESP. 1,25MM, INCLUSIVE SUPORTE EM EUCALIPTO AUTOCLAVADO PINTADO COM TINTA PVA DUAS (2) DEMÃOS | D15: Unidade | E15: 1 | F15: 4522.68 | G15: =ROUND(F15+(F15*$H$10),2) -> 5804.41 | H15: =ROUND((E15*G15),2) -> 5804.41 | J15: 0
C16: Total item 01 | G16: =ROUND(F16+(F16*$H$10),2) -> 0 | H16: =SUM(H15) -> 5804.41
A17: 2 | C17: EXECUÇÃO DA REDE ENTERRADA,E CAIXAS DE PASSAGEM | G17: =ROUND(F17+(F17*$H$10),2) -> 0 | H17: =ROUND((E17*G17),2) -> 0
A18: 2.1 | B18: ED-51110 | C18: ESCAVAÇÃO MANUAL DE TERRA (DESATERRO MANUAL), INCLUSIVE DESCARGA LATERAL, EXCLUSIVE RETIRADA E TRANSPORTE DO MATERIAL ESCAVADO | D18: M3 | E18: 44.86 | F18: 41.84 | G18: =ROUND(F18+(F18*$H$10),2) -> 53.7 | H18: =ROUND((E18*G18),2) -> 2408.98
A19: 2.2 | B19: ED-51094 | C19: APILOAMENTO MECANIZADO EM FUNDO DE VALA COM PLACA VIBRATÓRIA, EXCLUSIVE ESCAVAÇÃO | D19: M2 | E19: 64.08 | F19: 13.69 | G19: =ROUND(F19+(F19*$H$10),2) -> 17.57 | H19: =ROUND((E19*G19),2) -> 1125.89
A20: 2.3 | B20: ED-51121 | C20: REATERRO MANUAL DE VALA, INCLUSIVE ESPALHAMENTO E COMPACTAÇÃO MECANIZADA COM PLACA VIBRATÓRIA | D20: M3 | E20: 29.9 | F20: 46.38 | G20: =ROUND(F20+(F20*$H$10),2) -> 59.52 | H20: =ROUND((E20*G20),2) -> 1779.65
A21: 2.4 | B21: CPU 01 | C21: CAIXA DE PASSAGEM EM ALVENARIA E TAMPA DE CONCRETO, FUNDO DE BRITA, TIPO 0,50X0,4X0,4 CM, INCLUSIVE ESCAVAÇÃO, REATERRO E BOTA FORA | D21: Unidade | E21: 10 | F21: 134.85 | G21: =ROUND(F21+(F21*$H$10),2) -> 173.07 | H21: =ROUND((E21*G21),2) -> 1730.7
C22: Total item 02 | G22: =ROUND(F22+(F22*$H$10),2) -> 0 | H22: =SUM(H18:H21) -> 7045.22
A23: 3 | C23: INSTALAÇÕES ELÉTRICAS | G23: =ROUND(F23+(F23*$H$10),2) -> 0 | H23: =ROUND((E23*G23),2) -> 0
A24: 3.1 | B24: ED-34475 | C24: DISJUNTOR BIPOLAR TERMOMAGNÉTICO 5KA, DE 20A | D24: Unidade | E24: 6 | F24: 45.68 | G24: =ROUND(F24+(F24*$H$10),2) -> 58.63 | H24: =ROUND((E24*G24),2) -> 351.78
A25: 3.2 | B25: CPU 04 | C25: DISJUNTOR TRIPOLAR TERMOMAGNÉTICO 5KA, DE 125A | D25: Unidade | E25: 1 | F25: 490.64 | G25: =ROUND(F25+(F25*$H$10),2) -> 629.69 | H25: =ROUND((E25*G25),2) -> 629.69
A26: 3.3 | B26: ED-22383 | C26: POSTE DE CONCRETO, ALTURA LIVRE DE 10M, COM 10 REFLETORES DE LED, POTÊNCIA DE 300W CADA, INCLUSIVE FIAÇÃO, SUPORTE E FUNDAÇÃO | D26: Unidade | E26: 6 | F26: 5287.44 | G26: =ROUND(F26+(F26*$H$10),2) -> 6785.9 | H26: =ROUND((E26*G26),2) -> 40715.4
A27: 3.4 | B27: ED-48966 | C27: CABO DE COBRE FLEXÍVEL, CLASSE 5, ISOLAMENTO TIPO LSHF/ATOX, NÃO HALOGENADO, ANTICHAMA, TERMOPLÁSTICO, UNIPOLAR, SEÇÃO 10 MM2, 70°C, 450/750V | D27: M | E27: 1049.3 | F27: 14.95 | G27: =ROUND(F27+(F27*$H$10),2) -> 19.19 | H27: =ROUND((E27*G27),2) -> 20136.07
A28: 3.5 | B28: ED-49007 | C28: CABO UNIPOLAR DE COBRE FLEXÍVEL, CLASSE 5, ISOLAMENTO TIPO EPR/HEPR, NÃO HALOGENADO E ANTICHAMA, DIÂMETRO DA SEÇÃO DE 35MM2, TEMPERATURA DE TRABALHO 90°C, TENSÃO NOMINAL DE OPERAÇÃO 0,6/1KV | D28: M | E28: 72.4 | F28: 44.63 | G28: =ROUND(F28+(F28*$H$10),2) -> 57.28 | H28: =ROUND((E28*G28),2) -> 4147.07
A29: 3.6 | B29: ED-48961 | C29: CABO DE COBRE FLEXÍVEL, CLASSE 5, ISOLAMENTO TIPO LSHF/ATOX, NÃO HALOGENADO, ANTICHAMA, TERMOPLÁSTICO, UNIPOLAR, SEÇÃO 6 MM2, 70°C, 450/750V | D29: M | E29: =(24.3*4+12.2*2+23.7+34.7+17+1.5)*3+24.3*2 -> 644.1 | F29: 8.55 | G29: =ROUND(F29+(F29*$H$10),2) -> 10.97 | H29: =ROUND((E29*G29),2) -> 7065.78
A30: 3.7 | B30: ED-7252 | C30: ELETRODUTO FLEXÍVEL, EM AÇO GALVANIZADO, DIÂMETRO DE 50MM (2"), REVESTIDO EXTERNAMENTE COM PVC, NA COR PRETA, INCLUSIVE ACESSÓRIOS PARA FIXAÇÃO E CONEXÕES | D30: m | E30: 181.5 | F30: 42.62 | G30: =ROUND(F30+(F30*$H$10),2) -> 54.7 | H30: =ROUND((E30*G30),2) -> 9928.05
A31: 3.8 | B31: ED-7253 | C31: ELETRODUTO FLEXÍVEL, EM AÇO GALVANIZADO, DIÂMETRO DE 60MM (2.1/2"), REVESTIDO EXTERNAMENTE COM PVC, NA COR PRETA, INCLUSIVE ACESSÓRIOS PARA FIXAÇÃO E CONEXÕES | D31: m | E31: 36.6 | F31: 64.27 | G31: =ROUND(F31+(F31*$H$10),2) -> 82.48 | H31: =ROUND((E31*G31),2) -> 3018.77
A32: 3.9 | B32: ED-20582 | C32: ENTRADA DE ENERGIA AÉREA, TIPO C2, PADRÃO CEMIG, CARGA INSTALADA DE 15,1KVA ATÉ 23KVA, TRIFÁSICO, COM SAÍDA SUBTERRÂNEA, INCLUSIVE POSTE, CAIXA PARA MEDIDOR, DISJUNTOR, BARRAMENTO, ATERRAMENTO E ACESSÓRIOS | D32: Unidade | E32: 1 | F32: 2893.3 | G32: =ROUND(F32+(F32*$H$10),2) -> 3713.26 | H32: =ROUND((E32*G32),2) -> 3713.26
A33: 3.10 | B33: ED-14186 | C33: QUADRO DE DISTRIBUIÇÃO DE EMBUTIR EM CHAPA, PARA 16 DISJUNTORES DIN, INCLUSIVE BARRAMENTOS NEUTRO/TERRA E BARRAMENTO TRIFÁSICO DE 100A | D33: Unidade | E33: 1 | F33: 469.56 | G33: =ROUND(F33+(F33*$H$10),2) -> 602.63 | H33: =ROUND((E33*G33),2) -> 602.63
A34: 3.11 | B34: CPU 06 | C34: ESTRUTURA PARA INSTALAR O QUADRO DE DISTRIBUIÇÃO, EM ALVENARIA REVESTIDA, INCLUSIVE INSTALAÇÃO | D34: Unidade | E34: 1 | F34: 311.35 | G34: =ROUND(F34+(F34*$H$10),2) -> 399.59 | H34: =ROUND((E34*G34),2) -> 399.59
C35: Total item 03 | G35: =ROUND(F35+(F35*$H$10),2) -> 0 | H35: =SUM(H24:H34) -> 90708.09
A36: SUB TOTAL | H36: =SUM(H35,H22,H16) -> 103557.72
B37: CAMPO DA COMUNIDADE DE CAPÃO GROSSO
A38: 4 | C38: SERVIÇOS PRELIMINARES | G38: =ROUND(F38+(F38*$H$10),2) -> 0 | H38: =ROUND((E38*G38),2) -> 0
A39: 4.1 | B39: ED-28429 | C39: FORNECIMENTO E COLOCAÇÃO DE PLACA DE OBRA EM CHAPA GALVANIZADA #26, ESP. 0,45MM, DIMENSÃO (6X3)M, PLOTADA COM ADESIVO VINÍLICO, AFIXADA COM REBITES 4,8X40MM, EM ESTRUTURA METÁLICA DE METALON 20X20MM, ESP. 1,25MM, INCLUSIVE SUPORTE EM EUCALIPTO AUTOCLAVADO PINTADO COM TINTA PVA DUAS (2) DEMÃOS | D39: Unidade | E39: 1 | F39: 4522.68 | G39: =ROUND(F39+(F39*$H$10),2) -> 5804.41 | H39: =ROUND((E39*G39),2) -> 5804.41 | J39: 0
C40: Total item 04 | G40: =ROUND(F40+(F40*$H$10),2) -> 0 | H40: =SUM(H39) -> 5804.41
A41: 5 | C41: EXECUÇÃO DA REDE ENTERRADA,E CAIXAS DE PASSAGEM | G41: =ROUND(F41+(F41*$H$10),2) -> 0 | H41: =ROUND((E41*G41),2) -> 0
A42: 5.1 | B42: ED-51110 | C42: ESCAVAÇÃO MANUAL DE TERRA (DESATERRO MANUAL), INCLUSIVE DESCARGA LATERAL, EXCLUSIVE RETIRADA E TRANSPORTE DO MATERIAL ESCAVADO | D42: M3 | E42: =(27.1*4+13.6+14+27+25+24.8+22.9)*0.7*0.3 -> 49.497 | F42: 41.84 | G42: =ROUND(F42+(F42*$H$10),2) -> 53.7 | H42: =ROUND((E42*G42),2) -> 2657.99
A43: 5.2 | B43: ED-51094 | C43: APILOAMENTO MECANIZADO EM FUNDO DE VALA COM PLACA VIBRATÓRIA, EXCLUSIVE ESCAVAÇÃO | D43: M2 | E43: =(27.1*4+13.6+14+27+25+24.8+22.9)*0.3 -> 70.71 | F43: 13.69 | G43: =ROUND(F43+(F43*$H$10),2) -> 17.57 | H43: =ROUND((E43*G43),2) -> 1242.37
A44: 5.3 | B44: ED-51121 | C44: REATERRO MANUAL DE VALA, INCLUSIVE ESPALHAMENTO E COMPACTAÇÃO MECANIZADA COM PLACA VIBRATÓRIA | D44: M3 | E44: =(27.1*4+13.6+14+27+25+24.8+22.9)*0.2*0.7 -> 32.998 | F44: 46.38 | G44: =ROUND(F44+(F44*$H$10),2) -> 59.52 | H44: =ROUND((E44*G44),2) -> 1964.04
A45: 5.4 | B45: CPU 01 | C45: CAIXA DE PASSAGEM EM ALVENARIA E TAMPA DE CONCRETO, FUNDO DE BRITA, TIPO 0,50X0,4X0,4 CM, INCLUSIVE ESCAVAÇÃO, REATERRO E BOTA FORA | D45: Unidade | E45: 10 | F45: 134.85 | G45: =ROUND(F45+(F45*$H$10),2) -> 173.07 | H45: =ROUND((E45*G45),2) -> 1730.7
...

Sheet itens de maiores relevância
A4: PLANILHA ORÇAMENTÁRIA DE CUSTOS
A6: PREFEITURA: PREFEITURA DE JABOTICATUBAS - MG | F6: FOLHA Nº: 01/01
A7: PROGRAMA: ESPORTE LED - SEDESE - MG | F7: DATA: 12/11/2025
A8: LOCAL: RUA ALCINO GONÇALVES – SÔ DUCA – CURRALINHO - ZONA RURAL – CEP: 35835-000 – DISTRITO DE SÃO JOSÉ DO ALMEIDA E AVENIDA DOM ORIONE, S/N – CAPÃO GROSSO – ZONA RURAL, MUNICÍPIO JABOTICATUBAS, MG, CEP: 35835-000 | E8: FORMA DE EXECUÇÃO:
A9: REGIÃO/MÊS DE REFERÊNCIA: SETOP Região Central/Julho 2025 (COM DESONERAÇÃO) | E9: ( ) | F9: DIRETA | G9: (X) | H9: INDIRETA
A10: PRAZO DE EXECUÇÃO: 03 meses | G10: BDI | H10: 0.2834
A12: ITEM | B12: CÓDIGO | C12: DESCRIÇÃO | D12: UNIDADE | E12: QUANTIDADE | F12: PREÇO UNITÁRIO S/ BDI | G12: PREÇO UNITÁRIO C/ BDI | H12: PREÇO TOTAL
B13: CAMPO DA COMUNIDADE DE CURRALINHO
A14: 1 | C14: SERVIÇOS PRELIMINARES | G14: =ROUND(F14+(F14*$H$10),2) -> 0 | H14: =ROUND((E14*G14),2) -> 0
A15: 1.1 | B15: ED-28429 | C15: FORNECIMENTO E COLOCAÇÃO DE PLACA DE OBRA EM CHAPA GALVANIZADA #26, ESP. 0,45MM, DIMENSÃO (6X3)M, PLOTADA COM ADESIVO VINÍLICO, AFIXADA COM REBITES 4,8X40MM, EM ESTRUTURA METÁLICA DE METALON 20X20MM, ESP. 1,25MM, INCLUSIVE SUPORTE EM EUCALIPTO AUTOCLAVADO PINTADO COM TINTA PVA DUAS (2) DEMÃOS | D15: Unidade | E15: 1 | F15: 4522.68 | G15: =ROUND(F15+(F15*$H$10),2) -> 5804.41 | H15: =ROUND((E15*G15),2) -> 5804.41 | J15: 0
C16: Total item 01 | G16: =ROUND(F16+(F16*$H$10),2) -> 0 | H16: =SUM(H15) -> 5804.41
A17: 2 | C17: EXECUÇÃO DA REDE ENTERRADA,E CAIXAS DE PASSAGEM | G17: =ROUND(F17+(F17*$H$10),2) -> 0 | H17: =ROUND((E17*G17),2) -> 0
A18: 2.1 | B18: ED-51110 | C18: ESCAVAÇÃO MANUAL DE TERRA (DESATERRO MANUAL), INCLUSIVE DESCARGA LATERAL, EXCLUSIVE RETIRADA E TRANSPORTE DO MATERIAL ESCAVADO | D18: M3 | E18: 44.86 | F18: 41.84 | G18: =ROUND(F18+(F18*$H$10),2) -> 53.7 | H18: =ROUND((E18*G18),2) -> 2408.98
A19: 2.2 | B19: ED-51094 | C19: APILOAMENTO MECANIZADO EM FUNDO DE VALA COM PLACA VIBRATÓRIA, EXCLUSIVE ESCAVAÇÃO | D19: M2 | E19: 64.08 | F19: 13.69 | G19: =ROUND(F19+(F19*$H$10),2) -> 17.57 | H19: =ROUND((E19*G19),2) -> 1125.89
A20: 2.3 | B20: ED-51121 | C20: REATERRO MANUAL DE VALA, INCLUSIVE ESPALHAMENTO E COMPACTAÇÃO MECANIZADA COM PLACA VIBRATÓRIA | D20: M3 | E20: 29.9 | F20: 46.38 | G20: =ROUND(F20+(F20*$H$10),2) -> 59.52 | H20: =ROUND((E20*G20),2) -> 1779.65
A21: 2.4 | B21: CPU 01 | C21: CAIXA DE PASSAGEM EM ALVENARIA E TAMPA DE CONCRETO, FUNDO DE BRITA, TIPO 0,50X0,4X0,4 CM, INCLUSIVE ESCAVAÇÃO, REATERRO E BOTA FORA | D21: Unidade | E21: 10 | F21: 134.85 | G21: =ROUND(F21+(F21*$H$10),2) -> 173.07 | H21: =ROUND((E21*G21),2) -> 1730.7
C22: Total item 02 | G22: =ROUND(F22+(F22*$H$10),2) -> 0 | H22: =SUM(H18:H21) -> 7045.22
A23: 3 | C23: INSTALAÇÕES ELÉTRICAS | G23: =ROUND(F23+(F23*$H$10),2) -> 0 | H23: =ROUND((E23*G23),2) -> 0
A24: 3.1 | B24: ED-34475 | C24: DISJUNTOR BIPOLAR TERMOMAGNÉTICO 5KA, DE 20A | D24: Unidade | E24: 6 | F24: 45.68 | G24: =ROUND(F24+(F24*$H$10),2) -> 58.63 | H24: =ROUND((E24*G24),2) -> 351.78
A25: 3.2 | B25: CPU 04 | C25: DISJUNTOR TRIPOLAR TERMOMAGNÉTICO 5KA, DE 125A | D25: Unidade | E25: 1 | F25: 490.64 | G25: =ROUND(F25+(F25*$H$10),2) -> 629.69 | H25: =ROUND((E25*G25),2) -> 629.69
A26: 3.3 | B26: ED-22383 | C26: POSTE DE CONCRETO, ALTURA LIVRE DE 10M, COM 10 REFLETORES DE LED, POTÊNCIA DE 300W CADA, INCLUSIVE FIAÇÃO, SUPORTE E FUNDAÇÃO | D26: Unidade | E26: 6 | F26: 5287.44 | G26: =ROUND(F26+(F26*$H$10),2) -> 6785.9 | H26: =ROUND((E26*G26),2) -> 40715.4
A27: 3.4 | B27: ED-48966 | C27: CABO DE COBRE FLEXÍVEL, CLASSE 5, ISOLAMENTO TIPO LSHF/ATOX, NÃO HALOGENADO, ANTICHAMA, TERMOPLÁSTICO, UNIPOLAR, SEÇÃO 10 MM2, 70°C, 450/750V | D27: M | E27: 1049.3 | F27: 14.95 | G27: =ROUND(F27+(F27*$H$10),2) -> 19.19 | H27: =ROUND((E27*G27),2) -> 20136.07
A28: 3.5 | B28: ED-49007 | C28: CABO UNIPOLAR DE COBRE FLEXÍVEL, CLASSE 5, ISOLAMENTO TIPO EPR/HEPR, NÃO HALOGENADO E ANTICHAMA, DIÂMETRO DA SEÇÃO DE 35MM2, TEMPERATURA DE TRABALHO 90°C, TENSÃO NOMINAL DE OPERAÇÃO 0,6/1KV | D28: M | E28: 72.4 | F28: 44.63 | G28: =ROUND(F28+(F28*$H$10),2) -> 57.28 | H28: =ROUND((E28*G28),2) -> 4147.07
A29: 3.6 | B29: ED-48961 | C29: CABO DE COBRE FLEXÍVEL, CLASSE 5, ISOLAMENTO TIPO LSHF/ATOX, NÃO HALOGENADO, ANTICHAMA, TERMOPLÁSTICO, UNIPOLAR, SEÇÃO 6 MM2, 70°C, 450/750V | D29: M | E29: =(24.3*4+12.2*2+23.7+34.7+17+1.5)*3+24.3*2 -> 644.1 | F29: 8.55 | G29: =ROUND(F29+(F29*$H$10),2) -> 10.97 | H29: =ROUND((E29*G29),2) -> 7065.78
A30: 3.7 | B30: ED-7252 | C30: ELETRODUTO FLEXÍVEL, EM AÇO GALVANIZADO, DIÂMETRO DE 50MM (2"), REVESTIDO EXTERNAMENTE COM PVC, NA COR PRETA, INCLUSIVE ACESSÓRIOS PARA FIXAÇÃO E CONEXÕES | D30: m | E30: 181.5 | F30: 42.62 | G30: =ROUND(F30+(F30*$H$10),2) -> 54.7 | H30: =ROUND((E30*G30),2) -> 9928.05
A31: 3.8 | B31: ED-7253 | C31: ELETRODUTO FLEXÍVEL, EM AÇO GALVANIZADO, DIÂMETRO DE 60MM (2.1/2"), REVESTIDO EXTERNAMENTE COM PVC, NA COR PRETA, INCLUSIVE ACESSÓRIOS PARA FIXAÇÃO E CONEXÕES | D31: m | E31: 36.6 | F31: 64.27 | G31: =ROUND(F31+(F31*$H$10),2) -> 82.48 | H31: =ROUND((E31*G31),2) -> 3018.77
A32: 3.9 | B32: ED-20582 | C32: ENTRADA DE ENERGIA AÉREA, TIPO C2, PADRÃO CEMIG, CARGA INSTALADA DE 15,1KVA ATÉ 23KVA, TRIFÁSICO, COM SAÍDA SUBTERRÂNEA, INCLUSIVE POSTE, CAIXA PARA MEDIDOR, DISJUNTOR, BARRAMENTO, ATERRAMENTO E ACESSÓRIOS | D32: Unidade | E32: 1 | F32: 2893.3 | G32: =ROUND(F32+(F32*$H$10),2) -> 3713.26 | H32: =ROUND((E32*G32),2) -> 3713.26
A33: 3.10 | B33: ED-14186 | C33: QUADRO DE DISTRIBUIÇÃO DE EMBUTIR EM CHAPA, PARA 16 DISJUNTORES DIN, INCLUSIVE BARRAMENTOS NEUTRO/TERRA E BARRAMENTO TRIFÁSICO DE 100A | D33: Unidade | E33: 1 | F33: 469.56 | G33: =ROUND(F33+(F33*$H$10),2) -> 602.63 | H33: =ROUND((E33*G33),2) -> 602.63
A34: 3.11 | B34: CPU 06 | C34: ESTRUTURA PARA INSTALAR O QUADRO DE DISTRIBUIÇÃO, EM ALVENARIA REVESTIDA, INCLUSIVE INSTALAÇÃO | D34: Unidade | E34: 1 | F34: 311.35 | G34: =ROUND(F34+(F34*$H$10),2) -> 399.59 | H34: =ROUND((E34*G34),2) -> 399.59
C35: Total item 03 | G35: =ROUND(F35+(F35*$H$10),2) -> 0 | H35: =SUM(H24:H34) -> 90708.09
A36: SUB TOTAL | H36: =SUM(H35,H22,H16) -> 103557.72
B37: CAMPO DA COMUNIDADE DE CAPÃO GROSSO
A38: 4 | C38: SERVIÇOS PRELIMINARES | G38: =ROUND(F38+(F38*$H$10),2) -> 0 | H38: =ROUND((E38*G38),2) -> 0
A39: 4.1 | B39: ED-28429 | C39: FORNECIMENTO E COLOCAÇÃO DE PLACA DE OBRA EM CHAPA GALVANIZADA #26, ESP. 0,45MM, DIMENSÃO (6X3)M, PLOTADA COM ADESIVO VINÍLICO, AFIXADA COM REBITES 4,8X40MM, EM ESTRUTURA METÁLICA DE METALON 20X20MM, ESP. 1,25MM, INCLUSIVE SUPORTE EM EUCALIPTO AUTOCLAVADO PINTADO COM TINTA PVA DUAS (2) DEMÃOS | D39: Unidade | E39: 1 | F39: 4522.68 | G39: =ROUND(F39+(F39*$H$10),2) -> 5804.41 | H39: =ROUND((E39*G39),2) -> 5804.41 | J39: 0
C40: Total item 04 | G40: =ROUND(F40+(F40*$H$10),2) -> 0 | H40: =SUM(H39) -> 5804.41
A41: 5 | C41: EXECUÇÃO DA REDE ENTERRADA,E CAIXAS DE PASSAGEM | G41: =ROUND(F41+(F41*$H$10),2) -> 0 | H41: =ROUND((E41*G41),2) -> 0
A42: 5.1 | B42: ED-51110 | C42: ESCAVAÇÃO MANUAL DE TERRA (DESATERRO MANUAL), INCLUSIVE DESCARGA LATERAL, EXCLUSIVE RETIRADA E TRANSPORTE DO MATERIAL ESCAVADO | D42: M3 | E42: =(27.1*4+13.6+14+27+25+24.8+22.9)*0.7*0.3 -> 49.497 | F42: 41.84 | G42: =ROUND(F42+(F42*$H$10),2) -> 53.7 | H42: =ROUND((E42*G42),2) -> 2657.99
A43: 5.2 | B43: ED-51094 | C43: APILOAMENTO MECANIZADO EM FUNDO DE VALA COM PLACA VIBRATÓRIA, EXCLUSIVE ESCAVAÇÃO | D43: M2 | E43: =(27.1*4+13.6+14+27+25+24.8+22.9)*0.3 -> 70.71 | F43: 13.69 | G43: =ROUND(F43+(F43*$H$10),2) -> 17.57 | H43: =ROUND((E43*G43),2) -> 1242.37
A44: 5.3 | B44: ED-51121 | C44: REATERRO MANUAL DE VALA, INCLUSIVE ESPALHAMENTO E COMPACTAÇÃO MECANIZADA COM PLACA VIBRATÓRIA | D44: M3 | E44: =(27.1*4+13.6+14+27+25+24.8+22.9)*0.2*0.7 -> 32.998 | F44: 46.38 | G44: =ROUND(F44+(F44*$H$10),2) -> 59.52 | H44: =ROUND((E44*G44),2) -> 1964.04
A45: 5.4 | B45: CPU 01 | C45: CAIXA DE PASSAGEM EM ALVENARIA E TAMPA DE CONCRETO, FUNDO DE BRITA, TIPO 0,50X0,4X0,4 CM, INCLUSIVE ESCAVAÇÃO, REATERRO E BOTA FORA | D45: Unidade | E45: 10 | F45: 134.85 | G45: =ROUND(F45+(F45*$H$10),2) -> 173.07 | H45: =ROUND((E45*G45),2) -> 1730.7
...

Sheet Cronograma
A2: CRONOGRAMA FÍSICO-FINANCEIRO
A3: ='Planilha Orcamentaria'!$A$6:$E$6 -> PREFEITURA: PREFEITURA DE JABOTICATUBAS - MG | D3: VALOR DO CONVÊNIO: | E3: 200000 | F3: DATA: 12/11/2025 | G3: FOLHA Nº: 01/01
A4: PROGRAMA: ESPORTE LED - SEDESE-MG | F4: ='Planilha Orcamentaria'!A10 -> PRAZO DE EXECUÇÃO: 03 meses
A5: ='Planilha Orcamentaria'!$A$8 -> LOCAL: RUA ALCINO GONÇALVES – SÔ DUCA – CURRALINHO - ZONA RURAL – CEP: 35835-000 – DISTRITO DE SÃO JOSÉ DO ALMEIDA E AVENIDA DOM ORIONE, S/N – CAPÃO GROSSO – ZONA RURAL, MUNICÍPIO JABOTICATUBAS, MG, CEP: 35835-000
A6: ITENS | B6: ETAPAS/DESCRIÇÃO | C6: FÍSICO/ FINANCEIRO | D6: TOTAL ETAPAS | E6: MÊS 1 | F6: MÊS 2 | G6: MÊS 3
B7: ='Planilha Orcamentaria'!B13:H13 -> CAMPO DA COMUNIDADE DE CURRALINHO
A8: 1 | B8: SERVIÇOS PRELIMINARES | C8: Físico % | D8: 0.0239 | E8: 1 | F8: 0 | G8: 0
C9: Financeiro | D9: ='Planilha Orcamentaria'!$H$16 -> 5804.41 | E9: =E8*D9 -> 5804.41 | F9: =F8*D9 -> 0 | G9: =G8*D9 -> 0
A10: 2 | B10: EXECUÇÃO DA REDE ENTERRADA,E CAIXAS DE PASSAGEM | C10: Físico % | D10: 0.0195 | E10: 1 | F10: 0 | G10: 0
C11: Financeiro | D11: ='Planilha Orcamentaria'!$H$22 -> 7045.22 | E11: =E10*D11 -> 7045.22 | F11: =F10*D11 -> 0 | G11: =G10*D11 -> 0
A12: 3 | B12: INSTALAÇÕES ELÉTRICAS | C12: Físico % | D12: 0.9567 | E12: 0.4 | F12: 0.6 | G12: 0
C13: Financeiro | D13: ='Planilha Orcamentaria'!$H$35 -> 90708.09 | E13: =E12*D13 -> 36283.236 | F13: =F12*D13 -> 54424.854 | G13: =G12*D13 -> 0
B14: ='Planilha Orcamentaria'!B37:H37 -> CAMPO DA COMUNIDADE DE CAPÃO GROSSO
A15: 4 | B15: SERVIÇOS PRELIMINARES | C15: Físico % | D15: 0.0239 | E15: 1 | F15: 0 | G15: 0
C16: Financeiro | D16: ='Planilha Orcamentaria'!H40 -> 5804.41 | E16: =E15*D16 -> 5804.41 | F16: =F15*D16 -> 0 | G16: =G15*D16 -> 0
A17: 5 | B17: EXECUÇÃO DA REDE ENTERRADA,E CAIXAS DE PASSAGEM | C17: Físico % | D17: 0.0195 | E17: 0 | F17: 0.3 | G17: 0.7
C18: Financeiro | D18: ='Planilha Orcamentaria'!H46 -> 7595.1 | E18: =E17*D18 -> 0 | F18: =F17*D18 -> 2278.53 | G18: =G17*D18 -> 5316.57
A19: 6 | B19: INSTALAÇÕES ELÉTRICAS | C19: Físico % | D19: 0.9567 | E19: 0 | F19: 0.4 | G19: 0.6
C20: Financeiro | D20: ='Planilha Orcamentaria'!H59 -> 93919.97 | E20: =E19*D20 -> 0 | F20: =F19*D20 -> 37567.988 | G20: =G19*D20 -> 56351.982
A21: 7 | B21: ='Planilha Orcamentaria'!C60 -> REFORMA DO VESTIÁRIO | C21: Físico % | D21: 0.9567 | E21: 0 | F21: 0.4 | G21: 0.6
C22: Financeiro | D22: ='Planilha Orcamentaria'!H76 -> 23202.23 | E22: =E21*D22 -> 0 | F22: =F21*D22 -> 9280.892 | G22: =G21*D22 -> 13921.338
A23: TOTAL | C23: Físico % | D23: 1 | E23: =E24/D24 -> 0.23469502 | F23: =F24/D24 -> 0.44238088 | G23: =G24/D24 -> 0.3229241
C24: Financeiro | D24: =D9+D11+D13+D16+D18+D20+D22 -> 234079.43 | E24: =E9+E11+E13+E16+E18+E20+E22 -> 54937.276 | F24: =F9+F11+F13+F16+F18+F20+F22 -> 103552.26 | G24: =G9+G11+G13+G16+G18+G20+G22 -> 75589.89
A25: Joaquim Sant'Ana Santos Ferreira Engenheiro Civil CREA 161.352/D RACLY ANDRADE PREFEITO MUNICIPAL
