Workbook
Name af: #REF!
Name af: #REF!
Name af: #REF!
Name af: #REF!
Name af: #REF!
Name af: #REF!
Name af: #REF!
Name ag: #REF!
Name ag: #REF!
Name ag: #REF!
Name ag: #REF!
Name BALTO: #REF!
Name BALTO: #REF!
Name BALTO: #REF!
Name BALTO: #REF!
Name ce: #REF!
Name ce: #REF!
Name ce: #REF!
Name ce: #REF!
Name cho: #REF!
Name cho: #REF!
Name cho: #REF!
Name cho: #REF!
Name ci: #REF!
Name ci: #REF!
Name ci: #REF!
Name ci: #REF!
Name COMP.: #REF!
Name COMP.: #REF!
Name Cronograma: #REF!
Name Cronograma: #REF!
Name dfdfsdf: #REF!
Name dfdfsdf: #REF!
Name dfdfsdf: #REF!
Name dfdfsdf: #REF!
Name EDIFICAÇÃO: #REF!
Name EDIFICAÇÃO: #REF!
Name ERERERERERE: #REF!
Name ERERERERERE: #REF!
Name ERERERERERE: #REF!
Name ERERERERERE: #REF!
Name EWEWEWE: #REF!
Name EWEWEWE: #REF!
Name EWEWEWE: #REF!
Name EWEWEWE: #REF!
Name EWWEW: #REF!
Name EWWEW: #REF!
Name EWWEW: #REF!
Name EWWEW: #REF!
Name FisicoFinanceiro: #REF!
Name FisicoFinanceiro: #REF!
Name IMGBDI: IF(#REF!="RODOVIÁRIA",'REL. RUAS'!RODOVIÁRIA,IF(#REF!="EDIFICAÇÃO",'REL. RUAS'!EDIFICAÇÃO))
Name IMGBDI: IF(#REF!="RODOVIÁRIA",RODOVIÁRIA,IF(#REF!="EDIFICAÇÃO",EDIFICAÇÃO))
Name jazida5: #REF!
Name jazida5: #REF!
Name jazida5: #REF!
Name jazida5: #REF!
Name jazida6: #REF!
Name jazida6: #REF!
Name jazida6: #REF!

Sheet BDI 1
A1: PREFEITURA MUNICIPAL DE JABOTICATUBAS Secretaria Municipal de Planejamento Praça Nossa Senhora da Conceição, nº 38 - Centro Tel. (31) 3683-1021 - CNPJ: 18.715.417/0001-04
A8: CÁLCULO DO BDI 1
B11: ='Memoria de Cálculo'!C6 -> OBRA: PAVIMENTAÇÃO EM CONCRETO BETUMINOSO USINADO A QUENTE, DRENAGEM SUPERFICIAL E SINALIZAÇÃO.
C13: VALORES ADOTADOS:
B15: AC | C15: ADMINISTRAÇÃO CENTRAL | E15: 0.0467
B17: DF | C17: DESPESAS FINANCEIRAS | E17: 0.0105
B19: S G R | C19: SEGUROS, GARANTIAS E RISCO | E19: 0.0171
C21: ISS | E21: 2 | F21: %
B22: I | C22: PIS | E22: 0.65 | F22: %
C23: COFINS | E23: 3 | F23: %
C24: TOTAL "I" = | E24: =(E21+E22+E23)/100 -> 0.0565
B26: E | C26: CPRB | E26: 0
B28: L | C28: LUCRO | E28: 0.0753
B30: FÓRMULA DE CÁLCULO:
B32: BDI = | C32: (1 + ( AC + S + G + R)) X (1 + DF) X (1 + L) | I32: - 1
C33: ( 1 - ( I + CPRB))
B36: CÁLCULO:
B38: BDI = | C38: =(1+(E15+E19))*(1+E17)*(1+E28) -> 1.1559151 | G38: - | H38: 1 | I38: = | J38: =ROUNDDOWN((C38/C39)-1,4) -> 0.2251
C39: =ABS(1-(E24+E26)) -> 0.9435
C42: O VALOR DO BDI ADOTADO É DE : | E42: =J38 -> 0.2251
C44: =TODAY() -> 46134
B46: Os cálculos estão em conformidade ao " CONFORME ACÓRDÃO Nº 2622/13 e LEI Nº 13.161 DE 31/08/15) "

Sheet Localização - Pavimentação (2)
A6: LOCALIZAÇÃO DAS OBRAS - PAVIMENTAÇÃO
A9: INFORMAÇÕES GERAIS
A11: ='PLANILHA '!B9 -> COVENENTE: PREFEITURA MUNICIPAL DE JABOTICATUBAS
A12: ='PLANILHA '!B10 -> OBRA: PAVIMENTAÇÃO EM CONCRETO BETUMINOSO USINADO A QUENTE, DRENAGEM SUPERFICIAL E SINALIZAÇÃO.
A13: Responsável Técnico: Jessé Simões Siqueira
A14: ='[3]PLANILHA (4)'!B13 -> Data: | B14: =TODAY() -> 46134
A15: PLANILHA DE LOCALIZAÇÃO DAS OBRAS - PAVIMENTAÇÃO
A16: ITEM | B16: Logradouro | C16: Localidade | D16: PROJETO
D17: Comprimento (M) | E17: Largura Média (M) | F17: Área (M²)
D18: C | E18: L | F18: C x L
A19: 1 | B19: Rua do Sítio | C19: Cidade | D19: 297.86 | E19: =F19/D19 -> 4.782616 | F19: 1424.55
A20: 1 | B20: Trevessa dos Atletas | C20: Cidade | D20: 83.99 | E20: =F20/D20 -> 4.589594 | F20: 385.48
A21: TOTAL | D21: =SUM(D19:D20) -> 381.85 | E21: - | F21: =SUM(F19:F20) -> 1810.03
B26: ='PLANILHA '!D64 -> Responsável Técnico: | E26: Engenheri Civil: CREA: 180586/D
B28: Observações:
B29: - Não preencher células em cinza.
B30: - Deve ser utilizada a mesma planilha em toda a obra, mantendo o histórico das medições.
B31: - Colocar somente os trechos efetivamente pavimentados.

Sheet BDI 2
A1: PREFEITURA MUNICIPAL DE JABOTICATUBAS Secretaria Municipal de Planejamento Praça Nossa Senhora da Conceição, nº 38 - Centro Tel. (31) 3683-1021 - CNPJ: 18.715.417/0001-04
A8: CÁLCULO DO BDI 2 - MATERIAL
B11: ='Memoria de Cálculo'!C6 -> OBRA: PAVIMENTAÇÃO EM CONCRETO BETUMINOSO USINADO A QUENTE, DRENAGEM SUPERFICIAL E SINALIZAÇÃO.
C13: VALORES ADOTADOS:
B15: AC | C15: ADMINISTRAÇÃO CENTRAL | E15: 0.0342
B17: DF | C17: DESPESAS FINANCEIRAS | E17: 0.0105
B19: S G R | C19: SEGUROS, GARANTIAS E RISCO | E19: 0.0129
C21: ISS | E21: 0 | F21: %
B22: I | C22: PIS | E22: 0.65 | F22: %
C23: COFINS | E23: 3 | F23: %
C24: TOTAL "I" = | E24: =(E21+E22+E23)/100 -> 0.0365
B26: E | C26: CPRB | E26: 0
B28: L | C28: LUCRO | E28: 0.0494
B30: FÓRMULA DE CÁLCULO:
B32: BDI = | C32: (1 + ( AC + S + G + R)) X (1 + DF) X (1 + L) | I32: - 1
C33: ( 1 - ( I + CPRB))
B36: CÁLCULO:
B38: BDI = | C38: =(1+(E15+E19))*(1+E17)*(1+E28) -> 1.1103644 | G38: - | H38: 1 | I38: = | J38: =ROUNDDOWN((C38/C39)-1,4) -> 0.1524
C39: =ABS(1-(E24+E26)) -> 0.9635
C42: O VALOR DO BDI ADOTADO É DE : | E42: =J38 -> 0.1524
C44: =TODAY() -> 46134
B46: Os cálculos estão em conformidade ao " CONFORME ACÓRDÃO Nº 2622/13 e LEI Nº 13.161 DE 31/08/15) "

Sheet REL. RUAS
B1: PREFEITURA MUNICIPAL DE JABOTICATUBAS Secretaria Municipal de Planejamento Praça Nossa Senhora da Conceição, nº 38 - Centro Tel. (31) 3683-1021 - CNPJ: 18.715.417/0001-04
A5: PREFEITURA MUNICIPAL DE JABOTICATUBAS - MG.
A7: SERVIÇOS DE PAVIMENTAÇÃO
A9: BAIRRO | B9: RUA | C9: REG. | D9: COMPRIMENTO (m) | E9: LARGURA MÉDIA (m) | F9: ÁREA DE PAVIMENTAÇÃO(m2) | G9: SARJETA (m) | H9: MEIO-FIO (m)
A10: SÃO JOSÉ DO ALMEIDA | B10: RUA FRANCISCO TEIXEIRA LOMBA | C10: =ROUND(D10*6.86,2) -> 927.27 | D10: 135.17 | E10: 6 | F10: =ROUND(D10*E10,2) -> 811.02 | G10: =ROUND(D10*2,2) -> 270.34 | H10: =G10 -> 270.34
A11: TOTAL GERAL | C11: =SUM(C10) -> 927.27 | D11: =SUM(D10:D10) -> 135.17 | E11: - | F11: =SUM(F10:F10) -> 811.02 | G11: =SUM(G10:G10) -> 270.34 | H11: =SUM(H10:H10) -> 270.34

Sheet PLANILHA 
E1: PREFEITURA MUNICIPAL DE JABOTICATUBAS Secretaria Municipal de Planejamento Praça Nossa Senhora da Conceição, nº 38 - Centro Tel. (31) 3683-1021 - CNPJ: 18.715.417/0001-04
B7: PLANILHA ORÇAMENTÁRIA DE CUSTOS
B9: COVENENTE: PREFEITURA MUNICIPAL DE JABOTICATUBAS | H9: FOLHA Nº:
B10: OBRA: PAVIMENTAÇÃO EM CONCRETO BETUMINOSO USINADO A QUENTE, DRENAGEM SUPERFICIAL E SINALIZAÇÃO. | H10: DATA: | I10: =TODAY() -> 46134
B11: LOCAL: RUA FRANCISCO TEIXEIRA LOMBA, SÃO JOSÉ DO ALMEIDA, JABOTICATUBAS - MG | G11: FORMA DE EXECUÇÃO:
B12: REGIÃO/MÊS DE REFERÊNCIA: SICRO (DNIT) JULHO 2025 S/ DESONERAÇÃO / SICOR JEQUITINHONHA E MUCURI JULHO 2025 S/ DESONERAÇÃO / SINAPI AGOSTO 2025 S/ DESONERAÇÃO | G12: ( ) | H12: DIRETA | I12: ( x ) | J12: INDIRETA
B13: PRAZO DE EXECUÇÃO: 2 Meses | I13: BDI 1 | J13: =ROUNDDOWN((((1+G19+G16+G17)*(1+G18)*(1+G20))/(1-G21))-1,4) -> 0.2251
I14: BDI 2 | J14: ='BDI 2'!J38 -> 0.1524
B15: Composição do BDI sugerida | E15: Intervalos admissíveis sem justificativa | F15: Composição de BDI Adotada
B16: Garantia (G) | E16: De 0,32 % até 0,74 % | F16: Garantia: | G16: 0.0074 | H16: BDI = (1+AC+S+R+G)*(1+DF)*(1+L) (1- (1-T)) Observações: i) Fórmula de cálculo, composição do BDI e intervalos admissíveis nos termos do Acórdão 2622/2013 do TCU; ii) BDI entre 19,60% e 24,23%. Iii) Tributos - ISS = 2,0 % / COFINS = 3% / PIS = 0,65 % / CPRB = 0,0 % iv) ISS Jaboticatubas = 4,0 %
B17: Risco (R) | E17: De 0,50 % até 0,97 % | F17: Risco: | G17: 0.0097
B18: Despesas financeiras (DF) | E18: De 1,02 % até 1,21 % | F18: Despesas financeiras: | G18: 0.0105
B19: Administração Central (AC) | E19: De 3,80 % até 4,67 % | F19: Administração central: | G19: 0.0467
B20: Lucro (L) | E20: De 6,64 % até 8,69 % | F20: Lucro: | G20: 0.0753
B21: Tributos (T) | E21: Conforme Legislação | F21: Tributos: | G21: 0.0565
B23: ITEM | C23: FONTE | D23: CÓDIGO | E23: DESCRIÇÃO | F23: UNIDADE | G23: QUANTIDADE | H23: PREÇO UNITÁRIO S/ LDI | I23: PREÇO UNITÁRIO C/ LDI | J23: PREÇO TOTAL
B25: 1 | E25: SERVIÇOS PRELIMINARES | J25: =SUM(J26:J28) -> 5367.315
B26: 1.1 | C26: SINAPI | D26: 103689 | E26: FORNECIMENTO E INSTALAÇÃO DE PLACA DE OBRA COM CHAPA GALVANIZADA E ESTRUTURA DE MADEIRA. AF_03/2022_PS | F26: M2 | G26: 4.5 | H26: 501.25 | I26: =ROUND(H26+(H26*J$13),2) -> 614.08 | J26: =ROUND(G26*I26,7) -> 2763.36
B27: 1.2 | C27: SICOR | D27: ED-50155 | E27: LOCAÇÃO DE BANHEIRO QUÍMICO, DIMENSÃO (110X120X230)CM, LINHA PADRÃO, CONTENDO UMA (1) PIA/HIGIENIZADOR DE MÃOS, INCLUSIVE MANUTENÇÃO E MOBILIZAÇÃO/DESMOBILIZAÇÃO | F27: MÊS | G27: 2 | H27: 980 | I27: =ROUND(H27+(H27*J$13),2) -> 1200.6 | J27: =ROUND(G27*I27,7) -> 2401.2
B28: 1.3 | C28: SINAPI | D28: 105011 | E28: EXECUÇÃO DE LINHAS DE REFERÊNCIA EM GABARITO OU CAVALETE. AF_03/2024 | F28: M | G28: =ROUND('REL. RUAS'!D10*2,2) -> 270.34 | H28: 0.61 | I28: =ROUND(H28+(H28*J$13),2) -> 0.75 | J28: =ROUND(G28*I28,7) -> 202.755
B30: 2 | E30: ADMINISTRAÇÃO LOCAL | J30: =SUM(J31:J32) -> 55995.1
B31: 2.1 | C31: SICRO-MO | D31: P9893 | E31: Encarregado de pavimentação | F31: MÊS | G31: 2 | H31: 9542.6471 | I31: =ROUND(H31+(H31*J$13),2) -> 11690.7 | J31: =ROUND(G31*I31,7) -> 23381.4
B32: 2.2 | C32: SICRO-MO | D32: P9812 | E32: Engenheiro | F32: MÊS | G32: 1 | H32: 26621.255 | I32: =ROUND(H32+(H32*J$13),2) -> 32613.7 | J32: =ROUND(G32*I32,7) -> 32613.7
B34: 3 | E34: SERVIÇOS DE PAVIMENTAÇÃO | J34: =SUM(J35:J46) -> 138589.11
B35: 3.1 | C35: SICOR | D35: RO-00267 | E35: Regularização do sub leito - 100% Proctor intermediário | F35: M2 | G35: ='REL. RUAS'!C11 -> 927.27 | H35: 0.99 | I35: =ROUND(H35+(H35*J$13),2) -> 1.21 | J35: =ROUND(G35*I35,7) -> 1121.9967
B36: 3.2 | C36: SICOR | D36: RO-00337 | E36: Base ou sub-base estabilizada granulometricamente com mistura na pista de solo bica corrida (30% - 70%), com material de jazida e bica corrida comercial - Compactado na energia modificada (Execução, incluído escavação e carga do material de jazida, fornecimento e carga da bica corrida, exclui o transporte) | F36: M3 | G36: =ROUND(G35*0.15,2) -> 139.09 | H36: 100.72 | I36: =ROUND(H36+(H36*J$13),2) -> 123.39 | J36: =ROUND(G36*I36,7) -> 17162.315
B37: 3.3 | C37: SINAPI | D37: 004741 | E37: BICA CORRIDA (POSTO PEDREIRA/FORNECEDOR, SEM FRETE) - COMPLEMENTO | F37: M3 | G37: =ROUND(G36*0.3,2) -> 41.73 | H37: 119.89 | I37: =ROUND(H37+(H37*J$13),2) -> 146.88 | J37: =ROUND(G37*I37,7) -> 6129.3024
B38: 3.4 | C38: SICOR | D38: RO-00515 | E38: Transporte de bica corrida produzida ou comercial até a pista com caminhão basculante de 12 m3 em piso pavimentado | F38: TXKM | G38: =ROUND(G36*1.5*66.3,2) -> 13832.5 | H38: 0.66 | I38: =ROUND(H38+(H38*J$13),2) -> 0.81 | J38: =ROUND(G38*I38,7) -> 11204.325
B39: 3.5 | C39: SICOR | D39: RO-00388 | E39: Imprimação com emulsão asfáltica (Execução, exclui fornecimento e transporte do material betuminoso até a obra) | F39: M2 | G39: ='REL. RUAS'!F11 -> 811.02 | H39: 0.41 | I39: =ROUND(H39+(H39*J$13),2) -> 0.5 | J39: =ROUND(G39*I39,7) -> 405.51
B40: 3.6 | C40: DER-MG | D40: ARP-077/2025 | E40: emulsão asfáltica para imprimação | F40: TON | G40: =ROUND(G39*0.0013,2) -> 1.05 | H40: 2699.43 | I40: =ROUND(H40+(H40*$J$14),2) -> 3110.82 | J40: =ROUND(G40*I40,7) -> 3266.361
B41: 3.7 | C41: SICRO | D41: 5914622 | E41: Transporte de material betuminoso com caminhão tanque distribuidor - rodovia pavimentada | F41: TXKM | G41: =ROUND(G40*89.5,2) -> 93.98 | H41: 2.22 | I41: =ROUND(H41+(H41*J$13),2) -> 2.72 | J41: =ROUND(G41*I41,7) -> 255.6256
B42: 3.8 | C42: SICOR | D42: RO-00389 | E42: Pintura de ligação (Execução, exclui fornecimento e transporte do material betuminoso até a obra) | F42: M2 | G42: =G39 -> 811.02 | H42: 0.32 | I42: =ROUND(H42+(H42*J$13),2) -> 0.39 | J42: =ROUND(G42*I42,7) -> 316.2978
B43: 3.9 | C43: DER-MG | D43: ARP-077/2025 | E43: emulsão asfáltica RR-1C | F43: Ton | G43: =ROUND(G42*0.0005,2) -> 0.41 | H43: 3469.43 | I43: =ROUND(H43+(H43*J$13),2) -> 4250.4 | J43: =ROUND(G43*I43,7) -> 1742.664
B44: 3.10 | C44: SICRO | D44: 5914622 | E44: Transporte de material betuminoso com caminhão tanque distribuidor - rodovia pavimentada | F44: TXKM | G44: =ROUND(G43*89.5,2) -> 36.7 | H44: 2.22 | I44: =ROUND(H44+(H44*J$13),2) -> 2.72 | J44: =ROUND(G44*I44,7) -> 99.824
B45: 3.11 | C45: SICOR | D45: ED-7623 | E45: EXECUÇÃO E APLICAÇÃO DE CONCRETO BETUMINOSO USINADO A QUENTE (CBUQ), MASSA COMERCIAL, INCLUINDO FORNECIMENTO E TRANSPORTE DOS AGREGADOS E MATERIAL BETUMINOSO, EXCLUSIVE TRANSPORTE DA MASSA ASFÁLTICA ATÉ A PISTA | F45: M3 | G45: =ROUND(G39*0.05,2) -> 40.55 | H45: 1811.95 | I45: =ROUND(H45+(H45*J$13),2) -> 2219.82 | J45: =ROUND(G45*I45,7) -> 90013.701
B46: 3.12 | C46: SICOR | D46: RO-3872 | E46: Transporte em caminhão basculante com capacidade de 12 m3 - rodovia pavimentada | F46: TXKM | G46: =ROUND(G45*2.4*92.9,2) -> 9041.03 | H46: 0.66 | I46: =ROUND(H46+(H46*$J$14),2) -> 0.76 | J46: =ROUND(G46*I46,7) -> 6871.1828
B48: 4 | E48: SERVIÇOS COMPLEMENTARES | J48: =SUM(J49:J50) -> 23952.124
B49: 4.1 | C49: SINAPI | D49: 94263 | E49: GUIA (MEIO-FIO) CONCRETO, MOLDADA IN LOCO EM TRECHO RETO COM EXTRUSORA, 13 CM BASE X 22 CM ALTURA. AF_01/2024 | F49: M | G49: =G50 -> 270.34 | H49: 37 | I49: =ROUND(H49+(H49*J$13),2) -> 45.33 | J49: =ROUND(G49*I49,7) -> 12254.512
B50: 4.2 | C50: SINAPI | D50: 94287 | E50: EXECUÇÃO DE SARJETA DE CONCRETO USINADO, MOLDADA IN LOCO EM TRECHO RETO, 30 CM BASE X 10 CM ALTURA. AF_01/2024 | F50: M | G50: ='REL. RUAS'!H10 -> 270.34 | H50: 35.32 | I50: =ROUND(H50+(H50*J$13),2) -> 43.27 | J50: =ROUND(G50*I50,7) -> 11697.612
B52: 5 | E52: SINALIZAÇÃO VIÁRIA | J52: =SUM(J53:J56) -> 7019.4088
...

Sheet Memoria de Cálculo
B2: PREFEITURA MUNICIPAL DE JABOTICATUBAS Secretaria Municipal de Planejamento Praça Nossa Senhora da Conceição, nº 38 - Centro Tel. (31) 3683-1021 - CNPJ: 18.715.417/0001-04
C5: ='Localização - Pavimentação (2)'!A11 -> COVENENTE: PREFEITURA MUNICIPAL DE JABOTICATUBAS
C6: ='Localização - Pavimentação (2)'!A12 -> OBRA: PAVIMENTAÇÃO EM CONCRETO BETUMINOSO USINADO A QUENTE, DRENAGEM SUPERFICIAL E SINALIZAÇÃO.
C7: ='PLANILHA '!B11 -> LOCAL: RUA FRANCISCO TEIXEIRA LOMBA, SÃO JOSÉ DO ALMEIDA, JABOTICATUBAS - MG
B8: MEMÓRIA DE CÁLCULO
B9: ITEM | C9: DESCRIÇÃO | D9: FÓRMULA | G9: TOTAL | H9: UNID. | I9: OBSERVAÇÃO
B10: ='PLANILHA '!B26 -> 1.1 | C10: ='PLANILHA '!E26 -> FORNECIMENTO E INSTALAÇÃO DE PLACA DE OBRA COM CHAPA GALVANIZADA E ESTRUTURA DE MADEIRA. AF_03/2022_PS | D10: 3x1,5 = 4,5 M2 | G10: ='PLANILHA '!G26 -> 4.5 | H10: ='PLANILHA '!F26 -> M2
B11: ='PLANILHA '!B27 -> 1.2 | C11: ='PLANILHA '!E27 -> LOCAÇÃO DE BANHEIRO QUÍMICO, DIMENSÃO (110X120X230)CM, LINHA PADRÃO, CONTENDO UMA (1) PIA/HIGIENIZADOR DE MÃOS, INCLUSIVE MANUTENÇÃO E MOBILIZAÇÃO/DESMOBILIZAÇÃO | D11: 2,0 MESES DE LOCAÇÃO | G11: ='PLANILHA '!G27 -> 2 | H11: ='PLANILHA '!F27 -> MÊS
B12: ='PLANILHA '!B28 -> 1.3 | C12: ='PLANILHA '!E28 -> EXECUÇÃO DE LINHAS DE REFERÊNCIA EM GABARITO OU CAVALETE. AF_03/2024 | D12: 135,17 X 2,0 = 270,34 M | G12: ='PLANILHA '!G28 -> 270.34 | H12: ='PLANILHA '!F28 -> M | I12: EXTENSÃO DO TRECHO = 135,17M
B14: ='PLANILHA '!B31 -> 2.1 | C14: ='PLANILHA '!E31 -> Encarregado de pavimentação | D14: 2,0 MESES DE OBRA | G14: ='PLANILHA '!G31 -> 2 | H14: ='PLANILHA '!F31 -> MÊS
B15: ='PLANILHA '!B32 -> 2.2 | C15: ='PLANILHA '!E32 -> Engenheiro | D15: MEIO PERIODO DURANTE 2 MÊS | G15: ='PLANILHA '!G32 -> 1 | H15: ='PLANILHA '!F32 -> MÊS
B17: ='PLANILHA '!B35 -> 3.1 | C17: ='PLANILHA '!E35 -> Regularização do sub leito - 100% Proctor intermediário | D17: 135,17X6,86 = 927,27 M2 | G17: ='PLANILHA '!G35 -> 927.27 | H17: ='PLANILHA '!F35 -> M2 | I17: EXTENSÃO DO TRECHO= 135,17 M LARGURA DA VIA = 6,86 M
B18: ='PLANILHA '!B36 -> 3.2 | C18: ='PLANILHA '!E36 -> Base ou sub-base estabilizada granulometricamente com mistura na pista de solo bica corrida (30% - 70%), com material de jazida e bica corrida comercial - Compactado na energia modificada (Execução, incluído escavação e carga do material de jazida, fornecimento e carga da bica corrida, exclui o transporte) | D18: 927,27 X 0,15 = 139,09 M3 | G18: ='PLANILHA '!G36 -> 139.09 | H18: ='PLANILHA '!F36 -> M3 | I18: ESPESSURADA DA BASE 15CM.
B19: ='PLANILHA '!B37 -> 3.3 | C19: ='PLANILHA '!E37 -> BICA CORRIDA (POSTO PEDREIRA/FORNECEDOR, SEM FRETE) - COMPLEMENTO | D19: 139,09X0,3 = 41,73 M3 | G19: ='PLANILHA '!G37 -> 41.73 | H19: ='PLANILHA '!F37 -> M3 | I19: COMPLEMENTO DE 30%
B20: ='PLANILHA '!B38 -> 3.4 | C20: ='PLANILHA '!E38 -> Transporte de bica corrida produzida ou comercial até a pista com caminhão basculante de 12 m3 em piso pavimentado | D20: 139,09X1,5X66,30= 13.832,50 TXKM | G20: ='PLANILHA '!G38 -> 13832.5 | H20: ='PLANILHA '!F38 -> TXKM | I20: DMT DA BICA = 66,30 KM
B21: ='PLANILHA '!B39 -> 3.5 | C21: ='PLANILHA '!E39 -> Imprimação com emulsão asfáltica (Execução, exclui fornecimento e transporte do material betuminoso até a obra) | D21: 135,17X6,0= 811,02 M2 | G21: ='PLANILHA '!G39 -> 811.02 | H21: ='PLANILHA '!F39 -> M2 | I21: EXTENSÃO DO TRECHO= 135,17 M LARGURA DA CAPA =6,0 M
B22: ='PLANILHA '!B40 -> 3.6 | C22: ='PLANILHA '!E40 -> emulsão asfáltica para imprimação | D22: 811,02X0,0013 = 1,05 TON | G22: ='PLANILHA '!G40 -> 1.05 | H22: ='PLANILHA '!F40 -> TON | I22: TAXA DE EMULSÃO PARA IMPRIMAÇÃO: 1,3 L/M2
B23: ='PLANILHA '!B41 -> 3.7 | C23: ='PLANILHA '!E41 -> Transporte de material betuminoso com caminhão tanque distribuidor - rodovia pavimentada | D23: 1,05X89,50 =93,98 TXKM | G23: ='PLANILHA '!G41 -> 93.98 | H23: ='PLANILHA '!F41 -> TXKM | I23: DMT DA EMULSÃO: 89,5 KM
B24: ='PLANILHA '!B42 -> 3.8 | C24: ='PLANILHA '!E42 -> Pintura de ligação (Execução, exclui fornecimento e transporte do material betuminoso até a obra) | D24: =D21 -> 135,17X6,0= 811,02 M2 | G24: ='PLANILHA '!G42 -> 811.02 | H24: ='PLANILHA '!F42 -> M2
B25: ='PLANILHA '!B43 -> 3.9 | C25: ='PLANILHA '!E43 -> emulsão asfáltica RR-1C | D25: 811,02X0,0005 =0,41TON | G25: ='PLANILHA '!G43 -> 0.41 | H25: ='PLANILHA '!F43 -> Ton | I25: TAXA DE RR-1C: 0,5 L/M2
B26: ='PLANILHA '!B44 -> 3.10 | C26: ='PLANILHA '!E44 -> Transporte de material betuminoso com caminhão tanque distribuidor - rodovia pavimentada | D26: 0,41X89,50 = 36,70 TXKM | G26: ='PLANILHA '!G44 -> 36.7 | H26: ='PLANILHA '!F44 -> TXKM | I26: DMT DA EMULSÃO: 89,5 KM
B27: ='PLANILHA '!B45 -> 3.11 | C27: ='PLANILHA '!E45 -> EXECUÇÃO E APLICAÇÃO DE CONCRETO BETUMINOSO USINADO A QUENTE (CBUQ), MASSA COMERCIAL, INCLUINDO FORNECIMENTO E TRANSPORTE DOS AGREGADOS E MATERIAL BETUMINOSO, EXCLUSIVE TRANSPORTE DA MASSA ASFÁLTICA ATÉ A PISTA | D27: 811,02X0,05 = 40,55 M3 | G27: ='PLANILHA '!G45 -> 40.55 | H27: ='PLANILHA '!F45 -> M3 | I27: ESPESSURA DA CAMADA 5 CM
B28: ='PLANILHA '!B46 -> 3.12 | C28: ='PLANILHA '!E46 -> Transporte em caminhão basculante com capacidade de 12 m3 - rodovia pavimentada | D28: 40,55X2,4X92,9 = 9.041,03 TXKM | G28: ='PLANILHA '!G46 -> 9041.03 | H28: ='PLANILHA '!F46 -> TXKM | I28: DMT DA MASSA: 92,9 KM DENSIDADE: 2,4 TON/M3
B30: ='PLANILHA '!B49 -> 4.1 | C30: ='PLANILHA '!E49 -> GUIA (MEIO-FIO) CONCRETO, MOLDADA IN LOCO EM TRECHO RETO COM EXTRUSORA, 13 CM BASE X 22 CM ALTURA. AF_01/2024 | D30: 135,17X2,0 = 270,34 M | G30: ='PLANILHA '!G49 -> 270.34 | H30: ='PLANILHA '!F49 -> M | I30: =I31 -> CONFORME PROJETO DE DRENAGEM
B31: ='PLANILHA '!B50 -> 4.2 | C31: ='PLANILHA '!E50 -> EXECUÇÃO DE SARJETA DE CONCRETO USINADO, MOLDADA IN LOCO EM TRECHO RETO, 30 CM BASE X 10 CM ALTURA. AF_01/2024 | D31: =D30 -> 135,17X2,0 = 270,34 M | G31: ='PLANILHA '!G50 -> 270.34 | H31: ='PLANILHA '!F50 -> M | I31: CONFORME PROJETO DE DRENAGEM
B33: ='PLANILHA '!B53 -> 5.1 | C33: ='PLANILHA '!E53 -> PINTURA DE EIXO VIÁRIO SOBRE ASFALTO COM TINTA RETRORREFLETIVA A BASE DE RESINA ACRÍLICA COM MICROESFERAS DE VIDRO, E = 10 CM, APLICAÇÃO MECÂNICA COM DEMARCADORA AUTOPROPELIDA. AF_05/2021 | D33: 383,25 M | G33: ='PLANILHA '!G53 -> 383.25 | H33: ='PLANILHA '!F53 -> M | I33: CONFORME LISTA DO PROJETO DE SINALIZAÇÃO.
B34: ='PLANILHA '!B54 -> 5.2 | C34: ='PLANILHA '!E54 -> PINTURA DE FAIXA DE PEDESTRE OU ZEBRADA TINTA RETRORREFLETIVA A BASE DE RESINA ACRÍLICA COM MICROESFERAS DE VIDRO, E = 30 CM, APLICAÇÃO MANUAL. AF_05/2021 | D34: 38,40 M2 | G34: ='PLANILHA '!G54 -> 38.4 | H34: ='PLANILHA '!F54 -> M2 | I34: CONFORME LISTA DO PROJETO DE SINALIZAÇÃO.
B35: ='PLANILHA '!B55 -> 5.3 | C35: ='PLANILHA '!E55 -> Placa em aço nº 16 galvanizado com película retrorrefletiva tipo I + III - confecção | D35: 1,23 M2 | G35: ='PLANILHA '!G55 -> 1.23 | H35: ='PLANILHA '!F55 -> M2 | I35: CONFORME LISTA DO PROJETO DE SINALIZAÇÃO.
B36: ='PLANILHA '!B56 -> 5.4 | C36: ='PLANILHA '!E56 -> Suporte para placa de sinalização em madeira de lei tratada 8 x 8 cm - fornecimento e implantação | D36: 8,0 UNIDADES | G36: ='PLANILHA '!G56 -> 8 | H36: ='PLANILHA '!F56 -> UND | I36: CONFORME LISTA DO PROJETO DE SINALIZAÇÃO.
C40: Ricardo Santos Soares 160878/D
C41: ='Localização - Pavimentação (2)'!B26 -> Responsável Técnico: | E41: ='PLANILHA '!G64 -> CREA
C44: =16 + 18.28 + 13.65 + 14.83 + 21.26 + 21.33 + 14.87 + 13.73 + 18.22 + 14.78 -> 166.95
C45: =3.67 + 9.42 + 5.42 + 16.69 + 40.93 + 3.13 + 2.11 + 3.61 + 48.53 + 2.55 + 26.46 + 13.97 + 11.21 + 17.96 + 17.96 + 5.84 + 15.53 + 15.54 + 11.21 + 13.9 + 31.03 + 35.98 + 22.44 + 5.58 + 30.4 + 15.31 + 31.41 + 25.16 + 36.21 + 6.98 + 4.1 + 2.94 -> 533.18

Sheet CRONOGRAMA
A1: PREFEITURA MUNICIPAL DE JABOTICATUBAS Secretaria Municipal de Planejamento Praça Nossa Senhora da Conceição, nº 38 - Centro Tel. (31) 3683-1021 - CNPJ: 18.715.417/0001-04
A3: CRONOGRAMA FÍSICO-FINANCEIRO
A4: ='PLANILHA '!B9 -> COVENENTE: PREFEITURA MUNICIPAL DE JABOTICATUBAS | D4: VALOR DO CONVÊNIO: | F4: =E18 -> 230923.05 | H4: ='PLANILHA '!H10 -> DATA: | I4: ='PLANILHA '!I10 -> 46134
A5: ='PLANILHA '!B10 -> OBRA: PAVIMENTAÇÃO EM CONCRETO BETUMINOSO USINADO A QUENTE, DRENAGEM SUPERFICIAL E SINALIZAÇÃO. | D5: ='PLANILHA '!B11 -> LOCAL: RUA FRANCISCO TEIXEIRA LOMBA, SÃO JOSÉ DO ALMEIDA, JABOTICATUBAS - MG | H5: ='PLANILHA '!B13 -> PRAZO DE EXECUÇÃO: 2 Meses
A6: ITEM | B6: CÓD | C6: ETAPAS/DESCRIÇÃO | D6: FÍSICO/ FINANCEIRO | E6: TOTAL ETAPAS | F6: MÊS 1 | G6: MÊS 2 | H6: MÊS 3 | I6: MÊS 4 | J6: MÊS 5 | K6: MÊS 6
A7: ='PLANILHA '!B25 -> 1 | C7: ='PLANILHA '!E25 -> SERVIÇOS PRELIMINARES | D7: Físico % | E7: =E8/E$18 -> 0.023242872 | F7: 0.8 | G7: 0.2 | H7: 0 | I7: 0 | L7: =SUM(F7:K7) -> 1
D8: Financeiro | E8: ='PLANILHA '!J25 -> 5367.315 | F8: =F7*$E$8 -> 4293.852 | G8: =G7*$E$8 -> 1073.463 | H8: =H7*$E$8 -> 0 | I8: =I7*$E$8 -> 0 | J8: =J7*$E$8 -> 0 | K8: =K7*$E$8 -> 0 | M8: =SUM(F8:K8) -> 5367.315
A9: ='PLANILHA '!B30 -> 2 | C9: ='PLANILHA '!E30 -> ADMINISTRAÇÃO LOCAL | D9: Físico % | E9: =E10/E$18 -> 0.2424838 | F9: 0.5 | G9: 0.5 | H9: 0 | I9: 0 | L9: =SUM(F9:K9) -> 1
D10: Financeiro | E10: ='PLANILHA '!J30 -> 55995.1 | F10: =F9*$E$10 -> 27997.55 | G10: =G9*$E$10 -> 27997.55 | H10: =H9*$E$10 -> 0 | I10: =I9*$E$10 -> 0 | J10: =J9*$E$10 -> 0 | K10: =K9*$E$10 -> 0 | M10: =SUM(F10+G10+H10+#REF!)-E10 -> #REF!
A11: ='PLANILHA '!B34 -> 3 | C11: ='PLANILHA '!E34 -> SERVIÇOS DE PAVIMENTAÇÃO | D11: Físico % | E11: =E12/E$18 -> 0.60015275 | F11: 0.6 | G11: 0.4
D12: Financeiro | E12: ='PLANILHA '!J34 -> 138589.11 | F12: =F11*$E$12 -> 83153.463 | G12: =G11*$E$12 -> 55435.642
A13: ='PLANILHA '!B48 -> 4 | C13: ='PLANILHA '!E48 -> SERVIÇOS COMPLEMENTARES | D13: Físico % | E13: =E14/E$18 -> 0.1037234 | F13: 0 | G13: 1 | I13: 0 | L13: =SUM(F13:K13) -> 1
D14: Financeiro | E14: ='PLANILHA '!J48 -> 23952.124 | F14: =F13*$E$14 -> 0 | G14: =G13*$E$14 -> 23952.124 | H14: =H13*$E$14 -> 0 | I14: =I13*$E$14 -> 0 | J14: =J13*$E$14 -> 0 | K14: =K13*$E$14 -> 0
A15: ='PLANILHA '!B52 -> 5 | C15: ='PLANILHA '!E52 -> SINALIZAÇÃO VIÁRIA | D15: Físico % | E15: =E16/E$18 -> 0.030397176 | F15: 0 | G15: 1 | H15: 0 | I15: 0 | L15: =SUM(F15:K15) -> 1
D16: Financeiro | E16: ='PLANILHA '!J52 -> 7019.4088 | F16: =F15*$E$16 -> 0 | G16: =G15*$E$16 -> 7019.4088 | H16: =H15*$E$16 -> 0 | I16: =I15*$E$16 -> 0 | M16: =SUM(F16:K16) -> 7019.4088
A17: TOTAL | D17: Físico % | E17: =SUM(E7+E9+E11+E13+E15) -> 1 | F17: =F18/$E$18 -> 0.49992785 | G17: =G18/$E$18 -> 0.50007215 | H17: =H18/$E$18 -> 0 | I17: =I18/$E$18 -> 0 | J17: =J18/$E$18 -> 0 | K17: =K18/$E$18 -> 0 | M17: =SUM(F17:K17) -> 1
D18: Financeiro | E18: =SUM(E8+E10+E12+E14+E16) -> 230923.05 | F18: =SUM(F8+F10+F12+F14+F16) -> 115444.87 | G18: =SUM(G8+G10+G12+G14+G16) -> 115478.19 | H18: =SUM(H8+H10+H12+H14+H16) -> 0 | I18: =SUM(I8+I10+I12+I14+I16) -> 0 | J18: =SUM(J8+J10+J12+J14+J16) -> 0 | K18: =SUM(K8+K10+K12+K14+K16) -> 0 | M18: =SUM(F18:K18) -> 230923.05
C22: Ricardo Santos Soares 160878/D
B23: ='PLANILHA '!$D$64 -> Responsável Técnico: | D23: ='PLANILHA '!$G$64 -> CREA
B27: ='PLANILHA '!$D$69 -> Prefeitura Municipal
