Workbook
Name Fonte: 'MM CALC'!#REF!
Name Fonte: 'PLAN ORÇ'!$I1
Name nao: #REF!
Name nao: #REF!

Sheet PLAN ORÇ
A3: PLANILHA ORÇAMENTÁRIA DE CUSTOS
A5: ='MM CALC'!A3 -> PREFEITURA MUNICIPAL DE JABOTICATUBAS/MG. | E5: ='MM CALC'!E3 -> DATA: 21/09/2025
A6: ='MM CALC'!A4 -> OBRA: REFORMA DA QUADRA POLIESPORTIVA CANDIDO
A7: ='MM CALC'!A5 -> LOCAL: ESCOLA PE CANDIDO | E7: FORMA DE EXECUÇÃO: | G7: Adotado BDI "CONSTRUÇÃO DE EDIFÍCIOS" da planilha de preços SEINFRA/REGIÃO JEQUITINHONHA E MUCURI ABRIL/2025 COM DESONERAÇÃO | I7: ISS 4,00%
A8: REGIÃO/MÊS DE REFERÊNCIA: SEINFRA REGIÃO BELO HORIZONTE, ABRIL/2025 - SEM DESONERAÇÃO | E8: ( ) | F8: DIRETA
E9: ( X ) | F9: INDIRETA | G9: BDI = | H9: 0.2402
A11: ITEM | B11: FONTE | C11: CÓDIGO | D11: DESCRIÇÃO | E11: UNIDADE | F11: QUANT. | G11: UNITÁRIO S/ BDI | H11: UNITÁRIO C/ BDI | I11: TOTAL
D12: ='MM CALC'!D8 -> REFORMA QUADRA POLIESPORTIVA | I12: =I51 -> 359888.65
A13: ='MM CALC'!A9 -> 1 | D13: ='MM CALC'!D9 -> INSTALAÇÕES INICIAIS E SERVIÇOS PRELIMINARES | I13: =SUM(I14:I16) -> 15707.16
A14: ='MM CALC'!A10 -> 1.1 | B14: ='MM CALC'!B10 -> SEINFRA | C14: ='MM CALC'!C10 -> ED-28427 | D14: ='MM CALC'!D10 -> FORNECIMENTO E COLOCAÇÃO DE PLACA DE OBRA EM CHAPA GALVANIZADA (3,00 X 1,5 0 M) - EM CHAPA GALVANIZADA 0,26 AFIXADAS COM REBITES 540 E PARAFUSOS 3/8, EM ESTRUTURA METÁLICA VIGA U 2" ENRIJECIDA COM METALON 20 X 20, SUPORTE EM EUCALIPTO AUTOCLAVADO PINTADAS | E14: ='MM CALC'!E10 -> un | F14: ='MM CALC'!F10 -> 1 | G14: 1156.19 | H14: =ROUND((G14*(1+$H$9)),2) -> 1433.91 | I14: =ROUND((F14*H14),2) -> 1433.91
A15: ='MM CALC'!A11 -> 1.2 | B15: ='MM CALC'!B11 -> SEINFRA | C15: ='MM CALC'!C11 -> ED-16349 | D15: ='MM CALC'!D11 -> LOCAÇÃO DE CONTAINER COM ISOLAMENTO TÉRMICO, TIPO 2, PARA ESCRITÓRIO DE OBRA COM SANITÁRIO CONTENDO UM (1) VASO SANITÁRIO E UM (1) LAVATÓRIO, COM MEDIDAS REFERENCIAIS DE (6) METROS COMPRIMENTO, (2,3) METROS LARGURA E (2,5) METROS ALTURA ÚTIL INTERNA, INCLUSIVE AR CONDICIONADO E LIGAÇÕES ELÉTRICAS E HIDROSSANITÁRIAS INTERNAS, EXCLUSIVE MOBILIZAÇÃO/DESMOBILIZAÇÃO E LIGAÇÕES PROVISÓRIAS EXTERNAS | E15: ='MM CALC'!E11 -> mês | F15: ='MM CALC'!F11 -> 5 | G15: 1638.52 | H15: =ROUND((G15*(1+$H$9)),2) -> 2032.09 | I15: =ROUND((F15*H15),2) -> 10160.45
A16: ='MM CALC'!A12 -> 1.3 | B16: ='MM CALC'!B12 -> SEINFRA | C16: ='MM CALC'!C12 -> ED-28429 | D16: ='MM CALC'!D12 -> MOBILIZAÇÃO E DESMOBILIZAÇÃO DE CONTAINER, INCLUSIVE CARGA, DESCARGA E TRANSPORTE EM CAMINHÃO CARROCERIA COM GUINDAUTO (MUNCK), EXCLUSIVE LOCAÇÃO DO CONTAINER | E16: ='MM CALC'!E12 -> um | F16: ='MM CALC'!F12 -> 2 | G16: 1658.12 | H16: =ROUND((G16*(1+$H$9)),2) -> 2056.4 | I16: =ROUND((F16*H16),2) -> 4112.8
A17: ='MM CALC'!A13 -> 2 | D17: ='MM CALC'!D13 -> TRABALHOS EM TERRA | I17: =SUM(I18:I20) -> 2927.97
A18: ='MM CALC'!A14 -> 2.2 | B18: ='MM CALC'!B14 -> SEINFRA | C18: ='MM CALC'!C14 -> ED-49777 | D18: ='MM CALC'!D14 -> ESCAVAÇÃO MANUAL DE TUBULÃO A CÉU ABERTO, INCLUSIVE DESCARGA LATERAL | E18: ='MM CALC'!E14 -> m³ | F18: ='MM CALC'!F14 -> 2.52 | G18: 377.95 | H18: =ROUND((G18*(1+$H$9)),2) -> 468.73 | I18: =ROUND((F18*H18),2) -> 1181.2
A19: ='MM CALC'!A15 -> 2.3 | B19: ='MM CALC'!B15 -> SEINFRA | C19: ='MM CALC'!C15 -> ED-51107 | D19: ='MM CALC'!D15 -> ESCAVAÇÃO MANUAL DE VALA COM PROFUNDIDADE MENOR OU IGUAL A 1,5M, INCLUSIVE DESCARGA LATERAL | E19: ='MM CALC'!E15 -> m³ | F19: ='MM CALC'!F15 -> 14.34 | G19: 77.29 | H19: =ROUND((G19*(1+$H$9)),2) -> 95.86 | I19: =ROUND((F19*H19),2) -> 1374.63
A20: ='MM CALC'!A16 -> 2.4 | B20: ='MM CALC'!B16 -> SEINFRA | C20: ='MM CALC'!C16 -> ED-51094 | D20: ='MM CALC'!D16 -> APILOAMENTO MECANIZADO EM FUNDO DE VALA COM PLACA VIBRATÓRIA, EXCLUSIVE ESCAVAÇÃO | E20: ='MM CALC'!E16 -> m³ | F20: ='MM CALC'!F16 -> 20.38 | G20: 14.72 | H20: =ROUND((G20*(1+$H$9)),2) -> 18.26 | I20: =ROUND((F20*H20),2) -> 372.14
A21: ='MM CALC'!A17 -> 3 | D21: ='MM CALC'!D17 -> ESTRUTURA DE CONCRETO ARMADO | I21: =SUM(I22:I25) -> 24510.26
A22: ='MM CALC'!A18 -> 3.1 | B22: ='MM CALC'!B18 -> SEINFRA | C22: ='MM CALC'!C18 -> ED-49812 | D22: ='MM CALC'!D18 -> LASTRO DE CONCRETO MAGRO, INCLUSIVE TRANSPORTE, LANÇAMENTO E ADENSAMENTO | E22: ='MM CALC'!E18 -> m³ | F22: ='MM CALC'!F18 -> 0.68 | G22: 583.01 | H22: =ROUND((G22*(1+$H$9)),2) -> 723.05 | I22: =ROUND((F22*H22),2) -> 491.67
A23: ='MM CALC'!A19 -> 3.2 | B23: ='MM CALC'!B19 -> SEINFRA | C23: ='MM CALC'!C19 -> ED-49804 | D23: ='MM CALC'!D19 -> FORNECIMENTO DE CONCRETO ESTRUTURAL, USINADO BOMBEADO, COM FCK 20MPA, INCLUSIVE LANÇAMENTO, ADENSAMENTO E ACABAMENTO (FUNDAÇÃO) | E23: ='MM CALC'!E19 -> m³ | F23: ='MM CALC'!F19 -> 12.81 | G23: 689.07 | H23: =ROUND((G23*(1+$H$9)),2) -> 854.58 | I23: =ROUND((F23*H23),2) -> 10947.17
A24: ='MM CALC'!A20 -> 3.3 | B24: ='MM CALC'!B20 -> SEINFRA | C24: ='MM CALC'!C20 -> ED-48298 | D24: ='MM CALC'!D20 -> CORTE, DOBRA E MONTAGEM DE AÇO CA-50/60, INCLUSIVE ESPAÇADOR | E24: ='MM CALC'!E20 -> m³ | F24: ='MM CALC'!F20 -> 504.66 | G24: 14.42 | H24: =ROUND((G24*(1+$H$9)),2) -> 17.88 | I24: =ROUND((F24*H24),2) -> 9023.32
A25: ='MM CALC'!A21 -> 3.4 | B25: ='MM CALC'!B22 -> SEINFRA | C25: ='MM CALC'!C22 -> ED-49619 | D25: ='MM CALC'!D22 -> FORNECIMENTO DE CONCRETO ESTRUTURAL, PREPARADO EM OBRA, COM FCK 25MPA, INCLUSIVE LANÇAMENTO, ADENSAMENTO E ACABAMENTO | E25: ='MM CALC'!E22 -> m³ | F25: ='MM CALC'!F22 -> 4.05 | G25: 805.94 | H25: =ROUND((G25*(1+$H$9)),2) -> 999.53 | I25: =ROUND((F25*H25),2) -> 4048.1
A26: ='MM CALC'!A23 -> 4 | D26: ='MM CALC'!D23 -> PISO QUADRA | I26: =SUM(I27:I27) -> 8417.32
A27: ='MM CALC'!A24 -> 4.1 | B27: ='MM CALC'!B24 -> SEINFRA | C27: ='MM CALC'!C24 -> ED-50619 | D27: ='MM CALC'!D24 -> POLIMENTO MECANIZADO DE SUPERFÍCIE EM CONCRETO, INCLUSIVE ACABAMENTO DE CONCRETAGEM EM NIVELAMENTO A LASER (NÍVEL ZERO) | E27: ='MM CALC'!E24 -> m² | F27: ='MM CALC'!F24 -> 447.73 | G27: 15.16 | H27: =ROUND((G27*(1+$H$9)),2) -> 18.8 | I27: =ROUND((F27*H27),2) -> 8417.32
A28: ='MM CALC'!A25 -> 5 | D28: ='MM CALC'!D25 -> PASSEIO | I28: =SUM(I29:I29) -> 5375.79
A29: ='MM CALC'!A26 -> 5.1 | B29: ='MM CALC'!B26 -> SEINFRA | C29: ='MM CALC'!C26 -> ED-51145 | D29: ='MM CALC'!D26 -> PASSEIOS DE CONCRETO E = 6 CM, FCK = 10 MPA, JUNTA SECA | E29: ='MM CALC'!E26 -> m² | F29: ='MM CALC'!F26 -> 63 | G29: 68.8 | H29: =ROUND((G29*(1+$H$9)),2) -> 85.33 | I29: =ROUND((F29*H29),2) -> 5375.79
A30: ='MM CALC'!A27 -> 6 | D30: ='MM CALC'!D27 -> COBERTURA | I30: =SUM(I31:I34) -> 233522.2
A31: ='MM CALC'!A28 -> 6.1 | B31: ='MM CALC'!B28 -> SEINFRA | C31: ='MM CALC'!C28 -> ED-20573 | D31: ='MM CALC'!D28 -> FORNECIMENTO DE ESTRUTURA METÁLICA E ENGRADAMENTO METÁLICO PARA TELHADO EM ARCO DE QUADRA POLIESPORTIVA EM AÇO, COBERTURA EM ARCO PADRÃO DA QUADRA ESCOLAR, EXCLUSIVE TELHA, INCLUSIVE PILAR METÁLICO, FABRICAÇÃO, TRANSPORTE, MONTAGEM, APLICAÇÃO DE FUNDO PREPARADOR ANTICORROSIVO, UMA (1) DEMÃO E PINTURA ESMALTE, DUAS (2) DEMÃOS | E31: ='MM CALC'!E28 -> m² | F31: ='MM CALC'!F28 -> 466.55 | G31: 256.67 | H31: =ROUND((G31*(1+$H$9)),2) -> 318.32 | I31: =ROUND((F31*H31),2) -> 148512.2
A32: ='MM CALC'!A29 -> 6.2 | B32: ='MM CALC'!B29 -> SEINFRA | C32: ='MM CALC'!C29 -> ED-13852 | D32: ='MM CALC'!D29 -> COBERTURA EM TELHA METÁLICA GALVANIZADA ONDULADA, TIPO SIMPLES, ESP. 0,50MM, ACABAMENTO NATURAL, INCLUSIVE ACESSÓRIOS PARA FIXAÇÃO, FORNECIMENTO E INSTALAÇÃO | E32: ='MM CALC'!E29 -> m² | F32: ='MM CALC'!F29 -> 633.23 | G32: 94.11 | H32: =ROUND((G32*(1+$H$9)),2) -> 116.72 | I32: =ROUND((F32*H32),2) -> 73910.61
A33: ='MM CALC'!A30 -> 6.3 | B33: ='MM CALC'!B30 -> SEINFRA | C33: ='MM CALC'!C30 -> ED-50657 | D33: ='MM CALC'!D30 -> CALHA EM CHAPA GALVANIZADA, ESP. 0,65MM (GSG-24), COM DESENVOLVIMENTO DE 60CM, INCLUSIVE IÇAMENTO MANUAL VERTICAL | E33: ='MM CALC'!E30 -> m | F33: ='MM CALC'!F30 -> 62 | G33: 73 | H33: =ROUND((G33*(1+$H$9)),2) -> 90.53 | I33: =ROUND((F33*H33),2) -> 5612.86
A34: ='MM CALC'!A31 -> 6.4 | B34: ='MM CALC'!B31 -> SEINFRA | C34: ='MM CALC'!C31 -> ED-50668 | D34: ='MM CALC'!D31 -> CONDUTOR CIRCULAR DE ÁGUA PLUVIAL PARA DO TELHADO EM TUBO DE PVC, DIÂMETRO DE 100MM, INCLUSIVE CONEXÕES E SUPORTES | E34: ='MM CALC'!E31 -> m | F34: ='MM CALC'!F31 -> 49 | G34: 90.28 | H34: =ROUND((G34*(1+$H$9)),2) -> 111.97 | I34: =ROUND((F34*H34),2) -> 5486.53
A35: ='MM CALC'!A32 -> 7 | D35: ='MM CALC'!D32 -> INSTALAÇÕES ELETRICAS | I35: =SUM(I36:I40) -> 9355.24
A36: ='MM CALC'!A33 -> 7.1 | B36: ='MM CALC'!B33 -> SEINFRA | C36: ='MM CALC'!C33 -> ED-48961 | D36: ='MM CALC'!D33 -> CABO DE COBRE FLEXÍVEL, CLASSE 5, ISOLAMENTO TIPO LSHF/ ATOX, NÃO HALOGENADO, ANTICHAMA, TERMOPLÁSTICO, UNIPOLAR, SEÇÃO 6 MM2, 70°C, 450/750V | E36: ='MM CALC'!E33 -> m | F36: ='MM CALC'!F33 -> 180.2 | G36: 8.79 | H36: =ROUND((G36*(1+$H$9)),2) -> 10.9 | I36: =ROUND((F36*H36),2) -> 1964.18
A37: ='MM CALC'!A34 -> 7.2 | B37: ='MM CALC'!B34 -> SEINFRA | C37: ='MM CALC'!C34 -> ED-49310 | D37: ='MM CALC'!D34 -> ELETRODUTO DE PVC RÍGIDO ROSCÁVEL, DN 32 MM (1.1/4"), INCLUSIVE CONEXÕES, SUPORTES E FIXAÇÃO | E37: ='MM CALC'!E34 -> m | F37: ='MM CALC'!F34 -> 90.1 | G37: 35.31 | H37: =ROUND((G37*(1+$H$9)),2) -> 43.79 | I37: =ROUND((F37*H37),2) -> 3945.48
A38: ='MM CALC'!A35 -> 7.3 | B38: ='MM CALC'!B35 -> SEINFRA | C38: ='MM CALC'!C35 -> ED-14187 | D38: ='MM CALC'!D35 -> QUADRO DE DISTRIBUIÇÃO DE SOBREPOR EM CHAPA, PARA 16 DISJUNTORES DIN, INCLUSIVE BARRAMENTOS NEUTRO/TERRA E BARRAMENTO TRIFÁSICO DE 100A | E38: ='MM CALC'!E35 -> und. | F38: ='MM CALC'!F35 -> 1 | G38: 433.46 | H38: =ROUND((G38*(1+$H$9)),2) -> 537.58 | I38: =ROUND((F38*H38),2) -> 537.58
A39: ='MM CALC'!A36 -> 7.4 | B39: ='MM CALC'!B36 -> SEINFRA | C39: ='MM CALC'!C36 -> ED-34477 | D39: ='MM CALC'!D36 -> DISJUNTOR BIPOLAR TIPO DIN, CORRENTE NOMINAL DE 32A, FORNECIMENTO E INSTALAÇÃO, INCLUSIVE TERMINAL ILHÓS | E39: ='MM CALC'!E36 -> und. | F39: ='MM CALC'!F36 -> 2 | G39: 52.38 | H39: =ROUND((G39*(1+$H$9)),2) -> 64.96 | I39: =ROUND((F39*H39),2) -> 129.92
A40: ='MM CALC'!A37 -> 7.5 | B40: ='MM CALC'!B37 -> COTACAO | C40: ='MM CALC'!C37 -> COTACAO | D40: ='MM CALC'!D37 -> REFLETOR DE LED IP67 200W - BIVOLT - AVANT OU SUPERIOR | E40: ='MM CALC'!E37 -> und. | F40: ='MM CALC'!F37 -> 8 | G40: 280 | H40: =ROUND((G40*(1+$H$9)),2) -> 347.26 | I40: =ROUND((F40*H40),2) -> 2778.08
A41: ='MM CALC'!A38 -> 8 | D41: ='MM CALC'!D38 -> PINTURA | I41: =SUM(I42:I44) -> 40418.85
A42: ='MM CALC'!A39 -> 8.1 | B42: ='MM CALC'!B39 -> SEINFRA | C42: ='MM CALC'!C39 -> ED-9934 | D42: ='MM CALC'!D39 -> PINTURA EPÓXI EM PISO, DUAS (2) DEMÃOS, COM APLICAÇÃO MANUAL, INCLUSIVE UMA (1) DEMÃO DE PRIMER EPÓXI | E42: ='MM CALC'!E39 -> m² | F42: ='MM CALC'!F39 -> 447.73 | G42: 56.68 | H42: =ROUND((G42*(1+$H$9)),2) -> 70.29 | I42: =ROUND((F42*H42),2) -> 31470.94
A43: ='MM CALC'!A40 -> 8.2 | B43: ='MM CALC'!B40 -> SEINFRA | C43: ='MM CALC'!C40 -> ED-50495 | D43: ='MM CALC'!D40 -> PINTURA ESMALTE BASE SOLVENTE EM SUPERFÍCIES METÁLICAS , DUAS (2) DEMÃOS, INCLUSIVE UMA (1) DEMÃO DE FUNDO ANTICORROSIVO | E43: ='MM CALC'!E40 -> m² | F43: ='MM CALC'!F40 -> 180.2 | G43: 35.27 | H43: =ROUND((G43*(1+$H$9)),2) -> 43.74 | I43: =ROUND((F43*H43),2) -> 7881.95
A44: ='MM CALC'!A41 -> 8.3 | B44: ='MM CALC'!B41 -> SEINFRA | C44: ='MM CALC'!C41 -> ED-50459 | D44: ='MM CALC'!D41 -> PINTURA ACRÍLICA PARA PISO EM PASSEIO/SUPERFÍCIE CIMENTADA, DUAS (2) DEMÃOS, COM APLICAÇÃO MANUAL | E44: ='MM CALC'!E41 -> m² | F44: ='MM CALC'!F41 -> 63 | G44: 13.64 | H44: =ROUND((G44*(1+$H$9)),2) -> 16.92 | I44: =ROUND((F44*H44),2) -> 1065.96
...

Sheet CRON
A3: CRONOGRAMA FÍSICO-FINANCEIRO
A5: ='PLAN ORÇ'!A5 -> PREFEITURA MUNICIPAL DE JABOTICATUBAS/MG. | C5: VALOR TOTAL: | D5: ='PLAN ORÇ'!I51 -> 359888.65 | H5: ='MM CALC'!E3 -> DATA: 21/09/2025
A6: ='MM CALC'!A4 -> OBRA: REFORMA DA QUADRA POLIESPORTIVA CANDIDO
A7: ='MM CALC'!A5 -> LOCAL: ESCOLA PE CANDIDO
A8: ITEM | B8: DESCRIÇÃO | C8: FÍSICO/ FINANCEIRO | D8: MÊS 01 | E8: MÊS 02 | F8: MÊS 03 | G8: MÊS 04 | H8: MÊS 05 | I8: TOTAL
A10: ='PLAN ORÇ'!A13 -> 1 | B10: ='PLAN ORÇ'!D13 -> INSTALAÇÕES INICIAIS E SERVIÇOS PRELIMINARES | C10: =C11/$C$37 -> 0.043644499 | D10: 1 | I10: =SUM(D10:H10) -> 1
C11: ='PLAN ORÇ'!I13 -> 15707.16 | D11: =D10*$C$11 -> 15707.16 | I11: =ROUND(SUM(D11:H11),2) -> 15707.16
A12: ='PLAN ORÇ'!A15 -> 1.2 | B12: ='PLAN ORÇ'!D17 -> TRABALHOS EM TERRA | C12: =C13/$C$37 -> 0.0081357664 | D12: 1 | I12: =SUM(D12:H12) -> 1
C13: ='PLAN ORÇ'!I17 -> 2927.97 | D13: =D12*C13 -> 2927.97 | I13: =ROUND(SUM(D13:H13),2) -> 2927.97
A14: ='PLAN ORÇ'!A17 -> 2 | B14: ='PLAN ORÇ'!D21 -> ESTRUTURA DE CONCRETO ARMADO | C14: =C15/$C$37 -> 0.068105121 | E14: 0.5 | F14: 0.5 | I14: =SUM(D14:H14) -> 1
C15: ='PLAN ORÇ'!I21 -> 24510.26 | E15: =E14*$C$15 -> 12255.13 | F15: =C15*F14 -> 12255.13 | I15: =ROUND(SUM(D15:H15),2) -> 24510.26
A16: ='PLAN ORÇ'!A19 -> 2.3 | B16: ='PLAN ORÇ'!D26 -> PISO QUADRA | C16: =C17/$C$37 -> 0.023388679 | E16: 0.5 | F16: 0.5 | I16: =SUM(D16:H16) -> 1
C17: ='PLAN ORÇ'!I26 -> 8417.32 | E17: =E16*$C$17 -> 4208.66 | F17: =F16*$C$17 -> 4208.66 | I17: =ROUND(SUM(D17:H17),2) -> 8417.32
A18: ='PLAN ORÇ'!A21 -> 3 | B18: ='PLAN ORÇ'!D28 -> PASSEIO | C18: =C19/$C$37 -> 0.01493737 | E18: 0.5 | F18: 0.5 | I18: =SUM(D18:H18) -> 1
C19: ='PLAN ORÇ'!I28 -> 5375.79 | E19: =E18*C19 -> 2687.895 | F19: =F18*C19 -> 2687.895 | I19: =ROUND(SUM(D19:H19),2) -> 5375.79
A20: ='PLAN ORÇ'!A23 -> 3.2 | B20: ='PLAN ORÇ'!D30 -> COBERTURA | C20: =C21/$C$37 -> 0.64887348 | G20: 0.5 | H20: 0.5 | I20: =SUM(D20:H20) -> 1
C21: ='PLAN ORÇ'!I30 -> 233522.2 | G21: =C21*G20 -> 116761.1 | H21: =C21*H20 -> 116761.1 | I21: =ROUND(SUM(D21:H21),2) -> 233522.2
A22: ='PLAN ORÇ'!A25 -> 3.4 | B22: ='PLAN ORÇ'!D35 -> INSTALAÇÕES ELETRICAS | C22: =C23/$C$37 -> 0.025994818 | G22: 1 | I22: =SUM(D22:H22) -> 1
C23: ='PLAN ORÇ'!I35 -> 9355.24 | G23: =C23*G22 -> 9355.24 | I23: =ROUND(SUM(D23:H23),2) -> 9355.24
A24: ='PLAN ORÇ'!A27 -> 4.1 | B24: ='PLAN ORÇ'!D41 -> PINTURA | C24: =C25/$C$37 -> 0.11230932 | G24: 0.5 | H24: 0.5 | I24: =SUM(D24:H24) -> 1
C25: ='PLAN ORÇ'!I41 -> 40418.85 | G25: =C25*G24 -> 20209.425 | H25: =C25*H24 -> 20209.425 | I25: =ROUND(SUM(D25:H25),2) -> 40418.85
A26: ='PLAN ORÇ'!A29 -> 5.1 | B26: ='PLAN ORÇ'!D45 -> SERVIÇOS COMPLEMENTARES | C26: =C27/$C$37 -> 0.041759611 | F26: 0.5 | G26: 0.5 | I26: =SUM(D26:H26) -> 1
C27: ='PLAN ORÇ'!I45 -> 15028.81 | F27: =C27*F26 -> 7514.405 | G27: =C27*G26 -> 7514.405 | I27: =ROUND(SUM(D27:H27),2) -> 15028.81
A28: ='PLAN ORÇ'!A31 -> 6.1 | B28: ='PLAN ORÇ'!D49 -> LIMPEZA FINAL DE OBRA | C28: =C29/$C$37 -> 0.012851336 | H28: 1 | I28: =SUM(D28:H28) -> 1
C29: ='PLAN ORÇ'!I49 -> 4625.05 | H29: =C29*H28 -> 4625.05 | I29: =ROUND(SUM(D29:H29),2) -> 4625.05
H30: 1 | I30: =SUM(D30:H30) -> 1
H31: =C31*H30 -> 0 | I31: =ROUND(SUM(D31:H31),2) -> 0
H32: 1 | I32: =SUM(D32:H32) -> 1
H33: =C33*H32 -> 0 | I33: =ROUND(SUM(D33:H33),2) -> 0
H34: 1 | I34: =SUM(D34:H34) -> 1
H35: =C35*H34 -> 0 | I35: =ROUND(SUM(D35:H35),2) -> 0
A36: TOTAL | C36: =C10++C18+C12+C14+C16+C20+C22+C24+C26+C28+C30+C32+C34 -> 1 | D36: =D37/$C$37 -> 0.051780266 | E36: =E37/$C$37 -> 0.053215585 | F36: =F37/$C$37 -> 0.07409539 | G36: =G37/$C$37 -> 0.42746602 | H36: =H37/$C$37 -> 0.39344274 | I36: =I37/$C$37 -> 1
C37: =C11+C15+C17+C19+C21+C23+C25+C27+C29+C31+C13+C33+C35 -> 359888.65 | D37: =SUM(D11+D13+D15+D17+D21+D25) -> 18635.13 | E37: =E15+E17+E19+E21+E23+E25+E27+E29+E31+E33+E35 -> 19151.685 | F37: =F15+F17+F19+F21+F23+F25+F27+F29+F31+F33+F35 -> 26666.09 | G37: =G15+G17+G19+G21+G23+G25+G27+G29+G31+G33+G35 -> 153840.17 | H37: =H15+H17+H19+H21+H23+H25+H27+H29+H31+H33+H35 -> 141595.57 | I37: =I15+I17+I19+I21+I23+I25+I27+I29+I31+I33+I35+I13+I11 -> 359888.65
B46: ='MM CALC'!D51 -> _____________________________________ | G46: ='MM CALC'!G51 -> _____________________________________
B47: ='MM CALC'!D52 -> RICARDO SANTOS SOARES | G47: ='MM CALC'!G52 -> RACLY ARAUJO ANDRADE
B48: ='MM CALC'!D53 -> Engenheiro Civil - Crea 160878/D | G48: ='MM CALC'!G53 -> Prefeito Municipal de Jaboticatubas

Sheet MM CALC
A1: MEMÓRIA DE CÁLCULO DE QUANTITATIVOS
A3: PREFEITURA MUNICIPAL DE JABOTICATUBAS/MG. | E3: DATA: 21/09/2025
A4: OBRA: REFORMA DA QUADRA POLIESPORTIVA CANDIDO
A5: LOCAL: ESCOLA PE CANDIDO
A7: ITEM | B7: FONTE | C7: CÓDIGO | D7: DESCRIÇÃO | E7: UNIDADE | F7: QUANT. | G7: FÓRMULA/MEMÓRIA
D8: REFORMA QUADRA POLIESPORTIVA
A9: 1 | D9: INSTALAÇÕES INICIAIS E SERVIÇOS PRELIMINARES
A10: 1.1 | B10: SEINFRA | C10: ED-28427 | D10: FORNECIMENTO E COLOCAÇÃO DE PLACA DE OBRA EM CHAPA GALVANIZADA (3,00 X 1,5 0 M) - EM CHAPA GALVANIZADA 0,26 AFIXADAS COM REBITES 540 E PARAFUSOS 3/8, EM ESTRUTURA METÁLICA VIGA U 2" ENRIJECIDA COM METALON 20 X 20, SUPORTE EM EUCALIPTO AUTOCLAVADO PINTADAS | E10: un | F10: 1 | G10: CONFORME PADRÃO
A11: 1.2 | B11: SEINFRA | C11: ED-16349 | D11: LOCAÇÃO DE CONTAINER COM ISOLAMENTO TÉRMICO, TIPO 2, PARA ESCRITÓRIO DE OBRA COM SANITÁRIO CONTENDO UM (1) VASO SANITÁRIO E UM (1) LAVATÓRIO, COM MEDIDAS REFERENCIAIS DE (6) METROS COMPRIMENTO, (2,3) METROS LARGURA E (2,5) METROS ALTURA ÚTIL INTERNA, INCLUSIVE AR CONDICIONADO E LIGAÇÕES ELÉTRICAS E HIDROSSANITÁRIAS INTERNAS, EXCLUSIVE MOBILIZAÇÃO/DESMOBILIZAÇÃO E LIGAÇÕES PROVISÓRIAS EXTERNAS | E11: mês | F11: 5 | G11: CONFORME CRONOGRAMA
A12: 1.3 | B12: SEINFRA | C12: ED-28429 | D12: MOBILIZAÇÃO E DESMOBILIZAÇÃO DE CONTAINER, INCLUSIVE CARGA, DESCARGA E TRANSPORTE EM CAMINHÃO CARROCERIA COM GUINDAUTO (MUNCK), EXCLUSIVE LOCAÇÃO DO CONTAINER | E12: um | F12: 2
A13: 2 | D13: TRABALHOS EM TERRA
A14: 2.2 | B14: SEINFRA | C14: ED-49777 | D14: ESCAVAÇÃO MANUAL DE TUBULÃO A CÉU ABERTO, INCLUSIVE DESCARGA LATERAL | E14: m³ | F14: =ROUND((14*0.3*0.3*2),2) -> 2.52 | G14: 14X0,30X0,30X2,00 - QUANTIDADE DE TUBULOES NO FUNDO DAS SAPATASX DIMENSOES DO MESMO X PROFUNDIDADE
A15: 2.3 | B15: SEINFRA | C15: ED-51107 | D15: ESCAVAÇÃO MANUAL DE VALA COM PROFUNDIDADE MENOR OU IGUAL A 1,5M, INCLUSIVE DESCARGA LATERAL | E15: m³ | F15: =ROUND(((15.05+30+15.05+30)*0.15*0.3)+(14*0.7*0.7*1.5),2) -> 14.34 | G15: (15,05+30+15,05+30,00)X0,15X0,30 - EXTENSAO DA VIGA BALDRAME NO ENTORNO DA QUADRA X LARGURA DA VALA X ALTURA + (14X0,70X0,70X1,50) VOLUME DAS SAPATAS
A16: 2.4 | B16: SEINFRA | C16: ED-51094 | D16: APILOAMENTO MECANIZADO EM FUNDO DE VALA COM PLACA VIBRATÓRIA, EXCLUSIVE ESCAVAÇÃO | E16: m³ | F16: =ROUND(((15.05+30+15.05+30)*0.15)+(14*0.7*0.7),2) -> 20.38 | G16: (15,05+30+15,05+30,00)X0,15 - EXTENSAO DA VIGA BALDRAME NO ENTORNO DA QUADRA X LARGURA DA VALA + (14X0,70X0,70) AREA DE FUNDO DAS SAPATAS DOS PILARES METALICOS
A17: 3 | D17: ESTRUTURA DE CONCRETO ARMADO
A18: 3.1 | B18: SEINFRA | C18: ED-49812 | D18: LASTRO DE CONCRETO MAGRO, INCLUSIVE TRANSPORTE, LANÇAMENTO E ADENSAMENTO | E18: m³ | F18: =ROUND(((15.05+30+15.05+30)*0.15*0.05),2) -> 0.68 | G18: (15,05+30+15,05+30,00)X0,15X0,05 - EXTENSAO DA VIGA BALDRAME NO ENTORNO DA QUADRA X LARGURA DA VALA X ALTURA DE LASTRO
A19: 3.2 | B19: SEINFRA | C19: ED-49804 | D19: FORNECIMENTO DE CONCRETO ESTRUTURAL, USINADO BOMBEADO, COM FCK 20MPA, INCLUSIVE LANÇAMENTO, ADENSAMENTO E ACABAMENTO (FUNDAÇÃO) | E19: m³ | F19: =ROUND((14*0.7*0.7*1.5)+(14*0.3*0.3*2),2) -> 12.81 | G19: (14X0,70X0,70X1,50) - VOLUME DE CONCRETO DAS SAPATAS DOS PILARES METALICOS + (14X0,30X0,30X2,00) VOLUME DAS BROCAS DE CONCRETO (TUBULOES)
A20: 3.3 | B20: SEINFRA | C20: ED-48298 | D20: CORTE, DOBRA E MONTAGEM DE AÇO CA-50/60, INCLUSIVE ESPAÇADOR | E20: m³ | F20: =ROUND(168.11+51.83+284.72,2) -> 504.66 | G20: GAIOLAS SAPATAS DOS PILARES FERO (3,20*4,00)+(2,20*8,00) * 0,395 X 14,00 = 168,11 KG BROCAS DOS TUBULOES - 2,00X3,00 X 14,00 X 0,617 =51,83 KG VIGAS - ((15,05+30+15,05+30,00)X2,00X4,00) X 0,395 = 284,72 KG
A21: 3.4 | B21: SEINFRA | D21: ESTRUTURA
A22: 3.5 | B22: SEINFRA | C22: ED-49619 | D22: FORNECIMENTO DE CONCRETO ESTRUTURAL, PREPARADO EM OBRA, COM FCK 25MPA, INCLUSIVE LANÇAMENTO, ADENSAMENTO E ACABAMENTO | E22: m³ | F22: =ROUND(((15.05+30+15.05+30)*0.15*0.3),2) -> 4.05 | G22: (15,05+30+15,05+30,00)X0,15X0,30 - EXTENSAO DA VIGA BALDRAME NO ENTORNO DA QUADRA X LARGURA X ALTURA
A23: 4 | D23: PISO QUADRA
A24: 4.1 | B24: SEINFRA | C24: ED-50619 | D24: POLIMENTO MECANIZADO DE SUPERFÍCIE EM CONCRETO, INCLUSIVE ACABAMENTO DE CONCRETAGEM EM NIVELAMENTO A LASER (NÍVEL ZERO) | E24: m² | F24: =ROUND(14.85*30.15,2) -> 447.73 | G24: 14,85x30,15 - AREA DE PISO INTERNO DA QUADRA
A25: 5 | D25: PASSEIO
A26: 5.1 | B26: SEINFRA | C26: ED-51145 | D26: PASSEIOS DE CONCRETO E = 6 CM, FCK = 10 MPA, JUNTA SECA | E26: m² | F26: =ROUND((30*2.1),2) -> 63 | G26: (30,00)X2,10 - LATERAL DA QUADRA SEM PASSEIO
A27: 6 | D27: COBERTURA
A28: 6.1 | B28: SEINFRA | C28: ED-20573 | D28: FORNECIMENTO DE ESTRUTURA METÁLICA E ENGRADAMENTO METÁLICO PARA TELHADO EM ARCO DE QUADRA POLIESPORTIVA EM AÇO, COBERTURA EM ARCO PADRÃO DA QUADRA ESCOLAR, EXCLUSIVE TELHA, INCLUSIVE PILAR METÁLICO, FABRICAÇÃO, TRANSPORTE, MONTAGEM, APLICAÇÃO DE FUNDO PREPARADOR ANTICORROSIVO, UMA (1) DEMÃO E PINTURA ESMALTE, DUAS (2) DEMÃOS | E28: m² | F28: =ROUND((15.05*31),2) -> 466.55 | G28: 15,05X31,00 - AREA DA COBERTURA DA QUADRA
A29: 6.2 | B29: SEINFRA | C29: ED-13852 | D29: COBERTURA EM TELHA METÁLICA GALVANIZADA ONDULADA, TIPO SIMPLES, ESP. 0,50MM, ACABAMENTO NATURAL, INCLUSIVE ACESSÓRIOS PARA FIXAÇÃO, FORNECIMENTO E INSTALAÇÃO | E29: m² | F29: =ROUND((15.05*31 *1.044)+(31*1.88*2)+(((3.14*3.07*3.07)/2)*2),2) -> 633.23 | G29: 15,05*31,00 X1,044 - AREA DA COBERTURA DA QUADRAXINCLINAÇÃO + (31,00X1,88X2,00) AREA DE EMPENA DAS LATERAIS+ ((3,14X3,07X3,07)/2 )X2,00 AREA DAS EMPENAS DA FRENTE E FUNDO (MEIO CIRCULO)
A30: 6.3 | B30: SEINFRA | C30: ED-50657 | D30: CALHA EM CHAPA GALVANIZADA, ESP. 0,65MM (GSG-24), COM DESENVOLVIMENTO DE 60CM, INCLUSIVE IÇAMENTO MANUAL VERTICAL | E30: m | F30: =ROUND((31+31),2) -> 62 | G30: 31,00+31,00 LATERIAS ONDE SEREM INSTALADAS AS CALHAS
A31: 6.4 | B31: SEINFRA | C31: ED-50668 | D31: CONDUTOR CIRCULAR DE ÁGUA PLUVIAL PARA DO TELHADO EM TUBO DE PVC, DIÂMETRO DE 100MM, INCLUSIVE CONEXÕES E SUPORTES | E31: m | F31: =ROUND(7*7,2) -> 49 | G31: 7 X(6,00+1,00) - 8 CONDUTORES DE 6 METROS + 1 METRO DE CURVATURA
A32: 7 | D32: INSTALAÇÕES ELETRICAS
A33: 7.1 | B33: SEINFRA | C33: ED-48961 | D33: CABO DE COBRE FLEXÍVEL, CLASSE 5, ISOLAMENTO TIPO LSHF/ ATOX, NÃO HALOGENADO, ANTICHAMA, TERMOPLÁSTICO, UNIPOLAR, SEÇÃO 6 MM2, 70°C, 450/750V | E33: m | F33: =ROUND((15.05+30+15.05+30)*2,2) -> 180.2 | G33: 15,05+30+15,05+30,00 - SOMA DAS LATERAIS DA QUADRA + FUNDO DA MESMA + 15,05 METROS PARA CHEGAR AO QUADRA DE DISTRIBUIÇÃO X 2,00 POR SER DUPLO
A34: 7.2 | B34: SEINFRA | C34: ED-49310 | D34: ELETRODUTO DE PVC RÍGIDO ROSCÁVEL, DN 32 MM (1.1/4"), INCLUSIVE CONEXÕES, SUPORTES E FIXAÇÃO | E34: m | F34: =ROUND(15.05+30+15.05+30,2) -> 90.1 | G34: 15,05+30+15,05+30,00 - SOMA DAS LATERAIS DA QUADRA + FUNDO DA MESMA + 15,05 METROS PARA CHEGAR AO QUADRA DE DISTRIBUIÇÃO
A35: 7.3 | B35: SEINFRA | C35: ED-14187 | D35: QUADRO DE DISTRIBUIÇÃO DE SOBREPOR EM CHAPA, PARA 16 DISJUNTORES DIN, INCLUSIVE BARRAMENTOS NEUTRO/TERRA E BARRAMENTO TRIFÁSICO DE 100A | E35: und. | F35: 1 | G35: 1 QUADRO GERAL
A36: 7.4 | B36: SEINFRA | C36: ED-34477 | D36: DISJUNTOR BIPOLAR TIPO DIN, CORRENTE NOMINAL DE 32A, FORNECIMENTO E INSTALAÇÃO, INCLUSIVE TERMINAL ILHÓS | E36: und. | F36: 2 | G36: 1 DISJUNTO POR LADO DA QUADRA
A37: 7.5 | B37: COTACAO | C37: COTACAO | D37: REFLETOR DE LED IP67 200W - BIVOLT - AVANT OU SUPERIOR | E37: und. | F37: 8 | G37: 4 REFLETORES DE CADA LADO
A38: 8 | D38: PINTURA
A39: 8.1 | B39: SEINFRA | C39: ED-9934 | D39: PINTURA EPÓXI EM PISO, DUAS (2) DEMÃOS, COM APLICAÇÃO MANUAL, INCLUSIVE UMA (1) DEMÃO DE PRIMER EPÓXI | E39: m² | F39: =ROUND(14.85*30.15,2) -> 447.73 | G39: 14,85x30,15 - AREA DE PISO INTERNO DA QUADRA
A40: 8.2 | B40: SEINFRA | C40: ED-50495 | D40: PINTURA ESMALTE BASE SOLVENTE EM SUPERFÍCIES METÁLICAS , DUAS (2) DEMÃOS, INCLUSIVE UMA (1) DEMÃO DE FUNDO ANTICORROSIVO | E40: m² | F40: =ROUND((((15.05+30+15.05+30)*4)/2),2) -> 180.2 | G40: ((15,05+30+15,05+30,00)X4,00)/2,00 - AREA TOTAL DOS ALAMBRADOS DIVIDO PELA METADE CONSIDERANDO QUE SERÁ PINTADO SOMENTE OS TUBOS GALVANIZADOS DO ALMABRADO
A41: 8.3 | B41: SEINFRA | C41: ED-50459 | D41: PINTURA ACRÍLICA PARA PISO EM PASSEIO/SUPERFÍCIE CIMENTADA, DUAS (2) DEMÃOS, COM APLICAÇÃO MANUAL | E41: m² | F41: =ROUND((30*2.1),2) -> 63 | G41: (30,00)X2,10 - LATERAL DA QUADRA SEM PASSEIO
A42: 9 | D42: SERVIÇOS COMPLEMENTARES
...
