Workbook

Sheet Relação
A1: SECRETARIA MUNICIPAL DE SAÚDE
A2: Relação dos equipamentos médico-hospitalares, fisioterapêuticos e similares que necessitam de manutenção
A3: Nº | B3: Equipamento | C3: Quantidade | D3: Marca | E3: Modelo | F3: Local | G3: Sigla | H3: Categoria por Função | I3: Categoria por Grau de Criticidade | K3: Hospital | O3: ASS | S3: APS | W3: Total
A4: 1 | B4: Ventilador Pulmonar de Transporte | C4: 1 | D4: Leistung | E4: PR5 | F4: Hospital | G4: HMM | H4: Terapêutico | I4: Crítico | K4: Diagnóstico | L4: Crítico | M4: =SUMIFS($C4:$C260,$G4:$G260,"HMM",$H4:$H260,"Diagnóstico",$I4:$I260,"Crítico") -> 4 | O4: Diagnóstico | P4: Crítico | Q4: =SUMIFS($C4:$C260,$G4:$G260,"ASS",$H4:$H260,"Diagnóstico",$I4:$I260,"Crítico") -> 1 | S4: Diagnóstico | T4: Crítico | U4: =SUMIFS($C4:$C260,$G4:$G260,"APS",$H4:$H260,"Diagnóstico",$I4:$I260,"Crítico") -> 0 | W4: Diagnóstico | X4: Crítico | Y4: =M4+Q4+U4 -> 5
A5: 2 | B5: Ultrassom Terapêutico | C5: 1 | D5: Ibramed | E5: Sonopulse III 1/3M | F5: Hospital | G5: HMM | H5: Reabilitação | I5: Semi-Crítico | L5: Semi-Crítico | M5: =SUMIFS($C4:$C260,$G4:$G260,"HMM",$H4:$H260,"Diagnóstico",$I4:$I260,"Semi-Crítico") -> 12 | P5: Semi-Crítico | Q5: =SUMIFS($C4:$C260,$G4:$G260,"ASS",$H4:$H260,"Diagnóstico",$I4:$I260,"Semi-Crítico") -> 5 | T5: Semi-Crítico | U5: =SUMIFS($C4:$C260,$G4:$G260,"APS",$H4:$H260,"Diagnóstico",$I4:$I260,"Semi-Crítico") -> 92 | X5: Semi-Crítico | Y5: =M5+Q5+U5 -> 109
A6: 3 | B6: TENS/FES | C6: 1 | D6: Ibramed | E6: Neurodyn II | F6: Hospital | G6: HMM | H6: Reabilitação | I6: Semi-Crítico | L6: Não Crítico | M6: =SUMIFS($C4:$C260,$G4:$G260,"HMM",$H4:$H260,"Diagnóstico",$I4:$I260,"Não Crítico") -> 0 | P6: Não Crítico | Q6: =SUMIFS($C4:$C260,$G4:$G260,"ASS",$H4:$H260,"Diagnóstico",$I4:$I260,"Não Crítico") -> 0 | T6: Não Crítico | U6: =SUMIFS($C4:$C260,$G4:$G260,"APS",$H4:$H260,"Diagnóstico",$I4:$I260,"Não Crítico") -> 10 | X6: Não Crítico | Y6: =M6+Q6+U6 -> 10
A7: 4 | B7: Monitor Multiparametrico | C7: 4 | D7: Prolife | E7: C150 | F7: Hospital | G7: HMM | H7: Diagnóstico | I7: Crítico | K7: Terapêutico | L7: Crítico | M7: =SUMIFS($C4:$C260,$G4:$G260,"HMM",$H4:$H260,"Terapêutico",$I4:$I260,"Crítico") -> 3 | O7: Terapêutico | P7: Crítico | Q7: =SUMIFS($C4:$C260,$G4:$G260,"ASS",$H4:$H260,"Terapêutico",$I4:$I260,"Crítico") -> 2 | S7: Terapêutico | T7: Crítico | U7: =SUMIFS($C4:$C260,$G4:$G260,"APS",$H4:$H260,"Terapêutico",$I4:$I260,"Crítico") -> 2 | W7: Terapêutico | X7: Crítico | Y7: =M7+Q7+U7 -> 7
A8: 5 | B8: Desfibrilador | C8: 1 | D8: Prolife | E8: DF8 | F8: Hospital | G8: HMM | H8: Terapêutico | I8: Crítico | L8: Semi-Crítico | M8: =SUMIFS($C4:$C260,$G4:$G260,"HMM",$H4:$H260,"Terapêutico",$I4:$I260,"Semi-Crítico") -> 2 | P8: Semi-Crítico | Q8: =SUMIFS($C4:$C260,$G4:$G260,"ASS",$H4:$H260,"Terapêutico",$I4:$I260,"Semi-Crítico") -> 0 | T8: Semi-Crítico | U8: =SUMIFS($C4:$C260,$G4:$G260,"APS",$H4:$H260,"Terapêutico",$I4:$I260,"Semi-Crítico") -> 1 | X8: Semi-Crítico | Y8: =M8+Q8+U8 -> 3
A9: 6 | B9: Eletrocardiógrafo | C9: 5 | D9: Comen | E9: CM 1200B | F9: Hospital | G9: HMM | H9: Diagnóstico | I9: Semi-Crítico | L9: Não Crítico | M9: =SUMIFS($C4:$C260,$G4:$G260,"HMM",$H4:$H260,"Terapêutico",$I4:$I260,"Não Crítico") -> 0 | P9: Não Crítico | Q9: =SUMIFS($C4:$C260,$G4:$G260,"ASS",$H4:$H260,"Terapêutico",$I4:$I260,"Não Crítico") -> 0 | T9: Não Crítico | U9: =SUMIFS($C4:$C260,$G4:$G260,"APS",$H4:$H260,"Terapêutico",$I4:$I260,"Não Crítico") -> 0 | X9: Não Crítico | Y9: =M9+Q9+U9 -> 0
A10: 7 | B10: Eletrocardiógrafo | C10: 1 | D10: Alfamed | E10: Compassus 3000 | F10: Hospital | G10: HMM | H10: Diagnóstico | I10: Semi-Crítico | K10: Cirúrgico | L10: Crítico | M10: =SUMIFS($C4:$C260,$G4:$G260,"HMM",$H4:$H260,"Cirúrgico",$I4:$I260,"Crítico") -> 7 | O10: Cirúrgico | P10: Crítico | Q10: =SUMIFS($C4:$C260,$G4:$G260,"ASS",$H4:$H260,"Cirúrgico",$I4:$I260,"Crítico") -> 3 | S10: Cirúrgico | T10: Crítico | U10: =SUMIFS($C4:$C260,$G4:$G260,"APS",$H4:$H260,"Cirúrgico",$I4:$I260,"Crítico") -> 0 | W10: Cirúrgico | X10: Crítico | Y10: =M10+Q10+U10 -> 10
A11: 8 | B11: Balança digital adulto | C11: 1 | D11: Balmak | E11: BK200F | F11: Hospital | G11: HMM | H11: Apoio ou Suporte Simples | I11: Não Crítico | L11: Semi-Crítico | M11: =SUMIFS($C4:$C260,$G4:$G260,"HMM",$H4:$H260,"Cirúrgico",$I4:$I260,"Semi-Crítico") -> 0 | P11: Semi-Crítico | Q11: =SUMIFS($C4:$C260,$G4:$G260,"ASS",$H4:$H260,"Cirúrgico",$I4:$I260,"Semi-Crítico") -> 0 | T11: Semi-Crítico | U11: =SUMIFS($C4:$C260,$G4:$G260,"APS",$H4:$H260,"Cirúrgico",$I4:$I260,"Semi-Crítico") -> 0 | X11: Semi-Crítico | Y11: =M11+Q11+U11 -> 0
A12: 9 | B12: Balança digital RN | C12: 1 | D12: Micletetti | E12: Mic baby | F12: Hospital | G12: HMM | H12: Apoio ou Suporte Simples | I12: Não Crítico | L12: Não Crítico | M12: =SUMIFS($C4:$C260,$G4:$G260,"HMM",$H4:$H260,"Cirúrgico",$I4:$I260,"Não Crítico") -> 0 | P12: Não Crítico | Q12: =SUMIFS($C4:$C260,$G4:$G260,"ASS",$H4:$H260,"Cirúrgico",$I4:$I260,"Não Crítico") -> 0 | T12: Não Crítico | U12: =SUMIFS($C4:$C260,$G4:$G260,"APS",$H4:$H260,"Cirúrgico",$I4:$I260,"Não Crítico") -> 0 | X12: Não Crítico | Y12: =M12+Q12+U12 -> 0
A13: 10 | B13: Cardiotocografo | C13: 2 | D13: General Meditech | E13: G6A | F13: Hospital | G13: HMM | H13: Diagnóstico | I13: Semi-Crítico | K13: Reabilitação | L13: Crítico | M13: =SUMIFS($C4:$C260,$G4:$G260,"HMM",$H4:$H260,"Reabilitação",$I4:$I260,"Crítico") -> 0 | O13: Reabilitação | P13: Crítico | Q13: =SUMIFS($C4:$C260,$G4:$G260,"ASS",$H4:$H260,"Reabilitação",$I4:$I260,"Crítico") -> 0 | S13: Reabilitação | T13: Crítico | U13: =SUMIFS($C4:$C260,$G4:$G260,"APS",$H4:$H260,"Reabilitação",$I4:$I260,"Crítico") -> 0 | W13: Reabilitação | X13: Crítico | Y13: =M13+Q13+U13 -> 0
A14: 11 | B14: Balança digital adulto | C14: 1 | D14: Welmy | E14: W200 | F14: Hospital | G14: HMM | H14: Apoio ou Suporte Simples | I14: Não Crítico | L14: Semi-Crítico | M14: =SUMIFS($C4:$C260,$G4:$G260,"HMM",$H4:$H260,"Reabilitação",$I4:$I260,"Semi-Crítico") -> 2 | P14: Semi-Crítico | Q14: =SUMIFS($C4:$C260,$G4:$G260,"ASS",$H4:$H260,"Reabilitação",$I4:$I260,"Semi-Crítico") -> 7 | T14: Semi-Crítico | U14: =SUMIFS($C4:$C260,$G4:$G260,"APS",$H4:$H260,"Reabilitação",$I4:$I260,"Semi-Crítico") -> 7 | X14: Semi-Crítico | Y14: =M14+Q14+U14 -> 16
A15: 12 | B15: Balança digital RN | C15: 1 | D15: Welmy | E15: P15 | F15: Hospital | G15: HMM | H15: Apoio ou Suporte Simples | I15: Não Crítico | L15: Não Crítico | M15: =SUMIFS($C4:$C260,$G4:$G260,"HMM",$H4:$H260,"Reabilitação",$I4:$I260,"Não Crítico") -> 0 | P15: Não Crítico | Q15: =SUMIFS($C4:$C260,$G4:$G260,"ASS",$H4:$H260,"Reabilitação",$I4:$I260,"Não Crítico") -> 4 | T15: Não Crítico | U15: =SUMIFS($C4:$C260,$G4:$G260,"APS",$H4:$H260,"Reabilitação",$I4:$I260,"Não Crítico") -> 3 | X15: Não Crítico | Y15: =M15+Q15+U15 -> 7
A16: 13 | B16: Balança digital RN | C16: 1 | D16: Balmak | E16: Mobile baby | F16: Hospital | G16: HMM | H16: Apoio ou Suporte Simples | I16: Não Crítico | K16: Apoio ou Suporte Especializado | L16: Crítico | M16: =SUMIFS($C4:$C260,$G4:$G260,"HMM",$H4:$H260,"Apoio ou Suporte Especializado",$I4:$I260,"Crítico") -> 0 | O16: Apoio ou Suporte Especializado | P16: Crítico | Q16: =SUMIFS($C4:$C260,$G4:$G260,"ASS",$H4:$H260,"Apoio ou Suporte Especializado",$I4:$I260,"Crítico") -> 0 | S16: Apoio ou Suporte Especializado | T16: Crítico | U16: =SUMIFS($C4:$C260,$G4:$G260,"APS",$H4:$H260,"Apoio ou Suporte Especializado",$I4:$I260,"Crítico") -> 0 | W16: Apoio ou Suporte Especializado | X16: Crítico | Y16: =M16+Q16+U16 -> 0
A17: 14 | B17: Aparelho de Fototerapia | C17: 1 | D17: Fanem | E17: Sky 5006 | F17: Hospital | G17: HMM | H17: Terapêutico | I17: Semi-Crítico | L17: Semi-Crítico | M17: =SUMIFS($C4:$C260,$G4:$G260,"HMM",$H4:$H260,"Apoio ou Suporte Especializado",$I4:$I260,"Semi-Crítico") -> 0 | P17: Semi-Crítico | Q17: =SUMIFS($C4:$C260,$G4:$G260,"ASS",$H4:$H260,"Apoio ou Suporte Especializado",$I4:$I260,"Semi-Crítico") -> 0 | T17: Semi-Crítico | U17: =SUMIFS($C4:$C260,$G4:$G260,"APS",$H4:$H260,"Apoio ou Suporte Especializado",$I4:$I260,"Semi-Crítico") -> 0 | X17: Semi-Crítico | Y17: =M17+Q17+U17 -> 0
A18: 15 | B18: Incubadora para transporte | C18: 1 | D18: Fanem | E18: IT158TS | F18: Hospital | G18: HMM | H18: Terapêutico | I18: Crítico | L18: Não Crítico | M18: =SUMIFS($C4:$C260,$G4:$G260,"HMM",$H4:$H260,"Apoio ou Suporte Especializado",$I4:$I260,"Não Crítico") -> 62 | P18: Não Crítico | Q18: =SUMIFS($C4:$C260,$G4:$G260,"ASS",$H4:$H260,"Apoio ou Suporte Especializado",$I4:$I260,"Não Crítico") -> 5 | T18: Não Crítico | U18: =SUMIFS($C4:$C260,$G4:$G260,"APS",$H4:$H260,"Apoio ou Suporte Especializado",$I4:$I260,"Não Crítico") -> 23 | X18: Não Crítico | Y18: =M18+Q18+U18 -> 90
A19: 16 | B19: Mesa Cirurgica | C19: 1 | D19: Barrfab | E19: DL1B4 | F19: Hospital | G19: HMM | H19: Cirúrgico | I19: Crítico | K19: Apoio ou Suporte Simples | L19: Crítico | M19: =SUMIFS($C7:$C263,$G7:$G263,"HMM",$H7:$H263,"Apoio ou Suporte Simples",$I7:$I263,"Crítico") -> 0 | O19: Apoio ou Suporte Simples | P19: Crítico | Q19: =SUMIFS($C7:$C263,$G7:$G263,"ASS",$H7:$H263,"Apoio ou Suporte Simples",$I7:$I263,"Crítico") -> 0 | S19: Apoio ou Suporte Simples | T19: Crítico | U19: =SUMIFS($C7:$C263,$G7:$G263,"APS",$H7:$H263,"Apoio ou Suporte Simples",$I7:$I263,"Crítico") -> 0 | W19: Apoio ou Suporte Simples | X19: Crítico | Y19: =M19+Q19+U19 -> 0
A20: 17 | B20: Aspirador cirúrgico | C20: 1 | D20: Sam medic | E20: SAM 605 C2 | F20: Hospital | G20: HMM | H20: Cirúrgico | I20: Crítico | L20: Semi-Crítico | M20: =SUMIFS($C7:$C263,$G7:$G263,"HMM",$H7:$H263,"Apoio ou Suporte Simples",$I7:$I263,"Semi-Crítico") -> 0 | P20: Semi-Crítico | Q20: =SUMIFS($C7:$C263,$G7:$G263,"ASS",$H7:$H263,"Apoio ou Suporte Simples",$I7:$I263,"Semi-Crítico") -> 0 | T20: Semi-Crítico | U20: =SUMIFS($C7:$C263,$G7:$G263,"APS",$H7:$H263,"Apoio ou Suporte Simples",$I7:$I263,"Semi-Crítico") -> 0 | X20: Semi-Crítico | Y20: =M20+Q20+U20 -> 0
A21: 18 | B21: Berço Aquecido | C21: 1 | D21: Fanem | E21: AQ 50 | F21: Hospital | G21: HMM | H21: Apoio ou Suporte Especializado | I21: Não Crítico | L21: Não Crítico | M21: =SUMIFS($C7:$C263,$G7:$G263,"HMM",$H7:$H263,"Apoio ou Suporte Simples",$I7:$I263,"Não Crítico") -> 5 | P21: Não Crítico | Q21: =SUMIFS($C7:$C263,$G7:$G263,"ASS",$H7:$H263,"Apoio ou Suporte Simples",$I7:$I263,"Não Crítico") -> 2 | T21: Não Crítico | U21: =SUMIFS($C7:$C263,$G7:$G263,"APS",$H7:$H263,"Apoio ou Suporte Simples",$I7:$I263,"Não Crítico") -> 161 | X21: Não Crítico | Y21: =M21+Q21+U21 -> 168
A22: 19 | B22: Bisturi Elétrico | C22: 2 | D22: Email | E22: BP-100 Plus | F22: Hospital | G22: HMM | H22: Cirúrgico | I22: Crítico
A23: 20 | B23: Bisturi Elétrico | C23: 2 | D23: WEM | E23: SS/ 501LX | F23: Hospital | G23: HMM | H23: Cirúrgico | I23: Crítico
A24: 21 | B24: Bisturi Elétrico | C24: 1 | D24: Deltronix | E24: Precision TC3 | F24: Hospital | G24: HMM | H24: Cirúrgico | I24: Crítico
A25: 22 | B25: Ultrassom Portátil | C25: 1 | D25: GE Medical System | E25: Versana Active 1.5 | F25: Hospital | G25: HMM | H25: Diagnóstico | I25: Semi-Crítico
A26: 23 | B26: Videolaringoscópio | C26: 1 | D26: Insighters | E26: IS3L | F26: Hospital | G26: HMM | H26: Terapêutico | I26: Semi-Crítico
A27: 24 | B27: Processadora de vídeo para exames endoscópicos | C27: 1 | D27: Fujifilm | E27: EP 6000 | F27: Hospital | G27: HMM | H27: Diagnóstico | I27: Semi-Crítico
A28: 25 | B28: Colonoscópio | C28: 1 | D28: Fujifilm | E28: LC 643K201 | F28: Hospital | G28: HMM | H28: Diagnóstico | I28: Semi-Crítico
A29: 26 | B29: Endoscópio | C29: 1 | D29: Fujifilm | E29: MG361K381 | F29: Hospital | G29: HMM | H29: Diagnóstico | I29: Semi-Crítico
A30: 27 | B30: Cama hospitalar fawler elétrica | C30: 50 | D30: Medi Saúde | E30: MS 11.002 | F30: Hospital | G30: HMM | H30: Apoio ou Suporte Especializado | I30: Não Crítico
A31: 28 | B31: Cama hospitalar fawler elétrica | C31: 3 | D31: Vallitech | E31: VLT-931 | F31: Hospital | G31: HMM | H31: Apoio ou Suporte Especializado | I31: Não Crítico
A32: 29 | B32: Cama hospitalar fawler elétrica | C32: 7 | D32: D'Aquino | E32: MD045A | F32: Hospital | G32: HMM | H32: Apoio ou Suporte Especializado | I32: Não Crítico
A33: 30 | B33: Cama PPP elétrica | C33: 1 | D33: Medi Saúde | E33: MS 11.009 | F33: Hospital | G33: HMM | H33: Apoio ou Suporte Especializado | I33: Não Crítico
... A40: 37 | B40: Esteira | C40: 1 | D40: KIKOS | E40: E1000I | F40: Centro de Fisioterapia do Município | G40: ASS | H40: Reabilitação | I40: Não Crítico
A41: 38 | B41: Esteira | C41: 1 | D41: KIKOS | F41: PSF Melo Viana | G41: APS | H41: Reabilitação | I41: Não Crítico
A42: 39 | B42: Bicicleta Ergométrica | C42: 1 | D42: Arktus | F42: Centro de Fisioterapia do Município | G42: ASS | H42: Reabilitação | I42: Não Crítico
A43: 40 | B43: Bicicleta Ergométrica | C43: 1 | D43: Embreex | E43: Embreex 330 | F43: Centro de Fisioterapia do Município | G43: ASS | H43: Reabilitação | I43: Não Crítico
A44: 41 | B44: Bicicleta Ergométrica | C44: 1 | D44: Arktus | F44: PSF Melo Viana | G44: APS | H44: Reabilitação | I44: Não Crítico
A45: 42 | B45: Bicicleta Ergométrica | C45: 1 | D45: Polimet | E45: BP-3300 | F45: PSF Melo Viana | G45: APS | H45: Reabilitação | I45: Não Crítico
A46: 43 | B46: Bicicleta Ergométrica | C46: 1 | D46: Polimet | E46: BP3300 | F46: Centro de Fisioterapia do Município | G46: ASS | H46: Reabilitação | I46: Não Crítico
A47: 44 | B47: TENS/FES | C47: 2 | D47: Quark | E47: Fes Vif 995 | F47: Centro de Fisioterapia do Município | G47: ASS | H47: Reabilitação | I47: Semi-Crítico
A48: 45 | B48: TENS/FES | C48: 1 | D48: HTM | E48: TENS/FES HTM Clínico | F48: Centro de Fisioterapia do Município | G48: ASS | H48: Reabilitação | I48: Semi-Crítico
A49: 46 | B49: TENS/FES | C49: 1 | D49: Quark | E49: Fes Vif 995 | F49: PSF Melo Viana | G49: APS | H49: Reabilitação | I49: Semi-Crítico
A50: 47 | B50: TENS/FES | C50: 1 | D50: HTM | E50: TENS/FES HTM Clínico | F50: PSF Melo Viana | G50: APS | H50: Reabilitação | I50: Semi-Crítico
A51: 48 | B51: TENS/FES | C51: 1 | D51: IBRAMED | E51: Neurodyn TENS | F51: PSF Melo Viana | G51: APS | H51: Reabilitação | I51: Semi-Crítico
A52: 49 | B52: TENS/FES | C52: 1 | D52: BIOSET | E52: Physiotonus Four | F52: PSF Melo Viana | G52: APS | H52: Reabilitação | I52: Semi-Crítico
A53: 50 | B53: =$B$5 -> Ultrassom Terapêutico | C53: 1 | D53: Ibramed | E53: Sonopulse III | F53: Centro de Fisioterapia do Município | G53: ASS | H53: Reabilitação | I53: Semi-Crítico
A54: 51 | B54: Ultrassom Terapêutico | C54: 2 | D54: Ibramed | E54: Sonopulse III | F54: PSF Melo Viana | G54: APS | H54: Reabilitação | I54: Semi-Crítico
A55: 52 | B55: Laser | C55: 1 | D55: Ibramed | E55: Laserpulse | F55: Centro de Fisioterapia do Município | G55: ASS | H55: Reabilitação | I55: Semi-Crítico
A56: 53 | B56: Laser | C56: 1 | D56: Ibramed | E56: Laserpulse | F56: PSF Melo Viana | G56: APS | H56: Reabilitação | I56: Semi-Crítico
A57: 54 | B57: TENS/FES | C57: 2 | D57: Ibramed | E57: Neurodyn portable | F57: Centro de Fisioterapia do Município | G57: ASS | H57: Reabilitação | I57: Semi-Crítico
A58: 55 | B58: Esfigmomanômetro | C58: 2 | D58: Premium | F58: Centro de Fisioterapia do Município | G58: ASS | H58: Diagnóstico | I58: Semi-Crítico
A59: 56 | B59: Esfigmomanômetro | C59: 2 | D59: Premium | F59: PSF Melo Viana | G59: APS | H59: Diagnóstico | I59: Semi-Crítico
A60: 57 | B60: Autoclave | C60: 1 | D60: Sercon | E60: AHMC | F60: Zoonoses | G60: ASS | H60: Apoio ou Suporte Especializado | I60: Não Crítico
A61: 58 | B61: Autoclave | C61: 1 | D61: GD equipamentos medicos | E61: MD800 | F61: Canil | G61: ASS | H61: Apoio ou Suporte Especializado | I61: Não Crítico
A62: 59 | B62: Bisturi Elétrico | C62: 1 | D62: Wem | E62: SS-501LX | F62: Canil | G62: ASS | H62: Cirúrgico | I62: Crítico
A63: 60 | B63: Monitor Multiparametrico | C63: 1 | D63: Shenzhen Creative | E63: PC-3000 | F63: Canil | G63: ASS | H63: Diagnóstico | I63: Crítico
A64: 61 | B64: Balança | C64: 1 | D64: Líder | E64: LD1050 | F64: Canil | G64: ASS | H64: Apoio ou Suporte Simples | I64: Não Crítico
A65: 62 | B65: Bomba de Infusão | C65: 1 | D65: Contec Medical | E65: SP750 | F65: Canil | G65: ASS | H65: Terapêutico | I65: Crítico
A66: 63 | B66: Aparelho de Anestesia Inalatória | C66: 1 | D66: VetPlus | E66: STANDART | F66: Canil | G66: ASS | H66: Cirúrgico | I66: Crítico
A67: 64 | B67: Foco Cirúrgico | C67: 1 | D67: DeltaLife | E67: FT210054 | F67: Canil | G67: ASS | H67: Apoio ou Suporte Especializado | I67: Não Crítico
A68: 65 | B68: Balança Adulto | C68: 1 | D68: Líder | E68: Não Informado | F68: PSF São Pedro | G68: APS | H68: Apoio ou Suporte Simples | I68: Não Crítico
A69: 66 | B69: Balança Adulto | C69: 1 | D69: Balmak | E69: Não Informado | F69: UBS Caracois De Cima | G69: APS | H69: Apoio ou Suporte Simples | I69: Não Crítico
A70: 67 | B70: Balança Adulto | C70: 1 | D70: Lider | E70: P150c | F70: UBS Caracois De Baixo | G70: APS | H70: Apoio ou Suporte Simples | I70: Não Crítico
A71: 68 | B71: Balança Adulto | C71: 1 | D71: Lider | E71: P200c | F71: UBS Caracois De Baixo | G71: APS | H71: Apoio ou Suporte Simples | I71: Não Crítico
... A119: 116 | B119: Cadeira de Rodas | C119: 1 | D119: Dellamed | E119: D100 | F119: PSF Castelo Branco | G119: APS | H119: Apoio ou Suporte Simples | I119: Não Crítico
A120: 117 | B120: Cadeira de Rodas | C120: 1 | D120: Jaguarajipe | E120: 1009 | F120: PSF Castelo Branco | G120: APS | H120: Apoio ou Suporte Simples | I120: Não Crítico
A121: 118 | B121: Cadeira de Rodas | C121: 1 | D121: D 100 Silla De Ruedas | E121: Não Informado | F121: UBS Caracois De Cima | G121: APS | H121: Apoio ou Suporte Simples | I121: Não Crítico
A122: 119 | B122: Cadeira de Rodas | C122: 1 | D122: Dellamed | E122: Não Informado | F122: UBS Caracois De Baixo | G122: APS | H122: Apoio ou Suporte Simples | I122: Não Crítico
A123: 120 | B123: Cadeira de Rodas | C123: 1 | D123: Dellamed | E123: Não Informado | F123: PSF Jardim Das Oliveiras | G123: APS | H123: Apoio ou Suporte Simples | I123: Não Crítico
A124: 121 | B124: Cadeira de Rodas | C124: 1 | D124: Dellamed | E124: D100 | F124: PSF Santa Quitéria | G124: APS | H124: Apoio ou Suporte Simples | I124: Não Crítico
A125: 122 | B125: Cadeira de Rodas | C125: 1 | D125: Jaguarine | E125: Não Informado | F125: PSF Santa Quitéria | G125: APS | H125: Apoio ou Suporte Simples | I125: Não Crítico
A126: 123 | B126: Cadeira de Rodas | C126: 2 | D126: Não Informado | E126: Não Informado | F126: PSF São Francisco | G126: APS | H126: Apoio ou Suporte Simples | I126: Não Crítico
A127: 124 | B127: Cadeira de Rodas | C127: 1 | D127: Jaguarine | E127: Não Informado | F127: PSF Serra Verde | G127: APS | H127: Apoio ou Suporte Simples | I127: Não Crítico
A128: 125 | B128: Cadeira de Rodas | C128: 1 | D128: Dellamed | E128: Não Informado | F128: PSF Tijuco | G128: APS | H128: Apoio ou Suporte Simples | I128: Não Crítico
A129: 126 | B129: Cadeira de Rodas | C129: 1 | D129: Ortomix | E129: Não Informado | F129: PSF Tijuco | G129: APS | H129: Apoio ou Suporte Simples | I129: Não Crítico
A130: 127 | B130: Cadeira de Rodas | C130: 1 | D130: Jaguaribe | E130: Não Informado | F130: UBS Urucuia | G130: APS | H130: Apoio ou Suporte Simples | I130: Não Crítico
A131: 128 | B131: Cadeira de Rodas | C131: 1 | D131: Dellamed | E131: Não Informado | F131: UBS Urucuia | G131: APS | H131: Apoio ou Suporte Simples | I131: Não Crítico
A132: 129 | B132: Colposcópio | C132: 1 | D132: Medpej | E132: Pe-7000v | F132: PSF Marilda | G132: APS | H132: Diagnóstico | I132: Semi-Crítico
... A256: 253 | B256: Otoscópio | C256: 1 | D256: Mikatos | E256: Não Informado | F256: UBS Caracois De Cima | G256: APS | H256: Diagnóstico | I256: Semi-Crítico
A257: 254 | B257: Poltrona Acompanhante | C257: 1 | D257: Não Informado | E257: 4030 | F257: UBS Caracois De Baixo | G257: APS | H257: Apoio ou Suporte Simples | I257: Não Crítico
A258: 255 | B258: Poltrona de Medicação | C258: 5 | D258: Não Informado | E258: Não Informado | F258: PSF Melo Viana | G258: APS | H258: Apoio ou Suporte Simples | I258: Não Crítico
A259: 256 | B259: Poltrona de Medicação | C259: 2 | D259: Não Informado | E259: T4030 | F259: PSF Jardim Das Oliveiras | G259: APS | H259: Apoio ou Suporte Simples | I259: Não Crítico
A260: 257 | B260: Poltrona de Medicação | C260: 3 | D260: Renascer | E260: Não Informado | F260: PSF Tijuco | G260: APS | H260: Apoio ou Suporte Simples | I260: Não Crítico

Sheet Lotes - ETP
A1: Lote 1: Equipamentos Diagnósticos
A2: Item | B2: Criticidade | C2: Qtd Hospital | D2: Qtd ASS | E2: Qtd APS | F2: Qtd Total | G2: Qtd Manutenção Preventiva / Ano | H2: Valor Unitário / Manutenção Preventiva | I2: Valor Total Manutenção Preventiva / Ano | J2: Qtd Hora Técnica / Ano / Eq. | K2: Valor Unitário / Hora Técnica | L2: Valor Total Manutenção Corretiva / Ano | M2: Valor Total Fornecimento de Peças / Ano | N2: Valor Total Global / Ano (Manutenção Preventiva e Corretiva)
A3: 1 | B3: Crítico | C3: 4 | D3: 1 | E3: 0 | F3: =SUM(C3:E3) -> 5 | G3: 12 | H3: 169 | I3: =F3*G3*H3 -> 10140 | J3: 10 | K3: 158.03 | L3: =J3*F3*K3 -> 7901.5 | M3: =L3*10% -> 790.15 | N3: =I3+L3 -> 18041.5
A4: 2 | B4: Semi-Crítico | C4: 12 | D4: 5 | E4: 92 | F4: =SUM(C4:E4) -> 109 | G4: 4 | H4: 169 | I4: =F4*G4*H4 -> 73684 | J4: 5 | K4: 158.03 | L4: =J4*F4*K4 -> 86126.35 | M4: =L4*10% -> 8612.635 | N4: =I4+L4 -> 159810.35
A5: 3 | B5: Não Crítico | C5: 0 | D5: 0 | E5: 10 | F5: =SUM(C5:E5) -> 10 | G5: 2 | H5: 169 | I5: =F5*G5*H5 -> 3380 | J5: 2 | K5: 158.03 | L5: =J5*F5*K5 -> 3160.6 | M5: =L5*10% -> 316.06 | N5: =I5+L5 -> 6540.6
A6: Valor Total Geral: | M6: =SUM(M3:M5) -> 9718.845 | N6: =SUM(N3:N5) -> 184392.45
A8: Lote 2: Equipamentos Terapêuticos
A9: Item | B9: Criticidade | C9: Qtd Hospital | D9: Qtd ASS | E9: Qtd APS | F9: Qtd Total | G9: Qtd Manutenção Preventiva / Ano | H9: Valor Unitário / Manutenção Preventiva | I9: Valor Total Manutenção Preventiva / Ano | J9: Qtd Hora Técnica / Ano / Eq. | K9: Valor Unitário / Hora Técnica | L9: Valor Total Manutenção Corretiva / Ano | M9: Valor Total Fornecimento de Peças / Ano | N9: Valor Total Global / Ano (Manutenção Preventiva e Corretiva)
A10: 1 | B10: Crítico | C10: 3 | D10: 2 | E10: 2 | F10: =SUM(C10:E10) -> 7 | G10: 12 | H10: 169 | I10: =F10*G10*H10 -> 14196 | J10: 10 | K10: 158.03 | L10: =J10*F10*K10 -> 11062.1 | M10: =L10*10% -> 1106.21 | N10: =I10+L10 -> 25258.1
A11: 2 | B11: Semi-Crítico | C11: 2 | D11: 0 | E11: 1 | F11: =SUM(C11:E11) -> 3 | G11: 4 | H11: 169 | I11: =F11*G11*H11 -> 2028 | J11: 5 | K11: 158.03 | L11: =J11*F11*K11 -> 2370.45 | M11: =L11*10% -> 237.045 | N11: =I11+L11 -> 4398.45
A12: 3 | B12: Não Crítico | C12: 0 | D12: 0 | E12: 0 | F12: =SUM(C12:E12) -> 0 | G12: 2 | H12: 169 | I12: =F12*G12*H12 -> 0 | J12: 2 | K12: 158.03 | L12: =J12*F12*K12 -> 0 | M12: =L12*10% -> 0 | N12: =I12+L12 -> 0
A13: Valor Total Geral: | M13: =SUM(M10:M12) -> 1343.255 | N13: =SUM(N10:N12) -> 29656.55
A15: Lote 3: Equipamentos Cirúrgicos
A16: Item | B16: Criticidade | C16: Qtd Hospital | D16: Qtd ASS | E16: Qtd APS | F16: Qtd Total | G16: Qtd Manutenção Preventiva / Ano | H16: Valor Unitário / Manutenção Preventiva | I16: Valor Total Manutenção Preventiva / Ano | J16: Qtd Hora Técnica / Ano / Eq. | K16: Valor Unitário / Hora Técnica | L16: Valor Total Manutenção Corretiva / Ano | M16: Valor Total Fornecimento de Peças / Ano | N16: Valor Total Global / Ano (Manutenção Preventiva e Corretiva)
A17: 1 | B17: Crítico | C17: 7 | D17: 3 | E17: 0 | F17: =SUM(C17:E17) -> 10 | G17: 12 | H17: 169 | I17: =F17*G17*H17 -> 20280 | J17: 10 | K17: 158.03 | L17: =J17*F17*K17 -> 15803 | M17: =L17*10% -> 1580.3 | N17: =I17+L17 -> 36083
A18: 2 | B18: Semi-Crítico | C18: 0 | D18: 0 | E18: 0 | F18: =SUM(C18:E18) -> 0 | G18: 4 | H18: 169 | I18: =F18*G18*H18 -> 0 | J18: 5 | K18: 158.03 | L18: =J18*F18*K18 -> 0 | M18: =L18*10% -> 0 | N18: =I18+L18 -> 0
A19: 3 | B19: Não Crítico | C19: 0 | D19: 0 | E19: 0 | F19: =SUM(C19:E19) -> 0 | G19: 2 | H19: 169 | I19: =F19*G19*H19 -> 0 | J19: 2 | K19: 158.03 | L19: =J19*F19*K19 -> 0 | M19: =L19*10% -> 0 | N19: =I19+L19 -> 0
A20: Valor Total Geral: | M20: =SUM(M17:M19) -> 1580.3 | N20: =SUM(N17:N19) -> 36083
A22: Lote 4: Equipamentos de Reabilitação
A23: Item | B23: Criticidade | C23: Qtd Hospital | D23: Qtd ASS | E23: Qtd APS | F23: Qtd Total | G23: Qtd Manutenção Preventiva / Ano | H23: Valor Unitário / Manutenção Preventiva | I23: Valor Total Manutenção Preventiva / Ano | J23: Qtd Hora Técnica / Ano / Eq. | K23: Valor Unitário / Hora Técnica | L23: Valor Total Manutenção Corretiva / Ano | M23: Valor Total Fornecimento de Peças / Ano | N23: Valor Total Global / Ano (Manutenção Preventiva e Corretiva)
A24: 1 | B24: Crítico | C24: 0 | D24: 0 | E24: 0 | F24: =SUM(C24:E24) -> 0 | G24: 12 | H24: 169 | I24: =F24*G24*H24 -> 0 | J24: 10 | K24: 158.03 | L24: =J24*F24*K24 -> 0 | M24: =L24*10% -> 0 | N24: =I24+L24 -> 0
A25: 2 | B25: Semi-Crítico | C25: 2 | D25: 7 | E25: 7 | F25: =SUM(C25:E25) -> 16 | G25: 4 | H25: 169 | I25: =F25*G25*H25 -> 10816 | J25: 5 | K25: 158.03 | L25: =J25*F25*K25 -> 12642.4 | M25: =L25*10% -> 1264.24 | N25: =I25+L25 -> 23458.4
A26: 3 | B26: Não Crítico | C26: 0 | D26: 4 | E26: 3 | F26: =SUM(C26:E26) -> 7 | G26: 2 | H26: 169 | I26: =F26*G26*H26 -> 2366 | J26: 2 | K26: 158.03 | L26: =J26*F26*K26 -> 2212.42 | M26: =L26*10% -> 221.242 | N26: =I26+L26 -> 4578.42
A27: Valor Total Geral: | M27: =SUM(M24:M26) -> 1485.482 | N27: =SUM(N24:N26) -> 28036.82
A29: Lote 5: Equipamentos de Apoio ou Suporte Especializado
A30: Item | B30: Criticidade | C30: Qtd Hospital | D30: Qtd ASS | E30: Qtd APS | F30: Qtd Total | G30: Qtd Manutenção Preventiva / Ano | H30: Valor Unitário / Manutenção Preventiva | I30: Valor Total Manutenção Preventiva / Ano | J30: Qtd Hora Técnica / Ano / Eq. | K30: Valor Unitário / Hora Técnica | L30: Valor Total Manutenção Corretiva / Ano | M30: Valor Total Fornecimento de Peças / Ano | N30: Valor Total Global / Ano (Manutenção Preventiva e Corretiva)
A31: 1 | B31: Crítico | C31: 0 | D31: 0 | E31: 0 | F31: =SUM(C31:E31) -> 0 | G31: 12 | H31: 169 | I31: =F31*G31*H31 -> 0 | J31: 10 | K31: 158.03 | L31: =J31*F31*K31 -> 0 | M31: =L31*10% -> 0 | N31: =I31+L31 -> 0
A32: 2 | B32: Semi-Crítico | C32: 0 | D32: 0 | E32: 0 | F32: =SUM(C32:E32) -> 0 | G32: 4 | H32: 169 | I32: =F32*G32*H32 -> 0 | J32: 5 | K32: 158.03 | L32: =J32*F32*K32 -> 0 | M32: =L32*10% -> 0 | N32: =I32+L32 -> 0
A33: 3 | B33: Não Crítico | C33: 62 | D33: 5 | E33: 23 | F33: =SUM(C33:E33) -> 90 | G33: 2 | H33: 169 | I33: =F33*G33*H33 -> 30420 | J33: 2 | K33: 158.03 | L33: =J33*F33*K33 -> 28445.4 | M33: =L33*10% -> 2844.54 | N33: =I33+L33 -> 58865.4
A34: Valor Total Geral: | M34: =SUM(M31:M33) -> 2844.54 | N34: =SUM(N31:N33) -> 58865.4
A36: Lote 6: Equipamentos de Apoio ou Suporte Simples
A37: Item | B37: Criticidade | C37: Qtd Hospital | D37: Qtd ASS | E37: Qtd APS | F37: Qtd Total | G37: Qtd Manutenção Preventiva / Ano | H37: Valor Unitário / Manutenção Preventiva | I37: Valor Total Manutenção Preventiva / Ano | J37: Qtd Hora Técnica / Ano / Eq. | K37: Valor Unitário / Hora Técnica | L37: Valor Total Manutenção Corretiva / Ano | M37: Valor Total Fornecimento de Peças / Ano | N37: Valor Total Global / Ano (Manutenção Corretiva)
A38: 1 | B38: Crítico | C38: 0 | D38: 0 | E38: 0 | F38: =SUM(C38:E38) -> 0 | G38: - | H38: - | I38: - | J38: 10 | K38: 158.03 | L38: =J38*F38*K38 -> 0 | M38: =L38*10% -> 0 | N38: -
A39: 2 | B39: Semi-Crítico | C39: 0 | D39: 0 | E39: 0 | F39: =SUM(C39:E39) -> 0 | G39: - | H39: - | I39: - | J39: 5 | K39: 158.03 | L39: =J39*F39*K39 -> 0 | M39: =L39*10% -> 0 | N39: -
A40: 3 | B40: Não Crítico | C40: 5 | D40: 2 | E40: 161 | F40: =SUM(C40:E40) -> 168 | G40: - | H40: - | I40: - | J40: 2 | K40: 158.03 | L40: =J40*F40*K40 -> 53098.08 | M40: =L40*10% -> 5309.808 | N40: =L40 -> 53098.08
A41: Valor Total Geral: | M41: =SUM(M38:M40) -> 5309.808 | N41: =SUM(N38:N40) -> 53098.08
A43: Valor Total Estimado (Manutenção Preventiva) - Geral: | I43: =SUM(I3:I5,I10:I12,I17:I19,I24:I26,I31:I33) -> 167310
A44: Valor Total Estimado (Manutenção Corretiva) - Geral: | I44: =SUM(L3:L5,L10:L12,L17:L19,L24:L26,L31:L33,L38:L40) -> 222822.3
A45: Valor Total Estimado (Peças) - Geral: | I45: =SUM(M3:M5,M10:M12,M17:M19,M24:M26,M31:M33,M38:M40) -> 22282.23
A47: Valor Total Estimado (Manutenção Preventiva) - Hospital: | I47: ='Por Setor'!A42 -> 60164
A48: Valor Total Estimado (Manutenção Corretiva) - Hospital: | I48: ='Por Setor'!E42 -> 55942.62
A49: Valor Total Estimado (Peças) - Hospital: | I49: ='Por Setor'!I42 -> 5594.262
A51: Valor Total Estimado (Manutenção Preventiva) - ASS: | I51: ='Por Setor'!B42 -> 23322
A52: Valor Total Estimado (Manutenção Corretiva) - ASS: | I52: ='Por Setor'!F42 -> 22440.26
A53: Valor Total Estimado (Peças) - ASS: | I53: ='Por Setor'!J42 -> 2244.026
A55: Valor Total Estimado (Manutenção Preventiva) - APS: | I55: ='Por Setor'!C42 -> 83824
A56: Valor Total Estimado (Manutenção Corretiva) - APS: | I56: ='Por Setor'!G42 -> 144439.42
A57: Valor Total Estimado (Peças) - APS: | I57: ='Por Setor'!K42 -> 14443.942

Sheet Planilha Resumo
A1: Lote 1: Equipamentos Diagnósticos
A2: Item | B2: Criticidade | C2: Qtd Total Eq. | D2: Qtd Manutenção Preventiva / Ano | E2: Valor Unitário / Manutenção Preventiva | F2: Valor Total Manutenção Preventiva / Ano | G2: Qtd Hora Técnica / Ano / Eq. | H2: Valor Unitário / Hora Técnica | I2: Valor Total Manutenção Corretiva / Ano | J2: Valor Total Fornecimento de Peças / Ano
A3: 1 | B3: Crítico | C3: 5 | D3: 12 | E3: 169 | F3: =C3*D3*E3 -> 10140 | G3: 10 | H3: 158.03 | I3: =C3*G3*H3 -> 7901.5 | J3: =SUM(I3:I5)*10% -> 9481.8
A4: 2 | B4: Semi-Crítico | C4: 106 | D4: 4 | F4: =C4*D4*E3 -> 71656 | G4: 5 | I4: =C4*G4*H3 -> 83755.9
A5: 3 | B5: Não Crítico | C5: 10 | D5: 2 | F5: =C5*D5*E3 -> 3380 | G5: 2 | I5: =C5*G5*H3 -> 3160.6
A6: Valor Total Manunteção Preventiva: | E6: =SUM(F3:F5) -> 85176
A7: Valor Total Manunteção Corretiva: | E7: =SUM(I3:I5) -> 94818
A8: Valor Total Fornecimento de Peças: | E8: =SUM(J3) -> 9481.8
A9: Valor Total Geral do Lote: | E9: =SUM(E6:E8) -> 189475.8
A11: Lote 2: Equipamentos Terapêuticos
A12: Item | B12: Criticidade | C12: Qtd Total Eq. | D12: Qtd Manutenção Preventiva / Ano | E12: Valor Unitário / Manutenção Preventiva | F12: Valor Total Manutenção Preventiva / Ano | G12: Qtd Hora Técnica / Ano / Eq. | H12: Valor Unitário / Hora Técnica | I12: Valor Total Manutenção Corretiva / Ano | J12: Valor Total Fornecimento de Peças / Ano
A13: 1 | B13: Crítico | C13: 7 | D13: 12 | E13: 169 | F13: =C13*D13*E13 -> 14196 | G13: 10 | H13: 158.03 | I13: =C13*G13*H13 -> 11062.1 | J13: =SUM(I13:I15)*10% -> 1343.255
A14: 2 | B14: Semi-Crítico | C14: 3 | D14: 4 | F14: =C14*D14*E13 -> 2028 | G14: 5 | I14: =C14*G14*H13 -> 2370.45
A15: 3 | B15: Não Crítico | C15: 0 | D15: 2 | F15: =C15*D15*E13 -> 0 | G15: 2 | I15: =C15*G15*H13 -> 0
A16: Valor Total Manunteção Preventiva: | E16: =SUM(F13:F15) -> 16224
A17: Valor Total Manunteção Corretiva: | E17: =SUM(I13:I15) -> 13432.55
A18: Valor Total Fornecimento de Peças: | E18: =SUM(J13) -> 1343.255
A19: Valor Total Geral do Lote: | E19: =SUM(E16:E18) -> 30999.805
A21: Lote 3: Equipamentos Cirúrgicos
A22: Item | B22: Criticidade | C22: Qtd Total Eq. | D22: Qtd Manutenção Preventiva / Ano | E22: Valor Unitário / Manutenção Preventiva | F22: Valor Total Manutenção Preventiva / Ano | G22: Qtd Hora Técnica / Ano / Eq. | H22: Valor Unitário / Hora Técnica | I22: Valor Total Manutenção Corretiva / Ano | J22: Valor Total Fornecimento de Peças / Ano
A23: 1 | B23: Crítico | C23: 10 | D23: 12 | E23: 169 | F23: =C23*D23*E23 -> 20280 | G23: 10 | H23: 158.03 | I23: =C23*G23*H23 -> 15803 | J23: =SUM(I23:I25)*10% -> 1580.3
A24: 2 | B24: Semi-Crítico | C24: 0 | D24: 4 | F24: =C24*D24*E23 -> 0 | G24: 5 | I24: =C24*G24*H23 -> 0
A25: 3 | B25: Não Crítico | C25: 0 | D25: 2 | F25: =C25*D25*E23 -> 0 | G25: 2 | I25: =C25*G25*H23 -> 0
A26: Valor Total Manunteção Preventiva: | E26: =SUM(F23:F25) -> 20280
A27: Valor Total Manunteção Corretiva: | E27: =SUM(I23:I25) -> 15803
A28: Valor Total Fornecimento de Peças: | E28: =SUM(J23) -> 1580.3
A29: Valor Total Geral do Lote: | E29: =SUM(E26:E28) -> 37663.3
A31: Lote 4: Equipamentos de Reabilitação
A32: Item | B32: Criticidade | C32: Qtd Total Eq. | D32: Qtd Manutenção Preventiva / Ano | E32: Valor Unitário / Manutenção Preventiva | F32: Valor Total Manutenção Preventiva / Ano | G32: Qtd Hora Técnica / Ano / Eq. | H32: Valor Unitário / Hora Técnica | I32: Valor Total Manutenção Corretiva / Ano | J32: Valor Total Fornecimento de Peças / Ano
A33: 1 | B33: Crítico | C33: 0 | D33: 12 | E33: 169 | F33: =C33*D33*E33 -> 0 | G33: 10 | H33: 158.03 | I33: =C33*G33*H33 -> 0 | J33: =SUM(I33:I35)*10% -> 1485.482
A34: 2 | B34: Semi-Crítico | C34: 16 | D34: 4 | F34: =C34*D34*E33 -> 10816 | G34: 5 | I34: =C34*G34*H33 -> 12642.4
A35: 3 | B35: Não Crítico | C35: 7 | D35: 2 | F35: =C35*D35*E33 -> 2366 | G35: 2 | I35: =C35*G35*H33 -> 2212.42
A36: Valor Total Manunteção Preventiva: | E36: =SUM(F33:F35) -> 13182
A37: Valor Total Manunteção Corretiva: | E37: =SUM(I33:I35) -> 14854.82
A38: Valor Total Fornecimento de Peças: | E38: =SUM(J33) -> 1485.482
A39: Valor Total Geral do Lote: | E39: =SUM(E36:E38) -> 29522.302
A41: Lote 5: Equipamentos de Apoio e Suporte Especializado
A42: Item | B42: Criticidade | C42: Qtd Total Eq. | D42: Qtd Manutenção Preventiva / Ano | E42: Valor Unitário / Manutenção Preventiva | F42: Valor Total Manutenção Preventiva / Ano | G42: Qtd Hora Técnica / Ano / Eq. | H42: Valor Unitário / Hora Técnica | I42: Valor Total Manutenção Corretiva / Ano | J42: Valor Total Fornecimento de Peças / Ano
A43: 1 | B43: Crítico | C43: 0 | D43: 12 | E43: 169 | F43: =C43*D43*E43 -> 0 | G43: 10 | H43: 158.03 | I43: =C43*G43*H43 -> 0 | J43: =SUM(I43:I45)*10% -> 2844.54
A44: 2 | B44: Semi-Crítico | C44: 0 | D44: 4 | F44: =C44*D44*E43 -> 0 | G44: 5 | I44: =C44*G44*H43 -> 0
A45: 3 | B45: Não Crítico | C45: 90 | D45: 2 | F45: =C45*D45*E43 -> 30420 | G45: 2 | I45: =C45*G45*H43 -> 28445.4
A46: Valor Total Manunteção Preventiva: | E46: =SUM(F43:F45) -> 30420
A47: Valor Total Manunteção Corretiva: | E47: =SUM(I43:I45) -> 28445.4
A48: Valor Total Fornecimento de Peças: | E48: =SUM(J43) -> 2844.54
A49: Valor Total Geral do Lote: | E49: =SUM(E46:E48) -> 61709.94
A51: Lote 6: Equipamentos de Apoio e Suporte Simples
A52: Item | B52: Criticidade | C52: Qtd Total Eq. | D52: Qtd Manutenção Preventiva / Ano | E52: Valor Unitário / Manutenção Preventiva | F52: Valor Total Manutenção Preventiva / Ano | G52: Qtd Hora Técnica / Ano / Eq. | H52: Valor Unitário / Hora Técnica | I52: Valor Total Manutenção Corretiva / Ano | J52: Valor Total Fornecimento de Peças / Ano
A53: 1 | B53: Crítico | C53: 0 | D53: - | E53: - | F53: - | G53: 10 | H53: 158.03 | I53: =C53*G53*H53 -> 0 | J53: =SUM(I53:I55)*10% -> 5309.808
A54: 2 | B54: Semi-Crítico | C54: 0 | D54: - | F54: - | G54: 5 | I54: =C54*G54*H53 -> 0
A55: 3 | B55: Não Crítico | C55: 168 | D55: - | F55: - | G55: 2 | I55: =C55*G55*H53 -> 53098.08
A56: Valor Total Manunteção Preventiva: | E56: -
A57: Valor Total Manunteção Corretiva: | E57: =SUM(I53:I55) -> 53098.08
A58: Valor Total Fornecimento de Peças: | E58: =SUM(J53) -> 5309.808
A59: Valor Total Geral do Lote: | E59: =SUM(E56:E58) -> 58407.888
A61: Valor Total Geral da Licitação: | E61: =E9+E19+E29+E39+E49+E59 -> 407779.04

Sheet Por Setor
A1: PREVENTIVA | E1: CORRETIVA | I1: PEÇAS
A2: hospital | B2: ASS | C2: APS | E2: hospital | F2: ASS | G2: APS | I2: hospital | J2: ASS | K2: APS
A3: ='Lotes - ETP'!C3*'Lotes - ETP'!G3*'Lotes - ETP'!H3 -> 8112 | B3: ='Lotes - ETP'!D3*'Lotes - ETP'!G3*'Lotes - ETP'!H3 -> 2028 | C3: ='Lotes - ETP'!E3*'Lotes - ETP'!G3*'Lotes - ETP'!H3 -> 0 | E3: ='Lotes - ETP'!C3*'Lotes - ETP'!J3*'Lotes - ETP'!K3 -> 6321.2 | F3: ='Lotes - ETP'!D3*'Lotes - ETP'!J3*'Lotes - ETP'!K3 -> 1580.3 | G3: ='Lotes - ETP'!E3*'Lotes - ETP'!J3*'Lotes - ETP'!K3 -> 0 | I3: =E3*10% -> 632.12 | J3: =F3*10% -> 158.03 | K3: =G3*10% -> 0
A4: ='Lotes - ETP'!C4*'Lotes - ETP'!G4*'Lotes - ETP'!H4 -> 8112 | B4: ='Lotes - ETP'!D4*'Lotes - ETP'!G4*'Lotes - ETP'!H4 -> 3380 | C4: ='Lotes - ETP'!E4*'Lotes - ETP'!G4*'Lotes - ETP'!H4 -> 62192 | E4: ='Lotes - ETP'!C4*'Lotes - ETP'!J4*'Lotes - ETP'!K4 -> 9481.8 | F4: ='Lotes - ETP'!D4*'Lotes - ETP'!J4*'Lotes - ETP'!K4 -> 3950.75 | G4: ='Lotes - ETP'!E4*'Lotes - ETP'!J4*'Lotes - ETP'!K4 -> 72693.8 | I4: =E4*10% -> 948.18 | J4: =F4*10% -> 395.075 | K4: =G4*10% -> 7269.38
A5: ='Lotes - ETP'!C5*'Lotes - ETP'!G5*'Lotes - ETP'!H5 -> 0 | B5: ='Lotes - ETP'!D5*'Lotes - ETP'!G5*'Lotes - ETP'!H5 -> 0 | C5: ='Lotes - ETP'!E5*'Lotes - ETP'!G5*'Lotes - ETP'!H5 -> 3380 | E5: ='Lotes - ETP'!C5*'Lotes - ETP'!J5*'Lotes - ETP'!K5 -> 0 | F5: ='Lotes - ETP'!D5*'Lotes - ETP'!J5*'Lotes - ETP'!K5 -> 0 | G5: ='Lotes - ETP'!E5*'Lotes - ETP'!J5*'Lotes - ETP'!K5 -> 3160.6 | I5: =E5*10% -> 0 | J5: =F5*10% -> 0 | K5: =G5*10% -> 316.06
A6: ='Lotes - ETP'!C6*'Lotes - ETP'!G6*'Lotes - ETP'!H6 -> 0 | B6: ='Lotes - ETP'!D6*'Lotes - ETP'!G6*'Lotes - ETP'!H6 -> 0 | C6: ='Lotes - ETP'!E6*'Lotes - ETP'!G6*'Lotes - ETP'!H6 -> 0 | E6: ='Lotes - ETP'!C6*'Lotes - ETP'!J6*'Lotes - ETP'!K6 -> 0 | F6: ='Lotes - ETP'!D6*'Lotes - ETP'!J6*'Lotes - ETP'!K6 -> 0 | G6: ='Lotes - ETP'!E6*'Lotes - ETP'!J6*'Lotes - ETP'!K6 -> 0 | I6: =E6*10% -> 0 | J6: =F6*10% -> 0 | K6: =G6*10% -> 0
A7: ='Lotes - ETP'!C7*'Lotes - ETP'!G7*'Lotes - ETP'!H7 -> 0 | B7: ='Lotes - ETP'!D7*'Lotes - ETP'!G7*'Lotes - ETP'!H7 -> 0 | C7: ='Lotes - ETP'!E7*'Lotes - ETP'!G7*'Lotes - ETP'!H7 -> 0 | E7: ='Lotes - ETP'!C7*'Lotes - ETP'!J7*'Lotes - ETP'!K7 -> 0 | F7: ='Lotes - ETP'!D7*'Lotes - ETP'!J7*'Lotes - ETP'!K7 -> 0 | G7: ='Lotes - ETP'!E7*'Lotes - ETP'!J7*'Lotes - ETP'!K7 -> 0 | I7: =E7*10% -> 0 | J7: =F7*10% -> 0 | K7: =G7*10% -> 0
A8: ='Lotes - ETP'!C8*'Lotes - ETP'!G8*'Lotes - ETP'!H8 -> 0 | B8: ='Lotes - ETP'!D8*'Lotes - ETP'!G8*'Lotes - ETP'!H8 -> 0 | C8: ='Lotes - ETP'!E8*'Lotes - ETP'!G8*'Lotes - ETP'!H8 -> 0 | E8: ='Lotes - ETP'!C8*'Lotes - ETP'!J8*'Lotes - ETP'!K8 -> 0 | F8: ='Lotes - ETP'!D8*'Lotes - ETP'!J8*'Lotes - ETP'!K8 -> 0 | G8: ='Lotes - ETP'!E8*'Lotes - ETP'!J8*'Lotes - ETP'!K8 -> 0 | I8: =E8*10% -> 0 | J8: =F8*10% -> 0 | K8: =G8*10% -> 0
A10: ='Lotes - ETP'!C10*'Lotes - ETP'!G10*'Lotes - ETP'!H10 -> 6084 | B10: ='Lotes - ETP'!D10*'Lotes - ETP'!G10*'Lotes - ETP'!H10 -> 4056 | C10: ='Lotes - ETP'!E10*'Lotes - ETP'!G10*'Lotes - ETP'!H10 -> 4056 | E10: ='Lotes - ETP'!C10*'Lotes - ETP'!J10*'Lotes - ETP'!K10 -> 4740.9 | F10: ='Lotes - ETP'!D10*'Lotes - ETP'!J10*'Lotes - ETP'!K10 -> 3160.6 | G10: ='Lotes - ETP'!E10*'Lotes - ETP'!J10*'Lotes - ETP'!K10 -> 3160.6 | I10: =E10*10% -> 474.09 | J10: =F10*10% -> 316.06 | K10: =G10*10% -> 316.06
A11: ='Lotes - ETP'!C11*'Lotes - ETP'!G11*'Lotes - ETP'!H11 -> 1352 | B11: ='Lotes - ETP'!D11*'Lotes - ETP'!G11*'Lotes - ETP'!H11 -> 0 | C11: ='Lotes - ETP'!E11*'Lotes - ETP'!G11*'Lotes - ETP'!H11 -> 676 | E11: ='Lotes - ETP'!C11*'Lotes - ETP'!J11*'Lotes - ETP'!K11 -> 1580.3 | F11: ='Lotes - ETP'!D11*'Lotes - ETP'!J11*'Lotes - ETP'!K11 -> 0 | G11: ='Lotes - ETP'!E11*'Lotes - ETP'!J11*'Lotes - ETP'!K11 -> 790.15 | I11: =E11*10% -> 158.03 | J11: =F11*10% -> 0 | K11: =G11*10% -> 79.015
A12: ='Lotes - ETP'!C12*'Lotes - ETP'!G12*'Lotes - ETP'!H12 -> 0 | B12: ='Lotes - ETP'!D12*'Lotes - ETP'!G12*'Lotes - ETP'!H12 -> 0 | C12: ='Lotes - ETP'!E12*'Lotes - ETP'!G12*'Lotes - ETP'!H12 -> 0 | E12: ='Lotes - ETP'!C12*'Lotes - ETP'!J12*'Lotes - ETP'!K12 -> 0 | F12: ='Lotes - ETP'!D12*'Lotes - ETP'!J12*'Lotes - ETP'!K12 -> 0 | G12: ='Lotes - ETP'!E12*'Lotes - ETP'!J12*'Lotes - ETP'!K12 -> 0 | I12: =E12*10% -> 0 | J12: =F12*10% -> 0 | K12: =G12*10% -> 0
A13: ='Lotes - ETP'!C13*'Lotes - ETP'!G13*'Lotes - ETP'!H13 -> 0 | B13: ='Lotes - ETP'!D13*'Lotes - ETP'!G13*'Lotes - ETP'!H13 -> 0 | C13: ='Lotes - ETP'!E13*'Lotes - ETP'!G13*'Lotes - ETP'!H13 -> 0 | E13: ='Lotes - ETP'!C13*'Lotes - ETP'!J13*'Lotes - ETP'!K13 -> 0 | F13: ='Lotes - ETP'!D13*'Lotes - ETP'!J13*'Lotes - ETP'!K13 -> 0 | G13: ='Lotes - ETP'!E13*'Lotes - ETP'!J13*'Lotes - ETP'!K13 -> 0 | I13: =E13*10% -> 0 | J13: =F13*10% -> 0 | K13: =G13*10% -> 0
A14: ='Lotes - ETP'!C14*'Lotes - ETP'!G14*'Lotes - ETP'!H14 -> 0 | B14: ='Lotes - ETP'!D14*'Lotes - ETP'!G14*'Lotes - ETP'!H14 -> 0 | C14: ='Lotes - ETP'!E14*'Lotes - ETP'!G14*'Lotes - ETP'!H14 -> 0 | E14: ='Lotes - ETP'!C14*'Lotes - ETP'!J14*'Lotes - ETP'!K14 -> 0 | F14: ='Lotes - ETP'!D14*'Lotes - ETP'!J14*'Lotes - ETP'!K14 -> 0 | G14: ='Lotes - ETP'!E14*'Lotes - ETP'!J14*'Lotes - ETP'!K14 -> 0 | I14: =E14*10% -> 0 | J14: =F14*10% -> 0 | K14: =G14*10% -> 0
A15: ='Lotes - ETP'!C15*'Lotes - ETP'!G15*'Lotes - ETP'!H15 -> 0 | B15: ='Lotes - ETP'!D15*'Lotes - ETP'!G15*'Lotes - ETP'!H15 -> 0 | C15: ='Lotes - ETP'!E15*'Lotes - ETP'!G15*'Lotes - ETP'!H15 -> 0 | E15: ='Lotes - ETP'!C15*'Lotes - ETP'!J15*'Lotes - ETP'!K15 -> 0 | F15: ='Lotes - ETP'!D15*'Lotes - ETP'!J15*'Lotes - ETP'!K15 -> 0 | G15: ='Lotes - ETP'!E15*'Lotes - ETP'!J15*'Lotes - ETP'!K15 -> 0 | I15: =E15*10% -> 0 | J15: =F15*10% -> 0 | K15: =G15*10% -> 0
... A35: ='Lotes - ETP'!C35*'Lotes - ETP'!G35*'Lotes - ETP'!H35 -> 0 | B35: ='Lotes - ETP'!D35*'Lotes - ETP'!G35*'Lotes - ETP'!H35 -> 0 | C35: ='Lotes - ETP'!E35*'Lotes - ETP'!G35*'Lotes - ETP'!H35 -> 0 | E35: ='Lotes - ETP'!C35*'Lotes - ETP'!J35*'Lotes - ETP'!K35 -> 0 | F35: ='Lotes - ETP'!D35*'Lotes - ETP'!J35*'Lotes - ETP'!K35 -> 0 | G35: ='Lotes - ETP'!E35*'Lotes - ETP'!J35*'Lotes - ETP'!K35 -> 0 | I35: =E35*10% -> 0 | J35: =F35*10% -> 0 | K35: =G35*10% -> 0
E40: ='Lotes - ETP'!C40*'Lotes - ETP'!J40*'Lotes - ETP'!K40 -> 1580.3 | F40: ='Lotes - ETP'!D40*'Lotes - ETP'!J40*'Lotes - ETP'!K40 -> 632.12 | G40: ='Lotes - ETP'!E40*'Lotes - ETP'!J40*'Lotes - ETP'!K40 -> 50885.66 | I40: =E40*10% -> 158.03 | J40: =F40*10% -> 63.212 | K40: =G40*10% -> 5088.566
A42: =SUM(A3:A40) -> 60164 | B42: =SUM(B3:B40) -> 23322 | C42: =SUM(C3:C40) -> 83824 | E42: =SUM(E3:E40) -> 55942.62 | F42: =SUM(F3:F40) -> 22440.26 | G42: =SUM(G3:G40) -> 144439.42 | I42: =SUM(I3:I40) -> 5594.262 | J42: =SUM(J3:J40) -> 2244.026 | K42: =SUM(K3:K40) -> 14443.942
