Workbook

Sheet Orçamento PARA CSV
D1: PLANILHA ORÇAMENTÁRIA | F1: BDI
F2: 1.2614
D3: OBRA: | E3: Recapeamento e pavimentação asfáltica com Concreto Betuminoso Usinado a Quente – CBUQ – e drenagem superficial em diversas vias do Município de Igarapé/MG.
A5: grupo | B5: subgrupo | C5: servico | D5: unidade | E5: quantidade
A7: OBRAS | B7: MOBIL | C7: 01.01.00 MOBILIZACAO E DESMOBILIZACAO | D7: UNID | E7: 1
A8: OBRAS | B8: INSTAL | C8: 02.01.00 ESCRITORIO DA CONTRATADA ATE 22M2 | D8: M2 | E8: 13.8
A9: OBRAS | B9: INSTAL | C9: 02.02.00 PLACA DE OBRA EM LONA IMPRESSAO DIGITAL P. SUDECAP AFIXADA COM PEÇAS DE MADEIRA 8X12CM | D9: M2 | E9: 12
A10: OBRAS | B10: INSTAL | C10: 02.03.00 BANHEIRO QUIMICO 110X120X230CM COM MANUTENCAO | D10: MÊS | E10: 12
A11: OBRAS | B11: DREN PLUV | C11: 03.01.00 GUIA DE MEIO FIO EM CONCRETO COM FCK 20MPA, PRÉ MOLDADA, MFC-01 PADRÃO, DER-MG, DIMENSÕES (12X16,7X35)CM, INCLUSIVE ESCAVAÇÃO, APILOAMENTO E TRANSPORTE COM RETIRADA DO MATERIAL ESCAVADO (EM CAÇAMBA) | D11: M | E11: 6000
A12: OBRAS | B12: DREN PLUV | C12: 03.02.00 SARJETA DE CONCRETO URBANO (SCU) TIPO 1, COM FCK 15 MPA, LARGURA DE 50CM COM INCLINAÇÃO DE 3% ESP 7CM, PADRÃO DER-MG, EXCLUSIVE MEIO-FIO, INCLUSIVE ESCAVAÇÃO, APILOAMENTO E TRANSPORTE COM RETIRADA DO MATERIAL ESCAVADO (EM CAÇAMBA) | D12: M | E12: 3600
A13: OBRAS | B13: RECAP | C13: 04.01.00 PINTURA DE LIGAÇÃO COM RR-1C/ RR-2C | D13: M2 | E13: 50000
A14: OBRAS | B14: RECAP | C14: 04.02.00 TRANSPORTE DE MATERIAL DE QUALQUER NATUREZA EM CAMINHÃO DMT > 10KM (EMULSÃO ASFÁLTICA E RR-2C DA REFINARIA A OBRA) - 30KM | D14: TXKM | E14: 675
A15: OBRAS | B15: RECAP | C15: 04.03.00 EXECUÇÃO DE PAVIMENTO COM APLICAÇÃO DE CONCRETO ASFÁLTICO, CAMADA DE ROLAMENTO - EXCLUSIVE CARGA E TRANSPORTE. AF_11/2019 | D15: M3 | E15: 2500
A16: OBRAS | B16: RECAP | C16: 04.04.00 TRANSPORTE DE MATERIAL DE QUALQUER NATUREZA EM CAMINHÃO DMT > 10KM (TRANSPORTE CBUQ) - 15KM | D16: TXKM | E16: 90000
A17: OBRAS | B17: PAVIM | C17: 05.01.00 ESCAVAÇÃO E CARGA MECANIZADA EM MATERIAL DE 1ª CATEGORIA | D17: M3 | E17: 10500
A18: OBRAS | B18: PAVIM | C18: 05.02.00 TRANSPORTE DE MATERIAL DE QUALQUER NATUREZA EM CAMINHÃO DMT > 5 KM <= 10KM (DENTRO DO PERÍMETRO URBANO) | D18: M3XKM | E18: 136500
... A32: OBRAS | B32: ADM | C32: 06.01.00 ADMINISTRACAO LOCAL | D32: % | E32: 0.0761

Sheet Orçamento
E1: PLANILHA ORÇAMENTÁRIA | I1: Prazo de Execução: 18 meses | L1: BDI
L2: 1.2614
E3: OBRA: | F3: Recapeamento e pavimentação asfáltica com Concreto Betuminoso Usinado a Quente – CBUQ – e drenagem superficial em diversas vias do Município de Igarapé/MG. | I3: BDI SERVIÇO 26,14% | J3: DATA BASE: Out/ 2025
I4: REFERÊNCIAS - DESONERADA SINAPI DEZ/2025 SUDECAP OUT/2025 SICOR OUT/2025
A5: ÍTEM | B5: CÓDIGO DO ITEM | C5: NATUREZA DO SERVIÇO / LOCAL / DISCRIMINAÇÃO | E5: UNID. | F5: QUANT. | G5: VALOR UNITÁRIO | H5: VALOR UNITÁRIO C/ BDI | I5: CUSTO TOTAL | J5: CUSTO TOTAL C/ BDI
A6: 1 | B6: 01 | D6: MOBILIZAÇÃO E DESMOBILIZAÇÃO | J6: =J7 -> 48912.55 | L6: =J6/$I$45 -> 0.0018936221
A7: 1.1 | D7: MOBILIZAÇÃO E DESMOBILIZAÇÃO DE OBRAS | E7: UNID. | F7: 1 | G7: =(I8+I14+I17+I23+I39)*0.002 -> 38776.398 | H7: =ROUND(G7*$L$2,2) -> 48912.55 | I7: =ROUND(F7*G7,2) -> 38776.4 | J7: =ROUND(F7*H7,2) -> 48912.55 | L7: =J7/$I$45 -> 0.0018936221
A8: 2 | B8: 02 | D8: INSTALAÇÕES | I8: =SUM(I9:I13) -> 51826.56 | J8: =SUM(J9:J13) -> 65374.08 | L8: =J8/$I$45 -> 0.0025309211
A9: 2.1 | B9: 01.09.01 | C9: SUDECAP | D9: MOBILIZAÇÃO DE CONTAINER | E9: UNID. | F9: 1 | G9: 900 | H9: =ROUND(G9*$L$2,2) -> 1135.26 | I9: =ROUND(F9*G9,2) -> 900 | J9: =ROUND(F9*H9,2) -> 1135.26 | L9: =J9/$I$45 -> 4.3950958e-05
A10: 2.2 | B10: 01.09.02 | C10: SUDECAP | D10: CONTAINER SIMPLES COM AR CONDICIONADO PARA ESCRITÓRIO | E10: MÊS | F10: 18 | G10: 1450 | H10: =ROUND(G10*$L$2,2) -> 1829.03 | I10: =ROUND(F10*G10,2) -> 26100 | J10: =ROUND(F10*H10,2) -> 32922.54 | L10: =J10/$I$45 -> 0.0012745778
A11: 2.3 | B11: 01.09.11 | C11: SUDECAP | D11: DESMOBILIZAÇÃO DE CONTAINER | E11: UNID. | F11: 1 | G11: 900 | H11: =ROUND(G11*$L$2,2) -> 1135.26 | I11: =ROUND(F11*G11,2) -> 900 | J11: =ROUND(F11*H11,2) -> 1135.26 | L11: =J11/$I$45 -> 4.3950958e-05
A12: 2.6 | B12: 01.03.02 | C12: SUDECAP | D12: PLACA DE OBRA EM LONA IMPRESSAO DIGITAL PADRÃO SUDECAP | E12: M2 | F12: 24 | G12: 209.44 | H12: =ROUND(G12*$L$2,2) -> 264.19 | I12: =ROUND(F12*G12,2) -> 5026.56 | J12: =ROUND(F12*H12,2) -> 6340.56 | L12: =J12/$I$45 -> 0.00024547125
A13: 2.7 | B13: 01.10.01 | C13: SUDECAP | D13: BANHEIRO QUÍMICO 110x120x230cm COM MANUTENÇÃO | E13: MÊS | F13: 18 | G13: 1050 | H13: =ROUND(G13*$L$2,2) -> 1324.47 | I13: =ROUND(F13*G13,2) -> 18900 | J13: =ROUND(F13*H13,2) -> 23840.46 | L13: =J13/$I$45 -> 0.00092297012
A14: 3 | B14: 03 | D14: DRENAGEM PLUVIAL | I14: =SUM(I15:I16) -> 1548332 | J14: =SUM(J15:J16) -> 1953112 | L14: =J14/$I$45 -> 0.075613643
A15: 3.1 | B15: ED-51139 | C15: SETOP | D15: GUIA DE MEIO FIO EM CONCRETO COM FCK 20MPA, PRÉ MOLDADA, MFC-01 PADRÃO, DER-MG, DIMENSÕES (12X16,7X35)CM, INCLUSIVE ESCAVAÇÃO, APILOAMENTO E TRANSPORTE COM RETIRADA DO MATERIAL ESCAVADO (EM CAÇAMBA) | E15: M | F15: 14200 | G15: 76.51 | H15: =ROUND(G15*$L$2,2) -> 96.51 | I15: =ROUND(F15*G15,2) -> 1086442 | J15: =ROUND(F15*H15,2) -> 1370442 | L15: =J15/$I$45 -> 0.053055898
A16: 3.2 | B16: ED-14762 | C16: SETOP | D16: SARJETA DE CONCRETO URBANO (SCU) TIPO 1, COM FCK 15 MPA, LARGURA DE 50CM COM INCLINAÇÃO DE 3% ESP 7CM, PADRÃO DER-MG, EXCLUSIVE MEIO-FIO, INCLUSIVE ESCAVAÇÃO, APILOAMENTO E TRANSPORTE COM RETIRADA DO MATERIAL ESCAVADO (EM CAÇAMBA) | E16: M | F16: 11000 | G16: 41.99 | H16: =ROUND(G16*$L$2,2) -> 52.97 | I16: =ROUND(F16*G16,2) -> 461890 | J16: =ROUND(F16*H16,2) -> 582670 | L16: =J16/$I$45 -> 0.022557744
A17: 4 | B17: 04 | D17: RECAPEAMENTO DE VIAS | I17: =SUM(I18:I22) -> 1819485.7 | J17: =SUM(J18:J22) -> 2295171.1 | L17: =J17/$I$45 -> 0.088856268
A18: 4.1 | B18: 20.20.01 | C18: SUDECAP | D18: FRESAGEM ATÉ 5,0CM | E18: M2 | F18: =1100*10 -> 11000 | G18: 8.12 | H18: =ROUND(G18*$L$2,2) -> 10.24 | I18: =ROUND(F18*G18,2) -> 89320 | J18: =ROUND(F18*H18,2) -> 112640 | L18: =J18/$I$45 -> 0.0043607948
A19: 4.2 | B19: 20.12.01 | C19: SUDECAP | D19: PINTURA DE LIGAÇÃO COM RR-1C/ RR-2C | E19: M2 | F19: 17000 | G19: 2.25 | H19: =ROUND(G19*$L$2,2) -> 2.84 | I19: =ROUND(F19*G19,2) -> 38250 | J19: =ROUND(F19*H19,2) -> 48280 | L19: =J19/$I$45 -> 0.0018691333
A20: 4.3 | B20: 40.34.02 | C20: SUDECAP | D20: TRANSPORTE DE MATERIAL DE QUALQUER NATUREZA EM CAMINHÃO DMT > 10KM (EMULSÃO ASFÁLTICA E RR-2C DA REFINARIA A OBRA) - 30KM | E20: TXKM | F20: =F19*0.00045*30 -> 229.5 | G20: 1.33 | H20: =ROUND(G20*$L$2,2) -> 1.68 | I20: =ROUND(F20*G20,2) -> 305.24 | J20: =ROUND(F20*H20,2) -> 385.56 | L20: =J20/$I$45 -> 1.4926741e-05
A21: 4.4 | B21: 95995 | C21: SINAPI | D21: EXECUÇÃO DE PAVIMENTO COM APLICAÇÃO DE CONCRETO ASFÁLTICO, CAMADA DE ROLAMENTO - EXCLUSIVE CARGA E TRANSPORTE. AF_11/2019 | E21: M3 | F21: =F19*0.05 -> 850 | G21: 1942.25 | H21: =ROUND(G21*$L$2,2) -> 2449.95 | I21: =ROUND(F21*G21,2) -> 1650912.5 | J21: =ROUND(F21*H21,2) -> 2082457.5 | L21: =J21/$I$45 -> 0.080621182
A22: 4.5 | B22: 40.34.02 | C22: SUDECAP | D22: TRANSPORTE DE MATERIAL DE QUALQUER NATUREZA EM CAMINHÃO DMT > 10KM (TRANSPORTE CBUQ) - 15KM | E22: TXKM | F22: =F21*2.4*15 -> 30600 | G22: =G20 -> 1.33 | H22: =ROUND(G22*$L$2,2) -> 1.68 | I22: =ROUND(F22*G22,2) -> 40698 | J22: =ROUND(F22*H22,2) -> 51408 | L22: =J22/$I$45 -> 0.0019902321
A23: 5 | B23: 05 | D23: PAVIMENTAÇÃO DE VIAS | I23: =SUM(I24:I38) -> 15867157 | J23: =SUM(J24:J38) -> 20014605 | L23: =J23/$I$45 -> 0.77485429
A24: 5.1 | B24: ED-51105 | C24: SETOP | D24: ESCAVAÇÃO E CARGA MECANIZADA EM MATERIAL DE 1ª CATEGORIA | E24: M3 | F24: =F27*0.3 -> 18000 | G24: 7.28 | H24: =ROUND(G24*$L$2,2) -> 9.18 | I24: =ROUND(F24*G24,2) -> 131040 | J24: =ROUND(F24*H24,2) -> 165240 | L24: =J24/$I$45 -> 0.0063971745
A25: 5.2 | B25: ED-29233 | C25: SETOP | D25: TRANSPORTE DE MATERIAL DE QUALQUER NATUREZA EM CAMINHÃO DMT > 2 KM <= 5KM (DENTRO DO PERÍMETRO URBANO) | E25: M3XKM | F25: =F24*1.3*6.2 -> 145080 | G25: 1.75 | H25: =ROUND(G25*$L$2,2) -> 2.21 | I25: =ROUND(F25*G25,2) -> 253890 | J25: =ROUND(F25*H25,2) -> 320626.8 | L25: =J25/$I$45 -> 0.012412888
A26: 5.3 | B26: ED-51098 | C26: SETOP | D26: ATERRO COMPACTADO COM ROLO VIBRATÓRIO | E26: M3 | F26: =F27*0.2 -> 12000 | G26: 4.47 | H26: =ROUND(G26*$L$2,2) -> 5.64 | I26: =ROUND(F26*G26,2) -> 53640 | J26: =ROUND(F26*H26,2) -> 67680 | L26: =J26/$I$45 -> 0.0026201935
A27: 5.4 | B27: 20.01.01 | C27: SUDECAP | D27: REGULARIZAÇÃO E COMPACTAÇÃO DO SUBLEITO | E27: M2 | F27: 60000 | G27: 2.85 | H27: =ROUND(G27*$L$2,2) -> 3.59 | I27: =ROUND(F27*G27,2) -> 171000 | J27: =ROUND(F27*H27,2) -> 215400 | L27: =J27/$I$45 -> 0.008339091
A28: 5.5 | B28: ED-49540 | C28: SETOP | D28: ENROCAMENTO MANUAL COM PEDRA DE MÃO JOGADA, INCLUSIVE FORNECIMENTO | E28: M3 | F28: =F27*0.07*0.5 -> 2100 | G28: 184.41 | H28: =ROUND(G28*$L$2,2) -> 232.61 | I28: =ROUND(F28*G28,2) -> 387261 | J28: =ROUND(F28*H28,2) -> 488481 | L28: =J28/$I$45 -> 0.01891127
A29: 5.6 | B29: ED-29234 | C29: SETOP | D29: TRANSPORTE DE MATERIAL DE QUALQUER NATUREZA EM CAMINHÃO DMT > 20 KM <= 30 KM (DENTRO DO PERÍMETRO URBANO) | E29: M3XKM | F29: =(F28+F31+F32+F30)*20 -> 446000 | G29: 1.65 | H29: =ROUND(G29*L2,2) -> 2.08 | I29: =ROUND(F29*G29,2) -> 735900 | J29: =ROUND(F29*H29,2) -> 927680 | L29: =J29/$I$45 -> 0.035914614
A30: 5.7 | B30: RO-00288 | C30: SETOP | D30: SUB-BASE COM MISTURA NA PISTA DE SOLO MELHORADO COM 3% DE CIMENTO, COM MATERIAL DE JAZIDA - CAMPACTADO NA ENERGIA INTERMEDIÁRIA (EXECUÇÃO INCLUINDO ESCAVAÇÃO E CARGA DO MATERIAL DE JAZIDA, FORNECIMENTO E CARGA DO CIMENTO, EXCLUI TRANSPORTE) | E30: M3 | F30: =('Vias Públicas'!F22+'Vias Públicas'!F23)*0.2 -> 6400 | G30: 50.7 | H30: =ROUND(G30*$L$2,2) -> 63.95 | I30: =ROUND(F30*G30,2) -> 324480 | J30: =ROUND(F30*H30,2) -> 409280 | L30: =J30/$I$45 -> 0.015845047
A31: 5.8 | B31: 20.04.03 | C31: SUDECAP | D31: SUB-BASE ESTABILIZADA GRANULOMETRICAMENTE COM BRITA BICA CORRIDA (AGREGADO DE PEDREIRA) - PROCTOR INTERMEDIÁRIO | E31: M3 | F31: 4800 | G31: 256.26 | H31: =ROUND(G31*$L$2,2) -> 323.25 | I31: =ROUND(F31*G31,2) -> 1230048 | J31: =ROUND(F31*H31,2) -> 1551600 | L31: =J31/$I$45 -> 0.060069329
A32: 5.9 | B32: 20.06.11 | C32: SUDECAP | D32: BASE ESTAB. GRANULOMETRICAMENTE COM BRITA GRADUADA SIMPLES - PROCTOR MODIFICADO (AGRAGADO DE PEDREIRA) | E32: M3 | F32: =F27*0.15 -> 9000 | G32: 312.55 | H32: =ROUND(G32*$L$2,2) -> 394.25 | I32: =ROUND(F32*G32,2) -> 2812950 | J32: =ROUND(F32*H32,2) -> 3548250 | L32: =J32/$I$45 -> 0.13736852
A33: 5.10 | B33: 20.11.05 | C33: SUDECAP | D33: IMPRIMAÇÃO COM EMULSÃO ASFÁLTICA - EAI (EXECUÇÃO E FORNECIMENTO DO MATERIAL BETUMINOSO, EXCLUSIVE TRANSPORTE DO MATERIAL BETUMINOSO) | E33: M2 | F33: =F27 -> 60000 | G33: 7.89 | H33: =ROUND(G33*$L$2,2) -> 9.95 | I33: =ROUND(F33*G33,2) -> 473400 | J33: =ROUND(F33*H33,2) -> 597000 | L33: =J33/$I$45 -> 0.023112522
A34: 5.11 | B34: 40.34.02 | C34: SUDECAP | D34: TRANSPORTE DE MATERIAL DE QUALQUER NATUREZA EM CAMINHÃO DMT > 10KM (EAI DA REFINARIA A OBRA) - 30KM | E34: TXKM | F34: =F33*0.0012*30 -> 2160 | G34: =G20 -> 1.33 | H34: =ROUND(G34*$L$2,2) -> 1.68 | I34: =ROUND(F34*G34,2) -> 2872.8 | J34: =ROUND(F34*H34,2) -> 3628.8 | L34: =J34/$I$45 -> 0.00014048697
A35: 5.12 | B35: 20.12.01 | C35: SUDECAP | D35: PINTURA DE LIGAÇÃO COM RR-1C/ RR-2C | E35: M2 | F35: =F27 -> 60000 | G35: =G19 -> 2.25 | H35: =ROUND(G35*$L$2,2) -> 2.84 | I35: =ROUND(F35*G35,2) -> 135000 | J35: =ROUND(F35*H35,2) -> 170400 | L35: =J35/$I$45 -> 0.006596941
A36: 5.13 | B36: 40.34.02 | C36: SUDECAP | D36: TRANSPORTE DE MATERIAL DE QUALQUER NATUREZA EM CAMINHÃO DMT > 10KM (EMULSÃO ASFÁLTICA E RR-2C DA REFINARIA A OBRA) - 30KM | E36: TXKM | F36: =F35*0.00045*30 -> 810 | G36: =G20 -> 1.33 | H36: =ROUND(G36*$L$2,2) -> 1.68 | I36: =ROUND(F36*G36,2) -> 1077.3 | J36: =ROUND(F36*H36,2) -> 1360.8 | L36: =J36/$I$45 -> 5.2682614e-05
A37: 5.14 | B37: 95995 | C37: SINAPI | D37: EXECUÇÃO DE PAVIMENTO COM APLICAÇÃO DE CONCRETO ASFÁLTICO, CAMADA DE ROLAMENTO - EXCLUSIVE CARGA E TRANSPORTE. AF_11/2019 | E37: M3 | F37: 4600 | G37: =G21 -> 1942.25 | H37: =ROUND(G37*$L$2,2) -> 2449.95 | I37: =ROUND(F37*G37,2) -> 8934350 | J37: =ROUND(F37*H37,2) -> 11269770 | L37: =J37/$I$45 -> 0.43630286
A38: 5.15 | B38: 40.34.02 | C38: SUDECAP | D38: TRANSPORTE DE MATERIAL DE QUALQUER NATUREZA EM CAMINHÃO DMT > 10KM (TRANSPORTE CBUQ) - 15KM | E38: TXKM | F38: =F37*2.4*15 -> 165600 | G38: =G20 -> 1.33 | H38: =ROUND(G38*$L$2,2) -> 1.68 | I38: =ROUND(F38*G38,2) -> 220248 | J38: =ROUND(F38*H38,2) -> 278208 | L38: =J38/$I$45 -> 0.010770668 | M38: =SUM(P15:P38) -> 0
A39: 6 | B39: 06 | D39: SINALIZAÇÃO HORIZONTAL | I39: =SUM(I40:I41) -> 101397.5 | J39: =SUM(J40:J41) -> 127875 | L39: =J39/$I$45 -> 0.0049506094
A40: 6.1 | B40: RO-19845 | C40: SICOR | D40: PINTURA DE FAIXA COM TINTA ACRÍLICA - ESPESSURA ÚMIDA DE 0,6MM | E40: M2 | F40: =(F15*0.1)*2.5+2*1100 -> 5750 | G40: 7.09 | H40: =ROUND(G40*$L$2,2) -> 8.94 | I40: =ROUND(F40*G40,2) -> 40767.5 | J40: =ROUND(F40*H40,2) -> 51405 | L40: =J40/$I$45 -> 0.0019901159
...

Sheet ADM Local
A2: Obra: | C2: Descrição do Serviço: | G2: Item: | H2: =[1]PLANILHA!C33 -> SINAPI
C3: ADMINISTRAÇÃO LOCAL
A4: =[1]PLANILHA!A33 -> 0 | E4: UNIDADE | H4: MÊS
A5: MÃO-DE-OBRA | B5: CATEGORIA FUNCIONAL | E5: UNIDADE | F5: QUANT. | G5: CUSTO HORÁRIO | H5: CUSTO TOTAL
B6: DESCRIÇÃO | C6: REF. | D6: CÓDIGO
B7: ENGENHEIRO CIVIL DE OBRA SENIOR COM ENCARGOS COMPLEMENTARES | C7: SINAPI | D7: 93568 | E7: MÊS | F7: 0.75 | G7: 27086.14 | H7: =ROUND(G7*F7,2) -> 20314.61
B8: ENCARREGADO GERAL DE OBRAS COM ENCARGOS COMPLEMENTARES | C8: SINAPI | D8: 93572 | E8: MÊS | F8: 1 | G8: 12049.53 | H8: =ROUND(G8*F8,2) -> 12049.53
B9: TÉCNICO EM SEGURANÇA DO TRABALHO COM ENCARGOS COMPLEMENTARES | C9: SINAPI | D9: 100321 | E9: MÊS | F9: 1 | G9: 7799.79 | H9: =ROUND(G9*F9,2) -> 7799.79
B10: VIGILÂNCIA DE OBRAS - EM DIAS ÚTEIS (CONSIDERANDO INÍCIO AS 17H DE SEGUNDA A QUINTA E 16H NA SEXTA) E 24 HORAS POR DIA AOS SÁBADOS, DOMINGOS E FERIADOS | C10: SUDECAP | D10: 44.01.22 | E10: MÊS | F10: 1 | G10: 13775.25 | H10: =ROUND(F10*G10,2) -> 13775.25
B13: 1. TOTAL DE MÃO-DE-OBRA + ENCARGOS | G13: ∑ | H13: =ROUND(SUM(H7:H12),2) -> 53939.18
A14: EQUIPAMENTO | B14: DESCRIÇÃO | C14: REF. | D14: CÓDIGO | E14: UNIDADE | F14: QUANT. | G14: CUSTO HORÁRIO | H14: CUSTO TOTAL
B15: LOCACAO VEICULO POPULAR MOTOR 1.0 C/ AR E SEGURO SEM COMBUSTIVEL (ENGENHEIRO) | C15: SUDECAP | D15: 45.01.01 | E15: MÊS | F15: =1 -> 1 | G15: 2912.05 | H15: =ROUND(G15*F15,2) -> 2912.05
B16: GASOLINA - VEICULO POPULAR (250 LITROS MÊS) | C16: SINAPI | D16: 00004222 | E16: L | F16: 250 | G16: 6.04 | H16: =ROUND(G16*F16,2) -> 1510
B19: 2. TOTAL DE EQUIPAMENTOS | G19: ∑ | H19: =ROUND(SUM(H15:H18),2) -> 4422.05
A20: MATERIAL / SERVIÇO | B20: DESCRIÇÃO | C20: REF. | D20: CÓDIGO | E20: UNIDADE | F20: QUANT. | G20: CUSTO UNITÁRIO | H20: CUSTO TOTAL
B25: 3. TOTAL DE MATERIAIS | G25: ∑ | H25: =ROUND(SUM(H21:H24),2) -> 0
A26: TOTAL | B26: PREÇO TOTAL ( 1 ) + ( 2 ) + ( 3 ) DIVIDIDO POR 24 MESES | G26: ∑ | H26: =ROUND(H13+H19+H25,2) -> 58361.23
B27: BDI
B28: PREÇO UNITÁRIO FINAL | H28: =H26 -> 58361.23
A29: OBS.:

Sheet Cronograma
F2: CRONOGRAMA FÍSICOxFINANCEIRO
B4: OBRA: | C4: Recapeamento e pavimentação asfáltica com Concreto Betuminoso Usinado a Quente – CBUQ – e drenagem superficial em diversas vias do Município de Igarapé/MG.
B6: ITEM | C6: DISCRIMINAÇÃO DOS SERVIÇOS | D6: PESO (%) | E6: VALOR (R$) | F6: MESES
F7: 1 | H7: 2 | J7: 3 | L7: 4 | N7: 5 | P7: 6 | R7: 7 | T7: 8 | V7: 9 | X7: 10 | Z7: 11 | AB7: 12 | AD7: 13 | AF7: 14 | AH7: 15 | AJ7: 16 | AL7: 17 | AN7: 18
F8: % | G8: R$ | H8: % | I8: R$ | J8: % | K8: R$ | L8: % | M8: R$ | N8: % | O8: R$ | P8: % | Q8: R$ | R8: % | S8: R$ | T8: % | U8: R$ | V8: % | W8: R$ | X8: % | Y8: R$ | Z8: % | AA8: R$ | AB8: % | AC8: R$ | AD8: % | AE8: R$ | AF8: % | AG8: R$ | AH8: % | AI8: R$ | AJ8: % | AK8: R$ | AL8: % | AM8: R$ | AN8: % | AO8: R$
B9: 1 | C9: MOBILIZAÇÃO E DESMOBILIZAÇÃO | D9: =E9/$E$16 -> 0.0018936221 | E9: =Orçamento!J6 -> 48912.55 | F9: 0.5 | G9: =E9*F9 -> 24456.275 | AN9: 0.5 | AO9: =E9*AN9 -> 24456.275
B10: 2 | C10: INSTALAÇÕES | D10: =E10/$E$16 -> 0.0025309211 | E10: =Orçamento!J8 -> 65374.08 | F10: 0.1 | G10: =F10*$E$10 -> 6537.408 | H10: 0.05 | I10: =H10*$E$10 -> 3268.704 | J10: 0.05 | K10: =J10*$E$10 -> 3268.704 | L10: 0.05 | M10: =L10*$E$10 -> 3268.704 | N10: 0.05 | O10: =N10*$E$10 -> 3268.704 | P10: 0.05 | Q10: =P10*$E$10 -> 3268.704 | R10: 0.05 | S10: =R10*$E$10 -> 3268.704 | T10: 0.05 | U10: =T10*$E$10 -> 3268.704 | V10: 0.05 | W10: =V10*$E$10 -> 3268.704 | X10: 0.05 | Y10: =X10*$E$10 -> 3268.704 | Z10: 0.05 | AA10: =Z10*$E$10 -> 3268.704 | AB10: 0.05 | AC10: =AB10*$E$10 -> 3268.704 | AD10: 0.05 | AE10: =AD10*$E$10 -> 3268.704 | AF10: 0.05 | AG10: =AF10*$E$10 -> 3268.704 | AH10: 0.05 | AI10: =AH10*$E$10 -> 3268.704 | AJ10: 0.05 | AK10: =AJ10*$E$10 -> 3268.704 | AL10: 0.05 | AM10: =AL10*$E$10 -> 3268.704 | AN10: 0.1 | AO10: =AN10*$E$10 -> 6537.408
B11: 3 | C11: DRENAGEM PLUVIAL | D11: =E11/$E$16 -> 0.075613643 | E11: =Orçamento!J14 -> 1953112 | F11: 0.06 | G11: =F11*$E11 -> 117186.72 | H11: 0.06 | I11: =H11*$E11 -> 117186.72 | J11: 0.06 | K11: =J11*$E11 -> 117186.72 | L11: 0.06 | M11: =L11*$E11 -> 117186.72 | N11: 0.06 | O11: =N11*$E11 -> 117186.72 | P11: 0.06 | Q11: =P11*$E11 -> 117186.72 | R11: 0.06 | S11: =R11*$E11 -> 117186.72 | T11: 0.06 | U11: =T11*$E11 -> 117186.72 | V11: 0.06 | W11: =V11*$E11 -> 117186.72 | X11: 0.06 | Y11: =X11*$E11 -> 117186.72 | Z11: 0.05 | AA11: =Z11*$E11 -> 97655.6 | AB11: 0.05 | AC11: =AB11*$E11 -> 97655.6 | AD11: 0.05 | AE11: =AD11*$E11 -> 97655.6 | AF11: 0.05 | AG11: =AF11*$E11 -> 97655.6 | AH11: 0.05 | AI11: =AH11*$E11 -> 97655.6 | AJ11: 0.05 | AK11: =AJ11*$E11 -> 97655.6 | AL11: 0.05 | AM11: =AL11*$E11 -> 97655.6 | AN11: 0.05 | AO11: =AN11*$E11 -> 97655.6
B12: 4 | C12: RECAPEAMENTO DE VIAS | D12: =E12/$E$16 -> 0.088856268 | E12: =Orçamento!J17 -> 2295171.1 | F12: 0.06 | G12: =F12*$E12 -> 137710.26 | H12: 0.06 | I12: =H12*$E12 -> 137710.26 | J12: 0.06 | K12: =J12*$E12 -> 137710.26 | L12: 0.06 | M12: =L12*$E12 -> 137710.26 | N12: 0.06 | O12: =N12*$E12 -> 137710.26 | P12: 0.06 | Q12: =P12*$E12 -> 137710.26 | R12: 0.06 | S12: =R12*$E12 -> 137710.26 | T12: 0.06 | U12: =T12*$E12 -> 137710.26 | V12: 0.06 | W12: =V12*$E12 -> 137710.26 | X12: 0.06 | Y12: =X12*$E12 -> 137710.26 | Z12: 0.05 | AA12: =Z12*$E12 -> 114758.55 | AB12: 0.05 | AC12: =AB12*$E12 -> 114758.55 | AD12: 0.05 | AE12: =AD12*$E12 -> 114758.55 | AF12: 0.05 | AG12: =AF12*$E12 -> 114758.55 | AH12: 0.05 | AI12: =AH12*$E12 -> 114758.55 | AJ12: 0.05 | AK12: =AJ12*$E12 -> 114758.55 | AL12: 0.05 | AM12: =AL12*$E12 -> 114758.55 | AN12: 0.05 | AO12: =AN12*$E12 -> 114758.55
B13: 5 | C13: PAVIMENTAÇÃO DE VIAS | D13: =E13/$E$16 -> 0.77485429 | E13: =Orçamento!J23 -> 20014605 | F13: 0.06 | G13: =F13*$E13 -> 1200876.3 | H13: 0.06 | I13: =H13*$E13 -> 1200876.3 | J13: 0.06 | K13: =J13*$E13 -> 1200876.3 | L13: 0.06 | M13: =L13*$E13 -> 1200876.3 | N13: 0.06 | O13: =N13*$E13 -> 1200876.3 | P13: 0.06 | Q13: =P13*$E13 -> 1200876.3 | R13: 0.06 | S13: =R13*$E13 -> 1200876.3 | T13: 0.06 | U13: =T13*$E13 -> 1200876.3 | V13: 0.06 | W13: =V13*$E13 -> 1200876.3 | X13: 0.06 | Y13: =X13*$E13 -> 1200876.3 | Z13: 0.05 | AA13: =Z13*$E13 -> 1000730.3 | AB13: 0.05 | AC13: =AB13*$E13 -> 1000730.3 | AD13: 0.05 | AE13: =AD13*$E13 -> 1000730.3 | AF13: 0.05 | AG13: =AF13*$E13 -> 1000730.3 | AH13: 0.05 | AI13: =AH13*$E13 -> 1000730.3 | AJ13: 0.05 | AK13: =AJ13*$E13 -> 1000730.3 | AL13: 0.05 | AM13: =AL13*$E13 -> 1000730.3 | AN13: 0.05 | AO13: =AN13*$E13 -> 1000730.3
B14: 6 | C14: SINALIZAÇÃO HORIZONTAL | D14: =E14/$E$16 -> 0.0049506094 | E14: =Orçamento!J39 -> 127875 | F14: 0.06 | G14: =F14*$E14 -> 7672.5 | H14: 0.06 | I14: =H14*$E14 -> 7672.5 | J14: 0.06 | K14: =J14*$E14 -> 7672.5 | L14: 0.06 | M14: =L14*$E14 -> 7672.5 | N14: 0.06 | O14: =N14*$E14 -> 7672.5 | P14: 0.06 | Q14: =P14*$E14 -> 7672.5 | R14: 0.06 | S14: =R14*$E14 -> 7672.5 | T14: 0.06 | U14: =T14*$E14 -> 7672.5 | V14: 0.06 | W14: =V14*$E14 -> 7672.5 | X14: 0.06 | Y14: =X14*$E14 -> 7672.5 | Z14: 0.05 | AA14: =Z14*$E14 -> 6393.75 | AB14: 0.05 | AC14: =AB14*$E14 -> 6393.75 | AD14: 0.05 | AE14: =AD14*$E14 -> 6393.75 | AF14: 0.05 | AG14: =AF14*$E14 -> 6393.75 | AH14: 0.05 | AI14: =AH14*$E14 -> 6393.75 | AJ14: 0.05 | AK14: =AJ14*$E14 -> 6393.75 | AL14: 0.05 | AM14: =AL14*$E14 -> 6393.75 | AN14: 0.05 | AO14: =AN14*$E14 -> 6393.75
B15: 7 | C15: ADMINISTRAÇÃO DA OBRA/ SERVIÇOS TÉCNICOS | D15: =E15/$E$16 -> 0.051300643 | E15: =Orçamento!J42 -> 1325103.5 | F15: 0.06 | G15: =F15*$E15 -> 79506.209 | H15: 0.06 | I15: =H15*$E15 -> 79506.209 | J15: 0.06 | K15: =J15*$E15 -> 79506.209 | L15: 0.06 | M15: =L15*$E15 -> 79506.209 | N15: 0.06 | O15: =N15*$E15 -> 79506.209 | P15: 0.06 | Q15: =P15*$E15 -> 79506.209 | R15: 0.06 | S15: =R15*$E15 -> 79506.209 | T15: 0.06 | U15: =T15*$E15 -> 79506.209 | V15: 0.06 | W15: =V15*$E15 -> 79506.209 | X15: 0.06 | Y15: =X15*$E15 -> 79506.209 | Z15: 0.05 | AA15: =Z15*$E15 -> 66255.174 | AB15: 0.05 | AC15: =AB15*$E15 -> 66255.174 | AD15: 0.05 | AE15: =AD15*$E15 -> 66255.174 | AF15: 0.05 | AG15: =AF15*$E15 -> 66255.174 | AH15: 0.05 | AI15: =AH15*$E15 -> 66255.174 | AJ15: 0.05 | AK15: =AJ15*$E15 -> 66255.174 | AL15: 0.05 | AM15: =AL15*$E15 -> 66255.174 | AN15: 0.05 | AO15: =AN15*$E15 -> 66255.174
B16: TOTAL | C16: SIMPLES | D16: =SUM(D9:D15) -> 1 | E16: =SUM(E9:E15) -> 25830154 | F16: =G16/$E$16 -> 0.060934431 | G16: =SUM(G9:G15) -> 1573945.7 | H16: =I16/$E$16 -> 0.059861073 | I16: =SUM(I10:I15) -> 1546220.7 | J16: =K16/$E$16 -> 0.059861073 | K16: =SUM(K10:K15) -> 1546220.7 | L16: =M16/$E$16 -> 0.059861073 | M16: =SUM(M10:M15) -> 1546220.7 | N16: =O16/$E$16 -> 0.059861073 | O16: =SUM(O10:O15) -> 1546220.7 | P16: =Q16/$E$16 -> 0.059861073 | Q16: =SUM(Q10:Q15) -> 1546220.7 | R16: =S16/$E$16 -> 0.059861073 | S16: =SUM(S10:S15) -> 1546220.7 | T16: =U16/$E$16 -> 0.059861073 | U16: =SUM(U10:U15) -> 1546220.7 | V16: =W16/$E$16 -> 0.059861073 | W16: =SUM(W10:W15) -> 1546220.7 | X16: =Y16/$E$16 -> 0.059861073 | Y16: =SUM(Y10:Y15) -> 1546220.7 | Z16: =AA16/$E$16 -> 0.049905319 | AA16: =SUM(AA10:AA15) -> 1289062.1 | AB16: =AC16/$E$16 -> 0.049905319 | AC16: =SUM(AC9:AC15) -> 1289062.1 | AD16: =AE16/$E$16 -> 0.049905319 | AE16: =SUM(AE9:AE15) -> 1289062.1 | AF16: =AG16/$E$16 -> 0.049905319 | AG16: =SUM(AG9:AG15) -> 1289062.1 | AH16: =AI16/$E$16 -> 0.049905319 | AI16: =SUM(AI9:AI15) -> 1289062.1 | AJ16: =AK16/$E$16 -> 0.049905319 | AK16: =SUM(AK9:AK15) -> 1289062.1 | AL16: =AM16/$E$16 -> 0.049905319 | AM16: =SUM(AM9:AM15) -> 1289062.1 | AN16: =AO16/$E$16 -> 0.050978676 | AO16: =SUM(AO9:AO15) -> 1316787
C17: ACUMULADO | D17: =AB16+N16+J16+H16+F16+L16+P16+R16+T16+V16+X16+Z16 -> 0.69949473 | E17: =G16+I16+K16+O16+AC16+M16+Q16+S16+U16+W16+Y16+AA16+AE16+AG16+AI16+AK16+AM16+AO16 -> 25830154 | F17: =SUM(F16) -> 0.060934431 | G17: =G16 -> 1573945.7 | H17: =F17+H16 -> 0.1207955 | I17: =I16+G17 -> 3120166.4 | J17: =J16+H17 -> 0.18065658 | K17: =K16+I17 -> 4666387.1 | L17: =H17+L16 -> 0.18065658 | M17: =M16+K17 -> 6212607.9 | N17: =J17+N16 -> 0.24051765 | O17: =O16+M17 -> 7758828.6 | P17: =L17+P16 -> 0.24051765 | Q17: =Q16+O17 -> 9305049.3 | R17: =N17+R16 -> 0.30037872 | S17: =S16+Q17 -> 10851270 | T17: =P17+T16 -> 0.30037872 | U17: =U16+S17 -> 12397491 | V17: =R17+V16 -> 0.3602398 | W17: =W16+U17 -> 13943711 | X17: =T17+X16 -> 0.3602398 | Y17: =Y16+W17 -> 15489932 | Z17: =V17+Z16 -> 0.41014512 | AA17: =AA16+Y17 -> 16778994 | AB17: =X17+AB16 -> 0.41014512 | AC17: =AC16+AA17 -> 18068056 | AD17: =Z17+AD16 -> 0.46005044 | AE17: =AE16+AC17 -> 19357118 | AF17: =AB17+AF16 -> 0.46005044 | AG17: =AG16+AE17 -> 20646180 | AH17: =AD17+AH16 -> 0.50995575 | AI17: =AI16+AG17 -> 21935242 | AJ17: =AF17+AJ16 -> 0.50995575 | AK17: =AK16+AI17 -> 23224304 | AL17: =AH17+AL16 -> 0.55986107 | AM17: =AM16+AK17 -> 24513367 | AN17: =AJ17+AN16 -> 0.56093443 | AO17: =AO16+AM17 -> 25830154

Sheet Cálculo BDI
B2: CALCULO DO BDI - PAVIMENTAÇÃO DE VIAS URBANAS E CONGENERES
B4: Proponente:
B5: PREFEITURA DE IGARAPÉ
B6: Objeto:
B7: =[2]PLANILHA!G6 -> OS 05 - ACESSO BR 381
B8: Município | J8: UF
B9: IGARAPÉ | J9: MG
B10: Parâmetros para cálculo do BDI
B11: Itens Admissíveis | C11: Intervalos admissíveis sem justificativa | I11: Índices adotados
B13: Administração Central (AC) | C13: De | D13: 0.038 | F13: até | G13: 0.0467 | I13: Administração Central (AC) | J13: 0.038
B14: Seguro e Garantia (S+G) | C14: De | D14: 0.0032 | F14: até | G14: 0.0074 | I14: Seguro e Garantia (S+G) | J14: 0.0032
B15: Risco (R) | C15: De | D15: 0.005 | F15: até | G15: 0.0097 | I15: Risco (R) | J15: 0.005
B16: Despesas financeiras (DF) | C16: De | D16: 0.0102 | F16: até | G16: 0.0121 | I16: Despesas financeiras (DF) | J16: 0.0102
B17: Lucro (L) | C17: De | D17: 0.0664 | F17: até | G17: 0.0869 | I17: Lucro (L) | J17: 0.0664
B18: Tributos (T) | C18: De | D18: 0.0565 | F18: até | G18: 0.0865 | I18: Tributos (T) | J18: 0.0615
B19: INSS desoneração (E) | D19: 0 | F19: ou | G19: 0.045 | I19: INSS desoneração (E) | J19: 0.045
B20: Controle
B21: Administração Central (AC) | C21: =IF(J13>G13,"Incidência maior que a permitida",IF(J13<D13,"Incidência menor que a permitida","ok")) -> ok
B22: Seguro e Garantia (S+G) | C22: =IF(J14>G14,"Incidência maior que a permitida",IF(J14<0,"Incidência menor que a permitida","ok")) -> ok
B23: Risco (R) | C23: =IF(J15>G15,"Incidência maior que a permitida",IF(J15<0,"Incidência menor que a permitida","ok")) -> ok
B24: Despesas financeiras (DF) | C24: =IF(J16>G16,"Incidência maior que a permitida",IF(J16<D16,"Incidência menor que a permitida","ok")) -> ok
B25: Lucro (L) | C25: =IF(J17>G17,"Incidência maior que a permitida",IF(J17<D17,"Incidência menor que a permitida","ok")) -> ok
B26: Tributos (T) | C26: =IF(J18>G18,"Incidência maior que a permitida",IF(J18<D18,"Incidência menor que a permitida","ok")) -> ok
B27: INSS desoneração (E) | C27: =IF(J19=D19,"ok",IF(J19=G19,"ok","Incidência não permitida")) -> ok
B28: BDI CALCULADO ----> | C28: BDI = (1+AC+S+R+G)*(1+DF)*(1+L)/(1-(T+E)) | J28: =ROUND(((1+J13+J14+J15)*(1+J16)*(1+J17)/(1-(J18+J19))-1),4) -> 0.2614

Sheet Encargos Sociais
A1: DEMONSTRATIVO DOS ENCARGOS SOCIAIS - OBRAS RODOVIÁRIAS

Sheet Vias Públicas
A1: RELAÇÃO DE VIAS
A2: Detalhamento | D2: Dimensões | G2: Serviços
A3: Bairro | B3: Via/localidade | C3: Classificação | D3: Comprimento | E3: Largura média | F3: Área | G3: Pavimentação nova | H3: Recapeamento | I3: Sinalização
A4: Fernão Dias | B4: Rua Aureliano Moura | C4: Local | D4: 300 | E4: 7 | F4: =D4*E4 -> 2100 | G4: x | I4: x
A5: Fernão Dias | B5: Rua Merquíades Fernandes | C5: Local | D5: 700 | E5: 7 | F5: =D5*E5 -> 4900 | G5: x | I5: x
A6: Maracanã | B6: Rua 10 | C6: Local | D6: 100 | E6: 7 | F6: =D6*E6 -> 700 | I6: x
A7: Maracanã | B7: Rua Dona Nicinha | C7: Local | D7: 175 | E7: 7 | F7: =D7*E7 -> 1225 | I7: x
A8: Ouro Velho | B8: Rua Antônio Pires Campos | C8: Local | D8: 255 | E8: 7 | F8: =D8*E8 -> 1785 | H8: x
A9: Ouro Velho | B9: Rua Esmeraldas | C9: Local | D9: 215 | E9: 7 | F9: =D9*E9 -> 1505 | H9: x
A10: Ouro Velho | B10: Rua Turmalina | C10: Local | D10: 360 | E10: 7 | F10: =D10*E10 -> 2520 | H10: x
A11: Centro | B11: Avenida Getúlio Vargas | C11: Coletora | D11: 500 | E11: 10 | F11: =D11*E11 -> 5000 | H11: x | I11: x
A12: Centro | B12: Avenida Duque de Caxias | C12: Coletora | D12: 600 | E12: 10 | F12: =D12*E12 -> 6000 | H12: x | I12: x
A13: Planalto Industrial | B13: Rua Abre Campo | C13: Local | D13: 170 | E13: 7 | F13: =D13*E13 -> 1190 | G13: x | I13: x
A14: Planalto Industrial | B14: Rua Brás Pires | C14: Local | D14: 175 | E14: 7 | F14: =D14*E14 -> 1225 | G14: x | I14: x
A15: Planalto Industrial | B15: Rua Caparaó | C15: Local | D15: 150 | E15: 7 | F15: =D15*E15 -> 1050 | G15: x | I15: x
A16: Planalto Industrial | B16: Rua Caputira | C16: Local | D16: 80 | E16: 7 | F16: =D16*E16 -> 560 | G16: x | I16: x
A17: Pousada Del Rey | B17: Rua Antônio Paes | C17: Local | D17: 1000 | E17: 7 | F17: =D17*E17 -> 7000 | G17: x | I17: x
A18: Pousada Del Rey | B18: Rua Duarte da Costa | C18: Local | D18: 525 | E18: 7 | F18: =D18*E18 -> 3675 | G18: x | I18: x
A19: Santa Ana | B19: Rua 02 | C19: Local | D19: 380 | E19: 7 | F19: =D19*E19 -> 2660 | G19: x | I19: x
A20: Santa Ana | B20: Rua 10 | C20: Local | D20: 280 | E20: 7 | F20: =D20*E20 -> 1960 | G20: x | I20: x
A21: São Sebastião | B21: Rua Lagoa Dourada | C21: Local | D21: 140 | E21: 7 | F21: =D21*E21 -> 980 | G21: x | I21: x
B22: Norte Sul (Pista 01) | C22: Coletora | D22: 1600 | E22: 10 | F22: =D22*E22 -> 16000 | G22: x | I22: x
B23: Norte Sul (Pista 02) | C23: Coletora | D23: 1600 | E23: 10 | F23: =D23*E23 -> 16000 | G23: x | I23: x
