Workbook
Name \0: #REF!
Name \a: #REF!
Name ______Ele200502: #REF!
Name ______Ser200705: #REF!
Name ______Ser200712: #REF!
Name ______Ser201104: #REF!
Name ______TR2: #REF!
Name ______TR5: #REF!
Name _____Ele200502: #REF!
Name _____Ele200609: #REF!
Name _____pv2: #REF!
Name _____pv3: #REF!
Name _____Ser200506: #REF!
Name _____Ser200705: #REF!
Name _____Ser200712: #REF!
Name _____Ser201104: #REF!
Name _____TR2: #REF!
Name _____TR5: #REF!
Name ____Ele200502: #REF!
Name ____Ele200609: #REF!
Name ____pv2: #REF!
Name ____pv3: #REF!
Name ____Ser200506: #REF!
Name ____Ser200705: #REF!
Name ____Ser200712: #REF!
Name ____Ser201104: #REF!
Name ____TR2: #REF!
Name ____TR5: #REF!
Name ___Ele200502: #REF!
Name ___Ele200609: #REF!
Name ___pv2: #REF!
Name ___pv3: #REF!
Name ___Ser200506: #REF!
Name ___Ser200705: #REF!
Name ___Ser200712: #REF!
Name ___Ser201104: #REF!
Name ___TR2: #REF!
Name ___TR5: #REF!
Name __Ele200502: #REF!
Name __Ele200609: #REF!
Name __pv2: #REF!
Name __pv3: #REF!
Name __Ser200506: #REF!
Name __Ser200705: #REF!
Name __Ser200712: #REF!
Name __Ser201104: #REF!
Name __TR2: #REF!
Name __TR5: #REF!
Name _abc2: #REF!
Name _Ele200502: #REF!
Name _Ele200609: #REF!
Name _ogu01: #REF!
Name _ogu02: #REF!
Name _ogu03: #REF!
Name _ogu04: #REF!
Name _ogu05: #REF!
Name _ogu06: #REF!
Name _ogu07: #REF!
Name _ogu08: #REF!
Name _ogu09: #REF!

Sheet ORÇAMENTO
B1: PLANILHA ORÇAMENTÁRIA
B2: CONTRATAÇÃO DE EMPRESA ESPECIALIZADA PARA EXECUÇÃO DAS OBRAS DE CONCLUSÃO DA FARMÁCIA DE TODOS – BAIRRO LAGO AZUL, MUNICÍPIO DE IBIRITÉ/MG | I2: ='BASE-REFERENCIA'!I1 -> BASE | J2: ='BASE-REFERENCIA'!J1 -> REFERENCIA | K2: ='BASE-REFERENCIA'!K1 -> MÊS
B3: ENDEREÇO: | D3: Rua Caramuru, nº 18, bairro Lago Azul, Ibirité/MG / MG, CEP: 32405-151 | I3: ='BASE-REFERENCIA'!I2 -> SINAPI | J3: ='BASE-REFERENCIA'!J2 -> BELO HORIZONTE | K3: 45910
B4: PRAZO EXECUÇÃO: | D4: 4 MESES | I4: ='BASE-REFERENCIA'!I3 -> SICOR | J4: ='BASE-REFERENCIA'!J3 -> MINAS GERAIS | K4: 45839
B5: BDI UTILIZADO: | D5: ='BDI '!S30 -> 0.2487 | I5: ='BASE-REFERENCIA'!I5 -> SUDECAP | J5: ='BASE-REFERENCIA'!J5 -> BELO HORIZONTE | K5: 45839
F7: VALOR FINAL DO ORÇAMENTO (R$) | I7: =SUBTOTAL(9,I9:I594) -> 433663.78 | K7: =SUBTOTAL(9,K9:K594) -> 541509.91
B8: ITEM | C8: FONTE | D8: CÓDIGO | E8: DESCRIÇÃO | F8: UNIDADE | G8: QUANTIDADE | H8: PREÇO UNITÁRIO S/ BDI | I8: PREÇO TOTAL S/BDI (R$) | J8: PREÇO UNITÁRIO C/ BDI | K8: PREÇO TOTAL C/BDI (R$) | L8: OBSERVAÇÕES
B9: 1 | C9: =IFERROR(IF(D9<>"",INDEX('BASE-REFERENCIA'!A:A,MATCH(ORÇAMENTO!D9,'BASE-REFERENCIA'!B:B,0)),""),"-") | E9: MOBILIZAÇÃO E DESMOBILIZAÇÃO | F9: =IF(D9<>"",INDEX('BASE-REFERENCIA'!D:D,MATCH(ORÇAMENTO!D9,'BASE-REFERENCIA'!B:B,0)),"") | H9: =IF(D9<>"",INDEX('BASE-REFERENCIA'!F:F,MATCH(ORÇAMENTO!D9,'BASE-REFERENCIA'!B:B,0)),"") | I9: =IF(D9<>"",ROUND(G9*H9,2),"") | J9: =IF(D9<>"",ROUND(H9*(1+$D$5),2),"") | K9: =IF(D9<>"",ROUND(G9*J9,2),"")
B10: 1.1 | C10: =IFERROR(IF(D10<>"",INDEX('BASE-REFERENCIA'!A:A,MATCH(ORÇAMENTO!D10,'BASE-REFERENCIA'!B:B,0)),""),"-") | E10: MOBILIZAÇÃO E DESMOBILIZAÇÃO | F10: =IF(D10<>"",INDEX('BASE-REFERENCIA'!D:D,MATCH(ORÇAMENTO!D10,'BASE-REFERENCIA'!B:B,0)),"") | H10: =IF(D10<>"",INDEX('BASE-REFERENCIA'!F:F,MATCH(ORÇAMENTO!D10,'BASE-REFERENCIA'!B:B,0)),"") | I10: =IF(D10<>"",ROUND(G10*H10,2),"") | J10: =IF(D10<>"",ROUND(H10*(1+$D$5),2),"") | K10: =IF(D10<>"",ROUND(G10*J10,2),"")
B11: 1.1.1 | C11: =IFERROR(IF(D11<>"",INDEX('BASE-REFERENCIA'!A:A,MATCH(ORÇAMENTO!D11,'BASE-REFERENCIA'!B:B,0)),""),"-") | E11: MOBILIZAÇÃO E DESMOBILIZAÇÃO | F11: =IF(D11<>"",INDEX('BASE-REFERENCIA'!D:D,MATCH(ORÇAMENTO!D11,'BASE-REFERENCIA'!B:B,0)),"") | H11: =IF(D11<>"",INDEX('BASE-REFERENCIA'!F:F,MATCH(ORÇAMENTO!D11,'BASE-REFERENCIA'!B:B,0)),"") | I11: =IF(D11<>"",ROUND(G11*H11,2),"") | J11: =IF(D11<>"",ROUND(H11*(1+$D$5),2),"") | K11: =IF(D11<>"",ROUND(G11*J11,2),"")
B12: 1.1.1.1 | C12: =IFERROR(IF(D12<>"",INDEX('BASE-REFERENCIA'!A:A,MATCH(ORÇAMENTO!D12,'BASE-REFERENCIA'!B:B,0)),""),"-") -> SICOR | D12: ED-50392 | E12: =IF(D12<>"",INDEX('BASE-REFERENCIA'!C:C,MATCH(ORÇAMENTO!D12,'BASE-REFERENCIA'!B:B,0)),"") -> MOBILIZAÇÃO E DESMOBILIZAÇÃO DE OBRA EM CENTRO URBANO OU REGIÃO LIMÍTROFE COM VALOR ATÉ 1.000.000,00 | F12: =IF(D12<>"",INDEX('BASE-REFERENCIA'!D:D,MATCH(ORÇAMENTO!D12,'BASE-REFERENCIA'!B:B,0)),"") -> % | G12: 0.005 | H12: =J12/(1+$D$5) -> 386285.13 | I12: =G12*H12 -> 1931.4256 | J12: =SUBTOTAL(9,OFFSET(K25,1,0):OFFSET(K596,-1,0)) -> 482354.24 | K12: =IF(D12<>"",ROUND(G12*J12,2),"") -> 2411.77
E13: SUBTOTAL DO ITEM 1.1.1 | K13: =SUBTOTAL(9,OFFSET(K11,1,0):OFFSET(K13,-1,0)) -> 2411.77
E14: SUBTOTAL DO ITEM 1.1 | K14: =SUBTOTAL(9,OFFSET(K10,1,0):OFFSET(K14,-1,0)) -> 2411.77
E15: TOTAL DO ITEM 1 | K15: =SUBTOTAL(9,OFFSET(K9,1,0):OFFSET(K15,-1,0)) -> 2411.77
B17: 2 | C17: =IFERROR(IF(D17<>"",INDEX('BASE-REFERENCIA'!A:A,MATCH(ORÇAMENTO!D17,'BASE-REFERENCIA'!B:B,0)),""),"-") | E17: ADMINISTRAÇÃO LOCAL | F17: =IF(D17<>"",INDEX('BASE-REFERENCIA'!D:D,MATCH(ORÇAMENTO!D17,'BASE-REFERENCIA'!B:B,0)),"") | H17: =IF(D17<>"",INDEX('BASE-REFERENCIA'!F:F,MATCH(ORÇAMENTO!D17,'BASE-REFERENCIA'!B:B,0)),"") | I17: =IF(D17<>"",ROUND(G17*H17,2),"") | J17: =IF(D17<>"",ROUND(H17*(1+$D$5),2),"") | K17: =IF(D17<>"",ROUND(G17*J17,2),"")
B18: 2.1 | C18: =IFERROR(IF(D18<>"",INDEX('BASE-REFERENCIA'!A:A,MATCH(ORÇAMENTO!D18,'BASE-REFERENCIA'!B:B,0)),""),"-") | E18: ADMINISTRAÇÃO LOCAL | F18: =IF(D18<>"",INDEX('BASE-REFERENCIA'!D:D,MATCH(ORÇAMENTO!D18,'BASE-REFERENCIA'!B:B,0)),"") | H18: =IF(D18<>"",INDEX('BASE-REFERENCIA'!F:F,MATCH(ORÇAMENTO!D18,'BASE-REFERENCIA'!B:B,0)),"") | I18: =IF(D18<>"",ROUND(G18*H18,2),"") | J18: =IF(D18<>"",ROUND(H18*(1+$D$5),2),"") | K18: =IF(D18<>"",ROUND(G18*J18,2),"")
B19: 2.1.1 | C19: =IFERROR(IF(D19<>"",INDEX('BASE-REFERENCIA'!A:A,MATCH(ORÇAMENTO!D19,'BASE-REFERENCIA'!B:B,0)),""),"-") | E19: ADMINISTRAÇÃO LOCAL | F19: =IF(D19<>"",INDEX('BASE-REFERENCIA'!D:D,MATCH(ORÇAMENTO!D19,'BASE-REFERENCIA'!B:B,0)),"") | H19: =IF(D19<>"",INDEX('BASE-REFERENCIA'!F:F,MATCH(ORÇAMENTO!D19,'BASE-REFERENCIA'!B:B,0)),"") | I19: =IF(D19<>"",ROUND(G19*H19,2),"") | J19: =IF(D19<>"",ROUND(H19*(1+$D$5),2),"") | K19: =IF(D19<>"",ROUND(G19*J19,2),"")
B20: 2.1.1.1 | C20: =IFERROR(IF(D20<>"",INDEX('BASE-REFERENCIA'!A:A,MATCH(ORÇAMENTO!D20,'BASE-REFERENCIA'!B:B,0)),""),"-") -> COMPOSIÇÃO | D20: CPU-004 | E20: =IF(D20<>"",INDEX('BASE-REFERENCIA'!C:C,MATCH(ORÇAMENTO!D20,'BASE-REFERENCIA'!B:B,0)),"") -> ART DE OBRAS PARA CONTRATOS ACIMA DE R$15.000,00 | F20: =IF(D20<>"",INDEX('BASE-REFERENCIA'!D:D,MATCH(ORÇAMENTO!D20,'BASE-REFERENCIA'!B:B,0)),"") -> UN | G20: 1 | H20: =IF(D20<>"",INDEX('BASE-REFERENCIA'!F:F,MATCH(ORÇAMENTO!D20,'BASE-REFERENCIA'!B:B,0)),"") -> 271.47 | I20: =IF(D20<>"",ROUND(G20*H20,2),"") -> 271.47 | J20: =IF(D20<>"",ROUND(H20*(1+$D$5),2),"") -> 338.98 | K20: =IF(D20<>"",ROUND(G20*J20,2),"") -> 338.98
B21: 2.1.1.3 | C21: =IFERROR(IF(D21<>"",INDEX('BASE-REFERENCIA'!A:A,MATCH(ORÇAMENTO!D21,'BASE-REFERENCIA'!B:B,0)),""),"-") -> SINAPI | D21: 90777 | E21: =IF(D21<>"",INDEX('BASE-REFERENCIA'!C:C,MATCH(ORÇAMENTO!D21,'BASE-REFERENCIA'!B:B,0)),"") -> ENGENHEIRO CIVIL DE OBRA JUNIOR COM ENCARGOS COMPLEMENTARES | F21: =IF(D21<>"",INDEX('BASE-REFERENCIA'!D:D,MATCH(ORÇAMENTO!D21,'BASE-REFERENCIA'!B:B,0)),"") -> H | G21: =4*22*1 -> 88 | H21: =IF(D21<>"",INDEX('BASE-REFERENCIA'!F:F,MATCH(ORÇAMENTO!D21,'BASE-REFERENCIA'!B:B,0)),"") -> 131.3 | I21: =IF(D21<>"",ROUND(G21*H21,2),"") -> 11554.4 | J21: =IF(D21<>"",ROUND(H21*(1+$D$5),2),"") -> 163.95 | K21: =IF(D21<>"",ROUND(G21*J21,2),"") -> 14427.6
B22: 2.1.1.4 | C22: =IFERROR(IF(D22<>"",INDEX('BASE-REFERENCIA'!A:A,MATCH(ORÇAMENTO!D22,'BASE-REFERENCIA'!B:B,0)),""),"-") -> SINAPI | D22: 90776 | E22: =IF(D22<>"",INDEX('BASE-REFERENCIA'!C:C,MATCH(ORÇAMENTO!D22,'BASE-REFERENCIA'!B:B,0)),"") -> ENCARREGADO GERAL COM ENCARGOS COMPLEMENTARES | F22: =IF(D22<>"",INDEX('BASE-REFERENCIA'!D:D,MATCH(ORÇAMENTO!D22,'BASE-REFERENCIA'!B:B,0)),"") -> H | G22: =4*22*5.5 -> 484 | H22: =IF(D22<>"",INDEX('BASE-REFERENCIA'!F:F,MATCH(ORÇAMENTO!D22,'BASE-REFERENCIA'!B:B,0)),"") -> 69.46 | I22: =IF(D22<>"",ROUND(G22*H22,2),"") -> 33618.64 | J22: =IF(D22<>"",ROUND(H22*(1+$D$5),2),"") -> 86.73 | K22: =IF(D22<>"",ROUND(G22*J22,2),"") -> 41977.32
E23: SUBTOTAL DO ITEM 2.1.1 | K23: =SUBTOTAL(9,OFFSET(K19,1,0):OFFSET(K23,-1,0)) -> 56743.9
E24: SUBTOTAL DO ITEM 2.1 | K24: =SUBTOTAL(9,OFFSET(K18,1,0):OFFSET(K24,-1,0)) -> 56743.9
E25: TOTAL DO ITEM 2 | K25: =SUBTOTAL(9,OFFSET(K17,1,0):OFFSET(K25,-1,0)) -> 56743.9
B27: 3 | C27: =IFERROR(IF(D27<>"",INDEX('BASE-REFERENCIA'!A:A,MATCH(ORÇAMENTO!D27,'BASE-REFERENCIA'!B:B,0)),""),"-") | E27: SERVIÇOS PRELIMINARES | F27: =IF(D27<>"",INDEX('BASE-REFERENCIA'!D:D,MATCH(ORÇAMENTO!D27,'BASE-REFERENCIA'!B:B,0)),"") | H27: =IF(D27<>"",INDEX('BASE-REFERENCIA'!F:F,MATCH(ORÇAMENTO!D27,'BASE-REFERENCIA'!B:B,0)),"") | I27: =IF(D27<>"",ROUND(G27*H27,2),"") | J27: =IF(D27<>"",ROUND(H27*(1+$D$5),2),"") | K27: =IF(D27<>"",ROUND(G27*J27,2),"")
B28: 3.1 | C28: =IFERROR(IF(D28<>"",INDEX('BASE-REFERENCIA'!A:A,MATCH(ORÇAMENTO!D28,'BASE-REFERENCIA'!B:B,0)),""),"-") | E28: IDENTIFICAÇÃO DA OBRA | F28: =IF(D28<>"",INDEX('BASE-REFERENCIA'!D:D,MATCH(ORÇAMENTO!D28,'BASE-REFERENCIA'!B:B,0)),"") | H28: =IF(D28<>"",INDEX('BASE-REFERENCIA'!F:F,MATCH(ORÇAMENTO!D28,'BASE-REFERENCIA'!B:B,0)),"") | I28: =IF(D28<>"",ROUND(G28*H28,2),"") | J28: =IF(D28<>"",ROUND(H28*(1+$D$5),2),"") | K28: =IF(D28<>"",ROUND(G28*J28,2),"")
B29: 3.1.1 | C29: =IFERROR(IF(D29<>"",INDEX('BASE-REFERENCIA'!A:A,MATCH(ORÇAMENTO!D29,'BASE-REFERENCIA'!B:B,0)),""),"-") | E29: IDENTIFICAÇÃO DA OBRA | F29: =IF(D29<>"",INDEX('BASE-REFERENCIA'!D:D,MATCH(ORÇAMENTO!D29,'BASE-REFERENCIA'!B:B,0)),"") | H29: =IF(D29<>"",INDEX('BASE-REFERENCIA'!F:F,MATCH(ORÇAMENTO!D29,'BASE-REFERENCIA'!B:B,0)),"") | I29: =IF(D29<>"",ROUND(G29*H29,2),"") | J29: =IF(D29<>"",ROUND(H29*(1+$D$5),2),"") | K29: =IF(D29<>"",ROUND(G29*J29,2),"")
B30: 3.1.1.1 | C30: =IFERROR(IF(D30<>"",INDEX('BASE-REFERENCIA'!A:A,MATCH(ORÇAMENTO!D30,'BASE-REFERENCIA'!B:B,0)),""),"-") -> SICOR | D30: ED-28427 | E30: =IF(D30<>"",INDEX('BASE-REFERENCIA'!C:C,MATCH(ORÇAMENTO!D30,'BASE-REFERENCIA'!B:B,0)),"") -> FORNECIMENTO E COLOCAÇÃO DE PLACA DE OBRA EM CHAPA GALVANIZADA #26, ESP. 0,45MM, DIMENSÃO (3X1,5)M, PLOTADA COM ADESIVO VINÍLICO, AFIXADA COM REBITES 4,8X40MM, EM ESTRUTURA METÁLICA DE METALON 20X20MM, ESP. 1,25MM, INCLUSIVE SUPORTE EM EUCALIPTO AUTOCLAVADO PINTADO COM TINTA PVA DUAS (2) DEMÃOS | F30: =IF(D30<>"",INDEX('BASE-REFERENCIA'!D:D,MATCH(ORÇAMENTO!D30,'BASE-REFERENCIA'!B:B,0)),"") -> un | G30: 1 | H30: =IF(D30<>"",INDEX('BASE-REFERENCIA'!F:F,MATCH(ORÇAMENTO!D30,'BASE-REFERENCIA'!B:B,0)),"") -> 1156.55 | I30: =IF(D30<>"",ROUND(G30*H30,2),"") -> 1156.55 | J30: =IF(D30<>"",ROUND(H30*(1+$D$5),2),"") -> 1444.18 | K30: =IF(D30<>"",ROUND(G30*J30,2),"") -> 1444.18
E31: SUBTOTAL DO ITEM 3.1.1 | K31: =SUBTOTAL(9,OFFSET(K29,1,0):OFFSET(K31,-1,0)) -> 1444.18
E32: SUBTOTAL DO ITEM 3.1 | K32: =SUBTOTAL(9,OFFSET(K28,1,0):OFFSET(K32,-1,0)) -> 1444.18
B34: 3.2 | C34: =IFERROR(IF(D34<>"",INDEX('BASE-REFERENCIA'!A:A,MATCH(ORÇAMENTO!D34,'BASE-REFERENCIA'!B:B,0)),""),"-") | E34: CANTEIRO DE OBRAS | F34: =IF(D34<>"",INDEX('BASE-REFERENCIA'!D:D,MATCH(ORÇAMENTO!D34,'BASE-REFERENCIA'!B:B,0)),"") | H34: =IF(D34<>"",INDEX('BASE-REFERENCIA'!F:F,MATCH(ORÇAMENTO!D34,'BASE-REFERENCIA'!B:B,0)),"") | I34: =IF(D34<>"",ROUND(G34*H34,2),"") | J34: =IF(D34<>"",ROUND(H34*(1+$D$5),2),"") | K34: =IF(D34<>"",ROUND(G34*J34,2),"")
B35: 3.2.1 | C35: =IFERROR(IF(D35<>"",INDEX('BASE-REFERENCIA'!A:A,MATCH(ORÇAMENTO!D35,'BASE-REFERENCIA'!B:B,0)),""),"-") | E35: CANTEIRO DE OBRAS | F35: =IF(D35<>"",INDEX('BASE-REFERENCIA'!D:D,MATCH(ORÇAMENTO!D35,'BASE-REFERENCIA'!B:B,0)),"") | H35: =IF(D35<>"",INDEX('BASE-REFERENCIA'!F:F,MATCH(ORÇAMENTO!D35,'BASE-REFERENCIA'!B:B,0)),"") | I35: =IF(D35<>"",ROUND(G35*H35,2),"") | J35: =IF(D35<>"",ROUND(H35*(1+$D$5),2),"") | K35: =IF(D35<>"",ROUND(G35*J35,2),"")
B36: 3.2.1.1 | C36: =IFERROR(IF(D36<>"",INDEX('BASE-REFERENCIA'!A:A,MATCH(ORÇAMENTO!D36,'BASE-REFERENCIA'!B:B,0)),""),"-") -> SICOR | D36: ED-16350 | E36: =IF(D36<>"",INDEX('BASE-REFERENCIA'!C:C,MATCH(ORÇAMENTO!D36,'BASE-REFERENCIA'!B:B,0)),"") -> LOCAÇÃO DE CONTAINER COM ISOLAMENTO TÉRMICO, TIPO 3, PARA DEPÓSITO/FERRAMENTARIA DE OBRA, COM MEDIDAS REFERENCIAIS DE (6) METROS COMPRIMENTO, (2,3) METROS LARGURA E (2,5) METROS ALTURA ÚTIL INTERNA, INCLUSIVE LIGAÇÕES ELÉTRICAS INTERNAS, EXCLUSIVE MOBILIZAÇÃO/DESMOBILIZAÇÃO E LIGAÇÕES PROVISÓRIAS EXTERNAS | F36: =IF(D36<>"",INDEX('BASE-REFERENCIA'!D:D,MATCH(ORÇAMENTO!D36,'BASE-REFERENCIA'!B:B,0)),"") -> mês | G36: 4 | H36: =IF(D36<>"",INDEX('BASE-REFERENCIA'!F:F,MATCH(ORÇAMENTO!D36,'BASE-REFERENCIA'!B:B,0)),"") -> 794.71 | I36: =IF(D36<>"",ROUND(G36*H36,2),"") -> 3178.84 | J36: =IF(D36<>"",ROUND(H36*(1+$D$5),2),"") -> 992.35 | K36: =IF(D36<>"",ROUND(G36*J36,2),"") -> 3969.4
B37: 3.2.1.2 | C37: =IFERROR(IF(D37<>"",INDEX('BASE-REFERENCIA'!A:A,MATCH(ORÇAMENTO!D37,'BASE-REFERENCIA'!B:B,0)),""),"-") -> SICOR | D37: ED-50137 | E37: =IF(D37<>"",INDEX('BASE-REFERENCIA'!C:C,MATCH(ORÇAMENTO!D37,'BASE-REFERENCIA'!B:B,0)),"") -> MOBILIZAÇÃO E DESMOBILIZAÇÃO DE CONTAINER, INCLUSIVE CARGA, DESCARGA E TRANSPORTE EM CAMINHÃO CARROCERIA COM GUINDAUTO (MUNCK), EXCLUSIVE LOCAÇÃO DO CONTAINER | F37: =IF(D37<>"",INDEX('BASE-REFERENCIA'!D:D,MATCH(ORÇAMENTO!D37,'BASE-REFERENCIA'!B:B,0)),"") -> un | G37: 1 | H37: =IF(D37<>"",INDEX('BASE-REFERENCIA'!F:F,MATCH(ORÇAMENTO!D37,'BASE-REFERENCIA'!B:B,0)),"") -> 1671.8 | I37: =IF(D37<>"",ROUND(G37*H37,2),"") -> 1671.8 | J37: =IF(D37<>"",ROUND(H37*(1+$D$5),2),"") -> 2087.58 | K37: =IF(D37<>"",ROUND(G37*J37,2),"") -> 2087.58
B38: 3.2.1.3 | C38: =IFERROR(IF(D38<>"",INDEX('BASE-REFERENCIA'!A:A,MATCH(ORÇAMENTO!D38,'BASE-REFERENCIA'!B:B,0)),""),"-") -> SICOR | D38: ED-16342 | E38: =IF(D38<>"",INDEX('BASE-REFERENCIA'!C:C,MATCH(ORÇAMENTO!D38,'BASE-REFERENCIA'!B:B,0)),"") -> LIGAÇÃO PROVISÓRIA DE ENERGIA ELÉTRICA PARA CONTAINER | F38: =IF(D38<>"",INDEX('BASE-REFERENCIA'!D:D,MATCH(ORÇAMENTO!D38,'BASE-REFERENCIA'!B:B,0)),"") -> un | G38: 1 | H38: =IF(D38<>"",INDEX('BASE-REFERENCIA'!F:F,MATCH(ORÇAMENTO!D38,'BASE-REFERENCIA'!B:B,0)),"") -> 347.98 | I38: =IF(D38<>"",ROUND(G38*H38,2),"") -> 347.98 | J38: =IF(D38<>"",ROUND(H38*(1+$D$5),2),"") -> 434.52 | K38: =IF(D38<>"",ROUND(G38*J38,2),"") -> 434.52
E39: SUBTOTAL DO ITEM 3.2.1 | K39: =SUBTOTAL(9,OFFSET(K35,1,0):OFFSET(K39,-1,0)) -> 6491.5
E40: SUBTOTAL DO ITEM 3.2 | K40: =SUBTOTAL(9,OFFSET(K34,1,0):OFFSET(K40,-1,0)) -> 6491.5
B42: 3.3 | C42: =IFERROR(IF(D42<>"",INDEX('BASE-REFERENCIA'!A:A,MATCH(ORÇAMENTO!D42,'BASE-REFERENCIA'!B:B,0)),""),"-") | E42: ANDAIMES | F42: =IF(D42<>"",INDEX('BASE-REFERENCIA'!D:D,MATCH(ORÇAMENTO!D42,'BASE-REFERENCIA'!B:B,0)),"") | H42: =IF(D42<>"",INDEX('BASE-REFERENCIA'!F:F,MATCH(ORÇAMENTO!D42,'BASE-REFERENCIA'!B:B,0)),"") | I42: =IF(D42<>"",ROUND(G42*H42,2),"") | J42: =IF(D42<>"",ROUND(H42*(1+$D$5),2),"") | K42: =IF(D42<>"",ROUND(G42*J42,2),"")
B43: 3.3.1 | C43: =IFERROR(IF(D43<>"",INDEX('BASE-REFERENCIA'!A:A,MATCH(ORÇAMENTO!D43,'BASE-REFERENCIA'!B:B,0)),""),"-") | E43: ANDAIMES INTERNOS | F43: =IF(D43<>"",INDEX('BASE-REFERENCIA'!D:D,MATCH(ORÇAMENTO!D43,'BASE-REFERENCIA'!B:B,0)),"") | H43: =IF(D43<>"",INDEX('BASE-REFERENCIA'!F:F,MATCH(ORÇAMENTO!D43,'BASE-REFERENCIA'!B:B,0)),"") | I43: =IF(D43<>"",ROUND(G43*H43,2),"") | J43: =IF(D43<>"",ROUND(H43*(1+$D$5),2),"") | K43: =IF(D43<>"",ROUND(G43*J43,2),"")
B44: 3.3.1.1 | C44: =IFERROR(IF(D44<>"",INDEX('BASE-REFERENCIA'!A:A,MATCH(ORÇAMENTO!D44,'BASE-REFERENCIA'!B:B,0)),""),"-") -> SICOR | D44: ED-28533 | E44: =IF(D44<>"",INDEX('BASE-REFERENCIA'!C:C,MATCH(ORÇAMENTO!D44,'BASE-REFERENCIA'!B:B,0)),"") -> ANDAIME EM CAVALETE METÁLICO PARA FORRO OU SERVIÇO EM ALTURA INTERNO, COM CHAPA DE COMPENSADO E TÁBUA, COM REAPROVEITAMENTO, INCLUSIVE MONTAGEM/DESMONTAGEM E REMANEJAMENTO | F44: =IF(D44<>"",INDEX('BASE-REFERENCIA'!D:D,MATCH(ORÇAMENTO!D44,'BASE-REFERENCIA'!B:B,0)),"") -> m2 | G44: 43.05 | H44: =IF(D44<>"",INDEX('BASE-REFERENCIA'!F:F,MATCH(ORÇAMENTO!D44,'BASE-REFERENCIA'!B:B,0)),"") -> 1.66 | I44: =IF(D44<>"",ROUND(G44*H44,2),"") -> 71.46 | J44: =IF(D44<>"",ROUND(H44*(1+$D$5),2),"") -> 2.07 | K44: =IF(D44<>"",ROUND(G44*J44,2),"") -> 89.11
E45: SUBTOTAL DO ITEM 3.3.1 | K45: =SUBTOTAL(9,OFFSET(K43,1,0):OFFSET(K45,-1,0)) -> 89.11
...

Sheet BASE-REFERENCIA
A1: FONTE | B1: CÓDIGO | C1: DESCRIÇÃO | D1: UNIDADE | E1: DESONERADO | F1: NÃO DESONERADO | I1: BASE | J1: REFERENCIA | K1: MÊS
A2: COMPOSIÇÃO | B2: CPU-001 | C2: =IFERROR(INDEX(COMPOSIÇÕES!D:D,MATCH(B2,COMPOSIÇÕES!B:B,0)),"Não Encontrado") -> REMOÇÃO MANUAL DE ALAMBRADO METÁLICO, SEM REAPROVEITAMENTO, INCLUSIVE AFASTAMENTO E EMPILHAMENTO, EXCLUSIVE TRANSPORTE E RETIRADA DO MATERIAL REMOVIDO NÃO REAPROVEITÁVEL - BASEADO SETOP (ED-48434) | D2: =IFERROR(INDEX(COMPOSIÇÕES!E:E,MATCH($B2,COMPOSIÇÕES!$B:$B,0)),"Não Encontrado") -> m² | F2: =IFERROR(INDEX(COMPOSIÇÕES!H:H,MATCH($B2,COMPOSIÇÕES!$B:$B,0)),"Não Encontrado") -> 21.57 | I2: SINAPI | J2: BELO HORIZONTE | K2: 08/2025.
A3: COMPOSIÇÃO | B3: CPU-002 | C3: =IFERROR(INDEX(COMPOSIÇÕES!D:D,MATCH(B3,COMPOSIÇÕES!B:B,0)),"Não Encontrado") -> REMOÇÃO DE PORTÃO, DE FORMA MANUAL, SEM REAPROVEITAMENTO. AF_12/2017 - BASEADO EM SINAPI (97644) | D3: =IFERROR(INDEX(COMPOSIÇÕES!E:E,MATCH($B3,COMPOSIÇÕES!$B:$B,0)),"Não Encontrado") -> m² | F3: =IFERROR(INDEX(COMPOSIÇÕES!H:H,MATCH($B3,COMPOSIÇÕES!$B:$B,0)),"Não Encontrado") -> 9.94 | I3: SICOR | J3: MINAS GERAIS | K3: 04/2025
A4: COMPOSIÇÃO | B4: CPU-003 | C4: =IFERROR(INDEX(COMPOSIÇÕES!D:D,MATCH(B4,COMPOSIÇÕES!B:B,0)),"Não Encontrado") -> LIMPEZA COM JATO DE AGUA SOBRE SUPERFICIE DE CONCRETO - BASEADO EM SBC (210055) | D4: =IFERROR(INDEX(COMPOSIÇÕES!E:E,MATCH($B4,COMPOSIÇÕES!$B:$B,0)),"Não Encontrado") -> m² | F4: =IFERROR(INDEX(COMPOSIÇÕES!H:H,MATCH($B4,COMPOSIÇÕES!$B:$B,0)),"Não Encontrado") -> 11.97 | I4: SUDECAP-I | J4: BELO HORIZONTE | K4: 04/2025
A5: COMPOSIÇÃO | B5: CPU-004 | C5: =IFERROR(INDEX(COMPOSIÇÕES!D:D,MATCH(B5,COMPOSIÇÕES!B:B,0)),"Não Encontrado") -> ART DE OBRAS PARA CONTRATOS ACIMA DE R$15.000,00 | D5: =IFERROR(INDEX(COMPOSIÇÕES!E:E,MATCH($B5,COMPOSIÇÕES!$B:$B,0)),"Não Encontrado") -> UN | F5: =IFERROR(INDEX(COMPOSIÇÕES!H:H,MATCH($B5,COMPOSIÇÕES!$B:$B,0)),"Não Encontrado") -> 271.47 | I5: SUDECAP | J5: BELO HORIZONTE | K5: 04/2025
A6: COMPOSIÇÃO | B6: CPU-005 | C6: =IFERROR(INDEX(COMPOSIÇÕES!D:D,MATCH(B6,COMPOSIÇÕES!B:B,0)),"Não Encontrado") -> JANELA EM ALUMÍNIO, COR N/P/B, MOLDURA-VIDRO, TIPO GUILHOTINA, INCLUSIVE VIDRO - BASEADO EM ORSE (11944) | D6: =IFERROR(INDEX(COMPOSIÇÕES!E:E,MATCH($B6,COMPOSIÇÕES!$B:$B,0)),"Não Encontrado") -> m² | F6: =IFERROR(INDEX(COMPOSIÇÕES!H:H,MATCH($B6,COMPOSIÇÕES!$B:$B,0)),"Não Encontrado") -> 471.06 | I6: SICRO | J6: MINAS GERAIS | K6: 04/2025
A7: COMPOSIÇÃO | B7: CPU-006 | C7: =IFERROR(INDEX(COMPOSIÇÕES!D:D,MATCH(B7,COMPOSIÇÕES!B:B,0)),"Não Encontrado") -> ALIZAR ALUMINIO PINTURA ELETROSTATICA BRANCA - BASEADO EM SBC (112597) | D7: =IFERROR(INDEX(COMPOSIÇÕES!E:E,MATCH($B7,COMPOSIÇÕES!$B:$B,0)),"Não Encontrado") -> M | F7: =IFERROR(INDEX(COMPOSIÇÕES!H:H,MATCH($B7,COMPOSIÇÕES!$B:$B,0)),"Não Encontrado") -> 127.46
A8: COMPOSIÇÃO | B8: CPU-007 | C8: =IFERROR(INDEX(COMPOSIÇÕES!D:D,MATCH(B8,COMPOSIÇÕES!B:B,0)),"Não Encontrado") -> FORNECIMENTO E INSTALAÇÃO DE PORTA DE ABRIR PARA PNE TIPO PRANCHETA EM MADEIRA, MAÇANETA E FECHADURA DESIGN MZ340 TIPO ALAVANCA, ACABAMENTO CROMADO, CHAPA DE AÇO INOX PARA PROTEÇÃO DA PORTA 90X40CM, MOLA HIDRÁULICA E PUXADOR EM ALUMÍNIO CROMADO 40CM - BASEADO EM SINAPI (90844) | D8: =IFERROR(INDEX(COMPOSIÇÕES!E:E,MATCH($B8,COMPOSIÇÕES!$B:$B,0)),"Não Encontrado") -> UND | F8: =IFERROR(INDEX(COMPOSIÇÕES!H:H,MATCH($B8,COMPOSIÇÕES!$B:$B,0)),"Não Encontrado") -> 1832.69
A9: COMPOSIÇÃO | B9: CPU-008 | C9: =IFERROR(INDEX(COMPOSIÇÕES!D:D,MATCH(B9,COMPOSIÇÕES!B:B,0)),"Não Encontrado") -> PORTA DUPLA EM VIDRO TEMPERADO 8mm COM FERRAGENS - BASEADO EM SBC (150210) | D9: =IFERROR(INDEX(COMPOSIÇÕES!E:E,MATCH($B9,COMPOSIÇÕES!$B:$B,0)),"Não Encontrado") -> m² | F9: =IFERROR(INDEX(COMPOSIÇÕES!H:H,MATCH($B9,COMPOSIÇÕES!$B:$B,0)),"Não Encontrado") -> 1031.2
A10: COMPOSIÇÃO | B10: CPU-009 | C10: =IFERROR(INDEX(COMPOSIÇÕES!D:D,MATCH(B10,COMPOSIÇÕES!B:B,0)),"Não Encontrado") -> PORTÃO DE ABRIR 02 FOLHAS EM METALON - BASEADO EM AGESUL (2001004046) | D10: =IFERROR(INDEX(COMPOSIÇÕES!E:E,MATCH($B10,COMPOSIÇÕES!$B:$B,0)),"Não Encontrado") -> m² | F10: =IFERROR(INDEX(COMPOSIÇÕES!H:H,MATCH($B10,COMPOSIÇÕES!$B:$B,0)),"Não Encontrado") -> 528.46
A11: COMPOSIÇÃO | B11: CPU-010 | C11: =IFERROR(INDEX(COMPOSIÇÕES!D:D,MATCH(B11,COMPOSIÇÕES!B:B,0)),"Não Encontrado") -> FABRICAÇÃO E INSTALAÇÃO DE GRADIL EXTERNO EM PERFIL RETANGULAR (TUBO EM METALON GALVANIZADO (FORMATO: RETANGULAR/SEÇÃO: 50X30MM/ ESPESSURA: 1,25MM), PINTADO COM ESMALTE SINTÉTICO PREMIUM - BASEADO EM AGESUL (2001004044) | D11: =IFERROR(INDEX(COMPOSIÇÕES!E:E,MATCH($B11,COMPOSIÇÕES!$B:$B,0)),"Não Encontrado") -> m² | F11: =IFERROR(INDEX(COMPOSIÇÕES!H:H,MATCH($B11,COMPOSIÇÕES!$B:$B,0)),"Não Encontrado") -> 826.24
A12: COMPOSIÇÃO | B12: CPU-011 | C12: =IFERROR(INDEX(COMPOSIÇÕES!D:D,MATCH(B12,COMPOSIÇÕES!B:B,0)),"Não Encontrado") -> CUBA DE EMBUTIR RETANGULAR DE AÇO INOXIDÁVEL, 40 X 34 X 17 CM - FORNECIMENTO E INSTALAÇÃO. AF_01/2020 - BASEADO EM SINAPI (86900) | D12: =IFERROR(INDEX(COMPOSIÇÕES!E:E,MATCH($B12,COMPOSIÇÕES!$B:$B,0)),"Não Encontrado") -> UN | F12: =IFERROR(INDEX(COMPOSIÇÕES!H:H,MATCH($B12,COMPOSIÇÕES!$B:$B,0)),"Não Encontrado") -> 258.27
A13: COMPOSIÇÃO | B13: CPU-012 | C13: =IFERROR(INDEX(COMPOSIÇÕES!D:D,MATCH(B13,COMPOSIÇÕES!B:B,0)),"Não Encontrado") -> LAVATORIO (CANTO) ACESSIVEL - BASEADO EM FDE (08.16.056) | D13: =IFERROR(INDEX(COMPOSIÇÕES!E:E,MATCH($B13,COMPOSIÇÕES!$B:$B,0)),"Não Encontrado") -> CJ | F13: =IFERROR(INDEX(COMPOSIÇÕES!H:H,MATCH($B13,COMPOSIÇÕES!$B:$B,0)),"Não Encontrado") -> 1343.36
A14: COMPOSIÇÃO | B14: CPU-013 | C14: =IFERROR(INDEX(COMPOSIÇÕES!D:D,MATCH(B14,COMPOSIÇÕES!B:B,0)),"Não Encontrado") -> ESPELHO CRISTAL 4mm COM MOLDURA DE ALUMINIO - BASEADO EM SBC (190058) | D14: =IFERROR(INDEX(COMPOSIÇÕES!E:E,MATCH($B14,COMPOSIÇÕES!$B:$B,0)),"Não Encontrado") -> m² | F14: =IFERROR(INDEX(COMPOSIÇÕES!H:H,MATCH($B14,COMPOSIÇÕES!$B:$B,0)),"Não Encontrado") -> 514.94
A15: COMPOSIÇÃO | B15: CPU-014 | C15: =IFERROR(INDEX(COMPOSIÇÕES!D:D,MATCH(B15,COMPOSIÇÕES!B:B,0)),"Não Encontrado") -> PERSIANA TIPO ROLO,BLECAUTE,BLOQUEIO UV% TECIDO POLIESTER - BASEADO EM SBC (200503) | D15: =IFERROR(INDEX(COMPOSIÇÕES!E:E,MATCH($B15,COMPOSIÇÕES!$B:$B,0)),"Não Encontrado") -> m² | F15: =IFERROR(INDEX(COMPOSIÇÕES!H:H,MATCH($B15,COMPOSIÇÕES!$B:$B,0)),"Não Encontrado") -> 291.83
A16: COMPOSIÇÃO | B16: CPU-015 | C16: =IFERROR(INDEX(COMPOSIÇÕES!D:D,MATCH(B16,COMPOSIÇÕES!B:B,0)),"Não Encontrado") -> IMPERMEABILIZACAO DE JARDINEIRAS - BASEADO EM SBC (160700) | D16: =IFERROR(INDEX(COMPOSIÇÕES!E:E,MATCH($B16,COMPOSIÇÕES!$B:$B,0)),"Não Encontrado") -> m² | F16: =IFERROR(INDEX(COMPOSIÇÕES!H:H,MATCH($B16,COMPOSIÇÕES!$B:$B,0)),"Não Encontrado") -> 174.31
A17: COMPOSIÇÃO | B17: CPU-016 | C17: =IFERROR(INDEX(COMPOSIÇÕES!D:D,MATCH(B17,COMPOSIÇÕES!B:B,0)),"Não Encontrado") -> PLANTA RASTEIRA - BASEADO EM SINAPI (98509) | D17: =IFERROR(INDEX(COMPOSIÇÕES!E:E,MATCH($B17,COMPOSIÇÕES!$B:$B,0)),"Não Encontrado") -> UN | F17: =IFERROR(INDEX(COMPOSIÇÕES!H:H,MATCH($B17,COMPOSIÇÕES!$B:$B,0)),"Não Encontrado") -> 6.47
A18: COMPOSIÇÃO | B18: CPU-017 | C18: =IFERROR(INDEX(COMPOSIÇÕES!D:D,MATCH(B18,COMPOSIÇÕES!B:B,0)),"Não Encontrado") -> CANALETA EVOLUTIVA APARENTE COM TAMPA EM PVC, DIM.:80X35 MM - BASEADO EM CPOS 38.07.700 | D18: =IFERROR(INDEX(COMPOSIÇÕES!E:E,MATCH($B18,COMPOSIÇÕES!$B:$B,0)),"Não Encontrado") -> M | F18: =IFERROR(INDEX(COMPOSIÇÕES!H:H,MATCH($B18,COMPOSIÇÕES!$B:$B,0)),"Não Encontrado") -> 167.64
... A101: COMPOSIÇÃO | B101: CPU-100 | C101: =IFERROR(INDEX(COMPOSIÇÕES!D:D,MATCH(B101,COMPOSIÇÕES!B:B,0)),"Não Encontrado") -> 0 | D101: =IFERROR(INDEX(COMPOSIÇÕES!E:E,MATCH($B101,COMPOSIÇÕES!$B:$B,0)),"Não Encontrado") -> 0 | F101: =IFERROR(INDEX(COMPOSIÇÕES!H:H,MATCH($B101,COMPOSIÇÕES!$B:$B,0)),"Não Encontrado") -> 0
A102: COTAÇÃO | B102: COT-001 | C102: =INDEX(COTAÇÃO!D:D,MATCH('BASE-REFERENCIA'!B102,COTAÇÃO!C:C,0)) -> 0 | D102: =INDEX(COTAÇÃO!E:E,MATCH(B102,COTAÇÃO!C:C,0)) -> 0 | F102: =IFERROR(INDEX(COTAÇÃO!I:I,MATCH('BASE-REFERENCIA'!B102,COTAÇÃO!C:C,0)),"Não Encontrado") -> Não Encontrado
A103: COTAÇÃO | B103: COT-002 | C103: =INDEX(COTAÇÃO!D:D,MATCH('BASE-REFERENCIA'!B103,COTAÇÃO!C:C,0)) -> 0 | D103: =INDEX(COTAÇÃO!E:E,MATCH(B103,COTAÇÃO!C:C,0)) -> 0 | F103: =IFERROR(INDEX(COTAÇÃO!I:I,MATCH('BASE-REFERENCIA'!B103,COTAÇÃO!C:C,0)),"Não Encontrado") -> Não Encontrado
A104: COTAÇÃO | B104: COT-003 | C104: =INDEX(COTAÇÃO!D:D,MATCH('BASE-REFERENCIA'!B104,COTAÇÃO!C:C,0)) -> 0 | D104: =INDEX(COTAÇÃO!E:E,MATCH(B104,COTAÇÃO!C:C,0)) -> 0 | F104: =IFERROR(INDEX(COTAÇÃO!I:I,MATCH('BASE-REFERENCIA'!B104,COTAÇÃO!C:C,0)),"Não Encontrado") -> Não Encontrado
A105: COTAÇÃO | B105: COT-004 | C105: =INDEX(COTAÇÃO!D:D,MATCH('BASE-REFERENCIA'!B105,COTAÇÃO!C:C,0)) -> 0 | D105: =INDEX(COTAÇÃO!E:E,MATCH(B105,COTAÇÃO!C:C,0)) -> 0 | F105: =IFERROR(INDEX(COTAÇÃO!I:I,MATCH('BASE-REFERENCIA'!B105,COTAÇÃO!C:C,0)),"Não Encontrado") -> Não Encontrado
A106: COTAÇÃO | B106: COT-005 | C106: =INDEX(COTAÇÃO!D:D,MATCH('BASE-REFERENCIA'!B106,COTAÇÃO!C:C,0)) -> 0 | D106: =INDEX(COTAÇÃO!E:E,MATCH(B106,COTAÇÃO!C:C,0)) -> 0 | F106: =IFERROR(INDEX(COTAÇÃO!I:I,MATCH('BASE-REFERENCIA'!B106,COTAÇÃO!C:C,0)),"Não Encontrado") -> Não Encontrado
A107: COTAÇÃO | B107: COT-006 | C107: =INDEX(COTAÇÃO!D:D,MATCH('BASE-REFERENCIA'!B107,COTAÇÃO!C:C,0)) -> 0 | D107: =INDEX(COTAÇÃO!E:E,MATCH(B107,COTAÇÃO!C:C,0)) -> 0 | F107: =IFERROR(INDEX(COTAÇÃO!I:I,MATCH('BASE-REFERENCIA'!B107,COTAÇÃO!C:C,0)),"Não Encontrado") -> Não Encontrado
A108: COTAÇÃO | B108: COT-007 | C108: =INDEX(COTAÇÃO!D:D,MATCH('BASE-REFERENCIA'!B108,COTAÇÃO!C:C,0)) -> 0 | D108: =INDEX(COTAÇÃO!E:E,MATCH(B108,COTAÇÃO!C:C,0)) -> 0 | F108: =IFERROR(INDEX(COTAÇÃO!I:I,MATCH('BASE-REFERENCIA'!B108,COTAÇÃO!C:C,0)),"Não Encontrado") -> Não Encontrado
A109: COTAÇÃO | B109: COT-008 | C109: =INDEX(COTAÇÃO!D:D,MATCH('BASE-REFERENCIA'!B109,COTAÇÃO!C:C,0)) -> 0 | D109: =INDEX(COTAÇÃO!E:E,MATCH(B109,COTAÇÃO!C:C,0)) -> 0 | F109: =IFERROR(INDEX(COTAÇÃO!I:I,MATCH('BASE-REFERENCIA'!B109,COTAÇÃO!C:C,0)),"Não Encontrado") -> Não Encontrado
A110: COTAÇÃO | B110: COT-009 | C110: =INDEX(COTAÇÃO!D:D,MATCH('BASE-REFERENCIA'!B110,COTAÇÃO!C:C,0)) -> 0 | D110: =INDEX(COTAÇÃO!E:E,MATCH(B110,COTAÇÃO!C:C,0)) -> 0 | F110: =IFERROR(INDEX(COTAÇÃO!I:I,MATCH('BASE-REFERENCIA'!B110,COTAÇÃO!C:C,0)),"Não Encontrado") -> Não Encontrado
C111: SINAPI -I
A112: SINAPI-I | B112: 45333 | C112: ABERTURA PARA ENCAIXE DE CUBA OU LAVATORIO EM BANCADA DE MARMORE/ GRANITO OU OUTRO TIPO DE PEDRA NATURAL | D112: UN | E112: 115.49 | F112: 115.49
A113: SINAPI-I | B113: 11270 | C113: ABRACADEIRA DE LATAO PARA FIXACAO DE CABO PARA-RAIO, DIMENSOES 32 X 24 X 24 MM | D113: UN | E113: 3.33 | F113: 3.33
A114: SINAPI-I | B114: 412 | C114: ABRACADEIRA DE NYLON PARA AMARRACAO DE CABOS, COMPRIMENTO DE *230* X *7,6* MM | D114: UN | E114: 1.08 | F114: 1.08
A115: SINAPI-I | B115: 414 | C115: ABRACADEIRA DE NYLON PARA AMARRACAO DE CABOS, COMPRIMENTO DE 100 X 2,5 MM | D115: UN | E115: 0.06 | F115: 0.06
A116: SINAPI-I | B116: 410 | C116: ABRACADEIRA DE NYLON PARA AMARRACAO DE CABOS, COMPRIMENTO DE 150 X *3,6* MM | D116: UN | E116: 0.16 | F116: 0.16
A117: SINAPI-I | B117: 411 | C117: ABRACADEIRA DE NYLON PARA AMARRACAO DE CABOS, COMPRIMENTO DE 200 X *4,6* MM | D117: UN | E117: 0.21 | F117: 0.21
A118: SINAPI-I | B118: 408 | C118: ABRACADEIRA DE NYLON PARA AMARRACAO DE CABOS, COMPRIMENTO DE 390 X *4,6* MM | D118: UN | E118: 1.04 | F118: 1.04
A119: SINAPI-I | B119: 39131 | C119: ABRACADEIRA EM ACO PARA AMARRACAO DE ELETRODUTOS, TIPO D, COM 1 1/2" E CUNHA DE FIXACAO | D119: UN | E119: 3.18 | F119: 3.18
A120: SINAPI-I | B120: 394 | C120: ABRACADEIRA EM ACO PARA AMARRACAO DE ELETRODUTOS, TIPO D, COM 1 1/2" E PARAFUSO DE FIXACAO | D120: UN | E120: 3.22 | F120: 3.22
A121: SINAPI-I | B121: 39130 | C121: ABRACADEIRA EM ACO PARA AMARRACAO DE ELETRODUTOS, TIPO D, COM 1 1/4" E CUNHA DE FIXACAO | D121: UN | E121: 2.9 | F121: 2.9
A122: SINAPI-I | B122: 395 | C122: ABRACADEIRA EM ACO PARA AMARRACAO DE ELETRODUTOS, TIPO D, COM 1 1/4" E PARAFUSO DE FIXACAO | D122: UN | E122: 3.1 | F122: 3.1
...

Sheet COMPOSIÇÕES
A2: COMPOSIÇÃO DE CUSTO UNITÁRIO
B4: CÓDIGO | C4: FONTE | D4: DESCRIÇÃO | E4: UNIDADE | F4: COEFIC. | G4: PREÇO REF | H4: CUSTO NÃO DESONER.
A5: 2.1.1.1 | B5: Código | C5: Banco | D5: Descrição | E5: Und | F5: Quant. | G5: Valor Unit | H5: Total
A6: COMPOSIÇÃO | B6: CPU-004 | C6: Próprio | D6: ART DE OBRAS PARA CONTRATOS ACIMA DE R$15.000,00 | E6: UN | F6: 1 | G6: 271.47 | H6: 271.47
A7: Insumo | B7: ART.OBRA.002 | C7: Próprio | D7: ART PARA CONTRATOS ACIMA DE R$15.000,00 | E7: UND | F7: 1 | G7: 271.47 | H7: 271.47
E8: LS => | F8: 0 | G8: 0
F9: Valor sem BDI => | G9: 271.47
A11: 4.1.2.1 | B11: Código | C11: Banco | D11: Descrição | E11: Und | F11: Quant. | G11: Valor Unit | H11: Total
A12: COMPOSIÇÃO | B12: CPU-001 | C12: Próprio | D12: REMOÇÃO MANUAL DE ALAMBRADO METÁLICO, SEM REAPROVEITAMENTO, INCLUSIVE AFASTAMENTO E EMPILHAMENTO, EXCLUSIVE TRANSPORTE E RETIRADA DO MATERIAL REMOVIDO NÃO REAPROVEITÁVEL - BASEADO SETOP (ED-48434) | E12: m² | F12: 1 | G12: 21.57 | H12: 21.57
A13: Composição Auxiliar | B13: 88309 | C13: SINAPI | D13: PEDREIRO COM ENCARGOS COMPLEMENTARES | E13: H | F13: 0.2820513 | G13: 31.21 | H13: 8.8
A14: Composição Auxiliar | B14: 88316 | C14: SINAPI | D14: SERVENTE COM ENCARGOS COMPLEMENTARES | E14: H | F14: 0.5641026 | G14: 22.64 | H14: 12.77
E15: LS => | F15: 0 | G15: 16.05
F16: Valor sem BDI => | G16: 21.57
A18: 4.1.3.1 | B18: Código | C18: Banco | D18: Descrição | E18: Und | F18: Quant. | G18: Valor Unit | H18: Total
A19: COMPOSIÇÃO | B19: CPU-002 | C19: Próprio | D19: REMOÇÃO DE PORTÃO, DE FORMA MANUAL, SEM REAPROVEITAMENTO. AF_12/2017 - BASEADO EM SINAPI (97644) | E19: m² | F19: 1 | G19: 9.94 | H19: 9.94
A20: Composição Auxiliar | B20: 88309 | C20: SINAPI | D20: PEDREIRO COM ENCARGOS COMPLEMENTARES | E20: H | F20: 0.1315 | G20: 31.21 | H20: 4.1
A21: Composição Auxiliar | B21: 88316 | C21: SINAPI | D21: SERVENTE COM ENCARGOS COMPLEMENTARES | E21: H | F21: 0.2582 | G21: 22.64 | H21: 5.84
E22: LS => | F22: 0 | G22: 7.39
F23: Valor sem BDI => | G23: 9.94
A25: 5.1.8.1 | B25: Código | C25: Banco | D25: Descrição | E25: Und | F25: Quant. | G25: Valor Unit | H25: Total
A26: COMPOSIÇÃO | B26: CPU-003 | C26: Próprio | D26: LIMPEZA COM JATO DE AGUA SOBRE SUPERFICIE DE CONCRETO - BASEADO EM SBC (210055) | E26: m² | F26: 1 | G26: 11.97 | H26: 11.97
A27: Composição Auxiliar | B27: 88292 | C27: SINAPI | D27: OPERADOR DE COMPRESSOR OU COMPRESSORISTA COM ENCARGOS COMPLEMENTARES | E27: H | F27: 0.108 | G27: 28.09 | H27: 3.03
A28: Insumo | B28: 004809 | C28: SBC | D28: AGUA LIMPA EM CAMINHAO PIPA (CARGA DE 9,0m3=0,11m3) (PRECO MEDIO) | E28: m³ | F28: 0.06 | G28: 75 | H28: 4.5
A29: Insumo | B29: 033376 | C29: SBC | D29: COMPRESSOR REBOCAVEL ATLAS XA96 80pcm 79CV | E29: H | F29: 0.04 | G29: 111 | H29: 4.44
E30: LS => | F30: 0 | G30: 2.45
F31: Valor sem BDI => | G31: 11.97
A33: 5.1.11.4 | B33: Código | C33: Banco | D33: Descrição | E33: Und | F33: Quant. | G33: Valor Unit | H33: Total
A34: COMPOSIÇÃO | B34: CPU-005 | C34: Próprio | D34: JANELA EM ALUMÍNIO, COR N/P/B, MOLDURA-VIDRO, TIPO GUILHOTINA, INCLUSIVE VIDRO - BASEADO EM ORSE (11944) | E34: m² | F34: 1 | G34: 471.06 | H34: 471.06
A35: Composição Auxiliar | B35: 88316 | C35: SINAPI | D35: SERVENTE COM ENCARGOS COMPLEMENTARES | E35: H | F35: 1 | G35: 22.64 | H35: 22.64
A36: Composição Auxiliar | B36: 88309 | C36: SINAPI | D36: PEDREIRO COM ENCARGOS COMPLEMENTARES | E36: H | F36: 1 | G36: 31.21 | H36: 31.21
A37: Composição Auxiliar | B37: 88629 | C37: SINAPI | D37: ARGAMASSA TRAÇO 1:3 (EM VOLUME DE CIMENTO E AREIA MÉDIA ÚMIDA), PREPARO MANUAL. AF_08/2019 | E37: m³ | F37: 0.003 | G37: 737.61 | H37: 2.21
A38: Insumo | B38: 12793 | C38: ORSE | D38: Janela em alumínio, cor N/P/B, moldura-vidro, tipo guilhotina, exclusive vidro | E38: m² | F38: 1 | G38: 250 | H38: 250
A39: Insumo | B39: 2429 | C39: ORSE | D39: Vidro liso transparente incolor, e= 4mm | E39: m² | F39: 1 | G39: 165 | H39: 165
E40: LS => | F40: 0 | G40: 41.19
F41: Valor sem BDI => | G41: 471.06
A43: 5.1.11.6 | B43: Código | C43: Banco | D43: Descrição | E43: Und | F43: Quant. | G43: Valor Unit | H43: Total
A44: COMPOSIÇÃO | B44: CPU-006 | C44: Próprio | D44: ALIZAR ALUMINIO PINTURA ELETROSTATICA BRANCA - BASEADO EM SBC (112597) | E44: M | F44: 1 | G44: 127.46 | H44: 127.46
A45: Composição Auxiliar | B45: 88315 | C45: SINAPI | D45: SERRALHEIRO COM ENCARGOS COMPLEMENTARES | E45: H | F45: 1.738 | G45: 30.97 | H45: 53.82
A46: Composição Auxiliar | B46: 88251 | C46: SINAPI | D46: AUXILIAR DE SERRALHEIRO COM ENCARGOS COMPLEMENTARES | E46: H | F46: 1.738 | G46: 25.02 | H46: 43.48
A47: Insumo | B47: 001609 | C47: SBC | D47: PERFIL DE ALUMINIO MONTANTE LATERAL PARA PORTA DA LINHA SUPREMA BOGONI ALUMINIOS | E47: M | F47: 1.1 | G47: 27.42 | H47: 30.16
...

Sheet COTAÇÃO
B3: FONTE | C3: CÓDIGO | D3: DESCRIÇÃO/ FORNECEDOR | E3: UNIDADE | F3: REFERENCIA | G3: CONTATO | H3: DATA | I3: VALOR
B4: COTAÇÃO | C4: COT-001 | I4: =ROUND(SUBTOTAL(1,I5:I14),2) -> #DIV/0!
B16: COMPOSIÇÃO | C16: COT-002 | I16: =ROUND(SUBTOTAL(1,I17:I26),2) -> #DIV/0!
B17: =IF(C17="","",INDEX('BASE-REFERENCIA'!A:A,MATCH(C17,'BASE-REFERENCIA'!B:B,0)))
B18: =IF(C18="","",INDEX('BASE-REFERENCIA'!A:A,MATCH(C18,'BASE-REFERENCIA'!B:B,0)))
B19: =IF(C19="","",INDEX('BASE-REFERENCIA'!A:A,MATCH(C19,'BASE-REFERENCIA'!B:B,0)))
B20: =IF(C20="","",INDEX('BASE-REFERENCIA'!A:A,MATCH(C20,'BASE-REFERENCIA'!B:B,0)))
B21: =IF(C21="","",INDEX('BASE-REFERENCIA'!A:A,MATCH(C21,'BASE-REFERENCIA'!B:B,0)))
B22: =IF(C22="","",INDEX('BASE-REFERENCIA'!A:A,MATCH(C22,'BASE-REFERENCIA'!B:B,0)))
B23: =IF(C23="","",INDEX('BASE-REFERENCIA'!A:A,MATCH(C23,'BASE-REFERENCIA'!B:B,0)))
B24: =IF(C24="","",INDEX('BASE-REFERENCIA'!A:A,MATCH(C24,'BASE-REFERENCIA'!B:B,0)))
B25: =IF(C25="","",INDEX('BASE-REFERENCIA'!A:A,MATCH(C25,'BASE-REFERENCIA'!B:B,0)))
B26: =IF(C26="","",INDEX('BASE-REFERENCIA'!A:A,MATCH(C26,'BASE-REFERENCIA'!B:B,0)))
B28: COMPOSIÇÃO | C28: COT-003 | I28: =ROUND(SUBTOTAL(1,I29:I38),2) -> #DIV/0!
B29: =IF(C29="","",INDEX('BASE-REFERENCIA'!A:A,MATCH(C29,'BASE-REFERENCIA'!B:B,0)))
B30: =IF(C30="","",INDEX('BASE-REFERENCIA'!A:A,MATCH(C30,'BASE-REFERENCIA'!B:B,0)))
B31: =IF(C31="","",INDEX('BASE-REFERENCIA'!A:A,MATCH(C31,'BASE-REFERENCIA'!B:B,0)))
B32: =IF(C32="","",INDEX('BASE-REFERENCIA'!A:A,MATCH(C32,'BASE-REFERENCIA'!B:B,0)))
B33: =IF(C33="","",INDEX('BASE-REFERENCIA'!A:A,MATCH(C33,'BASE-REFERENCIA'!B:B,0)))
B34: =IF(C34="","",INDEX('BASE-REFERENCIA'!A:A,MATCH(C34,'BASE-REFERENCIA'!B:B,0)))
B35: =IF(C35="","",INDEX('BASE-REFERENCIA'!A:A,MATCH(C35,'BASE-REFERENCIA'!B:B,0)))
B36: =IF(C36="","",INDEX('BASE-REFERENCIA'!A:A,MATCH(C36,'BASE-REFERENCIA'!B:B,0)))
B37: =IF(C37="","",INDEX('BASE-REFERENCIA'!A:A,MATCH(C37,'BASE-REFERENCIA'!B:B,0)))
B38: =IF(C38="","",INDEX('BASE-REFERENCIA'!A:A,MATCH(C38,'BASE-REFERENCIA'!B:B,0)))
B40: COMPOSIÇÃO | C40: COT-004 | I40: =ROUND(SUBTOTAL(1,I41:I50),2) -> #DIV/0!
B41: =IF(C41="","",INDEX('BASE-REFERENCIA'!A:A,MATCH(C41,'BASE-REFERENCIA'!B:B,0)))
B42: =IF(C42="","",INDEX('BASE-REFERENCIA'!A:A,MATCH(C42,'BASE-REFERENCIA'!B:B,0)))
B43: =IF(C43="","",INDEX('BASE-REFERENCIA'!A:A,MATCH(C43,'BASE-REFERENCIA'!B:B,0)))
B44: =IF(C44="","",INDEX('BASE-REFERENCIA'!A:A,MATCH(C44,'BASE-REFERENCIA'!B:B,0)))
B45: =IF(C45="","",INDEX('BASE-REFERENCIA'!A:A,MATCH(C45,'BASE-REFERENCIA'!B:B,0)))
B46: =IF(C46="","",INDEX('BASE-REFERENCIA'!A:A,MATCH(C46,'BASE-REFERENCIA'!B:B,0)))
B47: =IF(C47="","",INDEX('BASE-REFERENCIA'!A:A,MATCH(C47,'BASE-REFERENCIA'!B:B,0)))
B48: =IF(C48="","",INDEX('BASE-REFERENCIA'!A:A,MATCH(C48,'BASE-REFERENCIA'!B:B,0)))
B49: =IF(C49="","",INDEX('BASE-REFERENCIA'!A:A,MATCH(C49,'BASE-REFERENCIA'!B:B,0)))
B50: =IF(C50="","",INDEX('BASE-REFERENCIA'!A:A,MATCH(C50,'BASE-REFERENCIA'!B:B,0)))
B52: COMPOSIÇÃO | C52: COT-005 | I52: =ROUND(SUBTOTAL(1,I53:I62),2) -> #DIV/0!
B53: =IF(C53="","",INDEX('BASE-REFERENCIA'!A:A,MATCH(C53,'BASE-REFERENCIA'!B:B,0)))
B54: =IF(C54="","",INDEX('BASE-REFERENCIA'!A:A,MATCH(C54,'BASE-REFERENCIA'!B:B,0)))
B55: =IF(C55="","",INDEX('BASE-REFERENCIA'!A:A,MATCH(C55,'BASE-REFERENCIA'!B:B,0)))
B56: =IF(C56="","",INDEX('BASE-REFERENCIA'!A:A,MATCH(C56,'BASE-REFERENCIA'!B:B,0)))
...

Sheet BDI 
E1: MIN | F1: MED | G1: MAX | O1: ="Quadro de Composição do BDI" -> Quadro de Composição do BDI | R1: Grau de Sigilo
A2: Construção e Reforma de Edifícios | B2: AC | C2: =CONCATENATE(A2,"-",B2) -> Construção e Reforma de Edifícios-AC | E2: 0.03 | F2: 0.04 | G2: 0.055 | R2: #PUBLICO
A3: =A2 -> Construção e Reforma de Edifícios | B3: SG | C3: =CONCATENATE(A3,"-",B3) -> Construção e Reforma de Edifícios-SG | E3: 0.008 | F3: 0.008 | G3: 0.01
A4: =A3 -> Construção e Reforma de Edifícios | B4: R | C4: =CONCATENATE(A4,"-",B4) -> Construção e Reforma de Edifícios-R | E4: 0.0097 | F4: 0.0127 | G4: 0.0127 | J4: Nº OPERAÇÃO | L4: Nº TRANSFEREGOV | N4: PROPONENTE / TOMADOR | AW4: (SELECIONAR)
A5: =A4 -> Construção e Reforma de Edifícios | B5: DF | C5: =CONCATENATE(A5,"-",B5) -> Construção e Reforma de Edifícios-DF | E5: 0.0059 | F5: 0.0123 | G5: 0.0139 | J5: 0 | L5: 0 | N5: 0 | AW5: Construção e Reforma de Edifícios
A6: =A5 -> Construção e Reforma de Edifícios | B6: L | C6: =CONCATENATE(A6,"-",B6) -> Construção e Reforma de Edifícios-L | E6: 0.0616 | F6: 0.074 | G6: 0.0896 | I6: FILTRO | AW6: Construção de Praças Urbanas, Rodovias, Ferrovias e recapeamento e pavimentação de vias urbanas
A7: =A6 -> Construção e Reforma de Edifícios | B7: BDI PAD | C7: =CONCATENATE(A7,"-",B7) -> Construção e Reforma de Edifícios-BDI PAD | E7: 0.2034 | F7: 0.2212 | G7: 0.25 | J7: APELIDO DO EMPREENDIMENTO / DESCRIÇÃO DO LOTE | AW7: Construção de Redes de Abastecimento de Água, Coleta de Esgoto
A8: Construção de Praças Urbanas, Rodovias, Ferrovias e recapeamento e pavimentação de vias urbanas | B8: AC | C8: =CONCATENATE(A8,"-",B8) -> Construção de Praças Urbanas, Rodovias, Ferrovias e recapeamento e pavimentação de vias urbanas-AC | E8: 0.038 | F8: 0.0401 | G8: 0.0467 | J8: / | AW8: Construção e Manutenção de Estações e Redes de Distribuição de Energia Elétrica
A9: Construção de Praças Urbanas, Rodovias, Ferrovias e recapeamento e pavimentação de vias urbanas | B9: SG | C9: =CONCATENATE(A9,"-",B9) -> Construção de Praças Urbanas, Rodovias, Ferrovias e recapeamento e pavimentação de vias urbanas-SG | E9: 0.0032 | F9: 0.004 | G9: 0.0074 | AW9: Obras Portuárias, Marítimas e Fluviais
A10: Construção de Praças Urbanas, Rodovias, Ferrovias e recapeamento e pavimentação de vias urbanas | B10: R | C10: =CONCATENATE(A10,"-",B10) -> Construção de Praças Urbanas, Rodovias, Ferrovias e recapeamento e pavimentação de vias urbanas-R | E10: 0.005 | F10: 0.0056 | G10: 0.0097 | J10: Conforme legislação tributária municipal, definir estimativa de percentual da base de cálculo para o ISS: | R10: 1 | AW10: Fornecimento de Materiais e Equipamentos (aquisição indireta - em conjunto com licitação de obras)
A11: Construção de Praças Urbanas, Rodovias, Ferrovias e recapeamento e pavimentação de vias urbanas | B11: DF | C11: =CONCATENATE(A11,"-",B11) -> Construção de Praças Urbanas, Rodovias, Ferrovias e recapeamento e pavimentação de vias urbanas-DF | E11: 0.0102 | F11: 0.0111 | G11: 0.0121 | I11: ↓ | J11: Sobre a base de cálculo, definir a respectiva alíquota do ISS (entre 2% e 5%): | R11: 0.04 | AW11: Fornecimento de Materiais e Equipamentos (aquisição direta)
A12: Construção de Praças Urbanas, Rodovias, Ferrovias e recapeamento e pavimentação de vias urbanas | B12: L | C12: =CONCATENATE(A12,"-",B12) -> Construção de Praças Urbanas, Rodovias, Ferrovias e recapeamento e pavimentação de vias urbanas-L | E12: 0.0664 | F12: 0.073 | G12: 0.0869 | I12: F
A13: Construção de Praças Urbanas, Rodovias, Ferrovias e recapeamento e pavimentação de vias urbanas | B13: BDI PAD | C13: =CONCATENATE(A13,"-",B13) -> Construção de Praças Urbanas, Rodovias, Ferrovias e recapeamento e pavimentação de vias urbanas-BDI PAD | E13: 0.196 | F13: 0.2097 | G13: 0.2423 | I13: F
A14: Construção de Redes de Abastecimento de Água, Coleta de Esgoto | B14: AC | C14: =CONCATENATE(A14,"-",B14) -> Construção de Redes de Abastecimento de Água, Coleta de Esgoto-AC | E14: 0.0343 | F14: 0.0493 | G14: 0.0671 | I14: F | J14: BDI 1
A15: =A14 -> Construção de Redes de Abastecimento de Água, Coleta de Esgoto | B15: SG | C15: =CONCATENATE(A15,"-",B15) -> Construção de Redes de Abastecimento de Água, Coleta de Esgoto-SG | E15: 0.0028 | F15: 0.0049 | G15: 0.0075 | I15: F
A16: =A15 -> Construção de Redes de Abastecimento de Água, Coleta de Esgoto | B16: R | C16: =CONCATENATE(A16,"-",B16) -> Construção de Redes de Abastecimento de Água, Coleta de Esgoto-R | E16: 0.01 | F16: 0.0139 | G16: 0.0174 | I16: F | J16: TIPO DE OBRA
A17: =A16 -> Construção de Redes de Abastecimento de Água, Coleta de Esgoto | B17: DF | C17: =CONCATENATE(A17,"-",B17) -> Construção de Redes de Abastecimento de Água, Coleta de Esgoto-DF | E17: 0.0094 | F17: 0.0099 | G17: 0.0117 | I17: F | J17: Construção e Reforma de Edifícios | T17: =IF(U17="","","◄")
A18: =A17 -> Construção de Redes de Abastecimento de Água, Coleta de Esgoto | B18: L | C18: =CONCATENATE(A18,"-",B18) -> Construção de Redes de Abastecimento de Água, Coleta de Esgoto-L | E18: 0.0674 | F18: 0.0804 | G18: 0.094 | I18: F
A19: =A18 -> Construção de Redes de Abastecimento de Água, Coleta de Esgoto | B19: BDI PAD | C19: =CONCATENATE(A19,"-",B19) -> Construção de Redes de Abastecimento de Água, Coleta de Esgoto-BDI PAD | E19: 0.2076 | F19: 0.2418 | G19: 0.2644 | I19: F | J19: Itens | R19: Siglas | S19: % Adotado | U19: Situação | X19: 1º Quartil | Y19: Médio | Z19: 3º Quartil
A20: Construção e Manutenção de Estações e Redes de Distribuição de Energia Elétrica | B20: AC | C20: =CONCATENATE(A20,"-",B20) -> Construção e Manutenção de Estações e Redes de Distribuição de Energia Elétrica-AC | E20: 0.0529 | F20: 0.0592 | G20: 0.0793 | I20: F
A21: =A20 -> Construção e Manutenção de Estações e Redes de Distribuição de Energia Elétrica | B21: SG | C21: =CONCATENATE(A21,"-",B21) -> Construção e Manutenção de Estações e Redes de Distribuição de Energia Elétrica-SG | E21: 0.0025 | F21: 0.0051 | G21: 0.0056 | I21: F | J21: =IF($J$17=$A$66,"Encargos Sociais incidentes sobre a mão de obra","Administração Central") -> Administração Central | R21: =IF($J17=$A$66,"K1","AC") -> AC | S21: 0.04 | T21: =IF(AND($U$14<>"",$U$17="",R21<>"",S21=""),"◄","") | U21: =IFERROR(IF(T21="◄","FALTA PREENCHER",IF(AND(OR(S21>=X21,X21="-"),OR(S21<=Z21,Z21="-")),"OK","FORA DO INTERVALO")),"-") -> OK | X21: =VLOOKUP(CONCATENATE(J17,"-",R21),$C$2:$G$56,3,FALSE) -> 0.03 | Y21: =VLOOKUP(CONCATENATE(J17,"-",R21),$C$2:$G$56,4,FALSE) -> 0.04 | Z21: =VLOOKUP(CONCATENATE(J17,"-",R21),$C$2:$G$56,5,FALSE) -> 0.055
A22: =A21 -> Construção e Manutenção de Estações e Redes de Distribuição de Energia Elétrica | B22: R | C22: =CONCATENATE(A22,"-",B22) -> Construção e Manutenção de Estações e Redes de Distribuição de Energia Elétrica-R | E22: 0.01 | F22: 0.0148 | G22: 0.0197 | I22: F | J22: =IF($J$17=$A$66,"Administração Central da empresa ou consultoria - overhead","Seguro e Garantia") -> Seguro e Garantia | R22: =IF($J17=$A$66,"K2","SG") -> SG | S22: 0.008 | T22: =IF(AND($U$14<>"",$U$17="",R22<>"",S22=""),"◄","") | U22: =IFERROR(IF(T22="◄","FALTA PREENCHER",IF(AND(OR(S22>=X22,X22="-"),OR(S22<=Z22,Z22="-")),"OK","FORA DO INTERVALO")),"-") -> OK | X22: =VLOOKUP(CONCATENATE(J17,"-",R22),$C$2:$G$56,3,FALSE) -> 0.008 | Y22: =VLOOKUP(CONCATENATE(J17,"-",R22),$C$2:$G$56,4,FALSE) -> 0.008 | Z22: =VLOOKUP(CONCATENATE(J17,"-",R22),$C$2:$G$56,5,FALSE) -> 0.01
A23: =A22 -> Construção e Manutenção de Estações e Redes de Distribuição de Energia Elétrica | B23: DF | C23: =CONCATENATE(A23,"-",B23) -> Construção e Manutenção de Estações e Redes de Distribuição de Energia Elétrica-DF | E23: 0.0101 | F23: 0.0107 | G23: 0.0111 | I23: F | J23: Risco | R23: =IF($J17=$A$66,"","R") -> R | S23: 0.0127 | T23: =IF(AND($U$14<>"",$U$17="",R23<>"",S23=""),"◄","") | U23: =IFERROR(IF(T23="◄","FALTA PREENCHER",IF(AND(OR(S23>=X23,X23="-"),OR(S23<=Z23,Z23="-")),"OK","FORA DO INTERVALO")),"-") -> OK | X23: =VLOOKUP(CONCATENATE(J17,"-",R23),$C$2:$G$56,3,FALSE) -> 0.0097 | Y23: =VLOOKUP(CONCATENATE(J17,"-",R23),$C$2:$G$56,4,FALSE) -> 0.0127 | Z23: =VLOOKUP(CONCATENATE(J17,"-",R23),$C$2:$G$56,5,FALSE) -> 0.0127
A24: =A23 -> Construção e Manutenção de Estações e Redes de Distribuição de Energia Elétrica | B24: L | C24: =CONCATENATE(A24,"-",B24) -> Construção e Manutenção de Estações e Redes de Distribuição de Energia Elétrica-L | E24: 0.08 | F24: 0.0831 | G24: 0.0951 | I24: F | J24: Despesas Financeiras | R24: =IF($J17=$A$66,"","DF") -> DF | S24: 0.0123 | T24: =IF(AND($U$14<>"",$U$17="",R24<>"",S24=""),"◄","") | U24: =IFERROR(IF(T24="◄","FALTA PREENCHER",IF(AND(OR(S24>=X24,X24="-"),OR(S24<=Z24,Z24="-")),"OK","FORA DO INTERVALO")),"-") -> OK | X24: =VLOOKUP(CONCATENATE(J17,"-",R24),$C$2:$G$56,3,FALSE) -> 0.0059 | Y24: =VLOOKUP(CONCATENATE(J17,"-",R24),$C$2:$G$56,4,FALSE) -> 0.0123 | Z24: =VLOOKUP(CONCATENATE(J17,"-",R24),$C$2:$G$56,5,FALSE) -> 0.0139
A25: =A24 -> Construção e Manutenção de Estações e Redes de Distribuição de Energia Elétrica | B25: BDI PAD | C25: =CONCATENATE(A25,"-",B25) -> Construção e Manutenção de Estações e Redes de Distribuição de Energia Elétrica-BDI PAD | E25: 0.24 | F25: 0.2584 | G25: 0.2786 | I25: F | J25: =IF($J$17=$A$66,"Margem bruta da empresa de consultoria","Lucro") -> Lucro | R25: =IF($J17=$A$66,"K3","L") -> L | S25: 0.074 | T25: =IF(AND($U$14<>"",$U$17="",R25<>"",S25=""),"◄","") | U25: =IFERROR(IF(T25="◄","FALTA PREENCHER",IF(AND(OR(S25>=X25,X25="-"),OR(S25<=Z25,Z25="-")),"OK","FORA DO INTERVALO")),"-") -> OK | X25: =VLOOKUP(CONCATENATE(J17,"-",R25),$C$2:$G$56,3,FALSE) -> 0.0616 | Y25: =VLOOKUP(CONCATENATE(J17,"-",R25),$C$2:$G$56,4,FALSE) -> 0.074 | Z25: =VLOOKUP(CONCATENATE(J17,"-",R25),$C$2:$G$56,5,FALSE) -> 0.0896
A26: Obras Portuárias, Marítimas e Fluviais | B26: AC | C26: =CONCATENATE(A26,"-",B26) -> Obras Portuárias, Marítimas e Fluviais-AC | E26: 0.04 | F26: 0.0552 | G26: 0.0785 | I26: F | J26: Tributos (impostos COFINS 3%, e PIS 0,65%) | R26: CP | S26: 0.0365 | T26: =IF(AND($U$14<>"",$U$17="",R26<>"",S26=""),"◄","") | U26: =IFERROR(IF(T26="◄","FALTA PREENCHER",IF(AND(OR(S26>=X26,X26="-"),OR(S26<=Z26,Z26="-")),"OK","FORA DO INTERVALO")),"-") -> OK | X26: =Y26 -> 0.0365 | Y26: =IF($J17=$A$65,"-",3.65%) -> 0.0365 | Z26: =Y26 -> 0.0365
A27: =A26 -> Obras Portuárias, Marítimas e Fluviais | B27: SG | C27: =CONCATENATE(A27,"-",B27) -> Obras Portuárias, Marítimas e Fluviais-SG | E27: 0.0081 | F27: 0.0122 | G27: 0.0199 | I27: F | J27: Tributos (ISS, variável de acordo com o município) | R27: ISS | S27: =IF(AND($J17<>$A$65,COUNTA(OFFSET(S20,1,0,6))>0),$R$11*$R$10,0) -> 0.04 | U27: =IFERROR(IF(T27="◄","FALTA PREENCHER",IF(AND(OR(S27>=X27,X27="-"),OR(S27<=Z27,Z27="-")),"OK","FORA DO INTERVALO")),"-") -> OK | X27: 0 | Y27: 0.025 | Z27: 0.05
A28: =A27 -> Obras Portuárias, Marítimas e Fluviais | B28: R | C28: =CONCATENATE(A28,"-",B28) -> Obras Portuárias, Marítimas e Fluviais-R | E28: 0.0146 | F28: 0.0232 | G28: 0.0316 | I28: F | J28: Tributos (Contribuição Previdenciária sobre a Receita Bruta - Lei 12.546 de 14/12/2011 - Desoneração) | R28: CPRB | S28: 0 | U28: =IFERROR(IF(T28="◄","FALTA PREENCHER",IF(AND(OR(S28>=X28,X28="-"),OR(S28<=Z28,Z28="-")),"OK","FORA DO INTERVALO")),"-") -> OK | X28: =$S28 -> 0 | Y28: =$S28 -> 0 | Z28: =$S28 -> 0
A29: =A28 -> Obras Portuárias, Marítimas e Fluviais | B29: DF | C29: =CONCATENATE(A29,"-",B29) -> Obras Portuárias, Marítimas e Fluviais-DF | E29: 0.0094 | F29: 0.0102 | G29: 0.0133 | I29: F | J29: BDI SEM desoneração (Fórmula Acórdão TCU) | R29: BDI PAD | S29: =IF($J17=$A$65,0,ROUND((((1+S21+S22+S23)*(1+S24)*(1+S25)/(1-(S26+S27)))-1),4)) -> 0.2487 | U29: =IFERROR(IF(AND(OR(S29>=X29,X29="-"),OR(S29<=Z29,Z29="-")),"OK","FORA DO INTERVALO"),IF(S29=0,"OK","Selecione o Tipo de obra")) -> OK | X29: =IF($J17=$A$65,0,VLOOKUP(CONCATENATE($J17,"-",$R29),$C$2:$G$56,3,FALSE)) -> 0.2034 | Y29: =IF($J17=$A$65,0,VLOOKUP(CONCATENATE($J17,"-",$R29),$C$2:$G$56,4,FALSE)) -> 0.2212 | Z29: =IF($J17=$A$65,0,VLOOKUP(CONCATENATE($J17,"-",$R29),$C$2:$G$56,5,FALSE)) -> 0.25
A30: =A29 -> Obras Portuárias, Marítimas e Fluviais | B30: L | C30: =CONCATENATE(A30,"-",B30) -> Obras Portuárias, Marítimas e Fluviais-L | E30: 0.0714 | F30: 0.084 | G30: 0.1043 | I30: F | J30: BDI COM desoneração | R30: BDI DES | S30: =IF($J17=$A$65,0,ROUND((((1+S21+S22+S23)*(1+S24)*(1+S25)/(1-(S26+S27+S28)))-1),4)) -> 0.2487
A31: =A30 -> Obras Portuárias, Marítimas e Fluviais | B31: BDI PAD | C31: =CONCATENATE(A31,"-",B31) -> Obras Portuárias, Marítimas e Fluviais-BDI PAD | E31: 0.228 | F31: 0.2748 | G31: 0.3095 | I31: F
A32: Fornecimento de Materiais e Equipamentos (aquisição indireta - em conjunto com licitação de obras) | B32: AC | C32: =CONCATENATE(A32,"-",B32) -> Fornecimento de Materiais e Equipamentos (aquisição indireta - em conjunto com licitação de obras)-AC | E32: 0.015 | F32: 0.0345 | G32: 0.0449 | I32: F | J32: =IF(U29<>"ok","X","") | K32: =IF(U29<>"ok","Anexo: Relatório Técnico Circunstanciado justificando a adoção do percentual de cada parcela do BDI.","")
A33: =A32 -> Fornecimento de Materiais e Equipamentos (aquisição indireta - em conjunto com licitação de obras) | B33: SG | C33: =CONCATENATE(A33,"-",B33) -> Fornecimento de Materiais e Equipamentos (aquisição indireta - em conjunto com licitação de obras)-SG | E33: 0.003 | F33: 0.0048 | G33: 0.0082 | I33: F
A34: =A33 -> Fornecimento de Materiais e Equipamentos (aquisição indireta - em conjunto com licitação de obras) | B34: R | C34: =CONCATENATE(A34,"-",B34) -> Fornecimento de Materiais e Equipamentos (aquisição indireta - em conjunto com licitação de obras)-R | E34: 0.0056 | F34: 0.0085 | G34: 0.0089 | I34: F | J34: Os valores de BDI foram calculados com o emprego da fórmula:
A35: =A34 -> Fornecimento de Materiais e Equipamentos (aquisição indireta - em conjunto com licitação de obras) | B35: DF | C35: =CONCATENATE(A35,"-",B35) -> Fornecimento de Materiais e Equipamentos (aquisição indireta - em conjunto com licitação de obras)-DF | E35: 0.0085 | F35: 0.0085 | G35: 0.0111 | I35: F | M35: BDI = | N35: =IF($J17=$A$66,"(1+K1+K2)*(1+K3)","(1+AC + S + R + G)*(1 + DF)*(1+L)") -> (1+AC + S + R + G)*(1 + DF)*(1+L) | Q35: - 1
A36: =A35 -> Fornecimento de Materiais e Equipamentos (aquisição indireta - em conjunto com licitação de obras) | B36: L | C36: =CONCATENATE(A36,"-",B36) -> Fornecimento de Materiais e Equipamentos (aquisição indireta - em conjunto com licitação de obras)-L | E36: 0.035 | F36: 0.0511 | G36: 0.0622 | I36: F | N36: (1-CP-ISS-CRPB)
A37: =A36 -> Fornecimento de Materiais e Equipamentos (aquisição indireta - em conjunto com licitação de obras) | B37: BDI PAD | C37: =CONCATENATE(A37,"-",B37) -> Fornecimento de Materiais e Equipamentos (aquisição indireta - em conjunto com licitação de obras)-BDI PAD | E37: 0.111 | F37: 0.1402 | G37: 0.168 | I37: F
A38: Fornecimento de Materiais e Equipamentos (aquisição direta) | B38: AC | C38: =CONCATENATE(A38,"-",B38) -> Fornecimento de Materiais e Equipamentos (aquisição direta)-AC | E38: - | F38: - | G38: - | I38: F | J38: =CONCATENATE("Declaro para os devidos fins que, conforme legislação tributária municipal, a base de cálculo deste tipo de obra corresponde à ",$R$10*100,"%, com a respectiva alíquota de ",$R$11*100,"%.") -> Declaro para os devidos fins que, conforme legislação tributária municipal, a base de cálculo deste tipo de obra corresponde à 100%, com a respectiva alíquota de 4%.
A39: Fornecimento de Materiais e Equipamentos (aquisição direta) | B39: SG | C39: =CONCATENATE(A39,"-",B39) -> Fornecimento de Materiais e Equipamentos (aquisição direta)-SG | E39: - | F39: - | G39: - | I39: F
A40: Fornecimento de Materiais e Equipamentos (aquisição direta) | B40: R | C40: =CONCATENATE(A40,"-",B40) -> Fornecimento de Materiais e Equipamentos (aquisição direta)-R | E40: - | F40: - | G40: - | I40: F
...
